{"text_format":"1","workbook":"xlsx","n_sheets":26,"sheets":["Stavba","I. 01.01 I. 01.01 KL","I. 01.01 I. 01.01 Rek","I. 01.01 I. 01.01 Pol","I. 01.02 I. 01.02 KL","I. 01.02 I. 01.02 Rek","I. 01.02 I. 01.02 Pol","I. 01.03 I. 01.03 KL","I. 01.03 I. 01.03 Rek","I. 01.03 I. 01.03 Pol","I. 02.01 I. 02.01 KL","I. 02.01 I. 02.01 Rek","I. 02.01 I. 02.01 Pol","I. 02.02 I. 02.02 KL","I. 02.02 I. 02.02 Rek","I. 02.02 I. 02.02 Pol","II. 01 II. 01 KL","II. 01 II. 01 Rek","II. 01 II. 01 Pol","II. 02 II. 02 KL","II. 02 II. 02 Rek","II. 02 II. 02 Pol","II. 03 II. 03 KL","II. 03 II. 03 Rek","II. 03 II. 03 Pol","OaVNS"],"not_rendered":{"charts":0,"images":0,"macros":0,"external_links":0,"defined_names":102,"comments":0,"pivot_tables":0},"unopened":[],"bounds":{"document_bytes":16777216,"sheet_cells":100000,"rows_first":2000,"rows_last":500,"rows_between":2000,"halvings":0,"cell_chars":16384,"cell_head_chars":4096},"cells_cut":0,"cells_raw":0,"read":"whole","date_system":"1900"}

{"sheet":"Stavba","index":0,"n_rows":52,"n_cols":10,"rows_kept":52,"cut":false,"hidden":false,"merged":[[18,8,18,9],[19,8,19,9],[20,8,20,9],[21,8,21,9],[22,8,22,9]]}
[]
[null,null,"Položkový rozpočet stavby",null,null,null,null,"Datum: ",{"$f":"TODAY()","v":"2022-12-17"}]
[null,null,null," "]
[]
[null,null,"Stavba :","3334","Lomnice nad Popelkou - Vodovod a kanalizace I. a II. část"]
[]
[null,null,"Objednatel : ","Vodohospodářské sdružení Turnov",null,null,null,"IČO :","49295934"]
[null,null,null,"Antonína Dvořáka 287",null,null,null,"DIČ :","CZ49295934"]
[null,null,"51101","Turnov"]
[]
[null,null,"Zhotovitel : ",".",null,null,null,"IČO :"]
[null,null,null,null,null,null,null,"DIČ :"]
[]
[null,null,"Za zhotovitele :",null,null,null,null,"Za objednatele :"]
[]
[null,null,"_______________",null,null,null,null,"_______________"]
[]
[null,null,null,null,null,null,null,null,null,"Rozpočtové náklady"]
[null,"Základ pro DPH",null,15,"%",null,null,null,{"$f":"ROUND(G39,0)","v":0}]
[null,"DPH ",null,{"$f":"SazbaDPH1","v":15},"%",null,null,null,{"$f":"ROUND(I19*D20/100,0)","v":0}]
[null,"Základ pro DPH",null,21,"%",null,null,null,{"$f":"ROUND(H39,0)","v":700000}]
[null,"DPH ",null,{"$f":"SazbaDPH2","v":21},"%",null,null,null,{"$f":"ROUND(I21*D21/100,0)","v":147000}]
[null,"Cena celkem za stavbu",null,null,null,null,null,null,{"$f":"SUM(I19:I22)","v":847000}]
[]
[]
[null,"Rekapitulace stavebních objektů a provozních souborů"]
[]
[null,"Číslo a název objektu / provozního souboru",null,null,null,"Cena celkem",{"$f":"CONCATENATE(\"Základ DPH \",SazbaDPH1,\" %\")","v":"Základ DPH 15 %"},{"$f":"CONCATENATE(\"Základ DPH \",SazbaDPH2,\" %\")","v":"Základ DPH 21 %"},"DPH celkem","%"]
[null,"I. 01.01","Vodovod \"Jilemnická\"",null,null,{"$f":"G29+H29+I29","v":0},0,{"$f":"SUM(H44)","v":0},{"$f":"(G29*SazbaDPH1)/100+(H29*SazbaDPH2)/100","v":0},{"$f":"IF(CelkemObjekty=0,\"\",F29/CelkemObjekty*100)","v":0}]
[null,"I. 01.02","Kanalizace \"JIlemnická\"",null,null,{"$f":"G30+H30+I30","v":0},0,{"$f":"SUM(H45)","v":0},0,0]
[null,"I. 01.03","Přepojení vod. a kanaliz. přípojek \"Jilemnická\"",null,null,0,0,{"$f":"SUM(H46)","v":0},0,0]
[null,"I. 02.01","Vodovod \"Kavánova\"",null,null,0,0,{"$f":"SUM(H47)","v":0},0,0]
[null,"I. 02.02","Kanalizace \"Kavánova\"",null,null,0,0,{"$f":"SUM(H48)","v":0},0,0]
[null,"II. 01","Kanalizace",null,null,0,0,{"$f":"SUM(H49)","v":0},0,0]
[null,"II. 02","Vodovod",null,null,0,0,{"$f":"SUM(H50)","v":0},0,0]
[null,"II. 03","Přepojení vodovodních a kanalizačních přípojek",null,null,0,0,{"$f":"SUM(H51)","v":0},0,0]
[null,"OaVNS","Ostatní a vedlejší náklady stavby",null,null,0,0,{"$f":"SUM(OaVNS!G31)","v":0},0,0]
[null,"PR","Povinná rezerva",null,null,847000,0,700000,147000,100]
[null,"Celkem za stavbu",null,null,null,{"$f":"SUM(F29:F38)","v":847000},{"$f":"SUM(G29:G38)","v":0},{"$f":"SUM(H29:H38)","v":700000},{"$f":"SUM(I29:I38)","v":147000},{"$f":"IF(CelkemObjekty=0,\"\",F39/CelkemObjekty*100)","v":100}]
[]
[null,"Rekapitulace stavebních rozpočtů"]
[]
[null,"Číslo objektu","Číslo a název rozpočtu",null,null,"Cena celkem",{"$f":"CONCATENATE(\"Základ DPH \",SazbaDPH1,\" %\")","v":"Základ DPH 15 %"},{"$f":"CONCATENATE(\"Základ DPH \",SazbaDPH2,\" %\")","v":"Základ DPH 21 %"},"DPH celkem","%"]
[null,"I. 01.01","I. 01.01 Vodovod \"Jilemnická\"",null,null,{"$f":"G44+H44+I44","v":0},0,{"$f":"SUM('I. 01.01 I. 01.01 KL'!C23)","v":0},{"$f":"(G44*SazbaDPH1)/100+(H44*SazbaDPH2)/100","v":0},{"$f":"IF(CelkemObjekty=0,\"\",F44/CelkemObjekty*100)","v":0}]
[null,"I. 01.02","I. 01.02 Kanalizace \"JIlemnická\"",null,null,{"$f":"G45+H45+I45","v":0},0,{"$f":"SUM('I. 01.02 I. 01.02 KL'!C23)","v":0},0,0]
[null,"I. 01.03","I. 01.03 Přepojení vod. a kanaliz. přípojek \"Jilemnická\"",null,null,0,0,{"$f":"SUM('I. 01.03 I. 01.03 KL'!C23)","v":0},0,0]
[null,"I. 02.01","I. 02.01 Vodovod \"Kavánova\"",null,null,0,0,{"$f":"SUM('I. 02.01 I. 02.01 KL'!C23)","v":0},0,0]
[null,"I. 02.02","I. 02.02 Kanalizace \"Kavánova\"",null,null,0,0,{"$f":"SUM('I. 02.02 I. 02.02 KL'!C23)","v":0},0,0]
[null,"II. 01","II. 01 Kanalizace",null,null,0,0,{"$f":"SUM('II. 01 II. 01 KL'!C23)","v":0},0,0]
[null,"II. 02","II. 02 Vodovod",null,null,0,0,{"$f":"SUM('II. 02 II. 02 KL'!C23)","v":0},0,0]
[null,"II. 03","II. 03 Přepojení vodovodních a kanalizačních přípojek",null,null,0,0,{"$f":"SUM('II. 03 II. 03 KL'!C23)","v":0},0,0]
[null,"Celkem za stavbu",null,null,null,{"$f":"SUM(F44:F51)","v":0},{"$f":"SUM(G44:G51)","v":0},{"$f":"SUM(H44:H51)","v":0},{"$f":"SUM(I44:I51)","v":0},{"$f":"IF(CelkemObjekty=0,\"\",F52/CelkemObjekty*100)","v":0}]

{"sheet":"I. 01.01 I. 01.01 KL","index":1,"n_rows":45,"n_cols":8,"rows_kept":45,"cut":false,"hidden":false,"merged":[[45,1,45,6],[46,1,46,6],[47,1,47,6],[48,1,48,6],[49,1,49,6],[50,1,50,6],[29,5,29,6],[30,5,30,6],[31,5,31,6],[32,5,32,6],[33,5,33,6],[36,1,44,6],[7,2,7,4],[8,2,8,4],[9,2,9,4],[10,2,10,4],[11,2,11,4],[22,0,22,1]]}
["POLOŽKOVÝ ROZPOČET"]
["Rozpočet",null,"I. 01.01","Vodovod \"Jilemnická\"",null,"JKSO ","827.11.A1"]
[]
["Objekt",null,null,null,null,"SKP "]
["I. 01.01",null,"Vodovod \"Jilemnická\"",null,null,"Měrná jednotka","m"]
["Stavba",null,null,null,null,"Počet jednotek",0]
["3334",null,"Lomnice nad Popelkou - Vodovod a kanalizace",null,null,"Náklady na m.j.",{"$f":"IF(G6=0,,ROUND((F30+F32)/G6,1))","v":0}]
["Projektant",null,"VEDU VODU s.r.o. Dobrovice",null,null,"Typ rozpočtu"]
["Zpracovatel projektu"]
["Objednatel",null,"Vodohospodářské sdružení Turnov"]
["Dodavatel",null,".",null,null,"Zakázkové číslo "]
["Rozpočtoval",null,null,null,null,"Počet listů"]
["ROZPOČTOVÉ NÁKLADY"]
["Základní rozpočtové náklady"]
[null,"HSV celkem",{"$f":"'I. 01.01 I. 01.01 Rek'!E14","v":0}]
["Z","PSV celkem",{"$f":"'I. 01.01 I. 01.01 Rek'!F14","v":0}]
["R","M práce celkem",{"$f":"'I. 01.01 I. 01.01 Rek'!H14","v":0}]
["N","M dodávky celkem",{"$f":"'I. 01.01 I. 01.01 Rek'!G14","v":0}]
["ZRN celkem",null,{"$f":"SUM(C15:C18)","v":0}]
[]
["HZS",null,{"$f":"'I. 01.01 I. 01.01 Rek'!I14","v":0}]
["ZRN+HZS",null,{"$f":"C19+C21","v":0}]
["ZRN+ost.náklady+HZS",null,{"$f":"C22+G23","v":0}]
["Vypracoval",null,null,"Za zhotovitele",null,"Za objednatele"]
["Jméno :",null,null,"Jméno :",null,"Jméno :"]
["Datum :",null,null,"Datum :",null,"Datum :"]
[]
["Podpis :",null,null,"Podpis:",null,"Podpis:"]
[]
["Základ pro DPH",null,21,"%  ",null,{"$f":"C23-F32","v":0}]
["DPH",null,{"$f":"C30","v":21},"% ",null,{"$f":"ROUND(PRODUCT(F30,C31/100),0)","v":0}]
["Základ pro DPH",null,0,"% ",null,0]
["DPH",null,{"$f":"C32","v":0},"% ",null,{"$f":"ROUND(PRODUCT(F32,C33/100),0)","v":0}]
["CENA ZA OBJEKT CELKEM",null,null,null,null,{"$f":"ROUND(SUM(F30:F33),0)","v":0}]
[]
["Poznámka :",null,null,null,null,null,null," "]
[null,null,null,null,null,null,null," "]
[null,null,null,null,null,null,null," "]
[null,null,null,null,null,null,null," "]
[null,null,null,null,null,null,null," "]
[null,null,null,null,null,null,null," "]
[null,null,null,null,null,null,null," "]
[null,null,null,null,null,null,null," "]
[null,null,null,null,null,null,null," "]
[null,null,null,null,null,null,null," "]

{"sheet":"I. 01.01 I. 01.01 Rek","index":2,"n_rows":14,"n_cols":9,"rows_kept":14,"cut":false,"hidden":false,"merged":[[0,0,0,1],[1,0,1,1],[1,6,1,8]]}
["Stavba :",null,"3334 Lomnice nad Popelkou - Vodovod a kanalizace",null,null,null,"Rozpočet :","I. 01.01"]
["Objekt :",null,"I. 01.01 Vodovod \"Jilemnická\"",null,null,null,"Vodovod \"Jilemnická\""]
[]
["REKAPITULACE  STAVEBNÍCH  DÍLŮ"]
[]
[null,"Stavební díl",null,null,"HSV","PSV","Dodávka","Montáž","HZS"]
[{"$f":"'I. 01.01 I. 01.01 Pol'!B7","v":"1"},{"$f":"'I. 01.01 I. 01.01 Pol'!C7","v":"Zemní práce"},null,null,{"$f":"'I. 01.01 I. 01.01 Pol'!BA265","v":0},{"$f":"'I. 01.01 I. 01.01 Pol'!BB265","v":0},{"$f":"'I. 01.01 I. 01.01 Pol'!BC265","v":0},{"$f":"'I. 01.01 I. 01.01 Pol'!BD265","v":0},{"$f":"'I. 01.01 I. 01.01 Pol'!BE265","v":0}]
[{"$f":"'I. 01.01 I. 01.01 Pol'!B266","v":"45"},{"$f":"'I. 01.01 I. 01.01 Pol'!C266","v":"Podkladní a vedlejší konstrukce"},null,null,{"$f":"'I. 01.01 I. 01.01 Pol'!BA276","v":0},{"$f":"'I. 01.01 I. 01.01 Pol'!BB276","v":0},{"$f":"'I. 01.01 I. 01.01 Pol'!BC276","v":0},{"$f":"'I. 01.01 I. 01.01 Pol'!BD276","v":0},{"$f":"'I. 01.01 I. 01.01 Pol'!BE276","v":0}]
[{"$f":"'I. 01.01 I. 01.01 Pol'!B277","v":"5"},{"$f":"'I. 01.01 I. 01.01 Pol'!C277","v":"Komunikace"},null,null,{"$f":"'I. 01.01 I. 01.01 Pol'!BA304","v":0},{"$f":"'I. 01.01 I. 01.01 Pol'!BB304","v":0},{"$f":"'I. 01.01 I. 01.01 Pol'!BC304","v":0},{"$f":"'I. 01.01 I. 01.01 Pol'!BD304","v":0},{"$f":"'I. 01.01 I. 01.01 Pol'!BE304","v":0}]
[{"$f":"'I. 01.01 I. 01.01 Pol'!B305","v":"8"},{"$f":"'I. 01.01 I. 01.01 Pol'!C305","v":"Trubní vedení"},null,null,{"$f":"'I. 01.01 I. 01.01 Pol'!BA761","v":0},{"$f":"'I. 01.01 I. 01.01 Pol'!BB761","v":0},{"$f":"'I. 01.01 I. 01.01 Pol'!BC761","v":0},{"$f":"'I. 01.01 I. 01.01 Pol'!BD761","v":0},{"$f":"'I. 01.01 I. 01.01 Pol'!BE761","v":0}]
[{"$f":"'I. 01.01 I. 01.01 Pol'!B762","v":"89"},{"$f":"'I. 01.01 I. 01.01 Pol'!C762","v":"Ostatní konstrukce na trubním vedení"},null,null,{"$f":"'I. 01.01 I. 01.01 Pol'!BA783","v":0},{"$f":"'I. 01.01 I. 01.01 Pol'!BB783","v":0},{"$f":"'I. 01.01 I. 01.01 Pol'!BC783","v":0},{"$f":"'I. 01.01 I. 01.01 Pol'!BD783","v":0},{"$f":"'I. 01.01 I. 01.01 Pol'!BE783","v":0}]
[{"$f":"'I. 01.01 I. 01.01 Pol'!B784","v":"93"},{"$f":"'I. 01.01 I. 01.01 Pol'!C784","v":"Dokončovací práce inženýrských staveb"},null,null,{"$f":"'I. 01.01 I. 01.01 Pol'!BA868","v":0},{"$f":"'I. 01.01 I. 01.01 Pol'!BB868","v":0},{"$f":"'I. 01.01 I. 01.01 Pol'!BC868","v":0},{"$f":"'I. 01.01 I. 01.01 Pol'!BD868","v":0},{"$f":"'I. 01.01 I. 01.01 Pol'!BE868","v":0}]
[{"$f":"'I. 01.01 I. 01.01 Pol'!B869","v":"99"},{"$f":"'I. 01.01 I. 01.01 Pol'!C869","v":"Staveništní přesun hmot"},null,null,{"$f":"'I. 01.01 I. 01.01 Pol'!BA871","v":0},{"$f":"'I. 01.01 I. 01.01 Pol'!BB871","v":0},{"$f":"'I. 01.01 I. 01.01 Pol'!BC871","v":0},{"$f":"'I. 01.01 I. 01.01 Pol'!BD871","v":0},{"$f":"'I. 01.01 I. 01.01 Pol'!BE871","v":0}]
[null,"CELKEM  OBJEKT",null,null,{"$f":"SUM(E7:E13)","v":0},{"$f":"SUM(F7:F13)","v":0},{"$f":"SUM(G7:G13)","v":0},{"$f":"SUM(H7:H13)","v":0},{"$f":"SUM(I7:I13)","v":0}]

{"sheet":"I. 01.01 I. 01.01 Pol","index":3,"n_rows":871,"n_cols":80,"rows_kept":871,"cut":false,"hidden":false,"merged":[[862,2,862,6],[863,2,863,6],[864,2,864,3],[865,2,865,3],[866,2,866,3],[855,2,855,3],[856,2,856,3],[857,2,857,3],[859,2,859,6],[860,2,860,6],[861,2,861,6],[849,2,849,3],[850,2,850,3],[851,2,851,3],[852,2,852,3],[853,2,853,3],[854,2,854,3],[842,2,842,3],[844,2,844,6],[845,2,845,6],[846,2,846,6],[847,2,847,6],[848,2,848,6],[836,2,836,3],[837,2,837,3],[838,2,838,3],[839,2,839,3],[840,2,840,3],[841,2,841,3],[829,2,829,3],[831,2,831,6],[832,2,832,6],[833,2,833,6],[834,2,834,6],[835,2,835,6],[823,2,823,6],[824,2,824,6],[825,2,825,6],[826,2,826,6],[827,2,827,3],[828,2,828,3],[817,2,817,6],[818,2,818,6],[819,2,819,6],[820,2,820,6],[821,2,821,6],[822,2,822,6],[810,2,810,3],[811,2,811,3],[812,2,812,3],[814,2,814,6],[815,2,815,6],[816,2,816,6],[804,2,804,3],[805,2,805,3],[806,2,806,3],[807,2,807,3],[808,2,808,3],[809,2,809,3],[798,2,798,3],[799,2,799,3],[800,2,800,3],[801,2,801,3],[802,2,802,3],[803,2,803,3],[785,2,785,6],[786,2,786,6],[787,2,787,6],[788,2,788,6],[789,2,789,6],[790,2,790,6],[791,2,791,6],[792,2,792,6],[793,2,793,6],[777,2,777,6],[778,2,778,6],[779,2,779,6],[780,2,780,6],[781,2,781,6],[794,2,794,6],[795,2,795,6],[796,2,796,6],[797,2,797,6],[763,2,763,6],[764,2,764,6],[765,2,765,6],[766,2,766,6],[767,2,767,6],[768,2,768,6],[769,2,769,6],[770,2,770,6],[771,2,771,6],[755,2,755,3],[756,2,756,3],[757,2,757,3],[758,2,758,3],[759,2,759,3],[773,2,773,6],[774,2,774,6],[775,2,775,6],[776,2,776,6],[748,2,748,3],[749,2,749,3],[750,2,750,3],[752,2,752,3],[753,2,753,3],[754,2,754,3],[740,2,740,3],[741,2,741,3],[742,2,742,3],[744,2,744,3],[745,2,745,3],[746,2,746,3],[733,2,733,3],[735,2,735,3],[736,2,736,3],[737,2,737,3],[738,2,738,3],[739,2,739,3],[726,2,726,3],[727,2,727,3],[729,2,729,3],[730,2,730,3],[731,2,731,3],[732,2,732,3],[719,2,719,3],[720,2,720,3],[721,2,721,3],[722,2,722,3],[723,2,723,3],[725,2,725,3],[711,2,711,3],[713,2,713,3],[714,2,714,3],[715,2,715,3],[716,2,716,3],[717,2,717,3],[705,2,705,6],[706,2,706,6],[707,2,707,6],[708,2,708,3],[709,2,709,3],[710,2,710,3],[697,2,697,3],[699,2,699,3],[700,2,700,3],[701,2,701,3],[703,2,703,6],[704,2,704,6],[689,2,689,3],[691,2,691,3],[692,2,692,3],[693,2,693,3],[695,2,695,3],[696,2,696,3],[683,2,683,3],[684,2,684,3],[685,2,685,3],[686,2,686,3],[687,2,687,3],[688,2,688,3],[676,2,676,3],[677,2,677,3],[679,2,679,3],[680,2,680,3],[681,2,681,3],[682,2,682,3],[670,2,670,3],[671,2,671,3],[672,2,672,3],[673,2,673,3],[674,2,674,3],[675,2,675,3],[663,2,663,6],[664,2,664,6],[665,2,665,6],[666,2,666,3],[667,2,667,3],[668,2,668,3],[656,2,656,3],[657,2,657,3],[658,2,658,3],[660,2,660,6],[661,2,661,6],[662,2,662,6],[650,2,650,3],[651,2,651,3],[652,2,652,3],[653,2,653,3],[654,2,654,3],[655,2,655,3],[644,2,644,6],[645,2,645,6],[646,2,646,6],[647,2,647,6],[648,2,648,6],[649,2,649,3],[637,2,637,3],[638,2,638,3],[639,2,639,3],[640,2,640,3],[641,2,641,3],[643,2,643,6],[630,2,630,3],[631,2,631,3],[632,2,632,3],[634,2,634,3],[635,2,635,3],[636,2,636,3],[626,2,626,3],[627,2,627,3],[628,2,628,3],[629,2,629,3],[620,2,620,3],[621,2,621,3],[622,2,622,3],[623,2,623,3],[624,2,624,3],[615,2,615,3],[616,2,616,3],[617,2,617,3],[618,2,618,3],[608,2,608,3],[610,2,610,3],[611,2,611,3],[612,2,612,3],[613,2,613,3],[602,2,602,3],[604,2,604,3],[605,2,605,3],[606,2,606,3],[607,2,607,3],[596,2,596,3],[597,2,597,3],[598,2,598,3],[599,2,599,3],[600,2,600,3],[601,2,601,3],[590,2,590,3],[591,2,591,3],[592,2,592,3],[594,2,594,3],[595,2,595,3],[584,2,584,3],[585,2,585,3],[587,2,587,3],[588,2,588,3],[589,2,589,3],[577,2,577,3],[578,2,578,3],[579,2,579,3],[580,2,580,3],[581,2,581,3],[583,2,583,3],[571,2,571,3],[572,2,572,3],[573,2,573,3],[575,2,575,3],[576,2,576,3],[564,2,564,3],[565,2,565,3],[566,2,566,3],[567,2,567,3],[569,2,569,3],[570,2,570,3],[556,2,556,3],[558,2,558,3],[559,2,559,3],[560,2,560,3],[561,2,561,3],[563,2,563,3],[549,2,549,3],[550,2,550,3],[552,2,552,3],[553,2,553,3],[554,2,554,3],[555,2,555,3],[542,2,542,3],[543,2,543,3],[544,2,544,3],[545,2,545,3],[546,2,546,3],[548,2,548,3],[534,2,534,3],[535,2,535,3],[536,2,536,3],[538,2,538,3],[539,2,539,3],[540,2,540,3],[526,2,526,3],[528,2,528,3],[529,2,529,3],[530,2,530,3],[531,2,531,3],[532,2,532,3],[519,2,519,3],[520,2,520,3],[522,2,522,3],[523,2,523,3],[524,2,524,3],[525,2,525,3],[513,2,513,3],[514,2,514,3],[515,2,515,3],[516,2,516,3],[517,2,517,3],[518,2,518,3],[507,2,507,3],[508,2,508,3],[509,2,509,3],[510,2,510,3],[511,2,511,3],[512,2,512,3],[500,2,500,3],[501,2,501,3],[503,2,503,6],[504,2,504,3],[505,2,505,3],[506,2,506,3],[493,2,493,3],[495,2,495,3],[496,2,496,3],[497,2,497,3],[498,2,498,3],[499,2,499,3],[486,2,486,3],[488,2,488,6],[489,2,489,3],[490,2,490,3],[491,2,491,3],[492,2,492,3],[479,2,479,3],[481,2,481,6],[482,2,482,3],[483,2,483,3],[484,2,484,3],[485,2,485,3],[472,2,472,3],[473,2,473,3],[474,2,474,3],[476,2,476,3],[477,2,477,3],[478,2,478,3],[465,2,465,3],[467,2,467,6],[468,2,468,3],[469,2,469,3],[470,2,470,3],[471,2,471,3],[459,2,459,3],[460,2,460,3],[461,2,461,3],[462,2,462,3],[463,2,463,3],[464,2,464,3],[452,2,452,6],[453,2,453,6],[454,2,454,3],[455,2,455,3],[456,2,456,3],[458,2,458,6],[444,2,444,3],[446,2,446,3],[447,2,447,3],[448,2,448,3],[449,2,449,3],[450,2,450,3],[437,2,437,3],[439,2,439,3],[440,2,440,3],[441,2,441,3],[442,2,442,3],[443,2,443,3],[431,2,431,3],[432,2,432,3],[433,2,433,3],[434,2,434,3],[435,2,435,3],[436,2,436,3],[424,2,424,3],[425,2,425,3],[426,2,426,3],[428,2,428,6],[429,2,429,6],[430,2,430,3],[418,2,418,3],[419,2,419,3],[420,2,420,3],[421,2,421,3],[422,2,422,3],[423,2,423,3],[411,2,411,3],[412,2,412,3],[413,2,413,3],[415,2,415,6],[416,2,416,6],[417,2,417,3],[404,2,404,6],[405,2,405,6],[406,2,406,3],[407,2,407,3],[408,2,408,3],[410,2,410,3],[396,2,396,3],[397,2,397,3],[399,2,399,3],[400,2,400,3],[401,2,401,3],[402,2,402,3],[389,2,389,3],[390,2,390,3],[391,2,391,3],[392,2,392,3],[394,2,394,3],[395,2,395,3],[382,2,382,6],[383,2,383,3],[384,2,384,3],[385,2,385,3],[387,2,387,3],[388,2,388,3],[375,2,375,3],[376,2,376,3],[377,2,377,3],[378,2,378,3],[379,2,379,3],[380,2,380,3],[368,2,368,3],[369,2,369,3],[370,2,370,3],[372,2,372,6],[373,2,373,3],[374,2,374,3],[360,2,360,3],[362,2,362,6],[363,2,363,3],[364,2,364,3],[365,2,365,3],[367,2,367,6],[354,2,354,3],[355,2,355,3],[356,2,356,3],[357,2,357,3],[358,2,358,3],[359,2,359,3],[347,2,347,3],[348,2,348,3],[349,2,349,3],[350,2,350,3],[352,2,352,6],[353,2,353,3],[341,2,341,3],[342,2,342,3],[343,2,343,3],[344,2,344,3],[345,2,345,3],[346,2,346,3],[335,2,335,3],[336,2,336,3],[337,2,337,3],[338,2,338,3],[339,2,339,3],[340,2,340,3],[328,2,328,3],[329,2,329,3],[330,2,330,3],[331,2,331,3],[333,2,333,6],[334,2,334,3],[321,2,321,6],[322,2,322,6],[323,2,323,6],[324,2,324,6],[325,2,325,3],[327,2,327,6],[314,2,314,3],[315,2,315,3],[317,2,317,6],[318,2,318,6],[319,2,319,6],[320,2,320,6],[306,2,306,6],[307,2,307,6],[308,2,308,6],[309,2,309,6],[310,2,310,6],[311,2,311,6],[312,2,312,6],[313,2,313,6],[297,2,297,3],[298,2,298,3],[299,2,299,3],[300,2,300,3],[301,2,301,3],[302,2,302,3],[291,2,291,3],[292,2,292,3],[293,2,293,3],[294,2,294,3],[295,2,295,3],[296,2,296,3],[284,2,284,3],[285,2,285,3],[286,2,286,3],[287,2,287,3],[288,2,288,3],[289,2,289,3],[272,2,272,3],[273,2,273,3],[278,2,278,3],[279,2,279,3],[280,2,280,3],[281,2,281,3],[282,2,282,3],[283,2,283,3],[261,2,261,3],[262,2,262,3],[263,2,263,3],[267,2,267,3],[268,2,268,3],[269,2,269,3],[270,2,270,3],[271,2,271,3],[255,2,255,3],[256,2,256,3],[257,2,257,3],[258,2,258,3],[259,2,259,3],[260,2,260,3],[249,2,249,3],[250,2,250,3],[251,2,251,3],[252,2,252,3],[253,2,253,3],[254,2,254,3],[243,2,243,3],[244,2,244,3],[245,2,245,3],[246,2,246,3],[247,2,247,3],[248,2,248,3],[236,2,236,3],[237,2,237,3],[238,2,238,3],[239,2,239,3],[240,2,240,3],[241,2,241,3],[226,2,226,6],[230,2,230,6],[232,2,232,3],[233,2,233,3],[234,2,234,3],[235,2,235,3],[219,2,219,3],[220,2,220,3],[221,2,221,3],[222,2,222,3],[223,2,223,3],[224,2,224,3],[211,2,211,3],[212,2,212,3],[214,2,214,3],[215,2,215,3],[216,2,216,3],[218,2,218,3],[204,2,204,3],[206,2,206,3],[207,2,207,3],[208,2,208,3],[209,2,209,3],[210,2,210,3],[198,2,198,3],[199,2,199,3],[200,2,200,3],[201,2,201,3],[202,2,202,3],[203,2,203,3],[192,2,192,3],[193,2,193,3],[194,2,194,3],[195,2,195,3],[196,2,196,3],[197,2,197,3],[186,2,186,3],[187,2,187,3],[188,2,188,3],[189,2,189,3],[190,2,190,3],[191,2,191,3],[180,2,180,3],[181,2,181,3],[182,2,182,3],[183,2,183,3],[184,2,184,3],[185,2,185,3],[174,2,174,3],[175,2,175,3],[176,2,176,3],[177,2,177,3],[178,2,178,3],[179,2,179,3],[168,2,168,3],[169,2,169,3],[170,2,170,3],[172,2,172,6],[173,2,173,3],[161,2,161,3],[162,2,162,3],[163,2,163,3],[164,2,164,3],[165,2,165,3],[166,2,166,3],[154,2,154,3],[155,2,155,3],[156,2,156,3],[157,2,157,3],[158,2,158,3],[160,2,160,3],[147,2,147,3],[148,2,148,3],[149,2,149,3],[150,2,150,3],[152,2,152,3],[153,2,153,3],[141,2,141,3],[142,2,142,3],[143,2,143,3],[144,2,144,3],[145,2,145,3],[146,2,146,3],[135,2,135,3],[136,2,136,3],[137,2,137,3],[138,2,138,3],[139,2,139,3],[140,2,140,3],[128,2,128,3],[129,2,129,3],[130,2,130,3],[131,2,131,3],[133,2,133,6],[134,2,134,3],[122,2,122,3],[123,2,123,3],[124,2,124,3],[125,2,125,3],[126,2,126,3],[127,2,127,3],[116,2,116,3],[117,2,117,3],[118,2,118,3],[119,2,119,3],[120,2,120,3],[121,2,121,3],[109,2,109,3],[110,2,110,3],[111,2,111,3],[112,2,112,3],[113,2,113,3],[115,2,115,3],[103,2,103,3],[104,2,104,3],[105,2,105,3],[106,2,106,3],[107,2,107,3],[108,2,108,3],[97,2,97,3],[98,2,98,3],[99,2,99,3],[100,2,100,3],[101,2,101,3],[102,2,102,3],[90,2,90,3],[91,2,91,3],[92,2,92,3],[93,2,93,3],[94,2,94,3],[96,2,96,6],[84,2,84,3],[85,2,85,3],[86,2,86,3],[87,2,87,3],[88,2,88,3],[89,2,89,3],[78,2,78,3],[79,2,79,3],[80,2,80,3],[81,2,81,3],[82,2,82,3],[83,2,83,3],[71,2,71,3],[72,2,72,3],[73,2,73,3],[74,2,74,3],[75,2,75,3],[76,2,76,3],[65,2,65,3],[66,2,66,3],[67,2,67,3],[68,2,68,3],[69,2,69,3],[70,2,70,3],[60,2,60,3],[61,2,61,3],[62,2,62,3],[63,2,63,3],[64,2,64,3],[53,2,53,3],[54,2,54,3],[55,2,55,3],[56,2,56,3],[57,2,57,3],[59,2,59,6],[47,2,47,3],[48,2,48,3],[49,2,49,3],[50,2,50,3],[51,2,51,3],[52,2,52,3],[41,2,41,3],[42,2,42,3],[43,2,43,3],[44,2,44,3],[45,2,45,3],[46,2,46,3],[31,2,31,3],[32,2,32,3],[36,2,36,3],[37,2,37,3],[38,2,38,3],[40,2,40,6],[25,2,25,3],[26,2,26,3],[27,2,27,3],[28,2,28,3],[29,2,29,3],[30,2,30,3],[18,2,18,3],[19,2,19,3],[21,2,21,3],[22,2,22,3],[23,2,23,3],[24,2,24,3],[12,2,12,3],[13,2,13,3],[14,2,14,3],[15,2,15,3],[16,2,16,3],[17,2,17,3],[0,0,0,6],[2,0,2,1],[3,0,3,1],[3,4,3,6],[8,2,8,3],[9,2,9,3],[10,2,10,3],[11,2,11,3]]}
["Položkový rozpočet "]
[]
["Stavba :",null,"3334 Lomnice nad Popelkou - Vodovod a kanalizace",null,"Rozpočet:",{"$f":"'I. 01.01 I. 01.01 Rek'!H1","v":"I. 01.01"}]
["Objekt :",null,"I. 01.01 Vodovod \"Jilemnická\"",null,{"$f":"'I. 01.01 I. 01.01 Rek'!G2","v":"Vodovod \"Jilemnická\""}]
[]
["P.č.","Číslo položky","Název položky","MJ","množství","cena / MJ","celkem (Kč)","Jednotková hmotnost","Celková hmotnost","Jednotková dem.hmot.","Celková dem.hmot."]
["Díl:","1","Zemní práce",null,null,null,null,null,null,null,null,null,null,null,1]
[1,"113107625R00","Odstranění podkladu nad 50 m2,kam.drcené tl.25 cm ","m2",209.36,null,{"$f":"E8*F8","v":0},0,{"$f":"E8*H8","v":0},-0.55000000000000004,{"$f":"E8*J8","v":-115.14800000000001},null,null,null,2,null,null,null,null,null,null,null,null,null,null,null,1,1,1,null,null,null,null,null,null,null,null,null,null,null,null,null,null,null,null,null,null,null,null,null,null,1,{"$f":"IF(AZ8=1,G8,0)","v":0},{"$f":"IF(AZ8=2,G8,0)","v":0},{"$f":"IF(AZ8=3,G8,0)","v":0},{"$f":"IF(AZ8=4,G8,0)","v":0},{"$f":"IF(AZ8=5,G8,0)","v":0},null,null,null,null,null,null,null,null,null,null,null,null,null,null,null,null,null,null,null,null,null,1,1]
[null,null,"NTP:",null,0,null,null,null,null,null,null,null,"NTP:"]
[null,null,"Řad \"A\" TLT DN80 (částečně souběh s kanalizací) / (průměrná hloubka výkopů 1,70 m):",null,0,null,null,null,null,null,null,null,"Řad \"A\" TLT DN80 (částečně souběh s kanalizací) / (průměrná hloubka výkopů 1,70 m):"]
[null,null,"Objem konstrukce komunikací:174,30*0,90",null,156.87,null,null,null,null,null,null,null,"Objem konstrukce komunikací:174,30*0,90"]
[null,null,"Řad \"B\" TLT DN80 (souběh s kanalizací) / (půměrná hloubka výkopů 1,75 m):",null,0,null,null,null,null,null,null,null,"Řad \"B\" TLT DN80 (souběh s kanalizací) / (půměrná hloubka výkopů 1,75 m):"]
[null,null,"Objem konstrukce komunikací:37,10*0,90",null,33.39,null,null,null,null,null,null,null,"Objem konstrukce komunikací:37,10*0,90"]
[null,null,"Řad \"C\" TLT DN80 (průměrná hloubka výkopů 1,65 m):",null,0,null,null,null,null,null,null,null,"Řad \"C\" TLT DN80 (průměrná hloubka výkopů 1,65 m):"]
[null,null,"Objem konstrukce komunikací:11,90*1,00",null,11.9,null,null,null,null,null,null,null,"Objem konstrukce komunikací:11,90*1,00"]
[null,null,"VTP:",null,0,null,null,null,null,null,null,null,"VTP:"]
[null,null,"Řad \"B\" PE D90x8,2 mm (půměrná hloubka výkopů 1,70 m):",null,0,null,null,null,null,null,null,null,"Řad \"B\" PE D90x8,2 mm (půměrná hloubka výkopů 1,70 m):"]
[null,null,"Objem konstrukce komunikací:4,00*0,90",null,3.6,null,null,null,null,null,null,null,"Objem konstrukce komunikací:4,00*0,90"]
[null,null,"Řad \"C\" PE D90x8,2 mm (půměrná hloubka výkopů 1,70 m):",null,0,null,null,null,null,null,null,null,"Řad \"C\" PE D90x8,2 mm (půměrná hloubka výkopů 1,70 m):"]
[null,null,"Objem konstrukce komunikací:4,00*0,90",null,3.6,null,null,null,null,null,null,null,"Objem konstrukce komunikací:4,00*0,90"]
[2,"113108415R00","Odstranění asfaltové vrstvy pl.nad 50 m2, tl.15 cm ","m2",209.36,null,{"$f":"E21*F21","v":0},0,{"$f":"E21*H21","v":0},-0.33,{"$f":"E21*J21","v":-69.088800000000006},null,null,null,2,null,null,null,null,null,null,null,null,null,null,null,1,1,1,null,null,null,null,null,null,null,null,null,null,null,null,null,null,null,null,null,null,null,null,null,null,1,{"$f":"IF(AZ21=1,G21,0)","v":0},{"$f":"IF(AZ21=2,G21,0)","v":0},{"$f":"IF(AZ21=3,G21,0)","v":0},{"$f":"IF(AZ21=4,G21,0)","v":0},{"$f":"IF(AZ21=5,G21,0)","v":0},null,null,null,null,null,null,null,null,null,null,null,null,null,null,null,null,null,null,null,null,null,1,1]
[null,null,"NTP:",null,0,null,null,null,null,null,null,null,"NTP:"]
[null,null,"Řad \"A\" TLT DN80 (částečně souběh s kanalizací) / (průměrná hloubka výkopů 1,70 m):",null,0,null,null,null,null,null,null,null,"Řad \"A\" TLT DN80 (částečně souběh s kanalizací) / (průměrná hloubka výkopů 1,70 m):"]
[null,null,"Objem konstrukce komunikací:174,30*0,90",null,156.87,null,null,null,null,null,null,null,"Objem konstrukce komunikací:174,30*0,90"]
[null,null,"Řad \"B\" TLT DN80 (souběh s kanalizací) / (půměrná hloubka výkopů 1,75 m):",null,0,null,null,null,null,null,null,null,"Řad \"B\" TLT DN80 (souběh s kanalizací) / (půměrná hloubka výkopů 1,75 m):"]
[null,null,"Objem konstrukce komunikací:37,10*0,90",null,33.39,null,null,null,null,null,null,null,"Objem konstrukce komunikací:37,10*0,90"]
[null,null,"Řad \"C\" TLT DN80 (průměrná hloubka výkopů 1,65 m):",null,0,null,null,null,null,null,null,null,"Řad \"C\" TLT DN80 (průměrná hloubka výkopů 1,65 m):"]
[null,null,"Objem konstrukce komunikací:11,90*1,00",null,11.9,null,null,null,null,null,null,null,"Objem konstrukce komunikací:11,90*1,00"]
[null,null,"VTP:",null,0,null,null,null,null,null,null,null,"VTP:"]
[null,null,"Řad \"B\" PE D90x8,2 mm (půměrná hloubka výkopů 1,70 m):",null,0,null,null,null,null,null,null,null,"Řad \"B\" PE D90x8,2 mm (půměrná hloubka výkopů 1,70 m):"]
[null,null,"Objem konstrukce komunikací:4,00*0,90",null,3.6,null,null,null,null,null,null,null,"Objem konstrukce komunikací:4,00*0,90"]
[null,null,"Řad \"C\" PE D90x8,2 mm (půměrná hloubka výkopů 1,70 m):",null,0,null,null,null,null,null,null,null,"Řad \"C\" PE D90x8,2 mm (půměrná hloubka výkopů 1,70 m):"]
[null,null,"Objem konstrukce komunikací:4,00*0,90",null,3.6,null,null,null,null,null,null,null,"Objem konstrukce komunikací:4,00*0,90"]
[3,"119001401R00","Dočasné zajištění ocelového potrubí do DN 200 mm ","m",13.5,null,{"$f":"E34*F34","v":0},8.6899999999999998E-3,{"$f":"E34*H34","v":0.117315},0,{"$f":"E34*J34","v":0},null,null,null,2,null,null,null,null,null,null,null,null,null,null,null,1,1,1,null,null,null,null,null,null,null,null,null,null,null,null,null,null,null,null,null,null,null,null,null,null,1,{"$f":"IF(AZ34=1,G34,0)","v":0},{"$f":"IF(AZ34=2,G34,0)","v":0},{"$f":"IF(AZ34=3,G34,0)","v":0},{"$f":"IF(AZ34=4,G34,0)","v":0},{"$f":"IF(AZ34=5,G34,0)","v":0},null,null,null,null,null,null,null,null,null,null,null,null,null,null,null,null,null,null,null,null,null,1,1]
[4,"119001422R00","Dočasné zajištění kabelů - v počtu 3 - 6 kabelů ","m",17.5,null,{"$f":"E35*F35","v":0},3.9739999999999998E-2,{"$f":"E35*H35","v":0.6954499999999999},0,{"$f":"E35*J35","v":0},null,null,null,2,null,null,null,null,null,null,null,null,null,null,null,1,1,1,null,null,null,null,null,null,null,null,null,null,null,null,null,null,null,null,null,null,null,null,null,null,1,{"$f":"IF(AZ35=1,G35,0)","v":0},{"$f":"IF(AZ35=2,G35,0)","v":0},{"$f":"IF(AZ35=3,G35,0)","v":0},{"$f":"IF(AZ35=4,G35,0)","v":0},{"$f":"IF(AZ35=5,G35,0)","v":0},null,null,null,null,null,null,null,null,null,null,null,null,null,null,null,null,null,null,null,null,null,1,1]
[5,"121100002RAA","Sejmutí ornice a uložení na deponii zpětný přesun, rozprostření v tl. 20 cm, osetí","m3",51.42,null,{"$f":"E36*F36","v":0},0,{"$f":"E36*H36","v":0},0,{"$f":"E36*J36","v":0},null,null,null,2,null,null,null,null,null,null,null,null,null,null,null,1,1,1,null,null,null,null,null,null,null,null,null,null,null,null,null,null,null,null,null,null,null,null,null,null,1,{"$f":"IF(AZ36=1,G36,0)","v":0},{"$f":"IF(AZ36=2,G36,0)","v":0},{"$f":"IF(AZ36=3,G36,0)","v":0},{"$f":"IF(AZ36=4,G36,0)","v":0},{"$f":"IF(AZ36=5,G36,0)","v":0},null,null,null,null,null,null,null,null,null,null,null,null,null,null,null,null,null,null,null,null,null,1,1]
[null,null,"VTP:",null,0,null,null,null,null,null,null,null,"VTP:"]
[null,null,"Řad \"B\" PE D90x8,2 mm (půměrná hloubka výkopů 1,70 m):(41,00-4,00)*3,00*0,20",null,22.2,null,null,null,null,null,null,null,"Řad \"B\" PE D90x8,2 mm (půměrná hloubka výkopů 1,70 m):(41,00-4,00)*3,00*0,20"]
[null,null,"Řad \"C\" PE D90x8,2 mm (půměrná hloubka výkopů 1,70 m):(52,70-4,00)*3,00*0,20",null,29.22,null,null,null,null,null,null,null,"Řad \"C\" PE D90x8,2 mm (půměrná hloubka výkopů 1,70 m):(52,70-4,00)*3,00*0,20"]
[6,"130001101RRX","Příplatek za ztížené hloubení v blízkosti vedení ","m3",54.451300000000003,null,{"$f":"E40*F40","v":0},0,{"$f":"E40*H40","v":0},0,{"$f":"E40*J40","v":0},null,null,null,2,null,null,null,null,null,null,null,null,null,null,null,1,1,1,null,null,null,null,null,null,null,null,null,null,null,null,null,null,null,null,null,null,null,null,null,null,1,{"$f":"IF(AZ40=1,G40,0)","v":0},{"$f":"IF(AZ40=2,G40,0)","v":0},{"$f":"IF(AZ40=3,G40,0)","v":0},{"$f":"IF(AZ40=4,G40,0)","v":0},{"$f":"IF(AZ40=5,G40,0)","v":0},null,null,null,null,null,null,null,null,null,null,null,null,null,null,null,null,null,null,null,null,null,1,1]
[null,null,"Včetně případných nutných dokopávem a ručního výkopu podél sousedících inženýrských sítí",null,null,null,null,null,null,null,null,"Včetně případných nutných dokopávem a ručního výkopu podél sousedících inženýrských sítí",null,null,3]
[null,null,"Začátek provozního součtu",null,0,null,null,null,null,null,null,null,"Začátek provozního součtu"]
[null,null,"NTP:",null,0,null,null,null,null,null,null,null,"NTP:"]
[null,null,"Řad \"A\" TLT DN80 (částečně souběh s kanalizací) / (průměrná hloubka výkopů 1,70 m):174,30*0,90*1,70",null,266.67899999999997,null,null,null,null,null,null,null,"Řad \"A\" TLT DN80 (částečně souběh s kanalizací) / (průměrná hloubka výkopů 1,70 m):174,30*0,90*1,70"]
[null,null,"Odpočet objemu konstrukce komunikací:-174,30*0,90*0,40",null,-62.747999999999998,null,null,null,null,null,null,null,"Odpočet objemu konstrukce komunikací:-174,30*0,90*0,40"]
[null,null,"Řad \"B\" TLT DN80 (souběh s kanalizací) / (půměrná hloubka výkopů 1,75 m):37,10*0,90*1,75",null,58.432499999999997,null,null,null,null,null,null,null,"Řad \"B\" TLT DN80 (souběh s kanalizací) / (půměrná hloubka výkopů 1,75 m):37,10*0,90*1,75"]
[null,null,"Odpočet objemu konstrukce komunikací:-37,10*0,90*0,40",null,-13.356,null,null,null,null,null,null,null,"Odpočet objemu konstrukce komunikací:-37,10*0,90*0,40"]
[null,null,"Řad \"C\" TLT DN80 (průměrná hloubka výkopů 1,65 m):11,90*1,00*1,65",null,19.635000000000002,null,null,null,null,null,null,null,"Řad \"C\" TLT DN80 (průměrná hloubka výkopů 1,65 m):11,90*1,00*1,65"]
[null,null,"Odpočet objemu konstrukce komunikací:-11,90*1,00*0,40",null,-4.76,null,null,null,null,null,null,null,"Odpočet objemu konstrukce komunikací:-11,90*1,00*0,40"]
[null,null,"VTP:",null,0,null,null,null,null,null,null,null,"VTP:"]
[null,null,"Řad \"B\" PE D90x8,2 mm (půměrná hloubka výkopů 1,70 m):41,00*0,90*1,70",null,62.73,null,null,null,null,null,null,null,"Řad \"B\" PE D90x8,2 mm (půměrná hloubka výkopů 1,70 m):41,00*0,90*1,70"]
[null,null,"Odpočet objemu konstrukce komunikací:-4,00*0,90*0,40",null,-1.44,null,null,null,null,null,null,null,"Odpočet objemu konstrukce komunikací:-4,00*0,90*0,40"]
[null,null,"Odpočet objemu ornice:-(41,00-4,00)*0,90*0,20",null,-6.66,null,null,null,null,null,null,null,"Odpočet objemu ornice:-(41,00-4,00)*0,90*0,20"]
[null,null,"Řad \"C\" PE D90x8,2 mm (půměrná hloubka výkopů 1,70 m):52,70*0,90*1,70",null,80.631,null,null,null,null,null,null,null,"Řad \"C\" PE D90x8,2 mm (půměrná hloubka výkopů 1,70 m):52,70*0,90*1,70"]
[null,null,"Odpočet objemu konstrukce komunikací:-4,00*0,90*0,40",null,-1.44,null,null,null,null,null,null,null,"Odpočet objemu konstrukce komunikací:-4,00*0,90*0,40"]
[null,null,"Odpočet objemu ornice:-(52,70-4,00)*0,90*0,20",null,-8.766,null,null,null,null,null,null,null,"Odpočet objemu ornice:-(52,70-4,00)*0,90*0,20"]
[null,null,"Konec provozního součtu",null,388.9375,null,null,null,null,null,null,null,"Konec provozního součtu"]
[null,null,"V hornině tř. 3 - 5 - 14%:388,9375*0,14",null,54.451300000000003,null,null,null,null,null,null,null,"V hornině tř. 3 - 5 - 14%:388,9375*0,14"]
[7,"132201212R00","Hloubení rýh š.do 200 cm hor.3 do 1000m3,STROJNĚ ","m3",175.02189999999999,null,{"$f":"E59*F59","v":0},0,{"$f":"E59*H59","v":0},0,{"$f":"E59*J59","v":0},null,null,null,2,null,null,null,null,null,null,null,null,null,null,null,1,1,1,null,null,null,null,null,null,null,null,null,null,null,null,null,null,null,null,null,null,null,null,null,null,1,{"$f":"IF(AZ59=1,G59,0)","v":0},{"$f":"IF(AZ59=2,G59,0)","v":0},{"$f":"IF(AZ59=3,G59,0)","v":0},{"$f":"IF(AZ59=4,G59,0)","v":0},{"$f":"IF(AZ59=5,G59,0)","v":0},null,null,null,null,null,null,null,null,null,null,null,null,null,null,null,null,null,null,null,null,null,1,1]
[null,null,"Položka obsahuje hloubení rýh traktorbagrem, naložení výkopku na dopravní prostředek pro svislé, nebo vodorovné přemístění, popř. přemístění výkopku do 3 m (po povrchu území), případné zajištění rypadel polštáři, udržování pracoviště a ochranu výkopiště proti stékání srážkové vody z okolního terénu i s jejím odvodněním, nebo odvedením, přesekání a odstranění kořenů ve výkopišti, odstranění napadávek, urovnání dna výkopu.",null,null,null,null,null,null,null,null,"Položka obsahuje hloubení rýh traktorbagrem, naložení výkopku na dopravní prostředek pro svislé, nebo vodorovné přemístění, popř. přemístění výkopku do 3 m (po povrchu území), případné zajištění rypadel polštáři, udržování pracoviště a ochranu výkopiště proti stékání srážkové vody z okolního terénu i s jejím odvodněním, nebo odvedením, přesekání a odstranění kořenů ve výkopišti, odstranění napadávek, urovnání dna výkopu.",null,null,3]
[null,null,"Začátek provozního součtu",null,0,null,null,null,null,null,null,null,"Začátek provozního součtu"]
[null,null,"NTP:",null,0,null,null,null,null,null,null,null,"NTP:"]
[null,null,"Řad \"A\" TLT DN80 (částečně souběh s kanalizací) / (průměrná hloubka výkopů 1,70 m):174,30*0,90*1,70",null,266.67899999999997,null,null,null,null,null,null,null,"Řad \"A\" TLT DN80 (částečně souběh s kanalizací) / (průměrná hloubka výkopů 1,70 m):174,30*0,90*1,70"]
[null,null,"Odpočet objemu konstrukce komunikací:-174,30*0,90*0,40",null,-62.747999999999998,null,null,null,null,null,null,null,"Odpočet objemu konstrukce komunikací:-174,30*0,90*0,40"]
[null,null,"Řad \"B\" TLT DN80 (souběh s kanalizací) / (půměrná hloubka výkopů 1,75 m):37,10*0,90*1,75",null,58.432499999999997,null,null,null,null,null,null,null,"Řad \"B\" TLT DN80 (souběh s kanalizací) / (půměrná hloubka výkopů 1,75 m):37,10*0,90*1,75"]
[null,null,"Odpočet objemu konstrukce komunikací:-37,10*0,90*0,40",null,-13.356,null,null,null,null,null,null,null,"Odpočet objemu konstrukce komunikací:-37,10*0,90*0,40"]
[null,null,"Řad \"C\" TLT DN80 (průměrná hloubka výkopů 1,65 m):11,90*1,00*1,65",null,19.635000000000002,null,null,null,null,null,null,null,"Řad \"C\" TLT DN80 (průměrná hloubka výkopů 1,65 m):11,90*1,00*1,65"]
[null,null,"Odpočet objemu konstrukce komunikací:-11,90*1,00*0,40",null,-4.76,null,null,null,null,null,null,null,"Odpočet objemu konstrukce komunikací:-11,90*1,00*0,40"]
[null,null,"VTP:",null,0,null,null,null,null,null,null,null,"VTP:"]
[null,null,"Řad \"B\" PE D90x8,2 mm (půměrná hloubka výkopů 1,70 m):41,00*0,90*1,70",null,62.73,null,null,null,null,null,null,null,"Řad \"B\" PE D90x8,2 mm (půměrná hloubka výkopů 1,70 m):41,00*0,90*1,70"]
[null,null,"Odpočet objemu konstrukce komunikací:-4,00*0,90*0,40",null,-1.44,null,null,null,null,null,null,null,"Odpočet objemu konstrukce komunikací:-4,00*0,90*0,40"]
[null,null,"Odpočet objemu ornice:-(41,00-4,00)*0,90*0,20",null,-6.66,null,null,null,null,null,null,null,"Odpočet objemu ornice:-(41,00-4,00)*0,90*0,20"]
[null,null,"Řad \"C\" PE D90x8,2 mm (půměrná hloubka výkopů 1,70 m):52,70*0,90*1,70",null,80.631,null,null,null,null,null,null,null,"Řad \"C\" PE D90x8,2 mm (půměrná hloubka výkopů 1,70 m):52,70*0,90*1,70"]
[null,null,"Odpočet objemu konstrukce komunikací:-4,00*0,90*0,40",null,-1.44,null,null,null,null,null,null,null,"Odpočet objemu konstrukce komunikací:-4,00*0,90*0,40"]
[null,null,"Odpočet objemu ornice:-(52,70-4,00)*0,90*0,20",null,-8.766,null,null,null,null,null,null,null,"Odpočet objemu ornice:-(52,70-4,00)*0,90*0,20"]
[null,null,"Konec provozního součtu",null,388.9375,null,null,null,null,null,null,null,"Konec provozního součtu"]
[null,null,"V hornině tř. 3 - 45%:388,9375*0,45",null,175.02189999999999,null,null,null,null,null,null,null,"V hornině tř. 3 - 45%:388,9375*0,45"]
[8,"132201219R00","Přípl.za lepivost,hloubení rýh 200cm,hor.3,STROJNĚ ","m3",87.510900000000007,null,{"$f":"E78*F78","v":0},0,{"$f":"E78*H78","v":0},0,{"$f":"E78*J78","v":0},null,null,null,2,null,null,null,null,null,null,null,null,null,null,null,1,1,1,null,null,null,null,null,null,null,null,null,null,null,null,null,null,null,null,null,null,null,null,null,null,1,{"$f":"IF(AZ78=1,G78,0)","v":0},{"$f":"IF(AZ78=2,G78,0)","v":0},{"$f":"IF(AZ78=3,G78,0)","v":0},{"$f":"IF(AZ78=4,G78,0)","v":0},{"$f":"IF(AZ78=5,G78,0)","v":0},null,null,null,null,null,null,null,null,null,null,null,null,null,null,null,null,null,null,null,null,null,1,1]
[null,null,"Začátek provozního součtu",null,0,null,null,null,null,null,null,null,"Začátek provozního součtu"]
[null,null,"NTP:",null,0,null,null,null,null,null,null,null,"NTP:"]
[null,null,"Řad \"A\" TLT DN80 (částečně souběh s kanalizací) / (průměrná hloubka výkopů 1,70 m):174,30*0,90*1,70",null,266.67899999999997,null,null,null,null,null,null,null,"Řad \"A\" TLT DN80 (částečně souběh s kanalizací) / (průměrná hloubka výkopů 1,70 m):174,30*0,90*1,70"]
[null,null,"Odpočet objemu konstrukce komunikací:-174,30*0,90*0,40",null,-62.747999999999998,null,null,null,null,null,null,null,"Odpočet objemu konstrukce komunikací:-174,30*0,90*0,40"]
[null,null,"Řad \"B\" TLT DN80 (souběh s kanalizací) / (půměrná hloubka výkopů 1,75 m):37,10*0,90*1,75",null,58.432499999999997,null,null,null,null,null,null,null,"Řad \"B\" TLT DN80 (souběh s kanalizací) / (půměrná hloubka výkopů 1,75 m):37,10*0,90*1,75"]
[null,null,"Odpočet objemu konstrukce komunikací:-37,10*0,90*0,40",null,-13.356,null,null,null,null,null,null,null,"Odpočet objemu konstrukce komunikací:-37,10*0,90*0,40"]
[null,null,"Řad \"C\" TLT DN80 (průměrná hloubka výkopů 1,65 m):11,90*1,00*1,65",null,19.635000000000002,null,null,null,null,null,null,null,"Řad \"C\" TLT DN80 (průměrná hloubka výkopů 1,65 m):11,90*1,00*1,65"]
[null,null,"Odpočet objemu konstrukce komunikací:-11,90*1,00*0,40",null,-4.76,null,null,null,null,null,null,null,"Odpočet objemu konstrukce komunikací:-11,90*1,00*0,40"]
[null,null,"VTP:",null,0,null,null,null,null,null,null,null,"VTP:"]
[null,null,"Řad \"B\" PE D90x8,2 mm (půměrná hloubka výkopů 1,70 m):41,00*0,90*1,70",null,62.73,null,null,null,null,null,null,null,"Řad \"B\" PE D90x8,2 mm (půměrná hloubka výkopů 1,70 m):41,00*0,90*1,70"]
[null,null,"Odpočet objemu konstrukce komunikací:-4,00*0,90*0,40",null,-1.44,null,null,null,null,null,null,null,"Odpočet objemu konstrukce komunikací:-4,00*0,90*0,40"]
[null,null,"Odpočet objemu ornice:-(41,00-4,00)*0,90*0,20",null,-6.66,null,null,null,null,null,null,null,"Odpočet objemu ornice:-(41,00-4,00)*0,90*0,20"]
[null,null,"Řad \"C\" PE D90x8,2 mm (půměrná hloubka výkopů 1,70 m):52,70*0,90*1,70",null,80.631,null,null,null,null,null,null,null,"Řad \"C\" PE D90x8,2 mm (půměrná hloubka výkopů 1,70 m):52,70*0,90*1,70"]
[null,null,"Odpočet objemu konstrukce komunikací:-4,00*0,90*0,40",null,-1.44,null,null,null,null,null,null,null,"Odpočet objemu konstrukce komunikací:-4,00*0,90*0,40"]
[null,null,"Odpočet objemu ornice:-(52,70-4,00)*0,90*0,20",null,-8.766,null,null,null,null,null,null,null,"Odpočet objemu ornice:-(52,70-4,00)*0,90*0,20"]
[null,null,"Konec provozního součtu",null,388.9375,null,null,null,null,null,null,null,"Konec provozního součtu"]
[null,null,"V hornině tř. 3 - 45%:388,9375*0,45*0,5",null,87.510900000000007,null,null,null,null,null,null,null,"V hornině tř. 3 - 45%:388,9375*0,45*0,5"]
[9,"132301212R00","Hloubení rýh š.do 200 cm hor.4 do 1000 m3, STROJNĚ ","m3",175.02189999999999,null,{"$f":"E96*F96","v":0},0,{"$f":"E96*H96","v":0},0,{"$f":"E96*J96","v":0},null,null,null,2,null,null,null,null,null,null,null,null,null,null,null,1,1,1,null,null,null,null,null,null,null,null,null,null,null,null,null,null,null,null,null,null,null,null,null,null,1,{"$f":"IF(AZ96=1,G96,0)","v":0},{"$f":"IF(AZ96=2,G96,0)","v":0},{"$f":"IF(AZ96=3,G96,0)","v":0},{"$f":"IF(AZ96=4,G96,0)","v":0},{"$f":"IF(AZ96=5,G96,0)","v":0},null,null,null,null,null,null,null,null,null,null,null,null,null,null,null,null,null,null,null,null,null,1,1]
[null,null,"Položka obsahuje hloubení rýh traktorbagrem, naložení výkopku na dopravní prostředek pro svislé, nebo vodorovné přemístění, popř. přemístění výkopku do 3 m (po povrchu území), případné zajištění rypadel polštáři, udržování pracoviště a ochranu výkopiště proti stékání srážkové vody z okolního terénu i s jejím odvodněním, nebo odvedením, přesekání a odstranění kořenů ve výkopišti, odstranění napadávek, urovnání dna výkopu.",null,null,null,null,null,null,null,null,"Položka obsahuje hloubení rýh traktorbagrem, naložení výkopku na dopravní prostředek pro svislé, nebo vodorovné přemístění, popř. přemístění výkopku do 3 m (po povrchu území), případné zajištění rypadel polštáři, udržování pracoviště a ochranu výkopiště proti stékání srážkové vody z okolního terénu i s jejím odvodněním, nebo odvedením, přesekání a odstranění kořenů ve výkopišti, odstranění napadávek, urovnání dna výkopu.",null,null,3]
[null,null,"Začátek provozního součtu",null,0,null,null,null,null,null,null,null,"Začátek provozního součtu"]
[null,null,"NTP:",null,0,null,null,null,null,null,null,null,"NTP:"]
[null,null,"Řad \"A\" TLT DN80 (částečně souběh s kanalizací) / (průměrná hloubka výkopů 1,70 m):174,30*0,90*1,70",null,266.67899999999997,null,null,null,null,null,null,null,"Řad \"A\" TLT DN80 (částečně souběh s kanalizací) / (průměrná hloubka výkopů 1,70 m):174,30*0,90*1,70"]
[null,null,"Odpočet objemu konstrukce komunikací:-174,30*0,90*0,40",null,-62.747999999999998,null,null,null,null,null,null,null,"Odpočet objemu konstrukce komunikací:-174,30*0,90*0,40"]
[null,null,"Řad \"B\" TLT DN80 (souběh s kanalizací) / (půměrná hloubka výkopů 1,75 m):37,10*0,90*1,75",null,58.432499999999997,null,null,null,null,null,null,null,"Řad \"B\" TLT DN80 (souběh s kanalizací) / (půměrná hloubka výkopů 1,75 m):37,10*0,90*1,75"]
[null,null,"Odpočet objemu konstrukce komunikací:-37,10*0,90*0,40",null,-13.356,null,null,null,null,null,null,null,"Odpočet objemu konstrukce komunikací:-37,10*0,90*0,40"]
[null,null,"Řad \"C\" TLT DN80 (průměrná hloubka výkopů 1,65 m):11,90*1,00*1,65",null,19.635000000000002,null,null,null,null,null,null,null,"Řad \"C\" TLT DN80 (průměrná hloubka výkopů 1,65 m):11,90*1,00*1,65"]
[null,null,"Odpočet objemu konstrukce komunikací:-11,90*1,00*0,40",null,-4.76,null,null,null,null,null,null,null,"Odpočet objemu konstrukce komunikací:-11,90*1,00*0,40"]
[null,null,"VTP:",null,0,null,null,null,null,null,null,null,"VTP:"]
[null,null,"Řad \"B\" PE D90x8,2 mm (půměrná hloubka výkopů 1,70 m):41,00*0,90*1,70",null,62.73,null,null,null,null,null,null,null,"Řad \"B\" PE D90x8,2 mm (půměrná hloubka výkopů 1,70 m):41,00*0,90*1,70"]
[null,null,"Odpočet objemu konstrukce komunikací:-4,00*0,90*0,40",null,-1.44,null,null,null,null,null,null,null,"Odpočet objemu konstrukce komunikací:-4,00*0,90*0,40"]
[null,null,"Odpočet objemu ornice:-(41,00-4,00)*0,90*0,20",null,-6.66,null,null,null,null,null,null,null,"Odpočet objemu ornice:-(41,00-4,00)*0,90*0,20"]
[null,null,"Řad \"C\" PE D90x8,2 mm (půměrná hloubka výkopů 1,70 m):52,70*0,90*1,70",null,80.631,null,null,null,null,null,null,null,"Řad \"C\" PE D90x8,2 mm (půměrná hloubka výkopů 1,70 m):52,70*0,90*1,70"]
[null,null,"Odpočet objemu konstrukce komunikací:-4,00*0,90*0,40",null,-1.44,null,null,null,null,null,null,null,"Odpočet objemu konstrukce komunikací:-4,00*0,90*0,40"]
[null,null,"Odpočet objemu ornice:-(52,70-4,00)*0,90*0,20",null,-8.766,null,null,null,null,null,null,null,"Odpočet objemu ornice:-(52,70-4,00)*0,90*0,20"]
[null,null,"Konec provozního součtu",null,388.9375,null,null,null,null,null,null,null,"Konec provozního součtu"]
[null,null,"V hornině tř. 4 - 45%:388,9375*0,45",null,175.02189999999999,null,null,null,null,null,null,null,"V hornině tř. 4 - 45%:388,9375*0,45"]
[10,"132301219R00","Přípl.za lepivost,hloubení rýh 200cm,hor.4,STROJNĚ ","m3",87.510900000000007,null,{"$f":"E115*F115","v":0},0,{"$f":"E115*H115","v":0},0,{"$f":"E115*J115","v":0},null,null,null,2,null,null,null,null,null,null,null,null,null,null,null,1,1,1,null,null,null,null,null,null,null,null,null,null,null,null,null,null,null,null,null,null,null,null,null,null,1,{"$f":"IF(AZ115=1,G115,0)","v":0},{"$f":"IF(AZ115=2,G115,0)","v":0},{"$f":"IF(AZ115=3,G115,0)","v":0},{"$f":"IF(AZ115=4,G115,0)","v":0},{"$f":"IF(AZ115=5,G115,0)","v":0},null,null,null,null,null,null,null,null,null,null,null,null,null,null,null,null,null,null,null,null,null,1,1]
[null,null,"Začátek provozního součtu",null,0,null,null,null,null,null,null,null,"Začátek provozního součtu"]
[null,null,"NTP:",null,0,null,null,null,null,null,null,null,"NTP:"]
[null,null,"Řad \"A\" TLT DN80 (částečně souběh s kanalizací) / (průměrná hloubka výkopů 1,70 m):174,30*0,90*1,70",null,266.67899999999997,null,null,null,null,null,null,null,"Řad \"A\" TLT DN80 (částečně souběh s kanalizací) / (průměrná hloubka výkopů 1,70 m):174,30*0,90*1,70"]
[null,null,"Odpočet objemu konstrukce komunikací:-174,30*0,90*0,40",null,-62.747999999999998,null,null,null,null,null,null,null,"Odpočet objemu konstrukce komunikací:-174,30*0,90*0,40"]
[null,null,"Řad \"B\" TLT DN80 (souběh s kanalizací) / (půměrná hloubka výkopů 1,75 m):37,10*0,90*1,75",null,58.432499999999997,null,null,null,null,null,null,null,"Řad \"B\" TLT DN80 (souběh s kanalizací) / (půměrná hloubka výkopů 1,75 m):37,10*0,90*1,75"]
[null,null,"Odpočet objemu konstrukce komunikací:-37,10*0,90*0,40",null,-13.356,null,null,null,null,null,null,null,"Odpočet objemu konstrukce komunikací:-37,10*0,90*0,40"]
[null,null,"Řad \"C\" TLT DN80 (průměrná hloubka výkopů 1,65 m):11,90*1,00*1,65",null,19.635000000000002,null,null,null,null,null,null,null,"Řad \"C\" TLT DN80 (průměrná hloubka výkopů 1,65 m):11,90*1,00*1,65"]
[null,null,"Odpočet objemu konstrukce komunikací:-11,90*1,00*0,40",null,-4.76,null,null,null,null,null,null,null,"Odpočet objemu konstrukce komunikací:-11,90*1,00*0,40"]
[null,null,"VTP:",null,0,null,null,null,null,null,null,null,"VTP:"]
[null,null,"Řad \"B\" PE D90x8,2 mm (půměrná hloubka výkopů 1,70 m):41,00*0,90*1,70",null,62.73,null,null,null,null,null,null,null,"Řad \"B\" PE D90x8,2 mm (půměrná hloubka výkopů 1,70 m):41,00*0,90*1,70"]
[null,null,"Odpočet objemu konstrukce komunikací:-4,00*0,90*0,40",null,-1.44,null,null,null,null,null,null,null,"Odpočet objemu konstrukce komunikací:-4,00*0,90*0,40"]
[null,null,"Odpočet objemu ornice:-(41,00-4,00)*0,90*0,20",null,-6.66,null,null,null,null,null,null,null,"Odpočet objemu ornice:-(41,00-4,00)*0,90*0,20"]
[null,null,"Řad \"C\" PE D90x8,2 mm (půměrná hloubka výkopů 1,70 m):52,70*0,90*1,70",null,80.631,null,null,null,null,null,null,null,"Řad \"C\" PE D90x8,2 mm (půměrná hloubka výkopů 1,70 m):52,70*0,90*1,70"]
[null,null,"Odpočet objemu konstrukce komunikací:-4,00*0,90*0,40",null,-1.44,null,null,null,null,null,null,null,"Odpočet objemu konstrukce komunikací:-4,00*0,90*0,40"]
[null,null,"Odpočet objemu ornice:-(52,70-4,00)*0,90*0,20",null,-8.766,null,null,null,null,null,null,null,"Odpočet objemu ornice:-(52,70-4,00)*0,90*0,20"]
[null,null,"Konec provozního součtu",null,388.9375,null,null,null,null,null,null,null,"Konec provozního součtu"]
[null,null,"V hornině tř. 4 - 45%:388,9375*0,45*0,5",null,87.510900000000007,null,null,null,null,null,null,null,"V hornině tř. 4 - 45%:388,9375*0,45*0,5"]
[11,"132401211R00","Hloubení rýh šířky do 200 cm v hor.5, STROJNĚ ","m3",38.893799999999999,null,{"$f":"E133*F133","v":0},0,{"$f":"E133*H133","v":0},0,{"$f":"E133*J133","v":0},null,null,null,2,null,null,null,null,null,null,null,null,null,null,null,1,1,1,null,null,null,null,null,null,null,null,null,null,null,null,null,null,null,null,null,null,null,null,null,null,1,{"$f":"IF(AZ133=1,G133,0)","v":0},{"$f":"IF(AZ133=2,G133,0)","v":0},{"$f":"IF(AZ133=3,G133,0)","v":0},{"$f":"IF(AZ133=4,G133,0)","v":0},{"$f":"IF(AZ133=5,G133,0)","v":0},null,null,null,null,null,null,null,null,null,null,null,null,null,null,null,null,null,null,null,null,null,1,1]
[null,null,"Položka obsahuje hloubení jámy kolovým rypadlem s rozrývacím zubem, naložení výkopku na dopravní prostředek pro svislé, nebo vodorovné přemístění, popř. přemístění výkopku do 3 m (po povrchu území), případné zajištění rypadel polštáři, udržování pracoviště a ochranu výkopiště proti stékání srážkové vody z okolního terénu i s jejím odvodněním, nebo odvedením, přesekání a odstranění kořenů ve výkopišti, odstranění napadávek, urovnání dna výkopu. Položka se používá bez ohledu na těžené množství.",null,null,null,null,null,null,null,null,"Položka obsahuje hloubení jámy kolovým rypadlem s rozrývacím zubem, naložení výkopku na dopravní prostředek pro svislé, nebo vodorovné přemístění, popř. přemístění výkopku do 3 m (po povrchu území), případné zajištění rypadel polštáři, udržování pracoviště a ochranu výkopiště proti stékání srážkové vody z okolního terénu i s jejím odvodněním, nebo odvedením, přesekání a odstranění kořenů ve výkopišti, odstranění napadávek, urovnání dna výkopu. Položka se používá bez ohledu na těžené množství.",null,null,3]
[null,null,"Začátek provozního součtu",null,0,null,null,null,null,null,null,null,"Začátek provozního součtu"]
[null,null,"NTP:",null,0,null,null,null,null,null,null,null,"NTP:"]
[null,null,"Řad \"A\" TLT DN80 (částečně souběh s kanalizací) / (průměrná hloubka výkopů 1,70 m):174,30*0,90*1,70",null,266.67899999999997,null,null,null,null,null,null,null,"Řad \"A\" TLT DN80 (částečně souběh s kanalizací) / (průměrná hloubka výkopů 1,70 m):174,30*0,90*1,70"]
[null,null,"Odpočet objemu konstrukce komunikací:-174,30*0,90*0,40",null,-62.747999999999998,null,null,null,null,null,null,null,"Odpočet objemu konstrukce komunikací:-174,30*0,90*0,40"]
[null,null,"Řad \"B\" TLT DN80 (souběh s kanalizací) / (půměrná hloubka výkopů 1,75 m):37,10*0,90*1,75",null,58.432499999999997,null,null,null,null,null,null,null,"Řad \"B\" TLT DN80 (souběh s kanalizací) / (půměrná hloubka výkopů 1,75 m):37,10*0,90*1,75"]
[null,null,"Odpočet objemu konstrukce komunikací:-37,10*0,90*0,40",null,-13.356,null,null,null,null,null,null,null,"Odpočet objemu konstrukce komunikací:-37,10*0,90*0,40"]
[null,null,"Řad \"C\" TLT DN80 (průměrná hloubka výkopů 1,65 m):11,90*1,00*1,65",null,19.635000000000002,null,null,null,null,null,null,null,"Řad \"C\" TLT DN80 (průměrná hloubka výkopů 1,65 m):11,90*1,00*1,65"]
[null,null,"Odpočet objemu konstrukce komunikací:-11,90*1,00*0,40",null,-4.76,null,null,null,null,null,null,null,"Odpočet objemu konstrukce komunikací:-11,90*1,00*0,40"]
[null,null,"VTP:",null,0,null,null,null,null,null,null,null,"VTP:"]
[null,null,"Řad \"B\" PE D90x8,2 mm (půměrná hloubka výkopů 1,70 m):41,00*0,90*1,70",null,62.73,null,null,null,null,null,null,null,"Řad \"B\" PE D90x8,2 mm (půměrná hloubka výkopů 1,70 m):41,00*0,90*1,70"]
[null,null,"Odpočet objemu konstrukce komunikací:-4,00*0,90*0,40",null,-1.44,null,null,null,null,null,null,null,"Odpočet objemu konstrukce komunikací:-4,00*0,90*0,40"]
[null,null,"Odpočet objemu ornice:-(41,00-4,00)*0,90*0,20",null,-6.66,null,null,null,null,null,null,null,"Odpočet objemu ornice:-(41,00-4,00)*0,90*0,20"]
[null,null,"Řad \"C\" PE D90x8,2 mm (půměrná hloubka výkopů 1,70 m):52,70*0,90*1,70",null,80.631,null,null,null,null,null,null,null,"Řad \"C\" PE D90x8,2 mm (půměrná hloubka výkopů 1,70 m):52,70*0,90*1,70"]
[null,null,"Odpočet objemu konstrukce komunikací:-4,00*0,90*0,40",null,-1.44,null,null,null,null,null,null,null,"Odpočet objemu konstrukce komunikací:-4,00*0,90*0,40"]
[null,null,"Odpočet objemu ornice:-(52,70-4,00)*0,90*0,20",null,-8.766,null,null,null,null,null,null,null,"Odpočet objemu ornice:-(52,70-4,00)*0,90*0,20"]
[null,null,"Konec provozního součtu",null,388.9375,null,null,null,null,null,null,null,"Konec provozního součtu"]
[null,null,"V hornině tř. 5 - 10%:388,9375*0,10",null,38.893799999999999,null,null,null,null,null,null,null,"V hornině tř. 5 - 10%:388,9375*0,10"]
[12,"151101101R00","Pažení a rozepření stěn rýh - příložné - hl.do 2 m ","m2",576.13,null,{"$f":"E152*F152","v":0},9.8999999999999999E-4,{"$f":"E152*H152","v":0.57036869999999995},0,{"$f":"E152*J152","v":0},null,null,null,2,null,null,null,null,null,null,null,null,null,null,null,1,1,1,null,null,null,null,null,null,null,null,null,null,null,null,null,null,null,null,null,null,null,null,null,null,1,{"$f":"IF(AZ152=1,G152,0)","v":0},{"$f":"IF(AZ152=2,G152,0)","v":0},{"$f":"IF(AZ152=3,G152,0)","v":0},{"$f":"IF(AZ152=4,G152,0)","v":0},{"$f":"IF(AZ152=5,G152,0)","v":0},null,null,null,null,null,null,null,null,null,null,null,null,null,null,null,null,null,null,null,null,null,1,1]
[null,null,"NTP:",null,0,null,null,null,null,null,null,null,"NTP:"]
[null,null,"Řad \"A\" TLT DN80 (částečně souběh s kanalizací) / (průměrná hloubka výkopů 1,70 m):(43,50+20,70)*1,70*2",null,218.28,null,null,null,null,null,null,null,"Řad \"A\" TLT DN80 (částečně souběh s kanalizací) / (průměrná hloubka výkopů 1,70 m):(43,50+20,70)*1,70*2"]
[null,null,"Řad \"B\" TLT DN80 (souběh s kanalizací) / (půměrná hloubka výkopů 1,75 m):0",null,0,null,null,null,null,null,null,null,"Řad \"B\" TLT DN80 (souběh s kanalizací) / (půměrná hloubka výkopů 1,75 m):0"]
[null,null,"Řad \"C\" TLT DN80 (průměrná hloubka výkopů 1,65 m):11,90*1,65*2",null,39.270000000000003,null,null,null,null,null,null,null,"Řad \"C\" TLT DN80 (průměrná hloubka výkopů 1,65 m):11,90*1,65*2"]
[null,null,"VTP:",null,0,null,null,null,null,null,null,null,"VTP:"]
[null,null,"Řad \"B\" PE D90x8,2 mm (půměrná hloubka výkopů 1,70 m):41,00*1,70*2",null,139.4,null,null,null,null,null,null,null,"Řad \"B\" PE D90x8,2 mm (půměrná hloubka výkopů 1,70 m):41,00*1,70*2"]
[null,null,"Řad \"C\" PE D90x8,2 mm (půměrná hloubka výkopů 1,70 m):52,70*1,70*2",null,179.18,null,null,null,null,null,null,null,"Řad \"C\" PE D90x8,2 mm (půměrná hloubka výkopů 1,70 m):52,70*1,70*2"]
[13,"151101111R00","Odstranění pažení stěn rýh - příložné - hl. do 2 m ","m2",576.13,null,{"$f":"E160*F160","v":0},0,{"$f":"E160*H160","v":0},0,{"$f":"E160*J160","v":0},null,null,null,2,null,null,null,null,null,null,null,null,null,null,null,1,1,1,null,null,null,null,null,null,null,null,null,null,null,null,null,null,null,null,null,null,null,null,null,null,1,{"$f":"IF(AZ160=1,G160,0)","v":0},{"$f":"IF(AZ160=2,G160,0)","v":0},{"$f":"IF(AZ160=3,G160,0)","v":0},{"$f":"IF(AZ160=4,G160,0)","v":0},{"$f":"IF(AZ160=5,G160,0)","v":0},null,null,null,null,null,null,null,null,null,null,null,null,null,null,null,null,null,null,null,null,null,1,1]
[null,null,"NTP:",null,0,null,null,null,null,null,null,null,"NTP:"]
[null,null,"Řad \"A\" TLT DN80 (částečně souběh s kanalizací) / (průměrná hloubka výkopů 1,70 m):(43,50+20,70)*1,70*2",null,218.28,null,null,null,null,null,null,null,"Řad \"A\" TLT DN80 (částečně souběh s kanalizací) / (průměrná hloubka výkopů 1,70 m):(43,50+20,70)*1,70*2"]
[null,null,"Řad \"B\" TLT DN80 (souběh s kanalizací) / (půměrná hloubka výkopů 1,75 m):0",null,0,null,null,null,null,null,null,null,"Řad \"B\" TLT DN80 (souběh s kanalizací) / (půměrná hloubka výkopů 1,75 m):0"]
[null,null,"Řad \"C\" TLT DN80 (průměrná hloubka výkopů 1,65 m):11,90*1,65*2",null,39.270000000000003,null,null,null,null,null,null,null,"Řad \"C\" TLT DN80 (průměrná hloubka výkopů 1,65 m):11,90*1,65*2"]
[null,null,"VTP:",null,0,null,null,null,null,null,null,null,"VTP:"]
[null,null,"Řad \"B\" PE D90x8,2 mm (půměrná hloubka výkopů 1,70 m):41,00*1,70*2",null,139.4,null,null,null,null,null,null,null,"Řad \"B\" PE D90x8,2 mm (půměrná hloubka výkopů 1,70 m):41,00*1,70*2"]
[null,null,"Řad \"C\" PE D90x8,2 mm (půměrná hloubka výkopů 1,70 m):52,70*1,70*2",null,179.18,null,null,null,null,null,null,null,"Řad \"C\" PE D90x8,2 mm (půměrná hloubka výkopů 1,70 m):52,70*1,70*2"]
[14,"162701105RSZ","Vodorovné přemístění výkopku z hor.1-4 na skládku zhotovitele","m3",311.03620000000001,null,{"$f":"E168*F168","v":0},0,{"$f":"E168*H168","v":0},0,{"$f":"E168*J168","v":0},null,null,null,2,null,null,null,null,null,null,null,null,null,null,null,1,1,1,null,null,null,null,null,null,null,null,null,null,null,null,null,null,null,null,null,null,null,null,null,null,1,{"$f":"IF(AZ168=1,G168,0)","v":0},{"$f":"IF(AZ168=2,G168,0)","v":0},{"$f":"IF(AZ168=3,G168,0)","v":0},{"$f":"IF(AZ168=4,G168,0)","v":0},{"$f":"IF(AZ168=5,G168,0)","v":0},null,null,null,null,null,null,null,null,null,null,null,null,null,null,null,null,null,null,null,null,null,1,1]
[null,null,"Výkopy:",null,0,null,null,null,null,null,null,null,"Výkopy:"]
[null,null,"V hornině tř. 3 - 5:388,9375",null,388.9375,null,null,null,null,null,null,null,"V hornině tř. 3 - 5:388,9375"]
[null,null,"Odpočet zásypů zeminou:-77,9013",null,-77.901300000000006,null,null,null,null,null,null,null,"Odpočet zásypů zeminou:-77,9013"]
[15,"174101101R00","Zásyp jam, rýh, šachet se zhutněním ","m3",250.57900000000001,null,{"$f":"E172*F172","v":0},0,{"$f":"E172*H172","v":0},0,{"$f":"E172*J172","v":0},null,null,null,2,null,null,null,null,null,null,null,null,null,null,null,1,1,1,null,null,null,null,null,null,null,null,null,null,null,null,null,null,null,null,null,null,null,null,null,null,1,{"$f":"IF(AZ172=1,G172,0)","v":0},{"$f":"IF(AZ172=2,G172,0)","v":0},{"$f":"IF(AZ172=3,G172,0)","v":0},{"$f":"IF(AZ172=4,G172,0)","v":0},{"$f":"IF(AZ172=5,G172,0)","v":0},null,null,null,null,null,null,null,null,null,null,null,null,null,null,null,null,null,null,null,null,null,1,1]
[null,null,"Položka obsahuje strojní přemístění materiálu pro zásyp ze vzdálenosti do 10 m od okraje zásypu.",null,null,null,null,null,null,null,null,"Položka obsahuje strojní přemístění materiálu pro zásyp ze vzdálenosti do 10 m od okraje zásypu.",null,null,3]
[null,null,"Zásyp zeminou:77,9013",null,77.901300000000006,null,null,null,null,null,null,null,"Zásyp zeminou:77,9013"]
[null,null,"Začátek provozního součtu",null,0,null,null,null,null,null,null,null,"Začátek provozního součtu"]
[null,null,"Výkopy:",null,0,null,null,null,null,null,null,null,"Výkopy:"]
[null,null,"VTP:",null,0,null,null,null,null,null,null,null,"VTP:"]
[null,null,"Řad \"B\" PE D90x8,2 mm (půměrná hloubka výkopů 1,70 m):(41,00-4,00)*0,90*1,70",null,56.61,null,null,null,null,null,null,null,"Řad \"B\" PE D90x8,2 mm (půměrná hloubka výkopů 1,70 m):(41,00-4,00)*0,90*1,70"]
[null,null,"Odpočet objemu ornice:-(41,00-4,00)*0,90*0,20",null,-6.66,null,null,null,null,null,null,null,"Odpočet objemu ornice:-(41,00-4,00)*0,90*0,20"]
[null,null,"Odpočet lože, potrubín a obsypů:-(41,00-4,00)*0,90*(0,10+0,09+0,30)",null,-16.317,null,null,null,null,null,null,null,"Odpočet lože, potrubín a obsypů:-(41,00-4,00)*0,90*(0,10+0,09+0,30)"]
[null,null,"Řad \"C\" PE D90x8,2 mm (půměrná hloubka výkopů 1,70 m):(52,70-4,00)*0,90*1,70",null,74.510999999999996,null,null,null,null,null,null,null,"Řad \"C\" PE D90x8,2 mm (půměrná hloubka výkopů 1,70 m):(52,70-4,00)*0,90*1,70"]
[null,null,"Odpočet objemu ornice:-(52,70-4,00)*0,90*0,20",null,-8.766,null,null,null,null,null,null,null,"Odpočet objemu ornice:-(52,70-4,00)*0,90*0,20"]
[null,null,"Odpočet lože, potrubín a obsypů:-(52,70-4,00)*0,90*(0,10+0,09+0,30)",null,-21.476700000000001,null,null,null,null,null,null,null,"Odpočet lože, potrubín a obsypů:-(52,70-4,00)*0,90*(0,10+0,09+0,30)"]
[null,null,"Konec provozního součtu",null,77.901299999999992,null,null,null,null,null,null,null,"Konec provozního součtu"]
[null,null,"Zásyp štěrkodrtí fr. 0-63 mm:172,6777",null,172.67769999999999,null,null,null,null,null,null,null,"Zásyp štěrkodrtí fr. 0-63 mm:172,6777"]
[null,null,"Začátek provozního součtu",null,0,null,null,null,null,null,null,null,"Začátek provozního součtu"]
[null,null,"Výkopy:",null,0,null,null,null,null,null,null,null,"Výkopy:"]
[null,null,"NTP:",null,0,null,null,null,null,null,null,null,"NTP:"]
[null,null,"Řad \"A\" TLT DN80 (částečně souběh s kanalizací) / (průměrná hloubka výkopů 1,70 m):174,30*0,90*1,70",null,266.67899999999997,null,null,null,null,null,null,null,"Řad \"A\" TLT DN80 (částečně souběh s kanalizací) / (průměrná hloubka výkopů 1,70 m):174,30*0,90*1,70"]
[null,null,"Odpočet objemu konstrukce komunikací:-174,30*0,90*0,40",null,-62.747999999999998,null,null,null,null,null,null,null,"Odpočet objemu konstrukce komunikací:-174,30*0,90*0,40"]
[null,null,"Odpočet lože, potrubí a obsypů:-174,30*0,90*(0,10+0,08+0,30)",null,-75.297600000000003,null,null,null,null,null,null,null,"Odpočet lože, potrubí a obsypů:-174,30*0,90*(0,10+0,08+0,30)"]
[null,null,"Řad \"B\" TLT DN80 (souběh s kanalizací) / (půměrná hloubka výkopů 1,75 m):37,10*0,90*1,75",null,58.432499999999997,null,null,null,null,null,null,null,"Řad \"B\" TLT DN80 (souběh s kanalizací) / (půměrná hloubka výkopů 1,75 m):37,10*0,90*1,75"]
[null,null,"Odpočet objemu konstrukce komunikací:-37,10*0,90*0,40",null,-13.356,null,null,null,null,null,null,null,"Odpočet objemu konstrukce komunikací:-37,10*0,90*0,40"]
[null,null,"Odpočet lože, potrubí a obsypů:-37,100*0,90*(0,10+0,08+0,30)",null,-16.027200000000001,null,null,null,null,null,null,null,"Odpočet lože, potrubí a obsypů:-37,100*0,90*(0,10+0,08+0,30)"]
[null,null,"Řad \"C\" TLT DN80 (průměrná hloubka výkopů 1,65 m):11,90*1,00*1,65",null,19.635000000000002,null,null,null,null,null,null,null,"Řad \"C\" TLT DN80 (průměrná hloubka výkopů 1,65 m):11,90*1,00*1,65"]
[null,null,"Odpočet objemu konstrukce komunikací:-11,90*1,00*0,40",null,-4.76,null,null,null,null,null,null,null,"Odpočet objemu konstrukce komunikací:-11,90*1,00*0,40"]
[null,null,"Odpočet lože, potrubí a obsypů:-11,90*1,00*(0,10+0,08+0,30)",null,-5.7119999999999997,null,null,null,null,null,null,null,"Odpočet lože, potrubí a obsypů:-11,90*1,00*(0,10+0,08+0,30)"]
[null,null,"VTP:",null,0,null,null,null,null,null,null,null,"VTP:"]
[null,null,"Řad \"B\" PE D90x8,2 mm (půměrná hloubka výkopů 1,70 m):4,00*0,90*1,70",null,6.12,null,null,null,null,null,null,null,"Řad \"B\" PE D90x8,2 mm (půměrná hloubka výkopů 1,70 m):4,00*0,90*1,70"]
[null,null,"Odpočet objemu konstrukce komunikací:-4,00*0,90*0,40",null,-1.44,null,null,null,null,null,null,null,"Odpočet objemu konstrukce komunikací:-4,00*0,90*0,40"]
[null,null,"Odpočet lože, potrubí a obsypů:-4,00*0,90*(0,10+0,09+0,30)",null,-1.764,null,null,null,null,null,null,null,"Odpočet lože, potrubí a obsypů:-4,00*0,90*(0,10+0,09+0,30)"]
[null,null,"Řad \"C\" PE D90x8,2 mm (půměrná hloubka výkopů 1,70 m):4,00*0,90*1,70",null,6.12,null,null,null,null,null,null,null,"Řad \"C\" PE D90x8,2 mm (půměrná hloubka výkopů 1,70 m):4,00*0,90*1,70"]
[null,null,"Odpočet objemu konstrukce komunikací:-4,00*0,90*0,40",null,-1.44,null,null,null,null,null,null,null,"Odpočet objemu konstrukce komunikací:-4,00*0,90*0,40"]
[null,null,"Odpočet lože, potrubí a obsypů:-4,00*0,90*(0,10+0,09+0,30)",null,-1.764,null,null,null,null,null,null,null,"Odpočet lože, potrubí a obsypů:-4,00*0,90*(0,10+0,09+0,30)"]
[null,null,"Konec provozního součtu",null,172.67770000000002,null,null,null,null,null,null,null,"Konec provozního součtu"]
[16,"175101101R00","Obsyp potrubí bez prohození sypaniny ","m3",107.991,null,{"$f":"E206*F206","v":0},0,{"$f":"E206*H206","v":0},0,{"$f":"E206*J206","v":0},null,null,null,2,null,null,null,null,null,null,null,null,null,null,null,1,1,1,null,null,null,null,null,null,null,null,null,null,null,null,null,null,null,null,null,null,null,null,null,null,1,{"$f":"IF(AZ206=1,G206,0)","v":0},{"$f":"IF(AZ206=2,G206,0)","v":0},{"$f":"IF(AZ206=3,G206,0)","v":0},{"$f":"IF(AZ206=4,G206,0)","v":0},{"$f":"IF(AZ206=5,G206,0)","v":0},null,null,null,null,null,null,null,null,null,null,null,null,null,null,null,null,null,null,null,null,null,1,1]
[null,null,"NTP:",null,0,null,null,null,null,null,null,null,"NTP:"]
[null,null,"Řad \"A\" TLT DN80 (částečně souběh s kanalizací) / (průměrná hloubka výkopů 1,70 m):174,30*(0,90*(0,08+0,30)-0,04^2*Pi)",null,58.734499999999997,null,null,null,null,null,null,null,"Řad \"A\" TLT DN80 (částečně souběh s kanalizací) / (průměrná hloubka výkopů 1,70 m):174,30*(0,90*(0,08+0,30)-0,04^2*Pi)"]
[null,null,"Řad \"B\" TLT DN80 (souběh s kanalizací) / (půměrná hloubka výkopů 1,75 m):37,10*(0,90*(0,08+0,30)-0,04^2*Pi)",null,12.5017,null,null,null,null,null,null,null,"Řad \"B\" TLT DN80 (souběh s kanalizací) / (půměrná hloubka výkopů 1,75 m):37,10*(0,90*(0,08+0,30)-0,04^2*Pi)"]
[null,null,"Řad \"C\" TLT DN80 (průměrná hloubka výkopů 1,65 m):11,90*(1,00*(0,08+0,30)-0,04^2*Pi)",null,4.4622000000000002,null,null,null,null,null,null,null,"Řad \"C\" TLT DN80 (průměrná hloubka výkopů 1,65 m):11,90*(1,00*(0,08+0,30)-0,04^2*Pi)"]
[null,null,"VTP:",null,0,null,null,null,null,null,null,null,"VTP:"]
[null,null,"Řad \"B\" PE D90x8,2 mm (půměrná hloubka výkopů 1,70 m):41,00*(0,90*(0,09+0,30)-0,045^2*Pi)",null,14.1302,null,null,null,null,null,null,null,"Řad \"B\" PE D90x8,2 mm (půměrná hloubka výkopů 1,70 m):41,00*(0,90*(0,09+0,30)-0,045^2*Pi)"]
[null,null,"Řad \"C\" PE D90x8,2 mm (půměrná hloubka výkopů 1,70 m):52,70*(0,90*(0,09+0,30)-0,045^2*Pi)",null,18.162400000000002,null,null,null,null,null,null,null,"Řad \"C\" PE D90x8,2 mm (půměrná hloubka výkopů 1,70 m):52,70*(0,90*(0,09+0,30)-0,045^2*Pi)"]
[17,"199000002R00","Poplatek za skládku horniny 1- 4 č. dle katal. odpadů 17 05 04","m3",311.03620000000001,null,{"$f":"E214*F214","v":0},0,{"$f":"E214*H214","v":0},0,{"$f":"E214*J214","v":0},null,null,null,2,null,null,null,null,null,null,null,null,null,null,null,1,1,1,null,null,null,null,null,null,null,null,null,null,null,null,null,null,null,null,null,null,null,null,null,null,1,{"$f":"IF(AZ214=1,G214,0)","v":0},{"$f":"IF(AZ214=2,G214,0)","v":0},{"$f":"IF(AZ214=3,G214,0)","v":0},{"$f":"IF(AZ214=4,G214,0)","v":0},{"$f":"IF(AZ214=5,G214,0)","v":0},null,null,null,null,null,null,null,null,null,null,null,null,null,null,null,null,null,null,null,null,null,1,1]
[null,null,"Výkopy:",null,0,null,null,null,null,null,null,null,"Výkopy:"]
[null,null,"V hornině tř. 3 - 5:388,9375",null,388.9375,null,null,null,null,null,null,null,"V hornině tř. 3 - 5:388,9375"]
[null,null,"Odpočet zásypů zeminou:-77,9013",null,-77.901300000000006,null,null,null,null,null,null,null,"Odpočet zásypů zeminou:-77,9013"]
[18,"919735113R00","Řezání stávajícího živičného krytu tl. 10 - 15 cm ","m",172.9,null,{"$f":"E218*F218","v":0},0,{"$f":"E218*H218","v":0},0,{"$f":"E218*J218","v":0},null,null,null,2,null,null,null,null,null,null,null,null,null,null,null,1,1,1,null,null,null,null,null,null,null,null,null,null,null,null,null,null,null,null,null,null,null,null,null,null,1,{"$f":"IF(AZ218=1,G218,0)","v":0},{"$f":"IF(AZ218=2,G218,0)","v":0},{"$f":"IF(AZ218=3,G218,0)","v":0},{"$f":"IF(AZ218=4,G218,0)","v":0},{"$f":"IF(AZ218=5,G218,0)","v":0},null,null,null,null,null,null,null,null,null,null,null,null,null,null,null,null,null,null,null,null,null,1,1]
[null,null,"NTP:",null,0,null,null,null,null,null,null,null,"NTP:"]
[null,null,"Řad \"A\" TLT DN80 (částečně souběh s kanalizací) / (průměrná hloubka výkopů 1,70 m):(43,50+20,70)*2+0,90*2",null,130.19999999999999,null,null,null,null,null,null,null,"Řad \"A\" TLT DN80 (částečně souběh s kanalizací) / (průměrná hloubka výkopů 1,70 m):(43,50+20,70)*2+0,90*2"]
[null,null,"Řad \"B\" TLT DN80 (souběh s kanalizací) / (půměrná hloubka výkopů 1,75 m):0,90*1",null,0.9,null,null,null,null,null,null,null,"Řad \"B\" TLT DN80 (souběh s kanalizací) / (půměrná hloubka výkopů 1,75 m):0,90*1"]
[null,null,"Řad \"C\" TLT DN80 (průměrná hloubka výkopů 1,65 m):11,90*2+1,00*2",null,25.8,null,null,null,null,null,null,null,"Řad \"C\" TLT DN80 (průměrná hloubka výkopů 1,65 m):11,90*2+1,00*2"]
[null,null,"VTP:",null,0,null,null,null,null,null,null,null,"VTP:"]
[null,null,"Řad \"B\" PE D90x8,2 mm (půměrná hloubka výkopů 1,70 m):4,00*2",null,8,null,null,null,null,null,null,null,"Řad \"B\" PE D90x8,2 mm (půměrná hloubka výkopů 1,70 m):4,00*2"]
[null,null,"Řad \"C\" PE D90x8,2 mm (půměrná hloubka výkopů 1,70 m):4,00*2",null,8,null,null,null,null,null,null,null,"Řad \"C\" PE D90x8,2 mm (půměrná hloubka výkopů 1,70 m):4,00*2"]
[19,"969011131RRX","Vybourání vodovod., plynového vedení DN do 125 mm ","m",72,null,{"$f":"E226*F226","v":0},3.8000000000000002E-4,{"$f":"E226*H226","v":2.7360000000000002E-2},-3.6999999999999998E-2,{"$f":"E226*J226","v":-2.6639999999999997},null,null,null,2,null,null,null,null,null,null,null,null,null,null,null,1,1,1,null,null,null,null,null,null,null,null,null,null,null,null,null,null,null,null,null,null,null,null,null,null,1,{"$f":"IF(AZ226=1,G226,0)","v":0},{"$f":"IF(AZ226=2,G226,0)","v":0},{"$f":"IF(AZ226=3,G226,0)","v":0},{"$f":"IF(AZ226=4,G226,0)","v":0},{"$f":"IF(AZ226=5,G226,0)","v":0},null,null,null,null,null,null,null,null,null,null,null,null,null,null,null,null,null,null,null,null,null,1,1]
[null,null,"Položka obsahuje odstranění materiálu obklopujícího potrubí v míře nutné pro vyzvednutí, rozpojení trub, uchopení a vyzvednutí trub z výkopu včetně všech znaků a armatur a uložení na dopravní prostředek včetně odvozu na skládku zhotovitele a poplatek za skládku.",null,null,null,null,null,null,null,null,"Položka obsahuje odstranění materiálu obklopujícího potrubí v míře nutné pro vyzvednutí, rozpojení trub, uchopení a vyzvednutí trub z výkopu včetně všech znaků a armatur a uložení na dopravní prostředek včetně odvozu na skládku zhotovitele a poplatek za skládku.",null,null,3]
[20,"979082113RSZ","Vodorovná doprava suti po suchu na skládku zhotovitele","t",184.23679999999999,null,{"$f":"E228*F228","v":0},0,{"$f":"E228*H228","v":0},0,{"$f":"E228*J228","v":0},null,null,null,2,null,null,null,null,null,null,null,null,null,null,null,1,1,1,null,null,null,null,null,null,null,null,null,null,null,null,null,null,null,null,null,null,null,null,null,null,1,{"$f":"IF(AZ228=1,G228,0)","v":0},{"$f":"IF(AZ228=2,G228,0)","v":0},{"$f":"IF(AZ228=3,G228,0)","v":0},{"$f":"IF(AZ228=4,G228,0)","v":0},{"$f":"IF(AZ228=5,G228,0)","v":0},null,null,null,null,null,null,null,null,null,null,null,null,null,null,null,null,null,null,null,null,null,1,1]
[21,"979089001R00","Poplatek za skládku stavební suti štěrky z komunikací, skupina odpadu 010408","t",115.148,null,{"$f":"E229*F229","v":0},0,{"$f":"E229*H229","v":0},0,{"$f":"E229*J229","v":0},null,null,null,2,null,null,null,null,null,null,null,null,null,null,null,1,1,1,null,null,null,null,null,null,null,null,null,null,null,null,null,null,null,null,null,null,null,null,null,null,1,{"$f":"IF(AZ229=1,G229,0)","v":0},{"$f":"IF(AZ229=2,G229,0)","v":0},{"$f":"IF(AZ229=3,G229,0)","v":0},{"$f":"IF(AZ229=4,G229,0)","v":0},{"$f":"IF(AZ229=5,G229,0)","v":0},null,null,null,null,null,null,null,null,null,null,null,null,null,null,null,null,null,null,null,null,null,1,1]
[22,"979999995R00","Poplatek za reciklaci asfaltu, kusovost do 1600cm2 skupina 170302","t",69.088800000000006,null,{"$f":"E230*F230","v":0},0,{"$f":"E230*H230","v":0},0,{"$f":"E230*J230","v":0},null,null,null,2,null,null,null,null,null,null,null,null,null,null,null,1,1,1,null,null,null,null,null,null,null,null,null,null,null,null,null,null,null,null,null,null,null,null,null,null,1,{"$f":"IF(AZ230=1,G230,0)","v":0},{"$f":"IF(AZ230=2,G230,0)","v":0},{"$f":"IF(AZ230=3,G230,0)","v":0},{"$f":"IF(AZ230=4,G230,0)","v":0},{"$f":"IF(AZ230=5,G230,0)","v":0},null,null,null,null,null,null,null,null,null,null,null,null,null,null,null,null,null,null,null,null,null,1,1]
[null,null,"Položka je určena pro suť o velikosti kusu do 30x30 cm nebo frézovaný asfalt(technologický materiál určený k recyklaci).",null,null,null,null,null,null,null,null,"Položka je určena pro suť o velikosti kusu do 30x30 cm nebo frézovaný asfalt(technologický materiál určený k recyklaci).",null,null,3]
[23,"58337308R","Štěrkopísek frakce 0-2 tř.B","t",213.06620000000001,null,{"$f":"E232*F232","v":0},1,{"$f":"E232*H232","v":213.06620000000001},null,{"$f":"E232*J232","v":0},null,null,null,2,null,null,null,null,null,null,null,null,null,null,null,3,1,"58337308R",null,null,null,null,null,null,null,null,null,null,null,null,null,null,null,null,null,null,null,null,null,null,1,{"$f":"IF(AZ232=1,G232,0)","v":0},{"$f":"IF(AZ232=2,G232,0)","v":0},{"$f":"IF(AZ232=3,G232,0)","v":0},{"$f":"IF(AZ232=4,G232,0)","v":0},{"$f":"IF(AZ232=5,G232,0)","v":0},null,null,null,null,null,null,null,null,null,null,null,null,null,null,null,null,null,null,null,null,null,3,1]
[null,null,"Začátek provozního součtu",null,0,null,null,null,null,null,null,null,"Začátek provozního součtu"]
[null,null,"NTP:",null,0,null,null,null,null,null,null,null,"NTP:"]
[null,null,"Řad \"A\" TLT DN80 (částečně souběh s kanalizací) / (průměrná hloubka výkopů 1,70 m):174,30*(0,90*(0,08+0,30)-0,04^2*Pi)",null,58.734499999999997,null,null,null,null,null,null,null,"Řad \"A\" TLT DN80 (částečně souběh s kanalizací) / (průměrná hloubka výkopů 1,70 m):174,30*(0,90*(0,08+0,30)-0,04^2*Pi)"]
[null,null,"Řad \"B\" TLT DN80 (souběh s kanalizací) / (půměrná hloubka výkopů 1,75 m):37,10*(0,90*(0,08+0,30)-0,04^2*Pi)",null,12.5017,null,null,null,null,null,null,null,"Řad \"B\" TLT DN80 (souběh s kanalizací) / (půměrná hloubka výkopů 1,75 m):37,10*(0,90*(0,08+0,30)-0,04^2*Pi)"]
[null,null,"Řad \"C\" TLT DN80 (průměrná hloubka výkopů 1,65 m):11,90*(1,00*(0,08+0,30)-0,04^2*Pi)",null,4.4622000000000002,null,null,null,null,null,null,null,"Řad \"C\" TLT DN80 (průměrná hloubka výkopů 1,65 m):11,90*(1,00*(0,08+0,30)-0,04^2*Pi)"]
[null,null,"VTP:",null,0,null,null,null,null,null,null,null,"VTP:"]
[null,null,"Řad \"B\" PE D90x8,2 mm (půměrná hloubka výkopů 1,70 m):41,00*(0,90*(0,09+0,30)-0,045^2*Pi)",null,14.1302,null,null,null,null,null,null,null,"Řad \"B\" PE D90x8,2 mm (půměrná hloubka výkopů 1,70 m):41,00*(0,90*(0,09+0,30)-0,045^2*Pi)"]
[null,null,"Řad \"C\" PE D90x8,2 mm (půměrná hloubka výkopů 1,70 m):52,70*(0,90*(0,09+0,30)-0,045^2*Pi)",null,18.162400000000002,null,null,null,null,null,null,null,"Řad \"C\" PE D90x8,2 mm (půměrná hloubka výkopů 1,70 m):52,70*(0,90*(0,09+0,30)-0,045^2*Pi)"]
[null,null,"Konec provozního součtu",null,107.991,null,null,null,null,null,null,null,"Konec provozního součtu"]
[null,null,"107,9910*1,973",null,213.06620000000001,null,null,null,null,null,null,null,"107,9910*1,973"]
[24,"58344197R","Štěrkodrtě frakce 0-63 A","t",323.42529999999999,null,{"$f":"E243*F243","v":0},1,{"$f":"E243*H243","v":323.42529999999999},null,{"$f":"E243*J243","v":0},null,null,null,2,null,null,null,null,null,null,null,null,null,null,null,3,1,"58344197R",null,null,null,null,null,null,null,null,null,null,null,null,null,null,null,null,null,null,null,null,null,null,1,{"$f":"IF(AZ243=1,G243,0)","v":0},{"$f":"IF(AZ243=2,G243,0)","v":0},{"$f":"IF(AZ243=3,G243,0)","v":0},{"$f":"IF(AZ243=4,G243,0)","v":0},{"$f":"IF(AZ243=5,G243,0)","v":0},null,null,null,null,null,null,null,null,null,null,null,null,null,null,null,null,null,null,null,null,null,3,1]
[null,null,"Zásyp štěrkodrtí fr. 0-63 mm:172,6777*1,873",null,323.42529999999999,null,null,null,null,null,null,null,"Zásyp štěrkodrtí fr. 0-63 mm:172,6777*1,873"]
[null,null,"Začátek provozního součtu",null,0,null,null,null,null,null,null,null,"Začátek provozního součtu"]
[null,null,"Výkopy:",null,0,null,null,null,null,null,null,null,"Výkopy:"]
[null,null,"NTP:",null,0,null,null,null,null,null,null,null,"NTP:"]
[null,null,"Řad \"A\" TLT DN80 (částečně souběh s kanalizací) / (průměrná hloubka výkopů 1,70 m):174,30*0,90*1,70",null,266.67899999999997,null,null,null,null,null,null,null,"Řad \"A\" TLT DN80 (částečně souběh s kanalizací) / (průměrná hloubka výkopů 1,70 m):174,30*0,90*1,70"]
[null,null,"Odpočet objemu konstrukce komunikací:-174,30*0,90*0,40",null,-62.747999999999998,null,null,null,null,null,null,null,"Odpočet objemu konstrukce komunikací:-174,30*0,90*0,40"]
[null,null,"Odpočet lože, potrubí a obsypů:-174,30*0,90*(0,10+0,08+0,30)",null,-75.297600000000003,null,null,null,null,null,null,null,"Odpočet lože, potrubí a obsypů:-174,30*0,90*(0,10+0,08+0,30)"]
[null,null,"Řad \"B\" TLT DN80 (souběh s kanalizací) / (půměrná hloubka výkopů 1,75 m):37,10*0,90*1,75",null,58.432499999999997,null,null,null,null,null,null,null,"Řad \"B\" TLT DN80 (souběh s kanalizací) / (půměrná hloubka výkopů 1,75 m):37,10*0,90*1,75"]
[null,null,"Odpočet objemu konstrukce komunikací:-37,10*0,90*0,40",null,-13.356,null,null,null,null,null,null,null,"Odpočet objemu konstrukce komunikací:-37,10*0,90*0,40"]
[null,null,"Odpočet lože, potrubí a obsypů:-37,100*0,90*(0,10+0,08+0,30)",null,-16.027200000000001,null,null,null,null,null,null,null,"Odpočet lože, potrubí a obsypů:-37,100*0,90*(0,10+0,08+0,30)"]
[null,null,"Řad \"C\" TLT DN80 (průměrná hloubka výkopů 1,65 m):11,90*1,00*1,65",null,19.635000000000002,null,null,null,null,null,null,null,"Řad \"C\" TLT DN80 (průměrná hloubka výkopů 1,65 m):11,90*1,00*1,65"]
[null,null,"Odpočet objemu konstrukce komunikací:-11,90*1,00*0,40",null,-4.76,null,null,null,null,null,null,null,"Odpočet objemu konstrukce komunikací:-11,90*1,00*0,40"]
[null,null,"Odpočet lože, potrubí a obsypů:-11,90*1,00*(0,10+0,08+0,30)",null,-5.7119999999999997,null,null,null,null,null,null,null,"Odpočet lože, potrubí a obsypů:-11,90*1,00*(0,10+0,08+0,30)"]
[null,null,"VTP:",null,0,null,null,null,null,null,null,null,"VTP:"]
[null,null,"Řad \"B\" PE D90x8,2 mm (půměrná hloubka výkopů 1,70 m):4,00*0,90*1,70",null,6.12,null,null,null,null,null,null,null,"Řad \"B\" PE D90x8,2 mm (půměrná hloubka výkopů 1,70 m):4,00*0,90*1,70"]
[null,null,"Odpočet objemu konstrukce komunikací:-4,00*0,90*0,40",null,-1.44,null,null,null,null,null,null,null,"Odpočet objemu konstrukce komunikací:-4,00*0,90*0,40"]
[null,null,"Odpočet lože, potrubí a obsypů:-4,00*0,90*(0,10+0,09+0,30)",null,-1.764,null,null,null,null,null,null,null,"Odpočet lože, potrubí a obsypů:-4,00*0,90*(0,10+0,09+0,30)"]
[null,null,"Řad \"C\" PE D90x8,2 mm (půměrná hloubka výkopů 1,70 m):4,00*0,90*1,70",null,6.12,null,null,null,null,null,null,null,"Řad \"C\" PE D90x8,2 mm (půměrná hloubka výkopů 1,70 m):4,00*0,90*1,70"]
[null,null,"Odpočet objemu konstrukce komunikací:-4,00*0,90*0,40",null,-1.44,null,null,null,null,null,null,null,"Odpočet objemu konstrukce komunikací:-4,00*0,90*0,40"]
[null,null,"Odpočet lože, potrubí a obsypů:-4,00*0,90*(0,10+0,09+0,30)",null,-1.764,null,null,null,null,null,null,null,"Odpočet lože, potrubí a obsypů:-4,00*0,90*(0,10+0,09+0,30)"]
[null,null,"Konec provozního součtu",null,172.67770000000002,null,null,null,null,null,null,null,"Konec provozního součtu"]
[null,"Celkem za","1 Zemní práce",null,null,null,{"$f":"SUM(G7:G264)","v":0},null,{"$f":"SUM(I7:I264)","v":537.90199370000005},null,{"$f":"SUM(K7:K264)","v":-186.9008},null,null,null,4,null,null,null,null,null,null,null,null,null,null,null,null,null,null,null,null,null,null,null,null,null,null,null,null,null,null,null,null,null,null,null,null,null,null,null,null,null,{"$f":"SUM(BA7:BA264)","v":0},{"$f":"SUM(BB7:BB264)","v":0},{"$f":"SUM(BC7:BC264)","v":0},{"$f":"SUM(BD7:BD264)","v":0},{"$f":"SUM(BE7:BE264)","v":0}]
["Díl:","45","Podkladní a vedlejší konstrukce",null,null,null,null,null,null,null,null,null,null,null,1]
[25,"451572111R00","Lože pod potrubí z kameniva těženého 0 - 4 mm ","m3",28.649000000000001,null,{"$f":"E267*F267","v":0},1.873,{"$f":"E267*H267","v":53.659576999999999},0,{"$f":"E267*J267","v":0},null,null,null,2,null,null,null,null,null,null,null,null,null,null,null,1,1,1,null,null,null,null,null,null,null,null,null,null,null,null,null,null,null,null,null,null,null,null,null,null,1,{"$f":"IF(AZ267=1,G267,0)","v":0},{"$f":"IF(AZ267=2,G267,0)","v":0},{"$f":"IF(AZ267=3,G267,0)","v":0},{"$f":"IF(AZ267=4,G267,0)","v":0},{"$f":"IF(AZ267=5,G267,0)","v":0},null,null,null,null,null,null,null,null,null,null,null,null,null,null,null,null,null,null,null,null,null,1,1]
[null,null,"NTP:",null,0,null,null,null,null,null,null,null,"NTP:"]
[null,null,"Řad \"A\" TLT DN80 (částečně souběh s kanalizací) / (průměrná hloubka výkopů 1,70 m):174,30*0,90*0,10",null,15.686999999999999,null,null,null,null,null,null,null,"Řad \"A\" TLT DN80 (částečně souběh s kanalizací) / (průměrná hloubka výkopů 1,70 m):174,30*0,90*0,10"]
[null,null,"Řad \"B\" TLT DN80 (souběh s kanalizací) / (půměrná hloubka výkopů 1,75 m):37,10*0,90*0,10",null,3.339,null,null,null,null,null,null,null,"Řad \"B\" TLT DN80 (souběh s kanalizací) / (půměrná hloubka výkopů 1,75 m):37,10*0,90*0,10"]
[null,null,"Řad \"C\" TLT DN80 (průměrná hloubka výkopů 1,65 m):11,90*1,00*0,10",null,1.19,null,null,null,null,null,null,null,"Řad \"C\" TLT DN80 (průměrná hloubka výkopů 1,65 m):11,90*1,00*0,10"]
[null,null,"VTP:",null,0,null,null,null,null,null,null,null,"VTP:"]
[null,null,"Řad \"B\" PE D90x8,2 mm (půměrná hloubka výkopů 1,70 m):41,00*0,90*0,10",null,3.69,null,null,null,null,null,null,null,"Řad \"B\" PE D90x8,2 mm (půměrná hloubka výkopů 1,70 m):41,00*0,90*0,10"]
[null,null,"Řad \"C\" PE D90x8,2 mm (půměrná hloubka výkopů 1,70 m):52,70*0,90*0,10",null,4.7430000000000003,null,null,null,null,null,null,null,"Řad \"C\" PE D90x8,2 mm (půměrná hloubka výkopů 1,70 m):52,70*0,90*0,10"]
[26,"452313141R00","Bloky pro potrubí z betonu C 16/20 vč. bednění ","m3",2.61,null,{"$f":"E275*F275","v":0},2.5,{"$f":"E275*H275","v":6.5249999999999995},0,{"$f":"E275*J275","v":0},null,null,null,2,null,null,null,null,null,null,null,null,null,null,null,1,1,1,null,null,null,null,null,null,null,null,null,null,null,null,null,null,null,null,null,null,null,null,null,null,1,{"$f":"IF(AZ275=1,G275,0)","v":0},{"$f":"IF(AZ275=2,G275,0)","v":0},{"$f":"IF(AZ275=3,G275,0)","v":0},{"$f":"IF(AZ275=4,G275,0)","v":0},{"$f":"IF(AZ275=5,G275,0)","v":0},null,null,null,null,null,null,null,null,null,null,null,null,null,null,null,null,null,null,null,null,null,1,1]
[null,"Celkem za","45 Podkladní a vedlejší konstrukce",null,null,null,{"$f":"SUM(G266:G275)","v":0},null,{"$f":"SUM(I266:I275)","v":60.184576999999997},null,{"$f":"SUM(K266:K275)","v":0},null,null,null,4,null,null,null,null,null,null,null,null,null,null,null,null,null,null,null,null,null,null,null,null,null,null,null,null,null,null,null,null,null,null,null,null,null,null,null,null,null,{"$f":"SUM(BA266:BA275)","v":0},{"$f":"SUM(BB266:BB275)","v":0},{"$f":"SUM(BC266:BC275)","v":0},{"$f":"SUM(BD266:BD275)","v":0},{"$f":"SUM(BE266:BE275)","v":0}]
["Díl:","5","Komunikace",null,null,null,null,null,null,null,null,null,null,null,1]
[27,"566903111R00","Vyspravení podkladu po překopech kam.hrubě drceným ","t",98.032799999999995,null,{"$f":"E278*F278","v":0},1.1000000000000001,{"$f":"E278*H278","v":107.83608000000001},0,{"$f":"E278*J278","v":0},null,null,null,2,null,null,null,null,null,null,null,null,null,null,null,1,1,1,null,null,null,null,null,null,null,null,null,null,null,null,null,null,null,null,null,null,null,null,null,null,1,{"$f":"IF(AZ278=1,G278,0)","v":0},{"$f":"IF(AZ278=2,G278,0)","v":0},{"$f":"IF(AZ278=3,G278,0)","v":0},{"$f":"IF(AZ278=4,G278,0)","v":0},{"$f":"IF(AZ278=5,G278,0)","v":0},null,null,null,null,null,null,null,null,null,null,null,null,null,null,null,null,null,null,null,null,null,1,1]
[null,null,"NTP:",null,0,null,null,null,null,null,null,null,"NTP:"]
[null,null,"Řad \"A\" TLT DN80 (částečně souběh s kanalizací) / (průměrná hloubka výkopů 1,70 m):",null,0,null,null,null,null,null,null,null,"Řad \"A\" TLT DN80 (částečně souběh s kanalizací) / (průměrná hloubka výkopů 1,70 m):"]
[null,null,"Objem konstrukce komunikací:174,30*0,90*0,25*1,873",null,73.454400000000007,null,null,null,null,null,null,null,"Objem konstrukce komunikací:174,30*0,90*0,25*1,873"]
[null,null,"Řad \"B\" TLT DN80 (souběh s kanalizací) / (půměrná hloubka výkopů 1,75 m):",null,0,null,null,null,null,null,null,null,"Řad \"B\" TLT DN80 (souběh s kanalizací) / (půměrná hloubka výkopů 1,75 m):"]
[null,null,"Objem konstrukce komunikací:37,10*0,90*0,25*1,873",null,15.6349,null,null,null,null,null,null,null,"Objem konstrukce komunikací:37,10*0,90*0,25*1,873"]
[null,null,"Řad \"C\" TLT DN80 (průměrná hloubka výkopů 1,65 m):",null,0,null,null,null,null,null,null,null,"Řad \"C\" TLT DN80 (průměrná hloubka výkopů 1,65 m):"]
[null,null,"Objem konstrukce komunikací:11,90*1,00*0,25*1,873",null,5.5721999999999996,null,null,null,null,null,null,null,"Objem konstrukce komunikací:11,90*1,00*0,25*1,873"]
[null,null,"VTP:",null,0,null,null,null,null,null,null,null,"VTP:"]
[null,null,"Řad \"B\" PE D90x8,2 mm (půměrná hloubka výkopů 1,70 m):",null,0,null,null,null,null,null,null,null,"Řad \"B\" PE D90x8,2 mm (půměrná hloubka výkopů 1,70 m):"]
[null,null,"Objem konstrukce komunikací:4,00*0,90*0,25*1,873",null,1.6857,null,null,null,null,null,null,null,"Objem konstrukce komunikací:4,00*0,90*0,25*1,873"]
[null,null,"Řad \"C\" PE D90x8,2 mm (půměrná hloubka výkopů 1,70 m):",null,0,null,null,null,null,null,null,null,"Řad \"C\" PE D90x8,2 mm (půměrná hloubka výkopů 1,70 m):"]
[null,null,"Objem konstrukce komunikací:4,00*0,90*0,25*1,873",null,1.6857,null,null,null,null,null,null,null,"Objem konstrukce komunikací:4,00*0,90*0,25*1,873"]
[28,"566904111R00","Vyspravení podkladu po překopech kam.obal.asfaltem ","t",78.510000000000005,null,{"$f":"E291*F291","v":0},1,{"$f":"E291*H291","v":78.510000000000005},0,{"$f":"E291*J291","v":0},null,null,null,2,null,null,null,null,null,null,null,null,null,null,null,1,1,1,null,null,null,null,null,null,null,null,null,null,null,null,null,null,null,null,null,null,null,null,null,null,1,{"$f":"IF(AZ291=1,G291,0)","v":0},{"$f":"IF(AZ291=2,G291,0)","v":0},{"$f":"IF(AZ291=3,G291,0)","v":0},{"$f":"IF(AZ291=4,G291,0)","v":0},{"$f":"IF(AZ291=5,G291,0)","v":0},null,null,null,null,null,null,null,null,null,null,null,null,null,null,null,null,null,null,null,null,null,1,1]
[null,null,"NTP:",null,0,null,null,null,null,null,null,null,"NTP:"]
[null,null,"Řad \"A\" TLT DN80 (částečně souběh s kanalizací) / (průměrná hloubka výkopů 1,70 m):",null,0,null,null,null,null,null,null,null,"Řad \"A\" TLT DN80 (částečně souběh s kanalizací) / (průměrná hloubka výkopů 1,70 m):"]
[null,null,"Objem konstrukce komunikací:174,30*0,90*0,15*2,5",null,58.826300000000003,null,null,null,null,null,null,null,"Objem konstrukce komunikací:174,30*0,90*0,15*2,5"]
[null,null,"Řad \"B\" TLT DN80 (souběh s kanalizací) / (půměrná hloubka výkopů 1,75 m):",null,0,null,null,null,null,null,null,null,"Řad \"B\" TLT DN80 (souběh s kanalizací) / (půměrná hloubka výkopů 1,75 m):"]
[null,null,"Objem konstrukce komunikací:37,10*0,90*0,15*2,5",null,12.5213,null,null,null,null,null,null,null,"Objem konstrukce komunikací:37,10*0,90*0,15*2,5"]
[null,null,"Řad \"C\" TLT DN80 (průměrná hloubka výkopů 1,65 m):",null,0,null,null,null,null,null,null,null,"Řad \"C\" TLT DN80 (průměrná hloubka výkopů 1,65 m):"]
[null,null,"Objem konstrukce komunikací:11,90*1,00*0,15*2,5",null,4.4625000000000004,null,null,null,null,null,null,null,"Objem konstrukce komunikací:11,90*1,00*0,15*2,5"]
[null,null,"VTP:",null,0,null,null,null,null,null,null,null,"VTP:"]
[null,null,"Řad \"B\" PE D90x8,2 mm (půměrná hloubka výkopů 1,70 m):",null,0,null,null,null,null,null,null,null,"Řad \"B\" PE D90x8,2 mm (půměrná hloubka výkopů 1,70 m):"]
[null,null,"Objem konstrukce komunikací:4,00*0,90*0,15*2,5",null,1.35,null,null,null,null,null,null,null,"Objem konstrukce komunikací:4,00*0,90*0,15*2,5"]
[null,null,"Řad \"C\" PE D90x8,2 mm (půměrná hloubka výkopů 1,70 m):",null,0,null,null,null,null,null,null,null,"Řad \"C\" PE D90x8,2 mm (půměrná hloubka výkopů 1,70 m):"]
[null,null,"Objem konstrukce komunikací:4,00*0,90*0,15*2,5",null,1.35,null,null,null,null,null,null,null,"Objem konstrukce komunikací:4,00*0,90*0,15*2,5"]
[null,"Celkem za","5 Komunikace",null,null,null,{"$f":"SUM(G277:G303)","v":0},null,{"$f":"SUM(I277:I303)","v":186.34608000000003},null,{"$f":"SUM(K277:K303)","v":0},null,null,null,4,null,null,null,null,null,null,null,null,null,null,null,null,null,null,null,null,null,null,null,null,null,null,null,null,null,null,null,null,null,null,null,null,null,null,null,null,null,{"$f":"SUM(BA277:BA303)","v":0},{"$f":"SUM(BB277:BB303)","v":0},{"$f":"SUM(BC277:BC303)","v":0},{"$f":"SUM(BD277:BD303)","v":0},{"$f":"SUM(BE277:BE303)","v":0}]
["Díl:","8","Trubní vedení",null,null,null,null,null,null,null,null,null,null,null,1]
[29,"850245121R00","Výřez nebo výsek na potrubí litinovém DN 80 ","kus",3,null,{"$f":"E306*F306","v":0},0,{"$f":"E306*H306","v":0},0,{"$f":"E306*J306","v":0},null,null,null,2,null,null,null,null,null,null,null,null,null,null,null,1,1,1,null,null,null,null,null,null,null,null,null,null,null,null,null,null,null,null,null,null,null,null,null,null,1,{"$f":"IF(AZ306=1,G306,0)","v":0},{"$f":"IF(AZ306=2,G306,0)","v":0},{"$f":"IF(AZ306=3,G306,0)","v":0},{"$f":"IF(AZ306=4,G306,0)","v":0},{"$f":"IF(AZ306=5,G306,0)","v":0},null,null,null,null,null,null,null,null,null,null,null,null,null,null,null,null,null,null,null,null,null,1,1]
[null,null,"Položky výřezu nebo výseku na potrubí z trub litinových tlakových jsou určeny pro dva řezy nebo seky prováděné na potrubí dodatečně. V položkách jsou zakalkulovány náklady na",null,null,null,null,null,null,null,null,"Položky výřezu nebo výseku na potrubí z trub litinových tlakových jsou určeny pro dva řezy nebo seky prováděné na potrubí dodatečně. V položkách jsou zakalkulovány náklady na",null,null,3]
[null,null,"- ohlášení uzavírání vody",null,null,null,null,null,null,null,null,"- ohlášení uzavírání vody",null,null,3]
[null,null,"- uzavření a otevření šoupat",null,null,null,null,null,null,null,null,"- uzavření a otevření šoupat",null,null,3]
[null,null,"- vypuštění a napuštění vody",null,null,null,null,null,null,null,null,"- vypuštění a napuštění vody",null,null,3]
[null,null,"- odvzdušnění potrubí",null,null,null,null,null,null,null,null,"- odvzdušnění potrubí",null,null,3]
[null,null,"- strojní nebo ruční výřez potrubí",null,null,null,null,null,null,null,null,"- strojní nebo ruční výřez potrubí",null,null,3]
[null,null,"- nutné úpravy výkopu v prostoru provádění",null,null,null,null,null,null,null,null,"- nutné úpravy výkopu v prostoru provádění",null,null,3]
[null,null,"- montáž tvarovky",null,null,null,null,null,null,null,null,"- montáž tvarovky",null,null,3]
[null,null,"Propoj na TLT DN60:2",null,2,null,null,null,null,null,null,null,"Propoj na TLT DN60:2"]
[null,null,"Propoj na TLT DN80:1",null,1,null,null,null,null,null,null,null,"Propoj na TLT DN80:1"]
[30,"850265121R00","Výřez nebo výsek na potrubí litinovém DN 100 ","kus",1,null,{"$f":"E317*F317","v":0},0,{"$f":"E317*H317","v":0},0,{"$f":"E317*J317","v":0},null,null,null,2,null,null,null,null,null,null,null,null,null,null,null,1,1,1,null,null,null,null,null,null,null,null,null,null,null,null,null,null,null,null,null,null,null,null,null,null,1,{"$f":"IF(AZ317=1,G317,0)","v":0},{"$f":"IF(AZ317=2,G317,0)","v":0},{"$f":"IF(AZ317=3,G317,0)","v":0},{"$f":"IF(AZ317=4,G317,0)","v":0},{"$f":"IF(AZ317=5,G317,0)","v":0},null,null,null,null,null,null,null,null,null,null,null,null,null,null,null,null,null,null,null,null,null,1,1]
[null,null,"Položky výřezu nebo výseku na potrubí z trub litinových tlakových jsou určeny pro dva řezy nebo seky prováděné na potrubí dodatečně. V položkách jsou zakalkulovány náklady na",null,null,null,null,null,null,null,null,"Položky výřezu nebo výseku na potrubí z trub litinových tlakových jsou určeny pro dva řezy nebo seky prováděné na potrubí dodatečně. V položkách jsou zakalkulovány náklady na",null,null,3]
[null,null,"- ohlášení uzavírání vody",null,null,null,null,null,null,null,null,"- ohlášení uzavírání vody",null,null,3]
[null,null,"- uzavření a otevření šoupat",null,null,null,null,null,null,null,null,"- uzavření a otevření šoupat",null,null,3]
[null,null,"- vypuštění a napuštění vody",null,null,null,null,null,null,null,null,"- vypuštění a napuštění vody",null,null,3]
[null,null,"- odvzdušnění potrubí",null,null,null,null,null,null,null,null,"- odvzdušnění potrubí",null,null,3]
[null,null,"- strojní nebo ruční výřez potrubí",null,null,null,null,null,null,null,null,"- strojní nebo ruční výřez potrubí",null,null,3]
[null,null,"- nutné úpravy výkopu v prostoru provádění",null,null,null,null,null,null,null,null,"- nutné úpravy výkopu v prostoru provádění",null,null,3]
[null,null,"- montáž tvarovky",null,null,null,null,null,null,null,null,"- montáž tvarovky",null,null,3]
[null,null,"Propoj na TLT DN100:1",null,1,null,null,null,null,null,null,null,"Propoj na TLT DN100:1"]
[31,"851601101R00","Montáž potrubí tlakového tvárná litina DN 80 ","m",223.3,null,{"$f":"E327*F327","v":0},0,{"$f":"E327*H327","v":0},0,{"$f":"E327*J327","v":0},null,null,null,2,null,null,null,null,null,null,null,null,null,null,null,1,1,1,null,null,null,null,null,null,null,null,null,null,null,null,null,null,null,null,null,null,null,null,null,null,1,{"$f":"IF(AZ327=1,G327,0)","v":0},{"$f":"IF(AZ327=2,G327,0)","v":0},{"$f":"IF(AZ327=3,G327,0)","v":0},{"$f":"IF(AZ327=4,G327,0)","v":0},{"$f":"IF(AZ327=5,G327,0)","v":0},null,null,null,null,null,null,null,null,null,null,null,null,null,null,null,null,null,null,null,null,null,1,1]
[null,null,"Položka je určena pro montáž potrubí hrdlového s pružnými spoji, ve výkopu. Pro blokované spoje se cena zvýší o 15 - 20 %. V položce nejsou zakalkulovány náklady na dodávku trub; trouby a spojovací materiál se oceňuje ve specifikaci",null,null,null,null,null,null,null,null,"Položka je určena pro montáž potrubí hrdlového s pružnými spoji, ve výkopu. Pro blokované spoje se cena zvýší o 15 - 20 %. V položce nejsou zakalkulovány náklady na dodávku trub; trouby a spojovací materiál se oceňuje ve specifikaci",null,null,3]
[null,null,"NTP:",null,0,null,null,null,null,null,null,null,"NTP:"]
[null,null,"Řad \"A\" TLT DN80:174,30",null,174.3,null,null,null,null,null,null,null,"Řad \"A\" TLT DN80:174,30"]
[null,null,"Řad \"B\" TLT DN80:37,10",null,37.1,null,null,null,null,null,null,null,"Řad \"B\" TLT DN80:37,10"]
[null,null,"Řad \"C\" TLT DN80:11,90",null,11.9,null,null,null,null,null,null,null,"Řad \"C\" TLT DN80:11,90"]
[32,"857242121R00","Montáž tvarovek litin. jednoos.přír. výkop DN 80 včetně nerezových spoj. prvků a obandážování spoje","kus",18,null,{"$f":"E333*F333","v":0},2.2000000000000001E-4,{"$f":"E333*H333","v":3.96E-3},0,{"$f":"E333*J333","v":0},null,null,null,2,null,null,null,null,null,null,null,null,null,null,null,1,1,1,null,null,null,null,null,null,null,null,null,null,null,null,null,null,null,null,null,null,null,null,null,null,1,{"$f":"IF(AZ333=1,G333,0)","v":0},{"$f":"IF(AZ333=2,G333,0)","v":0},{"$f":"IF(AZ333=3,G333,0)","v":0},{"$f":"IF(AZ333=4,G333,0)","v":0},{"$f":"IF(AZ333=5,G333,0)","v":0},null,null,null,null,null,null,null,null,null,null,null,null,null,null,null,null,null,null,null,null,null,1,1]
[null,null,"Položka je určena pro montáž litinových tvarovek na potrubí litinovém tlakovém přírubovém jednoosých v otevřeném výkopu, v otevřeném kanálu nebo v šachtě.",null,null,null,null,null,null,null,null,"Položka je určena pro montáž litinových tvarovek na potrubí litinovém tlakovém přírubovém jednoosých v otevřeném výkopu, v otevřeném kanálu nebo v šachtě.",null,null,3]
[null,null,"NTP:",null,0,null,null,null,null,null,null,null,"NTP:"]
[null,null,"Řad \"A\" TLT DN80:",null,0,null,null,null,null,null,null,null,"Řad \"A\" TLT DN80:"]
[null,null,"EU DN80:3",null,3,null,null,null,null,null,null,null,"EU DN80:3"]
[null,null,"Řad \"B\" TLT DN80:",null,0,null,null,null,null,null,null,null,"Řad \"B\" TLT DN80:"]
[null,null,"Synoflex s přírubou redukovaný DN80/65:1",null,1,null,null,null,null,null,null,null,"Synoflex s přírubou redukovaný DN80/65:1"]
[null,null,"EU DN80:2",null,2,null,null,null,null,null,null,null,"EU DN80:2"]
[null,null,"XG DN80/2\":2",null,2,null,null,null,null,null,null,null,"XG DN80/2\":2"]
[null,null,"PPL DN80:1",null,1,null,null,null,null,null,null,null,"PPL DN80:1"]
[null,null,"Řad \"C\" TLT DN80:",null,0,null,null,null,null,null,null,null,"Řad \"C\" TLT DN80:"]
[null,null,"Synoflex spojka redukovaný DN80/65:1",null,1,null,null,null,null,null,null,null,"Synoflex spojka redukovaný DN80/65:1"]
[null,null,"VTP:",null,0,null,null,null,null,null,null,null,"VTP:"]
[null,null,"Řad \"B\" PE D90x8,2 mm:",null,0,null,null,null,null,null,null,null,"Řad \"B\" PE D90x8,2 mm:"]
[null,null,"PPL DN80:1",null,1,null,null,null,null,null,null,null,"PPL DN80:1"]
[null,null,"LN+TP D90/DN80:4",null,4,null,null,null,null,null,null,null,"LN+TP D90/DN80:4"]
[null,null,"Řad \"C\" PE D90x8,2 mm:",null,0,null,null,null,null,null,null,null,"Řad \"C\" PE D90x8,2 mm:"]
[null,null,"PPL DN80:1",null,1,null,null,null,null,null,null,null,"PPL DN80:1"]
[null,null,"LN+TP D90/DN80:2",null,2,null,null,null,null,null,null,null,"LN+TP D90/DN80:2"]
[33,"857244121R00","Montáž tvarovek litin. odboč. přír. výkop DN 80 včetně nerezových spoj. prvků a obandážování spoje","kus",3,null,{"$f":"E352*F352","v":0},3.2000000000000003E-4,{"$f":"E352*H352","v":9.6000000000000013E-4},0,{"$f":"E352*J352","v":0},null,null,null,2,null,null,null,null,null,null,null,null,null,null,null,1,1,1,null,null,null,null,null,null,null,null,null,null,null,null,null,null,null,null,null,null,null,null,null,null,1,{"$f":"IF(AZ352=1,G352,0)","v":0},{"$f":"IF(AZ352=2,G352,0)","v":0},{"$f":"IF(AZ352=3,G352,0)","v":0},{"$f":"IF(AZ352=4,G352,0)","v":0},{"$f":"IF(AZ352=5,G352,0)","v":0},null,null,null,null,null,null,null,null,null,null,null,null,null,null,null,null,null,null,null,null,null,1,1]
[null,null,"Položka je určena pro montáž litinových tvarovek na potrubí litinovém tlakovém přírubovém odbočných v otevřeném výkopu, v otevřeném kanálu nebo v šachtě",null,null,null,null,null,null,null,null,"Položka je určena pro montáž litinových tvarovek na potrubí litinovém tlakovém přírubovém odbočných v otevřeném výkopu, v otevřeném kanálu nebo v šachtě",null,null,3]
[null,null,"NTP:",null,0,null,null,null,null,null,null,null,"NTP:"]
[null,null,"Řad \"A\" TLT DN80:",null,0,null,null,null,null,null,null,null,"Řad \"A\" TLT DN80:"]
[null,null,"T DN80/80:1",null,1,null,null,null,null,null,null,null,"T DN80/80:1"]
[null,null,"Řad \"B\" TLT DN80:",null,0,null,null,null,null,null,null,null,"Řad \"B\" TLT DN80:"]
[null,null,"T DN80/80:1",null,1,null,null,null,null,null,null,null,"T DN80/80:1"]
[null,null,"VTP:",null,0,null,null,null,null,null,null,null,"VTP:"]
[null,null,"Řad \"B\" PE D90x8,2 mm:",null,0,null,null,null,null,null,null,null,"Řad \"B\" PE D90x8,2 mm:"]
[null,null,"T DN80/80:1",null,1,null,null,null,null,null,null,null,"T DN80/80:1"]
[34,"857262121R00","Montáž tvarovek litin. jednoos. přír. výkop DN 100 včetně nerezových spoj. prvků a obandážování spoje","kus",2,null,{"$f":"E362*F362","v":0},4.0999999999999999E-4,{"$f":"E362*H362","v":8.1999999999999998E-4},0,{"$f":"E362*J362","v":0},null,null,null,2,null,null,null,null,null,null,null,null,null,null,null,1,1,1,null,null,null,null,null,null,null,null,null,null,null,null,null,null,null,null,null,null,null,null,null,null,1,{"$f":"IF(AZ362=1,G362,0)","v":0},{"$f":"IF(AZ362=2,G362,0)","v":0},{"$f":"IF(AZ362=3,G362,0)","v":0},{"$f":"IF(AZ362=4,G362,0)","v":0},{"$f":"IF(AZ362=5,G362,0)","v":0},null,null,null,null,null,null,null,null,null,null,null,null,null,null,null,null,null,null,null,null,null,1,1]
[null,null,"Položka je určena pro montáž litinových tvarovek na potrubí litinovém tlakovém přírubovém jednoosých v otevřeném výkopu, v otevřeném kanálu nebo v šachtě.",null,null,null,null,null,null,null,null,"Položka je určena pro montáž litinových tvarovek na potrubí litinovém tlakovém přírubovém jednoosých v otevřeném výkopu, v otevřeném kanálu nebo v šachtě.",null,null,3]
[null,null,"NTP:",null,0,null,null,null,null,null,null,null,"NTP:"]
[null,null,"Řad \"A\" TLT DN80:",null,0,null,null,null,null,null,null,null,"Řad \"A\" TLT DN80:"]
[null,null,"Synoflex s přírubou DN100:2",null,2,null,null,null,null,null,null,null,"Synoflex s přírubou DN100:2"]
[35,"857264121R00","Montáž tvarovek litin. odboč. přír. výkop DN 100 včetně nerezových spoj. prvků a obandážování spoje","kus",1,null,{"$f":"E367*F367","v":0},6.2E-4,{"$f":"E367*H367","v":6.2E-4},0,{"$f":"E367*J367","v":0},null,null,null,2,null,null,null,null,null,null,null,null,null,null,null,1,1,1,null,null,null,null,null,null,null,null,null,null,null,null,null,null,null,null,null,null,null,null,null,null,1,{"$f":"IF(AZ367=1,G367,0)","v":0},{"$f":"IF(AZ367=2,G367,0)","v":0},{"$f":"IF(AZ367=3,G367,0)","v":0},{"$f":"IF(AZ367=4,G367,0)","v":0},{"$f":"IF(AZ367=5,G367,0)","v":0},null,null,null,null,null,null,null,null,null,null,null,null,null,null,null,null,null,null,null,null,null,1,1]
[null,null,"Položka je určena pro montáž litinových tvarovek na potrubí litinovém tlakovém přírubovém odbočných v otevřeném výkopu, v otevřeném kanálu nebo v šachtě",null,null,null,null,null,null,null,null,"Položka je určena pro montáž litinových tvarovek na potrubí litinovém tlakovém přírubovém odbočných v otevřeném výkopu, v otevřeném kanálu nebo v šachtě",null,null,3]
[null,null,"NTP:",null,0,null,null,null,null,null,null,null,"NTP:"]
[null,null,"Řad \"A\" TLT DN80:",null,0,null,null,null,null,null,null,null,"Řad \"A\" TLT DN80:"]
[null,null,"T DN100/80:1",null,1,null,null,null,null,null,null,null,"T DN100/80:1"]
[36,"857601101R00","Montáž tvarovek jednoosých, tvárná litina DN 80 ","kus",12,null,{"$f":"E372*F372","v":0},0,{"$f":"E372*H372","v":0},0,{"$f":"E372*J372","v":0},null,null,null,2,null,null,null,null,null,null,null,null,null,null,null,1,1,1,null,null,null,null,null,null,null,null,null,null,null,null,null,null,null,null,null,null,null,null,null,null,1,{"$f":"IF(AZ372=1,G372,0)","v":0},{"$f":"IF(AZ372=2,G372,0)","v":0},{"$f":"IF(AZ372=3,G372,0)","v":0},{"$f":"IF(AZ372=4,G372,0)","v":0},{"$f":"IF(AZ372=5,G372,0)","v":0},null,null,null,null,null,null,null,null,null,null,null,null,null,null,null,null,null,null,null,null,null,1,1]
[null,null,"Položka je určena pro montáž tvarovek jednoosých s pružnými spoji ve výkopu. ",null,null,null,null,null,null,null,null,"Položka je určena pro montáž tvarovek jednoosých s pružnými spoji ve výkopu. ",null,null,3]
[null,null,"NTP:",null,0,null,null,null,null,null,null,null,"NTP:"]
[null,null,"Řad \"A\" TLT DN80:",null,0,null,null,null,null,null,null,null,"Řad \"A\" TLT DN80:"]
[null,null,"MMK DN80/11°:5",null,5,null,null,null,null,null,null,null,"MMK DN80/11°:5"]
[null,null,"MMK DN80/22° :1",null,1,null,null,null,null,null,null,null,"MMK DN80/22° :1"]
[null,null,"MMK DN80/45° :3",null,3,null,null,null,null,null,null,null,"MMK DN80/45° :3"]
[null,null,"Řad \"B\" TLT DN80:",null,0,null,null,null,null,null,null,null,"Řad \"B\" TLT DN80:"]
[null,null,"MMK DN80/11°:1",null,1,null,null,null,null,null,null,null,"MMK DN80/11°:1"]
[null,null,"MMK DN80/22° :2",null,2,null,null,null,null,null,null,null,"MMK DN80/22° :2"]
[37,"871241121R00","Montáž potrubí polyetylenového ve výkopu d 90 mm ","m",93.7,null,{"$f":"E382*F382","v":0},0,{"$f":"E382*H382","v":0},0,{"$f":"E382*J382","v":0},null,null,null,2,null,null,null,null,null,null,null,null,null,null,null,1,1,1,null,null,null,null,null,null,null,null,null,null,null,null,null,null,null,null,null,null,null,null,null,null,1,{"$f":"IF(AZ382=1,G382,0)","v":0},{"$f":"IF(AZ382=2,G382,0)","v":0},{"$f":"IF(AZ382=3,G382,0)","v":0},{"$f":"IF(AZ382=4,G382,0)","v":0},{"$f":"IF(AZ382=5,G382,0)","v":0},null,null,null,null,null,null,null,null,null,null,null,null,null,null,null,null,null,null,null,null,null,1,1]
[null,null,"V položce je uvažováno s jedním spojem na 6 m potrubí.",null,null,null,null,null,null,null,null,"V položce je uvažováno s jedním spojem na 6 m potrubí.",null,null,3]
[null,null,"VTP:",null,0,null,null,null,null,null,null,null,"VTP:"]
[null,null,"Řad \"B\" PE D90x8,2 mm:41,00",null,41,null,null,null,null,null,null,null,"Řad \"B\" PE D90x8,2 mm:41,00"]
[null,null,"Řad \"C\" PE D90x8,2 mm:52,70",null,52.7,null,null,null,null,null,null,null,"Řad \"C\" PE D90x8,2 mm:52,70"]
[38,"877242121R00","Přirážka za 1 spoj elektrotvarovky d 90 mm ","kus",15,null,{"$f":"E387*F387","v":0},0,{"$f":"E387*H387","v":0},0,{"$f":"E387*J387","v":0},null,null,null,2,null,null,null,null,null,null,null,null,null,null,null,1,1,1,null,null,null,null,null,null,null,null,null,null,null,null,null,null,null,null,null,null,null,null,null,null,1,{"$f":"IF(AZ387=1,G387,0)","v":0},{"$f":"IF(AZ387=2,G387,0)","v":0},{"$f":"IF(AZ387=3,G387,0)","v":0},{"$f":"IF(AZ387=4,G387,0)","v":0},{"$f":"IF(AZ387=5,G387,0)","v":0},null,null,null,null,null,null,null,null,null,null,null,null,null,null,null,null,null,null,null,null,null,1,1]
[null,null,"VTP:",null,0,null,null,null,null,null,null,null,"VTP:"]
[null,null,"Řad \"B\" PE D90x8,2 mm:",null,0,null,null,null,null,null,null,null,"Řad \"B\" PE D90x8,2 mm:"]
[null,null,"Elektrospojka D90:8",null,8,null,null,null,null,null,null,null,"Elektrospojka D90:8"]
[null,null,"Řad \"C\" PE D90x8,2 mm:",null,0,null,null,null,null,null,null,null,"Řad \"C\" PE D90x8,2 mm:"]
[null,null,"Elektrospojka D90:5",null,5,null,null,null,null,null,null,null,"Elektrospojka D90:5"]
[null,null,"Elektrokoleno D90/45°:2",null,2,null,null,null,null,null,null,null,"Elektrokoleno D90/45°:2"]
[39,"891163111R00","Montáž ventilů hlavních pro přípojky DN 25 ","kus",5,null,{"$f":"E394*F394","v":0},2.0000000000000002E-5,{"$f":"E394*H394","v":1E-4},0,{"$f":"E394*J394","v":0},null,null,null,2,null,null,null,null,null,null,null,null,null,null,null,1,1,1,null,null,null,null,null,null,null,null,null,null,null,null,null,null,null,null,null,null,null,null,null,null,1,{"$f":"IF(AZ394=1,G394,0)","v":0},{"$f":"IF(AZ394=2,G394,0)","v":0},{"$f":"IF(AZ394=3,G394,0)","v":0},{"$f":"IF(AZ394=4,G394,0)","v":0},{"$f":"IF(AZ394=5,G394,0)","v":0},null,null,null,null,null,null,null,null,null,null,null,null,null,null,null,null,null,null,null,null,null,1,1]
[null,null,"NTP:",null,0,null,null,null,null,null,null,null,"NTP:"]
[null,null,"Řad \"A\" TLT DN80:",null,0,null,null,null,null,null,null,null,"Řad \"A\" TLT DN80:"]
[null,null,"Řad \"B\" TLT DN80:",null,0,null,null,null,null,null,null,null,"Řad \"B\" TLT DN80:"]
[null,null,"VP PE D 32x3,0 mm (5 kusů):5",null,5,null,null,null,null,null,null,null,"VP PE D 32x3,0 mm (5 kusů):5"]
[40,"891173111R00","Montáž ventilů hlavních pro přípojky DN 32 ","kus",1,null,{"$f":"E399*F399","v":0},2.0000000000000002E-5,{"$f":"E399*H399","v":2.0000000000000002E-5},0,{"$f":"E399*J399","v":0},null,null,null,2,null,null,null,null,null,null,null,null,null,null,null,1,1,1,null,null,null,null,null,null,null,null,null,null,null,null,null,null,null,null,null,null,null,null,null,null,1,{"$f":"IF(AZ399=1,G399,0)","v":0},{"$f":"IF(AZ399=2,G399,0)","v":0},{"$f":"IF(AZ399=3,G399,0)","v":0},{"$f":"IF(AZ399=4,G399,0)","v":0},{"$f":"IF(AZ399=5,G399,0)","v":0},null,null,null,null,null,null,null,null,null,null,null,null,null,null,null,null,null,null,null,null,null,1,1]
[null,null,"NTP:",null,0,null,null,null,null,null,null,null,"NTP:"]
[null,null,"Řad \"A\" TLT DN80:",null,0,null,null,null,null,null,null,null,"Řad \"A\" TLT DN80:"]
[null,null,"Řad \"B\" TLT DN80:",null,0,null,null,null,null,null,null,null,"Řad \"B\" TLT DN80:"]
[null,null,"VP PE D 40x3,7 mm (1 kus):1",null,1,null,null,null,null,null,null,null,"VP PE D 40x3,7 mm (1 kus):1"]
[41,"891211111R00","Montáž vodovodních šoupátek ve výkopu DN 50 včetně nerezových spoj. prvků a obandážování spoje","kus",1,null,{"$f":"E404*F404","v":0},2.1000000000000001E-4,{"$f":"E404*H404","v":2.1000000000000001E-4},0,{"$f":"E404*J404","v":0},null,null,null,2,null,null,null,null,null,null,null,null,null,null,null,1,1,1,null,null,null,null,null,null,null,null,null,null,null,null,null,null,null,null,null,null,null,null,null,null,1,{"$f":"IF(AZ404=1,G404,0)","v":0},{"$f":"IF(AZ404=2,G404,0)","v":0},{"$f":"IF(AZ404=3,G404,0)","v":0},{"$f":"IF(AZ404=4,G404,0)","v":0},{"$f":"IF(AZ404=5,G404,0)","v":0},null,null,null,null,null,null,null,null,null,null,null,null,null,null,null,null,null,null,null,null,null,1,1]
[null,null,"Položka je určena pro montáž vodovodních šoupátek v otevřeném výkopu nebo v šachtách s osazením zemní soupravy (bez poklopů). V položce jsou zakalkulovány i náklady na vytvoření otvorů ve stropech šachet pro prostup zemních souprav šoupátek.",null,null,null,null,null,null,null,null,"Položka je určena pro montáž vodovodních šoupátek v otevřeném výkopu nebo v šachtách s osazením zemní soupravy (bez poklopů). V položce jsou zakalkulovány i náklady na vytvoření otvorů ve stropech šachet pro prostup zemních souprav šoupátek.",null,null,3]
[null,null,"Součástí položky je i dodávka nerezových spojovacích prvků (šrouby, podložky, matky) a kompletního obandážování spojů. ",null,null,null,null,null,null,null,null,"Součástí položky je i dodávka nerezových spojovacích prvků (šrouby, podložky, matky) a kompletního obandážování spojů. ",null,null,3]
[null,null,"NTP:",null,0,null,null,null,null,null,null,null,"NTP:"]
[null,null,"Řad \"B\" TLT DN80:",null,0,null,null,null,null,null,null,null,"Řad \"B\" TLT DN80:"]
[null,null,"Š DN50:1",null,1,null,null,null,null,null,null,null,"Š DN50:1"]
[42,"891213111R00","Montáž ventilů hlavních pro přípojky DN 50 ","kus",2,null,{"$f":"E410*F410","v":0},2.0000000000000002E-5,{"$f":"E410*H410","v":4.0000000000000003E-5},0,{"$f":"E410*J410","v":0},null,null,null,2,null,null,null,null,null,null,null,null,null,null,null,1,1,1,null,null,null,null,null,null,null,null,null,null,null,null,null,null,null,null,null,null,null,null,null,null,1,{"$f":"IF(AZ410=1,G410,0)","v":0},{"$f":"IF(AZ410=2,G410,0)","v":0},{"$f":"IF(AZ410=3,G410,0)","v":0},{"$f":"IF(AZ410=4,G410,0)","v":0},{"$f":"IF(AZ410=5,G410,0)","v":0},null,null,null,null,null,null,null,null,null,null,null,null,null,null,null,null,null,null,null,null,null,1,1]
[null,null,"NTP:",null,0,null,null,null,null,null,null,null,"NTP:"]
[null,null,"Řad \"A\" TLT DN80:",null,0,null,null,null,null,null,null,null,"Řad \"A\" TLT DN80:"]
[null,null,"Řad \"B\" TLT DN80:",null,0,null,null,null,null,null,null,null,"Řad \"B\" TLT DN80:"]
[null,null,"VP PE D 63x5,8 mm (2 kusy):2",null,2,null,null,null,null,null,null,null,"VP PE D 63x5,8 mm (2 kusy):2"]
[43,"891241111R00","Montáž vodovodních šoupátek ve výkopu DN 80 včetně nerezových spoj. prvků a obandážování spoje","kus",11,null,{"$f":"E415*F415","v":0},2.2000000000000001E-4,{"$f":"E415*H415","v":2.4200000000000003E-3},0,{"$f":"E415*J415","v":0},null,null,null,2,null,null,null,null,null,null,null,null,null,null,null,1,1,1,null,null,null,null,null,null,null,null,null,null,null,null,null,null,null,null,null,null,null,null,null,null,1,{"$f":"IF(AZ415=1,G415,0)","v":0},{"$f":"IF(AZ415=2,G415,0)","v":0},{"$f":"IF(AZ415=3,G415,0)","v":0},{"$f":"IF(AZ415=4,G415,0)","v":0},{"$f":"IF(AZ415=5,G415,0)","v":0},null,null,null,null,null,null,null,null,null,null,null,null,null,null,null,null,null,null,null,null,null,1,1]
[null,null,"Položka je určena pro montáž vodovodních šoupátek v otevřeném výkopu nebo v šachtách s osazením zemní soupravy (bez poklopů). V položce jsou zakalkulovány i náklady na vytvoření otvorů ve stropech šachet pro prostup zemních souprav šoupátek.",null,null,null,null,null,null,null,null,"Položka je určena pro montáž vodovodních šoupátek v otevřeném výkopu nebo v šachtách s osazením zemní soupravy (bez poklopů). V položce jsou zakalkulovány i náklady na vytvoření otvorů ve stropech šachet pro prostup zemních souprav šoupátek.",null,null,3]
[null,null,"Součástí položky je i dodávka nerezových spojovacích prvků (šrouby, podložky, matky) a kompletního obandážování spojů. ",null,null,null,null,null,null,null,null,"Součástí položky je i dodávka nerezových spojovacích prvků (šrouby, podložky, matky) a kompletního obandážování spojů. ",null,null,3]
[null,null,"NTP:",null,0,null,null,null,null,null,null,null,"NTP:"]
[null,null,"Řad \"A\" TLT DN80:",null,0,null,null,null,null,null,null,null,"Řad \"A\" TLT DN80:"]
[null,null,"Š DN80:3",null,3,null,null,null,null,null,null,null,"Š DN80:3"]
[null,null,"Řad \"B\" TLT DN80:",null,0,null,null,null,null,null,null,null,"Řad \"B\" TLT DN80:"]
[null,null,"Š DN80:2",null,2,null,null,null,null,null,null,null,"Š DN80:2"]
[null,null,"VTP:",null,0,null,null,null,null,null,null,null,"VTP:"]
[null,null,"Řad \"B\" PE D90x8,2 mm:",null,0,null,null,null,null,null,null,null,"Řad \"B\" PE D90x8,2 mm:"]
[null,null,"Š DN80:4",null,4,null,null,null,null,null,null,null,"Š DN80:4"]
[null,null,"Řad \"C\" PE D90x8,2 mm:",null,0,null,null,null,null,null,null,null,"Řad \"C\" PE D90x8,2 mm:"]
[null,null,"Š DN80:2",null,2,null,null,null,null,null,null,null,"Š DN80:2"]
[44,"891247111R00","Montáž hydrantů podzemních DN 80 včetně nerezových spoj. prvků a obandážování spoje","kus",3,null,{"$f":"E428*F428","v":0},1.1E-4,{"$f":"E428*H428","v":3.3E-4},0,{"$f":"E428*J428","v":0},null,null,null,2,null,null,null,null,null,null,null,null,null,null,null,1,1,1,null,null,null,null,null,null,null,null,null,null,null,null,null,null,null,null,null,null,null,null,null,null,1,{"$f":"IF(AZ428=1,G428,0)","v":0},{"$f":"IF(AZ428=2,G428,0)","v":0},{"$f":"IF(AZ428=3,G428,0)","v":0},{"$f":"IF(AZ428=4,G428,0)","v":0},{"$f":"IF(AZ428=5,G428,0)","v":0},null,null,null,null,null,null,null,null,null,null,null,null,null,null,null,null,null,null,null,null,null,1,1]
[null,null,"Položka je určena pro montáž hydrantů podzemních (bez osazení poklopů) na potrubí včetně drenážního obalu.",null,null,null,null,null,null,null,null,"Položka je určena pro montáž hydrantů podzemních (bez osazení poklopů) na potrubí včetně drenážního obalu.",null,null,3]
[null,null,"Součástí položky je i dodávka nerezových spojovacích prvků (šrouby, podložky, matky) a kompletního obandážování spojů. ",null,null,null,null,null,null,null,null,"Součástí položky je i dodávka nerezových spojovacích prvků (šrouby, podložky, matky) a kompletního obandážování spojů. ",null,null,3]
[null,null,"NTP:",null,0,null,null,null,null,null,null,null,"NTP:"]
[null,null,"Řad \"B\" TLT DN80:",null,0,null,null,null,null,null,null,null,"Řad \"B\" TLT DN80:"]
[null,null,"Hp DN80/1,5:1",null,1,null,null,null,null,null,null,null,"Hp DN80/1,5:1"]
[null,null,"VTP:",null,0,null,null,null,null,null,null,null,"VTP:"]
[null,null,"Řad \"B\" PE D90x8,2 mm:",null,0,null,null,null,null,null,null,null,"Řad \"B\" PE D90x8,2 mm:"]
[null,null,"Hp DN80/1,5:1",null,1,null,null,null,null,null,null,null,"Hp DN80/1,5:1"]
[null,null,"Řad \"C\" PE D90x8,2 mm:",null,0,null,null,null,null,null,null,null,"Řad \"C\" PE D90x8,2 mm:"]
[null,null,"Hp DN80/1,5:1",null,1,null,null,null,null,null,null,null,"Hp DN80/1,5:1"]
[45,"891249111R00","Montáž navrtávacích pasů DN 80 ","kus",8,null,{"$f":"E439*F439","v":0},0,{"$f":"E439*H439","v":0},0,{"$f":"E439*J439","v":0},null,null,null,2,null,null,null,null,null,null,null,null,null,null,null,1,1,1,null,null,null,null,null,null,null,null,null,null,null,null,null,null,null,null,null,null,null,null,null,null,1,{"$f":"IF(AZ439=1,G439,0)","v":0},{"$f":"IF(AZ439=2,G439,0)","v":0},{"$f":"IF(AZ439=3,G439,0)","v":0},{"$f":"IF(AZ439=4,G439,0)","v":0},{"$f":"IF(AZ439=5,G439,0)","v":0},null,null,null,null,null,null,null,null,null,null,null,null,null,null,null,null,null,null,null,null,null,1,1]
[null,null,"NTP:",null,0,null,null,null,null,null,null,null,"NTP:"]
[null,null,"Řad \"A\" TLT DN80:",null,0,null,null,null,null,null,null,null,"Řad \"A\" TLT DN80:"]
[null,null,"Řad \"B\" TLT DN80:",null,0,null,null,null,null,null,null,null,"Řad \"B\" TLT DN80:"]
[null,null,"VP PE D 32x3,0 mm (5 kusů):5",null,5,null,null,null,null,null,null,null,"VP PE D 32x3,0 mm (5 kusů):5"]
[null,null,"VP PE D 40x3,7 mm (1 kus):1",null,1,null,null,null,null,null,null,null,"VP PE D 40x3,7 mm (1 kus):1"]
[null,null,"VP PE D 63x5,8 mm (2 kusy):2",null,2,null,null,null,null,null,null,null,"VP PE D 63x5,8 mm (2 kusy):2"]
[46,"891249111R01","Montáž navrtávacích pasů DN 80 s ventilem ","kus",12,null,{"$f":"E446*F446","v":0},0,{"$f":"E446*H446","v":0},0,{"$f":"E446*J446","v":0},null,null,null,2,null,null,null,null,null,null,null,null,null,null,null,1,1,1,null,null,null,null,null,null,null,null,null,null,null,null,null,null,null,null,null,null,null,null,null,null,1,{"$f":"IF(AZ446=1,G446,0)","v":0},{"$f":"IF(AZ446=2,G446,0)","v":0},{"$f":"IF(AZ446=3,G446,0)","v":0},{"$f":"IF(AZ446=4,G446,0)","v":0},{"$f":"IF(AZ446=5,G446,0)","v":0},null,null,null,null,null,null,null,null,null,null,null,null,null,null,null,null,null,null,null,null,null,1,1]
[null,null,"VTP:",null,0,null,null,null,null,null,null,null,"VTP:"]
[null,null,"Řad \"B\" PE D90x8,2 mm:",null,0,null,null,null,null,null,null,null,"Řad \"B\" PE D90x8,2 mm:"]
[null,null,"VP PE D 32x3,0 mm (8 kusů):8",null,8,null,null,null,null,null,null,null,"VP PE D 32x3,0 mm (8 kusů):8"]
[null,null,"Řad \"C\" PE D90x8,2 mm:",null,0,null,null,null,null,null,null,null,"Řad \"C\" PE D90x8,2 mm:"]
[null,null,"VP PE D 32x3,0 mm (8 kusů):4",null,4,null,null,null,null,null,null,null,"VP PE D 32x3,0 mm (8 kusů):4"]
[47,"891261111R00","Montáž vodovodních šoupátek ve výkopu DN 100 včetně nerezových spoj. prvků a obandážování spoje","kus",2,null,{"$f":"E452*F452","v":0},4.0999999999999999E-4,{"$f":"E452*H452","v":8.1999999999999998E-4},0,{"$f":"E452*J452","v":0},null,null,null,2,null,null,null,null,null,null,null,null,null,null,null,1,1,1,null,null,null,null,null,null,null,null,null,null,null,null,null,null,null,null,null,null,null,null,null,null,1,{"$f":"IF(AZ452=1,G452,0)","v":0},{"$f":"IF(AZ452=2,G452,0)","v":0},{"$f":"IF(AZ452=3,G452,0)","v":0},{"$f":"IF(AZ452=4,G452,0)","v":0},{"$f":"IF(AZ452=5,G452,0)","v":0},null,null,null,null,null,null,null,null,null,null,null,null,null,null,null,null,null,null,null,null,null,1,1]
[null,null,"Položka je určena pro montáž vodovodních šoupátek v otevřeném výkopu nebo v šachtách s osazením zemní soupravy (bez poklopů). V položce jsou zakalkulovány i náklady na vytvoření otvorů ve stropech šachet pro prostup zemních souprav šoupátek.",null,null,null,null,null,null,null,null,"Položka je určena pro montáž vodovodních šoupátek v otevřeném výkopu nebo v šachtách s osazením zemní soupravy (bez poklopů). V položce jsou zakalkulovány i náklady na vytvoření otvorů ve stropech šachet pro prostup zemních souprav šoupátek.",null,null,3]
[null,null,"Součástí položky je i dodávka nerezových spojovacích prvků (šrouby, podložky, matky) a kompletního obandážování spojů. ",null,null,null,null,null,null,null,null,"Součástí položky je i dodávka nerezových spojovacích prvků (šrouby, podložky, matky) a kompletního obandážování spojů. ",null,null,3]
[null,null,"NTP:",null,0,null,null,null,null,null,null,null,"NTP:"]
[null,null,"Řad \"A\" TLT DN80:",null,0,null,null,null,null,null,null,null,"Řad \"A\" TLT DN80:"]
[null,null,"Š DN100:2",null,2,null,null,null,null,null,null,null,"Š DN100:2"]
[48,"892241111R00","Tlaková zkouška vodovodního potrubí DN 80 včetně zajištění konců potrubí","m",319,null,{"$f":"E458*F458","v":0},0,{"$f":"E458*H458","v":0},0,{"$f":"E458*J458","v":0},null,null,null,2,null,null,null,null,null,null,null,null,null,null,null,1,1,1,null,null,null,null,null,null,null,null,null,null,null,null,null,null,null,null,null,null,null,null,null,null,1,{"$f":"IF(AZ458=1,G458,0)","v":0},{"$f":"IF(AZ458=2,G458,0)","v":0},{"$f":"IF(AZ458=3,G458,0)","v":0},{"$f":"IF(AZ458=4,G458,0)","v":0},{"$f":"IF(AZ458=5,G458,0)","v":0},null,null,null,null,null,null,null,null,null,null,null,null,null,null,null,null,null,null,null,null,null,1,1]
[null,null,"V položce jsou započteny náklady na přísun, montáž, demontáž a odsun zkoušecího čerpadla, napuštění tlakovou vodou a dodání vody pro tlakovou zkoušku.",null,null,null,null,null,null,null,null,"V položce jsou započteny náklady na přísun, montáž, demontáž a odsun zkoušecího čerpadla, napuštění tlakovou vodou a dodání vody pro tlakovou zkoušku.",null,null,3]
[null,null,"NTP:",null,0,null,null,null,null,null,null,null,"NTP:"]
[null,null,"Řad \"A\" TLT DN80:174,30",null,174.3,null,null,null,null,null,null,null,"Řad \"A\" TLT DN80:174,30"]
[null,null,"Řad \"B\" TLT DN80:37,10+2,00",null,39.1,null,null,null,null,null,null,null,"Řad \"B\" TLT DN80:37,10+2,00"]
[null,null,"Řad \"C\" TLT DN80:11,90",null,11.9,null,null,null,null,null,null,null,"Řad \"C\" TLT DN80:11,90"]
[null,null,"VTP:",null,0,null,null,null,null,null,null,null,"VTP:"]
[null,null,"Řad \"B\" PE D90x8,2 mm:41,00",null,41,null,null,null,null,null,null,null,"Řad \"B\" PE D90x8,2 mm:41,00"]
[null,null,"Řad \"C\" PE D90x8,2 mm:52,70",null,52.7,null,null,null,null,null,null,null,"Řad \"C\" PE D90x8,2 mm:52,70"]
[49,"892273111R00","Desinfekce vodovodního potrubí DN 125 ","m",319,null,{"$f":"E467*F467","v":0},0,{"$f":"E467*H467","v":0},0,{"$f":"E467*J467","v":0},null,null,null,2,null,null,null,null,null,null,null,null,null,null,null,1,1,1,null,null,null,null,null,null,null,null,null,null,null,null,null,null,null,null,null,null,null,null,null,null,1,{"$f":"IF(AZ467=1,G467,0)","v":0},{"$f":"IF(AZ467=2,G467,0)","v":0},{"$f":"IF(AZ467=3,G467,0)","v":0},{"$f":"IF(AZ467=4,G467,0)","v":0},{"$f":"IF(AZ467=5,G467,0)","v":0},null,null,null,null,null,null,null,null,null,null,null,null,null,null,null,null,null,null,null,null,null,1,1]
[null,null,"V položce jsou zakalkulovány náklady na napuštění a vypuštění vody, dodání vody a desinfekčního prostředku a na bakteriologický rozbor vody.",null,null,null,null,null,null,null,null,"V položce jsou zakalkulovány náklady na napuštění a vypuštění vody, dodání vody a desinfekčního prostředku a na bakteriologický rozbor vody.",null,null,3]
[null,null,"NTP:",null,0,null,null,null,null,null,null,null,"NTP:"]
[null,null,"Řad \"A\" TLT DN80:174,30",null,174.3,null,null,null,null,null,null,null,"Řad \"A\" TLT DN80:174,30"]
[null,null,"Řad \"B\" TLT DN80:37,10+2,00",null,39.1,null,null,null,null,null,null,null,"Řad \"B\" TLT DN80:37,10+2,00"]
[null,null,"Řad \"C\" TLT DN80:11,90",null,11.9,null,null,null,null,null,null,null,"Řad \"C\" TLT DN80:11,90"]
[null,null,"VTP:",null,0,null,null,null,null,null,null,null,"VTP:"]
[null,null,"Řad \"B\" PE D90x8,2 mm:41,00",null,41,null,null,null,null,null,null,null,"Řad \"B\" PE D90x8,2 mm:41,00"]
[null,null,"Řad \"C\" PE D90x8,2 mm:52,70",null,52.7,null,null,null,null,null,null,null,"Řad \"C\" PE D90x8,2 mm:52,70"]
[50,"899401111R00","Osazení poklopů litinových ventilových ","kus",12,null,{"$f":"E476*F476","v":0},6.3829999999999998E-2,{"$f":"E476*H476","v":0.76595999999999997},0,{"$f":"E476*J476","v":0},null,null,null,2,null,null,null,null,null,null,null,null,null,null,null,1,1,1,null,null,null,null,null,null,null,null,null,null,null,null,null,null,null,null,null,null,null,null,null,null,1,{"$f":"IF(AZ476=1,G476,0)","v":0},{"$f":"IF(AZ476=2,G476,0)","v":0},{"$f":"IF(AZ476=3,G476,0)","v":0},{"$f":"IF(AZ476=4,G476,0)","v":0},{"$f":"IF(AZ476=5,G476,0)","v":0},null,null,null,null,null,null,null,null,null,null,null,null,null,null,null,null,null,null,null,null,null,1,1]
[null,null,"VTP:",null,0,null,null,null,null,null,null,null,"VTP:"]
[null,null,"Řad \"B\" PE D90x8,2 mm:",null,0,null,null,null,null,null,null,null,"Řad \"B\" PE D90x8,2 mm:"]
[null,null,"Řad \"C\" PE D90x8,2 mm:",null,0,null,null,null,null,null,null,null,"Řad \"C\" PE D90x8,2 mm:"]
[null,null,"VP PE D 32x3,0 mm (12 kusů):12",null,12,null,null,null,null,null,null,null,"VP PE D 32x3,0 mm (12 kusů):12"]
[51,"899401112R00","Osazení poklopů litinových šoupátkových ","kus",5,null,{"$f":"E481*F481","v":0},0.11178,{"$f":"E481*H481","v":0.55890000000000006},0,{"$f":"E481*J481","v":0},null,null,null,2,null,null,null,null,null,null,null,null,null,null,null,1,1,1,null,null,null,null,null,null,null,null,null,null,null,null,null,null,null,null,null,null,null,null,null,null,1,{"$f":"IF(AZ481=1,G481,0)","v":0},{"$f":"IF(AZ481=2,G481,0)","v":0},{"$f":"IF(AZ481=3,G481,0)","v":0},{"$f":"IF(AZ481=4,G481,0)","v":0},{"$f":"IF(AZ481=5,G481,0)","v":0},null,null,null,null,null,null,null,null,null,null,null,null,null,null,null,null,null,null,null,null,null,1,1]
[null,null,"V položkách osazení poklopů jsou zakalkulovány i náklady na jejich podezdění nebo osazení poklopů samonivelačních.",null,null,null,null,null,null,null,null,"V položkách osazení poklopů jsou zakalkulovány i náklady na jejich podezdění nebo osazení poklopů samonivelačních.",null,null,3]
[null,null,"VTP:",null,0,null,null,null,null,null,null,null,"VTP:"]
[null,null,"Řad \"B\" PE D90x8,2 mm:",null,0,null,null,null,null,null,null,null,"Řad \"B\" PE D90x8,2 mm:"]
[null,null,"Š DN80:3",null,3,null,null,null,null,null,null,null,"Š DN80:3"]
[null,null,"Řad \"C\" PE D90x8,2 mm:",null,0,null,null,null,null,null,null,null,"Řad \"C\" PE D90x8,2 mm:"]
[null,null,"Š DN80:2",null,2,null,null,null,null,null,null,null,"Š DN80:2"]
[52,"899401113R00","Osazení poklopů litinových hydrantových ","kus",2,null,{"$f":"E488*F488","v":0},0.29823,{"$f":"E488*H488","v":0.59645999999999999},0,{"$f":"E488*J488","v":0},null,null,null,2,null,null,null,null,null,null,null,null,null,null,null,1,1,1,null,null,null,null,null,null,null,null,null,null,null,null,null,null,null,null,null,null,null,null,null,null,1,{"$f":"IF(AZ488=1,G488,0)","v":0},{"$f":"IF(AZ488=2,G488,0)","v":0},{"$f":"IF(AZ488=3,G488,0)","v":0},{"$f":"IF(AZ488=4,G488,0)","v":0},{"$f":"IF(AZ488=5,G488,0)","v":0},null,null,null,null,null,null,null,null,null,null,null,null,null,null,null,null,null,null,null,null,null,1,1]
[null,null,"V položkách osazení poklopů jsou zakalkulovány i náklady na jejich podezdění nebo osazení poklopů samonivelačních.",null,null,null,null,null,null,null,null,"V položkách osazení poklopů jsou zakalkulovány i náklady na jejich podezdění nebo osazení poklopů samonivelačních.",null,null,3]
[null,null,"VTP:",null,0,null,null,null,null,null,null,null,"VTP:"]
[null,null,"Řad \"B\" PE D90x8,2 mm:",null,0,null,null,null,null,null,null,null,"Řad \"B\" PE D90x8,2 mm:"]
[null,null,"Hp DN80/1,5:1",null,1,null,null,null,null,null,null,null,"Hp DN80/1,5:1"]
[null,null,"Řad \"C\" PE D90x8,2 mm:",null,0,null,null,null,null,null,null,null,"Řad \"C\" PE D90x8,2 mm:"]
[null,null,"Hp DN80/1,5:1",null,1,null,null,null,null,null,null,null,"Hp DN80/1,5:1"]
[53,"899721112R00","Fólie výstražná z PVC bílá, šířka 30 cm ","m",319,null,{"$f":"E495*F495","v":0},0,{"$f":"E495*H495","v":0},0,{"$f":"E495*J495","v":0},null,null,null,2,null,null,null,null,null,null,null,null,null,null,null,1,1,1,null,null,null,null,null,null,null,null,null,null,null,null,null,null,null,null,null,null,null,null,null,null,1,{"$f":"IF(AZ495=1,G495,0)","v":0},{"$f":"IF(AZ495=2,G495,0)","v":0},{"$f":"IF(AZ495=3,G495,0)","v":0},{"$f":"IF(AZ495=4,G495,0)","v":0},{"$f":"IF(AZ495=5,G495,0)","v":0},null,null,null,null,null,null,null,null,null,null,null,null,null,null,null,null,null,null,null,null,null,1,1]
[null,null,"NTP:",null,0,null,null,null,null,null,null,null,"NTP:"]
[null,null,"Řad \"A\" TLT DN80:174,30",null,174.3,null,null,null,null,null,null,null,"Řad \"A\" TLT DN80:174,30"]
[null,null,"Řad \"B\" TLT DN80:37,10+2,00",null,39.1,null,null,null,null,null,null,null,"Řad \"B\" TLT DN80:37,10+2,00"]
[null,null,"Řad \"C\" TLT DN80:11,90",null,11.9,null,null,null,null,null,null,null,"Řad \"C\" TLT DN80:11,90"]
[null,null,"VTP:",null,0,null,null,null,null,null,null,null,"VTP:"]
[null,null,"Řad \"B\" PE D90x8,2 mm:41,00",null,41,null,null,null,null,null,null,null,"Řad \"B\" PE D90x8,2 mm:41,00"]
[null,null,"Řad \"C\" PE D90x8,2 mm:52,70",null,52.7,null,null,null,null,null,null,null,"Řad \"C\" PE D90x8,2 mm:52,70"]
[54,"899731114R00","Vodič signalizační CYY 6 mm2 ","m",461,null,{"$f":"E503*F503","v":0},8.0000000000000007E-5,{"$f":"E503*H503","v":3.6880000000000003E-2},0,{"$f":"E503*J503","v":0},null,null,null,2,null,null,null,null,null,null,null,null,null,null,null,1,1,1,null,null,null,null,null,null,null,null,null,null,null,null,null,null,null,null,null,null,null,null,null,null,1,{"$f":"IF(AZ503=1,G503,0)","v":0},{"$f":"IF(AZ503=2,G503,0)","v":0},{"$f":"IF(AZ503=3,G503,0)","v":0},{"$f":"IF(AZ503=4,G503,0)","v":0},{"$f":"IF(AZ503=5,G503,0)","v":0},null,null,null,null,null,null,null,null,null,null,null,null,null,null,null,null,null,null,null,null,null,1,1]
[null,null,"Součástí položky je zajištění proměření vodiče a výchozí zevize.",null,null,null,null,null,null,null,null,"Součástí položky je zajištění proměření vodiče a výchozí zevize.",null,null,3]
[null,null,"NTP:",null,0,null,null,null,null,null,null,null,"NTP:"]
[null,null,"Řad \"A\" TLT DN80:174,30",null,174.3,null,null,null,null,null,null,null,"Řad \"A\" TLT DN80:174,30"]
[null,null,"Řad \"B\" TLT DN80:37,10+2,00",null,39.1,null,null,null,null,null,null,null,"Řad \"B\" TLT DN80:37,10+2,00"]
[null,null,"Řad \"C\" TLT DN80:11,90",null,11.9,null,null,null,null,null,null,null,"Řad \"C\" TLT DN80:11,90"]
[null,null,"Vyvedení pro:",null,0,null,null,null,null,null,null,null,"Vyvedení pro:"]
[null,null,"Š DN50:2,00*2*1",null,4,null,null,null,null,null,null,null,"Š DN50:2,00*2*1"]
[null,null,"Š DN80:2,00*2*5",null,20,null,null,null,null,null,null,null,"Š DN80:2,00*2*5"]
[null,null,"Š DN100:2,00*2*2",null,8,null,null,null,null,null,null,null,"Š DN100:2,00*2*2"]
[null,null,"Hp DN80/1,5:2,00*1*1",null,2,null,null,null,null,null,null,null,"Hp DN80/1,5:2,00*1*1"]
[null,null,"VP (8 kusů):2,00*2*8",null,32,null,null,null,null,null,null,null,"VP (8 kusů):2,00*2*8"]
[null,null,"VTP:",null,0,null,null,null,null,null,null,null,"VTP:"]
[null,null,"Řad \"B\" PE D90x8,2 mm:41,00",null,41,null,null,null,null,null,null,null,"Řad \"B\" PE D90x8,2 mm:41,00"]
[null,null,"Řad \"C\" PE D90x8,2 mm:52,70",null,52.7,null,null,null,null,null,null,null,"Řad \"C\" PE D90x8,2 mm:52,70"]
[null,null,"Vyvedení pro:",null,0,null,null,null,null,null,null,null,"Vyvedení pro:"]
[null,null,"Š DN80:2,00*2*6",null,24,null,null,null,null,null,null,null,"Š DN80:2,00*2*6"]
[null,null,"Hp DN80/1,5:2,00*1*2",null,4,null,null,null,null,null,null,null,"Hp DN80/1,5:2,00*1*2"]
[null,null,"VP (8 kusů):2,00*2*12",null,48,null,null,null,null,null,null,null,"VP (8 kusů):2,00*2*12"]
[55,"28613074.DAV.R","T-kus odbočkový navrtávací DAV (KIT) D90/32","kus",12,null,{"$f":"E522*F522","v":0},0,{"$f":"E522*H522","v":0},null,{"$f":"E522*J522","v":0},null,null,null,2,null,null,null,null,null,null,null,null,null,null,null,3,1,"28613074.DAV.R",null,null,null,null,null,null,null,null,null,null,null,null,null,null,null,null,null,null,null,null,null,null,1,{"$f":"IF(AZ522=1,G522,0)","v":0},{"$f":"IF(AZ522=2,G522,0)","v":0},{"$f":"IF(AZ522=3,G522,0)","v":0},{"$f":"IF(AZ522=4,G522,0)","v":0},{"$f":"IF(AZ522=5,G522,0)","v":0},null,null,null,null,null,null,null,null,null,null,null,null,null,null,null,null,null,null,null,null,null,3,1]
[null,null,"VTP:",null,0,null,null,null,null,null,null,null,"VTP:"]
[null,null,"Řad \"B\" PE D90x8,2 mm:",null,0,null,null,null,null,null,null,null,"Řad \"B\" PE D90x8,2 mm:"]
[null,null,"VP PE D 32x3,0 mm (8 kusů):8",null,8,null,null,null,null,null,null,null,"VP PE D 32x3,0 mm (8 kusů):8"]
[null,null,"Řad \"C\" PE D90x8,2 mm:",null,0,null,null,null,null,null,null,null,"Řad \"C\" PE D90x8,2 mm:"]
[null,null,"VP PE D 32x3,0 mm (8 kusů):4",null,4,null,null,null,null,null,null,null,"VP PE D 32x3,0 mm (8 kusů):4"]
[56,"28613099.EBS.R","Zemní souprava EBS 1,1-1,8 pro DAV (KIT)","kus",12,null,{"$f":"E528*F528","v":0},0,{"$f":"E528*H528","v":0},null,{"$f":"E528*J528","v":0},null,null,null,2,null,null,null,null,null,null,null,null,null,null,null,3,1,"28613099.EBS.R",null,null,null,null,null,null,null,null,null,null,null,null,null,null,null,null,null,null,null,null,null,null,1,{"$f":"IF(AZ528=1,G528,0)","v":0},{"$f":"IF(AZ528=2,G528,0)","v":0},{"$f":"IF(AZ528=3,G528,0)","v":0},{"$f":"IF(AZ528=4,G528,0)","v":0},{"$f":"IF(AZ528=5,G528,0)","v":0},null,null,null,null,null,null,null,null,null,null,null,null,null,null,null,null,null,null,null,null,null,3,1]
[null,null,"VTP:",null,0,null,null,null,null,null,null,null,"VTP:"]
[null,null,"Řad \"B\" PE D90x8,2 mm:",null,0,null,null,null,null,null,null,null,"Řad \"B\" PE D90x8,2 mm:"]
[null,null,"VP PE D 32x3,0 mm (8 kusů):8",null,8,null,null,null,null,null,null,null,"VP PE D 32x3,0 mm (8 kusů):8"]
[null,null,"Řad \"C\" PE D90x8,2 mm:",null,0,null,null,null,null,null,null,null,"Řad \"C\" PE D90x8,2 mm:"]
[null,null,"VP PE D 32x3,0 mm (8 kusů):4",null,4,null,null,null,null,null,null,null,"VP PE D 32x3,0 mm (8 kusů):4"]
[57,"28613576.6.R","Trubka PE100RC2 SDR11 D 90x8,6 mm L 12 m","m",95.105500000000006,null,{"$f":"E534*F534","v":0},3.79E-3,{"$f":"E534*H534","v":0.36044984500000005},null,{"$f":"E534*J534","v":0},null,null,null,2,null,null,null,null,null,null,null,null,null,null,null,3,1,"28613576.6.R",null,null,null,null,null,null,null,null,null,null,null,null,null,null,null,null,null,null,null,null,null,null,1,{"$f":"IF(AZ534=1,G534,0)","v":0},{"$f":"IF(AZ534=2,G534,0)","v":0},{"$f":"IF(AZ534=3,G534,0)","v":0},{"$f":"IF(AZ534=4,G534,0)","v":0},{"$f":"IF(AZ534=5,G534,0)","v":0},null,null,null,null,null,null,null,null,null,null,null,null,null,null,null,null,null,null,null,null,null,3,1]
[null,null,"VTP:",null,0,null,null,null,null,null,null,null,"VTP:"]
[null,null,"Řad \"B\" PE D90x8,2 mm:41,00*1,015",null,41.615000000000002,null,null,null,null,null,null,null,"Řad \"B\" PE D90x8,2 mm:41,00*1,015"]
[null,null,"Řad \"C\" PE D90x8,2 mm:52,70*1,015",null,53.490499999999997,null,null,null,null,null,null,null,"Řad \"C\" PE D90x8,2 mm:52,70*1,015"]
[58,"28613579.01.R","Trubka PE100RC2 SDR11 D 63x5,8 mm L 100m","m",2.0299999999999998,null,{"$f":"E538*F538","v":0},3.79E-3,{"$f":"E538*H538","v":7.6936999999999995E-3},null,{"$f":"E538*J538","v":0},null,null,null,2,null,null,null,null,null,null,null,null,null,null,null,3,1,"28613579.01.R",null,null,null,null,null,null,null,null,null,null,null,null,null,null,null,null,null,null,null,null,null,null,1,{"$f":"IF(AZ538=1,G538,0)","v":0},{"$f":"IF(AZ538=2,G538,0)","v":0},{"$f":"IF(AZ538=3,G538,0)","v":0},{"$f":"IF(AZ538=4,G538,0)","v":0},{"$f":"IF(AZ538=5,G538,0)","v":0},null,null,null,null,null,null,null,null,null,null,null,null,null,null,null,null,null,null,null,null,null,3,1]
[null,null,"NTP:",null,0,null,null,null,null,null,null,null,"NTP:"]
[null,null,"Řad \"B\" TLT DN80:",null,0,null,null,null,null,null,null,null,"Řad \"B\" TLT DN80:"]
[null,null,"Propoj PE D 63x5,8 mm:2,00*1,015",null,2.0299999999999998,null,null,null,null,null,null,null,"Propoj PE D 63x5,8 mm:2,00*1,015"]
[59,"28653085.5.R","Elektrospojka d 90 mm PE 100 SDR11","kus",13.195,null,{"$f":"E542*F542","v":0},1.2999999999999999E-3,{"$f":"E542*H542","v":1.7153499999999999E-2},null,{"$f":"E542*J542","v":0},null,null,null,2,null,null,null,null,null,null,null,null,null,null,null,3,1,"28653085.5.R",null,null,null,null,null,null,null,null,null,null,null,null,null,null,null,null,null,null,null,null,null,null,1,{"$f":"IF(AZ542=1,G542,0)","v":0},{"$f":"IF(AZ542=2,G542,0)","v":0},{"$f":"IF(AZ542=3,G542,0)","v":0},{"$f":"IF(AZ542=4,G542,0)","v":0},{"$f":"IF(AZ542=5,G542,0)","v":0},null,null,null,null,null,null,null,null,null,null,null,null,null,null,null,null,null,null,null,null,null,3,1]
[null,null,"VTP:",null,0,null,null,null,null,null,null,null,"VTP:"]
[null,null,"Řad \"B\" PE D90x8,2 mm:",null,0,null,null,null,null,null,null,null,"Řad \"B\" PE D90x8,2 mm:"]
[null,null,"Elektrospojka D90:8*1,015",null,8.1199999999999992,null,null,null,null,null,null,null,"Elektrospojka D90:8*1,015"]
[null,null,"Řad \"C\" PE D90x8,2 mm:",null,0,null,null,null,null,null,null,null,"Řad \"C\" PE D90x8,2 mm:"]
[null,null,"Elektrospojka D90:5*1,015",null,5.0750000000000002,null,null,null,null,null,null,null,"Elektrospojka D90:5*1,015"]
[60,"28653091.5.R","Elektrokoleno d 90 mm 45° PE 100 SDR11","kus",2.0299999999999998,null,{"$f":"E548*F548","v":0},1.2999999999999999E-3,{"$f":"E548*H548","v":2.6389999999999994E-3},null,{"$f":"E548*J548","v":0},null,null,null,2,null,null,null,null,null,null,null,null,null,null,null,3,1,"28653091.5.R",null,null,null,null,null,null,null,null,null,null,null,null,null,null,null,null,null,null,null,null,null,null,1,{"$f":"IF(AZ548=1,G548,0)","v":0},{"$f":"IF(AZ548=2,G548,0)","v":0},{"$f":"IF(AZ548=3,G548,0)","v":0},{"$f":"IF(AZ548=4,G548,0)","v":0},{"$f":"IF(AZ548=5,G548,0)","v":0},null,null,null,null,null,null,null,null,null,null,null,null,null,null,null,null,null,null,null,null,null,3,1]
[null,null,"VTP:",null,0,null,null,null,null,null,null,null,"VTP:"]
[null,null,"Řad \"C\" PE D90x8,2 mm:",null,0,null,null,null,null,null,null,null,"Řad \"C\" PE D90x8,2 mm:"]
[null,null,"Elektrokoleno D90/45°:2*1,015",null,2.0299999999999998,null,null,null,null,null,null,null,"Elektrokoleno D90/45°:2*1,015"]
[61,"28653765.R","LN + TP D90/DN80 PE100 SDR11","kus",6,null,{"$f":"E552*F552","v":0},3.5E-4,{"$f":"E552*H552","v":2.0999999999999999E-3},null,{"$f":"E552*J552","v":0},null,null,null,2,null,null,null,null,null,null,null,null,null,null,null,3,1,"28653765.R",null,null,null,null,null,null,null,null,null,null,null,null,null,null,null,null,null,null,null,null,null,null,1,{"$f":"IF(AZ552=1,G552,0)","v":0},{"$f":"IF(AZ552=2,G552,0)","v":0},{"$f":"IF(AZ552=3,G552,0)","v":0},{"$f":"IF(AZ552=4,G552,0)","v":0},{"$f":"IF(AZ552=5,G552,0)","v":0},null,null,null,null,null,null,null,null,null,null,null,null,null,null,null,null,null,null,null,null,null,3,1]
[null,null,"VTP:",null,0,null,null,null,null,null,null,null,"VTP:"]
[null,null,"Řad \"B\" PE D90x8,2 mm:",null,0,null,null,null,null,null,null,null,"Řad \"B\" PE D90x8,2 mm:"]
[null,null,"LN+TP D90/DN80:4",null,4,null,null,null,null,null,null,null,"LN+TP D90/DN80:4"]
[null,null,"Řad \"C\" PE D90x8,2 mm:",null,0,null,null,null,null,null,null,null,"Řad \"C\" PE D90x8,2 mm:"]
[null,null,"LN+TP D90/DN80:2",null,2,null,null,null,null,null,null,null,"LN+TP D90/DN80:2"]
[62,"42201650.R","Poklop uliční ventilový 1650  - voda","kus",12,null,{"$f":"E558*F558","v":0},1.1299999999999999E-2,{"$f":"E558*H558","v":0.1356},null,{"$f":"E558*J558","v":0},null,null,null,2,null,null,null,null,null,null,null,null,null,null,null,3,1,"42201650.R",null,null,null,null,null,null,null,null,null,null,null,null,null,null,null,null,null,null,null,null,null,null,1,{"$f":"IF(AZ558=1,G558,0)","v":0},{"$f":"IF(AZ558=2,G558,0)","v":0},{"$f":"IF(AZ558=3,G558,0)","v":0},{"$f":"IF(AZ558=4,G558,0)","v":0},{"$f":"IF(AZ558=5,G558,0)","v":0},null,null,null,null,null,null,null,null,null,null,null,null,null,null,null,null,null,null,null,null,null,3,1]
[null,null,"VTP:",null,0,null,null,null,null,null,null,null,"VTP:"]
[null,null,"Řad \"B\" PE D90x8,2 mm:",null,0,null,null,null,null,null,null,null,"Řad \"B\" PE D90x8,2 mm:"]
[null,null,"Řad \"C\" PE D90x8,2 mm:",null,0,null,null,null,null,null,null,null,"Řad \"C\" PE D90x8,2 mm:"]
[null,null,"VP PE D 32x3,0 mm (12 kusů):12",null,12,null,null,null,null,null,null,null,"VP PE D 32x3,0 mm (12 kusů):12"]
[63,"42201750.R","Poklop uliční šoupátkový 1750  - voda","kus",5,null,{"$f":"E563*F563","v":0},1.1299999999999999E-2,{"$f":"E563*H563","v":5.6499999999999995E-2},null,{"$f":"E563*J563","v":0},null,null,null,2,null,null,null,null,null,null,null,null,null,null,null,3,1,"42201750.R",null,null,null,null,null,null,null,null,null,null,null,null,null,null,null,null,null,null,null,null,null,null,1,{"$f":"IF(AZ563=1,G563,0)","v":0},{"$f":"IF(AZ563=2,G563,0)","v":0},{"$f":"IF(AZ563=3,G563,0)","v":0},{"$f":"IF(AZ563=4,G563,0)","v":0},{"$f":"IF(AZ563=5,G563,0)","v":0},null,null,null,null,null,null,null,null,null,null,null,null,null,null,null,null,null,null,null,null,null,3,1]
[null,null,"VTP:",null,0,null,null,null,null,null,null,null,"VTP:"]
[null,null,"Řad \"B\" PE D90x8,2 mm:",null,0,null,null,null,null,null,null,null,"Řad \"B\" PE D90x8,2 mm:"]
[null,null,"Š DN80:3",null,3,null,null,null,null,null,null,null,"Š DN80:3"]
[null,null,"Řad \"C\" PE D90x8,2 mm:",null,0,null,null,null,null,null,null,null,"Řad \"C\" PE D90x8,2 mm:"]
[null,null,"Š DN80:2",null,2,null,null,null,null,null,null,null,"Š DN80:2"]
[64,"42201950","Poklop podz. hydrantů č.1950","kus",2,null,{"$f":"E569*F569","v":0},1.1299999999999999E-2,{"$f":"E569*H569","v":2.2599999999999999E-2},null,{"$f":"E569*J569","v":0},null,null,null,2,null,null,null,null,null,null,null,null,null,null,null,3,1,42201950,null,null,null,null,null,null,null,null,null,null,null,null,null,null,null,null,null,null,null,null,null,null,1,{"$f":"IF(AZ569=1,G569,0)","v":0},{"$f":"IF(AZ569=2,G569,0)","v":0},{"$f":"IF(AZ569=3,G569,0)","v":0},{"$f":"IF(AZ569=4,G569,0)","v":0},{"$f":"IF(AZ569=5,G569,0)","v":0},null,null,null,null,null,null,null,null,null,null,null,null,null,null,null,null,null,null,null,null,null,3,1]
[null,null,"VTP:",null,0,null,null,null,null,null,null,null,"VTP:"]
[null,null,"Řad \"B\" PE D90x8,2 mm:",null,0,null,null,null,null,null,null,null,"Řad \"B\" PE D90x8,2 mm:"]
[null,null,"Hp DN80/1,5:1",null,1,null,null,null,null,null,null,null,"Hp DN80/1,5:1"]
[null,null,"Řad \"C\" PE D90x8,2 mm:",null,0,null,null,null,null,null,null,null,"Řad \"C\" PE D90x8,2 mm:"]
[null,null,"Hp DN80/1,5:1",null,1,null,null,null,null,null,null,null,"Hp DN80/1,5:1"]
[65,"42202681.R","Navrtávací ISO šoupátko č. 2681 DN 2 - 6/4\"","kus",8,null,{"$f":"E575*F575","v":0},2.5999999999999999E-3,{"$f":"E575*H575","v":2.0799999999999999E-2},null,{"$f":"E575*J575","v":0},null,null,null,2,null,null,null,null,null,null,null,null,null,null,null,3,1,"42202681.R",null,null,null,null,null,null,null,null,null,null,null,null,null,null,null,null,null,null,null,null,null,null,1,{"$f":"IF(AZ575=1,G575,0)","v":0},{"$f":"IF(AZ575=2,G575,0)","v":0},{"$f":"IF(AZ575=3,G575,0)","v":0},{"$f":"IF(AZ575=4,G575,0)","v":0},{"$f":"IF(AZ575=5,G575,0)","v":0},null,null,null,null,null,null,null,null,null,null,null,null,null,null,null,null,null,null,null,null,null,3,1]
[null,null,"NTP:",null,0,null,null,null,null,null,null,null,"NTP:"]
[null,null,"Řad \"A\" TLT DN80:",null,0,null,null,null,null,null,null,null,"Řad \"A\" TLT DN80:"]
[null,null,"Řad \"B\" TLT DN80:",null,0,null,null,null,null,null,null,null,"Řad \"B\" TLT DN80:"]
[null,null,"Řad \"C\" TLT DN80:",null,0,null,null,null,null,null,null,null,"Řad \"C\" TLT DN80:"]
[null,null,"VP PE D 32x3,0 mm (5 kusů):5",null,5,null,null,null,null,null,null,null,"VP PE D 32x3,0 mm (5 kusů):5"]
[null,null,"VP PE D 40x3,7 mm (1 kus):1",null,1,null,null,null,null,null,null,null,"VP PE D 40x3,7 mm (1 kus):1"]
[null,null,"VP PE D 63x5,8 mm (2 kusy):2",null,2,null,null,null,null,null,null,null,"VP PE D 63x5,8 mm (2 kusy):2"]
[66,"42202800.04.R","Šoupátko domovní č.2800 63 - 2\"","kus",1,null,{"$f":"E583*F583","v":0},5.1999999999999998E-3,{"$f":"E583*H583","v":5.1999999999999998E-3},null,{"$f":"E583*J583","v":0},null,null,null,2,null,null,null,null,null,null,null,null,null,null,null,3,1,"42202800.04.R",null,null,null,null,null,null,null,null,null,null,null,null,null,null,null,null,null,null,null,null,null,null,1,{"$f":"IF(AZ583=1,G583,0)","v":0},{"$f":"IF(AZ583=2,G583,0)","v":0},{"$f":"IF(AZ583=3,G583,0)","v":0},{"$f":"IF(AZ583=4,G583,0)","v":0},{"$f":"IF(AZ583=5,G583,0)","v":0},null,null,null,null,null,null,null,null,null,null,null,null,null,null,null,null,null,null,null,null,null,3,1]
[null,null,"NTP:",null,0,null,null,null,null,null,null,null,"NTP:"]
[null,null,"Řad \"B\" TLT DN80:",null,0,null,null,null,null,null,null,null,"Řad \"B\" TLT DN80:"]
[null,null,"Š DN50:1",null,1,null,null,null,null,null,null,null,"Š DN50:1"]
[67,"42203350.05.R","Navrtávací pas HACOM č.3350 80-2\"","kus",8,null,{"$f":"E587*F587","v":0},2.7000000000000001E-3,{"$f":"E587*H587","v":2.1600000000000001E-2},null,{"$f":"E587*J587","v":0},null,null,null,2,null,null,null,null,null,null,null,null,null,null,null,3,1,"42203350.05.R",null,null,null,null,null,null,null,null,null,null,null,null,null,null,null,null,null,null,null,null,null,null,1,{"$f":"IF(AZ587=1,G587,0)","v":0},{"$f":"IF(AZ587=2,G587,0)","v":0},{"$f":"IF(AZ587=3,G587,0)","v":0},{"$f":"IF(AZ587=4,G587,0)","v":0},{"$f":"IF(AZ587=5,G587,0)","v":0},null,null,null,null,null,null,null,null,null,null,null,null,null,null,null,null,null,null,null,null,null,3,1]
[null,null,"NTP:",null,0,null,null,null,null,null,null,null,"NTP:"]
[null,null,"Řad \"A\" TLT DN80:",null,0,null,null,null,null,null,null,null,"Řad \"A\" TLT DN80:"]
[null,null,"Řad \"B\" TLT DN80:",null,0,null,null,null,null,null,null,null,"Řad \"B\" TLT DN80:"]
[null,null,"VP PE D 32x3,0 mm (5 kusů):5",null,5,null,null,null,null,null,null,null,"VP PE D 32x3,0 mm (5 kusů):5"]
[null,null,"VP PE D 40x3,7 mm (1 kus):1",null,1,null,null,null,null,null,null,null,"VP PE D 40x3,7 mm (1 kus):1"]
[null,null,"VP PE D 63x5,8 mm (2 kusy):2",null,2,null,null,null,null,null,null,null,"VP PE D 63x5,8 mm (2 kusy):2"]
[68,"42203481.R","Podkladová deska č. 3481","kus",17,null,{"$f":"E594*F594","v":0},5.9999999999999995E-4,{"$f":"E594*H594","v":1.0199999999999999E-2},null,{"$f":"E594*J594","v":0},null,null,null,2,null,null,null,null,null,null,null,null,null,null,null,3,1,"42203481.R",null,null,null,null,null,null,null,null,null,null,null,null,null,null,null,null,null,null,null,null,null,null,1,{"$f":"IF(AZ594=1,G594,0)","v":0},{"$f":"IF(AZ594=2,G594,0)","v":0},{"$f":"IF(AZ594=3,G594,0)","v":0},{"$f":"IF(AZ594=4,G594,0)","v":0},{"$f":"IF(AZ594=5,G594,0)","v":0},null,null,null,null,null,null,null,null,null,null,null,null,null,null,null,null,null,null,null,null,null,3,1]
[null,null,"VTP:",null,0,null,null,null,null,null,null,null,"VTP:"]
[null,null,"Řad \"B\" PE D90x8,2 mm:",null,0,null,null,null,null,null,null,null,"Řad \"B\" PE D90x8,2 mm:"]
[null,null,"Š DN80:3",null,3,null,null,null,null,null,null,null,"Š DN80:3"]
[null,null,"Řad \"C\" PE D90x8,2 mm:",null,0,null,null,null,null,null,null,null,"Řad \"C\" PE D90x8,2 mm:"]
[null,null,"Š DN80:2",null,2,null,null,null,null,null,null,null,"Š DN80:2"]
[null,null,"VTP:",null,0,null,null,null,null,null,null,null,"VTP:"]
[null,null,"Řad \"B\" PE D90x8,2 mm:",null,0,null,null,null,null,null,null,null,"Řad \"B\" PE D90x8,2 mm:"]
[null,null,"Řad \"C\" PE D90x8,2 mm:",null,0,null,null,null,null,null,null,null,"Řad \"C\" PE D90x8,2 mm:"]
[null,null,"VP PE D 32x3,0 mm (12 kusů):12",null,12,null,null,null,null,null,null,null,"VP PE D 32x3,0 mm (12 kusů):12"]
[69,"42203482.R","Podkladová deska č. 3482","kus",2,null,{"$f":"E604*F604","v":0},5.9999999999999995E-4,{"$f":"E604*H604","v":1.1999999999999999E-3},null,{"$f":"E604*J604","v":0},null,null,null,2,null,null,null,null,null,null,null,null,null,null,null,3,1,"42203482.R",null,null,null,null,null,null,null,null,null,null,null,null,null,null,null,null,null,null,null,null,null,null,1,{"$f":"IF(AZ604=1,G604,0)","v":0},{"$f":"IF(AZ604=2,G604,0)","v":0},{"$f":"IF(AZ604=3,G604,0)","v":0},{"$f":"IF(AZ604=4,G604,0)","v":0},{"$f":"IF(AZ604=5,G604,0)","v":0},null,null,null,null,null,null,null,null,null,null,null,null,null,null,null,null,null,null,null,null,null,3,1]
[null,null,"VTP:",null,0,null,null,null,null,null,null,null,"VTP:"]
[null,null,"Řad \"B\" PE D90x8,2 mm:",null,0,null,null,null,null,null,null,null,"Řad \"B\" PE D90x8,2 mm:"]
[null,null,"Hp DN80/1,5:1",null,1,null,null,null,null,null,null,null,"Hp DN80/1,5:1"]
[null,null,"Řad \"C\" PE D90x8,2 mm:",null,0,null,null,null,null,null,null,null,"Řad \"C\" PE D90x8,2 mm:"]
[null,null,"Hp DN80/1,5:1",null,1,null,null,null,null,null,null,null,"Hp DN80/1,5:1"]
[70,"42206221.1.R","Napojovací ISO tvarovka č. 6221F - 6/4\" - 32","kus",5,null,{"$f":"E610*F610","v":0},2.5999999999999999E-3,{"$f":"E610*H610","v":1.2999999999999999E-2},null,{"$f":"E610*J610","v":0},null,null,null,2,null,null,null,null,null,null,null,null,null,null,null,3,1,"42206221.1.R",null,null,null,null,null,null,null,null,null,null,null,null,null,null,null,null,null,null,null,null,null,null,1,{"$f":"IF(AZ610=1,G610,0)","v":0},{"$f":"IF(AZ610=2,G610,0)","v":0},{"$f":"IF(AZ610=3,G610,0)","v":0},{"$f":"IF(AZ610=4,G610,0)","v":0},{"$f":"IF(AZ610=5,G610,0)","v":0},null,null,null,null,null,null,null,null,null,null,null,null,null,null,null,null,null,null,null,null,null,3,1]
[null,null,"NTP:",null,0,null,null,null,null,null,null,null,"NTP:"]
[null,null,"Řad \"A\" TLT DN80:",null,0,null,null,null,null,null,null,null,"Řad \"A\" TLT DN80:"]
[null,null,"Řad \"B\" TLT DN80:",null,0,null,null,null,null,null,null,null,"Řad \"B\" TLT DN80:"]
[null,null,"VP PE D 32x3,0 mm (5 kusů):5",null,5,null,null,null,null,null,null,null,"VP PE D 32x3,0 mm (5 kusů):5"]
[71,"42206221.2.R","Napojovací ISO tvarovka č. 6221F - 6/4\" - 40","kus",1,null,{"$f":"E615*F615","v":0},2.5999999999999999E-3,{"$f":"E615*H615","v":2.5999999999999999E-3},null,{"$f":"E615*J615","v":0},null,null,null,2,null,null,null,null,null,null,null,null,null,null,null,3,1,"42206221.2.R",null,null,null,null,null,null,null,null,null,null,null,null,null,null,null,null,null,null,null,null,null,null,1,{"$f":"IF(AZ615=1,G615,0)","v":0},{"$f":"IF(AZ615=2,G615,0)","v":0},{"$f":"IF(AZ615=3,G615,0)","v":0},{"$f":"IF(AZ615=4,G615,0)","v":0},{"$f":"IF(AZ615=5,G615,0)","v":0},null,null,null,null,null,null,null,null,null,null,null,null,null,null,null,null,null,null,null,null,null,3,1]
[null,null,"NTP:",null,0,null,null,null,null,null,null,null,"NTP:"]
[null,null,"Řad \"A\" TLT DN80:",null,0,null,null,null,null,null,null,null,"Řad \"A\" TLT DN80:"]
[null,null,"Řad \"B\" TLT DN80:",null,0,null,null,null,null,null,null,null,"Řad \"B\" TLT DN80:"]
[null,null,"VP PE D 40x3,7 mm (1 kus):1",null,1,null,null,null,null,null,null,null,"VP PE D 40x3,7 mm (1 kus):1"]
[72,"42206221.3.R","Napojovací ISO tvarovka č. 6221F - 6/4\" - 63","kus",4,null,{"$f":"E620*F620","v":0},2.5999999999999999E-3,{"$f":"E620*H620","v":1.04E-2},null,{"$f":"E620*J620","v":0},null,null,null,2,null,null,null,null,null,null,null,null,null,null,null,3,1,"42206221.3.R",null,null,null,null,null,null,null,null,null,null,null,null,null,null,null,null,null,null,null,null,null,null,1,{"$f":"IF(AZ620=1,G620,0)","v":0},{"$f":"IF(AZ620=2,G620,0)","v":0},{"$f":"IF(AZ620=3,G620,0)","v":0},{"$f":"IF(AZ620=4,G620,0)","v":0},{"$f":"IF(AZ620=5,G620,0)","v":0},null,null,null,null,null,null,null,null,null,null,null,null,null,null,null,null,null,null,null,null,null,3,1]
[null,null,"NTP:",null,0,null,null,null,null,null,null,null,"NTP:"]
[null,null,"Řad \"A\" TLT DN80:",null,0,null,null,null,null,null,null,null,"Řad \"A\" TLT DN80:"]
[null,null,"Řad \"B\" TLT DN80:",null,0,null,null,null,null,null,null,null,"Řad \"B\" TLT DN80:"]
[null,null,"Pro propoj D63:2",null,2,null,null,null,null,null,null,null,"Pro propoj D63:2"]
[null,null,"VP PE D 63x5,8 mm (2 kusy):2",null,2,null,null,null,null,null,null,null,"VP PE D 63x5,8 mm (2 kusy):2"]
[73,"42209601.R","Zemní souprava tel. (1,3 - 1,8 m) č.9601 3/4-2\"","kus",9,null,{"$f":"E626*F626","v":0},2.5000000000000001E-3,{"$f":"E626*H626","v":2.2499999999999999E-2},null,{"$f":"E626*J626","v":0},null,null,null,2,null,null,null,null,null,null,null,null,null,null,null,3,1,"42209601.R",null,null,null,null,null,null,null,null,null,null,null,null,null,null,null,null,null,null,null,null,null,null,1,{"$f":"IF(AZ626=1,G626,0)","v":0},{"$f":"IF(AZ626=2,G626,0)","v":0},{"$f":"IF(AZ626=3,G626,0)","v":0},{"$f":"IF(AZ626=4,G626,0)","v":0},{"$f":"IF(AZ626=5,G626,0)","v":0},null,null,null,null,null,null,null,null,null,null,null,null,null,null,null,null,null,null,null,null,null,3,1]
[null,null,"NTP:",null,0,null,null,null,null,null,null,null,"NTP:"]
[null,null,"Řad \"A\" TLT DN80:",null,0,null,null,null,null,null,null,null,"Řad \"A\" TLT DN80:"]
[null,null,"Řad \"B\" TLT DN80:",null,0,null,null,null,null,null,null,null,"Řad \"B\" TLT DN80:"]
[null,null,"Š D 63:1",null,1,null,null,null,null,null,null,null,"Š D 63:1"]
[null,null,"VP PE D 32x3,0 mm (5 kusů):5",null,5,null,null,null,null,null,null,null,"VP PE D 32x3,0 mm (5 kusů):5"]
[null,null,"VP PE D 40x3,7 mm (1 kus):1",null,1,null,null,null,null,null,null,null,"VP PE D 40x3,7 mm (1 kus):1"]
[null,null,"VP PE D 63x5,8 mm (2 kusy):2",null,2,null,null,null,null,null,null,null,"VP PE D 63x5,8 mm (2 kusy):2"]
[74,"42209999.R","Drenážní obal","kus",3,null,{"$f":"E634*F634","v":0},4.7999999999999996E-3,{"$f":"E634*H634","v":1.44E-2},null,{"$f":"E634*J634","v":0},null,null,null,2,null,null,null,null,null,null,null,null,null,null,null,3,1,"42209999.R",null,null,null,null,null,null,null,null,null,null,null,null,null,null,null,null,null,null,null,null,null,null,1,{"$f":"IF(AZ634=1,G634,0)","v":0},{"$f":"IF(AZ634=2,G634,0)","v":0},{"$f":"IF(AZ634=3,G634,0)","v":0},{"$f":"IF(AZ634=4,G634,0)","v":0},{"$f":"IF(AZ634=5,G634,0)","v":0},null,null,null,null,null,null,null,null,null,null,null,null,null,null,null,null,null,null,null,null,null,3,1]
[null,null,"NTP:",null,0,null,null,null,null,null,null,null,"NTP:"]
[null,null,"Řad \"B\" TLT DN80:",null,0,null,null,null,null,null,null,null,"Řad \"B\" TLT DN80:"]
[null,null,"Hp DN80/1,5:1",null,1,null,null,null,null,null,null,null,"Hp DN80/1,5:1"]
[null,null,"VTP:",null,0,null,null,null,null,null,null,null,"VTP:"]
[null,null,"Řad \"B\" PE D90x8,2 mm:",null,0,null,null,null,null,null,null,null,"Řad \"B\" PE D90x8,2 mm:"]
[null,null,"Hp DN80/1,5:1",null,1,null,null,null,null,null,null,null,"Hp DN80/1,5:1"]
[null,null,"Řad \"C\" PE D90x8,2 mm:",null,0,null,null,null,null,null,null,null,"Řad \"C\" PE D90x8,2 mm:"]
[null,null,"Hp DN80/1,5:1",null,1,null,null,null,null,null,null,null,"Hp DN80/1,5:1"]
[75,"42228310.R","Šoupátko 4000E2 DN 80 přírubové, voda PN16","kus",11,null,{"$f":"E643*F643","v":0},1.6500000000000001E-2,{"$f":"E643*H643","v":0.18149999999999999},null,{"$f":"E643*J643","v":0},null,null,null,2,null,null,null,null,null,null,null,null,null,null,null,3,1,"42228310.R",null,null,null,null,null,null,null,null,null,null,null,null,null,null,null,null,null,null,null,null,null,null,1,{"$f":"IF(AZ643=1,G643,0)","v":0},{"$f":"IF(AZ643=2,G643,0)","v":0},{"$f":"IF(AZ643=3,G643,0)","v":0},{"$f":"IF(AZ643=4,G643,0)","v":0},{"$f":"IF(AZ643=5,G643,0)","v":0},null,null,null,null,null,null,null,null,null,null,null,null,null,null,null,null,null,null,null,null,null,3,1]
[null,null,"Šoupátko přírubové krkové - měkcetěsnící klínové šoupátko s hladkým a volným průtokovým kanálem",null,null,null,null,null,null,null,null,"Šoupátko přírubové krkové - měkcetěsnící klínové šoupátko s hladkým a volným průtokovým kanálem",null,null,3]
[null,null,"č. 4000E2",null,null,null,null,null,null,null,null,"č. 4000E2",null,null,3]
[null,null,"PN 16",null,null,null,null,null,null,null,null,"PN 16",null,null,3]
[null,null,"DN 80",null,null,null,null,null,null,null,null,"DN 80",null,null,3]
[null,null,"těleso a víko: tvárná litina GGG 400 - DIN 1693",null,null,null,null,null,null,null,null,"těleso a víko: tvárná litina GGG 400 - DIN 1693",null,null,3]
[null,null,"medium: pitná voda, neagresivní odpadní voda",null,null,null,null,null,null,null,null,"medium: pitná voda, neagresivní odpadní voda",null,null,3]
[null,null,"NTP:",null,0,null,null,null,null,null,null,null,"NTP:"]
[null,null,"Řad \"A\" TLT DN80:",null,0,null,null,null,null,null,null,null,"Řad \"A\" TLT DN80:"]
[null,null,"Š DN80:3",null,3,null,null,null,null,null,null,null,"Š DN80:3"]
[null,null,"Řad \"B\" TLT DN80:",null,0,null,null,null,null,null,null,null,"Řad \"B\" TLT DN80:"]
[null,null,"Š DN80:2",null,2,null,null,null,null,null,null,null,"Š DN80:2"]
[null,null,"VTP:",null,0,null,null,null,null,null,null,null,"VTP:"]
[null,null,"Řad \"B\" PE D90x8,2 mm:",null,0,null,null,null,null,null,null,null,"Řad \"B\" PE D90x8,2 mm:"]
[null,null,"Š DN80:4",null,4,null,null,null,null,null,null,null,"Š DN80:4"]
[null,null,"Řad \"C\" PE D90x8,2 mm:",null,0,null,null,null,null,null,null,null,"Řad \"C\" PE D90x8,2 mm:"]
[null,null,"Š DN80:2",null,2,null,null,null,null,null,null,null,"Š DN80:2"]
[76,"42228312.R","Šoupátko 4000E2 DN 100 přírubové, voda PN16","kus",2,null,{"$f":"E660*F660","v":0},2.4500000000000001E-2,{"$f":"E660*H660","v":4.9000000000000002E-2},null,{"$f":"E660*J660","v":0},null,null,null,2,null,null,null,null,null,null,null,null,null,null,null,3,1,"42228312.R",null,null,null,null,null,null,null,null,null,null,null,null,null,null,null,null,null,null,null,null,null,null,1,{"$f":"IF(AZ660=1,G660,0)","v":0},{"$f":"IF(AZ660=2,G660,0)","v":0},{"$f":"IF(AZ660=3,G660,0)","v":0},{"$f":"IF(AZ660=4,G660,0)","v":0},{"$f":"IF(AZ660=5,G660,0)","v":0},null,null,null,null,null,null,null,null,null,null,null,null,null,null,null,null,null,null,null,null,null,3,1]
[null,null,"Šoupátko přírubové krkové - měkcetěsnící klínové šoupátko s hladkým a volným průtokovým kanálem",null,null,null,null,null,null,null,null,"Šoupátko přírubové krkové - měkcetěsnící klínové šoupátko s hladkým a volným průtokovým kanálem",null,null,3]
[null,null,"č. 4000E2",null,null,null,null,null,null,null,null,"č. 4000E2",null,null,3]
[null,null,"PN 16",null,null,null,null,null,null,null,null,"PN 16",null,null,3]
[null,null,"DN 100",null,null,null,null,null,null,null,null,"DN 100",null,null,3]
[null,null,"těleso a víko: tvárná litina GGG 400 - DIN 1693",null,null,null,null,null,null,null,null,"těleso a víko: tvárná litina GGG 400 - DIN 1693",null,null,3]
[null,null,"medium: pitná voda, neagresivní odpadní voda",null,null,null,null,null,null,null,null,"medium: pitná voda, neagresivní odpadní voda",null,null,3]
[null,null,"NTP:",null,0,null,null,null,null,null,null,null,"NTP:"]
[null,null,"Řad \"A\" TLT DN80:",null,0,null,null,null,null,null,null,null,"Řad \"A\" TLT DN80:"]
[null,null,"Š DN100:2",null,2,null,null,null,null,null,null,null,"Š DN100:2"]
[77,"422737412.R","Hydrant podzemní DUO K240, DN80,1,5 m-voda","kus",3,null,{"$f":"E670*F670","v":0},3.95E-2,{"$f":"E670*H670","v":0.11849999999999999},null,{"$f":"E670*J670","v":0},null,null,null,2,null,null,null,null,null,null,null,null,null,null,null,3,1,"422737412.R",null,null,null,null,null,null,null,null,null,null,null,null,null,null,null,null,null,null,null,null,null,null,1,{"$f":"IF(AZ670=1,G670,0)","v":0},{"$f":"IF(AZ670=2,G670,0)","v":0},{"$f":"IF(AZ670=3,G670,0)","v":0},{"$f":"IF(AZ670=4,G670,0)","v":0},{"$f":"IF(AZ670=5,G670,0)","v":0},null,null,null,null,null,null,null,null,null,null,null,null,null,null,null,null,null,null,null,null,null,3,1]
[null,null,"NTP:",null,0,null,null,null,null,null,null,null,"NTP:"]
[null,null,"Řad \"B\" TLT DN80:",null,0,null,null,null,null,null,null,null,"Řad \"B\" TLT DN80:"]
[null,null,"Hp DN80/1,5:1",null,1,null,null,null,null,null,null,null,"Hp DN80/1,5:1"]
[null,null,"VTP:",null,0,null,null,null,null,null,null,null,"VTP:"]
[null,null,"Řad \"B\" PE D90x8,2 mm:",null,0,null,null,null,null,null,null,null,"Řad \"B\" PE D90x8,2 mm:"]
[null,null,"Hp DN80/1,5:1",null,1,null,null,null,null,null,null,null,"Hp DN80/1,5:1"]
[null,null,"Řad \"C\" PE D90x8,2 mm:",null,0,null,null,null,null,null,null,null,"Řad \"C\" PE D90x8,2 mm:"]
[null,null,"Hp DN80/1,5:1",null,1,null,null,null,null,null,null,null,"Hp DN80/1,5:1"]
[78,"42293250.R","Souprava zemní tel.9500E2/E3 DN50 -100, 1,3-1,8m","kus",13,null,{"$f":"E679*F679","v":0},7.3000000000000001E-3,{"$f":"E679*H679","v":9.4899999999999998E-2},null,{"$f":"E679*J679","v":0},null,null,null,2,null,null,null,null,null,null,null,null,null,null,null,3,1,"42293250.R",null,null,null,null,null,null,null,null,null,null,null,null,null,null,null,null,null,null,null,null,null,null,1,{"$f":"IF(AZ679=1,G679,0)","v":0},{"$f":"IF(AZ679=2,G679,0)","v":0},{"$f":"IF(AZ679=3,G679,0)","v":0},{"$f":"IF(AZ679=4,G679,0)","v":0},{"$f":"IF(AZ679=5,G679,0)","v":0},null,null,null,null,null,null,null,null,null,null,null,null,null,null,null,null,null,null,null,null,null,3,1]
[null,null,"NTP:",null,0,null,null,null,null,null,null,null,"NTP:"]
[null,null,"Řad \"A\" TLT DN80:",null,0,null,null,null,null,null,null,null,"Řad \"A\" TLT DN80:"]
[null,null,"Š DN80:3",null,3,null,null,null,null,null,null,null,"Š DN80:3"]
[null,null,"Š DN100:2",null,2,null,null,null,null,null,null,null,"Š DN100:2"]
[null,null,"Řad \"B\" TLT DN80:",null,0,null,null,null,null,null,null,null,"Řad \"B\" TLT DN80:"]
[null,null,"Š DN80:2",null,2,null,null,null,null,null,null,null,"Š DN80:2"]
[null,null,"VTP:",null,0,null,null,null,null,null,null,null,"VTP:"]
[null,null,"Řad \"B\" PE D90x8,2 mm:",null,0,null,null,null,null,null,null,null,"Řad \"B\" PE D90x8,2 mm:"]
[null,null,"Š DN80:4",null,4,null,null,null,null,null,null,null,"Š DN80:4"]
[null,null,"Řad \"C\" PE D90x8,2 mm:",null,0,null,null,null,null,null,null,null,"Řad \"C\" PE D90x8,2 mm:"]
[null,null,"Š DN80:2",null,2,null,null,null,null,null,null,null,"Š DN80:2"]
[79,"422935303.R","Spojka Synoflex 7974, DN 80/65, PN 16","kus",1,null,{"$f":"E691*F691","v":0},6.8999999999999999E-3,{"$f":"E691*H691","v":6.8999999999999999E-3},null,{"$f":"E691*J691","v":0},null,null,null,2,null,null,null,null,null,null,null,null,null,null,null,3,1,"422935303.R",null,null,null,null,null,null,null,null,null,null,null,null,null,null,null,null,null,null,null,null,null,null,1,{"$f":"IF(AZ691=1,G691,0)","v":0},{"$f":"IF(AZ691=2,G691,0)","v":0},{"$f":"IF(AZ691=3,G691,0)","v":0},{"$f":"IF(AZ691=4,G691,0)","v":0},{"$f":"IF(AZ691=5,G691,0)","v":0},null,null,null,null,null,null,null,null,null,null,null,null,null,null,null,null,null,null,null,null,null,3,1]
[null,null,"NTP:",null,0,null,null,null,null,null,null,null,"NTP:"]
[null,null,"Řad \"C\" TLT DN80:",null,0,null,null,null,null,null,null,null,"Řad \"C\" TLT DN80:"]
[null,null,"Synoflex spojka redukovaný DN80/65:1",null,1,null,null,null,null,null,null,null,"Synoflex spojka redukovaný DN80/65:1"]
[80,"422935322.R","Spojka Synoflex s přírubou 7994, DN 80/65,PN 16","kus",1,null,{"$f":"E695*F695","v":0},7.1000000000000004E-3,{"$f":"E695*H695","v":7.1000000000000004E-3},null,{"$f":"E695*J695","v":0},null,null,null,2,null,null,null,null,null,null,null,null,null,null,null,3,1,"422935322.R",null,null,null,null,null,null,null,null,null,null,null,null,null,null,null,null,null,null,null,null,null,null,1,{"$f":"IF(AZ695=1,G695,0)","v":0},{"$f":"IF(AZ695=2,G695,0)","v":0},{"$f":"IF(AZ695=3,G695,0)","v":0},{"$f":"IF(AZ695=4,G695,0)","v":0},{"$f":"IF(AZ695=5,G695,0)","v":0},null,null,null,null,null,null,null,null,null,null,null,null,null,null,null,null,null,null,null,null,null,3,1]
[null,null,"NTP:",null,0,null,null,null,null,null,null,null,"NTP:"]
[null,null,"Řad \"B\" TLT DN80:",null,0,null,null,null,null,null,null,null,"Řad \"B\" TLT DN80:"]
[null,null,"Synoflex s přírubou redukovaný DN80/65:1",null,1,null,null,null,null,null,null,null,"Synoflex s přírubou redukovaný DN80/65:1"]
[81,"422935323.R","Spojka Synoflex s přírubou 7994, DN100,PN 16","kus",2,null,{"$f":"E699*F699","v":0},1.0800000000000001E-2,{"$f":"E699*H699","v":2.1600000000000001E-2},null,{"$f":"E699*J699","v":0},null,null,null,2,null,null,null,null,null,null,null,null,null,null,null,3,1,"422935323.R",null,null,null,null,null,null,null,null,null,null,null,null,null,null,null,null,null,null,null,null,null,null,1,{"$f":"IF(AZ699=1,G699,0)","v":0},{"$f":"IF(AZ699=2,G699,0)","v":0},{"$f":"IF(AZ699=3,G699,0)","v":0},{"$f":"IF(AZ699=4,G699,0)","v":0},{"$f":"IF(AZ699=5,G699,0)","v":0},null,null,null,null,null,null,null,null,null,null,null,null,null,null,null,null,null,null,null,null,null,3,1]
[null,null,"NTP:",null,0,null,null,null,null,null,null,null,"NTP:"]
[null,null,"Řad \"A\" TLT DN80:",null,0,null,null,null,null,null,null,null,"Řad \"A\" TLT DN80:"]
[null,null,"Synoflex s přírubou DN100:2",null,2,null,null,null,null,null,null,null,"Synoflex s přírubou DN100:2"]
[82,"55251130.R","TL vod.tlak. DN 80 mm C100 spoj TYTON","m",225.53299999999999,null,{"$f":"E703*F703","v":0},1.4500000000000001E-2,{"$f":"E703*H703","v":3.2702285},null,{"$f":"E703*J703","v":0},null,null,null,2,null,null,null,null,null,null,null,null,null,null,null,3,1,"55251130.R",null,null,null,null,null,null,null,null,null,null,null,null,null,null,null,null,null,null,null,null,null,null,1,{"$f":"IF(AZ703=1,G703,0)","v":0},{"$f":"IF(AZ703=2,G703,0)","v":0},{"$f":"IF(AZ703=3,G703,0)","v":0},{"$f":"IF(AZ703=4,G703,0)","v":0},{"$f":"IF(AZ703=5,G703,0)","v":0},null,null,null,null,null,null,null,null,null,null,null,null,null,null,null,null,null,null,null,null,null,3,1]
[null,null,"Hrdlová trouba z tvárné litiny s hladkým koncem dle ČSN EN 545",null,null,null,null,null,null,null,null,"Hrdlová trouba z tvárné litiny s hladkým koncem dle ČSN EN 545",null,null,3]
[null,null,"Hrdlový spoj Tyton (pružný násuvný spoj EPDM)",null,null,null,null,null,null,null,null,"Hrdlový spoj Tyton (pružný násuvný spoj EPDM)",null,null,3]
[null,null,"Zinek Plus - vně zinko-aluminiový povlak 400 g/m2 (85Zn-15Al) s krycí modrou epoxidovou vrstvou",null,null,null,null,null,null,null,null,"Zinek Plus - vně zinko-aluminiový povlak 400 g/m2 (85Zn-15Al) s krycí modrou epoxidovou vrstvou",null,null,3]
[null,null,"uvnitř vyložení z cementové malty z vysokopecního cementu",null,null,null,null,null,null,null,null,"uvnitř vyložení z cementové malty z vysokopecního cementu",null,null,3]
[null,null,"hrdla trub jsou zevnitř pozinkována a pokryta epoxidovým povlakem",null,null,null,null,null,null,null,null,"hrdla trub jsou zevnitř pozinkována a pokryta epoxidovým povlakem",null,null,3]
[null,null,"NTP:",null,0,null,null,null,null,null,null,null,"NTP:"]
[null,null,"Řad \"A\" TLT DN80:174,30*1,01",null,176.04300000000001,null,null,null,null,null,null,null,"Řad \"A\" TLT DN80:174,30*1,01"]
[null,null,"Řad \"B\" TLT DN80:37,10*1,01",null,37.470999999999997,null,null,null,null,null,null,null,"Řad \"B\" TLT DN80:37,10*1,01"]
[null,null,"Řad \"C\" TLT DN80:11,90*1,01",null,12.019,null,null,null,null,null,null,null,"Řad \"C\" TLT DN80:11,90*1,01"]
[83,"55259410.R","Koleno hrdlové MMK DN80-11 1/4°","kus",6,null,{"$f":"E713*F713","v":0},6.4999999999999997E-3,{"$f":"E713*H713","v":3.9E-2},null,{"$f":"E713*J713","v":0},null,null,null,2,null,null,null,null,null,null,null,null,null,null,null,3,1,"55259410.R",null,null,null,null,null,null,null,null,null,null,null,null,null,null,null,null,null,null,null,null,null,null,1,{"$f":"IF(AZ713=1,G713,0)","v":0},{"$f":"IF(AZ713=2,G713,0)","v":0},{"$f":"IF(AZ713=3,G713,0)","v":0},{"$f":"IF(AZ713=4,G713,0)","v":0},{"$f":"IF(AZ713=5,G713,0)","v":0},null,null,null,null,null,null,null,null,null,null,null,null,null,null,null,null,null,null,null,null,null,3,1]
[null,null,"NTP:",null,0,null,null,null,null,null,null,null,"NTP:"]
[null,null,"Řad \"A\" TLT DN80:",null,0,null,null,null,null,null,null,null,"Řad \"A\" TLT DN80:"]
[null,null,"MMK DN80/11°:5",null,5,null,null,null,null,null,null,null,"MMK DN80/11°:5"]
[null,null,"Řad \"B\" TLT DN80:",null,0,null,null,null,null,null,null,null,"Řad \"B\" TLT DN80:"]
[null,null,"MMK DN80/11°:1",null,1,null,null,null,null,null,null,null,"MMK DN80/11°:1"]
[84,"55259430.R","Koleno hrdlové MMK DN80-22 1/2°","kus",3,null,{"$f":"E719*F719","v":0},6.7000000000000002E-3,{"$f":"E719*H719","v":2.01E-2},null,{"$f":"E719*J719","v":0},null,null,null,2,null,null,null,null,null,null,null,null,null,null,null,3,1,"55259430.R",null,null,null,null,null,null,null,null,null,null,null,null,null,null,null,null,null,null,null,null,null,null,1,{"$f":"IF(AZ719=1,G719,0)","v":0},{"$f":"IF(AZ719=2,G719,0)","v":0},{"$f":"IF(AZ719=3,G719,0)","v":0},{"$f":"IF(AZ719=4,G719,0)","v":0},{"$f":"IF(AZ719=5,G719,0)","v":0},null,null,null,null,null,null,null,null,null,null,null,null,null,null,null,null,null,null,null,null,null,3,1]
[null,null,"NTP:",null,0,null,null,null,null,null,null,null,"NTP:"]
[null,null,"Řad \"A\" TLT DN80:",null,0,null,null,null,null,null,null,null,"Řad \"A\" TLT DN80:"]
[null,null,"MMK DN80/22° :1",null,1,null,null,null,null,null,null,null,"MMK DN80/22° :1"]
[null,null,"Řad \"B\" TLT DN80:",null,0,null,null,null,null,null,null,null,"Řad \"B\" TLT DN80:"]
[null,null,"MMK DN80/22° :2",null,2,null,null,null,null,null,null,null,"MMK DN80/22° :2"]
[85,"55259470.R","Koleno hrdlové MMK DN80/45°","kus",3,null,{"$f":"E725*F725","v":0},8.6999999999999994E-3,{"$f":"E725*H725","v":2.6099999999999998E-2},null,{"$f":"E725*J725","v":0},null,null,null,2,null,null,null,null,null,null,null,null,null,null,null,3,1,"55259470.R",null,null,null,null,null,null,null,null,null,null,null,null,null,null,null,null,null,null,null,null,null,null,1,{"$f":"IF(AZ725=1,G725,0)","v":0},{"$f":"IF(AZ725=2,G725,0)","v":0},{"$f":"IF(AZ725=3,G725,0)","v":0},{"$f":"IF(AZ725=4,G725,0)","v":0},{"$f":"IF(AZ725=5,G725,0)","v":0},null,null,null,null,null,null,null,null,null,null,null,null,null,null,null,null,null,null,null,null,null,3,1]
[null,null,"NTP:",null,0,null,null,null,null,null,null,null,"NTP:"]
[null,null,"Řad \"A\" TLT DN80:",null,0,null,null,null,null,null,null,null,"Řad \"A\" TLT DN80:"]
[null,null,"MMK DN80/45° :3",null,3,null,null,null,null,null,null,null,"MMK DN80/45° :3"]
[86,"55259730.R","Tvar. přír. s hrdlem EU DN 80","kus",5,null,{"$f":"E729*F729","v":0},6.8999999999999999E-3,{"$f":"E729*H729","v":3.4500000000000003E-2},null,{"$f":"E729*J729","v":0},null,null,null,2,null,null,null,null,null,null,null,null,null,null,null,3,1,"55259730.R",null,null,null,null,null,null,null,null,null,null,null,null,null,null,null,null,null,null,null,null,null,null,1,{"$f":"IF(AZ729=1,G729,0)","v":0},{"$f":"IF(AZ729=2,G729,0)","v":0},{"$f":"IF(AZ729=3,G729,0)","v":0},{"$f":"IF(AZ729=4,G729,0)","v":0},{"$f":"IF(AZ729=5,G729,0)","v":0},null,null,null,null,null,null,null,null,null,null,null,null,null,null,null,null,null,null,null,null,null,3,1]
[null,null,"NTP:",null,0,null,null,null,null,null,null,null,"NTP:"]
[null,null,"Řad \"A\" TLT DN80:",null,0,null,null,null,null,null,null,null,"Řad \"A\" TLT DN80:"]
[null,null,"EU DN80:3",null,3,null,null,null,null,null,null,null,"EU DN80:3"]
[null,null,"Řad \"B\" TLT DN80:",null,0,null,null,null,null,null,null,null,"Řad \"B\" TLT DN80:"]
[null,null,"EU DN80:2",null,2,null,null,null,null,null,null,null,"EU DN80:2"]
[87,"552599939.R","Tvarovka přír. s přír. odb. T DN 80/80","kus",3,null,{"$f":"E735*F735","v":0},1.49E-2,{"$f":"E735*H735","v":4.4700000000000004E-2},null,{"$f":"E735*J735","v":0},null,null,null,2,null,null,null,null,null,null,null,null,null,null,null,3,1,"552599939.R",null,null,null,null,null,null,null,null,null,null,null,null,null,null,null,null,null,null,null,null,null,null,1,{"$f":"IF(AZ735=1,G735,0)","v":0},{"$f":"IF(AZ735=2,G735,0)","v":0},{"$f":"IF(AZ735=3,G735,0)","v":0},{"$f":"IF(AZ735=4,G735,0)","v":0},{"$f":"IF(AZ735=5,G735,0)","v":0},null,null,null,null,null,null,null,null,null,null,null,null,null,null,null,null,null,null,null,null,null,3,1]
[null,null,"NTP:",null,0,null,null,null,null,null,null,null,"NTP:"]
[null,null,"Řad \"A\" TLT DN80:",null,0,null,null,null,null,null,null,null,"Řad \"A\" TLT DN80:"]
[null,null,"T DN80/80:1",null,1,null,null,null,null,null,null,null,"T DN80/80:1"]
[null,null,"Řad \"B\" TLT DN80:",null,0,null,null,null,null,null,null,null,"Řad \"B\" TLT DN80:"]
[null,null,"T DN80/80:1",null,1,null,null,null,null,null,null,null,"T DN80/80:1"]
[null,null,"VTP:",null,0,null,null,null,null,null,null,null,"VTP:"]
[null,null,"Řad \"B\" PE D90x8,2 mm:",null,0,null,null,null,null,null,null,null,"Řad \"B\" PE D90x8,2 mm:"]
[null,null,"T DN80/80:1",null,1,null,null,null,null,null,null,null,"T DN80/80:1"]
[88,"552599943.R","Tvarovka přír. s přír. odb. T DN 100/80","kus",1,null,{"$f":"E744*F744","v":0},1.78E-2,{"$f":"E744*H744","v":1.78E-2},null,{"$f":"E744*J744","v":0},null,null,null,2,null,null,null,null,null,null,null,null,null,null,null,3,1,"552599943.R",null,null,null,null,null,null,null,null,null,null,null,null,null,null,null,null,null,null,null,null,null,null,1,{"$f":"IF(AZ744=1,G744,0)","v":0},{"$f":"IF(AZ744=2,G744,0)","v":0},{"$f":"IF(AZ744=3,G744,0)","v":0},{"$f":"IF(AZ744=4,G744,0)","v":0},{"$f":"IF(AZ744=5,G744,0)","v":0},null,null,null,null,null,null,null,null,null,null,null,null,null,null,null,null,null,null,null,null,null,3,1]
[null,null,"NTP:",null,0,null,null,null,null,null,null,null,"NTP:"]
[null,null,"Řad \"A\" TLT DN80:",null,0,null,null,null,null,null,null,null,"Řad \"A\" TLT DN80:"]
[null,null,"T DN100/80:1",null,1,null,null,null,null,null,null,null,"T DN100/80:1"]
[89,"55260055.R","Příruba zaslepovací  XG DN 80 závit 2\"","kus",2,null,{"$f":"E748*F748","v":0},3.7000000000000002E-3,{"$f":"E748*H748","v":7.4000000000000003E-3},null,{"$f":"E748*J748","v":0},null,null,null,2,null,null,null,null,null,null,null,null,null,null,null,3,1,"55260055.R",null,null,null,null,null,null,null,null,null,null,null,null,null,null,null,null,null,null,null,null,null,null,1,{"$f":"IF(AZ748=1,G748,0)","v":0},{"$f":"IF(AZ748=2,G748,0)","v":0},{"$f":"IF(AZ748=3,G748,0)","v":0},{"$f":"IF(AZ748=4,G748,0)","v":0},{"$f":"IF(AZ748=5,G748,0)","v":0},null,null,null,null,null,null,null,null,null,null,null,null,null,null,null,null,null,null,null,null,null,3,1]
[null,null,"NTP:",null,0,null,null,null,null,null,null,null,"NTP:"]
[null,null,"Řad \"B\" TLT DN80:",null,0,null,null,null,null,null,null,null,"Řad \"B\" TLT DN80:"]
[null,null,"XG DN80/2\":2",null,2,null,null,null,null,null,null,null,"XG DN80/2\":2"]
[90,"5526009705.R","Koleno prodloužené přír.s patkou PPL DN 80","kus",3,null,{"$f":"E752*F752","v":0},1.2200000000000001E-2,{"$f":"E752*H752","v":3.6600000000000001E-2},null,{"$f":"E752*J752","v":0},null,null,null,2,null,null,null,null,null,null,null,null,null,null,null,3,1,"5526009705.R",null,null,null,null,null,null,null,null,null,null,null,null,null,null,null,null,null,null,null,null,null,null,1,{"$f":"IF(AZ752=1,G752,0)","v":0},{"$f":"IF(AZ752=2,G752,0)","v":0},{"$f":"IF(AZ752=3,G752,0)","v":0},{"$f":"IF(AZ752=4,G752,0)","v":0},{"$f":"IF(AZ752=5,G752,0)","v":0},null,null,null,null,null,null,null,null,null,null,null,null,null,null,null,null,null,null,null,null,null,3,1]
[null,null,"NTP:",null,0,null,null,null,null,null,null,null,"NTP:"]
[null,null,"Řad \"B\" TLT DN80:",null,0,null,null,null,null,null,null,null,"Řad \"B\" TLT DN80:"]
[null,null,"PPL DN80:1",null,1,null,null,null,null,null,null,null,"PPL DN80:1"]
[null,null,"VTP:",null,0,null,null,null,null,null,null,null,"VTP:"]
[null,null,"Řad \"B\" PE D90x8,2 mm:",null,0,null,null,null,null,null,null,null,"Řad \"B\" PE D90x8,2 mm:"]
[null,null,"PPL DN80:1",null,1,null,null,null,null,null,null,null,"PPL DN80:1"]
[null,null,"Řad \"C\" PE D90x8,2 mm:",null,0,null,null,null,null,null,null,null,"Řad \"C\" PE D90x8,2 mm:"]
[null,null,"PPL DN80:1",null,1,null,null,null,null,null,null,null,"PPL DN80:1"]
[null,"Celkem za","8 Trubní vedení",null,null,null,{"$f":"SUM(G305:G760)","v":0},null,{"$f":"SUM(I305:I760)","v":6.6710645449999992},null,{"$f":"SUM(K305:K760)","v":0},null,null,null,4,null,null,null,null,null,null,null,null,null,null,null,null,null,null,null,null,null,null,null,null,null,null,null,null,null,null,null,null,null,null,null,null,null,null,null,null,null,{"$f":"SUM(BA305:BA760)","v":0},{"$f":"SUM(BB305:BB760)","v":0},{"$f":"SUM(BC305:BC760)","v":0},{"$f":"SUM(BD305:BD760)","v":0},{"$f":"SUM(BE305:BE760)","v":0}]
["Díl:","89","Ostatní konstrukce na trubním vedení",null,null,null,null,null,null,null,null,null,null,null,1]
[91,"899 01-0001.RRX","Provizorní vodovod PE100 RC1 D 63x5,8 mm včetně příslušných tvarovek a propojů","m",320,null,{"$f":"E763*F763","v":0},0,{"$f":"E763*H763","v":0},null,{"$f":"E763*J763","v":0},null,null,null,2,null,null,null,null,null,null,null,null,null,null,null,12,0,2,null,null,null,null,null,null,null,null,null,null,null,null,null,null,null,null,null,null,null,null,null,null,1,{"$f":"IF(AZ763=1,G763,0)","v":0},{"$f":"IF(AZ763=2,G763,0)","v":0},{"$f":"IF(AZ763=3,G763,0)","v":0},{"$f":"IF(AZ763=4,G763,0)","v":0},{"$f":"IF(AZ763=5,G763,0)","v":0},null,null,null,null,null,null,null,null,null,null,null,null,null,null,null,null,null,null,null,null,null,12,0]
[null,null,"Součástí položky je ",null,null,null,null,null,null,null,null,"Součástí položky je ",null,null,3]
[null,null,"- Dodávka a montáž příslušného potrubí ",null,null,null,null,null,null,null,null,"- Dodávka a montáž příslušného potrubí ",null,null,3]
[null,null,"- Dodávka a montáž propojovacích tvarovek a armatur dle zvolené technologie zhotovitelem potřebné pro provoz provizorního vodovou",null,null,null,null,null,null,null,null,"- Dodávka a montáž propojovacích tvarovek a armatur dle zvolené technologie zhotovitelem potřebné pro provoz provizorního vodovou",null,null,3]
[null,null,"- Přerušení stávajícího potrubí pro napojení provizorního vodovodu",null,null,null,null,null,null,null,null,"- Přerušení stávajícího potrubí pro napojení provizorního vodovodu",null,null,3]
[null,null,"- Provedení tlakové zkoušky včetně proplachu a desinfekce potrubí dle ČSN",null,null,null,null,null,null,null,null,"- Provedení tlakové zkoušky včetně proplachu a desinfekce potrubí dle ČSN",null,null,3]
[null,null,"- Potředné zemní práce pro provedení propojů včetně případného odstranění konstrukcí komunikací a chodníků a provizorní úprava povrchů v prostoru vedení provizorního vodovodu",null,null,null,null,null,null,null,null,"- Potředné zemní práce pro provedení propojů včetně případného odstranění konstrukcí komunikací a chodníků a provizorní úprava povrchů v prostoru vedení provizorního vodovodu",null,null,3]
[null,null,"- Demontáž a odpojení propojů provizorního vodovodu  včetně potřebných zemních prací.",null,null,null,null,null,null,null,null,"- Demontáž a odpojení propojů provizorního vodovodu  včetně potřebných zemních prací.",null,null,3]
[null,null,"- Likvidace veškerého materiálu provizorních vodovodů ",null,null,null,null,null,null,null,null,"- Likvidace veškerého materiálu provizorních vodovodů ",null,null,3]
[null,null,"- Součástí položky jsou i náklady na přesuny materiálů - Součástí položky jsou náklady zhotovitele na poplatky za skládky materiálu",null,null,null,null,null,null,null,null,"- Součástí položky jsou i náklady na přesuny materiálů - Součástí položky jsou náklady zhotovitele na poplatky za skládky materiálu",null,null,3]
[92,"899 02-0001.RRX","Provizorní VP PE100 RC1 D32x3,0 mm - délky do 10 m vč. příslušných tvarovek a armatur","soubor",19,null,{"$f":"E773*F773","v":0},0,{"$f":"E773*H773","v":0},null,{"$f":"E773*J773","v":0},null,null,null,2,null,null,null,null,null,null,null,null,null,null,null,12,0,3,null,null,null,null,null,null,null,null,null,null,null,null,null,null,null,null,null,null,null,null,null,null,1,{"$f":"IF(AZ773=1,G773,0)","v":0},{"$f":"IF(AZ773=2,G773,0)","v":0},{"$f":"IF(AZ773=3,G773,0)","v":0},{"$f":"IF(AZ773=4,G773,0)","v":0},{"$f":"IF(AZ773=5,G773,0)","v":0},null,null,null,null,null,null,null,null,null,null,null,null,null,null,null,null,null,null,null,null,null,12,0]
[null,null,"Součástí položky je ",null,null,null,null,null,null,null,null,"Součástí položky je ",null,null,3]
[null,null,"- Dodávka a montáž příslušného potrubí dle PD ",null,null,null,null,null,null,null,null,"- Dodávka a montáž příslušného potrubí dle PD ",null,null,3]
[null,null,"- Dodávka a montáž propojovacích tvarovek a armatur dle zvolené technologie zhotovitelem potřebné pro provoz provizorního propojení VP",null,null,null,null,null,null,null,null,"- Dodávka a montáž propojovacích tvarovek a armatur dle zvolené technologie zhotovitelem potřebné pro provoz provizorního propojení VP",null,null,3]
[null,null,"- Přerušení stávajícího potrubí přípojky",null,null,null,null,null,null,null,null,"- Přerušení stávajícího potrubí přípojky",null,null,3]
[null,null,"- Provedení tlakové zkoušky včetně proplachu a desinfekce potrubí dle ČSN",null,null,null,null,null,null,null,null,"- Provedení tlakové zkoušky včetně proplachu a desinfekce potrubí dle ČSN",null,null,3]
[null,null,"- Potředné zemní práce pro provedení propoje včetně případného odstranění konstrukcí komunikací a provizorní úprava povrchů v prostoru vedení provizorního vodovodu",null,null,null,null,null,null,null,null,"- Potředné zemní práce pro provedení propoje včetně případného odstranění konstrukcí komunikací a provizorní úprava povrchů v prostoru vedení provizorního vodovodu",null,null,3]
[null,null,"- Demontáž a odpojení propojů provizorní přípojky  včetně potřebných zemních prací.",null,null,null,null,null,null,null,null,"- Demontáž a odpojení propojů provizorní přípojky  včetně potřebných zemních prací.",null,null,3]
[null,null,"- Likvidace veškerého materiálu provizorních vodovodních přípojek",null,null,null,null,null,null,null,null,"- Likvidace veškerého materiálu provizorních vodovodních přípojek",null,null,3]
[null,null,"- Součástí položky jsou i náklady na přesuny materiálů - Součástí položky jsou náklady zhotovitele na poplatky za skládky materiálu",null,null,null,null,null,null,null,null,"- Součástí položky jsou i náklady na přesuny materiálů - Součástí položky jsou náklady zhotovitele na poplatky za skládky materiálu",null,null,3]
[null,"Celkem za","89 Ostatní konstrukce na trubním vedení",null,null,null,{"$f":"SUM(G762:G782)","v":0},null,{"$f":"SUM(I762:I782)","v":0},null,{"$f":"SUM(K762:K782)","v":0},null,null,null,4,null,null,null,null,null,null,null,null,null,null,null,null,null,null,null,null,null,null,null,null,null,null,null,null,null,null,null,null,null,null,null,null,null,null,null,null,null,{"$f":"SUM(BA762:BA782)","v":0},{"$f":"SUM(BB762:BB782)","v":0},{"$f":"SUM(BC762:BC782)","v":0},{"$f":"SUM(BD762:BD782)","v":0},{"$f":"SUM(BE762:BE782)","v":0}]
["Díl:","93","Dokončovací práce inženýrských staveb",null,null,null,null,null,null,null,null,null,null,null,1]
[93,"939421121RT1","Osazení samonivelač.vodovod.poklopu za finišerem bez dodávky poklopu","kus",17,null,{"$f":"E785*F785","v":0},5.2499999999999998E-2,{"$f":"E785*H785","v":0.89249999999999996},0,{"$f":"E785*J785","v":0},null,null,null,2,null,null,null,null,null,null,null,null,null,null,null,1,0,0,null,null,null,null,null,null,null,null,null,null,null,null,null,null,null,null,null,null,null,null,null,null,1,{"$f":"IF(AZ785=1,G785,0)","v":0},{"$f":"IF(AZ785=2,G785,0)","v":0},{"$f":"IF(AZ785=3,G785,0)","v":0},{"$f":"IF(AZ785=4,G785,0)","v":0},{"$f":"IF(AZ785=5,G785,0)","v":0},null,null,null,null,null,null,null,null,null,null,null,null,null,null,null,null,null,null,null,null,null,1,0]
[null,null,"Položka obsahuje:",null,null,null,null,null,null,null,null,"Položka obsahuje:",null,null,3]
[null,null,"- osazení prefabrikovaného betonového prstence do rychletuhnoucí malty (s dodávkou hmot)",null,null,null,null,null,null,null,null,"- osazení prefabrikovaného betonového prstence do rychletuhnoucí malty (s dodávkou hmot)",null,null,3]
[null,null,"- zalití prstence rychletuhnoucí zálivkou do výše prstence (s dodávkou hmoty)",null,null,null,null,null,null,null,null,"- zalití prstence rychletuhnoucí zálivkou do výše prstence (s dodávkou hmoty)",null,null,3]
[null,null,"- vložení kruhového bednění",null,null,null,null,null,null,null,null,"- vložení kruhového bednění",null,null,3]
[null,null,"- doplnění mezikruží asfaltovou směsí do výšky současné podkladní vrstvy, zhutnění",null,null,null,null,null,null,null,null,"- doplnění mezikruží asfaltovou směsí do výšky současné podkladní vrstvy, zhutnění",null,null,3]
[null,null,"- vyjmutí kruhového bednění",null,null,null,null,null,null,null,null,"- vyjmutí kruhového bednění",null,null,3]
[null,null,"- osazení poklopu a zatlačení",null,null,null,null,null,null,null,null,"- osazení poklopu a zatlačení",null,null,3]
[null,null,"  (následuje pokládka finální vrstvy vozovky - není součástí položky)",null,null,null,null,null,null,null,null,"  (následuje pokládka finální vrstvy vozovky - není součástí položky)",null,null,3]
[null,null,"- povytažení poklopu",null,null,null,null,null,null,null,null,"- povytažení poklopu",null,null,3]
[null,null,"- podsyp asfaltovou směsí, spuštění poklopu a zhutnění směsi",null,null,null,null,null,null,null,null,"- podsyp asfaltovou směsí, spuštění poklopu a zhutnění směsi",null,null,3]
[null,null,"Položka neobsahuje:",null,null,null,null,null,null,null,null,"Položka neobsahuje:",null,null,3]
[null,null,"- dodávku samonivelačního poklopu - oceňuje se ve specifikaci",null,null,null,null,null,null,null,null,"- dodávku samonivelačního poklopu - oceňuje se ve specifikaci",null,null,3]
[null,null,"- pokládku krycí vrstvy komunikace, oceňuje se samostatně",null,null,null,null,null,null,null,null,"- pokládku krycí vrstvy komunikace, oceňuje se samostatně",null,null,3]
[null,null,"NTP:",null,0,null,null,null,null,null,null,null,"NTP:"]
[null,null,"Řad \"A\" TLT DN80:",null,0,null,null,null,null,null,null,null,"Řad \"A\" TLT DN80:"]
[null,null,"Š DN80:3",null,3,null,null,null,null,null,null,null,"Š DN80:3"]
[null,null,"Š DN100:2",null,2,null,null,null,null,null,null,null,"Š DN100:2"]
[null,null,"Řad \"B\" TLT DN80:",null,0,null,null,null,null,null,null,null,"Řad \"B\" TLT DN80:"]
[null,null,"Š DN80:2",null,2,null,null,null,null,null,null,null,"Š DN80:2"]
[null,null,"Řad \"A\" TLT DN80:",null,0,null,null,null,null,null,null,null,"Řad \"A\" TLT DN80:"]
[null,null,"Řad \"B\" TLT DN80:",null,0,null,null,null,null,null,null,null,"Řad \"B\" TLT DN80:"]
[null,null,"Š D 63:1",null,1,null,null,null,null,null,null,null,"Š D 63:1"]
[null,null,"VP PE D 32x3,0 mm (5 kusů):5",null,5,null,null,null,null,null,null,null,"VP PE D 32x3,0 mm (5 kusů):5"]
[null,null,"VP PE D 40x3,7 mm (1 kus):1",null,1,null,null,null,null,null,null,null,"VP PE D 40x3,7 mm (1 kus):1"]
[null,null,"VP PE D 63x5,8 mm (2 kusy):2",null,2,null,null,null,null,null,null,null,"VP PE D 63x5,8 mm (2 kusy):2"]
[null,null,"VTP:",null,0,null,null,null,null,null,null,null,"VTP:"]
[null,null,"Řad \"B\" PE D90x8,2 mm:",null,0,null,null,null,null,null,null,null,"Řad \"B\" PE D90x8,2 mm:"]
[null,null,"Š DN80:1",null,1,null,null,null,null,null,null,null,"Š DN80:1"]
[94,"939421131RT1","Osazení samonivelač.hydrant.poklopu za finišerem bez dodávky poklopu","kus",1,null,{"$f":"E814*F814","v":0},6.8250000000000005E-2,{"$f":"E814*H814","v":6.8250000000000005E-2},0,{"$f":"E814*J814","v":0},null,null,null,2,null,null,null,null,null,null,null,null,null,null,null,1,1,1,null,null,null,null,null,null,null,null,null,null,null,null,null,null,null,null,null,null,null,null,null,null,1,{"$f":"IF(AZ814=1,G814,0)","v":0},{"$f":"IF(AZ814=2,G814,0)","v":0},{"$f":"IF(AZ814=3,G814,0)","v":0},{"$f":"IF(AZ814=4,G814,0)","v":0},{"$f":"IF(AZ814=5,G814,0)","v":0},null,null,null,null,null,null,null,null,null,null,null,null,null,null,null,null,null,null,null,null,null,1,1]
[null,null,"Položka obsahuje:",null,null,null,null,null,null,null,null,"Položka obsahuje:",null,null,3]
[null,null,"- osazení prefabrikovaného betonového prstence do rychletuhnoucí malty (s dodávkou hmot)",null,null,null,null,null,null,null,null,"- osazení prefabrikovaného betonového prstence do rychletuhnoucí malty (s dodávkou hmot)",null,null,3]
[null,null,"- zalití prstence rychletuhnoucí zálivkou do výše prstence (s dodávkou hmoty)",null,null,null,null,null,null,null,null,"- zalití prstence rychletuhnoucí zálivkou do výše prstence (s dodávkou hmoty)",null,null,3]
[null,null,"- vložení kruhového bednění",null,null,null,null,null,null,null,null,"- vložení kruhového bednění",null,null,3]
[null,null,"- doplnění mezikruží asfaltovou směsí do výšky současné podkladní vrstvy, zhutnění",null,null,null,null,null,null,null,null,"- doplnění mezikruží asfaltovou směsí do výšky současné podkladní vrstvy, zhutnění",null,null,3]
[null,null,"- vyjmutí kruhového bednění",null,null,null,null,null,null,null,null,"- vyjmutí kruhového bednění",null,null,3]
[null,null,"- osazení poklopu a zatlačení",null,null,null,null,null,null,null,null,"- osazení poklopu a zatlačení",null,null,3]
[null,null,"  (následuje pokládka finální vrstvy vozovky - není součástí položky)",null,null,null,null,null,null,null,null,"  (následuje pokládka finální vrstvy vozovky - není součástí položky)",null,null,3]
[null,null,"- povytažení poklopu",null,null,null,null,null,null,null,null,"- povytažení poklopu",null,null,3]
[null,null,"- podsyp asfaltovou směsí, spuštění poklopu a zhutnění směsi",null,null,null,null,null,null,null,null,"- podsyp asfaltovou směsí, spuštění poklopu a zhutnění směsi",null,null,3]
[null,null,"Položka neobsahuje:",null,null,null,null,null,null,null,null,"Položka neobsahuje:",null,null,3]
[null,null,"- dodávku samonivelačního poklopu - oceňuje se ve specifikaci",null,null,null,null,null,null,null,null,"- dodávku samonivelačního poklopu - oceňuje se ve specifikaci",null,null,3]
[null,null,"- pokládku krycí vrstvy komunikace, oceňuje se samostatně",null,null,null,null,null,null,null,null,"- pokládku krycí vrstvy komunikace, oceňuje se samostatně",null,null,3]
[null,null,"NTP:",null,0,null,null,null,null,null,null,null,"NTP:"]
[null,null,"Řad \"B\" TLT DN80:",null,0,null,null,null,null,null,null,null,"Řad \"B\" TLT DN80:"]
[null,null,"Hp DN80/1,5:1",null,1,null,null,null,null,null,null,null,"Hp DN80/1,5:1"]
[95,"422913520.R","Poklop luliční samonivelační přípojkový D400","kus",9,null,{"$f":"E831*F831","v":0},1.2E-2,{"$f":"E831*H831","v":0.108},null,{"$f":"E831*J831","v":0},null,null,null,2,null,null,null,null,null,null,null,null,null,null,null,3,1,"422913520.R",null,null,null,null,null,null,null,null,null,null,null,null,null,null,null,null,null,null,null,null,null,null,1,{"$f":"IF(AZ831=1,G831,0)","v":0},{"$f":"IF(AZ831=2,G831,0)","v":0},{"$f":"IF(AZ831=3,G831,0)","v":0},{"$f":"IF(AZ831=4,G831,0)","v":0},{"$f":"IF(AZ831=5,G831,0)","v":0},null,null,null,null,null,null,null,null,null,null,null,null,null,null,null,null,null,null,null,null,null,3,1]
[null,null,"Uliční samonivelační poklop přípojkový z tvárné litiny dle ČSN EN 124",null,null,null,null,null,null,null,null,"Uliční samonivelační poklop přípojkový z tvárné litiny dle ČSN EN 124",null,null,3]
[null,null,"Rozpětí stavební výšky 195 - 285 mm s fixací polohy",null,null,null,null,null,null,null,null,"Rozpětí stavební výšky 195 - 285 mm s fixací polohy",null,null,3]
[null,null,"Výklopové víko spojeno s rámem čepem a opatřeno ochrannou a těsnící vrstvou proti vnikání nečistot",null,null,null,null,null,null,null,null,"Výklopové víko spojeno s rámem čepem a opatřeno ochrannou a těsnící vrstvou proti vnikání nečistot",null,null,3]
[null,null,"Tlumicí vložka z elastomeru a PUR",null,null,null,null,null,null,null,null,"Tlumicí vložka z elastomeru a PUR",null,null,3]
[null,null,"Možnost vlastního loga a barevného provedení",null,null,null,null,null,null,null,null,"Možnost vlastního loga a barevného provedení",null,null,3]
[null,null,"NTP:",null,0,null,null,null,null,null,null,null,"NTP:"]
[null,null,"Řad \"A\" TLT DN80:",null,0,null,null,null,null,null,null,null,"Řad \"A\" TLT DN80:"]
[null,null,"Řad \"B\" TLT DN80:",null,0,null,null,null,null,null,null,null,"Řad \"B\" TLT DN80:"]
[null,null,"Š D 63:1",null,1,null,null,null,null,null,null,null,"Š D 63:1"]
[null,null,"VP PE D 32x3,0 mm (17 kusů):5",null,5,null,null,null,null,null,null,null,"VP PE D 32x3,0 mm (17 kusů):5"]
[null,null,"VP PE D 40x3,7 mm (1 kus):1",null,1,null,null,null,null,null,null,null,"VP PE D 40x3,7 mm (1 kus):1"]
[null,null,"VP PE D 63x5,8 mm (2 kusy):2",null,2,null,null,null,null,null,null,null,"VP PE D 63x5,8 mm (2 kusy):2"]
[96,"422913521.R","Poklop litinový samonivelační šoupátkový D400","kus",8,null,{"$f":"E844*F844","v":0},1.2E-2,{"$f":"E844*H844","v":9.6000000000000002E-2},null,{"$f":"E844*J844","v":0},null,null,null,2,null,null,null,null,null,null,null,null,null,null,null,3,1,"422913521.R",null,null,null,null,null,null,null,null,null,null,null,null,null,null,null,null,null,null,null,null,null,null,1,{"$f":"IF(AZ844=1,G844,0)","v":0},{"$f":"IF(AZ844=2,G844,0)","v":0},{"$f":"IF(AZ844=3,G844,0)","v":0},{"$f":"IF(AZ844=4,G844,0)","v":0},{"$f":"IF(AZ844=5,G844,0)","v":0},null,null,null,null,null,null,null,null,null,null,null,null,null,null,null,null,null,null,null,null,null,3,1]
[null,null,"Uliční samonivelační šoupátkový poklop z tvárné litiny dle ČSN EN 124",null,null,null,null,null,null,null,null,"Uliční samonivelační šoupátkový poklop z tvárné litiny dle ČSN EN 124",null,null,3]
[null,null,"Rozpětí stavební výšky 195 - 285 mm s fixací polohy",null,null,null,null,null,null,null,null,"Rozpětí stavební výšky 195 - 285 mm s fixací polohy",null,null,3]
[null,null,"Výklopové víko spojeno s rámem čepem a opatřeno ochrannou a těsnící vrstvou proti vnikání nečistot",null,null,null,null,null,null,null,null,"Výklopové víko spojeno s rámem čepem a opatřeno ochrannou a těsnící vrstvou proti vnikání nečistot",null,null,3]
[null,null,"Tlumicí vložka z elastomeru a PUR",null,null,null,null,null,null,null,null,"Tlumicí vložka z elastomeru a PUR",null,null,3]
[null,null,"Možnost vlastního loga a barevného provedení",null,null,null,null,null,null,null,null,"Možnost vlastního loga a barevného provedení",null,null,3]
[null,null,"NTP:",null,0,null,null,null,null,null,null,null,"NTP:"]
[null,null,"Řad \"A\" TLT DN80:",null,0,null,null,null,null,null,null,null,"Řad \"A\" TLT DN80:"]
[null,null,"Š DN80:3",null,3,null,null,null,null,null,null,null,"Š DN80:3"]
[null,null,"Š DN100:2",null,2,null,null,null,null,null,null,null,"Š DN100:2"]
[null,null,"Řad \"B\" TLT DN80:",null,0,null,null,null,null,null,null,null,"Řad \"B\" TLT DN80:"]
[null,null,"Š DN80:2",null,2,null,null,null,null,null,null,null,"Š DN80:2"]
[null,null,"VTP:",null,0,null,null,null,null,null,null,null,"VTP:"]
[null,null,"Řad \"B\" PE D90x8,2 mm:",null,0,null,null,null,null,null,null,null,"Řad \"B\" PE D90x8,2 mm:"]
[null,null,"Š DN80:1",null,1,null,null,null,null,null,null,null,"Š DN80:1"]
[97,"422914522.R","Poklop litinový hydrantový samonivelační D400","kus",1,null,{"$f":"E859*F859","v":0},2.4E-2,{"$f":"E859*H859","v":2.4E-2},null,{"$f":"E859*J859","v":0},null,null,null,2,null,null,null,null,null,null,null,null,null,null,null,3,1,"422914522.R",null,null,null,null,null,null,null,null,null,null,null,null,null,null,null,null,null,null,null,null,null,null,1,{"$f":"IF(AZ859=1,G859,0)","v":0},{"$f":"IF(AZ859=2,G859,0)","v":0},{"$f":"IF(AZ859=3,G859,0)","v":0},{"$f":"IF(AZ859=4,G859,0)","v":0},{"$f":"IF(AZ859=5,G859,0)","v":0},null,null,null,null,null,null,null,null,null,null,null,null,null,null,null,null,null,null,null,null,null,3,1]
[null,null,"Uliční samonivelační hydrantový poklop z tvárné litiny dle ČSN EN 124",null,null,null,null,null,null,null,null,"Uliční samonivelační hydrantový poklop z tvárné litiny dle ČSN EN 124",null,null,3]
[null,null,"Rozpětí stavební výšky 200 - 285 mm s fixací polohy",null,null,null,null,null,null,null,null,"Rozpětí stavební výšky 200 - 285 mm s fixací polohy",null,null,3]
[null,null,"Výklopové víko spojeno s rámem čepem a opatřeno ochrannou a těsnící vrstvou proti vnikání nečistot",null,null,null,null,null,null,null,null,"Výklopové víko spojeno s rámem čepem a opatřeno ochrannou a těsnící vrstvou proti vnikání nečistot",null,null,3]
[null,null,"Tlumicí vložka z elastomeru a PUR",null,null,null,null,null,null,null,null,"Tlumicí vložka z elastomeru a PUR",null,null,3]
[null,null,"Možnost vlastního loga a barevného provedení",null,null,null,null,null,null,null,null,"Možnost vlastního loga a barevného provedení",null,null,3]
[null,null,"NTP:",null,0,null,null,null,null,null,null,null,"NTP:"]
[null,null,"Řad \"B\" TLT DN80:",null,0,null,null,null,null,null,null,null,"Řad \"B\" TLT DN80:"]
[null,null,"Hp DN80/1,5:1",null,1,null,null,null,null,null,null,null,"Hp DN80/1,5:1"]
[null,"Celkem za","93 Dokončovací práce inženýrských staveb",null,null,null,{"$f":"SUM(G784:G867)","v":0},null,{"$f":"SUM(I784:I867)","v":1.1887500000000002},null,{"$f":"SUM(K784:K867)","v":0},null,null,null,4,null,null,null,null,null,null,null,null,null,null,null,null,null,null,null,null,null,null,null,null,null,null,null,null,null,null,null,null,null,null,null,null,null,null,null,null,null,{"$f":"SUM(BA784:BA867)","v":0},{"$f":"SUM(BB784:BB867)","v":0},{"$f":"SUM(BC784:BC867)","v":0},{"$f":"SUM(BD784:BD867)","v":0},{"$f":"SUM(BE784:BE867)","v":0}]
["Díl:","99","Staveništní přesun hmot",null,null,null,null,null,null,null,null,null,null,null,1]
[98,"998273101R00","Přesun hmot, trubní vedení litinové, otevř. výkop ","t",792.29246524500002,null,{"$f":"E870*F870","v":0},0,{"$f":"E870*H870","v":0},null,{"$f":"E870*J870","v":0},null,null,null,2,null,null,null,null,null,null,null,null,null,null,null,7,1,2,null,null,null,null,null,null,null,null,null,null,null,null,null,null,null,null,null,null,null,null,null,null,1,{"$f":"IF(AZ870=1,G870,0)","v":0},{"$f":"IF(AZ870=2,G870,0)","v":0},{"$f":"IF(AZ870=3,G870,0)","v":0},{"$f":"IF(AZ870=4,G870,0)","v":0},{"$f":"IF(AZ870=5,G870,0)","v":0},null,null,null,null,null,null,null,null,null,null,null,null,null,null,null,null,null,null,null,null,null,7,1]
[null,"Celkem za","99 Staveništní přesun hmot",null,null,null,{"$f":"SUM(G869:G870)","v":0},null,{"$f":"SUM(I869:I870)","v":0},null,{"$f":"SUM(K869:K870)","v":0},null,null,null,4,null,null,null,null,null,null,null,null,null,null,null,null,null,null,null,null,null,null,null,null,null,null,null,null,null,null,null,null,null,null,null,null,null,null,null,null,null,{"$f":"SUM(BA869:BA870)","v":0},{"$f":"SUM(BB869:BB870)","v":0},{"$f":"SUM(BC869:BC870)","v":0},{"$f":"SUM(BD869:BD870)","v":0},{"$f":"SUM(BE869:BE870)","v":0}]

{"sheet":"I. 01.02 I. 01.02 KL","index":4,"n_rows":45,"n_cols":8,"rows_kept":45,"cut":false,"hidden":false,"merged":[[45,1,45,6],[46,1,46,6],[47,1,47,6],[48,1,48,6],[49,1,49,6],[50,1,50,6],[29,5,29,6],[30,5,30,6],[31,5,31,6],[32,5,32,6],[33,5,33,6],[36,1,44,6],[7,2,7,4],[8,2,8,4],[9,2,9,4],[10,2,10,4],[11,2,11,4],[22,0,22,1]]}
["POLOŽKOVÝ ROZPOČET"]
["Rozpočet",null,"I. 01.02","Kanalizace \"JIlemnická\"",null,"JKSO ","827.21.A4"]
[]
["Objekt",null,null,null,null,"SKP "]
["I. 01.02",null,"Kanalizace \"JIlemnická\"",null,null,"Měrná jednotka","m"]
["Stavba",null,null,null,null,"Počet jednotek",0]
["3334",null,"Lomnice nad Popelkou - Vodovod a kanalizace",null,null,"Náklady na m.j.",{"$f":"IF(G6=0,,ROUND((F30+F32)/G6,1))","v":0}]
["Projektant",null,"VEDU VODU s.r.o. Dobrovice",null,null,"Typ rozpočtu"]
["Zpracovatel projektu"]
["Objednatel",null,"Vodohospodářské sdružení Turnov"]
["Dodavatel",null,".",null,null,"Zakázkové číslo "]
["Rozpočtoval",null,null,null,null,"Počet listů"]
["ROZPOČTOVÉ NÁKLADY"]
["Základní rozpočtové náklady"]
[null,"HSV celkem",{"$f":"'I. 01.02 I. 01.02 Rek'!E14","v":0}]
["Z","PSV celkem",{"$f":"'I. 01.02 I. 01.02 Rek'!F14","v":0}]
["R","M práce celkem",{"$f":"'I. 01.02 I. 01.02 Rek'!H14","v":0}]
["N","M dodávky celkem",{"$f":"'I. 01.02 I. 01.02 Rek'!G14","v":0}]
["ZRN celkem",null,{"$f":"SUM(C15:C18)","v":0}]
[]
["HZS",null,{"$f":"'I. 01.02 I. 01.02 Rek'!I14","v":0}]
["ZRN+HZS",null,{"$f":"C19+C21","v":0}]
["ZRN+ost.náklady+HZS",null,{"$f":"C22+G23","v":0}]
["Vypracoval",null,null,"Za zhotovitele",null,"Za objednatele"]
["Jméno :",null,null,"Jméno :",null,"Jméno :"]
["Datum :",null,null,"Datum :",null,"Datum :"]
[]
["Podpis :",null,null,"Podpis:",null,"Podpis:"]
[]
["Základ pro DPH",null,21,"%  ",null,{"$f":"C23-F32","v":0}]
["DPH",null,{"$f":"C30","v":21},"% ",null,{"$f":"ROUND(PRODUCT(F30,C31/100),0)","v":0}]
["Základ pro DPH",null,0,"% ",null,0]
["DPH",null,{"$f":"C32","v":0},"% ",null,{"$f":"ROUND(PRODUCT(F32,C33/100),0)","v":0}]
["CENA ZA OBJEKT CELKEM",null,null,null,null,{"$f":"ROUND(SUM(F30:F33),0)","v":0}]
[]
["Poznámka :",null,null,null,null,null,null," "]
[null,null,null,null,null,null,null," "]
[null,null,null,null,null,null,null," "]
[null,null,null,null,null,null,null," "]
[null,null,null,null,null,null,null," "]
[null,null,null,null,null,null,null," "]
[null,null,null,null,null,null,null," "]
[null,null,null,null,null,null,null," "]
[null,null,null,null,null,null,null," "]
[null,null,null,null,null,null,null," "]

{"sheet":"I. 01.02 I. 01.02 Rek","index":5,"n_rows":14,"n_cols":9,"rows_kept":14,"cut":false,"hidden":false,"merged":[[0,0,0,1],[1,0,1,1],[1,6,1,8]]}
["Stavba :",null,"3334 Lomnice nad Popelkou - Vodovod a kanalizace",null,null,null,"Rozpočet :","I. 01.02"]
["Objekt :",null,"I. 01.02 Kanalizace \"JIlemnická\"",null,null,null,"Kanalizace \"JIlemnická\""]
[]
["REKAPITULACE  STAVEBNÍCH  DÍLŮ"]
[]
[null,"Stavební díl",null,null,"HSV","PSV","Dodávka","Montáž","HZS"]
[{"$f":"'I. 01.02 I. 01.02 Pol'!B7","v":"1"},{"$f":"'I. 01.02 I. 01.02 Pol'!C7","v":"Zemní práce"},null,null,{"$f":"'I. 01.02 I. 01.02 Pol'!BA295","v":0},{"$f":"'I. 01.02 I. 01.02 Pol'!BB295","v":0},{"$f":"'I. 01.02 I. 01.02 Pol'!BC295","v":0},{"$f":"'I. 01.02 I. 01.02 Pol'!BD295","v":0},{"$f":"'I. 01.02 I. 01.02 Pol'!BE295","v":0}]
[{"$f":"'I. 01.02 I. 01.02 Pol'!B296","v":"2"},{"$f":"'I. 01.02 I. 01.02 Pol'!C296","v":"Základy a zvláštní zakládání"},null,null,{"$f":"'I. 01.02 I. 01.02 Pol'!BA312","v":0},{"$f":"'I. 01.02 I. 01.02 Pol'!BB312","v":0},{"$f":"'I. 01.02 I. 01.02 Pol'!BC312","v":0},{"$f":"'I. 01.02 I. 01.02 Pol'!BD312","v":0},{"$f":"'I. 01.02 I. 01.02 Pol'!BE312","v":0}]
[{"$f":"'I. 01.02 I. 01.02 Pol'!B313","v":"45"},{"$f":"'I. 01.02 I. 01.02 Pol'!C313","v":"Podkladní a vedlejší konstrukce"},null,null,{"$f":"'I. 01.02 I. 01.02 Pol'!BA336","v":0},{"$f":"'I. 01.02 I. 01.02 Pol'!BB336","v":0},{"$f":"'I. 01.02 I. 01.02 Pol'!BC336","v":0},{"$f":"'I. 01.02 I. 01.02 Pol'!BD336","v":0},{"$f":"'I. 01.02 I. 01.02 Pol'!BE336","v":0}]
[{"$f":"'I. 01.02 I. 01.02 Pol'!B337","v":"5"},{"$f":"'I. 01.02 I. 01.02 Pol'!C337","v":"Komunikace"},null,null,{"$f":"'I. 01.02 I. 01.02 Pol'!BA362","v":0},{"$f":"'I. 01.02 I. 01.02 Pol'!BB362","v":0},{"$f":"'I. 01.02 I. 01.02 Pol'!BC362","v":0},{"$f":"'I. 01.02 I. 01.02 Pol'!BD362","v":0},{"$f":"'I. 01.02 I. 01.02 Pol'!BE362","v":0}]
[{"$f":"'I. 01.02 I. 01.02 Pol'!B363","v":"8"},{"$f":"'I. 01.02 I. 01.02 Pol'!C363","v":"Trubní vedení"},null,null,{"$f":"'I. 01.02 I. 01.02 Pol'!BA555","v":0},{"$f":"'I. 01.02 I. 01.02 Pol'!BB555","v":0},{"$f":"'I. 01.02 I. 01.02 Pol'!BC555","v":0},{"$f":"'I. 01.02 I. 01.02 Pol'!BD555","v":0},{"$f":"'I. 01.02 I. 01.02 Pol'!BE555","v":0}]
[{"$f":"'I. 01.02 I. 01.02 Pol'!B556","v":"93"},{"$f":"'I. 01.02 I. 01.02 Pol'!C556","v":"Dokončovací práce inženýrských staveb"},null,null,{"$f":"'I. 01.02 I. 01.02 Pol'!BA585","v":0},{"$f":"'I. 01.02 I. 01.02 Pol'!BB585","v":0},{"$f":"'I. 01.02 I. 01.02 Pol'!BC585","v":0},{"$f":"'I. 01.02 I. 01.02 Pol'!BD585","v":0},{"$f":"'I. 01.02 I. 01.02 Pol'!BE585","v":0}]
[{"$f":"'I. 01.02 I. 01.02 Pol'!B586","v":"99"},{"$f":"'I. 01.02 I. 01.02 Pol'!C586","v":"Staveništní přesun hmot"},null,null,{"$f":"'I. 01.02 I. 01.02 Pol'!BA588","v":0},{"$f":"'I. 01.02 I. 01.02 Pol'!BB588","v":0},{"$f":"'I. 01.02 I. 01.02 Pol'!BC588","v":0},{"$f":"'I. 01.02 I. 01.02 Pol'!BD588","v":0},{"$f":"'I. 01.02 I. 01.02 Pol'!BE588","v":0}]
[null,"CELKEM  OBJEKT",null,null,{"$f":"SUM(E7:E13)","v":0},{"$f":"SUM(F7:F13)","v":0},{"$f":"SUM(G7:G13)","v":0},{"$f":"SUM(H7:H13)","v":0},{"$f":"SUM(I7:I13)","v":0}]

{"sheet":"I. 01.02 I. 01.02 Pol","index":6,"n_rows":588,"n_cols":80,"rows_kept":588,"cut":false,"hidden":false,"merged":[[583,2,583,3],[576,2,576,6],[577,2,577,3],[578,2,578,3],[580,2,580,6],[581,2,581,6],[582,2,582,3],[569,2,569,6],[570,2,570,6],[571,2,571,3],[572,2,572,3],[573,2,573,3],[575,2,575,6],[563,2,563,6],[564,2,564,6],[565,2,565,6],[566,2,566,6],[567,2,567,6],[568,2,568,6],[550,2,550,6],[551,2,551,3],[552,2,552,3],[553,2,553,3],[557,2,557,3],[559,2,559,3],[561,2,561,6],[562,2,562,6],[544,2,544,6],[545,2,545,6],[546,2,546,6],[547,2,547,6],[548,2,548,6],[549,2,549,6],[537,2,537,6],[538,2,538,6],[539,2,539,6],[540,2,540,3],[541,2,541,3],[543,2,543,6],[530,2,530,3],[532,2,532,6],[533,2,533,6],[534,2,534,6],[535,2,535,6],[536,2,536,6],[524,2,524,6],[525,2,525,6],[526,2,526,6],[527,2,527,3],[528,2,528,3],[529,2,529,3],[517,2,517,3],[518,2,518,3],[519,2,519,3],[521,2,521,6],[522,2,522,6],[523,2,523,6],[511,2,511,6],[512,2,512,6],[513,2,513,6],[514,2,514,6],[515,2,515,6],[516,2,516,6],[504,2,504,6],[505,2,505,6],[506,2,506,3],[508,2,508,6],[509,2,509,6],[510,2,510,6],[498,2,498,6],[499,2,499,6],[500,2,500,6],[501,2,501,6],[502,2,502,6],[503,2,503,6],[490,2,490,3],[491,2,491,3],[493,2,493,6],[494,2,494,3],[495,2,495,3],[497,2,497,6],[481,2,481,3],[483,2,483,3],[484,2,484,3],[486,2,486,3],[487,2,487,3],[489,2,489,6],[472,2,472,3],[474,2,474,3],[475,2,475,3],[477,2,477,3],[478,2,478,3],[480,2,480,3],[466,2,466,6],[467,2,467,3],[468,2,468,3],[469,2,469,3],[470,2,470,3],[471,2,471,3],[459,2,459,3],[461,2,461,6],[462,2,462,6],[463,2,463,6],[464,2,464,6],[465,2,465,6],[454,2,454,6],[455,2,455,6],[456,2,456,6],[457,2,457,6],[458,2,458,3],[447,2,447,3],[448,2,448,3],[449,2,449,3],[450,2,450,3],[452,2,452,6],[453,2,453,6],[439,2,439,6],[440,2,440,3],[441,2,441,3],[442,2,442,3],[444,2,444,6],[445,2,445,3],[431,2,431,3],[433,2,433,6],[434,2,434,6],[435,2,435,3],[436,2,436,3],[438,2,438,6],[424,2,424,3],[425,2,425,3],[427,2,427,6],[428,2,428,6],[429,2,429,3],[430,2,430,3],[417,2,417,3],[418,2,418,3],[419,2,419,3],[420,2,420,3],[422,2,422,6],[423,2,423,6],[410,2,410,6],[411,2,411,3],[412,2,412,3],[413,2,413,3],[414,2,414,3],[416,2,416,6],[402,2,402,3],[403,2,403,3],[405,2,405,6],[407,2,407,6],[408,2,408,6],[409,2,409,6],[395,2,395,3],[396,2,396,3],[397,2,397,3],[398,2,398,3],[399,2,399,3],[401,2,401,6],[387,2,387,3],[389,2,389,6],[390,2,390,3],[391,2,391,3],[393,2,393,6],[394,2,394,3],[380,2,380,3],[381,2,381,3],[383,2,383,6],[384,2,384,6],[385,2,385,3],[386,2,386,3],[364,2,364,6],[365,2,365,3],[367,2,367,6],[368,2,368,3],[369,2,369,3],[370,2,370,3],[372,2,372,6],[373,2,373,3],[374,2,374,3],[356,2,356,3],[357,2,357,3],[358,2,358,3],[359,2,359,3],[360,2,360,3],[375,2,375,3],[376,2,376,3],[378,2,378,6],[379,2,379,6],[350,2,350,3],[351,2,351,3],[352,2,352,3],[353,2,353,3],[354,2,354,3],[355,2,355,3],[343,2,343,3],[344,2,344,3],[345,2,345,3],[346,2,346,3],[347,2,347,3],[348,2,348,3],[331,2,331,3],[333,2,333,3],[334,2,334,3],[338,2,338,3],[339,2,339,3],[340,2,340,3],[341,2,341,3],[342,2,342,3],[324,2,324,6],[325,2,325,3],[326,2,326,3],[327,2,327,3],[328,2,328,3],[330,2,330,3],[310,2,310,3],[314,2,314,3],[315,2,315,3],[317,2,317,6],[318,2,318,3],[319,2,319,3],[321,2,321,3],[322,2,322,3],[303,2,303,3],[304,2,304,3],[305,2,305,3],[307,2,307,3],[308,2,308,3],[309,2,309,3],[291,2,291,3],[292,2,292,3],[293,2,293,3],[297,2,297,3],[298,2,298,3],[299,2,299,3],[300,2,300,3],[302,2,302,3],[285,2,285,3],[286,2,286,3],[287,2,287,3],[288,2,288,3],[289,2,289,3],[290,2,290,3],[279,2,279,3],[280,2,280,3],[281,2,281,3],[282,2,282,3],[283,2,283,3],[284,2,284,3],[272,2,272,3],[273,2,273,3],[274,2,274,3],[275,2,275,3],[276,2,276,3],[278,2,278,3],[261,2,261,3],[262,2,262,3],[263,2,263,3],[265,2,265,3],[269,2,269,6],[271,2,271,3],[254,2,254,3],[256,2,256,3],[257,2,257,3],[258,2,258,3],[259,2,259,3],[260,2,260,3],[247,2,247,3],[248,2,248,3],[249,2,249,3],[250,2,250,3],[252,2,252,3],[253,2,253,3],[240,2,240,3],[241,2,241,3],[242,2,242,3],[243,2,243,3],[245,2,245,3],[246,2,246,3],[234,2,234,3],[235,2,235,3],[236,2,236,3],[237,2,237,3],[238,2,238,3],[239,2,239,3],[229,2,229,6],[230,2,230,3],[231,2,231,3],[232,2,232,3],[233,2,233,3],[221,2,221,3],[222,2,222,3],[223,2,223,3],[225,2,225,3],[226,2,226,3],[227,2,227,3],[215,2,215,3],[216,2,216,3],[217,2,217,3],[218,2,218,3],[219,2,219,3],[220,2,220,3],[208,2,208,3],[209,2,209,3],[210,2,210,3],[211,2,211,3],[213,2,213,3],[214,2,214,3],[202,2,202,3],[203,2,203,3],[204,2,204,3],[205,2,205,3],[206,2,206,3],[207,2,207,3],[195,2,195,3],[196,2,196,3],[197,2,197,3],[198,2,198,3],[199,2,199,3],[201,2,201,3],[189,2,189,3],[190,2,190,3],[191,2,191,3],[192,2,192,3],[193,2,193,3],[194,2,194,3],[183,2,183,3],[184,2,184,3],[185,2,185,3],[186,2,186,3],[187,2,187,3],[188,2,188,3],[177,2,177,3],[178,2,178,3],[179,2,179,3],[180,2,180,3],[181,2,181,3],[182,2,182,3],[170,2,170,3],[171,2,171,3],[173,2,173,6],[174,2,174,3],[175,2,175,3],[176,2,176,3],[164,2,164,3],[165,2,165,3],[166,2,166,3],[167,2,167,3],[168,2,168,3],[169,2,169,3],[158,2,158,3],[159,2,159,3],[160,2,160,3],[161,2,161,3],[162,2,162,3],[163,2,163,3],[152,2,152,3],[153,2,153,3],[154,2,154,3],[155,2,155,3],[156,2,156,3],[157,2,157,3],[146,2,146,3],[147,2,147,3],[148,2,148,3],[149,2,149,3],[150,2,150,3],[151,2,151,3],[139,2,139,3],[140,2,140,3],[141,2,141,3],[142,2,142,3],[143,2,143,3],[144,2,144,3],[133,2,133,3],[134,2,134,3],[135,2,135,3],[136,2,136,3],[137,2,137,3],[138,2,138,3],[127,2,127,3],[128,2,128,3],[129,2,129,3],[130,2,130,3],[131,2,131,3],[132,2,132,3],[121,2,121,3],[122,2,122,3],[123,2,123,3],[124,2,124,3],[125,2,125,3],[126,2,126,3],[114,2,114,3],[115,2,115,3],[116,2,116,3],[118,2,118,6],[119,2,119,3],[120,2,120,3],[108,2,108,3],[109,2,109,3],[110,2,110,3],[111,2,111,3],[112,2,112,3],[113,2,113,3],[102,2,102,3],[103,2,103,3],[104,2,104,3],[105,2,105,3],[106,2,106,3],[107,2,107,3],[96,2,96,3],[97,2,97,3],[98,2,98,3],[99,2,99,3],[100,2,100,3],[101,2,101,3],[89,2,89,3],[91,2,91,3],[92,2,92,3],[93,2,93,3],[94,2,94,3],[95,2,95,3],[83,2,83,3],[84,2,84,3],[85,2,85,3],[86,2,86,3],[87,2,87,3],[88,2,88,3],[77,2,77,3],[78,2,78,3],[79,2,79,3],[80,2,80,3],[81,2,81,3],[82,2,82,3],[71,2,71,3],[72,2,72,3],[73,2,73,3],[74,2,74,3],[75,2,75,3],[76,2,76,3],[65,2,65,3],[66,2,66,3],[67,2,67,3],[68,2,68,3],[69,2,69,3],[70,2,70,3],[58,2,58,3],[60,2,60,6],[61,2,61,3],[63,2,63,6],[64,2,64,3],[52,2,52,3],[53,2,53,3],[54,2,54,3],[55,2,55,3],[56,2,56,3],[57,2,57,3],[46,2,46,3],[47,2,47,3],[48,2,48,3],[49,2,49,3],[50,2,50,3],[51,2,51,3],[40,2,40,3],[41,2,41,3],[42,2,42,3],[43,2,43,3],[44,2,44,3],[45,2,45,3],[34,2,34,3],[35,2,35,3],[36,2,36,3],[37,2,37,3],[38,2,38,3],[39,2,39,3],[26,2,26,6],[27,2,27,3],[29,2,29,6],[30,2,30,6],[32,2,32,6],[33,2,33,3],[19,2,19,3],[20,2,20,3],[21,2,21,3],[22,2,22,3],[23,2,23,3],[24,2,24,3],[12,2,12,3],[13,2,13,3],[14,2,14,3],[15,2,15,3],[17,2,17,3],[18,2,18,3],[0,0,0,6],[2,0,2,1],[3,0,3,1],[3,4,3,6],[8,2,8,3],[9,2,9,3],[10,2,10,3],[11,2,11,3]]}
["Položkový rozpočet "]
[]
["Stavba :",null,"3334 Lomnice nad Popelkou - Vodovod a kanalizace",null,"Rozpočet:",{"$f":"'I. 01.02 I. 01.02 Rek'!H1","v":"I. 01.02"}]
["Objekt :",null,"I. 01.02 Kanalizace \"JIlemnická\"",null,{"$f":"'I. 01.02 I. 01.02 Rek'!G2","v":"Kanalizace \"JIlemnická\""}]
[]
["P.č.","Číslo položky","Název položky","MJ","množství","cena / MJ","celkem (Kč)","Jednotková hmotnost","Celková hmotnost","Jednotková dem.hmot.","Celková dem.hmot."]
["Díl:","1","Zemní práce",null,null,null,null,null,null,null,null,null,null,null,1]
[1,"113107625R00","Odstranění podkladu nad 50 m2,kam.drcené tl.25 cm ","m2",262.82,null,{"$f":"E8*F8","v":0},0,{"$f":"E8*H8","v":0},-0.55000000000000004,{"$f":"E8*J8","v":-144.55100000000002},null,null,null,2,null,null,null,null,null,null,null,null,null,null,null,1,1,1,null,null,null,null,null,null,null,null,null,null,null,null,null,null,null,null,null,null,null,null,null,null,1,{"$f":"IF(AZ8=1,G8,0)","v":0},{"$f":"IF(AZ8=2,G8,0)","v":0},{"$f":"IF(AZ8=3,G8,0)","v":0},{"$f":"IF(AZ8=4,G8,0)","v":0},{"$f":"IF(AZ8=5,G8,0)","v":0},null,null,null,null,null,null,null,null,null,null,null,null,null,null,null,null,null,null,null,null,null,1,1]
[null,null,"Stoka \"A\" KT DN300:",null,0,null,null,null,null,null,null,null,"Stoka \"A\" KT DN300:"]
[null,null,"Odpočet konstrukce komunikace:(110,80+4,00+6,80)*1,20+1,60*(1,60-1,20)*6",null,149.76,null,null,null,null,null,null,null,"Odpočet konstrukce komunikace:(110,80+4,00+6,80)*1,20+1,60*(1,60-1,20)*6"]
[null,null,"Stoka \"E\" PVC DN250:",null,0,null,null,null,null,null,null,null,"Stoka \"E\" PVC DN250:"]
[null,null,"Odpočet konstrukce komunikace:37,90*1,00+1,60*(1,60-1,00)*1",null,38.86,null,null,null,null,null,null,null,"Odpočet konstrukce komunikace:37,90*1,00+1,60*(1,60-1,00)*1"]
[null,null,"Stoka \"F\" PVC DN250:",null,0,null,null,null,null,null,null,null,"Stoka \"F\" PVC DN250:"]
[null,null,"Odpočet konstrukce komunikace:32,70*1,00+1,60*(1,60-1,00)*1",null,33.659999999999997,null,null,null,null,null,null,null,"Odpočet konstrukce komunikace:32,70*1,00+1,60*(1,60-1,00)*1"]
[null,null,"Stoka \"H\" KT DN250:",null,0,null,null,null,null,null,null,null,"Stoka \"H\" KT DN250:"]
[null,null,"Odpočet konstrukce komunikace:34,00*1,15+1,60*(1,60-1,15)*2",null,40.54,null,null,null,null,null,null,null,"Odpočet konstrukce komunikace:34,00*1,15+1,60*(1,60-1,15)*2"]
[2,"113108415R00","Odstranění asfaltové vrstvy pl.nad 50 m2, tl.15 cm ","m2",262.82,null,{"$f":"E17*F17","v":0},0,{"$f":"E17*H17","v":0},-0.33,{"$f":"E17*J17","v":-86.730599999999995},null,null,null,2,null,null,null,null,null,null,null,null,null,null,null,1,1,1,null,null,null,null,null,null,null,null,null,null,null,null,null,null,null,null,null,null,null,null,null,null,1,{"$f":"IF(AZ17=1,G17,0)","v":0},{"$f":"IF(AZ17=2,G17,0)","v":0},{"$f":"IF(AZ17=3,G17,0)","v":0},{"$f":"IF(AZ17=4,G17,0)","v":0},{"$f":"IF(AZ17=5,G17,0)","v":0},null,null,null,null,null,null,null,null,null,null,null,null,null,null,null,null,null,null,null,null,null,1,1]
[null,null,"Stoka \"A\" KT DN300:",null,0,null,null,null,null,null,null,null,"Stoka \"A\" KT DN300:"]
[null,null,"Odpočet konstrukce komunikace:(110,80+4,00+6,80)*1,20+1,60*(1,60-1,20)*6",null,149.76,null,null,null,null,null,null,null,"Odpočet konstrukce komunikace:(110,80+4,00+6,80)*1,20+1,60*(1,60-1,20)*6"]
[null,null,"Stoka \"E\" PVC DN250:",null,0,null,null,null,null,null,null,null,"Stoka \"E\" PVC DN250:"]
[null,null,"Odpočet konstrukce komunikace:37,90*1,00+1,60*(1,60-1,00)*1",null,38.86,null,null,null,null,null,null,null,"Odpočet konstrukce komunikace:37,90*1,00+1,60*(1,60-1,00)*1"]
[null,null,"Stoka \"F\" PVC DN250:",null,0,null,null,null,null,null,null,null,"Stoka \"F\" PVC DN250:"]
[null,null,"Odpočet konstrukce komunikace:32,70*1,00+1,60*(1,60-1,00)*1",null,33.659999999999997,null,null,null,null,null,null,null,"Odpočet konstrukce komunikace:32,70*1,00+1,60*(1,60-1,00)*1"]
[null,null,"Stoka \"H\" KT DN250:",null,0,null,null,null,null,null,null,null,"Stoka \"H\" KT DN250:"]
[null,null,"Odpočet konstrukce komunikace:34,00*1,15+1,60*(1,60-1,15)*2",null,40.54,null,null,null,null,null,null,null,"Odpočet konstrukce komunikace:34,00*1,15+1,60*(1,60-1,15)*2"]
[3,"114211103R00","Odstranění betonových trub do DN 300 mm, ve výkopu ","m",144,null,{"$f":"E26*F26","v":0},0,{"$f":"E26*H26","v":0},-0.10150000000000001,{"$f":"E26*J26","v":-14.616000000000001},null,null,null,2,null,null,null,null,null,null,null,null,null,null,null,1,1,1,null,null,null,null,null,null,null,null,null,null,null,null,null,null,null,null,null,null,null,null,null,null,1,{"$f":"IF(AZ26=1,G26,0)","v":0},{"$f":"IF(AZ26=2,G26,0)","v":0},{"$f":"IF(AZ26=3,G26,0)","v":0},{"$f":"IF(AZ26=4,G26,0)","v":0},{"$f":"IF(AZ26=5,G26,0)","v":0},null,null,null,null,null,null,null,null,null,null,null,null,null,null,null,null,null,null,null,null,null,1,1]
[null,null,"Položka obsahuje odstranění materiálu obklopujícího potrubí v míře nutné pro vyzvednutí, rozpojení trub, uchopení a vyzvednutí trub z výkopu a uložení na dopravní prostředek včetně odvozu na skládku zhotovitele a poplatek za skládku.",null,null,null,null,null,null,null,null,"Položka obsahuje odstranění materiálu obklopujícího potrubí v míře nutné pro vyzvednutí, rozpojení trub, uchopení a vyzvednutí trub z výkopu a uložení na dopravní prostředek včetně odvozu na skládku zhotovitele a poplatek za skládku.",null,null,3]
[null,null,"Stávající potrubí BT DN300:75,00+37,00+32,00",null,144,null,null,null,null,null,null,null,"Stávající potrubí BT DN300:75,00+37,00+32,00"]
[4,"115101201RRX","Přečerpávání nebo převedení splašků a dešť. vod ","h",150,null,{"$f":"E29*F29","v":0},0,{"$f":"E29*H29","v":0},0,{"$f":"E29*J29","v":0},null,null,null,2,null,null,null,null,null,null,null,null,null,null,null,1,1,1,null,null,null,null,null,null,null,null,null,null,null,null,null,null,null,null,null,null,null,null,null,null,1,{"$f":"IF(AZ29=1,G29,0)","v":0},{"$f":"IF(AZ29=2,G29,0)","v":0},{"$f":"IF(AZ29=3,G29,0)","v":0},{"$f":"IF(AZ29=4,G29,0)","v":0},{"$f":"IF(AZ29=5,G29,0)","v":0},null,null,null,null,null,null,null,null,null,null,null,null,null,null,null,null,null,null,null,null,null,1,1]
[null,null,"Převedení a čerpání splašků nebo dešťových vod dle zvolené technologie zhotovitele stavby.",null,null,null,null,null,null,null,null,"Převedení a čerpání splašků nebo dešťových vod dle zvolené technologie zhotovitele stavby.",null,null,3]
[null,null,"(Množství bude určeno na stavbě dle skutečnosti)",null,null,null,null,null,null,null,null,"(Množství bude určeno na stavbě dle skutečnosti)",null,null,3]
[5,"130001101RRX","Příplatek za ztížené hloubení v blízkosti vedení ","m3",144.2422,null,{"$f":"E32*F32","v":0},0,{"$f":"E32*H32","v":0},0,{"$f":"E32*J32","v":0},null,null,null,2,null,null,null,null,null,null,null,null,null,null,null,1,1,1,null,null,null,null,null,null,null,null,null,null,null,null,null,null,null,null,null,null,null,null,null,null,1,{"$f":"IF(AZ32=1,G32,0)","v":0},{"$f":"IF(AZ32=2,G32,0)","v":0},{"$f":"IF(AZ32=3,G32,0)","v":0},{"$f":"IF(AZ32=4,G32,0)","v":0},{"$f":"IF(AZ32=5,G32,0)","v":0},null,null,null,null,null,null,null,null,null,null,null,null,null,null,null,null,null,null,null,null,null,1,1]
[null,null,"Včetně případných nutných dokopávem a ručního výkopu podél sousedících inženýrských sítí",null,null,null,null,null,null,null,null,"Včetně případných nutných dokopávem a ručního výkopu podél sousedících inženýrských sítí",null,null,3]
[null,null,"Začátek provozního součtu",null,0,null,null,null,null,null,null,null,"Začátek provozního součtu"]
[null,null,"Stoka \"A\" KT DN300:38,10*1,20*(2,60+2,16)/2",null,108.81359999999999,null,null,null,null,null,null,null,"Stoka \"A\" KT DN300:38,10*1,20*(2,60+2,16)/2"]
[null,null,"(64,70-38,10)*1,20*(2,16+2,25)/2",null,70.383600000000001,null,null,null,null,null,null,null,"(64,70-38,10)*1,20*(2,16+2,25)/2"]
[null,null,"(110,80-64,70)*1,20*(2,25+2,25)/2",null,124.47,null,null,null,null,null,null,null,"(110,80-64,70)*1,20*(2,25+2,25)/2"]
[null,null,"Prohloubení pro RŠ:1,60*1,60*0,20*6",null,3.0720000000000001,null,null,null,null,null,null,null,"Prohloubení pro RŠ:1,60*1,60*0,20*6"]
[null,null,"Rozšíření pro RŠ:1,60*(1,60-1,20)*29,25",null,18.72,null,null,null,null,null,null,null,"Rozšíření pro RŠ:1,60*(1,60-1,20)*29,25"]
[null,null,"Propoj do odlehčovací komory KT DN300:4,00*1,20*2,60",null,12.48,null,null,null,null,null,null,null,"Propoj do odlehčovací komory KT DN300:4,00*1,20*2,60"]
[null,null,"Propoj na neznámé potrubí KT DN300:6,80*1,20*2,60",null,21.216000000000001,null,null,null,null,null,null,null,"Propoj na neznámé potrubí KT DN300:6,80*1,20*2,60"]
[null,null,"Odpočet konstrukce komunikace:-((110,80+4,00+6,80)*1,20+1,60*(1,60-1,20)*6)*0,40",null,-59.904000000000003,null,null,null,null,null,null,null,"Odpočet konstrukce komunikace:-((110,80+4,00+6,80)*1,20+1,60*(1,60-1,20)*6)*0,40"]
[null,null,"Stoka \"E\" PVC DN250:15,20*1,00*(2,39+3,03)/2",null,41.192,null,null,null,null,null,null,null,"Stoka \"E\" PVC DN250:15,20*1,00*(2,39+3,03)/2"]
[null,null,"(37,90-15,20)*1,00*(3,03+2,15)/2",null,58.792999999999999,null,null,null,null,null,null,null,"(37,90-15,20)*1,00*(3,03+2,15)/2"]
[null,null,"Prohloubení pro RŠ:1,60*1,60*0,20*1",null,0.51200000000000001,null,null,null,null,null,null,null,"Prohloubení pro RŠ:1,60*1,60*0,20*1"]
[null,null,"Rozšíření pro RŠ:1,60*(1,60-1,00)*2,15",null,2.0640000000000001,null,null,null,null,null,null,null,"Rozšíření pro RŠ:1,60*(1,60-1,00)*2,15"]
[null,null,"Odpočet konstrukce komunikace:-(37,90*1,00+1,60*(1,60-1,00)*1)*0,40",null,-15.544,null,null,null,null,null,null,null,"Odpočet konstrukce komunikace:-(37,90*1,00+1,60*(1,60-1,00)*1)*0,40"]
[null,null,"Stoka \"F\" PVC DN250:10,80*1,00*(2,41+2,89)/2",null,28.62,null,null,null,null,null,null,null,"Stoka \"F\" PVC DN250:10,80*1,00*(2,41+2,89)/2"]
[null,null,"(32,70-10,80)*1,00*(2,89+2,14)/2",null,55.078499999999998,null,null,null,null,null,null,null,"(32,70-10,80)*1,00*(2,89+2,14)/2"]
[null,null,"Prohloubení pro RŠ:1,60*1,60*0,20*1",null,0.51200000000000001,null,null,null,null,null,null,null,"Prohloubení pro RŠ:1,60*1,60*0,20*1"]
[null,null,"Rozšíření pro RŠ:1,60*(1,60-1,00)*2,14",null,2.0543999999999998,null,null,null,null,null,null,null,"Rozšíření pro RŠ:1,60*(1,60-1,00)*2,14"]
[null,null,"Odpočet konstrukce komunikace:-(32,70*1,00+1,60*(1,60-1,00)*1)*0,40",null,-13.464,null,null,null,null,null,null,null,"Odpočet konstrukce komunikace:-(32,70*1,00+1,60*(1,60-1,00)*1)*0,40"]
[null,null,"Stoka \"H\" KT DN250:19,90*1,15*(2,25+2,30)/2",null,52.063400000000001,null,null,null,null,null,null,null,"Stoka \"H\" KT DN250:19,90*1,15*(2,25+2,30)/2"]
[null,null,"(34,00-19,90)*1,15*(2,30+2,04)/2",null,35.186599999999999,null,null,null,null,null,null,null,"(34,00-19,90)*1,15*(2,30+2,04)/2"]
[null,null,"Prohloubení pro RŠ:1,60*1,60*0,20*2",null,1.024,null,null,null,null,null,null,null,"Prohloubení pro RŠ:1,60*1,60*0,20*2"]
[null,null,"Rozšíření pro RŠ:1,60*(1,60-1,15)*4,31",null,3.1032000000000002,null,null,null,null,null,null,null,"Rozšíření pro RŠ:1,60*(1,60-1,15)*4,31"]
[null,null,"Odpočet konstrukce komunikace:-(34,00*1,15+1,60*(1,60-1,15)*2)*0,40",null,-16.216000000000001,null,null,null,null,null,null,null,"Odpočet konstrukce komunikace:-(34,00*1,15+1,60*(1,60-1,15)*2)*0,40"]
[null,null,"Konec provozního součtu",null,534.23030000000017,null,null,null,null,null,null,null,"Konec provozního součtu"]
[null,null,"V hornině tř.3 - 5 - 27%:534,2302*0,27",null,144.2422,null,null,null,null,null,null,null,"V hornině tř.3 - 5 - 27%:534,2302*0,27"]
[6,"130901123RT3","Bourání konstrukcí ze železobetonu ve vykopávkách bagrem s kladivem","m3",8.2504000000000008,null,{"$f":"E60*F60","v":0},0,{"$f":"E60*H60","v":0},0,{"$f":"E60*J60","v":0},null,null,null,2,null,null,null,null,null,null,null,null,null,null,null,1,1,1,null,null,null,null,null,null,null,null,null,null,null,null,null,null,null,null,null,null,null,null,null,null,1,{"$f":"IF(AZ60=1,G60,0)","v":0},{"$f":"IF(AZ60=2,G60,0)","v":0},{"$f":"IF(AZ60=3,G60,0)","v":0},{"$f":"IF(AZ60=4,G60,0)","v":0},{"$f":"IF(AZ60=5,G60,0)","v":0},null,null,null,null,null,null,null,null,null,null,null,null,null,null,null,null,null,null,null,null,null,1,1]
[null,null,"Položka obsahuje odstranění materiálu obklopujícího betonové a železobetonové konstrukce v míře nutné pro vyzvednutí, rozpojení konstrukcí, uchopení a vyzvednutí konstrukce z výkopu a uložení na dopravní prostředek včetně odvozu na skládku zhotovitele a poplatek za skládku.",null,null,null,null,null,null,null,null,"Položka obsahuje odstranění materiálu obklopujícího betonové a železobetonové konstrukce v míře nutné pro vyzvednutí, rozpojení konstrukcí, uchopení a vyzvednutí konstrukce z výkopu a uložení na dopravní prostředek včetně odvozu na skládku zhotovitele a poplatek za skládku.",null,null,3]
[null,null,"Stávající RŠ (6 kusy):8,2504",null,8.2504000000000008,null,null,null,null,null,null,null,"Stávající RŠ (6 kusy):8,2504"]
[7,"132201212R00","Hloubení rýh š.do 200 cm hor.3 do 1000m3,STROJNĚ ","m3",240.40360000000001,null,{"$f":"E63*F63","v":0},0,{"$f":"E63*H63","v":0},0,{"$f":"E63*J63","v":0},null,null,null,2,null,null,null,null,null,null,null,null,null,null,null,1,1,1,null,null,null,null,null,null,null,null,null,null,null,null,null,null,null,null,null,null,null,null,null,null,1,{"$f":"IF(AZ63=1,G63,0)","v":0},{"$f":"IF(AZ63=2,G63,0)","v":0},{"$f":"IF(AZ63=3,G63,0)","v":0},{"$f":"IF(AZ63=4,G63,0)","v":0},{"$f":"IF(AZ63=5,G63,0)","v":0},null,null,null,null,null,null,null,null,null,null,null,null,null,null,null,null,null,null,null,null,null,1,1]
[null,null,"Položka obsahuje hloubení rýh traktorbagrem, naložení výkopku na dopravní prostředek pro svislé, nebo vodorovné přemístění, popř. přemístění výkopku do 3 m (po povrchu území), případné zajištění rypadel polštáři, udržování pracoviště a ochranu výkopiště proti stékání srážkové vody z okolního terénu i s jejím odvodněním, nebo odvedením, přesekání a odstranění kořenů ve výkopišti, odstranění napadávek, urovnání dna výkopu.",null,null,null,null,null,null,null,null,"Položka obsahuje hloubení rýh traktorbagrem, naložení výkopku na dopravní prostředek pro svislé, nebo vodorovné přemístění, popř. přemístění výkopku do 3 m (po povrchu území), případné zajištění rypadel polštáři, udržování pracoviště a ochranu výkopiště proti stékání srážkové vody z okolního terénu i s jejím odvodněním, nebo odvedením, přesekání a odstranění kořenů ve výkopišti, odstranění napadávek, urovnání dna výkopu.",null,null,3]
[null,null,"Začátek provozního součtu",null,0,null,null,null,null,null,null,null,"Začátek provozního součtu"]
[null,null,"Stoka \"A\" KT DN300:38,10*1,20*(2,60+2,16)/2",null,108.81359999999999,null,null,null,null,null,null,null,"Stoka \"A\" KT DN300:38,10*1,20*(2,60+2,16)/2"]
[null,null,"(64,70-38,10)*1,20*(2,16+2,25)/2",null,70.383600000000001,null,null,null,null,null,null,null,"(64,70-38,10)*1,20*(2,16+2,25)/2"]
[null,null,"(110,80-64,70)*1,20*(2,25+2,25)/2",null,124.47,null,null,null,null,null,null,null,"(110,80-64,70)*1,20*(2,25+2,25)/2"]
[null,null,"Prohloubení pro RŠ:1,60*1,60*0,20*6",null,3.0720000000000001,null,null,null,null,null,null,null,"Prohloubení pro RŠ:1,60*1,60*0,20*6"]
[null,null,"Rozšíření pro RŠ:1,60*(1,60-1,20)*29,25",null,18.72,null,null,null,null,null,null,null,"Rozšíření pro RŠ:1,60*(1,60-1,20)*29,25"]
[null,null,"Propoj do odlehčovací komory KT DN300:4,00*1,20*2,60",null,12.48,null,null,null,null,null,null,null,"Propoj do odlehčovací komory KT DN300:4,00*1,20*2,60"]
[null,null,"Propoj na neznámé potrubí KT DN300:6,80*1,20*2,60",null,21.216000000000001,null,null,null,null,null,null,null,"Propoj na neznámé potrubí KT DN300:6,80*1,20*2,60"]
[null,null,"Odpočet konstrukce komunikace:-((110,80+4,00+6,80)*1,20+1,60*(1,60-1,20)*6)*0,40",null,-59.904000000000003,null,null,null,null,null,null,null,"Odpočet konstrukce komunikace:-((110,80+4,00+6,80)*1,20+1,60*(1,60-1,20)*6)*0,40"]
[null,null,"Stoka \"E\" PVC DN250:15,20*1,00*(2,39+3,03)/2",null,41.192,null,null,null,null,null,null,null,"Stoka \"E\" PVC DN250:15,20*1,00*(2,39+3,03)/2"]
[null,null,"(37,90-15,20)*1,00*(3,03+2,15)/2",null,58.792999999999999,null,null,null,null,null,null,null,"(37,90-15,20)*1,00*(3,03+2,15)/2"]
[null,null,"Prohloubení pro RŠ:1,60*1,60*0,20*1",null,0.51200000000000001,null,null,null,null,null,null,null,"Prohloubení pro RŠ:1,60*1,60*0,20*1"]
[null,null,"Rozšíření pro RŠ:1,60*(1,60-1,00)*2,15",null,2.0640000000000001,null,null,null,null,null,null,null,"Rozšíření pro RŠ:1,60*(1,60-1,00)*2,15"]
[null,null,"Odpočet konstrukce komunikace:-(37,90*1,00+1,60*(1,60-1,00)*1)*0,40",null,-15.544,null,null,null,null,null,null,null,"Odpočet konstrukce komunikace:-(37,90*1,00+1,60*(1,60-1,00)*1)*0,40"]
[null,null,"Stoka \"F\" PVC DN250:10,80*1,00*(2,41+2,89)/2",null,28.62,null,null,null,null,null,null,null,"Stoka \"F\" PVC DN250:10,80*1,00*(2,41+2,89)/2"]
[null,null,"(32,70-10,80)*1,00*(2,89+2,14)/2",null,55.078499999999998,null,null,null,null,null,null,null,"(32,70-10,80)*1,00*(2,89+2,14)/2"]
[null,null,"Prohloubení pro RŠ:1,60*1,60*0,20*1",null,0.51200000000000001,null,null,null,null,null,null,null,"Prohloubení pro RŠ:1,60*1,60*0,20*1"]
[null,null,"Rozšíření pro RŠ:1,60*(1,60-1,00)*2,14",null,2.0543999999999998,null,null,null,null,null,null,null,"Rozšíření pro RŠ:1,60*(1,60-1,00)*2,14"]
[null,null,"Odpočet konstrukce komunikace:-(32,70*1,00+1,60*(1,60-1,00)*1)*0,40",null,-13.464,null,null,null,null,null,null,null,"Odpočet konstrukce komunikace:-(32,70*1,00+1,60*(1,60-1,00)*1)*0,40"]
[null,null,"Stoka \"H\" KT DN250:19,90*1,15*(2,25+2,30)/2",null,52.063400000000001,null,null,null,null,null,null,null,"Stoka \"H\" KT DN250:19,90*1,15*(2,25+2,30)/2"]
[null,null,"(34,00-19,90)*1,15*(2,30+2,04)/2",null,35.186599999999999,null,null,null,null,null,null,null,"(34,00-19,90)*1,15*(2,30+2,04)/2"]
[null,null,"Prohloubení pro RŠ:1,60*1,60*0,20*2",null,1.024,null,null,null,null,null,null,null,"Prohloubení pro RŠ:1,60*1,60*0,20*2"]
[null,null,"Rozšíření pro RŠ:1,60*(1,60-1,15)*4,31",null,3.1032000000000002,null,null,null,null,null,null,null,"Rozšíření pro RŠ:1,60*(1,60-1,15)*4,31"]
[null,null,"Odpočet konstrukce komunikace:-(34,00*1,15+1,60*(1,60-1,15)*2)*0,40",null,-16.216000000000001,null,null,null,null,null,null,null,"Odpočet konstrukce komunikace:-(34,00*1,15+1,60*(1,60-1,15)*2)*0,40"]
[null,null,"Konec provozního součtu",null,534.23030000000017,null,null,null,null,null,null,null,"Konec provozního součtu"]
[null,null,"V hornině tř.3 - 45%:534,2302*0,45",null,240.40360000000001,null,null,null,null,null,null,null,"V hornině tř.3 - 45%:534,2302*0,45"]
[8,"132201219R00","Přípl.za lepivost,hloubení rýh 200cm,hor.3,STROJNĚ ","m3",120.20180000000001,null,{"$f":"E91*F91","v":0},0,{"$f":"E91*H91","v":0},0,{"$f":"E91*J91","v":0},null,null,null,2,null,null,null,null,null,null,null,null,null,null,null,1,1,1,null,null,null,null,null,null,null,null,null,null,null,null,null,null,null,null,null,null,null,null,null,null,1,{"$f":"IF(AZ91=1,G91,0)","v":0},{"$f":"IF(AZ91=2,G91,0)","v":0},{"$f":"IF(AZ91=3,G91,0)","v":0},{"$f":"IF(AZ91=4,G91,0)","v":0},{"$f":"IF(AZ91=5,G91,0)","v":0},null,null,null,null,null,null,null,null,null,null,null,null,null,null,null,null,null,null,null,null,null,1,1]
[null,null,"Začátek provozního součtu",null,0,null,null,null,null,null,null,null,"Začátek provozního součtu"]
[null,null,"Stoka \"A\" KT DN300:38,10*1,20*(2,60+2,16)/2",null,108.81359999999999,null,null,null,null,null,null,null,"Stoka \"A\" KT DN300:38,10*1,20*(2,60+2,16)/2"]
[null,null,"(64,70-38,10)*1,20*(2,16+2,25)/2",null,70.383600000000001,null,null,null,null,null,null,null,"(64,70-38,10)*1,20*(2,16+2,25)/2"]
[null,null,"(110,80-64,70)*1,20*(2,25+2,25)/2",null,124.47,null,null,null,null,null,null,null,"(110,80-64,70)*1,20*(2,25+2,25)/2"]
[null,null,"Prohloubení pro RŠ:1,60*1,60*0,20*6",null,3.0720000000000001,null,null,null,null,null,null,null,"Prohloubení pro RŠ:1,60*1,60*0,20*6"]
[null,null,"Rozšíření pro RŠ:1,60*(1,60-1,20)*29,25",null,18.72,null,null,null,null,null,null,null,"Rozšíření pro RŠ:1,60*(1,60-1,20)*29,25"]
[null,null,"Propoj do odlehčovací komory KT DN300:4,00*1,20*2,60",null,12.48,null,null,null,null,null,null,null,"Propoj do odlehčovací komory KT DN300:4,00*1,20*2,60"]
[null,null,"Propoj na neznámé potrubí KT DN300:6,80*1,20*2,60",null,21.216000000000001,null,null,null,null,null,null,null,"Propoj na neznámé potrubí KT DN300:6,80*1,20*2,60"]
[null,null,"Odpočet konstrukce komunikace:-((110,80+4,00+6,80)*1,20+1,60*(1,60-1,20)*6)*0,40",null,-59.904000000000003,null,null,null,null,null,null,null,"Odpočet konstrukce komunikace:-((110,80+4,00+6,80)*1,20+1,60*(1,60-1,20)*6)*0,40"]
[null,null,"Stoka \"E\" PVC DN250:15,20*1,00*(2,39+3,03)/2",null,41.192,null,null,null,null,null,null,null,"Stoka \"E\" PVC DN250:15,20*1,00*(2,39+3,03)/2"]
[null,null,"(37,90-15,20)*1,00*(3,03+2,15)/2",null,58.792999999999999,null,null,null,null,null,null,null,"(37,90-15,20)*1,00*(3,03+2,15)/2"]
[null,null,"Prohloubení pro RŠ:1,60*1,60*0,20*1",null,0.51200000000000001,null,null,null,null,null,null,null,"Prohloubení pro RŠ:1,60*1,60*0,20*1"]
[null,null,"Rozšíření pro RŠ:1,60*(1,60-1,00)*2,15",null,2.0640000000000001,null,null,null,null,null,null,null,"Rozšíření pro RŠ:1,60*(1,60-1,00)*2,15"]
[null,null,"Odpočet konstrukce komunikace:-(37,90*1,00+1,60*(1,60-1,00)*1)*0,40",null,-15.544,null,null,null,null,null,null,null,"Odpočet konstrukce komunikace:-(37,90*1,00+1,60*(1,60-1,00)*1)*0,40"]
[null,null,"Stoka \"F\" PVC DN250:10,80*1,00*(2,41+2,89)/2",null,28.62,null,null,null,null,null,null,null,"Stoka \"F\" PVC DN250:10,80*1,00*(2,41+2,89)/2"]
[null,null,"(32,70-10,80)*1,00*(2,89+2,14)/2",null,55.078499999999998,null,null,null,null,null,null,null,"(32,70-10,80)*1,00*(2,89+2,14)/2"]
[null,null,"Prohloubení pro RŠ:1,60*1,60*0,20*1",null,0.51200000000000001,null,null,null,null,null,null,null,"Prohloubení pro RŠ:1,60*1,60*0,20*1"]
[null,null,"Rozšíření pro RŠ:1,60*(1,60-1,00)*2,14",null,2.0543999999999998,null,null,null,null,null,null,null,"Rozšíření pro RŠ:1,60*(1,60-1,00)*2,14"]
[null,null,"Odpočet konstrukce komunikace:-(32,70*1,00+1,60*(1,60-1,00)*1)*0,40",null,-13.464,null,null,null,null,null,null,null,"Odpočet konstrukce komunikace:-(32,70*1,00+1,60*(1,60-1,00)*1)*0,40"]
[null,null,"Stoka \"H\" KT DN250:19,90*1,15*(2,25+2,30)/2",null,52.063400000000001,null,null,null,null,null,null,null,"Stoka \"H\" KT DN250:19,90*1,15*(2,25+2,30)/2"]
[null,null,"(34,00-19,90)*1,15*(2,30+2,04)/2",null,35.186599999999999,null,null,null,null,null,null,null,"(34,00-19,90)*1,15*(2,30+2,04)/2"]
[null,null,"Prohloubení pro RŠ:1,60*1,60*0,20*2",null,1.024,null,null,null,null,null,null,null,"Prohloubení pro RŠ:1,60*1,60*0,20*2"]
[null,null,"Rozšíření pro RŠ:1,60*(1,60-1,15)*4,31",null,3.1032000000000002,null,null,null,null,null,null,null,"Rozšíření pro RŠ:1,60*(1,60-1,15)*4,31"]
[null,null,"Odpočet konstrukce komunikace:-(34,00*1,15+1,60*(1,60-1,15)*2)*0,40",null,-16.216000000000001,null,null,null,null,null,null,null,"Odpočet konstrukce komunikace:-(34,00*1,15+1,60*(1,60-1,15)*2)*0,40"]
[null,null,"Konec provozního součtu",null,534.23030000000017,null,null,null,null,null,null,null,"Konec provozního součtu"]
[null,null,"V hornině tř.3 - 45%:534,2302*0,45*0,5",null,120.20180000000001,null,null,null,null,null,null,null,"V hornině tř.3 - 45%:534,2302*0,45*0,5"]
[9,"132301212R00","Hloubení rýh š.do 200 cm hor.4 do 1000 m3, STROJNĚ ","m3",240.40360000000001,null,{"$f":"E118*F118","v":0},0,{"$f":"E118*H118","v":0},0,{"$f":"E118*J118","v":0},null,null,null,2,null,null,null,null,null,null,null,null,null,null,null,1,1,1,null,null,null,null,null,null,null,null,null,null,null,null,null,null,null,null,null,null,null,null,null,null,1,{"$f":"IF(AZ118=1,G118,0)","v":0},{"$f":"IF(AZ118=2,G118,0)","v":0},{"$f":"IF(AZ118=3,G118,0)","v":0},{"$f":"IF(AZ118=4,G118,0)","v":0},{"$f":"IF(AZ118=5,G118,0)","v":0},null,null,null,null,null,null,null,null,null,null,null,null,null,null,null,null,null,null,null,null,null,1,1]
[null,null,"Položka obsahuje hloubení rýh traktorbagrem, naložení výkopku na dopravní prostředek pro svislé, nebo vodorovné přemístění, popř. přemístění výkopku do 3 m (po povrchu území), případné zajištění rypadel polštáři, udržování pracoviště a ochranu výkopiště proti stékání srážkové vody z okolního terénu i s jejím odvodněním, nebo odvedením, přesekání a odstranění kořenů ve výkopišti, odstranění napadávek, urovnání dna výkopu.",null,null,null,null,null,null,null,null,"Položka obsahuje hloubení rýh traktorbagrem, naložení výkopku na dopravní prostředek pro svislé, nebo vodorovné přemístění, popř. přemístění výkopku do 3 m (po povrchu území), případné zajištění rypadel polštáři, udržování pracoviště a ochranu výkopiště proti stékání srážkové vody z okolního terénu i s jejím odvodněním, nebo odvedením, přesekání a odstranění kořenů ve výkopišti, odstranění napadávek, urovnání dna výkopu.",null,null,3]
[null,null,"Začátek provozního součtu",null,0,null,null,null,null,null,null,null,"Začátek provozního součtu"]
[null,null,"Stoka \"A\" KT DN300:38,10*1,20*(2,60+2,16)/2",null,108.81359999999999,null,null,null,null,null,null,null,"Stoka \"A\" KT DN300:38,10*1,20*(2,60+2,16)/2"]
[null,null,"(64,70-38,10)*1,20*(2,16+2,25)/2",null,70.383600000000001,null,null,null,null,null,null,null,"(64,70-38,10)*1,20*(2,16+2,25)/2"]
[null,null,"(110,80-64,70)*1,20*(2,25+2,25)/2",null,124.47,null,null,null,null,null,null,null,"(110,80-64,70)*1,20*(2,25+2,25)/2"]
[null,null,"Prohloubení pro RŠ:1,60*1,60*0,20*6",null,3.0720000000000001,null,null,null,null,null,null,null,"Prohloubení pro RŠ:1,60*1,60*0,20*6"]
[null,null,"Rozšíření pro RŠ:1,60*(1,60-1,20)*29,25",null,18.72,null,null,null,null,null,null,null,"Rozšíření pro RŠ:1,60*(1,60-1,20)*29,25"]
[null,null,"Propoj do odlehčovací komory KT DN300:4,00*1,20*2,60",null,12.48,null,null,null,null,null,null,null,"Propoj do odlehčovací komory KT DN300:4,00*1,20*2,60"]
[null,null,"Propoj na neznámé potrubí KT DN300:6,80*1,20*2,60",null,21.216000000000001,null,null,null,null,null,null,null,"Propoj na neznámé potrubí KT DN300:6,80*1,20*2,60"]
[null,null,"Odpočet konstrukce komunikace:-((110,80+4,00+6,80)*1,20+1,60*(1,60-1,20)*6)*0,40",null,-59.904000000000003,null,null,null,null,null,null,null,"Odpočet konstrukce komunikace:-((110,80+4,00+6,80)*1,20+1,60*(1,60-1,20)*6)*0,40"]
[null,null,"Stoka \"E\" PVC DN250:15,20*1,00*(2,39+3,03)/2",null,41.192,null,null,null,null,null,null,null,"Stoka \"E\" PVC DN250:15,20*1,00*(2,39+3,03)/2"]
[null,null,"(37,90-15,20)*1,00*(3,03+2,15)/2",null,58.792999999999999,null,null,null,null,null,null,null,"(37,90-15,20)*1,00*(3,03+2,15)/2"]
[null,null,"Prohloubení pro RŠ:1,60*1,60*0,20*1",null,0.51200000000000001,null,null,null,null,null,null,null,"Prohloubení pro RŠ:1,60*1,60*0,20*1"]
[null,null,"Rozšíření pro RŠ:1,60*(1,60-1,00)*2,15",null,2.0640000000000001,null,null,null,null,null,null,null,"Rozšíření pro RŠ:1,60*(1,60-1,00)*2,15"]
[null,null,"Odpočet konstrukce komunikace:-(37,90*1,00+1,60*(1,60-1,00)*1)*0,40",null,-15.544,null,null,null,null,null,null,null,"Odpočet konstrukce komunikace:-(37,90*1,00+1,60*(1,60-1,00)*1)*0,40"]
[null,null,"Stoka \"F\" PVC DN250:10,80*1,00*(2,41+2,89)/2",null,28.62,null,null,null,null,null,null,null,"Stoka \"F\" PVC DN250:10,80*1,00*(2,41+2,89)/2"]
[null,null,"(32,70-10,80)*1,00*(2,89+2,14)/2",null,55.078499999999998,null,null,null,null,null,null,null,"(32,70-10,80)*1,00*(2,89+2,14)/2"]
[null,null,"Prohloubení pro RŠ:1,60*1,60*0,20*1",null,0.51200000000000001,null,null,null,null,null,null,null,"Prohloubení pro RŠ:1,60*1,60*0,20*1"]
[null,null,"Rozšíření pro RŠ:1,60*(1,60-1,00)*2,14",null,2.0543999999999998,null,null,null,null,null,null,null,"Rozšíření pro RŠ:1,60*(1,60-1,00)*2,14"]
[null,null,"Odpočet konstrukce komunikace:-(32,70*1,00+1,60*(1,60-1,00)*1)*0,40",null,-13.464,null,null,null,null,null,null,null,"Odpočet konstrukce komunikace:-(32,70*1,00+1,60*(1,60-1,00)*1)*0,40"]
[null,null,"Stoka \"H\" KT DN250:19,90*1,15*(2,25+2,30)/2",null,52.063400000000001,null,null,null,null,null,null,null,"Stoka \"H\" KT DN250:19,90*1,15*(2,25+2,30)/2"]
[null,null,"(34,00-19,90)*1,15*(2,30+2,04)/2",null,35.186599999999999,null,null,null,null,null,null,null,"(34,00-19,90)*1,15*(2,30+2,04)/2"]
[null,null,"Prohloubení pro RŠ:1,60*1,60*0,20*2",null,1.024,null,null,null,null,null,null,null,"Prohloubení pro RŠ:1,60*1,60*0,20*2"]
[null,null,"Rozšíření pro RŠ:1,60*(1,60-1,15)*4,31",null,3.1032000000000002,null,null,null,null,null,null,null,"Rozšíření pro RŠ:1,60*(1,60-1,15)*4,31"]
[null,null,"Odpočet konstrukce komunikace:-(34,00*1,15+1,60*(1,60-1,15)*2)*0,40",null,-16.216000000000001,null,null,null,null,null,null,null,"Odpočet konstrukce komunikace:-(34,00*1,15+1,60*(1,60-1,15)*2)*0,40"]
[null,null,"Konec provozního součtu",null,534.23030000000017,null,null,null,null,null,null,null,"Konec provozního součtu"]
[null,null,"V hornině tř.4 - 45%:534,2302*0,45",null,240.40360000000001,null,null,null,null,null,null,null,"V hornině tř.4 - 45%:534,2302*0,45"]
[10,"132301219R00","Přípl.za lepivost,hloubení rýh 200cm,hor.4,STROJNĚ ","m3",120.20180000000001,null,{"$f":"E146*F146","v":0},0,{"$f":"E146*H146","v":0},0,{"$f":"E146*J146","v":0},null,null,null,2,null,null,null,null,null,null,null,null,null,null,null,1,1,1,null,null,null,null,null,null,null,null,null,null,null,null,null,null,null,null,null,null,null,null,null,null,1,{"$f":"IF(AZ146=1,G146,0)","v":0},{"$f":"IF(AZ146=2,G146,0)","v":0},{"$f":"IF(AZ146=3,G146,0)","v":0},{"$f":"IF(AZ146=4,G146,0)","v":0},{"$f":"IF(AZ146=5,G146,0)","v":0},null,null,null,null,null,null,null,null,null,null,null,null,null,null,null,null,null,null,null,null,null,1,1]
[null,null,"Začátek provozního součtu",null,0,null,null,null,null,null,null,null,"Začátek provozního součtu"]
[null,null,"Stoka \"A\" KT DN300:38,10*1,20*(2,60+2,16)/2",null,108.81359999999999,null,null,null,null,null,null,null,"Stoka \"A\" KT DN300:38,10*1,20*(2,60+2,16)/2"]
[null,null,"(64,70-38,10)*1,20*(2,16+2,25)/2",null,70.383600000000001,null,null,null,null,null,null,null,"(64,70-38,10)*1,20*(2,16+2,25)/2"]
[null,null,"(110,80-64,70)*1,20*(2,25+2,25)/2",null,124.47,null,null,null,null,null,null,null,"(110,80-64,70)*1,20*(2,25+2,25)/2"]
[null,null,"Prohloubení pro RŠ:1,60*1,60*0,20*6",null,3.0720000000000001,null,null,null,null,null,null,null,"Prohloubení pro RŠ:1,60*1,60*0,20*6"]
[null,null,"Rozšíření pro RŠ:1,60*(1,60-1,20)*29,25",null,18.72,null,null,null,null,null,null,null,"Rozšíření pro RŠ:1,60*(1,60-1,20)*29,25"]
[null,null,"Propoj do odlehčovací komory KT DN300:4,00*1,20*2,60",null,12.48,null,null,null,null,null,null,null,"Propoj do odlehčovací komory KT DN300:4,00*1,20*2,60"]
[null,null,"Propoj na neznámé potrubí KT DN300:6,80*1,20*2,60",null,21.216000000000001,null,null,null,null,null,null,null,"Propoj na neznámé potrubí KT DN300:6,80*1,20*2,60"]
[null,null,"Odpočet konstrukce komunikace:-((110,80+4,00+6,80)*1,20+1,60*(1,60-1,20)*6)*0,40",null,-59.904000000000003,null,null,null,null,null,null,null,"Odpočet konstrukce komunikace:-((110,80+4,00+6,80)*1,20+1,60*(1,60-1,20)*6)*0,40"]
[null,null,"Stoka \"E\" PVC DN250:15,20*1,00*(2,39+3,03)/2",null,41.192,null,null,null,null,null,null,null,"Stoka \"E\" PVC DN250:15,20*1,00*(2,39+3,03)/2"]
[null,null,"(37,90-15,20)*1,00*(3,03+2,15)/2",null,58.792999999999999,null,null,null,null,null,null,null,"(37,90-15,20)*1,00*(3,03+2,15)/2"]
[null,null,"Prohloubení pro RŠ:1,60*1,60*0,20*1",null,0.51200000000000001,null,null,null,null,null,null,null,"Prohloubení pro RŠ:1,60*1,60*0,20*1"]
[null,null,"Rozšíření pro RŠ:1,60*(1,60-1,00)*2,15",null,2.0640000000000001,null,null,null,null,null,null,null,"Rozšíření pro RŠ:1,60*(1,60-1,00)*2,15"]
[null,null,"Odpočet konstrukce komunikace:-(37,90*1,00+1,60*(1,60-1,00)*1)*0,40",null,-15.544,null,null,null,null,null,null,null,"Odpočet konstrukce komunikace:-(37,90*1,00+1,60*(1,60-1,00)*1)*0,40"]
[null,null,"Stoka \"F\" PVC DN250:10,80*1,00*(2,41+2,89)/2",null,28.62,null,null,null,null,null,null,null,"Stoka \"F\" PVC DN250:10,80*1,00*(2,41+2,89)/2"]
[null,null,"(32,70-10,80)*1,00*(2,89+2,14)/2",null,55.078499999999998,null,null,null,null,null,null,null,"(32,70-10,80)*1,00*(2,89+2,14)/2"]
[null,null,"Prohloubení pro RŠ:1,60*1,60*0,20*1",null,0.51200000000000001,null,null,null,null,null,null,null,"Prohloubení pro RŠ:1,60*1,60*0,20*1"]
[null,null,"Rozšíření pro RŠ:1,60*(1,60-1,00)*2,14",null,2.0543999999999998,null,null,null,null,null,null,null,"Rozšíření pro RŠ:1,60*(1,60-1,00)*2,14"]
[null,null,"Odpočet konstrukce komunikace:-(32,70*1,00+1,60*(1,60-1,00)*1)*0,40",null,-13.464,null,null,null,null,null,null,null,"Odpočet konstrukce komunikace:-(32,70*1,00+1,60*(1,60-1,00)*1)*0,40"]
[null,null,"Stoka \"H\" KT DN250:19,90*1,15*(2,25+2,30)/2",null,52.063400000000001,null,null,null,null,null,null,null,"Stoka \"H\" KT DN250:19,90*1,15*(2,25+2,30)/2"]
[null,null,"(34,00-19,90)*1,15*(2,30+2,04)/2",null,35.186599999999999,null,null,null,null,null,null,null,"(34,00-19,90)*1,15*(2,30+2,04)/2"]
[null,null,"Prohloubení pro RŠ:1,60*1,60*0,20*2",null,1.024,null,null,null,null,null,null,null,"Prohloubení pro RŠ:1,60*1,60*0,20*2"]
[null,null,"Rozšíření pro RŠ:1,60*(1,60-1,15)*4,31",null,3.1032000000000002,null,null,null,null,null,null,null,"Rozšíření pro RŠ:1,60*(1,60-1,15)*4,31"]
[null,null,"Odpočet konstrukce komunikace:-(34,00*1,15+1,60*(1,60-1,15)*2)*0,40",null,-16.216000000000001,null,null,null,null,null,null,null,"Odpočet konstrukce komunikace:-(34,00*1,15+1,60*(1,60-1,15)*2)*0,40"]
[null,null,"Konec provozního součtu",null,534.23030000000017,null,null,null,null,null,null,null,"Konec provozního součtu"]
[null,null,"V hornině tř.4 - 45%:534,2302*0,45*0,5",null,120.20180000000001,null,null,null,null,null,null,null,"V hornině tř.4 - 45%:534,2302*0,45*0,5"]
[11,"132401211R00","Hloubení rýh šířky do 200 cm v hor.5, STROJNĚ ","m3",53.423000000000002,null,{"$f":"E173*F173","v":0},0,{"$f":"E173*H173","v":0},0,{"$f":"E173*J173","v":0},null,null,null,2,null,null,null,null,null,null,null,null,null,null,null,1,1,1,null,null,null,null,null,null,null,null,null,null,null,null,null,null,null,null,null,null,null,null,null,null,1,{"$f":"IF(AZ173=1,G173,0)","v":0},{"$f":"IF(AZ173=2,G173,0)","v":0},{"$f":"IF(AZ173=3,G173,0)","v":0},{"$f":"IF(AZ173=4,G173,0)","v":0},{"$f":"IF(AZ173=5,G173,0)","v":0},null,null,null,null,null,null,null,null,null,null,null,null,null,null,null,null,null,null,null,null,null,1,1]
[null,null,"Položka obsahuje hloubení jámy kolovým rypadlem s rozrývacím zubem, naložení výkopku na dopravní prostředek pro svislé, nebo vodorovné přemístění, popř. přemístění výkopku do 3 m (po povrchu území), případné zajištění rypadel polštáři, udržování pracoviště a ochranu výkopiště proti stékání srážkové vody z okolního terénu i s jejím odvodněním, nebo odvedením, přesekání a odstranění kořenů ve výkopišti, odstranění napadávek, urovnání dna výkopu. Položka se používá bez ohledu na těžené množství.",null,null,null,null,null,null,null,null,"Položka obsahuje hloubení jámy kolovým rypadlem s rozrývacím zubem, naložení výkopku na dopravní prostředek pro svislé, nebo vodorovné přemístění, popř. přemístění výkopku do 3 m (po povrchu území), případné zajištění rypadel polštáři, udržování pracoviště a ochranu výkopiště proti stékání srážkové vody z okolního terénu i s jejím odvodněním, nebo odvedením, přesekání a odstranění kořenů ve výkopišti, odstranění napadávek, urovnání dna výkopu. Položka se používá bez ohledu na těžené množství.",null,null,3]
[null,null,"Začátek provozního součtu",null,0,null,null,null,null,null,null,null,"Začátek provozního součtu"]
[null,null,"Stoka \"A\" KT DN300:38,10*1,20*(2,60+2,16)/2",null,108.81359999999999,null,null,null,null,null,null,null,"Stoka \"A\" KT DN300:38,10*1,20*(2,60+2,16)/2"]
[null,null,"(64,70-38,10)*1,20*(2,16+2,25)/2",null,70.383600000000001,null,null,null,null,null,null,null,"(64,70-38,10)*1,20*(2,16+2,25)/2"]
[null,null,"(110,80-64,70)*1,20*(2,25+2,25)/2",null,124.47,null,null,null,null,null,null,null,"(110,80-64,70)*1,20*(2,25+2,25)/2"]
[null,null,"Prohloubení pro RŠ:1,60*1,60*0,20*6",null,3.0720000000000001,null,null,null,null,null,null,null,"Prohloubení pro RŠ:1,60*1,60*0,20*6"]
[null,null,"Rozšíření pro RŠ:1,60*(1,60-1,20)*29,25",null,18.72,null,null,null,null,null,null,null,"Rozšíření pro RŠ:1,60*(1,60-1,20)*29,25"]
[null,null,"Propoj do odlehčovací komory KT DN300:4,00*1,20*2,60",null,12.48,null,null,null,null,null,null,null,"Propoj do odlehčovací komory KT DN300:4,00*1,20*2,60"]
[null,null,"Propoj na neznámé potrubí KT DN300:6,80*1,20*2,60",null,21.216000000000001,null,null,null,null,null,null,null,"Propoj na neznámé potrubí KT DN300:6,80*1,20*2,60"]
[null,null,"Odpočet konstrukce komunikace:-((110,80+4,00+6,80)*1,20+1,60*(1,60-1,20)*6)*0,40",null,-59.904000000000003,null,null,null,null,null,null,null,"Odpočet konstrukce komunikace:-((110,80+4,00+6,80)*1,20+1,60*(1,60-1,20)*6)*0,40"]
[null,null,"Stoka \"E\" PVC DN250:15,20*1,00*(2,39+3,03)/2",null,41.192,null,null,null,null,null,null,null,"Stoka \"E\" PVC DN250:15,20*1,00*(2,39+3,03)/2"]
[null,null,"(37,90-15,20)*1,00*(3,03+2,15)/2",null,58.792999999999999,null,null,null,null,null,null,null,"(37,90-15,20)*1,00*(3,03+2,15)/2"]
[null,null,"Prohloubení pro RŠ:1,60*1,60*0,20*1",null,0.51200000000000001,null,null,null,null,null,null,null,"Prohloubení pro RŠ:1,60*1,60*0,20*1"]
[null,null,"Rozšíření pro RŠ:1,60*(1,60-1,00)*2,15",null,2.0640000000000001,null,null,null,null,null,null,null,"Rozšíření pro RŠ:1,60*(1,60-1,00)*2,15"]
[null,null,"Odpočet konstrukce komunikace:-(37,90*1,00+1,60*(1,60-1,00)*1)*0,40",null,-15.544,null,null,null,null,null,null,null,"Odpočet konstrukce komunikace:-(37,90*1,00+1,60*(1,60-1,00)*1)*0,40"]
[null,null,"Stoka \"F\" PVC DN250:10,80*1,00*(2,41+2,89)/2",null,28.62,null,null,null,null,null,null,null,"Stoka \"F\" PVC DN250:10,80*1,00*(2,41+2,89)/2"]
[null,null,"(32,70-10,80)*1,00*(2,89+2,14)/2",null,55.078499999999998,null,null,null,null,null,null,null,"(32,70-10,80)*1,00*(2,89+2,14)/2"]
[null,null,"Prohloubení pro RŠ:1,60*1,60*0,20*1",null,0.51200000000000001,null,null,null,null,null,null,null,"Prohloubení pro RŠ:1,60*1,60*0,20*1"]
[null,null,"Rozšíření pro RŠ:1,60*(1,60-1,00)*2,14",null,2.0543999999999998,null,null,null,null,null,null,null,"Rozšíření pro RŠ:1,60*(1,60-1,00)*2,14"]
[null,null,"Odpočet konstrukce komunikace:-(32,70*1,00+1,60*(1,60-1,00)*1)*0,40",null,-13.464,null,null,null,null,null,null,null,"Odpočet konstrukce komunikace:-(32,70*1,00+1,60*(1,60-1,00)*1)*0,40"]
[null,null,"Stoka \"H\" KT DN250:19,90*1,15*(2,25+2,30)/2",null,52.063400000000001,null,null,null,null,null,null,null,"Stoka \"H\" KT DN250:19,90*1,15*(2,25+2,30)/2"]
[null,null,"(34,00-19,90)*1,15*(2,30+2,04)/2",null,35.186599999999999,null,null,null,null,null,null,null,"(34,00-19,90)*1,15*(2,30+2,04)/2"]
[null,null,"Prohloubení pro RŠ:1,60*1,60*0,20*2",null,1.024,null,null,null,null,null,null,null,"Prohloubení pro RŠ:1,60*1,60*0,20*2"]
[null,null,"Rozšíření pro RŠ:1,60*(1,60-1,15)*4,31",null,3.1032000000000002,null,null,null,null,null,null,null,"Rozšíření pro RŠ:1,60*(1,60-1,15)*4,31"]
[null,null,"Odpočet konstrukce komunikace:-(34,00*1,15+1,60*(1,60-1,15)*2)*0,40",null,-16.216000000000001,null,null,null,null,null,null,null,"Odpočet konstrukce komunikace:-(34,00*1,15+1,60*(1,60-1,15)*2)*0,40"]
[null,null,"Konec provozního součtu",null,534.23030000000017,null,null,null,null,null,null,null,"Konec provozního součtu"]
[null,null,"V hornině tř.5 - 10%:534,2302*0,1",null,53.423000000000002,null,null,null,null,null,null,null,"V hornině tř.5 - 10%:534,2302*0,1"]
[12,"151101102R00","Pažení a rozepření stěn rýh - příložné - hl.do 4 m ","m2",1081.3779999999999,null,{"$f":"E201*F201","v":0},8.5999999999999998E-4,{"$f":"E201*H201","v":0.92998507999999991},0,{"$f":"E201*J201","v":0},null,null,null,2,null,null,null,null,null,null,null,null,null,null,null,1,1,1,null,null,null,null,null,null,null,null,null,null,null,null,null,null,null,null,null,null,null,null,null,null,1,{"$f":"IF(AZ201=1,G201,0)","v":0},{"$f":"IF(AZ201=2,G201,0)","v":0},{"$f":"IF(AZ201=3,G201,0)","v":0},{"$f":"IF(AZ201=4,G201,0)","v":0},{"$f":"IF(AZ201=5,G201,0)","v":0},null,null,null,null,null,null,null,null,null,null,null,null,null,null,null,null,null,null,null,null,null,1,1]
[null,null,"Stoka \"A\" KT DN300:38,10*(2,60+2,16)/2*2",null,181.35599999999999,null,null,null,null,null,null,null,"Stoka \"A\" KT DN300:38,10*(2,60+2,16)/2*2"]
[null,null,"(64,70-38,10)*(2,16+2,25)/2*2",null,117.306,null,null,null,null,null,null,null,"(64,70-38,10)*(2,16+2,25)/2*2"]
[null,null,"(110,80-64,70)*(2,25+2,25)/2*2",null,207.45,null,null,null,null,null,null,null,"(110,80-64,70)*(2,25+2,25)/2*2"]
[null,null,"Propoj do odlehčovací komory KT DN300:4,00*2,60*2",null,20.8,null,null,null,null,null,null,null,"Propoj do odlehčovací komory KT DN300:4,00*2,60*2"]
[null,null,"Propoj na neznámé potrubí KT DN300:6,80*2,60*2",null,35.36,null,null,null,null,null,null,null,"Propoj na neznámé potrubí KT DN300:6,80*2,60*2"]
[null,null,"Stoka \"E\" PVC DN250:15,20*(2,39+3,03)/2*2",null,82.384,null,null,null,null,null,null,null,"Stoka \"E\" PVC DN250:15,20*(2,39+3,03)/2*2"]
[null,null,"(37,90-15,20)*(3,03+2,15)/2*2",null,117.586,null,null,null,null,null,null,null,"(37,90-15,20)*(3,03+2,15)/2*2"]
[null,null,"Stoka \"F\" PVC DN250:10,80*(2,41+2,89)/2*2",null,57.24,null,null,null,null,null,null,null,"Stoka \"F\" PVC DN250:10,80*(2,41+2,89)/2*2"]
[null,null,"(32,70-10,80)*(2,89+2,14)/2*2",null,110.157,null,null,null,null,null,null,null,"(32,70-10,80)*(2,89+2,14)/2*2"]
[null,null,"Stoka \"H\" KT DN250:19,90*(2,25+2,30)/2*2",null,90.545000000000002,null,null,null,null,null,null,null,"Stoka \"H\" KT DN250:19,90*(2,25+2,30)/2*2"]
[null,null,"(34,00-19,90)*(2,30+2,04)/2*2",null,61.194000000000003,null,null,null,null,null,null,null,"(34,00-19,90)*(2,30+2,04)/2*2"]
[13,"151101112R00","Odstranění pažení stěn rýh - příložné - hl. do 4 m ","m2",1081.3779999999999,null,{"$f":"E213*F213","v":0},0,{"$f":"E213*H213","v":0},0,{"$f":"E213*J213","v":0},null,null,null,2,null,null,null,null,null,null,null,null,null,null,null,1,1,1,null,null,null,null,null,null,null,null,null,null,null,null,null,null,null,null,null,null,null,null,null,null,1,{"$f":"IF(AZ213=1,G213,0)","v":0},{"$f":"IF(AZ213=2,G213,0)","v":0},{"$f":"IF(AZ213=3,G213,0)","v":0},{"$f":"IF(AZ213=4,G213,0)","v":0},{"$f":"IF(AZ213=5,G213,0)","v":0},null,null,null,null,null,null,null,null,null,null,null,null,null,null,null,null,null,null,null,null,null,1,1]
[null,null,"Stoka \"A\" KT DN300:38,10*(2,60+2,16)/2*2",null,181.35599999999999,null,null,null,null,null,null,null,"Stoka \"A\" KT DN300:38,10*(2,60+2,16)/2*2"]
[null,null,"(64,70-38,10)*(2,16+2,25)/2*2",null,117.306,null,null,null,null,null,null,null,"(64,70-38,10)*(2,16+2,25)/2*2"]
[null,null,"(110,80-64,70)*(2,25+2,25)/2*2",null,207.45,null,null,null,null,null,null,null,"(110,80-64,70)*(2,25+2,25)/2*2"]
[null,null,"Propoj do odlehčovací komory KT DN300:4,00*2,60*2",null,20.8,null,null,null,null,null,null,null,"Propoj do odlehčovací komory KT DN300:4,00*2,60*2"]
[null,null,"Propoj na neznámé potrubí KT DN300:6,80*2,60*2",null,35.36,null,null,null,null,null,null,null,"Propoj na neznámé potrubí KT DN300:6,80*2,60*2"]
[null,null,"Stoka \"E\" PVC DN250:15,20*(2,39+3,03)/2*2",null,82.384,null,null,null,null,null,null,null,"Stoka \"E\" PVC DN250:15,20*(2,39+3,03)/2*2"]
[null,null,"(37,90-15,20)*(3,03+2,15)/2*2",null,117.586,null,null,null,null,null,null,null,"(37,90-15,20)*(3,03+2,15)/2*2"]
[null,null,"Stoka \"F\" PVC DN250:10,80*(2,41+2,89)/2*2",null,57.24,null,null,null,null,null,null,null,"Stoka \"F\" PVC DN250:10,80*(2,41+2,89)/2*2"]
[null,null,"(32,70-10,80)*(2,89+2,14)/2*2",null,110.157,null,null,null,null,null,null,null,"(32,70-10,80)*(2,89+2,14)/2*2"]
[null,null,"Stoka \"H\" KT DN250:19,90*(2,25+2,30)/2*2",null,90.545000000000002,null,null,null,null,null,null,null,"Stoka \"H\" KT DN250:19,90*(2,25+2,30)/2*2"]
[null,null,"(34,00-19,90)*(2,30+2,04)/2*2",null,61.194000000000003,null,null,null,null,null,null,null,"(34,00-19,90)*(2,30+2,04)/2*2"]
[14,"162701105RSZ","Vodorovné přemístění výkopku z hor.1-7 na skládku zhotovitele","m3",534.23019999999997,null,{"$f":"E225*F225","v":0},0,{"$f":"E225*H225","v":0},0,{"$f":"E225*J225","v":0},null,null,null,2,null,null,null,null,null,null,null,null,null,null,null,1,1,1,null,null,null,null,null,null,null,null,null,null,null,null,null,null,null,null,null,null,null,null,null,null,1,{"$f":"IF(AZ225=1,G225,0)","v":0},{"$f":"IF(AZ225=2,G225,0)","v":0},{"$f":"IF(AZ225=3,G225,0)","v":0},{"$f":"IF(AZ225=4,G225,0)","v":0},{"$f":"IF(AZ225=5,G225,0)","v":0},null,null,null,null,null,null,null,null,null,null,null,null,null,null,null,null,null,null,null,null,null,1,1]
[null,null,"Výkopy:",null,0,null,null,null,null,null,null,null,"Výkopy:"]
[null,null,"V hornině tř.3 - 5:534,2302",null,534.23019999999997,null,null,null,null,null,null,null,"V hornině tř.3 - 5:534,2302"]
[null,null,"Odpočet zásypů zeminou:0",null,0,null,null,null,null,null,null,null,"Odpočet zásypů zeminou:0"]
[15,"174101101R00","Zásyp jam, rýh, šachet se zhutněním ","m3",274.98309999999998,null,{"$f":"E229*F229","v":0},0,{"$f":"E229*H229","v":0},0,{"$f":"E229*J229","v":0},null,null,null,2,null,null,null,null,null,null,null,null,null,null,null,1,1,1,null,null,null,null,null,null,null,null,null,null,null,null,null,null,null,null,null,null,null,null,null,null,1,{"$f":"IF(AZ229=1,G229,0)","v":0},{"$f":"IF(AZ229=2,G229,0)","v":0},{"$f":"IF(AZ229=3,G229,0)","v":0},{"$f":"IF(AZ229=4,G229,0)","v":0},{"$f":"IF(AZ229=5,G229,0)","v":0},null,null,null,null,null,null,null,null,null,null,null,null,null,null,null,null,null,null,null,null,null,1,1]
[null,null,"Položka obsahuje strojní přemístění materiálu pro zásyp ze vzdálenosti do 10 m od okraje zásypu.",null,null,null,null,null,null,null,null,"Položka obsahuje strojní přemístění materiálu pro zásyp ze vzdálenosti do 10 m od okraje zásypu.",null,null,3]
[null,null,"Zásyp štěrkodrtí fr. 0-63 mm:",null,0,null,null,null,null,null,null,null,"Zásyp štěrkodrtí fr. 0-63 mm:"]
[null,null,"Výkopy:",null,0,null,null,null,null,null,null,null,"Výkopy:"]
[null,null,"V hornině tř.3 - 5:517,41287",null,517.41290000000004,null,null,null,null,null,null,null,"V hornině tř.3 - 5:517,41287"]
[null,null,"Odpočet obkemu lože, potrubí a obsypů :",null,0,null,null,null,null,null,null,null,"Odpočet obkemu lože, potrubí a obsypů :"]
[null,null,"Stoka \"A\" KT DN300:-110,80*0,9840",null,-109.02719999999999,null,null,null,null,null,null,null,"Stoka \"A\" KT DN300:-110,80*0,9840"]
[null,null,"Propoj do odlehčovací komory KT DN300:-4,00*0,9840",null,-3.9359999999999999,null,null,null,null,null,null,null,"Propoj do odlehčovací komory KT DN300:-4,00*0,9840"]
[null,null,"Propoj na neznámé potrubí KT DN300:-6,80*0,9840",null,-6.6912000000000003,null,null,null,null,null,null,null,"Propoj na neznámé potrubí KT DN300:-6,80*0,9840"]
[null,null,"Odpočet objemu RŠ:-37,2125",null,-37.212499999999999,null,null,null,null,null,null,null,"Odpočet objemu RŠ:-37,2125"]
[null,null,"Stoka \"E\" PVC DN250:-37,90*1,00*(0,10+0,25+0,30)",null,-24.635000000000002,null,null,null,null,null,null,null,"Stoka \"E\" PVC DN250:-37,90*1,00*(0,10+0,25+0,30)"]
[null,null,"Odpočet objemu RŠ:-2,5870",null,-2.5870000000000002,null,null,null,null,null,null,null,"Odpočet objemu RŠ:-2,5870"]
[null,null,"Stoka \"F\" PVC DN250:-32,70*1,00*(0,10+0,25+0,30)",null,-21.254999999999999,null,null,null,null,null,null,null,"Stoka \"F\" PVC DN250:-32,70*1,00*(0,10+0,25+0,30)"]
[null,null,"Odpočet objemu RŠ:-2,5737",null,-2.5737000000000001,null,null,null,null,null,null,null,"Odpočet objemu RŠ:-2,5737"]
[null,null,"Stoka \"H\" KT DN250:-34,00*0,8625",null,-29.324999999999999,null,null,null,null,null,null,null,"Stoka \"H\" KT DN250:-34,00*0,8625"]
[null,null,"Odpočet objemu RŠ:-5,1872",null,-5.1871999999999998,null,null,null,null,null,null,null,"Odpočet objemu RŠ:-5,1872"]
[16,"175101101R00","Obsyp potrubí bez prohození sypaniny ","m3",127.86579999999999,null,{"$f":"E245*F245","v":0},0,{"$f":"E245*H245","v":0},0,{"$f":"E245*J245","v":0},null,null,null,2,null,null,null,null,null,null,null,null,null,null,null,1,1,1,null,null,null,null,null,null,null,null,null,null,null,null,null,null,null,null,null,null,null,null,null,null,1,{"$f":"IF(AZ245=1,G245,0)","v":0},{"$f":"IF(AZ245=2,G245,0)","v":0},{"$f":"IF(AZ245=3,G245,0)","v":0},{"$f":"IF(AZ245=4,G245,0)","v":0},{"$f":"IF(AZ245=5,G245,0)","v":0},null,null,null,null,null,null,null,null,null,null,null,null,null,null,null,null,null,null,null,null,null,1,1]
[null,null,"Stoka \"A\" KT DN300:110,80*0,6065",null,67.200199999999995,null,null,null,null,null,null,null,"Stoka \"A\" KT DN300:110,80*0,6065"]
[null,null,"Propoj do odlehčovací komory KT DN300:4,00*0,6065",null,2.4260000000000002,null,null,null,null,null,null,null,"Propoj do odlehčovací komory KT DN300:4,00*0,6065"]
[null,null,"Propoj na neznámé potrubí KT DN300:6,80*0,6065",null,4.1242000000000001,null,null,null,null,null,null,null,"Propoj na neznámé potrubí KT DN300:6,80*0,6065"]
[null,null,"Stoka \"E\" PVC DN250:37,90*(1,00*(0,25+0,30)-0,125^2*Pi)",null,18.9846,null,null,null,null,null,null,null,"Stoka \"E\" PVC DN250:37,90*(1,00*(0,25+0,30)-0,125^2*Pi)"]
[null,null,"Stoka \"F\" PVC DN250:32,70*(1,00*(0,25+0,30)-0,125^2*Pi)",null,16.379799999999999,null,null,null,null,null,null,null,"Stoka \"F\" PVC DN250:32,70*(1,00*(0,25+0,30)-0,125^2*Pi)"]
[null,null,"Stoka \"H\" KT DN250:34,00*0,5515",null,18.751000000000001,null,null,null,null,null,null,null,"Stoka \"H\" KT DN250:34,00*0,5515"]
[17,"199000002R00","Poplatek za skládku horniny 1- 7 č. dle katal. odpadů 17 05 04","m3",534.23019999999997,null,{"$f":"E252*F252","v":0},0,{"$f":"E252*H252","v":0},0,{"$f":"E252*J252","v":0},null,null,null,2,null,null,null,null,null,null,null,null,null,null,null,1,1,1,null,null,null,null,null,null,null,null,null,null,null,null,null,null,null,null,null,null,null,null,null,null,1,{"$f":"IF(AZ252=1,G252,0)","v":0},{"$f":"IF(AZ252=2,G252,0)","v":0},{"$f":"IF(AZ252=3,G252,0)","v":0},{"$f":"IF(AZ252=4,G252,0)","v":0},{"$f":"IF(AZ252=5,G252,0)","v":0},null,null,null,null,null,null,null,null,null,null,null,null,null,null,null,null,null,null,null,null,null,1,1]
[null,null,"Výkopy:",null,0,null,null,null,null,null,null,null,"Výkopy:"]
[null,null,"V hornině tř.3 - 5:534,2302",null,534.23019999999997,null,null,null,null,null,null,null,"V hornině tř.3 - 5:534,2302"]
[null,null,"Odpočet zásypů zeminou:0",null,0,null,null,null,null,null,null,null,"Odpočet zásypů zeminou:0"]
[18,"919735113R00","Řezání stávajícího živičného krytu tl. 10 - 15 cm ","m",469.47,null,{"$f":"E256*F256","v":0},0,{"$f":"E256*H256","v":0},0,{"$f":"E256*J256","v":0},null,null,null,2,null,null,null,null,null,null,null,null,null,null,null,1,1,1,null,null,null,null,null,null,null,null,null,null,null,null,null,null,null,null,null,null,null,null,null,null,1,{"$f":"IF(AZ256=1,G256,0)","v":0},{"$f":"IF(AZ256=2,G256,0)","v":0},{"$f":"IF(AZ256=3,G256,0)","v":0},{"$f":"IF(AZ256=4,G256,0)","v":0},{"$f":"IF(AZ256=5,G256,0)","v":0},null,null,null,null,null,null,null,null,null,null,null,null,null,null,null,null,null,null,null,null,null,1,1]
[null,null,"Stoka \"A\" KT DN300:",null,0,null,null,null,null,null,null,null,"Stoka \"A\" KT DN300:"]
[null,null,"Odpočet konstrukce komunikace:(110,80+4,00+6,80)*2+1,20*2+(1,60-1,20)*6*2",null,250.4,null,null,null,null,null,null,null,"Odpočet konstrukce komunikace:(110,80+4,00+6,80)*2+1,20*2+(1,60-1,20)*6*2"]
[null,null,"Stoka \"E\" PVC DN250:",null,0,null,null,null,null,null,null,null,"Stoka \"E\" PVC DN250:"]
[null,null,"Odpočet konstrukce komunikace:37,90*2+1,00*1+1,60*(1,60-1,00)*1*2",null,78.72,null,null,null,null,null,null,null,"Odpočet konstrukce komunikace:37,90*2+1,00*1+1,60*(1,60-1,00)*1*2"]
[null,null,"Stoka \"F\" PVC DN250:",null,0,null,null,null,null,null,null,null,"Stoka \"F\" PVC DN250:"]
[null,null,"Odpočet konstrukce komunikace:32,70*2+1,00*1+1,60*(1,60-1,00)*1*2",null,68.319999999999993,null,null,null,null,null,null,null,"Odpočet konstrukce komunikace:32,70*2+1,00*1+1,60*(1,60-1,00)*1*2"]
[null,null,"Stoka \"H\" KT DN250:",null,0,null,null,null,null,null,null,null,"Stoka \"H\" KT DN250:"]
[null,null,"Odpočet konstrukce komunikace:34,00*2+1,15*1+1,60*(1,60-1,15)*2*2",null,72.03,null,null,null,null,null,null,null,"Odpočet konstrukce komunikace:34,00*2+1,15*1+1,60*(1,60-1,15)*2*2"]
[19,"976085211R00","Vybourání kanal.rámů a poklopů plochy do 0,3 m2 ","kus",6,null,{"$f":"E265*F265","v":0},0,{"$f":"E265*H265","v":0},-2.4E-2,{"$f":"E265*J265","v":-0.14400000000000002},null,null,null,2,null,null,null,null,null,null,null,null,null,null,null,1,0,0,null,null,null,null,null,null,null,null,null,null,null,null,null,null,null,null,null,null,null,null,null,null,1,{"$f":"IF(AZ265=1,G265,0)","v":0},{"$f":"IF(AZ265=2,G265,0)","v":0},{"$f":"IF(AZ265=3,G265,0)","v":0},{"$f":"IF(AZ265=4,G265,0)","v":0},{"$f":"IF(AZ265=5,G265,0)","v":0},null,null,null,null,null,null,null,null,null,null,null,null,null,null,null,null,null,null,null,null,null,1,0]
[null,null,"Poklopy stávající RŠ:4+1+1",null,6,null,null,null,null,null,null,null,"Poklopy stávající RŠ:4+1+1"]
[20,"979082113RSZ","Vodorovná doprava suti po suchu na skládku zhotovitele","t",231.2816,null,{"$f":"E267*F267","v":0},0,{"$f":"E267*H267","v":0},0,{"$f":"E267*J267","v":0},null,null,null,2,null,null,null,null,null,null,null,null,null,null,null,1,1,1,null,null,null,null,null,null,null,null,null,null,null,null,null,null,null,null,null,null,null,null,null,null,1,{"$f":"IF(AZ267=1,G267,0)","v":0},{"$f":"IF(AZ267=2,G267,0)","v":0},{"$f":"IF(AZ267=3,G267,0)","v":0},{"$f":"IF(AZ267=4,G267,0)","v":0},{"$f":"IF(AZ267=5,G267,0)","v":0},null,null,null,null,null,null,null,null,null,null,null,null,null,null,null,null,null,null,null,null,null,1,1]
[21,"979089001R00","Poplatek za skládku stavební suti štěrky z komunikací, skupina odpadu 010408","t",144.55099999999999,null,{"$f":"E268*F268","v":0},0,{"$f":"E268*H268","v":0},0,{"$f":"E268*J268","v":0},null,null,null,2,null,null,null,null,null,null,null,null,null,null,null,1,1,1,null,null,null,null,null,null,null,null,null,null,null,null,null,null,null,null,null,null,null,null,null,null,1,{"$f":"IF(AZ268=1,G268,0)","v":0},{"$f":"IF(AZ268=2,G268,0)","v":0},{"$f":"IF(AZ268=3,G268,0)","v":0},{"$f":"IF(AZ268=4,G268,0)","v":0},{"$f":"IF(AZ268=5,G268,0)","v":0},null,null,null,null,null,null,null,null,null,null,null,null,null,null,null,null,null,null,null,null,null,1,1]
[22,"979999995R00","Poplatek za reciklaci asfaltu, kusovost do 1600cm2 skupina 170302","t",86.730599999999995,null,{"$f":"E269*F269","v":0},0,{"$f":"E269*H269","v":0},0,{"$f":"E269*J269","v":0},null,null,null,2,null,null,null,null,null,null,null,null,null,null,null,1,1,1,null,null,null,null,null,null,null,null,null,null,null,null,null,null,null,null,null,null,null,null,null,null,1,{"$f":"IF(AZ269=1,G269,0)","v":0},{"$f":"IF(AZ269=2,G269,0)","v":0},{"$f":"IF(AZ269=3,G269,0)","v":0},{"$f":"IF(AZ269=4,G269,0)","v":0},{"$f":"IF(AZ269=5,G269,0)","v":0},null,null,null,null,null,null,null,null,null,null,null,null,null,null,null,null,null,null,null,null,null,1,1]
[null,null,"Položka je určena pro suť o velikosti kusu do 30x30 cm nebo frézovaný asfalt(technologický materiál určený k recyklaci).",null,null,null,null,null,null,null,null,"Položka je určena pro suť o velikosti kusu do 30x30 cm nebo frézovaný asfalt(technologický materiál určený k recyklaci).",null,null,3]
[23,"58337308R","Štěrkopísek frakce 0-2 tř.B","t",252.27930000000001,null,{"$f":"E271*F271","v":0},1,{"$f":"E271*H271","v":252.27930000000001},null,{"$f":"E271*J271","v":0},null,null,null,2,null,null,null,null,null,null,null,null,null,null,null,3,1,"58337308R",null,null,null,null,null,null,null,null,null,null,null,null,null,null,null,null,null,null,null,null,null,null,1,{"$f":"IF(AZ271=1,G271,0)","v":0},{"$f":"IF(AZ271=2,G271,0)","v":0},{"$f":"IF(AZ271=3,G271,0)","v":0},{"$f":"IF(AZ271=4,G271,0)","v":0},{"$f":"IF(AZ271=5,G271,0)","v":0},null,null,null,null,null,null,null,null,null,null,null,null,null,null,null,null,null,null,null,null,null,3,1]
[null,null,"Stoka \"A\" KT DN300:110,80*0,6065*1,973",null,132.58600000000001,null,null,null,null,null,null,null,"Stoka \"A\" KT DN300:110,80*0,6065*1,973"]
[null,null,"Propoj do odlehčovací komory KT DN300:4,00*0,6065*1,973",null,4.7865000000000002,null,null,null,null,null,null,null,"Propoj do odlehčovací komory KT DN300:4,00*0,6065*1,973"]
[null,null,"Propoj na neznámé potrubí KT DN300:6,80*0,6065*1,973",null,8.1370000000000005,null,null,null,null,null,null,null,"Propoj na neznámé potrubí KT DN300:6,80*0,6065*1,973"]
[null,null,"Stoka \"E\" PVC DN250:37,90*(1,00*(0,25+0,30)-0,125^2*Pi)*1,973",null,37.456600000000002,null,null,null,null,null,null,null,"Stoka \"E\" PVC DN250:37,90*(1,00*(0,25+0,30)-0,125^2*Pi)*1,973"]
[null,null,"Stoka \"F\" PVC DN250:32,70*(1,00*(0,25+0,30)-0,125^2*Pi)*1,973",null,32.317399999999999,null,null,null,null,null,null,null,"Stoka \"F\" PVC DN250:32,70*(1,00*(0,25+0,30)-0,125^2*Pi)*1,973"]
[null,null,"Stoka \"H\" KT DN250:34,00*0,5515*1,973",null,36.995699999999999,null,null,null,null,null,null,null,"Stoka \"H\" KT DN250:34,00*0,5515*1,973"]
[24,"58344197R","Štěrkodrtě frakce 0-63 A","t",515.04330000000004,null,{"$f":"E278*F278","v":0},1,{"$f":"E278*H278","v":515.04330000000004},null,{"$f":"E278*J278","v":0},null,null,null,2,null,null,null,null,null,null,null,null,null,null,null,3,1,"58344197R",null,null,null,null,null,null,null,null,null,null,null,null,null,null,null,null,null,null,null,null,null,null,1,{"$f":"IF(AZ278=1,G278,0)","v":0},{"$f":"IF(AZ278=2,G278,0)","v":0},{"$f":"IF(AZ278=3,G278,0)","v":0},{"$f":"IF(AZ278=4,G278,0)","v":0},{"$f":"IF(AZ278=5,G278,0)","v":0},null,null,null,null,null,null,null,null,null,null,null,null,null,null,null,null,null,null,null,null,null,3,1]
[null,null,"Zásyp štěrkodrtí fr. 0-63 mm:274,9831*1,873",null,515.04330000000004,null,null,null,null,null,null,null,"Zásyp štěrkodrtí fr. 0-63 mm:274,9831*1,873"]
[null,null,"Začátek provozního součtu",null,0,null,null,null,null,null,null,null,"Začátek provozního součtu"]
[null,null,"Výkopy:",null,0,null,null,null,null,null,null,null,"Výkopy:"]
[null,null,"V hornině tř.3 - 5:517,41287",null,517.41290000000004,null,null,null,null,null,null,null,"V hornině tř.3 - 5:517,41287"]
[null,null,"Odpočet obkemu lože, potrubí a obsypů :",null,0,null,null,null,null,null,null,null,"Odpočet obkemu lože, potrubí a obsypů :"]
[null,null,"Stoka \"A\" KT DN300:-110,80*0,9840",null,-109.02719999999999,null,null,null,null,null,null,null,"Stoka \"A\" KT DN300:-110,80*0,9840"]
[null,null,"Propoj do odlehčovací komory KT DN300:-4,00*0,9840",null,-3.9359999999999999,null,null,null,null,null,null,null,"Propoj do odlehčovací komory KT DN300:-4,00*0,9840"]
[null,null,"Propoj na neznámé potrubí KT DN300:-6,80*0,9840",null,-6.6912000000000003,null,null,null,null,null,null,null,"Propoj na neznámé potrubí KT DN300:-6,80*0,9840"]
[null,null,"Odpočet objemu RŠ:-37,2125",null,-37.212499999999999,null,null,null,null,null,null,null,"Odpočet objemu RŠ:-37,2125"]
[null,null,"Stoka \"E\" PVC DN250:-37,90*1,00*(0,10+0,25+0,30)",null,-24.635000000000002,null,null,null,null,null,null,null,"Stoka \"E\" PVC DN250:-37,90*1,00*(0,10+0,25+0,30)"]
[null,null,"Odpočet objemu RŠ:-2,5870",null,-2.5870000000000002,null,null,null,null,null,null,null,"Odpočet objemu RŠ:-2,5870"]
[null,null,"Stoka \"F\" PVC DN250:-32,70*1,00*(0,10+0,25+0,30)",null,-21.254999999999999,null,null,null,null,null,null,null,"Stoka \"F\" PVC DN250:-32,70*1,00*(0,10+0,25+0,30)"]
[null,null,"Odpočet objemu RŠ:-2,5737",null,-2.5737000000000001,null,null,null,null,null,null,null,"Odpočet objemu RŠ:-2,5737"]
[null,null,"Stoka \"H\" KT DN250:-34,00*0,8625",null,-29.324999999999999,null,null,null,null,null,null,null,"Stoka \"H\" KT DN250:-34,00*0,8625"]
[null,null,"Odpočet objemu RŠ:-5,1872",null,-5.1871999999999998,null,null,null,null,null,null,null,"Odpočet objemu RŠ:-5,1872"]
[null,null,"Konec provozního součtu",null,274.98310000000015,null,null,null,null,null,null,null,"Konec provozního součtu"]
[null,"Celkem za","1 Zemní práce",null,null,null,{"$f":"SUM(G7:G294)","v":0},null,{"$f":"SUM(I7:I294)","v":768.25258508000002},null,{"$f":"SUM(K7:K294)","v":-246.04160000000005},null,null,null,4,null,null,null,null,null,null,null,null,null,null,null,null,null,null,null,null,null,null,null,null,null,null,null,null,null,null,null,null,null,null,null,null,null,null,null,null,null,{"$f":"SUM(BA7:BA294)","v":0},{"$f":"SUM(BB7:BB294)","v":0},{"$f":"SUM(BC7:BC294)","v":0},{"$f":"SUM(BD7:BD294)","v":0},{"$f":"SUM(BE7:BE294)","v":0}]
["Díl:","2","Základy a zvláštní zakládání",null,null,null,null,null,null,null,null,null,null,null,1]
[25,"212810010RAC","Trativody z PVC drenážních flexibilních trubek lože štěrkopísek a obsyp kamenivo, trubky d 100 mm","m",215.4,null,{"$f":"E297*F297","v":0},0.43651000000000001,{"$f":"E297*H297","v":94.024253999999999},0,{"$f":"E297*J297","v":0},null,null,null,2,null,null,null,null,null,null,null,null,null,null,null,1,1,1,null,null,null,null,null,null,null,null,null,null,null,null,null,null,null,null,null,null,null,null,null,null,1,{"$f":"IF(AZ297=1,G297,0)","v":0},{"$f":"IF(AZ297=2,G297,0)","v":0},{"$f":"IF(AZ297=3,G297,0)","v":0},{"$f":"IF(AZ297=4,G297,0)","v":0},{"$f":"IF(AZ297=5,G297,0)","v":0},null,null,null,null,null,null,null,null,null,null,null,null,null,null,null,null,null,null,null,null,null,1,1]
[null,null,"Stoka \"A\" KT DN300:110,80",null,110.8,null,null,null,null,null,null,null,"Stoka \"A\" KT DN300:110,80"]
[null,null,"Stoka \"E\" PVC DN250:37,90",null,37.9,null,null,null,null,null,null,null,"Stoka \"E\" PVC DN250:37,90"]
[null,null,"Stoka \"F\" PVC DN250:32,70",null,32.700000000000003,null,null,null,null,null,null,null,"Stoka \"F\" PVC DN250:32,70"]
[null,null,"Stoka \"H\" KT DN250:34,00",null,34,null,null,null,null,null,null,null,"Stoka \"H\" KT DN250:34,00"]
[26,"212971110R00","Opláštění trativodů z geotext., do sklonu 1:2,5 ","m2",215.4,null,{"$f":"E302*F302","v":0},1.8000000000000001E-4,{"$f":"E302*H302","v":3.8772000000000001E-2},0,{"$f":"E302*J302","v":0},null,null,null,2,null,null,null,null,null,null,null,null,null,null,null,1,1,1,null,null,null,null,null,null,null,null,null,null,null,null,null,null,null,null,null,null,null,null,null,null,1,{"$f":"IF(AZ302=1,G302,0)","v":0},{"$f":"IF(AZ302=2,G302,0)","v":0},{"$f":"IF(AZ302=3,G302,0)","v":0},{"$f":"IF(AZ302=4,G302,0)","v":0},{"$f":"IF(AZ302=5,G302,0)","v":0},null,null,null,null,null,null,null,null,null,null,null,null,null,null,null,null,null,null,null,null,null,1,1]
[null,null,"Stoka \"A\" KT DN300:110,80*1,00",null,110.8,null,null,null,null,null,null,null,"Stoka \"A\" KT DN300:110,80*1,00"]
[null,null,"Stoka \"E\" PVC DN250:37,90*1,00",null,37.9,null,null,null,null,null,null,null,"Stoka \"E\" PVC DN250:37,90*1,00"]
[null,null,"Stoka \"F\" PVC DN250:32,70*1,00",null,32.700000000000003,null,null,null,null,null,null,null,"Stoka \"F\" PVC DN250:32,70*1,00"]
[null,null,"Stoka \"H\" KT DN250:34,00*1,00",null,34,null,null,null,null,null,null,null,"Stoka \"H\" KT DN250:34,00*1,00"]
[27,"67390503.R","Geotextilie netkaná 300 g/m2","m2",258.48,null,{"$f":"E307*F307","v":0},2.9999999999999997E-4,{"$f":"E307*H307","v":7.7544000000000002E-2},null,{"$f":"E307*J307","v":0},null,null,null,2,null,null,null,null,null,null,null,null,null,null,null,3,1,"67390503.R",null,null,null,null,null,null,null,null,null,null,null,null,null,null,null,null,null,null,null,null,null,null,1,{"$f":"IF(AZ307=1,G307,0)","v":0},{"$f":"IF(AZ307=2,G307,0)","v":0},{"$f":"IF(AZ307=3,G307,0)","v":0},{"$f":"IF(AZ307=4,G307,0)","v":0},{"$f":"IF(AZ307=5,G307,0)","v":0},null,null,null,null,null,null,null,null,null,null,null,null,null,null,null,null,null,null,null,null,null,3,1]
[null,null,"Stoka \"A\" KT DN300:110,80*1,00*1,2",null,132.96,null,null,null,null,null,null,null,"Stoka \"A\" KT DN300:110,80*1,00*1,2"]
[null,null,"Stoka \"E\" PVC DN250:37,90*1,00*1,2",null,45.48,null,null,null,null,null,null,null,"Stoka \"E\" PVC DN250:37,90*1,00*1,2"]
[null,null,"Stoka \"F\" PVC DN250:32,70*1,00*1,2",null,39.24,null,null,null,null,null,null,null,"Stoka \"F\" PVC DN250:32,70*1,00*1,2"]
[null,null,"Stoka \"H\" KT DN250:34,00*1,00*1,2",null,40.799999999999997,null,null,null,null,null,null,null,"Stoka \"H\" KT DN250:34,00*1,00*1,2"]
[null,"Celkem za","2 Základy a zvláštní zakládání",null,null,null,{"$f":"SUM(G296:G311)","v":0},null,{"$f":"SUM(I296:I311)","v":94.140569999999997},null,{"$f":"SUM(K296:K311)","v":0},null,null,null,4,null,null,null,null,null,null,null,null,null,null,null,null,null,null,null,null,null,null,null,null,null,null,null,null,null,null,null,null,null,null,null,null,null,null,null,null,null,{"$f":"SUM(BA296:BA311)","v":0},{"$f":"SUM(BB296:BB311)","v":0},{"$f":"SUM(BC296:BC311)","v":0},{"$f":"SUM(BD296:BD311)","v":0},{"$f":"SUM(BE296:BE311)","v":0}]
["Díl:","45","Podkladní a vedlejší konstrukce",null,null,null,null,null,null,null,null,null,null,null,1]
[28,"451572111R00","Lože pod potrubí z kameniva těženého 0 - 4 mm ","m3",7.06,null,{"$f":"E314*F314","v":0},1.873,{"$f":"E314*H314","v":13.223379999999999},0,{"$f":"E314*J314","v":0},null,null,null,2,null,null,null,null,null,null,null,null,null,null,null,1,1,1,null,null,null,null,null,null,null,null,null,null,null,null,null,null,null,null,null,null,null,null,null,null,1,{"$f":"IF(AZ314=1,G314,0)","v":0},{"$f":"IF(AZ314=2,G314,0)","v":0},{"$f":"IF(AZ314=3,G314,0)","v":0},{"$f":"IF(AZ314=4,G314,0)","v":0},{"$f":"IF(AZ314=5,G314,0)","v":0},null,null,null,null,null,null,null,null,null,null,null,null,null,null,null,null,null,null,null,null,null,1,1]
[null,null,"Stoka \"E\" PVC DN250:37,90*1,00*0,10",null,3.79,null,null,null,null,null,null,null,"Stoka \"E\" PVC DN250:37,90*1,00*0,10"]
[null,null,"Stoka \"F\" PVC DN250:32,70*1,00*0,10",null,3.27,null,null,null,null,null,null,null,"Stoka \"F\" PVC DN250:32,70*1,00*0,10"]
[29,"452112111R00","Osazení beton. prstenců pod poklopy,výšky do100 mm ","kus",2,null,{"$f":"E317*F317","v":0},6.6E-3,{"$f":"E317*H317","v":1.32E-2},0,{"$f":"E317*J317","v":0},null,null,null,2,null,null,null,null,null,null,null,null,null,null,null,1,1,1,null,null,null,null,null,null,null,null,null,null,null,null,null,null,null,null,null,null,null,null,null,null,1,{"$f":"IF(AZ317=1,G317,0)","v":0},{"$f":"IF(AZ317=2,G317,0)","v":0},{"$f":"IF(AZ317=3,G317,0)","v":0},{"$f":"IF(AZ317=4,G317,0)","v":0},{"$f":"IF(AZ317=5,G317,0)","v":0},null,null,null,null,null,null,null,null,null,null,null,null,null,null,null,null,null,null,null,null,null,1,1]
[null,null,"Volba položky se řídí výškou prstence nebo rámu. V položkách nejsou zakalkulovány náklady na dodávku betonových výrobků;",null,null,null,null,null,null,null,null,"Volba položky se řídí výškou prstence nebo rámu. V položkách nejsou zakalkulovány náklady na dodávku betonových výrobků;",null,null,3]
[null,null,"Revizní šachty:",null,0,null,null,null,null,null,null,null,"Revizní šachty:"]
[null,null,"VP H60:2",null,2,null,null,null,null,null,null,null,"VP H60:2"]
[30,"452112121R00","Osazení beton. prstenců pod poklopy,výšky do200 mm ","kus",1,null,{"$f":"E321*F321","v":0},6.6E-3,{"$f":"E321*H321","v":6.6E-3},0,{"$f":"E321*J321","v":0},null,null,null,2,null,null,null,null,null,null,null,null,null,null,null,1,1,1,null,null,null,null,null,null,null,null,null,null,null,null,null,null,null,null,null,null,null,null,null,null,1,{"$f":"IF(AZ321=1,G321,0)","v":0},{"$f":"IF(AZ321=2,G321,0)","v":0},{"$f":"IF(AZ321=3,G321,0)","v":0},{"$f":"IF(AZ321=4,G321,0)","v":0},{"$f":"IF(AZ321=5,G321,0)","v":0},null,null,null,null,null,null,null,null,null,null,null,null,null,null,null,null,null,null,null,null,null,1,1]
[null,null,"Revizní šachty:",null,0,null,null,null,null,null,null,null,"Revizní šachty:"]
[null,null,"VP H120:1",null,1,null,null,null,null,null,null,null,"VP H120:1"]
[31,"452312131R00","Sedlové lože pod potrubí z betonu C 12/15 ","m3",41.005600000000001,null,{"$f":"E324*F324","v":0},2.5,{"$f":"E324*H324","v":102.51400000000001},0,{"$f":"E324*J324","v":0},null,null,null,2,null,null,null,null,null,null,null,null,null,null,null,1,1,1,null,null,null,null,null,null,null,null,null,null,null,null,null,null,null,null,null,null,null,null,null,null,1,{"$f":"IF(AZ324=1,G324,0)","v":0},{"$f":"IF(AZ324=2,G324,0)","v":0},{"$f":"IF(AZ324=3,G324,0)","v":0},{"$f":"IF(AZ324=4,G324,0)","v":0},{"$f":"IF(AZ324=5,G324,0)","v":0},null,null,null,null,null,null,null,null,null,null,null,null,null,null,null,null,null,null,null,null,null,1,1]
[null,null,"Položka je určena pro práce v otevřeném výkopu",null,null,null,null,null,null,null,null,"Položka je určena pro práce v otevřeném výkopu",null,null,3]
[null,null,"Stoka \"A\" KT DN300:110,80*0,2700",null,29.916,null,null,null,null,null,null,null,"Stoka \"A\" KT DN300:110,80*0,2700"]
[null,null,"Propoj do odlehčovací komory KT DN300:4,00*0,2700",null,1.08,null,null,null,null,null,null,null,"Propoj do odlehčovací komory KT DN300:4,00*0,2700"]
[null,null,"Propoj na neznámé potrubí KT DN300:6,80*0,2700",null,1.8360000000000001,null,null,null,null,null,null,null,"Propoj na neznámé potrubí KT DN300:6,80*0,2700"]
[null,null,"Stoka \"H\" KT DN250:34,00*0,2404",null,8.1736000000000004,null,null,null,null,null,null,null,"Stoka \"H\" KT DN250:34,00*0,2404"]
[32,"59224346.B.R","Prstenec vyrovn šachetní TBW-Q.1 60/600/120","kus",2.02,null,{"$f":"E330*F330","v":0},0.04,{"$f":"E330*H330","v":8.0799999999999997E-2},null,{"$f":"E330*J330","v":0},null,null,null,2,null,null,null,null,null,null,null,null,null,null,null,3,1,"59224346.B.R",null,null,null,null,null,null,null,null,null,null,null,null,null,null,null,null,null,null,null,null,null,null,1,{"$f":"IF(AZ330=1,G330,0)","v":0},{"$f":"IF(AZ330=2,G330,0)","v":0},{"$f":"IF(AZ330=3,G330,0)","v":0},{"$f":"IF(AZ330=4,G330,0)","v":0},{"$f":"IF(AZ330=5,G330,0)","v":0},null,null,null,null,null,null,null,null,null,null,null,null,null,null,null,null,null,null,null,null,null,3,1]
[null,null,"Revizní šachty:",null,0,null,null,null,null,null,null,null,"Revizní šachty:"]
[null,null,"VP H60:2*1,01",null,2.02,null,null,null,null,null,null,null,"VP H60:2*1,01"]
[33,"59224349.B.R","Prstenec vyrovn šachetní TBW-Q.1 120/600/120","kus",1.01,null,{"$f":"E333*F333","v":0},8.1000000000000003E-2,{"$f":"E333*H333","v":8.1810000000000008E-2},null,{"$f":"E333*J333","v":0},null,null,null,2,null,null,null,null,null,null,null,null,null,null,null,3,1,"59224349.B.R",null,null,null,null,null,null,null,null,null,null,null,null,null,null,null,null,null,null,null,null,null,null,1,{"$f":"IF(AZ333=1,G333,0)","v":0},{"$f":"IF(AZ333=2,G333,0)","v":0},{"$f":"IF(AZ333=3,G333,0)","v":0},{"$f":"IF(AZ333=4,G333,0)","v":0},{"$f":"IF(AZ333=5,G333,0)","v":0},null,null,null,null,null,null,null,null,null,null,null,null,null,null,null,null,null,null,null,null,null,3,1]
[null,null,"Revizní šachty:",null,0,null,null,null,null,null,null,null,"Revizní šachty:"]
[null,null,"VP H120:1*1,01",null,1.01,null,null,null,null,null,null,null,"VP H120:1*1,01"]
[null,"Celkem za","45 Podkladní a vedlejší konstrukce",null,null,null,{"$f":"SUM(G313:G335)","v":0},null,{"$f":"SUM(I313:I335)","v":115.91979000000001},null,{"$f":"SUM(K313:K335)","v":0},null,null,null,4,null,null,null,null,null,null,null,null,null,null,null,null,null,null,null,null,null,null,null,null,null,null,null,null,null,null,null,null,null,null,null,null,null,null,null,null,null,{"$f":"SUM(BA313:BA335)","v":0},{"$f":"SUM(BB313:BB335)","v":0},{"$f":"SUM(BC313:BC335)","v":0},{"$f":"SUM(BD313:BD335)","v":0},{"$f":"SUM(BE313:BE335)","v":0}]
["Díl:","5","Komunikace",null,null,null,null,null,null,null,null,null,null,null,1]
[34,"566903111R00","Vyspravení podkladu po překopech kam.hrubě drceným ","t",123.0655,null,{"$f":"E338*F338","v":0},1.1000000000000001,{"$f":"E338*H338","v":135.37205},0,{"$f":"E338*J338","v":0},null,null,null,2,null,null,null,null,null,null,null,null,null,null,null,1,1,1,null,null,null,null,null,null,null,null,null,null,null,null,null,null,null,null,null,null,null,null,null,null,1,{"$f":"IF(AZ338=1,G338,0)","v":0},{"$f":"IF(AZ338=2,G338,0)","v":0},{"$f":"IF(AZ338=3,G338,0)","v":0},{"$f":"IF(AZ338=4,G338,0)","v":0},{"$f":"IF(AZ338=5,G338,0)","v":0},null,null,null,null,null,null,null,null,null,null,null,null,null,null,null,null,null,null,null,null,null,1,1]
[null,null,"Začátek provozního součtu",null,0,null,null,null,null,null,null,null,"Začátek provozního součtu"]
[null,null,"Stoka \"A\" KT DN300:",null,0,null,null,null,null,null,null,null,"Stoka \"A\" KT DN300:"]
[null,null,"Odpočet konstrukce komunikace:(110,80+4,00+6,80)*1,20+1,60*(1,60-1,20)*6",null,149.76,null,null,null,null,null,null,null,"Odpočet konstrukce komunikace:(110,80+4,00+6,80)*1,20+1,60*(1,60-1,20)*6"]
[null,null,"Stoka \"E\" PVC DN250:",null,0,null,null,null,null,null,null,null,"Stoka \"E\" PVC DN250:"]
[null,null,"Odpočet konstrukce komunikace:37,90*1,00+1,60*(1,60-1,00)*1",null,38.86,null,null,null,null,null,null,null,"Odpočet konstrukce komunikace:37,90*1,00+1,60*(1,60-1,00)*1"]
[null,null,"Stoka \"F\" PVC DN250:",null,0,null,null,null,null,null,null,null,"Stoka \"F\" PVC DN250:"]
[null,null,"Odpočet konstrukce komunikace:32,70*1,00+1,60*(1,60-1,00)*1",null,33.659999999999997,null,null,null,null,null,null,null,"Odpočet konstrukce komunikace:32,70*1,00+1,60*(1,60-1,00)*1"]
[null,null,"Stoka \"H\" KT DN250:",null,0,null,null,null,null,null,null,null,"Stoka \"H\" KT DN250:"]
[null,null,"Odpočet konstrukce komunikace:34,00*1,15+1,60*(1,60-1,15)*2",null,40.54,null,null,null,null,null,null,null,"Odpočet konstrukce komunikace:34,00*1,15+1,60*(1,60-1,15)*2"]
[null,null,"Konec provozního součtu",null,262.82,null,null,null,null,null,null,null,"Konec provozního součtu"]
[null,null,"262,8200*0,25*1,873",null,123.0655,null,null,null,null,null,null,null,"262,8200*0,25*1,873"]
[35,"566904111R00","Vyspravení podkladu po překopech kam.obal.asfaltem ","t",98.557500000000005,null,{"$f":"E350*F350","v":0},1,{"$f":"E350*H350","v":98.557500000000005},0,{"$f":"E350*J350","v":0},null,null,null,2,null,null,null,null,null,null,null,null,null,null,null,1,1,1,null,null,null,null,null,null,null,null,null,null,null,null,null,null,null,null,null,null,null,null,null,null,1,{"$f":"IF(AZ350=1,G350,0)","v":0},{"$f":"IF(AZ350=2,G350,0)","v":0},{"$f":"IF(AZ350=3,G350,0)","v":0},{"$f":"IF(AZ350=4,G350,0)","v":0},{"$f":"IF(AZ350=5,G350,0)","v":0},null,null,null,null,null,null,null,null,null,null,null,null,null,null,null,null,null,null,null,null,null,1,1]
[null,null,"Začátek provozního součtu",null,0,null,null,null,null,null,null,null,"Začátek provozního součtu"]
[null,null,"Stoka \"A\" KT DN300:",null,0,null,null,null,null,null,null,null,"Stoka \"A\" KT DN300:"]
[null,null,"Odpočet konstrukce komunikace:(110,80+4,00+6,80)*1,20+1,60*(1,60-1,20)*6",null,149.76,null,null,null,null,null,null,null,"Odpočet konstrukce komunikace:(110,80+4,00+6,80)*1,20+1,60*(1,60-1,20)*6"]
[null,null,"Stoka \"E\" PVC DN250:",null,0,null,null,null,null,null,null,null,"Stoka \"E\" PVC DN250:"]
[null,null,"Odpočet konstrukce komunikace:37,90*1,00+1,60*(1,60-1,00)*1",null,38.86,null,null,null,null,null,null,null,"Odpočet konstrukce komunikace:37,90*1,00+1,60*(1,60-1,00)*1"]
[null,null,"Stoka \"F\" PVC DN250:",null,0,null,null,null,null,null,null,null,"Stoka \"F\" PVC DN250:"]
[null,null,"Odpočet konstrukce komunikace:32,70*1,00+1,60*(1,60-1,00)*1",null,33.659999999999997,null,null,null,null,null,null,null,"Odpočet konstrukce komunikace:32,70*1,00+1,60*(1,60-1,00)*1"]
[null,null,"Stoka \"H\" KT DN250:",null,0,null,null,null,null,null,null,null,"Stoka \"H\" KT DN250:"]
[null,null,"Odpočet konstrukce komunikace:34,00*1,15+1,60*(1,60-1,15)*2",null,40.54,null,null,null,null,null,null,null,"Odpočet konstrukce komunikace:34,00*1,15+1,60*(1,60-1,15)*2"]
[null,null,"Konec provozního součtu",null,262.82,null,null,null,null,null,null,null,"Konec provozního součtu"]
[null,null,"262,8200*0,15*2,5",null,98.557500000000005,null,null,null,null,null,null,null,"262,8200*0,15*2,5"]
[null,"Celkem za","5 Komunikace",null,null,null,{"$f":"SUM(G337:G361)","v":0},null,{"$f":"SUM(I337:I361)","v":233.92955000000001},null,{"$f":"SUM(K337:K361)","v":0},null,null,null,4,null,null,null,null,null,null,null,null,null,null,null,null,null,null,null,null,null,null,null,null,null,null,null,null,null,null,null,null,null,null,null,null,null,null,null,null,null,{"$f":"SUM(BA337:BA361)","v":0},{"$f":"SUM(BB337:BB361)","v":0},{"$f":"SUM(BC337:BC361)","v":0},{"$f":"SUM(BD337:BD361)","v":0},{"$f":"SUM(BE337:BE361)","v":0}]
["Díl:","8","Trubní vedení",null,null,null,null,null,null,null,null,null,null,null,1]
[36,"831362121R00","Montáž trub kameninových, pryž. kroužek, DN 250 ","m",34,null,{"$f":"E364*F364","v":0},3.0000000000000001E-5,{"$f":"E364*H364","v":1.0200000000000001E-3},0,{"$f":"E364*J364","v":0},null,null,null,2,null,null,null,null,null,null,null,null,null,null,null,1,1,1,null,null,null,null,null,null,null,null,null,null,null,null,null,null,null,null,null,null,null,null,null,null,1,{"$f":"IF(AZ364=1,G364,0)","v":0},{"$f":"IF(AZ364=2,G364,0)","v":0},{"$f":"IF(AZ364=3,G364,0)","v":0},{"$f":"IF(AZ364=4,G364,0)","v":0},{"$f":"IF(AZ364=5,G364,0)","v":0},null,null,null,null,null,null,null,null,null,null,null,null,null,null,null,null,null,null,null,null,null,1,1]
[null,null,"Položka je určena pro montáž potrubí z trub kameninových těsněných pryžovým kroužkem v otevřeném výkopu ve sklonu do 20 %.",null,null,null,null,null,null,null,null,"Položka je určena pro montáž potrubí z trub kameninových těsněných pryžovým kroužkem v otevřeném výkopu ve sklonu do 20 %.",null,null,3]
[null,null,"Stoka \"H\" KT DN250:34,00",null,34,null,null,null,null,null,null,null,"Stoka \"H\" KT DN250:34,00"]
[37,"831372121R00","Montáž trub kameninových, pryž. kroužek, DN 300 ","m",121.6,null,{"$f":"E367*F367","v":0},4.0000000000000003E-5,{"$f":"E367*H367","v":4.8640000000000003E-3},0,{"$f":"E367*J367","v":0},null,null,null,2,null,null,null,null,null,null,null,null,null,null,null,1,1,1,null,null,null,null,null,null,null,null,null,null,null,null,null,null,null,null,null,null,null,null,null,null,1,{"$f":"IF(AZ367=1,G367,0)","v":0},{"$f":"IF(AZ367=2,G367,0)","v":0},{"$f":"IF(AZ367=3,G367,0)","v":0},{"$f":"IF(AZ367=4,G367,0)","v":0},{"$f":"IF(AZ367=5,G367,0)","v":0},null,null,null,null,null,null,null,null,null,null,null,null,null,null,null,null,null,null,null,null,null,1,1]
[null,null,"Položka je určena pro montáž potrubí z trub kameninových s polyuretanovým spojem v otevřeném výkopu ve sklonu do 20 %.",null,null,null,null,null,null,null,null,"Položka je určena pro montáž potrubí z trub kameninových s polyuretanovým spojem v otevřeném výkopu ve sklonu do 20 %.",null,null,3]
[null,null,"Stoka \"A\" KT DN300:110,80",null,110.8,null,null,null,null,null,null,null,"Stoka \"A\" KT DN300:110,80"]
[null,null,"Propoj do odlehčovací komory KT DN300:4,00",null,4,null,null,null,null,null,null,null,"Propoj do odlehčovací komory KT DN300:4,00"]
[null,null,"Propoj na neznámé potrubí KT DN300:6,80",null,6.8,null,null,null,null,null,null,null,"Propoj na neznámé potrubí KT DN300:6,80"]
[38,"837312221R00","Montáž tvarov. kamenin. jednoos. pryž. kr. DN 150 ","kus",4,null,{"$f":"E372*F372","v":0},2.0000000000000002E-5,{"$f":"E372*H372","v":8.0000000000000007E-5},0,{"$f":"E372*J372","v":0},null,null,null,2,null,null,null,null,null,null,null,null,null,null,null,1,1,1,null,null,null,null,null,null,null,null,null,null,null,null,null,null,null,null,null,null,null,null,null,null,1,{"$f":"IF(AZ372=1,G372,0)","v":0},{"$f":"IF(AZ372=2,G372,0)","v":0},{"$f":"IF(AZ372=3,G372,0)","v":0},{"$f":"IF(AZ372=4,G372,0)","v":0},{"$f":"IF(AZ372=5,G372,0)","v":0},null,null,null,null,null,null,null,null,null,null,null,null,null,null,null,null,null,null,null,null,null,1,1]
[null,null,"Položka je určena pro montáž kameninových tvarovek jednoosých těsněných przžovým kroužkem na potrubí z trub kameninových v otevřeném výkopu.",null,null,null,null,null,null,null,null,"Položka je určena pro montáž kameninových tvarovek jednoosých těsněných przžovým kroužkem na potrubí z trub kameninových v otevřeném výkopu.",null,null,3]
[null,null,"Stoka \"A\" KT DN300:",null,0,null,null,null,null,null,null,null,"Stoka \"A\" KT DN300:"]
[null,null,"Ucpávka odbočky pro UV DN150:3",null,3,null,null,null,null,null,null,null,"Ucpávka odbočky pro UV DN150:3"]
[null,null,"Stoka \"H\" KT DN250:",null,0,null,null,null,null,null,null,null,"Stoka \"H\" KT DN250:"]
[null,null,"Ucpávka odbočky pro UV DN150:1",null,1,null,null,null,null,null,null,null,"Ucpávka odbočky pro UV DN150:1"]
[39,"837361221R00","Montáž tvarov. kamenin. odboč. pryž. krouž. DN 250 ","kus",1,null,{"$f":"E378*F378","v":0},6.0000000000000002E-5,{"$f":"E378*H378","v":6.0000000000000002E-5},0,{"$f":"E378*J378","v":0},null,null,null,2,null,null,null,null,null,null,null,null,null,null,null,1,1,1,null,null,null,null,null,null,null,null,null,null,null,null,null,null,null,null,null,null,null,null,null,null,1,{"$f":"IF(AZ378=1,G378,0)","v":0},{"$f":"IF(AZ378=2,G378,0)","v":0},{"$f":"IF(AZ378=3,G378,0)","v":0},{"$f":"IF(AZ378=4,G378,0)","v":0},{"$f":"IF(AZ378=5,G378,0)","v":0},null,null,null,null,null,null,null,null,null,null,null,null,null,null,null,null,null,null,null,null,null,1,1]
[null,null,"Položka je určena pro montáž kameninových tvarovek odbočných těsněných pryžovými kroužky na potrubí z trub kameninových v otevřeném výkopu.",null,null,null,null,null,null,null,null,"Položka je určena pro montáž kameninových tvarovek odbočných těsněných pryžovými kroužky na potrubí z trub kameninových v otevřeném výkopu.",null,null,3]
[null,null,"Pro volbu položky je rozhodující DN hlavního řadu.",null,null,null,null,null,null,null,null,"Pro volbu položky je rozhodující DN hlavního řadu.",null,null,3]
[null,null,"Stoka \"H\" KT DN250:",null,0,null,null,null,null,null,null,null,"Stoka \"H\" KT DN250:"]
[null,null,"Odbočka pro UV 250/150:1",null,1,null,null,null,null,null,null,null,"Odbočka pro UV 250/150:1"]
[40,"837371221R00","Montáž tvarov. kamenin. odboč. pryž. krouž. DN 300 ","kus",5,null,{"$f":"E383*F383","v":0},6.9999999999999994E-5,{"$f":"E383*H383","v":3.4999999999999994E-4},0,{"$f":"E383*J383","v":0},null,null,null,2,null,null,null,null,null,null,null,null,null,null,null,1,1,1,null,null,null,null,null,null,null,null,null,null,null,null,null,null,null,null,null,null,null,null,null,null,1,{"$f":"IF(AZ383=1,G383,0)","v":0},{"$f":"IF(AZ383=2,G383,0)","v":0},{"$f":"IF(AZ383=3,G383,0)","v":0},{"$f":"IF(AZ383=4,G383,0)","v":0},{"$f":"IF(AZ383=5,G383,0)","v":0},null,null,null,null,null,null,null,null,null,null,null,null,null,null,null,null,null,null,null,null,null,1,1]
[null,null,"Položka je určena pro montáž kameninových tvarovek odbočných těsněných pryžovými kroužky na potrubí z trub kameninových v otevřeném výkopu.",null,null,null,null,null,null,null,null,"Položka je určena pro montáž kameninových tvarovek odbočných těsněných pryžovými kroužky na potrubí z trub kameninových v otevřeném výkopu.",null,null,3]
[null,null,"Pro volbu položky je rozhodující DN hlavního řadu.",null,null,null,null,null,null,null,null,"Pro volbu položky je rozhodující DN hlavního řadu.",null,null,3]
[null,null,"Stoka \"A\" KT DN300:",null,0,null,null,null,null,null,null,null,"Stoka \"A\" KT DN300:"]
[null,null,"Odbočka pro UV DN300/150:3",null,3,null,null,null,null,null,null,null,"Odbočka pro UV DN300/150:3"]
[null,null,"Odbočka pro KP DN300/150:2",null,2,null,null,null,null,null,null,null,"Odbočka pro KP DN300/150:2"]
[41,"871373121R00","Montáž trub z plastu, gumový kroužek, DN 300 ","m",70.599999999999994,null,{"$f":"E389*F389","v":0},1.0000000000000001E-5,{"$f":"E389*H389","v":7.0600000000000003E-4},0,{"$f":"E389*J389","v":0},null,null,null,2,null,null,null,null,null,null,null,null,null,null,null,1,1,1,null,null,null,null,null,null,null,null,null,null,null,null,null,null,null,null,null,null,null,null,null,null,1,{"$f":"IF(AZ389=1,G389,0)","v":0},{"$f":"IF(AZ389=2,G389,0)","v":0},{"$f":"IF(AZ389=3,G389,0)","v":0},{"$f":"IF(AZ389=4,G389,0)","v":0},{"$f":"IF(AZ389=5,G389,0)","v":0},null,null,null,null,null,null,null,null,null,null,null,null,null,null,null,null,null,null,null,null,null,1,1]
[null,null,"V položce je uvažováno s jedním spojem na 6 m potrubí. Položka je určena pro montáž potrubí z kanalizačních trub z plastu těsněných gumovým kroužkem v otevřeném výkopu ve sklonu do 20 %.",null,null,null,null,null,null,null,null,"V položce je uvažováno s jedním spojem na 6 m potrubí. Položka je určena pro montáž potrubí z kanalizačních trub z plastu těsněných gumovým kroužkem v otevřeném výkopu ve sklonu do 20 %.",null,null,3]
[null,null,"Stoka \"E\" PVC DN250:37,90",null,37.9,null,null,null,null,null,null,null,"Stoka \"E\" PVC DN250:37,90"]
[null,null,"Stoka \"F\" PVC DN250:32,70",null,32.700000000000003,null,null,null,null,null,null,null,"Stoka \"F\" PVC DN250:32,70"]
[42,"877363121R00","Montáž tvarovek odboč. plast. gum. kroužek DN 250 ","kus",10,null,{"$f":"E393*F393","v":0},4.0000000000000003E-5,{"$f":"E393*H393","v":4.0000000000000002E-4},0,{"$f":"E393*J393","v":0},null,null,null,2,null,null,null,null,null,null,null,null,null,null,null,1,1,1,null,null,null,null,null,null,null,null,null,null,null,null,null,null,null,null,null,null,null,null,null,null,1,{"$f":"IF(AZ393=1,G393,0)","v":0},{"$f":"IF(AZ393=2,G393,0)","v":0},{"$f":"IF(AZ393=3,G393,0)","v":0},{"$f":"IF(AZ393=4,G393,0)","v":0},{"$f":"IF(AZ393=5,G393,0)","v":0},null,null,null,null,null,null,null,null,null,null,null,null,null,null,null,null,null,null,null,null,null,1,1]
[null,null,"Položka je určena pro montáž tvarovek odbočných na potrubí z kanalizačních trub z plastu těsněných gumovým kroužkem v otevřeném výkopu.",null,null,null,null,null,null,null,null,"Položka je určena pro montáž tvarovek odbočných na potrubí z kanalizačních trub z plastu těsněných gumovým kroužkem v otevřeném výkopu.",null,null,3]
[null,null,"Stoka \"E\" PVC DN250:",null,0,null,null,null,null,null,null,null,"Stoka \"E\" PVC DN250:"]
[null,null,"Odbočka pro UV DN250/150:2",null,2,null,null,null,null,null,null,null,"Odbočka pro UV DN250/150:2"]
[null,null,"Odbočka pro KP DN250/150:3",null,3,null,null,null,null,null,null,null,"Odbočka pro KP DN250/150:3"]
[null,null,"Stoka \"F\" PVC DN250:",null,0,null,null,null,null,null,null,null,"Stoka \"F\" PVC DN250:"]
[null,null,"Odbočka pro UV DN250/150:2",null,2,null,null,null,null,null,null,null,"Odbočka pro UV DN250/150:2"]
[null,null,"Odbočka pro KP DN250/150:3",null,3,null,null,null,null,null,null,null,"Odbočka pro KP DN250/150:3"]
[43,"877373123R00","Montáž tvarovek jednoos. plast. gum.kroužek DN 300 ","kus",1,null,{"$f":"E401*F401","v":0},3.0000000000000001E-5,{"$f":"E401*H401","v":3.0000000000000001E-5},0,{"$f":"E401*J401","v":0},null,null,null,2,null,null,null,null,null,null,null,null,null,null,null,1,1,1,null,null,null,null,null,null,null,null,null,null,null,null,null,null,null,null,null,null,null,null,null,null,1,{"$f":"IF(AZ401=1,G401,0)","v":0},{"$f":"IF(AZ401=2,G401,0)","v":0},{"$f":"IF(AZ401=3,G401,0)","v":0},{"$f":"IF(AZ401=4,G401,0)","v":0},{"$f":"IF(AZ401=5,G401,0)","v":0},null,null,null,null,null,null,null,null,null,null,null,null,null,null,null,null,null,null,null,null,null,1,1]
[null,null,"Položka je určena pro montáž tvarovek jednoosých na potrubí z kanalizačních trub z plastu těsněných gumovým kroužkem v otevřeném výkopu.",null,null,null,null,null,null,null,null,"Položka je určena pro montáž tvarovek jednoosých na potrubí z kanalizačních trub z plastu těsněných gumovým kroužkem v otevřeném výkopu.",null,null,3]
[null,null,"Stoka \"A\" KT DN300:",null,0,null,null,null,null,null,null,null,"Stoka \"A\" KT DN300:"]
[null,null,"Propoj na neznámé potrubí KT DN300 na PVC - Přechodka:1",null,1,null,null,null,null,null,null,null,"Propoj na neznámé potrubí KT DN300 na PVC - Přechodka:1"]
[44,"891183440RX6","Propojeníí potrubí KT DN300 do OK včetně dodávky propojovací tvarovky","kus",1,null,{"$f":"E405*F405","v":0},6.8000000000000005E-2,{"$f":"E405*H405","v":6.8000000000000005E-2},0,{"$f":"E405*J405","v":0},null,null,null,2,null,null,null,null,null,null,null,null,null,null,null,1,1,1,null,null,null,null,null,null,null,null,null,null,null,null,null,null,null,null,null,null,null,null,null,null,1,{"$f":"IF(AZ405=1,G405,0)","v":0},{"$f":"IF(AZ405=2,G405,0)","v":0},{"$f":"IF(AZ405=3,G405,0)","v":0},{"$f":"IF(AZ405=4,G405,0)","v":0},{"$f":"IF(AZ405=5,G405,0)","v":0},null,null,null,null,null,null,null,null,null,null,null,null,null,null,null,null,null,null,null,null,null,1,1]
[null,null,"Položka obsahuje úpravu stávajícího nátoku do OK včetně osazení nového potrubí, jehoutěsnění a obetonování dle projektové dokumentace",null,null,null,null,null,null,null,null,"Položka obsahuje úpravu stávajícího nátoku do OK včetně osazení nového potrubí, jehoutěsnění a obetonování dle projektové dokumentace",null,null,3]
[45,"892601154R00","Čištění kanalizační stoky do DN 500, nad 100 m ","m",226.2,null,{"$f":"E407*F407","v":0},0,{"$f":"E407*H407","v":0},0,{"$f":"E407*J407","v":0},null,null,null,2,null,null,null,null,null,null,null,null,null,null,null,1,1,1,null,null,null,null,null,null,null,null,null,null,null,null,null,null,null,null,null,null,null,null,null,null,1,{"$f":"IF(AZ407=1,G407,0)","v":0},{"$f":"IF(AZ407=2,G407,0)","v":0},{"$f":"IF(AZ407=3,G407,0)","v":0},{"$f":"IF(AZ407=4,G407,0)","v":0},{"$f":"IF(AZ407=5,G407,0)","v":0},null,null,null,null,null,null,null,null,null,null,null,null,null,null,null,null,null,null,null,null,null,1,1]
[null,null,"V položce je zakalkulováno:",null,null,null,null,null,null,null,null,"V položce je zakalkulováno:",null,null,3]
[null,null,"a) otevření a uzavření revizních šachet a čisticích kusů",null,null,null,null,null,null,null,null,"a) otevření a uzavření revizních šachet a čisticích kusů",null,null,3]
[null,null,"b) natažení vysokotlakých hadic k místu odkud se bude kanalizace čistit",null,null,null,null,null,null,null,null,"b) natažení vysokotlakých hadic k místu odkud se bude kanalizace čistit",null,null,3]
[null,null,"c) vyčištění potrubí tlakovou vodou nebo motorovým pérem.",null,null,null,null,null,null,null,null,"c) vyčištění potrubí tlakovou vodou nebo motorovým pérem.",null,null,3]
[null,null,"Stoka \"A\" KT DN300:110,80+4,00+6,80",null,121.6,null,null,null,null,null,null,null,"Stoka \"A\" KT DN300:110,80+4,00+6,80"]
[null,null,"Stoka \"E\" PVC DN250:37,90",null,37.9,null,null,null,null,null,null,null,"Stoka \"E\" PVC DN250:37,90"]
[null,null,"Stoka \"F\" PVC DN250:32,70",null,32.700000000000003,null,null,null,null,null,null,null,"Stoka \"F\" PVC DN250:32,70"]
[null,null,"Stoka \"H\" KT DN250:34,00",null,34,null,null,null,null,null,null,null,"Stoka \"H\" KT DN250:34,00"]
[46,"892855115R00","Kontrola kanalizace TV kamerou do 500 m ","m",226.2,null,{"$f":"E416*F416","v":0},0,{"$f":"E416*H416","v":0},0,{"$f":"E416*J416","v":0},null,null,null,2,null,null,null,null,null,null,null,null,null,null,null,1,1,1,null,null,null,null,null,null,null,null,null,null,null,null,null,null,null,null,null,null,null,null,null,null,1,{"$f":"IF(AZ416=1,G416,0)","v":0},{"$f":"IF(AZ416=2,G416,0)","v":0},{"$f":"IF(AZ416=3,G416,0)","v":0},{"$f":"IF(AZ416=4,G416,0)","v":0},{"$f":"IF(AZ416=5,G416,0)","v":0},null,null,null,null,null,null,null,null,null,null,null,null,null,null,null,null,null,null,null,null,null,1,1]
[null,null,"Provedení kaberové prohlídky včetně dodání elektronického záznamu na CD zadavateli a tištěné dokumentace průběhu kamerové prohlídky",null,null,null,null,null,null,null,null,"Provedení kaberové prohlídky včetně dodání elektronického záznamu na CD zadavateli a tištěné dokumentace průběhu kamerové prohlídky",null,null,3]
[null,null,"Stoka \"A\" KT DN300:110,80+4,00+6,80",null,121.6,null,null,null,null,null,null,null,"Stoka \"A\" KT DN300:110,80+4,00+6,80"]
[null,null,"Stoka \"E\" PVC DN250:37,90",null,37.9,null,null,null,null,null,null,null,"Stoka \"E\" PVC DN250:37,90"]
[null,null,"Stoka \"F\" PVC DN250:32,70",null,32.700000000000003,null,null,null,null,null,null,null,"Stoka \"F\" PVC DN250:32,70"]
[null,null,"Stoka \"H\" KT DN250:34,00",null,34,null,null,null,null,null,null,null,"Stoka \"H\" KT DN250:34,00"]
[47,"894421111RT1","Osazení betonových dílců šachet skruže rovné, na kroužek, do 0,5 t","kus",8,null,{"$f":"E422*F422","v":0},0,{"$f":"E422*H422","v":0},0,{"$f":"E422*J422","v":0},null,null,null,2,null,null,null,null,null,null,null,null,null,null,null,1,1,1,null,null,null,null,null,null,null,null,null,null,null,null,null,null,null,null,null,null,null,null,null,null,1,{"$f":"IF(AZ422=1,G422,0)","v":0},{"$f":"IF(AZ422=2,G422,0)","v":0},{"$f":"IF(AZ422=3,G422,0)","v":0},{"$f":"IF(AZ422=4,G422,0)","v":0},{"$f":"IF(AZ422=5,G422,0)","v":0},null,null,null,null,null,null,null,null,null,null,null,null,null,null,null,null,null,null,null,null,null,1,1]
[null,null,"Položka je určena pro osazení betonových dílců šachet dle DIN 4034, skruže rovné na kroužek, hmotnost do 0,5 t.",null,null,null,null,null,null,null,null,"Položka je určena pro osazení betonových dílců šachet dle DIN 4034, skruže rovné na kroužek, hmotnost do 0,5 t.",null,null,3]
[null,null,"V položce nejsou zakalkulovány náklady na dodání betonových dílců; dílce se oceňují ve specifikaci.",null,null,null,null,null,null,null,null,"V položce nejsou zakalkulovány náklady na dodání betonových dílců; dílce se oceňují ve specifikaci.",null,null,3]
[null,null,"Revizní šachty:",null,0,null,null,null,null,null,null,null,"Revizní šachty:"]
[null,null,"Skruž H250:8",null,8,null,null,null,null,null,null,null,"Skruž H250:8"]
[48,"894421112RT1","Osazení betonových dílců šachet skruže rovné, na kroužek, do 1,4 t","kus",10,null,{"$f":"E427*F427","v":0},0,{"$f":"E427*H427","v":0},0,{"$f":"E427*J427","v":0},null,null,null,2,null,null,null,null,null,null,null,null,null,null,null,1,1,1,null,null,null,null,null,null,null,null,null,null,null,null,null,null,null,null,null,null,null,null,null,null,1,{"$f":"IF(AZ427=1,G427,0)","v":0},{"$f":"IF(AZ427=2,G427,0)","v":0},{"$f":"IF(AZ427=3,G427,0)","v":0},{"$f":"IF(AZ427=4,G427,0)","v":0},{"$f":"IF(AZ427=5,G427,0)","v":0},null,null,null,null,null,null,null,null,null,null,null,null,null,null,null,null,null,null,null,null,null,1,1]
[null,null,"Položka je určena pro osazení betonových dílců šachet dle DIN 4034, skruže rovné na kroužek, hmotnost přes 0,5 do 1,4 t.",null,null,null,null,null,null,null,null,"Položka je určena pro osazení betonových dílců šachet dle DIN 4034, skruže rovné na kroužek, hmotnost přes 0,5 do 1,4 t.",null,null,3]
[null,null,"V položce nejsou zakalkulovány náklady na dodání betonových dílců; dílce se oceňují ve specifikaci.",null,null,null,null,null,null,null,null,"V položce nejsou zakalkulovány náklady na dodání betonových dílců; dílce se oceňují ve specifikaci.",null,null,3]
[null,null,"Revizní šachty:",null,0,null,null,null,null,null,null,null,"Revizní šachty:"]
[null,null,"Skruž H500:9",null,9,null,null,null,null,null,null,null,"Skruž H500:9"]
[null,null,"Skruž H1000:1",null,1,null,null,null,null,null,null,null,"Skruž H1000:1"]
[49,"894422111RT1","Osazení betonových dílců šachet skruže přechodové, na kroužek","kus",10,null,{"$f":"E433*F433","v":0},0,{"$f":"E433*H433","v":0},0,{"$f":"E433*J433","v":0},null,null,null,2,null,null,null,null,null,null,null,null,null,null,null,1,1,1,null,null,null,null,null,null,null,null,null,null,null,null,null,null,null,null,null,null,null,null,null,null,1,{"$f":"IF(AZ433=1,G433,0)","v":0},{"$f":"IF(AZ433=2,G433,0)","v":0},{"$f":"IF(AZ433=3,G433,0)","v":0},{"$f":"IF(AZ433=4,G433,0)","v":0},{"$f":"IF(AZ433=5,G433,0)","v":0},null,null,null,null,null,null,null,null,null,null,null,null,null,null,null,null,null,null,null,null,null,1,1]
[null,null,"Položka je určena pro osazení betonových dílců šachet dle DIN 4034, skruže přechodové na kroužek.",null,null,null,null,null,null,null,null,"Položka je určena pro osazení betonových dílců šachet dle DIN 4034, skruže přechodové na kroužek.",null,null,3]
[null,null,"V položce nejsou zakalkulovány náklady na dodání betonových dílců",null,null,null,null,null,null,null,null,"V položce nejsou zakalkulovány náklady na dodání betonových dílců",null,null,3]
[null,null,"Revizní šachty:",null,0,null,null,null,null,null,null,null,"Revizní šachty:"]
[null,null,"Kónus H600:10",null,10,null,null,null,null,null,null,null,"Kónus H600:10"]
[50,"894423111RT1","Osazení betonových dílců šachet do 2,0 t šachtová dna, na kroužek, do 2,0 t","kus",10,null,{"$f":"E438*F438","v":0},0,{"$f":"E438*H438","v":0},0,{"$f":"E438*J438","v":0},null,null,null,2,null,null,null,null,null,null,null,null,null,null,null,1,1,1,null,null,null,null,null,null,null,null,null,null,null,null,null,null,null,null,null,null,null,null,null,null,1,{"$f":"IF(AZ438=1,G438,0)","v":0},{"$f":"IF(AZ438=2,G438,0)","v":0},{"$f":"IF(AZ438=3,G438,0)","v":0},{"$f":"IF(AZ438=4,G438,0)","v":0},{"$f":"IF(AZ438=5,G438,0)","v":0},null,null,null,null,null,null,null,null,null,null,null,null,null,null,null,null,null,null,null,null,null,1,1]
[null,null,"Položka je určena pro osazení betonových dílců šachet dle DIN 4034, šachtová dna na kroužek, hmotnost do 2,0 t. včetně dodávky a provedení podkladního betonového lože.",null,null,null,null,null,null,null,null,"Položka je určena pro osazení betonových dílců šachet dle DIN 4034, šachtová dna na kroužek, hmotnost do 2,0 t. včetně dodávky a provedení podkladního betonového lože.",null,null,3]
[null,null,"V položce nejsou zakalkulovány náklady na dodání betonových dílců;",null,null,null,null,null,null,null,null,"V položce nejsou zakalkulovány náklady na dodání betonových dílců;",null,null,3]
[null,null,"Revizní šachty:",null,0,null,null,null,null,null,null,null,"Revizní šachty:"]
[null,null,"ŠD 250/500:2",null,2,null,null,null,null,null,null,null,"ŠD 250/500:2"]
[null,null,"ŠD 300/600:8",null,8,null,null,null,null,null,null,null,"ŠD 300/600:8"]
[51,"899102111R00","Osazení poklopu s rámem do 100 kg ","kus",10,null,{"$f":"E444*F444","v":0},7.0200000000000002E-3,{"$f":"E444*H444","v":7.0199999999999999E-2},0,{"$f":"E444*J444","v":0},null,null,null,2,null,null,null,null,null,null,null,null,null,null,null,1,1,1,null,null,null,null,null,null,null,null,null,null,null,null,null,null,null,null,null,null,null,null,null,null,1,{"$f":"IF(AZ444=1,G444,0)","v":0},{"$f":"IF(AZ444=2,G444,0)","v":0},{"$f":"IF(AZ444=3,G444,0)","v":0},{"$f":"IF(AZ444=4,G444,0)","v":0},{"$f":"IF(AZ444=5,G444,0)","v":0},null,null,null,null,null,null,null,null,null,null,null,null,null,null,null,null,null,null,null,null,null,1,1]
[null,null,"Osazení provizorních poklopů během realizace stavby  (nefakturovaný materiál zhotovitele)",null,null,null,null,null,null,null,null,"Osazení provizorních poklopů během realizace stavby  (nefakturovaný materiál zhotovitele)",null,null,3]
[null,null,"Revitní šachty:10",null,10,null,null,null,null,null,null,null,"Revitní šachty:10"]
[52,"899711122R00","Fólie výstražná z PVC šedá, šířka 30 cm ","m",226.2,null,{"$f":"E447*F447","v":0},0,{"$f":"E447*H447","v":0},0,{"$f":"E447*J447","v":0},null,null,null,2,null,null,null,null,null,null,null,null,null,null,null,1,1,1,null,null,null,null,null,null,null,null,null,null,null,null,null,null,null,null,null,null,null,null,null,null,1,{"$f":"IF(AZ447=1,G447,0)","v":0},{"$f":"IF(AZ447=2,G447,0)","v":0},{"$f":"IF(AZ447=3,G447,0)","v":0},{"$f":"IF(AZ447=4,G447,0)","v":0},{"$f":"IF(AZ447=5,G447,0)","v":0},null,null,null,null,null,null,null,null,null,null,null,null,null,null,null,null,null,null,null,null,null,1,1]
[null,null,"Stoka \"A\" KT DN300:110,80+4,00+6,80",null,121.6,null,null,null,null,null,null,null,"Stoka \"A\" KT DN300:110,80+4,00+6,80"]
[null,null,"Stoka \"E\" PVC DN250:37,90",null,37.9,null,null,null,null,null,null,null,"Stoka \"E\" PVC DN250:37,90"]
[null,null,"Stoka \"F\" PVC DN250:32,70",null,32.700000000000003,null,null,null,null,null,null,null,"Stoka \"F\" PVC DN250:32,70"]
[null,null,"Stoka \"H\" KT DN250:34,00",null,34,null,null,null,null,null,null,null,"Stoka \"H\" KT DN250:34,00"]
[53,"286111933.R","Trubka kanalizační PVC SN 12 DN 250","m",72.718000000000004,null,{"$f":"E452*F452","v":0},1.0200000000000001E-3,{"$f":"E452*H452","v":7.4172360000000007E-2},null,{"$f":"E452*J452","v":0},null,null,null,2,null,null,null,null,null,null,null,null,null,null,null,3,1,"286111933.R",null,null,null,null,null,null,null,null,null,null,null,null,null,null,null,null,null,null,null,null,null,null,1,{"$f":"IF(AZ452=1,G452,0)","v":0},{"$f":"IF(AZ452=2,G452,0)","v":0},{"$f":"IF(AZ452=3,G452,0)","v":0},{"$f":"IF(AZ452=4,G452,0)","v":0},{"$f":"IF(AZ452=5,G452,0)","v":0},null,null,null,null,null,null,null,null,null,null,null,null,null,null,null,null,null,null,null,null,null,3,1]
[null,null,"Jedná  se  o  plnostěnné kanalizační trubky DN 150 – DN 400, SN 12 kN/m2 , zvenčí  i  zevnitř  hladké. Jsou  opatřeny hrdlem,  v  němž  je  vložen vysoce  elastický  jazýčkový  kroužek.  konce  trubek  (dříků)  jsou opatřeny  zkosením  pod  úhlem  15°.  Způsob  použití  trubek  je  „U“  dle  normy  ČSN  EN  1401-1, tj. mimo budovy. Spolehlivá  funkce  těsnění  je  jištěna  výztužným  kroužkem  z  elastomeru.  Je  tak  zamezeno  vypad-nutí nebo vytlačení kroužku při manipulaci a montáži. Tento systém zaručuje při správné montáži ",null,null,null,null,null,null,null,null,"Jedná  se  o  plnostěnné kanalizační trubky DN 150 – DN 400, SN 12 kN/m2 , zvenčí  i  zevnitř  hladké. Jsou  opatřeny hrdlem,  v  němž  je  vložen vysoce  elastický  jazýčkový  kroužek.  konce  trubek  (dříků)  jsou opatřeny  zkosením  pod  úhlem  15°.  Způsob  použití  trubek  je  „U“  dle  normy  ČSN  EN  1401-1, tj. mimo budovy. Spolehlivá  funkce  těsnění  je  jištěna  výztužným  kroužkem  z  elastomeru.  Je  tak  zamezeno  vypad-nutí nebo vytlačení kroužku při manipulaci a montáži. Tento systém zaručuje při správné montáži ",null,null,3]
[null,null,"dokonalou  těsnost  do  výšky  vodního  sloupce  5  metrů.",null,null,null,null,null,null,null,null,"dokonalou  těsnost  do  výšky  vodního  sloupce  5  metrů.",null,null,3]
[null,null,"Teplota při pokládce: min. -10 °C, max. 50 °C",null,null,null,null,null,null,null,null,"Teplota při pokládce: min. -10 °C, max. 50 °C",null,null,3]
[null,null,"Max. teplota média: trvale do 40 °C, krátkodobě do 60 °C",null,null,null,null,null,null,null,null,"Max. teplota média: trvale do 40 °C, krátkodobě do 60 °C",null,null,3]
[null,null,"Orientační výška krytí: min. 0,5 m, max. 10 m",null,null,null,null,null,null,null,null,"Orientační výška krytí: min. 0,5 m, max. 10 m",null,null,3]
[null,null,"Max. rychlost média: 12 m/s",null,null,null,null,null,null,null,null,"Max. rychlost média: 12 m/s",null,null,3]
[null,null,"Stoka \"E\" PVC DN250:37,90*1,03",null,39.036999999999999,null,null,null,null,null,null,null,"Stoka \"E\" PVC DN250:37,90*1,03"]
[null,null,"Stoka \"F\" PVC DN250:32,70*1,03",null,33.680999999999997,null,null,null,null,null,null,null,"Stoka \"F\" PVC DN250:32,70*1,03"]
[54,"286506121.R","Odbočka kanaliz. PVC SDR 34 DN 250/150/45°","kus",10.15,null,{"$f":"E461*F461","v":0},3.6700000000000001E-3,{"$f":"E461*H461","v":3.7250499999999999E-2},null,{"$f":"E461*J461","v":0},null,null,null,2,null,null,null,null,null,null,null,null,null,null,null,3,1,"286506121.R",null,null,null,null,null,null,null,null,null,null,null,null,null,null,null,null,null,null,null,null,null,null,1,{"$f":"IF(AZ461=1,G461,0)","v":0},{"$f":"IF(AZ461=2,G461,0)","v":0},{"$f":"IF(AZ461=3,G461,0)","v":0},{"$f":"IF(AZ461=4,G461,0)","v":0},{"$f":"IF(AZ461=5,G461,0)","v":0},null,null,null,null,null,null,null,null,null,null,null,null,null,null,null,null,null,null,null,null,null,3,1]
[null,null,"Tvarovky kanalizačního systému PVC SDR 34",null,null,null,null,null,null,null,null,"Tvarovky kanalizačního systému PVC SDR 34",null,null,3]
[null,null,"Teplota při pokládce: min. -10 °C, max. 50 °C",null,null,null,null,null,null,null,null,"Teplota při pokládce: min. -10 °C, max. 50 °C",null,null,3]
[null,null,"Max. teplota média: trvale do 40 °C, krátkodobě do 60 °C",null,null,null,null,null,null,null,null,"Max. teplota média: trvale do 40 °C, krátkodobě do 60 °C",null,null,3]
[null,null,"Orientační výška krytí: min. 0,5 m, max. 10 m",null,null,null,null,null,null,null,null,"Orientační výška krytí: min. 0,5 m, max. 10 m",null,null,3]
[null,null,"Max. rychlost média: 12 m/s",null,null,null,null,null,null,null,null,"Max. rychlost média: 12 m/s",null,null,3]
[null,null,"Q-KGEA250/150/45",null,null,null,null,null,null,null,null,"Q-KGEA250/150/45",null,null,3]
[null,null,"Stoka \"E\" PVC DN250:",null,0,null,null,null,null,null,null,null,"Stoka \"E\" PVC DN250:"]
[null,null,"Odbočka pro UV DN250/150:2*1,015",null,2.0299999999999998,null,null,null,null,null,null,null,"Odbočka pro UV DN250/150:2*1,015"]
[null,null,"Odbočka pro KP DN250/150:3*1,015",null,3.0449999999999999,null,null,null,null,null,null,null,"Odbočka pro KP DN250/150:3*1,015"]
[null,null,"Stoka \"F\" PVC DN250:",null,0,null,null,null,null,null,null,null,"Stoka \"F\" PVC DN250:"]
[null,null,"Odbočka pro UV DN250/150:2*1,015",null,2.0299999999999998,null,null,null,null,null,null,null,"Odbočka pro UV DN250/150:2*1,015"]
[null,null,"Odbočka pro KP DN250/150:3*1,015",null,3.0449999999999999,null,null,null,null,null,null,null,"Odbočka pro KP DN250/150:3*1,015"]
[55,"28650814","Přechodka kanal. PVC-kamenina D 300 mm","kus",1.0149999999999999,null,{"$f":"E474*F474","v":0},1.6900000000000001E-3,{"$f":"E474*H474","v":1.71535E-3},null,{"$f":"E474*J474","v":0},null,null,null,2,null,null,null,null,null,null,null,null,null,null,null,3,1,28650814,null,null,null,null,null,null,null,null,null,null,null,null,null,null,null,null,null,null,null,null,null,null,1,{"$f":"IF(AZ474=1,G474,0)","v":0},{"$f":"IF(AZ474=2,G474,0)","v":0},{"$f":"IF(AZ474=3,G474,0)","v":0},{"$f":"IF(AZ474=4,G474,0)","v":0},{"$f":"IF(AZ474=5,G474,0)","v":0},null,null,null,null,null,null,null,null,null,null,null,null,null,null,null,null,null,null,null,null,null,3,1]
[null,null,"Stoka \"A\" KT DN300:",null,0,null,null,null,null,null,null,null,"Stoka \"A\" KT DN300:"]
[null,null,"Propoj na neznámé potrubí KT DN300 na PVC - Přechodka:1*1,015",null,1.0149999999999999,null,null,null,null,null,null,null,"Propoj na neznámé potrubí KT DN300 na PVC - Přechodka:1*1,015"]
[56,"592243593.R","Konus šachetní TBR-Q.1 1000x625/600/120SKP INTEGRO","kus",10.1,null,{"$f":"E477*F477","v":0},0.54900000000000004,{"$f":"E477*H477","v":5.5449000000000002},null,{"$f":"E477*J477","v":0},null,null,null,2,null,null,null,null,null,null,null,null,null,null,null,3,1,"592243593.R",null,null,null,null,null,null,null,null,null,null,null,null,null,null,null,null,null,null,null,null,null,null,1,{"$f":"IF(AZ477=1,G477,0)","v":0},{"$f":"IF(AZ477=2,G477,0)","v":0},{"$f":"IF(AZ477=3,G477,0)","v":0},{"$f":"IF(AZ477=4,G477,0)","v":0},{"$f":"IF(AZ477=5,G477,0)","v":0},null,null,null,null,null,null,null,null,null,null,null,null,null,null,null,null,null,null,null,null,null,3,1]
[null,null,"Revizní šachty:",null,0,null,null,null,null,null,null,null,"Revizní šachty:"]
[null,null,"Kónus H600:10*1,01",null,10.1,null,null,null,null,null,null,null,"Kónus H600:10*1,01"]
[57,"592243594.R","Skruž šachetní TBS-Q.1 1000/250/120 SP INTEGRO","kus",8.08,null,{"$f":"E480*F480","v":0},0.254,{"$f":"E480*H480","v":2.0523199999999999},null,{"$f":"E480*J480","v":0},null,null,null,2,null,null,null,null,null,null,null,null,null,null,null,3,1,"592243594.R",null,null,null,null,null,null,null,null,null,null,null,null,null,null,null,null,null,null,null,null,null,null,1,{"$f":"IF(AZ480=1,G480,0)","v":0},{"$f":"IF(AZ480=2,G480,0)","v":0},{"$f":"IF(AZ480=3,G480,0)","v":0},{"$f":"IF(AZ480=4,G480,0)","v":0},{"$f":"IF(AZ480=5,G480,0)","v":0},null,null,null,null,null,null,null,null,null,null,null,null,null,null,null,null,null,null,null,null,null,3,1]
[null,null,"Revizní šachty:",null,0,null,null,null,null,null,null,null,"Revizní šachty:"]
[null,null,"Skruž H250:8*1,01",null,8.08,null,null,null,null,null,null,null,"Skruž H250:8*1,01"]
[58,"592243595.R","Skruž šachetní TBS-Q.1 1000/500/120 SP INTEGRO","kus",9.09,null,{"$f":"E483*F483","v":0},0.50900000000000001,{"$f":"E483*H483","v":4.6268099999999999},null,{"$f":"E483*J483","v":0},null,null,null,2,null,null,null,null,null,null,null,null,null,null,null,3,1,"592243595.R",null,null,null,null,null,null,null,null,null,null,null,null,null,null,null,null,null,null,null,null,null,null,1,{"$f":"IF(AZ483=1,G483,0)","v":0},{"$f":"IF(AZ483=2,G483,0)","v":0},{"$f":"IF(AZ483=3,G483,0)","v":0},{"$f":"IF(AZ483=4,G483,0)","v":0},{"$f":"IF(AZ483=5,G483,0)","v":0},null,null,null,null,null,null,null,null,null,null,null,null,null,null,null,null,null,null,null,null,null,3,1]
[null,null,"Revizní šachty:",null,0,null,null,null,null,null,null,null,"Revizní šachty:"]
[null,null,"Skruž H500:9*1,01",null,9.09,null,null,null,null,null,null,null,"Skruž H500:9*1,01"]
[59,"592243696.R","Skruž šachetní TBS-Q.1 1000/1000/120 SP INTEGRO","kus",1.01,null,{"$f":"E486*F486","v":0},1.0189999999999999,{"$f":"E486*H486","v":1.0291899999999998},null,{"$f":"E486*J486","v":0},null,null,null,2,null,null,null,null,null,null,null,null,null,null,null,3,1,"592243696.R",null,null,null,null,null,null,null,null,null,null,null,null,null,null,null,null,null,null,null,null,null,null,1,{"$f":"IF(AZ486=1,G486,0)","v":0},{"$f":"IF(AZ486=2,G486,0)","v":0},{"$f":"IF(AZ486=3,G486,0)","v":0},{"$f":"IF(AZ486=4,G486,0)","v":0},{"$f":"IF(AZ486=5,G486,0)","v":0},null,null,null,null,null,null,null,null,null,null,null,null,null,null,null,null,null,null,null,null,null,3,1]
[null,null,"Revizní šachty:",null,0,null,null,null,null,null,null,null,"Revizní šachty:"]
[null,null,"Skruž H1000:1*1,01",null,1.01,null,null,null,null,null,null,null,"Skruž H1000:1*1,01"]
[60,"592243714.R","Dno šachetní TBZ-Q.1CAPITAN 250/500","kus",2.02,null,{"$f":"E489*F489","v":0},1.43,{"$f":"E489*H489","v":2.8885999999999998},null,{"$f":"E489*J489","v":0},null,null,null,2,null,null,null,null,null,null,null,null,null,null,null,3,1,"592243714.R",null,null,null,null,null,null,null,null,null,null,null,null,null,null,null,null,null,null,null,null,null,null,1,{"$f":"IF(AZ489=1,G489,0)","v":0},{"$f":"IF(AZ489=2,G489,0)","v":0},{"$f":"IF(AZ489=3,G489,0)","v":0},{"$f":"IF(AZ489=4,G489,0)","v":0},{"$f":"IF(AZ489=5,G489,0)","v":0},null,null,null,null,null,null,null,null,null,null,null,null,null,null,null,null,null,null,null,null,null,3,1]
[null,null,"Včetně kynety a vstupů dle PD",null,null,null,null,null,null,null,null,"Včetně kynety a vstupů dle PD",null,null,3]
[null,null,"Revizní šachty:",null,0,null,null,null,null,null,null,null,"Revizní šachty:"]
[null,null,"ŠD 250/500:2*1,01",null,2.02,null,null,null,null,null,null,null,"ŠD 250/500:2*1,01"]
[61,"592243716.R","Dno šachetní TBZ-Q.1CAPITAN 300/600","kus",8.08,null,{"$f":"E493*F493","v":0},1.58,{"$f":"E493*H493","v":12.766400000000001},null,{"$f":"E493*J493","v":0},null,null,null,2,null,null,null,null,null,null,null,null,null,null,null,3,1,"592243716.R",null,null,null,null,null,null,null,null,null,null,null,null,null,null,null,null,null,null,null,null,null,null,1,{"$f":"IF(AZ493=1,G493,0)","v":0},{"$f":"IF(AZ493=2,G493,0)","v":0},{"$f":"IF(AZ493=3,G493,0)","v":0},{"$f":"IF(AZ493=4,G493,0)","v":0},{"$f":"IF(AZ493=5,G493,0)","v":0},null,null,null,null,null,null,null,null,null,null,null,null,null,null,null,null,null,null,null,null,null,3,1]
[null,null,"Včetně kynety a vstupů dle PD",null,null,null,null,null,null,null,null,"Včetně kynety a vstupů dle PD",null,null,3]
[null,null,"Revizní šachty:",null,0,null,null,null,null,null,null,null,"Revizní šachty:"]
[null,null,"ŠD 300/600:8*1,01",null,8.08,null,null,null,null,null,null,null,"ŠD 300/600:8*1,01"]
[62,"59710698.A.R","Trouba kameninová hrdlová DN 250, l=2,50 m, FN 40","m",34.51,null,{"$f":"E497*F497","v":0},5.2999999999999999E-2,{"$f":"E497*H497","v":1.8290299999999999},null,{"$f":"E497*J497","v":0},null,null,null,2,null,null,null,null,null,null,null,null,null,null,null,3,1,"59710698.A.R",null,null,null,null,null,null,null,null,null,null,null,null,null,null,null,null,null,null,null,null,null,null,1,{"$f":"IF(AZ497=1,G497,0)","v":0},{"$f":"IF(AZ497=2,G497,0)","v":0},{"$f":"IF(AZ497=3,G497,0)","v":0},{"$f":"IF(AZ497=4,G497,0)","v":0},{"$f":"IF(AZ497=5,G497,0)","v":0},null,null,null,null,null,null,null,null,null,null,null,null,null,null,null,null,null,null,null,null,null,3,1]
[null,null,"Hrdlové trouby KeraBase pro použití v komunální a průmyslové kanalizační systémy včetně případné dodávky zkrácené trouby KeraBase GZ, GA a GE dle potřeb na stavbě",null,null,null,null,null,null,null,null,"Hrdlové trouby KeraBase pro použití v komunální a průmyslové kanalizační systémy včetně případné dodávky zkrácené trouby KeraBase GZ, GA a GE dle potřeb na stavbě",null,null,3]
[null,null,"Otevřený výkop, normální zatížení.",null,null,null,null,null,null,null,null,"Otevřený výkop, normální zatížení.",null,null,3]
[null,null,"DN 250",null,null,null,null,null,null,null,null,"DN 250",null,null,3]
[null,null,"Délka 250 cm",null,null,null,null,null,null,null,null,"Délka 250 cm",null,null,3]
[null,null,"FN 40 kN/m",null,null,null,null,null,null,null,null,"FN 40 kN/m",null,null,3]
[null,null,"Hmotnost 133 kg/ks",null,null,null,null,null,null,null,null,"Hmotnost 133 kg/ks",null,null,3]
[null,null,"Hrdlo K/S",null,null,null,null,null,null,null,null,"Hrdlo K/S",null,null,3]
[null,null,"Třída pevnosti 160",null,null,null,null,null,null,null,null,"Třída pevnosti 160",null,null,3]
[null,null,"trouba oboustranně glazována",null,null,null,null,null,null,null,null,"trouba oboustranně glazována",null,null,3]
[null,null,"Stoka \"H\" KT DN250:34,00*1,015",null,34.51,null,null,null,null,null,null,null,"Stoka \"H\" KT DN250:34,00*1,015"]
[63,"59710699.A.R","Trouba kameninová hrdlová DN 300, l=2,50 m, FN 48","m",123.42400000000001,null,{"$f":"E508*F508","v":0},7.1999999999999995E-2,{"$f":"E508*H508","v":8.8865280000000002},null,{"$f":"E508*J508","v":0},null,null,null,2,null,null,null,null,null,null,null,null,null,null,null,3,1,"59710699.A.R",null,null,null,null,null,null,null,null,null,null,null,null,null,null,null,null,null,null,null,null,null,null,1,{"$f":"IF(AZ508=1,G508,0)","v":0},{"$f":"IF(AZ508=2,G508,0)","v":0},{"$f":"IF(AZ508=3,G508,0)","v":0},{"$f":"IF(AZ508=4,G508,0)","v":0},{"$f":"IF(AZ508=5,G508,0)","v":0},null,null,null,null,null,null,null,null,null,null,null,null,null,null,null,null,null,null,null,null,null,3,1]
[null,null,"Hrdlové trouby KeraBase pro použití v komunální a průmyslové kanalizační systémy včetně případné dodávky zkrácené trouby KeraBase GZ, GA a GE dle potřeb na stavbě",null,null,null,null,null,null,null,null,"Hrdlové trouby KeraBase pro použití v komunální a průmyslové kanalizační systémy včetně případné dodávky zkrácené trouby KeraBase GZ, GA a GE dle potřeb na stavbě",null,null,3]
[null,null,"Otevřený výkop, normální zatížení.",null,null,null,null,null,null,null,null,"Otevřený výkop, normální zatížení.",null,null,3]
[null,null,"DN 300",null,null,null,null,null,null,null,null,"DN 300",null,null,3]
[null,null,"Délka 250 cm",null,null,null,null,null,null,null,null,"Délka 250 cm",null,null,3]
[null,null,"FN 40 kN/m",null,null,null,null,null,null,null,null,"FN 40 kN/m",null,null,3]
[null,null,"Hmotnost 181 kg/ks",null,null,null,null,null,null,null,null,"Hmotnost 181 kg/ks",null,null,3]
[null,null,"Hrdlo K/S",null,null,null,null,null,null,null,null,"Hrdlo K/S",null,null,3]
[null,null,"Třída pevnosti 160",null,null,null,null,null,null,null,null,"Třída pevnosti 160",null,null,3]
[null,null,"trouba oboustranně glazována",null,null,null,null,null,null,null,null,"trouba oboustranně glazována",null,null,3]
[null,null,"Stoka \"A\" KT DN300:110,80*1,015",null,112.462,null,null,null,null,null,null,null,"Stoka \"A\" KT DN300:110,80*1,015"]
[null,null,"Propoj do odlehčovací komory KT DN300:4,00*1,015",null,4.0599999999999996,null,null,null,null,null,null,null,"Propoj do odlehčovací komory KT DN300:4,00*1,015"]
[null,null,"Propoj na neznámé potrubí KT DN300:6,80*1,015",null,6.9020000000000001,null,null,null,null,null,null,null,"Propoj na neznámé potrubí KT DN300:6,80*1,015"]
[64,"59711516.A","Ucpávka kamenina DN 150, FN 34","kus",4.0599999999999996,null,{"$f":"E521*F521","v":0},3.0000000000000001E-3,{"$f":"E521*H521","v":1.218E-2},null,{"$f":"E521*J521","v":0},null,null,null,2,null,null,null,null,null,null,null,null,null,null,null,3,1,"59711516.A",null,null,null,null,null,null,null,null,null,null,null,null,null,null,null,null,null,null,null,null,null,null,1,{"$f":"IF(AZ521=1,G521,0)","v":0},{"$f":"IF(AZ521=2,G521,0)","v":0},{"$f":"IF(AZ521=3,G521,0)","v":0},{"$f":"IF(AZ521=4,G521,0)","v":0},{"$f":"IF(AZ521=5,G521,0)","v":0},null,null,null,null,null,null,null,null,null,null,null,null,null,null,null,null,null,null,null,null,null,3,1]
[null,null,"KeraBase ucpávka pro normální zatížení.",null,null,null,null,null,null,null,null,"KeraBase ucpávka pro normální zatížení.",null,null,3]
[null,null,"Profil DN 150",null,null,null,null,null,null,null,null,"Profil DN 150",null,null,3]
[null,null,"Třída pevnosti -",null,null,null,null,null,null,null,null,"Třída pevnosti -",null,null,3]
[null,null,"Mezní únosnost FNk 34 N/m",null,null,null,null,null,null,null,null,"Mezní únosnost FNk 34 N/m",null,null,3]
[null,null,"Hmotnost 3 kg/ks",null,null,null,null,null,null,null,null,"Hmotnost 3 kg/ks",null,null,3]
[null,null,"Hrdlo L",null,null,null,null,null,null,null,null,"Hrdlo L",null,null,3]
[null,null,"Stoka \"A\" KT DN300:",null,0,null,null,null,null,null,null,null,"Stoka \"A\" KT DN300:"]
[null,null,"Ucpávka odbočky pro UV DN150:3*1,015",null,3.0449999999999999,null,null,null,null,null,null,null,"Ucpávka odbočky pro UV DN150:3*1,015"]
[null,null,"Stoka \"H\" KT DN250:",null,0,null,null,null,null,null,null,null,"Stoka \"H\" KT DN250:"]
[null,null,"Ucpávka odbočky pro UV DN150:1*1,015",null,1.0149999999999999,null,null,null,null,null,null,null,"Ucpávka odbočky pro UV DN150:1*1,015"]
[65,"59711546.A.R","Odbočka 45° kamenina hrdlová 250/200 FN 40/40","kus",1.0149999999999999,null,{"$f":"E532*F532","v":0},4.8000000000000001E-2,{"$f":"E532*H532","v":4.8719999999999999E-2},null,{"$f":"E532*J532","v":0},null,null,null,2,null,null,null,null,null,null,null,null,null,null,null,3,1,"59711546.A.R",null,null,null,null,null,null,null,null,null,null,null,null,null,null,null,null,null,null,null,null,null,null,1,{"$f":"IF(AZ532=1,G532,0)","v":0},{"$f":"IF(AZ532=2,G532,0)","v":0},{"$f":"IF(AZ532=3,G532,0)","v":0},{"$f":"IF(AZ532=4,G532,0)","v":0},{"$f":"IF(AZ532=5,G532,0)","v":0},null,null,null,null,null,null,null,null,null,null,null,null,null,null,null,null,null,null,null,null,null,3,1]
[null,null,"KeraBase odbočky 45° pro normální zatížení.",null,null,null,null,null,null,null,null,"KeraBase odbočky 45° pro normální zatížení.",null,null,3]
[null,null,"Specif. 45°",null,null,null,null,null,null,null,null,"Specif. 45°",null,null,3]
[null,null,"Profil DN 250/200",null,null,null,null,null,null,null,null,"Profil DN 250/200",null,null,3]
[null,null,"Délka 60 cm",null,null,null,null,null,null,null,null,"Délka 60 cm",null,null,3]
[null,null,"Třída pevnosti 160/200 ",null,null,null,null,null,null,null,null,"Třída pevnosti 160/200 ",null,null,3]
[null,null,"Mezní únosnost FN 40/40 kN/m",null,null,null,null,null,null,null,null,"Mezní únosnost FN 40/40 kN/m",null,null,3]
[null,null,"Hmotnost 48 kg/ks",null,null,null,null,null,null,null,null,"Hmotnost 48 kg/ks",null,null,3]
[null,null,"Hrdlo KL",null,null,null,null,null,null,null,null,"Hrdlo KL",null,null,3]
[null,null,"Stoka \"H\" KT DN250:",null,0,null,null,null,null,null,null,null,"Stoka \"H\" KT DN250:"]
[null,null,"Odbočka pro UV 250/150:1*1,015",null,1.0149999999999999,null,null,null,null,null,null,null,"Odbočka pro UV 250/150:1*1,015"]
[66,"59711549.R","Odbočka 45° kamenina hrdlová 300/150 FN 48/34","kus",5.0750000000000002,null,{"$f":"E543*F543","v":0},4.9000000000000002E-2,{"$f":"E543*H543","v":0.24867500000000001},null,{"$f":"E543*J543","v":0},null,null,null,2,null,null,null,null,null,null,null,null,null,null,null,3,1,"59711549.R",null,null,null,null,null,null,null,null,null,null,null,null,null,null,null,null,null,null,null,null,null,null,1,{"$f":"IF(AZ543=1,G543,0)","v":0},{"$f":"IF(AZ543=2,G543,0)","v":0},{"$f":"IF(AZ543=3,G543,0)","v":0},{"$f":"IF(AZ543=4,G543,0)","v":0},{"$f":"IF(AZ543=5,G543,0)","v":0},null,null,null,null,null,null,null,null,null,null,null,null,null,null,null,null,null,null,null,null,null,3,1]
[null,null,"KeraBase odbočky 45° pro normální zatížení.",null,null,null,null,null,null,null,null,"KeraBase odbočky 45° pro normální zatížení.",null,null,3]
[null,null,"Specif. 45°",null,null,null,null,null,null,null,null,"Specif. 45°",null,null,3]
[null,null,"Profil DN 300/150",null,null,null,null,null,null,null,null,"Profil DN 300/150",null,null,3]
[null,null,"Délka 50 cm",null,null,null,null,null,null,null,null,"Délka 50 cm",null,null,3]
[null,null,"Třída pevnosti 160/-",null,null,null,null,null,null,null,null,"Třída pevnosti 160/-",null,null,3]
[null,null,"Mezní únosnost FN 48/34 kN/m",null,null,null,null,null,null,null,null,"Mezní únosnost FN 48/34 kN/m",null,null,3]
[null,null,"Hmotnost 49 kg/ks",null,null,null,null,null,null,null,null,"Hmotnost 49 kg/ks",null,null,3]
[null,null,"Hrdlo KL",null,null,null,null,null,null,null,null,"Hrdlo KL",null,null,3]
[null,null,"Stoka \"A\" KT DN300:",null,0,null,null,null,null,null,null,null,"Stoka \"A\" KT DN300:"]
[null,null,"Odbočka pro UV DN300/150:3*1,015",null,3.0449999999999999,null,null,null,null,null,null,null,"Odbočka pro UV DN300/150:3*1,015"]
[null,null,"Odbočka pro KP DN300/150:2*1,015",null,2.0299999999999998,null,null,null,null,null,null,null,"Odbočka pro KP DN300/150:2*1,015"]
[null,"Celkem za","8 Trubní vedení",null,null,null,{"$f":"SUM(G363:G554)","v":0},null,{"$f":"SUM(I363:I554)","v":40.19220121},null,{"$f":"SUM(K363:K554)","v":0},null,null,null,4,null,null,null,null,null,null,null,null,null,null,null,null,null,null,null,null,null,null,null,null,null,null,null,null,null,null,null,null,null,null,null,null,null,null,null,null,null,{"$f":"SUM(BA363:BA554)","v":0},{"$f":"SUM(BB363:BB554)","v":0},{"$f":"SUM(BC363:BC554)","v":0},{"$f":"SUM(BD363:BD554)","v":0},{"$f":"SUM(BE363:BE554)","v":0}]
["Díl:","93","Dokončovací práce inženýrských staveb",null,null,null,null,null,null,null,null,null,null,null,1]
[67,"936451111R00","Výplň dutin cementopopílkovou suspenzí ","m3",3.14,null,{"$f":"E557*F557","v":0},1.8050999999999999,{"$f":"E557*H557","v":5.6680140000000003},0,{"$f":"E557*J557","v":0},null,null,null,2,null,null,null,null,null,null,null,null,null,null,null,1,0,0,null,null,null,null,null,null,null,null,null,null,null,null,null,null,null,null,null,null,null,null,null,null,1,{"$f":"IF(AZ557=1,G557,0)","v":0},{"$f":"IF(AZ557=2,G557,0)","v":0},{"$f":"IF(AZ557=3,G557,0)","v":0},{"$f":"IF(AZ557=4,G557,0)","v":0},{"$f":"IF(AZ557=5,G557,0)","v":0},null,null,null,null,null,null,null,null,null,null,null,null,null,null,null,null,null,null,null,null,null,1,0]
[null,null,"Část stávajících RŠ:3,1400",null,3.14,null,null,null,null,null,null,null,"Část stávajících RŠ:3,1400"]
[68,"936452115R00","Výplň potrubí cementopopílkovou suspenzí DN 300 ","m",38,null,{"$f":"E559*F559","v":0},0.12751000000000001,{"$f":"E559*H559","v":4.8453800000000005},0,{"$f":"E559*J559","v":0},null,null,null,2,null,null,null,null,null,null,null,null,null,null,null,1,1,1,null,null,null,null,null,null,null,null,null,null,null,null,null,null,null,null,null,null,null,null,null,null,1,{"$f":"IF(AZ559=1,G559,0)","v":0},{"$f":"IF(AZ559=2,G559,0)","v":0},{"$f":"IF(AZ559=3,G559,0)","v":0},{"$f":"IF(AZ559=4,G559,0)","v":0},{"$f":"IF(AZ559=5,G559,0)","v":0},null,null,null,null,null,null,null,null,null,null,null,null,null,null,null,null,null,null,null,null,null,1,1]
[null,null,"Stávající potrubí:38,00",null,38,null,null,null,null,null,null,null,"Stávající potrubí:38,00"]
[69,"939421111RT1","Osazení samonivelač.kanalizač.poklopu za finišerem bez dodávky poklopu","kus",10,null,{"$f":"E561*F561","v":0},0.15425,{"$f":"E561*H561","v":1.5425},0,{"$f":"E561*J561","v":0},null,null,null,2,null,null,null,null,null,null,null,null,null,null,null,1,0,0,null,null,null,null,null,null,null,null,null,null,null,null,null,null,null,null,null,null,null,null,null,null,1,{"$f":"IF(AZ561=1,G561,0)","v":0},{"$f":"IF(AZ561=2,G561,0)","v":0},{"$f":"IF(AZ561=3,G561,0)","v":0},{"$f":"IF(AZ561=4,G561,0)","v":0},{"$f":"IF(AZ561=5,G561,0)","v":0},null,null,null,null,null,null,null,null,null,null,null,null,null,null,null,null,null,null,null,null,null,1,0]
[null,null,"Položka obsahuje:",null,null,null,null,null,null,null,null,"Položka obsahuje:",null,null,3]
[null,null,"- osazení prefabrikovaného betonového prstence do rychletuhnoucí malty (s dodávkou hmot)",null,null,null,null,null,null,null,null,"- osazení prefabrikovaného betonového prstence do rychletuhnoucí malty (s dodávkou hmot)",null,null,3]
[null,null,"- zalití prstence rychletuhnoucí zálivkou do výše prstence (s dodávkou hmoty)",null,null,null,null,null,null,null,null,"- zalití prstence rychletuhnoucí zálivkou do výše prstence (s dodávkou hmoty)",null,null,3]
[null,null,"- vložení kruhového bednění",null,null,null,null,null,null,null,null,"- vložení kruhového bednění",null,null,3]
[null,null,"- doplnění mezikruží asfaltovou směsí do výšky současné podkladní vrstvy, zhutnění",null,null,null,null,null,null,null,null,"- doplnění mezikruží asfaltovou směsí do výšky současné podkladní vrstvy, zhutnění",null,null,3]
[null,null,"- vyjmutí kruhového bednění",null,null,null,null,null,null,null,null,"- vyjmutí kruhového bednění",null,null,3]
[null,null,"- osazení poklopu a zatlačení",null,null,null,null,null,null,null,null,"- osazení poklopu a zatlačení",null,null,3]
[null,null,"  (následuje pokládka finální vrstvy vozovky - není součástí položky)",null,null,null,null,null,null,null,null,"  (následuje pokládka finální vrstvy vozovky - není součástí položky)",null,null,3]
[null,null,"- povytažení poklopu",null,null,null,null,null,null,null,null,"- povytažení poklopu",null,null,3]
[null,null,"- podsyp asfaltovou směsí, spuštění poklopu a zhutnění směsi",null,null,null,null,null,null,null,null,"- podsyp asfaltovou směsí, spuštění poklopu a zhutnění směsi",null,null,3]
[null,null,"Revizní šachty:",null,0,null,null,null,null,null,null,null,"Revizní šachty:"]
[null,null,"Poklop EUROPE9 E600 KEM91B rám samonivelační:6",null,6,null,null,null,null,null,null,null,"Poklop EUROPE9 E600 KEM91B rám samonivelační:6"]
[null,null,"Poklop EUROPE9 D400 KDM91B rám samonivelační:4",null,4,null,null,null,null,null,null,null,"Poklop EUROPE9 D400 KDM91B rám samonivelační:4"]
[70,"55244420.R","Poklop EUROPE9 E600 KEM91B rám samonivelační","kus",6,null,{"$f":"E575*F575","v":0},0.113,{"$f":"E575*H575","v":0.67800000000000005},null,{"$f":"E575*J575","v":0},null,null,null,2,null,null,null,null,null,null,null,null,null,null,null,3,1,"55244420.R",null,null,null,null,null,null,null,null,null,null,null,null,null,null,null,null,null,null,null,null,null,null,1,{"$f":"IF(AZ575=1,G575,0)","v":0},{"$f":"IF(AZ575=2,G575,0)","v":0},{"$f":"IF(AZ575=3,G575,0)","v":0},{"$f":"IF(AZ575=4,G575,0)","v":0},{"$f":"IF(AZ575=5,G575,0)","v":0},null,null,null,null,null,null,null,null,null,null,null,null,null,null,null,null,null,null,null,null,null,3,1]
[null,null,"Kanalizační kruhový samonivelační bez odvětrání dle standatrů VHS TURNOV.",null,null,null,null,null,null,null,null,"Kanalizační kruhový samonivelační bez odvětrání dle standatrů VHS TURNOV.",null,null,3]
[null,null,"Poklop se znakem Město Lomnice nad Popelkou.",null,null,null,null,null,null,null,null,"Poklop se znakem Město Lomnice nad Popelkou.",null,null,3]
[null,null,"Revizní šachty:",null,0,null,null,null,null,null,null,null,"Revizní šachty:"]
[null,null,"Poklop EUROPE9 E600 KEM91B rám samonivelační:6",null,6,null,null,null,null,null,null,null,"Poklop EUROPE9 E600 KEM91B rám samonivelační:6"]
[71,"55244421.R","Poklop EUROPE9 D400 KDM91B rám samonivelační","kus",4,null,{"$f":"E580*F580","v":0},0.113,{"$f":"E580*H580","v":0.45200000000000001},null,{"$f":"E580*J580","v":0},null,null,null,2,null,null,null,null,null,null,null,null,null,null,null,3,1,"55244421.R",null,null,null,null,null,null,null,null,null,null,null,null,null,null,null,null,null,null,null,null,null,null,1,{"$f":"IF(AZ580=1,G580,0)","v":0},{"$f":"IF(AZ580=2,G580,0)","v":0},{"$f":"IF(AZ580=3,G580,0)","v":0},{"$f":"IF(AZ580=4,G580,0)","v":0},{"$f":"IF(AZ580=5,G580,0)","v":0},null,null,null,null,null,null,null,null,null,null,null,null,null,null,null,null,null,null,null,null,null,3,1]
[null,null,"Kanalizační kruhový samonivelační bez odvětrání dle standatrů VHS TURNOV.",null,null,null,null,null,null,null,null,"Kanalizační kruhový samonivelační bez odvětrání dle standatrů VHS TURNOV.",null,null,3]
[null,null,"Poklop se znakem Město Lomnice nad Popelkou.",null,null,null,null,null,null,null,null,"Poklop se znakem Město Lomnice nad Popelkou.",null,null,3]
[null,null,"Revizní šachty:",null,0,null,null,null,null,null,null,null,"Revizní šachty:"]
[null,null,"Poklop EUROPE9 D400 KDM91B rám samonivelační:4",null,4,null,null,null,null,null,null,null,"Poklop EUROPE9 D400 KDM91B rám samonivelační:4"]
[null,"Celkem za","93 Dokončovací práce inženýrských staveb",null,null,null,{"$f":"SUM(G556:G584)","v":0},null,{"$f":"SUM(I556:I584)","v":13.185894000000003},null,{"$f":"SUM(K556:K584)","v":0},null,null,null,4,null,null,null,null,null,null,null,null,null,null,null,null,null,null,null,null,null,null,null,null,null,null,null,null,null,null,null,null,null,null,null,null,null,null,null,null,null,{"$f":"SUM(BA556:BA584)","v":0},{"$f":"SUM(BB556:BB584)","v":0},{"$f":"SUM(BC556:BC584)","v":0},{"$f":"SUM(BD556:BD584)","v":0},{"$f":"SUM(BE556:BE584)","v":0}]
["Díl:","99","Staveništní přesun hmot",null,null,null,null,null,null,null,null,null,null,null,1]
[72,"998275101R00","Přesun hmot, kanalizace kameninové, otevřený výkop ","t",1265.6205902900001,null,{"$f":"E587*F587","v":0},0,{"$f":"E587*H587","v":0},null,{"$f":"E587*J587","v":0},null,null,null,2,null,null,null,null,null,null,null,null,null,null,null,7,1,2,null,null,null,null,null,null,null,null,null,null,null,null,null,null,null,null,null,null,null,null,null,null,1,{"$f":"IF(AZ587=1,G587,0)","v":0},{"$f":"IF(AZ587=2,G587,0)","v":0},{"$f":"IF(AZ587=3,G587,0)","v":0},{"$f":"IF(AZ587=4,G587,0)","v":0},{"$f":"IF(AZ587=5,G587,0)","v":0},null,null,null,null,null,null,null,null,null,null,null,null,null,null,null,null,null,null,null,null,null,7,1]
[null,"Celkem za","99 Staveništní přesun hmot",null,null,null,{"$f":"SUM(G586:G587)","v":0},null,{"$f":"SUM(I586:I587)","v":0},null,{"$f":"SUM(K586:K587)","v":0},null,null,null,4,null,null,null,null,null,null,null,null,null,null,null,null,null,null,null,null,null,null,null,null,null,null,null,null,null,null,null,null,null,null,null,null,null,null,null,null,null,{"$f":"SUM(BA586:BA587)","v":0},{"$f":"SUM(BB586:BB587)","v":0},{"$f":"SUM(BC586:BC587)","v":0},{"$f":"SUM(BD586:BD587)","v":0},{"$f":"SUM(BE586:BE587)","v":0}]

{"sheet":"I. 01.03 I. 01.03 KL","index":7,"n_rows":45,"n_cols":8,"rows_kept":45,"cut":false,"hidden":false,"merged":[[45,1,45,6],[46,1,46,6],[47,1,47,6],[48,1,48,6],[49,1,49,6],[50,1,50,6],[29,5,29,6],[30,5,30,6],[31,5,31,6],[32,5,32,6],[33,5,33,6],[36,1,44,6],[7,2,7,4],[8,2,8,4],[9,2,9,4],[10,2,10,4],[11,2,11,4],[22,0,22,1]]}
["POLOŽKOVÝ ROZPOČET"]
["Rozpočet",null,"I. 01.03","Přepojení vod. a kanaliz. přípojek \"Jilemnická\"",null,"JKSO ","827"]
[]
["Objekt",null,null,null,null,"SKP "]
["I. 01.03",null,"Přepojení vod. a kanaliz. přípojek \"Jilemnická\"",null,null,"Měrná jednotka","m"]
["Stavba",null,null,null,null,"Počet jednotek",0]
["3334",null,"Lomnice nad Popelkou - Vodovod a kanalizace",null,null,"Náklady na m.j.",{"$f":"IF(G6=0,,ROUND((F30+F32)/G6,1))","v":0}]
["Projektant",null,"VEDU VODU s.r.o. Dobrovice",null,null,"Typ rozpočtu"]
["Zpracovatel projektu"]
["Objednatel",null,"Vodohospodářské sdružení Turnov"]
["Dodavatel",null,".",null,null,"Zakázkové číslo "]
["Rozpočtoval",null,null,null,null,"Počet listů"]
["ROZPOČTOVÉ NÁKLADY"]
["Základní rozpočtové náklady"]
[null,"HSV celkem",{"$f":"'I. 01.03 I. 01.03 Rek'!E12","v":0}]
["Z","PSV celkem",{"$f":"'I. 01.03 I. 01.03 Rek'!F12","v":0}]
["R","M práce celkem",{"$f":"'I. 01.03 I. 01.03 Rek'!H12","v":0}]
["N","M dodávky celkem",{"$f":"'I. 01.03 I. 01.03 Rek'!G12","v":0}]
["ZRN celkem",null,{"$f":"SUM(C15:C18)","v":0}]
[]
["HZS",null,{"$f":"'I. 01.03 I. 01.03 Rek'!I12","v":0}]
["ZRN+HZS",null,{"$f":"C19+C21","v":0}]
["ZRN+ost.náklady+HZS",null,{"$f":"C22+G23","v":0}]
["Vypracoval",null,null,"Za zhotovitele",null,"Za objednatele"]
["Jméno :",null,null,"Jméno :",null,"Jméno :"]
["Datum :",null,null,"Datum :",null,"Datum :"]
[]
["Podpis :",null,null,"Podpis:",null,"Podpis:"]
[]
["Základ pro DPH",null,21,"%  ",null,{"$f":"C23-F32","v":0}]
["DPH",null,{"$f":"C30","v":21},"% ",null,{"$f":"ROUND(PRODUCT(F30,C31/100),0)","v":0}]
["Základ pro DPH",null,0,"% ",null,0]
["DPH",null,{"$f":"C32","v":0},"% ",null,{"$f":"ROUND(PRODUCT(F32,C33/100),0)","v":0}]
["CENA ZA OBJEKT CELKEM",null,null,null,null,{"$f":"ROUND(SUM(F30:F33),0)","v":0}]
[]
["Poznámka :",null,null,null,null,null,null," "]
[null,null,null,null,null,null,null," "]
[null,null,null,null,null,null,null," "]
[null,null,null,null,null,null,null," "]
[null,null,null,null,null,null,null," "]
[null,null,null,null,null,null,null," "]
[null,null,null,null,null,null,null," "]
[null,null,null,null,null,null,null," "]
[null,null,null,null,null,null,null," "]
[null,null,null,null,null,null,null," "]

{"sheet":"I. 01.03 I. 01.03 Rek","index":8,"n_rows":12,"n_cols":9,"rows_kept":12,"cut":false,"hidden":false,"merged":[[0,0,0,1],[1,0,1,1],[1,6,1,8]]}
["Stavba :",null,"3334 Lomnice nad Popelkou - Vodovod a kanalizace",null,null,null,"Rozpočet :","I. 01.03"]
["Objekt :",null,"I. 01.03 Přepojení vod. a kanaliz. přípojek \"Jilemnická\"",null,null,null,"Přepojení vod. a kanaliz. přípojek \"Jilemnická\""]
[]
["REKAPITULACE  STAVEBNÍCH  DÍLŮ"]
[]
[null,"Stavební díl",null,null,"HSV","PSV","Dodávka","Montáž","HZS"]
[{"$f":"'I. 01.03 I. 01.03 Pol'!B7","v":"1"},{"$f":"'I. 01.03 I. 01.03 Pol'!C7","v":"Zemní práce"},null,null,{"$f":"'I. 01.03 I. 01.03 Pol'!BA227","v":0},{"$f":"'I. 01.03 I. 01.03 Pol'!BB227","v":0},{"$f":"'I. 01.03 I. 01.03 Pol'!BC227","v":0},{"$f":"'I. 01.03 I. 01.03 Pol'!BD227","v":0},{"$f":"'I. 01.03 I. 01.03 Pol'!BE227","v":0}]
[{"$f":"'I. 01.03 I. 01.03 Pol'!B228","v":"45"},{"$f":"'I. 01.03 I. 01.03 Pol'!C228","v":"Podkladní a vedlejší konstrukce"},null,null,{"$f":"'I. 01.03 I. 01.03 Pol'!BA235","v":0},{"$f":"'I. 01.03 I. 01.03 Pol'!BB235","v":0},{"$f":"'I. 01.03 I. 01.03 Pol'!BC235","v":0},{"$f":"'I. 01.03 I. 01.03 Pol'!BD235","v":0},{"$f":"'I. 01.03 I. 01.03 Pol'!BE235","v":0}]
[{"$f":"'I. 01.03 I. 01.03 Pol'!B236","v":"5"},{"$f":"'I. 01.03 I. 01.03 Pol'!C236","v":"Komunikace"},null,null,{"$f":"'I. 01.03 I. 01.03 Pol'!BA251","v":0},{"$f":"'I. 01.03 I. 01.03 Pol'!BB251","v":0},{"$f":"'I. 01.03 I. 01.03 Pol'!BC251","v":0},{"$f":"'I. 01.03 I. 01.03 Pol'!BD251","v":0},{"$f":"'I. 01.03 I. 01.03 Pol'!BE251","v":0}]
[{"$f":"'I. 01.03 I. 01.03 Pol'!B252","v":"8"},{"$f":"'I. 01.03 I. 01.03 Pol'!C252","v":"Trubní vedení"},null,null,{"$f":"'I. 01.03 I. 01.03 Pol'!BA350","v":0},{"$f":"'I. 01.03 I. 01.03 Pol'!BB350","v":0},{"$f":"'I. 01.03 I. 01.03 Pol'!BC350","v":0},{"$f":"'I. 01.03 I. 01.03 Pol'!BD350","v":0},{"$f":"'I. 01.03 I. 01.03 Pol'!BE350","v":0}]
[{"$f":"'I. 01.03 I. 01.03 Pol'!B351","v":"99"},{"$f":"'I. 01.03 I. 01.03 Pol'!C351","v":"Staveništní přesun hmot"},null,null,{"$f":"'I. 01.03 I. 01.03 Pol'!BA353","v":0},{"$f":"'I. 01.03 I. 01.03 Pol'!BB353","v":0},{"$f":"'I. 01.03 I. 01.03 Pol'!BC353","v":0},{"$f":"'I. 01.03 I. 01.03 Pol'!BD353","v":0},{"$f":"'I. 01.03 I. 01.03 Pol'!BE353","v":0}]
[null,"CELKEM  OBJEKT",null,null,{"$f":"SUM(E7:E11)","v":0},{"$f":"SUM(F7:F11)","v":0},{"$f":"SUM(G7:G11)","v":0},{"$f":"SUM(H7:H11)","v":0},{"$f":"SUM(I7:I11)","v":0}]

{"sheet":"I. 01.03 I. 01.03 Pol","index":9,"n_rows":353,"n_cols":80,"rows_kept":353,"cut":false,"hidden":false,"merged":[[347,2,347,6],[348,2,348,3],[339,2,339,3],[341,2,341,3],[343,2,343,6],[344,2,344,6],[345,2,345,6],[346,2,346,6],[331,2,331,6],[332,2,332,6],[333,2,333,6],[334,2,334,6],[335,2,335,3],[337,2,337,3],[324,2,324,6],[325,2,325,3],[326,2,326,3],[327,2,327,3],[329,2,329,6],[330,2,330,6],[316,2,316,3],[318,2,318,3],[319,2,319,3],[320,2,320,3],[321,2,321,3],[322,2,322,3],[308,2,308,3],[309,2,309,3],[311,2,311,3],[312,2,312,3],[314,2,314,6],[315,2,315,3],[301,2,301,3],[302,2,302,3],[304,2,304,6],[305,2,305,6],[306,2,306,6],[307,2,307,6],[294,2,294,6],[295,2,295,3],[296,2,296,3],[297,2,297,3],[299,2,299,6],[300,2,300,3],[285,2,285,6],[286,2,286,3],[288,2,288,6],[289,2,289,3],[291,2,291,6],[292,2,292,3],[275,2,275,3],[277,2,277,6],[279,2,279,6],[280,2,280,3],[282,2,282,6],[283,2,283,3],[266,2,266,3],[268,2,268,6],[269,2,269,3],[271,2,271,6],[272,2,272,3],[274,2,274,6],[258,2,258,6],[259,2,259,6],[260,2,260,3],[262,2,262,6],[263,2,263,3],[265,2,265,6],[246,2,246,3],[247,2,247,3],[248,2,248,3],[249,2,249,3],[253,2,253,6],[254,2,254,6],[255,2,255,3],[257,2,257,6],[237,2,237,3],[238,2,238,3],[239,2,239,3],[240,2,240,3],[241,2,241,3],[242,2,242,3],[244,2,244,3],[245,2,245,3],[225,2,225,3],[229,2,229,3],[230,2,230,3],[231,2,231,3],[232,2,232,3],[233,2,233,3],[219,2,219,3],[220,2,220,3],[221,2,221,3],[222,2,222,3],[223,2,223,3],[224,2,224,3],[213,2,213,3],[214,2,214,3],[215,2,215,3],[216,2,216,3],[217,2,217,3],[218,2,218,3],[206,2,206,3],[207,2,207,3],[209,2,209,3],[210,2,210,3],[211,2,211,3],[212,2,212,3],[199,2,199,6],[200,2,200,6],[201,2,201,6],[203,2,203,3],[204,2,204,3],[205,2,205,3],[191,2,191,6],[193,2,193,6],[194,2,194,6],[195,2,195,6],[196,2,196,6],[198,2,198,6],[183,2,183,6],[185,2,185,6],[186,2,186,6],[187,2,187,6],[189,2,189,6],[190,2,190,6],[173,2,173,3],[174,2,174,3],[175,2,175,3],[179,2,179,6],[181,2,181,6],[182,2,182,6],[166,2,166,3],[167,2,167,3],[168,2,168,3],[170,2,170,3],[171,2,171,3],[172,2,172,3],[158,2,158,3],[160,2,160,3],[161,2,161,3],[162,2,162,3],[163,2,163,3],[164,2,164,3],[152,2,152,3],[153,2,153,3],[154,2,154,3],[155,2,155,3],[156,2,156,3],[157,2,157,3],[146,2,146,3],[147,2,147,3],[148,2,148,3],[149,2,149,3],[150,2,150,3],[151,2,151,3],[140,2,140,3],[141,2,141,3],[142,2,142,3],[143,2,143,3],[144,2,144,3],[145,2,145,3],[134,2,134,3],[135,2,135,3],[136,2,136,3],[137,2,137,3],[138,2,138,3],[139,2,139,3],[128,2,128,3],[129,2,129,3],[131,2,131,6],[132,2,132,3],[133,2,133,3],[121,2,121,3],[122,2,122,3],[123,2,123,3],[124,2,124,3],[125,2,125,3],[127,2,127,3],[113,2,113,3],[115,2,115,3],[116,2,116,3],[117,2,117,3],[118,2,118,3],[119,2,119,3],[107,2,107,3],[108,2,108,3],[109,2,109,3],[110,2,110,3],[111,2,111,3],[112,2,112,3],[100,2,100,3],[102,2,102,6],[103,2,103,3],[104,2,104,3],[105,2,105,3],[106,2,106,3],[94,2,94,3],[95,2,95,3],[96,2,96,3],[97,2,97,3],[98,2,98,3],[99,2,99,3],[87,2,87,3],[88,2,88,3],[90,2,90,3],[91,2,91,3],[92,2,92,3],[93,2,93,3],[81,2,81,3],[82,2,82,3],[83,2,83,3],[84,2,84,3],[85,2,85,3],[86,2,86,3],[74,2,74,3],[75,2,75,3],[77,2,77,6],[78,2,78,3],[79,2,79,3],[80,2,80,3],[68,2,68,3],[69,2,69,3],[70,2,70,3],[71,2,71,3],[72,2,72,3],[73,2,73,3],[61,2,61,3],[62,2,62,3],[63,2,63,3],[65,2,65,3],[66,2,66,3],[67,2,67,3],[55,2,55,3],[56,2,56,3],[57,2,57,3],[58,2,58,3],[59,2,59,3],[60,2,60,3],[49,2,49,3],[50,2,50,3],[52,2,52,6],[53,2,53,3],[54,2,54,3],[43,2,43,3],[44,2,44,3],[45,2,45,3],[46,2,46,3],[47,2,47,3],[48,2,48,3],[36,2,36,3],[37,2,37,3],[39,2,39,6],[40,2,40,3],[41,2,41,3],[42,2,42,3],[27,2,27,6],[31,2,31,3],[32,2,32,3],[33,2,33,3],[34,2,34,3],[35,2,35,3],[19,2,19,3],[20,2,20,3],[22,2,22,6],[23,2,23,3],[24,2,24,3],[26,2,26,6],[12,2,12,3],[13,2,13,3],[15,2,15,3],[16,2,16,3],[17,2,17,3],[18,2,18,3],[0,0,0,6],[2,0,2,1],[3,0,3,1],[3,4,3,6],[8,2,8,3],[9,2,9,3],[10,2,10,3],[11,2,11,3]]}
["Položkový rozpočet "]
[]
["Stavba :",null,"3334 Lomnice nad Popelkou - Vodovod a kanalizace",null,"Rozpočet:",{"$f":"'I. 01.03 I. 01.03 Rek'!H1","v":"I. 01.03"}]
["Objekt :",null,"I. 01.03 Přepojení vod. a kanaliz. přípojek \"Jilemnická\"",null,{"$f":"'I. 01.03 I. 01.03 Rek'!G2","v":"Přepojení vod. a kanaliz. přípojek \"Jilemnická\""}]
[]
["P.č.","Číslo položky","Název položky","MJ","množství","cena / MJ","celkem (Kč)","Jednotková hmotnost","Celková hmotnost","Jednotková dem.hmot.","Celková dem.hmot."]
["Díl:","1","Zemní práce",null,null,null,null,null,null,null,null,null,null,null,1]
[1,"113107625R00","Odstranění podkladu nad 50 m2,kam.drcené tl.25 cm ","m2",150.72,null,{"$f":"E8*F8","v":0},0,{"$f":"E8*H8","v":0},-0.55000000000000004,{"$f":"E8*J8","v":-82.896000000000001},null,null,null,2,null,null,null,null,null,null,null,null,null,null,null,1,1,1,null,null,null,null,null,null,null,null,null,null,null,null,null,null,null,null,null,null,null,null,null,null,1,{"$f":"IF(AZ8=1,G8,0)","v":0},{"$f":"IF(AZ8=2,G8,0)","v":0},{"$f":"IF(AZ8=3,G8,0)","v":0},{"$f":"IF(AZ8=4,G8,0)","v":0},{"$f":"IF(AZ8=5,G8,0)","v":0},null,null,null,null,null,null,null,null,null,null,null,null,null,null,null,null,null,null,null,null,null,1,1]
[null,null,"KP KT DN150 (3 kusy) (průměrná hloubka výkopu 2,00 m):",null,0,null,null,null,null,null,null,null,"KP KT DN150 (3 kusy) (průměrná hloubka výkopu 2,00 m):"]
[null,null,"KP PVC DN150 (10 kusů) (průměrná hloubka výkopu 2,00 m):",null,0,null,null,null,null,null,null,null,"KP PVC DN150 (10 kusů) (průměrná hloubka výkopu 2,00 m):"]
[null,null,"VP PE D32x3,0 mm (17 kusů) (průměrná hloubka výkopu 1,65 m):",null,0,null,null,null,null,null,null,null,"VP PE D32x3,0 mm (17 kusů) (průměrná hloubka výkopu 1,65 m):"]
[null,null,"VP PE D 40x3,7 mm (1 kus) (průměrná hloubka výkopu 1,65 m):",null,0,null,null,null,null,null,null,null,"VP PE D 40x3,7 mm (1 kus) (průměrná hloubka výkopu 1,65 m):"]
[null,null,"VP PE D 63x5,8 mm (2 kusy) (průměrná hloubka výkopu 1,65 m):",null,0,null,null,null,null,null,null,null,"VP PE D 63x5,8 mm (2 kusy) (průměrná hloubka výkopu 1,65 m):"]
[null,null,"Konstrukce komunikací:(328,40-10,00-130,00)*0,80",null,150.72,null,null,null,null,null,null,null,"Konstrukce komunikací:(328,40-10,00-130,00)*0,80"]
[2,"113108415R00","Odstranění asfaltové vrstvy pl.nad 50 m2, tl.15 cm ","m2",150.72,null,{"$f":"E15*F15","v":0},0,{"$f":"E15*H15","v":0},-0.33,{"$f":"E15*J15","v":-49.7376},null,null,null,2,null,null,null,null,null,null,null,null,null,null,null,1,1,1,null,null,null,null,null,null,null,null,null,null,null,null,null,null,null,null,null,null,null,null,null,null,1,{"$f":"IF(AZ15=1,G15,0)","v":0},{"$f":"IF(AZ15=2,G15,0)","v":0},{"$f":"IF(AZ15=3,G15,0)","v":0},{"$f":"IF(AZ15=4,G15,0)","v":0},{"$f":"IF(AZ15=5,G15,0)","v":0},null,null,null,null,null,null,null,null,null,null,null,null,null,null,null,null,null,null,null,null,null,1,1]
[null,null,"KP KT DN150 (3 kusy) (průměrná hloubka výkopu 2,00 m):",null,0,null,null,null,null,null,null,null,"KP KT DN150 (3 kusy) (průměrná hloubka výkopu 2,00 m):"]
[null,null,"KP PVC DN150 (10 kusů) (průměrná hloubka výkopu 2,00 m):",null,0,null,null,null,null,null,null,null,"KP PVC DN150 (10 kusů) (průměrná hloubka výkopu 2,00 m):"]
[null,null,"VP PE D32x3,0 mm (17 kusů) (průměrná hloubka výkopu 1,65 m):",null,0,null,null,null,null,null,null,null,"VP PE D32x3,0 mm (17 kusů) (průměrná hloubka výkopu 1,65 m):"]
[null,null,"VP PE D 40x3,7 mm (1 kus) (průměrná hloubka výkopu 1,65 m):",null,0,null,null,null,null,null,null,null,"VP PE D 40x3,7 mm (1 kus) (průměrná hloubka výkopu 1,65 m):"]
[null,null,"VP PE D 63x5,8 mm (2 kusy) (průměrná hloubka výkopu 1,65 m):",null,0,null,null,null,null,null,null,null,"VP PE D 63x5,8 mm (2 kusy) (průměrná hloubka výkopu 1,65 m):"]
[null,null,"Konstrukce komunikací:(328,40-10,00-130,00)*0,80",null,150.72,null,null,null,null,null,null,null,"Konstrukce komunikací:(328,40-10,00-130,00)*0,80"]
[3,"114211101R00","Odstranění betonových trub do DN 150 mm, ve výkopu ","m",80.5,null,{"$f":"E22*F22","v":0},0,{"$f":"E22*H22","v":0},-0.04,{"$f":"E22*J22","v":-3.22},null,null,null,2,null,null,null,null,null,null,null,null,null,null,null,1,1,1,null,null,null,null,null,null,null,null,null,null,null,null,null,null,null,null,null,null,null,null,null,null,1,{"$f":"IF(AZ22=1,G22,0)","v":0},{"$f":"IF(AZ22=2,G22,0)","v":0},{"$f":"IF(AZ22=3,G22,0)","v":0},{"$f":"IF(AZ22=4,G22,0)","v":0},{"$f":"IF(AZ22=5,G22,0)","v":0},null,null,null,null,null,null,null,null,null,null,null,null,null,null,null,null,null,null,null,null,null,1,1]
[null,null,"Položka obsahuje odstranění materiálu obklopujícího potrubí v míře nutné pro vyzvednutí, rozpojení trub, uchopení a vyzvednutí trub z výkopu a uložení na dopravní prostředek včetně odvozu na skládku zhotovitele a poplatek za skládku.",null,null,null,null,null,null,null,null,"Položka obsahuje odstranění materiálu obklopujícího potrubí v míře nutné pro vyzvednutí, rozpojení trub, uchopení a vyzvednutí trub z výkopu a uložení na dopravní prostředek včetně odvozu na skládku zhotovitele a poplatek za skládku.",null,null,3]
[null,null,"KP KT DN150 (3 kusy):12,00",null,12,null,null,null,null,null,null,null,"KP KT DN150 (3 kusy):12,00"]
[null,null,"KP PVC DN150 (10 kusů):68,50",null,68.5,null,null,null,null,null,null,null,"KP PVC DN150 (10 kusů):68,50"]
[4,"115101201RRX","Přečerpávání nebo převedení splašků a dešť. vod ","h",130,null,{"$f":"E26*F26","v":0},0,{"$f":"E26*H26","v":0},0,{"$f":"E26*J26","v":0},null,null,null,2,null,null,null,null,null,null,null,null,null,null,null,1,1,1,null,null,null,null,null,null,null,null,null,null,null,null,null,null,null,null,null,null,null,null,null,null,1,{"$f":"IF(AZ26=1,G26,0)","v":0},{"$f":"IF(AZ26=2,G26,0)","v":0},{"$f":"IF(AZ26=3,G26,0)","v":0},{"$f":"IF(AZ26=4,G26,0)","v":0},{"$f":"IF(AZ26=5,G26,0)","v":0},null,null,null,null,null,null,null,null,null,null,null,null,null,null,null,null,null,null,null,null,null,1,1]
[null,null,"Převedení a čerpání splašků nebo dešťových vod dle zvolené technologie zhotovitele stavby.",null,null,null,null,null,null,null,null,"Převedení a čerpání splašků nebo dešťových vod dle zvolené technologie zhotovitele stavby.",null,null,3]
[null,null,"(Množství bude určeno na stavbě dle skutečnosti)",null,null,null,null,null,null,null,null,"(Množství bude určeno na stavbě dle skutečnosti)",null,null,3]
[5,"119001401R00","Dočasné zajištění ocelového potrubí do DN 200 mm ","m",42.6,null,{"$f":"E29*F29","v":0},8.6899999999999998E-3,{"$f":"E29*H29","v":0.37019400000000002},0,{"$f":"E29*J29","v":0},null,null,null,2,null,null,null,null,null,null,null,null,null,null,null,1,1,1,null,null,null,null,null,null,null,null,null,null,null,null,null,null,null,null,null,null,null,null,null,null,1,{"$f":"IF(AZ29=1,G29,0)","v":0},{"$f":"IF(AZ29=2,G29,0)","v":0},{"$f":"IF(AZ29=3,G29,0)","v":0},{"$f":"IF(AZ29=4,G29,0)","v":0},{"$f":"IF(AZ29=5,G29,0)","v":0},null,null,null,null,null,null,null,null,null,null,null,null,null,null,null,null,null,null,null,null,null,1,1]
[6,"119001422R00","Dočasné zajištění kabelů - v počtu 3 - 6 kabelů ","m",59.6,null,{"$f":"E30*F30","v":0},3.9739999999999998E-2,{"$f":"E30*H30","v":2.3685039999999997},0,{"$f":"E30*J30","v":0},null,null,null,2,null,null,null,null,null,null,null,null,null,null,null,1,1,1,null,null,null,null,null,null,null,null,null,null,null,null,null,null,null,null,null,null,null,null,null,null,1,{"$f":"IF(AZ30=1,G30,0)","v":0},{"$f":"IF(AZ30=2,G30,0)","v":0},{"$f":"IF(AZ30=3,G30,0)","v":0},{"$f":"IF(AZ30=4,G30,0)","v":0},{"$f":"IF(AZ30=5,G30,0)","v":0},null,null,null,null,null,null,null,null,null,null,null,null,null,null,null,null,null,null,null,null,null,1,1]
[7,"121100002RAA","Sejmutí ornice a uložení na deponii zpětný přesun, rozprostření v tl. 20 cm, osetí","m3",52,null,{"$f":"E31*F31","v":0},0,{"$f":"E31*H31","v":0},0,{"$f":"E31*J31","v":0},null,null,null,2,null,null,null,null,null,null,null,null,null,null,null,1,1,1,null,null,null,null,null,null,null,null,null,null,null,null,null,null,null,null,null,null,null,null,null,null,1,{"$f":"IF(AZ31=1,G31,0)","v":0},{"$f":"IF(AZ31=2,G31,0)","v":0},{"$f":"IF(AZ31=3,G31,0)","v":0},{"$f":"IF(AZ31=4,G31,0)","v":0},{"$f":"IF(AZ31=5,G31,0)","v":0},null,null,null,null,null,null,null,null,null,null,null,null,null,null,null,null,null,null,null,null,null,1,1]
[null,null,"VP PE D32x3,0 mm (17 kusů):",null,0,null,null,null,null,null,null,null,"VP PE D32x3,0 mm (17 kusů):"]
[null,null,"VP PE D 40x3,7 mm (1 kus):",null,0,null,null,null,null,null,null,null,"VP PE D 40x3,7 mm (1 kus):"]
[null,null,"VP PE D 63x5,8 mm (2 kusy):",null,0,null,null,null,null,null,null,null,"VP PE D 63x5,8 mm (2 kusy):"]
[null,null,"Pro VP:10,00*2,00*0,20",null,4,null,null,null,null,null,null,null,"Pro VP:10,00*2,00*0,20"]
[null,null,"KP KT DN150 (3 kusy):",null,0,null,null,null,null,null,null,null,"KP KT DN150 (3 kusy):"]
[null,null,"KP PVC DN150 (9 kusů):",null,0,null,null,null,null,null,null,null,"KP PVC DN150 (9 kusů):"]
[null,null,"Pro KP:120,00*2,00*0,20",null,48,null,null,null,null,null,null,null,"Pro KP:120,00*2,00*0,20"]
[8,"130001101RRX","Příplatek za ztížené hloubení v blízkosti vedení ","m3",87.219399999999993,null,{"$f":"E39*F39","v":0},0,{"$f":"E39*H39","v":0},0,{"$f":"E39*J39","v":0},null,null,null,2,null,null,null,null,null,null,null,null,null,null,null,1,1,1,null,null,null,null,null,null,null,null,null,null,null,null,null,null,null,null,null,null,null,null,null,null,1,{"$f":"IF(AZ39=1,G39,0)","v":0},{"$f":"IF(AZ39=2,G39,0)","v":0},{"$f":"IF(AZ39=3,G39,0)","v":0},{"$f":"IF(AZ39=4,G39,0)","v":0},{"$f":"IF(AZ39=5,G39,0)","v":0},null,null,null,null,null,null,null,null,null,null,null,null,null,null,null,null,null,null,null,null,null,1,1]
[null,null,"Včetně případných nutných dokopávem a ručního výkopu podél sousedících inženýrských sítí",null,null,null,null,null,null,null,null,"Včetně případných nutných dokopávem a ručního výkopu podél sousedících inženýrských sítí",null,null,3]
[null,null,"Začátek provozního součtu",null,0,null,null,null,null,null,null,null,"Začátek provozního součtu"]
[null,null,"KP KT DN150 (3 kusy) (průměrná hloubka výkopu 2,00 m):12,00*0,80*2,00",null,19.2,null,null,null,null,null,null,null,"KP KT DN150 (3 kusy) (průměrná hloubka výkopu 2,00 m):12,00*0,80*2,00"]
[null,null,"KP PVC DN150 (10 kusů) (průměrná hloubka výkopu 2,00 m):153,90*0,80*2,00",null,246.24,null,null,null,null,null,null,null,"KP PVC DN150 (10 kusů) (průměrná hloubka výkopu 2,00 m):153,90*0,80*2,00"]
[null,null,"VP PE D32x3,0 mm (17 kusů) (průměrná hloubka výkopu 1,65 m):141,80*0,80*1,65",null,187.17599999999999,null,null,null,null,null,null,null,"VP PE D32x3,0 mm (17 kusů) (průměrná hloubka výkopu 1,65 m):141,80*0,80*1,65"]
[null,null,"VP PE D 40x3,7 mm (1 kus) (průměrná hloubka výkopu 1,65 m):5,20*0,80*1,65",null,6.8639999999999999,null,null,null,null,null,null,null,"VP PE D 40x3,7 mm (1 kus) (průměrná hloubka výkopu 1,65 m):5,20*0,80*1,65"]
[null,null,"VP PE D 63x5,8 mm (2 kusy) (průměrná hloubka výkopu 1,65 m):15,50*0,80*1,65",null,20.46,null,null,null,null,null,null,null,"VP PE D 63x5,8 mm (2 kusy) (průměrná hloubka výkopu 1,65 m):15,50*0,80*1,65"]
[null,null,"Odpočet konstrukce komunikací:-(328,40-10,00-130,00)*0,80*0,40",null,-60.287999999999997,null,null,null,null,null,null,null,"Odpočet konstrukce komunikací:-(328,40-10,00-130,00)*0,80*0,40"]
[null,null,"Odpočet konstrukce chodníků:-10,00*0,80*0,30",null,-2.4,null,null,null,null,null,null,null,"Odpočet konstrukce chodníků:-10,00*0,80*0,30"]
[null,null,"Odpočet ornice:-130,00*0,80*0,20",null,-20.8,null,null,null,null,null,null,null,"Odpočet ornice:-130,00*0,80*0,20"]
[null,null,"Konec provozního součtu",null,396.45199999999994,null,null,null,null,null,null,null,"Konec provozního součtu"]
[null,null,"V hornině tř. 3 - 5 - 22%:396,4520*0,22",null,87.219399999999993,null,null,null,null,null,null,null,"V hornině tř. 3 - 5 - 22%:396,4520*0,22"]
[9,"132201212R00","Hloubení rýh š.do 200 cm hor.3 do 1000m3,STROJNĚ ","m3",178.4034,null,{"$f":"E52*F52","v":0},0,{"$f":"E52*H52","v":0},0,{"$f":"E52*J52","v":0},null,null,null,2,null,null,null,null,null,null,null,null,null,null,null,1,1,1,null,null,null,null,null,null,null,null,null,null,null,null,null,null,null,null,null,null,null,null,null,null,1,{"$f":"IF(AZ52=1,G52,0)","v":0},{"$f":"IF(AZ52=2,G52,0)","v":0},{"$f":"IF(AZ52=3,G52,0)","v":0},{"$f":"IF(AZ52=4,G52,0)","v":0},{"$f":"IF(AZ52=5,G52,0)","v":0},null,null,null,null,null,null,null,null,null,null,null,null,null,null,null,null,null,null,null,null,null,1,1]
[null,null,"Položka obsahuje hloubení rýh traktorbagrem, naložení výkopku na dopravní prostředek pro svislé, nebo vodorovné přemístění, popř. přemístění výkopku do 3 m (po povrchu území), případné zajištění rypadel polštáři, udržování pracoviště a ochranu výkopiště proti stékání srážkové vody z okolního terénu i s jejím odvodněním, nebo odvedením, přesekání a odstranění kořenů ve výkopišti, odstranění napadávek, urovnání dna výkopu.",null,null,null,null,null,null,null,null,"Položka obsahuje hloubení rýh traktorbagrem, naložení výkopku na dopravní prostředek pro svislé, nebo vodorovné přemístění, popř. přemístění výkopku do 3 m (po povrchu území), případné zajištění rypadel polštáři, udržování pracoviště a ochranu výkopiště proti stékání srážkové vody z okolního terénu i s jejím odvodněním, nebo odvedením, přesekání a odstranění kořenů ve výkopišti, odstranění napadávek, urovnání dna výkopu.",null,null,3]
[null,null,"Začátek provozního součtu",null,0,null,null,null,null,null,null,null,"Začátek provozního součtu"]
[null,null,"KP KT DN150 (3 kusy) (průměrná hloubka výkopu 2,00 m):12,00*0,80*2,00",null,19.2,null,null,null,null,null,null,null,"KP KT DN150 (3 kusy) (průměrná hloubka výkopu 2,00 m):12,00*0,80*2,00"]
[null,null,"KP PVC DN150 (10 kusů) (průměrná hloubka výkopu 2,00 m):153,90*0,80*2,00",null,246.24,null,null,null,null,null,null,null,"KP PVC DN150 (10 kusů) (průměrná hloubka výkopu 2,00 m):153,90*0,80*2,00"]
[null,null,"VP PE D32x3,0 mm (17 kusů) (průměrná hloubka výkopu 1,65 m):141,80*0,80*1,65",null,187.17599999999999,null,null,null,null,null,null,null,"VP PE D32x3,0 mm (17 kusů) (průměrná hloubka výkopu 1,65 m):141,80*0,80*1,65"]
[null,null,"VP PE D 40x3,7 mm (1 kus) (průměrná hloubka výkopu 1,65 m):5,20*0,80*1,65",null,6.8639999999999999,null,null,null,null,null,null,null,"VP PE D 40x3,7 mm (1 kus) (průměrná hloubka výkopu 1,65 m):5,20*0,80*1,65"]
[null,null,"VP PE D 63x5,8 mm (2 kusy) (průměrná hloubka výkopu 1,65 m):15,50*0,80*1,65",null,20.46,null,null,null,null,null,null,null,"VP PE D 63x5,8 mm (2 kusy) (průměrná hloubka výkopu 1,65 m):15,50*0,80*1,65"]
[null,null,"Odpočet konstrukce komunikací:-(328,40-10,00-130,00)*0,80*0,40",null,-60.287999999999997,null,null,null,null,null,null,null,"Odpočet konstrukce komunikací:-(328,40-10,00-130,00)*0,80*0,40"]
[null,null,"Odpočet konstrukce chodníků:-10,00*0,80*0,30",null,-2.4,null,null,null,null,null,null,null,"Odpočet konstrukce chodníků:-10,00*0,80*0,30"]
[null,null,"Odpočet ornice:-130,00*0,80*0,20",null,-20.8,null,null,null,null,null,null,null,"Odpočet ornice:-130,00*0,80*0,20"]
[null,null,"Konec provozního součtu",null,396.45199999999994,null,null,null,null,null,null,null,"Konec provozního součtu"]
[null,null,"V hornině tř. 3 - 45%:396,4520*0,45",null,178.4034,null,null,null,null,null,null,null,"V hornině tř. 3 - 45%:396,4520*0,45"]
[10,"132201219R00","Přípl.za lepivost,hloubení rýh 200cm,hor.3,STROJNĚ ","m3",89.201700000000002,null,{"$f":"E65*F65","v":0},0,{"$f":"E65*H65","v":0},0,{"$f":"E65*J65","v":0},null,null,null,2,null,null,null,null,null,null,null,null,null,null,null,1,1,1,null,null,null,null,null,null,null,null,null,null,null,null,null,null,null,null,null,null,null,null,null,null,1,{"$f":"IF(AZ65=1,G65,0)","v":0},{"$f":"IF(AZ65=2,G65,0)","v":0},{"$f":"IF(AZ65=3,G65,0)","v":0},{"$f":"IF(AZ65=4,G65,0)","v":0},{"$f":"IF(AZ65=5,G65,0)","v":0},null,null,null,null,null,null,null,null,null,null,null,null,null,null,null,null,null,null,null,null,null,1,1]
[null,null,"Začátek provozního součtu",null,0,null,null,null,null,null,null,null,"Začátek provozního součtu"]
[null,null,"KP KT DN150 (3 kusy) (průměrná hloubka výkopu 2,00 m):12,00*0,80*2,00",null,19.2,null,null,null,null,null,null,null,"KP KT DN150 (3 kusy) (průměrná hloubka výkopu 2,00 m):12,00*0,80*2,00"]
[null,null,"KP PVC DN150 (10 kusů) (průměrná hloubka výkopu 2,00 m):153,90*0,80*2,00",null,246.24,null,null,null,null,null,null,null,"KP PVC DN150 (10 kusů) (průměrná hloubka výkopu 2,00 m):153,90*0,80*2,00"]
[null,null,"VP PE D32x3,0 mm (17 kusů) (průměrná hloubka výkopu 1,65 m):141,80*0,80*1,65",null,187.17599999999999,null,null,null,null,null,null,null,"VP PE D32x3,0 mm (17 kusů) (průměrná hloubka výkopu 1,65 m):141,80*0,80*1,65"]
[null,null,"VP PE D 40x3,7 mm (1 kus) (průměrná hloubka výkopu 1,65 m):5,20*0,80*1,65",null,6.8639999999999999,null,null,null,null,null,null,null,"VP PE D 40x3,7 mm (1 kus) (průměrná hloubka výkopu 1,65 m):5,20*0,80*1,65"]
[null,null,"VP PE D 63x5,8 mm (2 kusy) (průměrná hloubka výkopu 1,65 m):15,50*0,80*1,65",null,20.46,null,null,null,null,null,null,null,"VP PE D 63x5,8 mm (2 kusy) (průměrná hloubka výkopu 1,65 m):15,50*0,80*1,65"]
[null,null,"Odpočet konstrukce komunikací:-(328,40-10,00-130,00)*0,80*0,40",null,-60.287999999999997,null,null,null,null,null,null,null,"Odpočet konstrukce komunikací:-(328,40-10,00-130,00)*0,80*0,40"]
[null,null,"Odpočet konstrukce chodníků:-10,00*0,80*0,30",null,-2.4,null,null,null,null,null,null,null,"Odpočet konstrukce chodníků:-10,00*0,80*0,30"]
[null,null,"Odpočet ornice:-130,00*0,80*0,20",null,-20.8,null,null,null,null,null,null,null,"Odpočet ornice:-130,00*0,80*0,20"]
[null,null,"Konec provozního součtu",null,396.45199999999994,null,null,null,null,null,null,null,"Konec provozního součtu"]
[null,null,"V hornině tř. 3 - 45%:396,4520*0,45*0,5",null,89.201700000000002,null,null,null,null,null,null,null,"V hornině tř. 3 - 45%:396,4520*0,45*0,5"]
[11,"132301212R00","Hloubení rýh š.do 200 cm hor.4 do 1000 m3, STROJNĚ ","m3",178.4034,null,{"$f":"E77*F77","v":0},0,{"$f":"E77*H77","v":0},0,{"$f":"E77*J77","v":0},null,null,null,2,null,null,null,null,null,null,null,null,null,null,null,1,1,1,null,null,null,null,null,null,null,null,null,null,null,null,null,null,null,null,null,null,null,null,null,null,1,{"$f":"IF(AZ77=1,G77,0)","v":0},{"$f":"IF(AZ77=2,G77,0)","v":0},{"$f":"IF(AZ77=3,G77,0)","v":0},{"$f":"IF(AZ77=4,G77,0)","v":0},{"$f":"IF(AZ77=5,G77,0)","v":0},null,null,null,null,null,null,null,null,null,null,null,null,null,null,null,null,null,null,null,null,null,1,1]
[null,null,"Položka obsahuje hloubení rýh traktorbagrem, naložení výkopku na dopravní prostředek pro svislé, nebo vodorovné přemístění, popř. přemístění výkopku do 3 m (po povrchu území), případné zajištění rypadel polštáři, udržování pracoviště a ochranu výkopiště proti stékání srážkové vody z okolního terénu i s jejím odvodněním, nebo odvedením, přesekání a odstranění kořenů ve výkopišti, odstranění napadávek, urovnání dna výkopu.",null,null,null,null,null,null,null,null,"Položka obsahuje hloubení rýh traktorbagrem, naložení výkopku na dopravní prostředek pro svislé, nebo vodorovné přemístění, popř. přemístění výkopku do 3 m (po povrchu území), případné zajištění rypadel polštáři, udržování pracoviště a ochranu výkopiště proti stékání srážkové vody z okolního terénu i s jejím odvodněním, nebo odvedením, přesekání a odstranění kořenů ve výkopišti, odstranění napadávek, urovnání dna výkopu.",null,null,3]
[null,null,"Začátek provozního součtu",null,0,null,null,null,null,null,null,null,"Začátek provozního součtu"]
[null,null,"KP KT DN150 (3 kusy) (průměrná hloubka výkopu 2,00 m):12,00*0,80*2,00",null,19.2,null,null,null,null,null,null,null,"KP KT DN150 (3 kusy) (průměrná hloubka výkopu 2,00 m):12,00*0,80*2,00"]
[null,null,"KP PVC DN150 (10 kusů) (průměrná hloubka výkopu 2,00 m):153,90*0,80*2,00",null,246.24,null,null,null,null,null,null,null,"KP PVC DN150 (10 kusů) (průměrná hloubka výkopu 2,00 m):153,90*0,80*2,00"]
[null,null,"VP PE D32x3,0 mm (17 kusů) (průměrná hloubka výkopu 1,65 m):141,80*0,80*1,65",null,187.17599999999999,null,null,null,null,null,null,null,"VP PE D32x3,0 mm (17 kusů) (průměrná hloubka výkopu 1,65 m):141,80*0,80*1,65"]
[null,null,"VP PE D 40x3,7 mm (1 kus) (průměrná hloubka výkopu 1,65 m):5,20*0,80*1,65",null,6.8639999999999999,null,null,null,null,null,null,null,"VP PE D 40x3,7 mm (1 kus) (průměrná hloubka výkopu 1,65 m):5,20*0,80*1,65"]
[null,null,"VP PE D 63x5,8 mm (2 kusy) (průměrná hloubka výkopu 1,65 m):15,50*0,80*1,65",null,20.46,null,null,null,null,null,null,null,"VP PE D 63x5,8 mm (2 kusy) (průměrná hloubka výkopu 1,65 m):15,50*0,80*1,65"]
[null,null,"Odpočet konstrukce komunikací:-(328,40-10,00-130,00)*0,80*0,40",null,-60.287999999999997,null,null,null,null,null,null,null,"Odpočet konstrukce komunikací:-(328,40-10,00-130,00)*0,80*0,40"]
[null,null,"Odpočet konstrukce chodníků:-10,00*0,80*0,30",null,-2.4,null,null,null,null,null,null,null,"Odpočet konstrukce chodníků:-10,00*0,80*0,30"]
[null,null,"Odpočet ornice:-130,00*0,80*0,20",null,-20.8,null,null,null,null,null,null,null,"Odpočet ornice:-130,00*0,80*0,20"]
[null,null,"Konec provozního součtu",null,396.45199999999994,null,null,null,null,null,null,null,"Konec provozního součtu"]
[null,null,"V hornině tř. 4 - 45%:396,4520*0,45",null,178.4034,null,null,null,null,null,null,null,"V hornině tř. 4 - 45%:396,4520*0,45"]
[12,"132301219R00","Přípl.za lepivost,hloubení rýh 200cm,hor.4,STROJNĚ ","m3",89.201700000000002,null,{"$f":"E90*F90","v":0},0,{"$f":"E90*H90","v":0},0,{"$f":"E90*J90","v":0},null,null,null,2,null,null,null,null,null,null,null,null,null,null,null,1,1,1,null,null,null,null,null,null,null,null,null,null,null,null,null,null,null,null,null,null,null,null,null,null,1,{"$f":"IF(AZ90=1,G90,0)","v":0},{"$f":"IF(AZ90=2,G90,0)","v":0},{"$f":"IF(AZ90=3,G90,0)","v":0},{"$f":"IF(AZ90=4,G90,0)","v":0},{"$f":"IF(AZ90=5,G90,0)","v":0},null,null,null,null,null,null,null,null,null,null,null,null,null,null,null,null,null,null,null,null,null,1,1]
[null,null,"Začátek provozního součtu",null,0,null,null,null,null,null,null,null,"Začátek provozního součtu"]
[null,null,"KP KT DN150 (3 kusy) (průměrná hloubka výkopu 2,00 m):12,00*0,80*2,00",null,19.2,null,null,null,null,null,null,null,"KP KT DN150 (3 kusy) (průměrná hloubka výkopu 2,00 m):12,00*0,80*2,00"]
[null,null,"KP PVC DN150 (10 kusů) (průměrná hloubka výkopu 2,00 m):153,90*0,80*2,00",null,246.24,null,null,null,null,null,null,null,"KP PVC DN150 (10 kusů) (průměrná hloubka výkopu 2,00 m):153,90*0,80*2,00"]
[null,null,"VP PE D32x3,0 mm (17 kusů) (průměrná hloubka výkopu 1,65 m):141,80*0,80*1,65",null,187.17599999999999,null,null,null,null,null,null,null,"VP PE D32x3,0 mm (17 kusů) (průměrná hloubka výkopu 1,65 m):141,80*0,80*1,65"]
[null,null,"VP PE D 40x3,7 mm (1 kus) (průměrná hloubka výkopu 1,65 m):5,20*0,80*1,65",null,6.8639999999999999,null,null,null,null,null,null,null,"VP PE D 40x3,7 mm (1 kus) (průměrná hloubka výkopu 1,65 m):5,20*0,80*1,65"]
[null,null,"VP PE D 63x5,8 mm (2 kusy) (průměrná hloubka výkopu 1,65 m):15,50*0,80*1,65",null,20.46,null,null,null,null,null,null,null,"VP PE D 63x5,8 mm (2 kusy) (průměrná hloubka výkopu 1,65 m):15,50*0,80*1,65"]
[null,null,"Odpočet konstrukce komunikací:-(328,40-10,00-130,00)*0,80*0,40",null,-60.287999999999997,null,null,null,null,null,null,null,"Odpočet konstrukce komunikací:-(328,40-10,00-130,00)*0,80*0,40"]
[null,null,"Odpočet konstrukce chodníků:-10,00*0,80*0,30",null,-2.4,null,null,null,null,null,null,null,"Odpočet konstrukce chodníků:-10,00*0,80*0,30"]
[null,null,"Odpočet ornice:-130,00*0,80*0,20",null,-20.8,null,null,null,null,null,null,null,"Odpočet ornice:-130,00*0,80*0,20"]
[null,null,"Konec provozního součtu",null,396.45199999999994,null,null,null,null,null,null,null,"Konec provozního součtu"]
[null,null,"V hornině tř. 4 - 45%:396,4520*0,45*0,5",null,89.201700000000002,null,null,null,null,null,null,null,"V hornině tř. 4 - 45%:396,4520*0,45*0,5"]
[13,"132401211R00","Hloubení rýh šířky do 200 cm v hor.5, STROJNĚ ","m3",39.645200000000003,null,{"$f":"E102*F102","v":0},0,{"$f":"E102*H102","v":0},0,{"$f":"E102*J102","v":0},null,null,null,2,null,null,null,null,null,null,null,null,null,null,null,1,1,1,null,null,null,null,null,null,null,null,null,null,null,null,null,null,null,null,null,null,null,null,null,null,1,{"$f":"IF(AZ102=1,G102,0)","v":0},{"$f":"IF(AZ102=2,G102,0)","v":0},{"$f":"IF(AZ102=3,G102,0)","v":0},{"$f":"IF(AZ102=4,G102,0)","v":0},{"$f":"IF(AZ102=5,G102,0)","v":0},null,null,null,null,null,null,null,null,null,null,null,null,null,null,null,null,null,null,null,null,null,1,1]
[null,null,"Položka obsahuje hloubení jámy kolovým rypadlem s rozrývacím zubem, naložení výkopku na dopravní prostředek pro svislé, nebo vodorovné přemístění, popř. přemístění výkopku do 3 m (po povrchu území), případné zajištění rypadel polštáři, udržování pracoviště a ochranu výkopiště proti stékání srážkové vody z okolního terénu i s jejím odvodněním, nebo odvedením, přesekání a odstranění kořenů ve výkopišti, odstranění napadávek, urovnání dna výkopu. Položka se používá bez ohledu na těžené množství.",null,null,null,null,null,null,null,null,"Položka obsahuje hloubení jámy kolovým rypadlem s rozrývacím zubem, naložení výkopku na dopravní prostředek pro svislé, nebo vodorovné přemístění, popř. přemístění výkopku do 3 m (po povrchu území), případné zajištění rypadel polštáři, udržování pracoviště a ochranu výkopiště proti stékání srážkové vody z okolního terénu i s jejím odvodněním, nebo odvedením, přesekání a odstranění kořenů ve výkopišti, odstranění napadávek, urovnání dna výkopu. Položka se používá bez ohledu na těžené množství.",null,null,3]
[null,null,"Začátek provozního součtu",null,0,null,null,null,null,null,null,null,"Začátek provozního součtu"]
[null,null,"KP KT DN150 (3 kusy) (průměrná hloubka výkopu 2,00 m):12,00*0,80*2,00",null,19.2,null,null,null,null,null,null,null,"KP KT DN150 (3 kusy) (průměrná hloubka výkopu 2,00 m):12,00*0,80*2,00"]
[null,null,"KP PVC DN150 (10 kusů) (průměrná hloubka výkopu 2,00 m):153,90*0,80*2,00",null,246.24,null,null,null,null,null,null,null,"KP PVC DN150 (10 kusů) (průměrná hloubka výkopu 2,00 m):153,90*0,80*2,00"]
[null,null,"VP PE D32x3,0 mm (17 kusů) (průměrná hloubka výkopu 1,65 m):141,80*0,80*1,65",null,187.17599999999999,null,null,null,null,null,null,null,"VP PE D32x3,0 mm (17 kusů) (průměrná hloubka výkopu 1,65 m):141,80*0,80*1,65"]
[null,null,"VP PE D 40x3,7 mm (1 kus) (průměrná hloubka výkopu 1,65 m):5,20*0,80*1,65",null,6.8639999999999999,null,null,null,null,null,null,null,"VP PE D 40x3,7 mm (1 kus) (průměrná hloubka výkopu 1,65 m):5,20*0,80*1,65"]
[null,null,"VP PE D 63x5,8 mm (2 kusy) (průměrná hloubka výkopu 1,65 m):15,50*0,80*1,65",null,20.46,null,null,null,null,null,null,null,"VP PE D 63x5,8 mm (2 kusy) (průměrná hloubka výkopu 1,65 m):15,50*0,80*1,65"]
[null,null,"Odpočet konstrukce komunikací:-(328,40-10,00-130,00)*0,80*0,40",null,-60.287999999999997,null,null,null,null,null,null,null,"Odpočet konstrukce komunikací:-(328,40-10,00-130,00)*0,80*0,40"]
[null,null,"Odpočet konstrukce chodníků:-10,00*0,80*0,30",null,-2.4,null,null,null,null,null,null,null,"Odpočet konstrukce chodníků:-10,00*0,80*0,30"]
[null,null,"Odpočet ornice:-130,00*0,80*0,20",null,-20.8,null,null,null,null,null,null,null,"Odpočet ornice:-130,00*0,80*0,20"]
[null,null,"Konec provozního součtu",null,396.45199999999994,null,null,null,null,null,null,null,"Konec provozního součtu"]
[null,null,"V hornině tř. 5 - 45%:396,4520*0,1",null,39.645200000000003,null,null,null,null,null,null,null,"V hornině tř. 5 - 45%:396,4520*0,1"]
[14,"151101101R00","Pažení a rozepření stěn rýh - příložné - hl.do 2 m ","m2",1199.8499999999999,null,{"$f":"E115*F115","v":0},9.8999999999999999E-4,{"$f":"E115*H115","v":1.1878514999999998},0,{"$f":"E115*J115","v":0},null,null,null,2,null,null,null,null,null,null,null,null,null,null,null,1,1,1,null,null,null,null,null,null,null,null,null,null,null,null,null,null,null,null,null,null,null,null,null,null,1,{"$f":"IF(AZ115=1,G115,0)","v":0},{"$f":"IF(AZ115=2,G115,0)","v":0},{"$f":"IF(AZ115=3,G115,0)","v":0},{"$f":"IF(AZ115=4,G115,0)","v":0},{"$f":"IF(AZ115=5,G115,0)","v":0},null,null,null,null,null,null,null,null,null,null,null,null,null,null,null,null,null,null,null,null,null,1,1]
[null,null,"KP KT DN150 (3 kusy) (průměrná hloubka výkopu 2,00 m):12,00*2,00*2",null,48,null,null,null,null,null,null,null,"KP KT DN150 (3 kusy) (průměrná hloubka výkopu 2,00 m):12,00*2,00*2"]
[null,null,"KP PVC DN150 (10 kusů) (průměrná hloubka výkopu 2,00 m):153,90*2,00*2",null,615.6,null,null,null,null,null,null,null,"KP PVC DN150 (10 kusů) (průměrná hloubka výkopu 2,00 m):153,90*2,00*2"]
[null,null,"VP PE D32x3,0 mm (17 kusů) (průměrná hloubka výkopu 1,65 m):141,80*1,65*2",null,467.94,null,null,null,null,null,null,null,"VP PE D32x3,0 mm (17 kusů) (průměrná hloubka výkopu 1,65 m):141,80*1,65*2"]
[null,null,"VP PE D 40x3,7 mm (1 kus) (průměrná hloubka výkopu 1,65 m):5,20*1,65*2",null,17.16,null,null,null,null,null,null,null,"VP PE D 40x3,7 mm (1 kus) (průměrná hloubka výkopu 1,65 m):5,20*1,65*2"]
[null,null,"VP PE D 63x5,8 mm (2 kusy) (průměrná hloubka výkopu 1,65 m):15,50*1,65*2",null,51.15,null,null,null,null,null,null,null,"VP PE D 63x5,8 mm (2 kusy) (průměrná hloubka výkopu 1,65 m):15,50*1,65*2"]
[15,"151101111R00","Odstranění pažení stěn rýh - příložné - hl. do 2 m ","m2",1199.8499999999999,null,{"$f":"E121*F121","v":0},0,{"$f":"E121*H121","v":0},0,{"$f":"E121*J121","v":0},null,null,null,2,null,null,null,null,null,null,null,null,null,null,null,1,1,1,null,null,null,null,null,null,null,null,null,null,null,null,null,null,null,null,null,null,null,null,null,null,1,{"$f":"IF(AZ121=1,G121,0)","v":0},{"$f":"IF(AZ121=2,G121,0)","v":0},{"$f":"IF(AZ121=3,G121,0)","v":0},{"$f":"IF(AZ121=4,G121,0)","v":0},{"$f":"IF(AZ121=5,G121,0)","v":0},null,null,null,null,null,null,null,null,null,null,null,null,null,null,null,null,null,null,null,null,null,1,1]
[null,null,"KP KT DN150 (3 kusy) (průměrná hloubka výkopu 2,00 m):12,00*2,00*2",null,48,null,null,null,null,null,null,null,"KP KT DN150 (3 kusy) (průměrná hloubka výkopu 2,00 m):12,00*2,00*2"]
[null,null,"KP PVC DN150 (10 kusů) (průměrná hloubka výkopu 2,00 m):153,90*2,00*2",null,615.6,null,null,null,null,null,null,null,"KP PVC DN150 (10 kusů) (průměrná hloubka výkopu 2,00 m):153,90*2,00*2"]
[null,null,"VP PE D32x3,0 mm (17 kusů) (průměrná hloubka výkopu 1,65 m):141,80*1,65*2",null,467.94,null,null,null,null,null,null,null,"VP PE D32x3,0 mm (17 kusů) (průměrná hloubka výkopu 1,65 m):141,80*1,65*2"]
[null,null,"VP PE D 40x3,7 mm (1 kus) (průměrná hloubka výkopu 1,65 m):5,20*1,65*2",null,17.16,null,null,null,null,null,null,null,"VP PE D 40x3,7 mm (1 kus) (průměrná hloubka výkopu 1,65 m):5,20*1,65*2"]
[null,null,"VP PE D 63x5,8 mm (2 kusy) (průměrná hloubka výkopu 1,65 m):15,50*1,65*2",null,51.15,null,null,null,null,null,null,null,"VP PE D 63x5,8 mm (2 kusy) (průměrná hloubka výkopu 1,65 m):15,50*1,65*2"]
[16,"162701105RSZ","Vodorovné přemístění výkopku z hor.1-4 na skládku zhotovitele","m3",270.16399999999999,null,{"$f":"E127*F127","v":0},0,{"$f":"E127*H127","v":0},0,{"$f":"E127*J127","v":0},null,null,null,2,null,null,null,null,null,null,null,null,null,null,null,1,1,1,null,null,null,null,null,null,null,null,null,null,null,null,null,null,null,null,null,null,null,null,null,null,1,{"$f":"IF(AZ127=1,G127,0)","v":0},{"$f":"IF(AZ127=2,G127,0)","v":0},{"$f":"IF(AZ127=3,G127,0)","v":0},{"$f":"IF(AZ127=4,G127,0)","v":0},{"$f":"IF(AZ127=5,G127,0)","v":0},null,null,null,null,null,null,null,null,null,null,null,null,null,null,null,null,null,null,null,null,null,1,1]
[null,null,"Výkopy:",null,0,null,null,null,null,null,null,null,"Výkopy:"]
[null,null,"V hornině tř. 3 - 5:396,4520",null,396.452,null,null,null,null,null,null,null,"V hornině tř. 3 - 5:396,4520"]
[null,null,"Odpočet zásypů zeminou:-126,2880",null,-126.288,null,null,null,null,null,null,null,"Odpočet zásypů zeminou:-126,2880"]
[17,"174101101R00","Zásyp jam, rýh, šachet se zhutněním ","m3",266.87830000000002,null,{"$f":"E131*F131","v":0},0,{"$f":"E131*H131","v":0},0,{"$f":"E131*J131","v":0},null,null,null,2,null,null,null,null,null,null,null,null,null,null,null,1,1,1,null,null,null,null,null,null,null,null,null,null,null,null,null,null,null,null,null,null,null,null,null,null,1,{"$f":"IF(AZ131=1,G131,0)","v":0},{"$f":"IF(AZ131=2,G131,0)","v":0},{"$f":"IF(AZ131=3,G131,0)","v":0},{"$f":"IF(AZ131=4,G131,0)","v":0},{"$f":"IF(AZ131=5,G131,0)","v":0},null,null,null,null,null,null,null,null,null,null,null,null,null,null,null,null,null,null,null,null,null,1,1]
[null,null,"Položka obsahuje strojní přemístění materiálu pro zásyp ze vzdálenosti do 10 m od okraje zásypu.",null,null,null,null,null,null,null,null,"Položka obsahuje strojní přemístění materiálu pro zásyp ze vzdálenosti do 10 m od okraje zásypu.",null,null,3]
[null,null,"Zásypy zeminou:126,2880",null,126.288,null,null,null,null,null,null,null,"Zásypy zeminou:126,2880"]
[null,null,"Začátek provozního součtu",null,0,null,null,null,null,null,null,null,"Začátek provozního součtu"]
[null,null,"Výkopy:",null,0,null,null,null,null,null,null,null,"Výkopy:"]
[null,null,"KP PVC DN150 (10 kusů) (průměrná hloubka výkopu 2,00 m):110,00*0,80*2,00",null,176,null,null,null,null,null,null,null,"KP PVC DN150 (10 kusů) (průměrná hloubka výkopu 2,00 m):110,00*0,80*2,00"]
[null,null,"VP PE D32x3,0 mm (17 kusů) (průměrná hloubka výkopu 1,65 m):20,00*0,80*1,65",null,26.4,null,null,null,null,null,null,null,"VP PE D32x3,0 mm (17 kusů) (průměrná hloubka výkopu 1,65 m):20,00*0,80*1,65"]
[null,null,"Odpočet ornice:-130,00*0,80*0,20",null,-20.8,null,null,null,null,null,null,null,"Odpočet ornice:-130,00*0,80*0,20"]
[null,null,"Odpočet lože potrubí a obsypů KP:",null,0,null,null,null,null,null,null,null,"Odpočet lože potrubí a obsypů KP:"]
[null,null,"KP PVC DN150 (10 kusů) (průměrná hloubka výkopu 2,00 m):-110,00*0,80*(0,10+0,15+0,30)",null,-48.4,null,null,null,null,null,null,null,"KP PVC DN150 (10 kusů) (průměrná hloubka výkopu 2,00 m):-110,00*0,80*(0,10+0,15+0,30)"]
[null,null,"VP PE D32x3,0 mm (17 kusů) (průměrná hloubka výkopu 1,65 m):-20,00*0,80*(0,10+0,032+0,30)",null,-6.9119999999999999,null,null,null,null,null,null,null,"VP PE D32x3,0 mm (17 kusů) (průměrná hloubka výkopu 1,65 m):-20,00*0,80*(0,10+0,032+0,30)"]
[null,null,"Konec provozního součtu",null,126.28799999999998,null,null,null,null,null,null,null,"Konec provozního součtu"]
[null,null,"Zásyp štěrkodrtí fr. 0-63 mm:140,5903",null,140.59030000000001,null,null,null,null,null,null,null,"Zásyp štěrkodrtí fr. 0-63 mm:140,5903"]
[null,null,"Začátek provozního součtu",null,0,null,null,null,null,null,null,null,"Začátek provozního součtu"]
[null,null,"KP KT DN150 (3 kusy) (průměrná hloubka výkopu 2,00 m):12,00*0,80*2,00",null,19.2,null,null,null,null,null,null,null,"KP KT DN150 (3 kusy) (průměrná hloubka výkopu 2,00 m):12,00*0,80*2,00"]
[null,null,"KP PVC DN150 (10 kusů) (průměrná hloubka výkopu 2,00 m):(153,90-110,00)*0,80*2,00",null,70.239999999999995,null,null,null,null,null,null,null,"KP PVC DN150 (10 kusů) (průměrná hloubka výkopu 2,00 m):(153,90-110,00)*0,80*2,00"]
[null,null,"VP PE D32x3,0 mm (17 kusů) (průměrná hloubka výkopu 1,65 m):(141,80-20,00)*0,80*1,65",null,160.77600000000001,null,null,null,null,null,null,null,"VP PE D32x3,0 mm (17 kusů) (průměrná hloubka výkopu 1,65 m):(141,80-20,00)*0,80*1,65"]
[null,null,"VP PE D 40x3,7 mm (1 kus) (průměrná hloubka výkopu 1,65 m):5,20*0,80*1,65",null,6.8639999999999999,null,null,null,null,null,null,null,"VP PE D 40x3,7 mm (1 kus) (průměrná hloubka výkopu 1,65 m):5,20*0,80*1,65"]
[null,null,"VP PE D 63x5,8 mm (2 kusy) (průměrná hloubka výkopu 1,65 m):15,50*0,80*1,65",null,20.46,null,null,null,null,null,null,null,"VP PE D 63x5,8 mm (2 kusy) (průměrná hloubka výkopu 1,65 m):15,50*0,80*1,65"]
[null,null,"Odpočet konstrukce komunikací:-(328,40-10,00-130,00)*0,80*0,40",null,-60.287999999999997,null,null,null,null,null,null,null,"Odpočet konstrukce komunikací:-(328,40-10,00-130,00)*0,80*0,40"]
[null,null,"Odpočet konstrukce chodníků:-10,00*0,80*0,30",null,-2.4,null,null,null,null,null,null,null,"Odpočet konstrukce chodníků:-10,00*0,80*0,30"]
[null,null,"Odpočet lože potrubí a obsypů KP:",null,0,null,null,null,null,null,null,null,"Odpočet lože potrubí a obsypů KP:"]
[null,null,"KP KT DN150 (3 kusy) (průměrná hloubka výkopu 2,00 m):-12,00*0,80*(0,10+0,15+0,30)",null,-5.28,null,null,null,null,null,null,null,"KP KT DN150 (3 kusy) (průměrná hloubka výkopu 2,00 m):-12,00*0,80*(0,10+0,15+0,30)"]
[null,null,"KP PVC DN150 (10 kusů) (průměrná hloubka výkopu 2,00 m):-(153,90-110,00)*0,80*(0,10+0,15+0,30)",null,-19.315999999999999,null,null,null,null,null,null,null,"KP PVC DN150 (10 kusů) (průměrná hloubka výkopu 2,00 m):-(153,90-110,00)*0,80*(0,10+0,15+0,30)"]
[null,null,"Odpočet lože, potrubí a obsypů VP:",null,0,null,null,null,null,null,null,null,"Odpočet lože, potrubí a obsypů VP:"]
[null,null,"VP PE D32x3,0 mm (17 kusů) (průměrná hloubka výkopu 1,65 m):-(141,80-20,00)*0,80*(0,10+0,032+0,30)",null,-42.094099999999997,null,null,null,null,null,null,null,"VP PE D32x3,0 mm (17 kusů) (průměrná hloubka výkopu 1,65 m):-(141,80-20,00)*0,80*(0,10+0,032+0,30)"]
[null,null,"VP PE D 40x3,7 mm (1 kus) (průměrná hloubka výkopu 1,65 m):-5,20*0,80*(0,10+0,04+0,30)",null,-1.8304,null,null,null,null,null,null,null,"VP PE D 40x3,7 mm (1 kus) (průměrná hloubka výkopu 1,65 m):-5,20*0,80*(0,10+0,04+0,30)"]
[null,null,"VP PE D 63x5,8 mm (2 kusy) (průměrná hloubka výkopu 1,65 m):-15,50*0,80*(0,10+0,063+0,30)",null,-5.7412000000000001,null,null,null,null,null,null,null,"VP PE D 63x5,8 mm (2 kusy) (průměrná hloubka výkopu 1,65 m):-15,50*0,80*(0,10+0,063+0,30)"]
[null,null,"Konec provozního součtu",null,140.59029999999996,null,null,null,null,null,null,null,"Konec provozního součtu"]
[18,"175101101R00","Obsyp potrubí bez prohození sypaniny ","m3",100.2011,null,{"$f":"E160*F160","v":0},0,{"$f":"E160*H160","v":0},0,{"$f":"E160*J160","v":0},null,null,null,2,null,null,null,null,null,null,null,null,null,null,null,1,1,1,null,null,null,null,null,null,null,null,null,null,null,null,null,null,null,null,null,null,null,null,null,null,1,{"$f":"IF(AZ160=1,G160,0)","v":0},{"$f":"IF(AZ160=2,G160,0)","v":0},{"$f":"IF(AZ160=3,G160,0)","v":0},{"$f":"IF(AZ160=4,G160,0)","v":0},{"$f":"IF(AZ160=5,G160,0)","v":0},null,null,null,null,null,null,null,null,null,null,null,null,null,null,null,null,null,null,null,null,null,1,1]
[null,null,"KP KT DN150 (3 kusy):12,00*(0,80*(0,15+0,30)-0,075^2*Pi)",null,4.1078999999999999,null,null,null,null,null,null,null,"KP KT DN150 (3 kusy):12,00*(0,80*(0,15+0,30)-0,075^2*Pi)"]
[null,null,"KP PVC DN150 (10 kusů):153,90*(0,80*(0,15+0,30)-0,075^2*Pi)",null,52.684399999999997,null,null,null,null,null,null,null,"KP PVC DN150 (10 kusů):153,90*(0,80*(0,15+0,30)-0,075^2*Pi)"]
[null,null,"VP PE D32x3,0 mm (17 kusů):141,80*(0,80*(0,032+0,30)-0,016^2*Pi)",null,37.548000000000002,null,null,null,null,null,null,null,"VP PE D32x3,0 mm (17 kusů):141,80*(0,80*(0,032+0,30)-0,016^2*Pi)"]
[null,null,"VP PE D 40x3,7 mm (1 kus):5,20*(0,80*(0,040+0,30)-0,02^2*Pi)",null,1.4078999999999999,null,null,null,null,null,null,null,"VP PE D 40x3,7 mm (1 kus):5,20*(0,80*(0,040+0,30)-0,02^2*Pi)"]
[null,null,"VP PE D 63x5,8 mm (2 kusy):15,50*(0,80*(0,063+0,30)-0,0315^2*Pi)",null,4.4528999999999996,null,null,null,null,null,null,null,"VP PE D 63x5,8 mm (2 kusy):15,50*(0,80*(0,063+0,30)-0,0315^2*Pi)"]
[19,"199000002R00","Poplatek za skládku horniny 1- 7 č. dle katal. odpadů 17 05 04","m3",270.16399999999999,null,{"$f":"E166*F166","v":0},0,{"$f":"E166*H166","v":0},0,{"$f":"E166*J166","v":0},null,null,null,2,null,null,null,null,null,null,null,null,null,null,null,1,1,1,null,null,null,null,null,null,null,null,null,null,null,null,null,null,null,null,null,null,null,null,null,null,1,{"$f":"IF(AZ166=1,G166,0)","v":0},{"$f":"IF(AZ166=2,G166,0)","v":0},{"$f":"IF(AZ166=3,G166,0)","v":0},{"$f":"IF(AZ166=4,G166,0)","v":0},{"$f":"IF(AZ166=5,G166,0)","v":0},null,null,null,null,null,null,null,null,null,null,null,null,null,null,null,null,null,null,null,null,null,1,1]
[null,null,"Výkopy:",null,0,null,null,null,null,null,null,null,"Výkopy:"]
[null,null,"V hornině tř. 3 - 5:396,4520",null,396.452,null,null,null,null,null,null,null,"V hornině tř. 3 - 5:396,4520"]
[null,null,"Odpočet zásypů zeminou:-126,2880",null,-126.288,null,null,null,null,null,null,null,"Odpočet zásypů zeminou:-126,2880"]
[20,"919735113R00","Řezání stávajícího živičného krytu tl. 10 - 15 cm ","m",376.8,null,{"$f":"E170*F170","v":0},0,{"$f":"E170*H170","v":0},0,{"$f":"E170*J170","v":0},null,null,null,2,null,null,null,null,null,null,null,null,null,null,null,1,1,1,null,null,null,null,null,null,null,null,null,null,null,null,null,null,null,null,null,null,null,null,null,null,1,{"$f":"IF(AZ170=1,G170,0)","v":0},{"$f":"IF(AZ170=2,G170,0)","v":0},{"$f":"IF(AZ170=3,G170,0)","v":0},{"$f":"IF(AZ170=4,G170,0)","v":0},{"$f":"IF(AZ170=5,G170,0)","v":0},null,null,null,null,null,null,null,null,null,null,null,null,null,null,null,null,null,null,null,null,null,1,1]
[null,null,"KP KT DN150 (3 kusy) (průměrná hloubka výkopu 2,00 m):",null,0,null,null,null,null,null,null,null,"KP KT DN150 (3 kusy) (průměrná hloubka výkopu 2,00 m):"]
[null,null,"KP PVC DN150 (10 kusů) (průměrná hloubka výkopu 2,00 m):",null,0,null,null,null,null,null,null,null,"KP PVC DN150 (10 kusů) (průměrná hloubka výkopu 2,00 m):"]
[null,null,"VP PE D32x3,0 mm (17 kusů) (průměrná hloubka výkopu 1,65 m):",null,0,null,null,null,null,null,null,null,"VP PE D32x3,0 mm (17 kusů) (průměrná hloubka výkopu 1,65 m):"]
[null,null,"VP PE D 40x3,7 mm (1 kus) (průměrná hloubka výkopu 1,65 m):",null,0,null,null,null,null,null,null,null,"VP PE D 40x3,7 mm (1 kus) (průměrná hloubka výkopu 1,65 m):"]
[null,null,"VP PE D 63x5,8 mm (2 kusy) (průměrná hloubka výkopu 1,65 m):",null,0,null,null,null,null,null,null,null,"VP PE D 63x5,8 mm (2 kusy) (průměrná hloubka výkopu 1,65 m):"]
[null,null,"Konstrukce komunikací:(328,40-10,00-130,00)*2",null,376.8,null,null,null,null,null,null,null,"Konstrukce komunikací:(328,40-10,00-130,00)*2"]
[21,"979082113RSZ","Vodorovná doprava suti po suchu na skládku zhotovitele","t",132.6336,null,{"$f":"E177*F177","v":0},0,{"$f":"E177*H177","v":0},0,{"$f":"E177*J177","v":0},null,null,null,2,null,null,null,null,null,null,null,null,null,null,null,1,1,1,null,null,null,null,null,null,null,null,null,null,null,null,null,null,null,null,null,null,null,null,null,null,1,{"$f":"IF(AZ177=1,G177,0)","v":0},{"$f":"IF(AZ177=2,G177,0)","v":0},{"$f":"IF(AZ177=3,G177,0)","v":0},{"$f":"IF(AZ177=4,G177,0)","v":0},{"$f":"IF(AZ177=5,G177,0)","v":0},null,null,null,null,null,null,null,null,null,null,null,null,null,null,null,null,null,null,null,null,null,1,1]
[22,"979089001R00","Poplatek za skládku stavební suti štěrky z komunikací, skupina odpadu 010408","t",82.896000000000001,null,{"$f":"E178*F178","v":0},0,{"$f":"E178*H178","v":0},0,{"$f":"E178*J178","v":0},null,null,null,2,null,null,null,null,null,null,null,null,null,null,null,1,1,1,null,null,null,null,null,null,null,null,null,null,null,null,null,null,null,null,null,null,null,null,null,null,1,{"$f":"IF(AZ178=1,G178,0)","v":0},{"$f":"IF(AZ178=2,G178,0)","v":0},{"$f":"IF(AZ178=3,G178,0)","v":0},{"$f":"IF(AZ178=4,G178,0)","v":0},{"$f":"IF(AZ178=5,G178,0)","v":0},null,null,null,null,null,null,null,null,null,null,null,null,null,null,null,null,null,null,null,null,null,1,1]
[23,"979999995R00","Poplatek za reciklaci asfaltu, kusovost do 1600cm2 skupina 170302","t",49.7376,null,{"$f":"E179*F179","v":0},0,{"$f":"E179*H179","v":0},0,{"$f":"E179*J179","v":0},null,null,null,2,null,null,null,null,null,null,null,null,null,null,null,1,1,1,null,null,null,null,null,null,null,null,null,null,null,null,null,null,null,null,null,null,null,null,null,null,1,{"$f":"IF(AZ179=1,G179,0)","v":0},{"$f":"IF(AZ179=2,G179,0)","v":0},{"$f":"IF(AZ179=3,G179,0)","v":0},{"$f":"IF(AZ179=4,G179,0)","v":0},{"$f":"IF(AZ179=5,G179,0)","v":0},null,null,null,null,null,null,null,null,null,null,null,null,null,null,null,null,null,null,null,null,null,1,1]
[null,null,"Položka je určena pro suť o velikosti kusu do 30x30 cm nebo frézovaný asfalt(technologický materiál určený k recyklaci).",null,null,null,null,null,null,null,null,"Položka je určena pro suť o velikosti kusu do 30x30 cm nebo frézovaný asfalt(technologický materiál určený k recyklaci).",null,null,3]
[24,"113106000RRR","Odstranění zám.dlažby 6 cm vč.podkladu,pl.do 50 m2 včetně zpětného zadláždění - chodník","m2",2,null,{"$f":"E181*F181","v":0},0,{"$f":"E181*H181","v":0},-0.44500000000000001,{"$f":"E181*J181","v":-0.89},null,null,null,2,null,null,null,null,null,null,null,null,null,null,null,2,1,1,null,null,null,null,null,null,null,null,null,null,null,null,null,null,null,null,null,null,null,null,null,null,1,{"$f":"IF(AZ181=1,G181,0)","v":0},{"$f":"IF(AZ181=2,G181,0)","v":0},{"$f":"IF(AZ181=3,G181,0)","v":0},{"$f":"IF(AZ181=4,G181,0)","v":0},{"$f":"IF(AZ181=5,G181,0)","v":0},null,null,null,null,null,null,null,null,null,null,null,null,null,null,null,null,null,null,null,null,null,2,1]
[null,null,"Součástí položky je i",null,null,null,null,null,null,null,null,"Součástí položky je i",null,null,3]
[null,null,"- odvoz původního nevyužitého materiálu na skládku zhotovitele a poplatku za skládku.",null,null,null,null,null,null,null,null,"- odvoz původního nevyužitého materiálu na skládku zhotovitele a poplatku za skládku.",null,null,3]
[null,null,"- dodávka nových podkladních konstrukcí",null,null,null,null,null,null,null,null,"- dodávka nových podkladních konstrukcí",null,null,3]
[25,"113106004RRR","Odstranění beton.dlažby vč.podkladu, pl.nad 50 m2 včetně zpětného zadláždění - chodník","m2",6,null,{"$f":"E185*F185","v":0},0,{"$f":"E185*H185","v":0},-0.35799999999999998,{"$f":"E185*J185","v":-2.1479999999999997},null,null,null,2,null,null,null,null,null,null,null,null,null,null,null,2,1,1,null,null,null,null,null,null,null,null,null,null,null,null,null,null,null,null,null,null,null,null,null,null,1,{"$f":"IF(AZ185=1,G185,0)","v":0},{"$f":"IF(AZ185=2,G185,0)","v":0},{"$f":"IF(AZ185=3,G185,0)","v":0},{"$f":"IF(AZ185=4,G185,0)","v":0},{"$f":"IF(AZ185=5,G185,0)","v":0},null,null,null,null,null,null,null,null,null,null,null,null,null,null,null,null,null,null,null,null,null,2,1]
[null,null,"Součástí položky je i",null,null,null,null,null,null,null,null,"Součástí položky je i",null,null,3]
[null,null,"- odvoz původního nevyužitého materiálu na skládku zhotovitele a poplatku za skládku.",null,null,null,null,null,null,null,null,"- odvoz původního nevyužitého materiálu na skládku zhotovitele a poplatku za skládku.",null,null,3]
[null,null,"- dodávka nových podkladních konstrukcí",null,null,null,null,null,null,null,null,"- dodávka nových podkladních konstrukcí",null,null,3]
[26,"113106033RRR","Rozebrání dlažby z kostek a podkladu, pl.do 200 m2 včetně zpětného zadláždění - chodník","m2",4.5,null,{"$f":"E189*F189","v":0},0,{"$f":"E189*H189","v":0},-0.97699999999999998,{"$f":"E189*J189","v":-4.3964999999999996},null,null,null,2,null,null,null,null,null,null,null,null,null,null,null,2,1,1,null,null,null,null,null,null,null,null,null,null,null,null,null,null,null,null,null,null,null,null,null,null,1,{"$f":"IF(AZ189=1,G189,0)","v":0},{"$f":"IF(AZ189=2,G189,0)","v":0},{"$f":"IF(AZ189=3,G189,0)","v":0},{"$f":"IF(AZ189=4,G189,0)","v":0},{"$f":"IF(AZ189=5,G189,0)","v":0},null,null,null,null,null,null,null,null,null,null,null,null,null,null,null,null,null,null,null,null,null,2,1]
[null,null,"Součástí položky je i",null,null,null,null,null,null,null,null,"Součástí položky je i",null,null,3]
[null,null,"- odvoz původního nevyužitého materiálu na skládku zhotovitele a poplatku za skládku.",null,null,null,null,null,null,null,null,"- odvoz původního nevyužitého materiálu na skládku zhotovitele a poplatku za skládku.",null,null,3]
[null,null,"- dodávka nových podkladních konstrukcí",null,null,null,null,null,null,null,null,"- dodávka nových podkladních konstrukcí",null,null,3]
[27,"113201011RRR","Vytrhání obrubníků silničních včetně znovuosazení původních obrubníků","m",10,null,{"$f":"E193*F193","v":0},0,{"$f":"E193*H193","v":0},-0.27,{"$f":"E193*J193","v":-2.7},null,null,null,2,null,null,null,null,null,null,null,null,null,null,null,2,1,1,null,null,null,null,null,null,null,null,null,null,null,null,null,null,null,null,null,null,null,null,null,null,1,{"$f":"IF(AZ193=1,G193,0)","v":0},{"$f":"IF(AZ193=2,G193,0)","v":0},{"$f":"IF(AZ193=3,G193,0)","v":0},{"$f":"IF(AZ193=4,G193,0)","v":0},{"$f":"IF(AZ193=5,G193,0)","v":0},null,null,null,null,null,null,null,null,null,null,null,null,null,null,null,null,null,null,null,null,null,2,1]
[null,null,"Součástí položky je i",null,null,null,null,null,null,null,null,"Součástí položky je i",null,null,3]
[null,null,"- odvoz původního nevyužitého materiálu na skládku zhotovitele a poplatku za skládku.",null,null,null,null,null,null,null,null,"- odvoz původního nevyužitého materiálu na skládku zhotovitele a poplatku za skládku.",null,null,3]
[null,null,"- očištění původních obrubníků",null,null,null,null,null,null,null,null,"- očištění původních obrubníků",null,null,3]
[null,null,"- dodávka betonové směsi pro osazení obrubníků",null,null,null,null,null,null,null,null,"- dodávka betonové směsi pro osazení obrubníků",null,null,3]
[28,"113201012RRR","Vytrhání obrubníků chodníkových a parkových včetně znovuosazení původních obrubníků","m2",10,null,{"$f":"E198*F198","v":0},0,{"$f":"E198*H198","v":0},-0.22,{"$f":"E198*J198","v":-2.2000000000000002},null,null,null,2,null,null,null,null,null,null,null,null,null,null,null,2,1,1,null,null,null,null,null,null,null,null,null,null,null,null,null,null,null,null,null,null,null,null,null,null,1,{"$f":"IF(AZ198=1,G198,0)","v":0},{"$f":"IF(AZ198=2,G198,0)","v":0},{"$f":"IF(AZ198=3,G198,0)","v":0},{"$f":"IF(AZ198=4,G198,0)","v":0},{"$f":"IF(AZ198=5,G198,0)","v":0},null,null,null,null,null,null,null,null,null,null,null,null,null,null,null,null,null,null,null,null,null,2,1]
[null,null,"Součástí položky je i",null,null,null,null,null,null,null,null,"Součástí položky je i",null,null,3]
[null,null,"- odvoz původního nevyužitého materiálu na skládku zhotovitele a poplatku za skládku.",null,null,null,null,null,null,null,null,"- odvoz původního nevyužitého materiálu na skládku zhotovitele a poplatku za skládku.",null,null,3]
[null,null,"- očištění původních obrubníků",null,null,null,null,null,null,null,null,"- očištění původních obrubníků",null,null,3]
[null,null,"- dodávka betonové směsi pro osazení obrubníků",null,null,null,null,null,null,null,null,"- dodávka betonové směsi pro osazení obrubníků",null,null,3]
[29,"58337308R","Štěrkopísek frakce 0-2 tř.B","t",197.6968,null,{"$f":"E203*F203","v":0},1,{"$f":"E203*H203","v":197.6968},null,{"$f":"E203*J203","v":0},null,null,null,2,null,null,null,null,null,null,null,null,null,null,null,3,1,"58337308R",null,null,null,null,null,null,null,null,null,null,null,null,null,null,null,null,null,null,null,null,null,null,1,{"$f":"IF(AZ203=1,G203,0)","v":0},{"$f":"IF(AZ203=2,G203,0)","v":0},{"$f":"IF(AZ203=3,G203,0)","v":0},{"$f":"IF(AZ203=4,G203,0)","v":0},{"$f":"IF(AZ203=5,G203,0)","v":0},null,null,null,null,null,null,null,null,null,null,null,null,null,null,null,null,null,null,null,null,null,3,1]
[null,null,"KP KT DN150 (3 kusy):12,00*(0,80*(0,15+0,30)-0,075^2*Pi)*1,973",null,8.1050000000000004,null,null,null,null,null,null,null,"KP KT DN150 (3 kusy):12,00*(0,80*(0,15+0,30)-0,075^2*Pi)*1,973"]
[null,null,"KP PVC DN150 (10 kusů):153,90*(0,80*(0,15+0,30)-0,075^2*Pi)*1,973",null,103.9462,null,null,null,null,null,null,null,"KP PVC DN150 (10 kusů):153,90*(0,80*(0,15+0,30)-0,075^2*Pi)*1,973"]
[null,null,"VP PE D32x3,0 mm (17 kusů):141,80*(0,80*(0,032+0,30)-0,016^2*Pi)*1,973",null,74.082300000000004,null,null,null,null,null,null,null,"VP PE D32x3,0 mm (17 kusů):141,80*(0,80*(0,032+0,30)-0,016^2*Pi)*1,973"]
[null,null,"VP PE D 40x3,7 mm (1 kus):5,20*(0,80*(0,040+0,30)-0,02^2*Pi)*1,973",null,2.7776999999999998,null,null,null,null,null,null,null,"VP PE D 40x3,7 mm (1 kus):5,20*(0,80*(0,040+0,30)-0,02^2*Pi)*1,973"]
[null,null,"VP PE D 63x5,8 mm (2 kusy):15,50*(0,80*(0,063+0,30)-0,0315^2*Pi)*1,973",null,8.7855000000000008,null,null,null,null,null,null,null,"VP PE D 63x5,8 mm (2 kusy):15,50*(0,80*(0,063+0,30)-0,0315^2*Pi)*1,973"]
[30,"58344197R","Štěrkodrtě frakce 0-63 A","t",263.32560000000001,null,{"$f":"E209*F209","v":0},1,{"$f":"E209*H209","v":263.32560000000001},null,{"$f":"E209*J209","v":0},null,null,null,2,null,null,null,null,null,null,null,null,null,null,null,3,1,"58344197R",null,null,null,null,null,null,null,null,null,null,null,null,null,null,null,null,null,null,null,null,null,null,1,{"$f":"IF(AZ209=1,G209,0)","v":0},{"$f":"IF(AZ209=2,G209,0)","v":0},{"$f":"IF(AZ209=3,G209,0)","v":0},{"$f":"IF(AZ209=4,G209,0)","v":0},{"$f":"IF(AZ209=5,G209,0)","v":0},null,null,null,null,null,null,null,null,null,null,null,null,null,null,null,null,null,null,null,null,null,3,1]
[null,null,"Zásyp štěrkodrtí fr. 0-63 mm:140,5903*1,873",null,263.32560000000001,null,null,null,null,null,null,null,"Zásyp štěrkodrtí fr. 0-63 mm:140,5903*1,873"]
[null,null,"Začátek provozního součtu",null,0,null,null,null,null,null,null,null,"Začátek provozního součtu"]
[null,null,"KP KT DN150 (3 kusy) (průměrná hloubka výkopu 2,00 m):12,00*0,80*2,00",null,19.2,null,null,null,null,null,null,null,"KP KT DN150 (3 kusy) (průměrná hloubka výkopu 2,00 m):12,00*0,80*2,00"]
[null,null,"KP PVC DN150 (10 kusů) (průměrná hloubka výkopu 2,00 m):(153,90-110,00)*0,80*2,00",null,70.239999999999995,null,null,null,null,null,null,null,"KP PVC DN150 (10 kusů) (průměrná hloubka výkopu 2,00 m):(153,90-110,00)*0,80*2,00"]
[null,null,"VP PE D32x3,0 mm (17 kusů) (průměrná hloubka výkopu 1,65 m):(141,80-20,00)*0,80*1,65",null,160.77600000000001,null,null,null,null,null,null,null,"VP PE D32x3,0 mm (17 kusů) (průměrná hloubka výkopu 1,65 m):(141,80-20,00)*0,80*1,65"]
[null,null,"VP PE D 40x3,7 mm (1 kus) (průměrná hloubka výkopu 1,65 m):5,20*0,80*1,65",null,6.8639999999999999,null,null,null,null,null,null,null,"VP PE D 40x3,7 mm (1 kus) (průměrná hloubka výkopu 1,65 m):5,20*0,80*1,65"]
[null,null,"VP PE D 63x5,8 mm (2 kusy) (průměrná hloubka výkopu 1,65 m):15,50*0,80*1,65",null,20.46,null,null,null,null,null,null,null,"VP PE D 63x5,8 mm (2 kusy) (průměrná hloubka výkopu 1,65 m):15,50*0,80*1,65"]
[null,null,"Odpočet konstrukce komunikací:-(328,40-10,00-130,00)*0,80*0,40",null,-60.287999999999997,null,null,null,null,null,null,null,"Odpočet konstrukce komunikací:-(328,40-10,00-130,00)*0,80*0,40"]
[null,null,"Odpočet konstrukce chodníků:-10,00*0,80*0,30",null,-2.4,null,null,null,null,null,null,null,"Odpočet konstrukce chodníků:-10,00*0,80*0,30"]
[null,null,"Odpočet lože potrubí a obsypů KP:",null,0,null,null,null,null,null,null,null,"Odpočet lože potrubí a obsypů KP:"]
[null,null,"KP KT DN150 (3 kusy) (průměrná hloubka výkopu 2,00 m):-12,00*0,80*(0,10+0,15+0,30)",null,-5.28,null,null,null,null,null,null,null,"KP KT DN150 (3 kusy) (průměrná hloubka výkopu 2,00 m):-12,00*0,80*(0,10+0,15+0,30)"]
[null,null,"KP PVC DN150 (10 kusů) (průměrná hloubka výkopu 2,00 m):-(153,90-110,00)*0,80*(0,10+0,15+0,30)",null,-19.315999999999999,null,null,null,null,null,null,null,"KP PVC DN150 (10 kusů) (průměrná hloubka výkopu 2,00 m):-(153,90-110,00)*0,80*(0,10+0,15+0,30)"]
[null,null,"Odpočet lože, potrubí a obsypů VP:",null,0,null,null,null,null,null,null,null,"Odpočet lože, potrubí a obsypů VP:"]
[null,null,"VP PE D32x3,0 mm (17 kusů) (průměrná hloubka výkopu 1,65 m):-(141,80-20,00)*0,80*(0,10+0,032+0,30)",null,-42.094099999999997,null,null,null,null,null,null,null,"VP PE D32x3,0 mm (17 kusů) (průměrná hloubka výkopu 1,65 m):-(141,80-20,00)*0,80*(0,10+0,032+0,30)"]
[null,null,"VP PE D 40x3,7 mm (1 kus) (průměrná hloubka výkopu 1,65 m):-5,20*0,80*(0,10+0,04+0,30)",null,-1.8304,null,null,null,null,null,null,null,"VP PE D 40x3,7 mm (1 kus) (průměrná hloubka výkopu 1,65 m):-5,20*0,80*(0,10+0,04+0,30)"]
[null,null,"VP PE D 63x5,8 mm (2 kusy) (průměrná hloubka výkopu 1,65 m):-15,50*0,80*(0,10+0,063+0,30)",null,-5.7412000000000001,null,null,null,null,null,null,null,"VP PE D 63x5,8 mm (2 kusy) (průměrná hloubka výkopu 1,65 m):-15,50*0,80*(0,10+0,063+0,30)"]
[null,null,"Konec provozního součtu",null,140.59029999999996,null,null,null,null,null,null,null,"Konec provozního součtu"]
[null,"Celkem za","1 Zemní práce",null,null,null,{"$f":"SUM(G7:G226)","v":0},null,{"$f":"SUM(I7:I226)","v":464.94894950000003},null,{"$f":"SUM(K7:K226)","v":-148.18809999999996},null,null,null,4,null,null,null,null,null,null,null,null,null,null,null,null,null,null,null,null,null,null,null,null,null,null,null,null,null,null,null,null,null,null,null,null,null,null,null,null,null,{"$f":"SUM(BA7:BA226)","v":0},{"$f":"SUM(BB7:BB226)","v":0},{"$f":"SUM(BC7:BC226)","v":0},{"$f":"SUM(BD7:BD226)","v":0},{"$f":"SUM(BE7:BE226)","v":0}]
["Díl:","45","Podkladní a vedlejší konstrukce",null,null,null,null,null,null,null,null,null,null,null,1]
[31,"451572111R00","Lože pod potrubí z kameniva těženého 0 - 4 mm ","m3",26.271999999999998,null,{"$f":"E229*F229","v":0},1.873,{"$f":"E229*H229","v":49.207456000000001},0,{"$f":"E229*J229","v":0},null,null,null,2,null,null,null,null,null,null,null,null,null,null,null,1,1,1,null,null,null,null,null,null,null,null,null,null,null,null,null,null,null,null,null,null,null,null,null,null,1,{"$f":"IF(AZ229=1,G229,0)","v":0},{"$f":"IF(AZ229=2,G229,0)","v":0},{"$f":"IF(AZ229=3,G229,0)","v":0},{"$f":"IF(AZ229=4,G229,0)","v":0},{"$f":"IF(AZ229=5,G229,0)","v":0},null,null,null,null,null,null,null,null,null,null,null,null,null,null,null,null,null,null,null,null,null,1,1]
[null,null,"KP KT DN150 (3 kusy):12,00*0,80*0,10",null,0.96,null,null,null,null,null,null,null,"KP KT DN150 (3 kusy):12,00*0,80*0,10"]
[null,null,"KP PVC DN150 (9 kusů):153,90*0,80*0,10",null,12.311999999999999,null,null,null,null,null,null,null,"KP PVC DN150 (9 kusů):153,90*0,80*0,10"]
[null,null,"VP PE D32x3,0 mm (17 kusů):141,80*0,80*0,10",null,11.343999999999999,null,null,null,null,null,null,null,"VP PE D32x3,0 mm (17 kusů):141,80*0,80*0,10"]
[null,null,"VP PE D 40x3,7 mm (1 kus):5,20*0,80*0,10",null,0.41599999999999998,null,null,null,null,null,null,null,"VP PE D 40x3,7 mm (1 kus):5,20*0,80*0,10"]
[null,null,"VP PE D 63x5,8 mm (2 kusy):15,50*0,80*0,10",null,1.24,null,null,null,null,null,null,null,"VP PE D 63x5,8 mm (2 kusy):15,50*0,80*0,10"]
[null,"Celkem za","45 Podkladní a vedlejší konstrukce",null,null,null,{"$f":"SUM(G228:G234)","v":0},null,{"$f":"SUM(I228:I234)","v":49.207456000000001},null,{"$f":"SUM(K228:K234)","v":0},null,null,null,4,null,null,null,null,null,null,null,null,null,null,null,null,null,null,null,null,null,null,null,null,null,null,null,null,null,null,null,null,null,null,null,null,null,null,null,null,null,{"$f":"SUM(BA228:BA234)","v":0},{"$f":"SUM(BB228:BB234)","v":0},{"$f":"SUM(BC228:BC234)","v":0},{"$f":"SUM(BD228:BD234)","v":0},{"$f":"SUM(BE228:BE234)","v":0}]
["Díl:","5","Komunikace",null,null,null,null,null,null,null,null,null,null,null,1]
[32,"566903111R00","Vyspravení podkladu po překopech kam.hrubě drceným ","t",70.574600000000004,null,{"$f":"E237*F237","v":0},1.1000000000000001,{"$f":"E237*H237","v":77.63206000000001},0,{"$f":"E237*J237","v":0},null,null,null,2,null,null,null,null,null,null,null,null,null,null,null,1,1,1,null,null,null,null,null,null,null,null,null,null,null,null,null,null,null,null,null,null,null,null,null,null,1,{"$f":"IF(AZ237=1,G237,0)","v":0},{"$f":"IF(AZ237=2,G237,0)","v":0},{"$f":"IF(AZ237=3,G237,0)","v":0},{"$f":"IF(AZ237=4,G237,0)","v":0},{"$f":"IF(AZ237=5,G237,0)","v":0},null,null,null,null,null,null,null,null,null,null,null,null,null,null,null,null,null,null,null,null,null,1,1]
[null,null,"KP KT DN150 (3 kusy) (průměrná hloubka výkopu 2,00 m):",null,0,null,null,null,null,null,null,null,"KP KT DN150 (3 kusy) (průměrná hloubka výkopu 2,00 m):"]
[null,null,"KP PVC DN150 (10 kusů) (průměrná hloubka výkopu 2,00 m):",null,0,null,null,null,null,null,null,null,"KP PVC DN150 (10 kusů) (průměrná hloubka výkopu 2,00 m):"]
[null,null,"VP PE D32x3,0 mm (17 kusů) (průměrná hloubka výkopu 1,65 m):",null,0,null,null,null,null,null,null,null,"VP PE D32x3,0 mm (17 kusů) (průměrná hloubka výkopu 1,65 m):"]
[null,null,"VP PE D 40x3,7 mm (1 kus) (průměrná hloubka výkopu 1,65 m):",null,0,null,null,null,null,null,null,null,"VP PE D 40x3,7 mm (1 kus) (průměrná hloubka výkopu 1,65 m):"]
[null,null,"VP PE D 63x5,8 mm (2 kusy) (průměrná hloubka výkopu 1,65 m):",null,0,null,null,null,null,null,null,null,"VP PE D 63x5,8 mm (2 kusy) (průměrná hloubka výkopu 1,65 m):"]
[null,null,"Konstrukce komunikací:(328,40-10,00-130,00)*0,80*0,25*1,873",null,70.574600000000004,null,null,null,null,null,null,null,"Konstrukce komunikací:(328,40-10,00-130,00)*0,80*0,25*1,873"]
[33,"566904111R00","Vyspravení podkladu po překopech kam.obal.asfaltem ","t",56.52,null,{"$f":"E244*F244","v":0},1,{"$f":"E244*H244","v":56.52},0,{"$f":"E244*J244","v":0},null,null,null,2,null,null,null,null,null,null,null,null,null,null,null,1,1,1,null,null,null,null,null,null,null,null,null,null,null,null,null,null,null,null,null,null,null,null,null,null,1,{"$f":"IF(AZ244=1,G244,0)","v":0},{"$f":"IF(AZ244=2,G244,0)","v":0},{"$f":"IF(AZ244=3,G244,0)","v":0},{"$f":"IF(AZ244=4,G244,0)","v":0},{"$f":"IF(AZ244=5,G244,0)","v":0},null,null,null,null,null,null,null,null,null,null,null,null,null,null,null,null,null,null,null,null,null,1,1]
[null,null,"KP KT DN150 (3 kusy) (průměrná hloubka výkopu 2,00 m):",null,0,null,null,null,null,null,null,null,"KP KT DN150 (3 kusy) (průměrná hloubka výkopu 2,00 m):"]
[null,null,"KP PVC DN150 (10 kusů) (průměrná hloubka výkopu 2,00 m):",null,0,null,null,null,null,null,null,null,"KP PVC DN150 (10 kusů) (průměrná hloubka výkopu 2,00 m):"]
[null,null,"VP PE D32x3,0 mm (17 kusů) (průměrná hloubka výkopu 1,65 m):",null,0,null,null,null,null,null,null,null,"VP PE D32x3,0 mm (17 kusů) (průměrná hloubka výkopu 1,65 m):"]
[null,null,"VP PE D 40x3,7 mm (1 kus) (průměrná hloubka výkopu 1,65 m):",null,0,null,null,null,null,null,null,null,"VP PE D 40x3,7 mm (1 kus) (průměrná hloubka výkopu 1,65 m):"]
[null,null,"VP PE D 63x5,8 mm (2 kusy) (průměrná hloubka výkopu 1,65 m):",null,0,null,null,null,null,null,null,null,"VP PE D 63x5,8 mm (2 kusy) (průměrná hloubka výkopu 1,65 m):"]
[null,null,"Konstrukce komunikací:(328,40-10,00-130,00)*0,80*0,15*2,5",null,56.52,null,null,null,null,null,null,null,"Konstrukce komunikací:(328,40-10,00-130,00)*0,80*0,15*2,5"]
[null,"Celkem za","5 Komunikace",null,null,null,{"$f":"SUM(G236:G250)","v":0},null,{"$f":"SUM(I236:I250)","v":134.15206000000001},null,{"$f":"SUM(K236:K250)","v":0},null,null,null,4,null,null,null,null,null,null,null,null,null,null,null,null,null,null,null,null,null,null,null,null,null,null,null,null,null,null,null,null,null,null,null,null,null,null,null,null,null,{"$f":"SUM(BA236:BA250)","v":0},{"$f":"SUM(BB236:BB250)","v":0},{"$f":"SUM(BC236:BC250)","v":0},{"$f":"SUM(BD236:BD250)","v":0},{"$f":"SUM(BE236:BE250)","v":0}]
["Díl:","8","Trubní vedení",null,null,null,null,null,null,null,null,null,null,null,1]
[34,"831312121RT5","Montáž trub kameninových, pryž. kroužek, DN 150 včetně dodávky trub kamenin. DN 150 dl. 1500 mm","m",12,null,{"$f":"E253*F253","v":0},2.4379999999999999E-2,{"$f":"E253*H253","v":0.29255999999999999},0,{"$f":"E253*J253","v":0},null,null,null,2,null,null,null,null,null,null,null,null,null,null,null,1,1,1,null,null,null,null,null,null,null,null,null,null,null,null,null,null,null,null,null,null,null,null,null,null,1,{"$f":"IF(AZ253=1,G253,0)","v":0},{"$f":"IF(AZ253=2,G253,0)","v":0},{"$f":"IF(AZ253=3,G253,0)","v":0},{"$f":"IF(AZ253=4,G253,0)","v":0},{"$f":"IF(AZ253=5,G253,0)","v":0},null,null,null,null,null,null,null,null,null,null,null,null,null,null,null,null,null,null,null,null,null,1,1]
[null,null,"Položka je určena pro montáž potrubí z trub kameninových těsněných pryžovým kroužkem v otevřeném výkopu ve sklonu do 20 %.",null,null,null,null,null,null,null,null,"Položka je určena pro montáž potrubí z trub kameninových těsněných pryžovým kroužkem v otevřeném výkopu ve sklonu do 20 %.",null,null,3]
[null,null,"V položce jsou zakalkulovány i náklady na dodání trub.",null,null,null,null,null,null,null,null,"V položce jsou zakalkulovány i náklady na dodání trub.",null,null,3]
[null,null,"KP KT DN150 (3 kusy):12,00",null,12,null,null,null,null,null,null,null,"KP KT DN150 (3 kusy):12,00"]
[35,"837312221RT2","Montáž tvarov. kamenin. jednoos. pryž. kr. DN 150 včetně dodávky oblouku DN 150","kus",6,null,{"$f":"E257*F257","v":0},1.017E-2,{"$f":"E257*H257","v":6.1020000000000005E-2},0,{"$f":"E257*J257","v":0},null,null,null,2,null,null,null,null,null,null,null,null,null,null,null,1,1,1,null,null,null,null,null,null,null,null,null,null,null,null,null,null,null,null,null,null,null,null,null,null,1,{"$f":"IF(AZ257=1,G257,0)","v":0},{"$f":"IF(AZ257=2,G257,0)","v":0},{"$f":"IF(AZ257=3,G257,0)","v":0},{"$f":"IF(AZ257=4,G257,0)","v":0},{"$f":"IF(AZ257=5,G257,0)","v":0},null,null,null,null,null,null,null,null,null,null,null,null,null,null,null,null,null,null,null,null,null,1,1]
[null,null,"Položka je určena pro montáž kameninových tvarovek jednoosých těsněných pryžovým kroužkem na potrubí z trub kameninových v otevřeném výkopu.",null,null,null,null,null,null,null,null,"Položka je určena pro montáž kameninových tvarovek jednoosých těsněných pryžovým kroužkem na potrubí z trub kameninových v otevřeném výkopu.",null,null,3]
[null,null,"Pro volbu položky je rozhodující větší DN.",null,null,null,null,null,null,null,null,"Pro volbu položky je rozhodující větší DN.",null,null,3]
[null,null,"V položce jsou zakalkulovány i náklady na dodání tvarovek.",null,null,null,null,null,null,null,null,"V položce jsou zakalkulovány i náklady na dodání tvarovek.",null,null,3]
[null,null,"Pro KP KT DN150 (3 kusy):6",null,6,null,null,null,null,null,null,null,"Pro KP KT DN150 (3 kusy):6"]
[36,"871161121R00","Montáž trubek polyetylenových ve výkopu d 32 mm ","m",141.80000000000001,null,{"$f":"E262*F262","v":0},0,{"$f":"E262*H262","v":0},0,{"$f":"E262*J262","v":0},null,null,null,2,null,null,null,null,null,null,null,null,null,null,null,1,1,1,null,null,null,null,null,null,null,null,null,null,null,null,null,null,null,null,null,null,null,null,null,null,1,{"$f":"IF(AZ262=1,G262,0)","v":0},{"$f":"IF(AZ262=2,G262,0)","v":0},{"$f":"IF(AZ262=3,G262,0)","v":0},{"$f":"IF(AZ262=4,G262,0)","v":0},{"$f":"IF(AZ262=5,G262,0)","v":0},null,null,null,null,null,null,null,null,null,null,null,null,null,null,null,null,null,null,null,null,null,1,1]
[null,null,"V položce je uvažováno použití svitku. ",null,null,null,null,null,null,null,null,"V položce je uvažováno použití svitku. ",null,null,3]
[null,null,"VP PE D32x3,0 mm (17 kusů):141,80",null,141.80000000000001,null,null,null,null,null,null,null,"VP PE D32x3,0 mm (17 kusů):141,80"]
[37,"871171121R00","Montáž trubek polyetylenových ve výkopu d 40 mm ","m",5.2,null,{"$f":"E265*F265","v":0},0,{"$f":"E265*H265","v":0},0,{"$f":"E265*J265","v":0},null,null,null,2,null,null,null,null,null,null,null,null,null,null,null,1,1,1,null,null,null,null,null,null,null,null,null,null,null,null,null,null,null,null,null,null,null,null,null,null,1,{"$f":"IF(AZ265=1,G265,0)","v":0},{"$f":"IF(AZ265=2,G265,0)","v":0},{"$f":"IF(AZ265=3,G265,0)","v":0},{"$f":"IF(AZ265=4,G265,0)","v":0},{"$f":"IF(AZ265=5,G265,0)","v":0},null,null,null,null,null,null,null,null,null,null,null,null,null,null,null,null,null,null,null,null,null,1,1]
[null,null,"V položce je uvažováno použití svitku. ",null,null,null,null,null,null,null,null,"V položce je uvažováno použití svitku. ",null,null,3]
[null,null,"VP PE D 40x3,7 mm (1 kus):5,20",null,5.2,null,null,null,null,null,null,null,"VP PE D 40x3,7 mm (1 kus):5,20"]
[38,"871211121R00","Montáž trubek polyetylenových ve výkopu d 63 mm ","m",15.5,null,{"$f":"E268*F268","v":0},0,{"$f":"E268*H268","v":0},0,{"$f":"E268*J268","v":0},null,null,null,2,null,null,null,null,null,null,null,null,null,null,null,1,1,1,null,null,null,null,null,null,null,null,null,null,null,null,null,null,null,null,null,null,null,null,null,null,1,{"$f":"IF(AZ268=1,G268,0)","v":0},{"$f":"IF(AZ268=2,G268,0)","v":0},{"$f":"IF(AZ268=3,G268,0)","v":0},{"$f":"IF(AZ268=4,G268,0)","v":0},{"$f":"IF(AZ268=5,G268,0)","v":0},null,null,null,null,null,null,null,null,null,null,null,null,null,null,null,null,null,null,null,null,null,1,1]
[null,null,"V položce je uvažováno použití svitku. ",null,null,null,null,null,null,null,null,"V položce je uvažováno použití svitku. ",null,null,3]
[null,null,"VP PE D 63x5,8 mm (2 kusy):15,50",null,15.5,null,null,null,null,null,null,null,"VP PE D 63x5,8 mm (2 kusy):15,50"]
[39,"871313121R00","Montáž trub z plastu, gumový kroužek, DN 150 ","m",153.9,null,{"$f":"E271*F271","v":0},0,{"$f":"E271*H271","v":0},0,{"$f":"E271*J271","v":0},null,null,null,2,null,null,null,null,null,null,null,null,null,null,null,1,0,0,null,null,null,null,null,null,null,null,null,null,null,null,null,null,null,null,null,null,null,null,null,null,1,{"$f":"IF(AZ271=1,G271,0)","v":0},{"$f":"IF(AZ271=2,G271,0)","v":0},{"$f":"IF(AZ271=3,G271,0)","v":0},{"$f":"IF(AZ271=4,G271,0)","v":0},{"$f":"IF(AZ271=5,G271,0)","v":0},null,null,null,null,null,null,null,null,null,null,null,null,null,null,null,null,null,null,null,null,null,1,0]
[null,null,"V položce je uvažováno s jedním spojem na 6 m potrubí. Položka je určena pro montáž potrubí z kanalizačních trub z plastu těsněných gumovým kroužkem v otevřeném výkopu ve sklonu do 20 %.",null,null,null,null,null,null,null,null,"V položce je uvažováno s jedním spojem na 6 m potrubí. Položka je určena pro montáž potrubí z kanalizačních trub z plastu těsněných gumovým kroužkem v otevřeném výkopu ve sklonu do 20 %.",null,null,3]
[null,null,"KP PVC DN150 (10 kusů):153,90",null,153.9,null,null,null,null,null,null,null,"KP PVC DN150 (10 kusů):153,90"]
[40,"877313123R00","Montáž tvarovek jednoos. plast. gum.kroužek DN 150 ","kus",20,null,{"$f":"E274*F274","v":0},1.0000000000000001E-5,{"$f":"E274*H274","v":2.0000000000000001E-4},0,{"$f":"E274*J274","v":0},null,null,null,2,null,null,null,null,null,null,null,null,null,null,null,1,1,1,null,null,null,null,null,null,null,null,null,null,null,null,null,null,null,null,null,null,null,null,null,null,1,{"$f":"IF(AZ274=1,G274,0)","v":0},{"$f":"IF(AZ274=2,G274,0)","v":0},{"$f":"IF(AZ274=3,G274,0)","v":0},{"$f":"IF(AZ274=4,G274,0)","v":0},{"$f":"IF(AZ274=5,G274,0)","v":0},null,null,null,null,null,null,null,null,null,null,null,null,null,null,null,null,null,null,null,null,null,1,1]
[null,null,"Položka je určena pro montáž tvarovek jednoosých na potrubí z kanalizačních trub z plastu těsněných gumovým kroužkem v otevřeném výkopu.",null,null,null,null,null,null,null,null,"Položka je určena pro montáž tvarovek jednoosých na potrubí z kanalizačních trub z plastu těsněných gumovým kroužkem v otevřeném výkopu.",null,null,3]
[null,null,"KP PVC DN150 (10 kusů):20",null,20,null,null,null,null,null,null,null,"KP PVC DN150 (10 kusů):20"]
[41,"891183420RX0","Přepojení stávajících UV potrubí PVC  DN 150 včetně dodávky přepojovací tvarovky a potrubí","kus",3,null,{"$f":"E277*F277","v":0},4.6000000000000001E-4,{"$f":"E277*H277","v":1.3800000000000002E-3},0,{"$f":"E277*J277","v":0},null,null,null,2,null,null,null,null,null,null,null,null,null,null,null,1,1,1,null,null,null,null,null,null,null,null,null,null,null,null,null,null,null,null,null,null,null,null,null,null,1,{"$f":"IF(AZ277=1,G277,0)","v":0},{"$f":"IF(AZ277=2,G277,0)","v":0},{"$f":"IF(AZ277=3,G277,0)","v":0},{"$f":"IF(AZ277=4,G277,0)","v":0},{"$f":"IF(AZ277=5,G277,0)","v":0},null,null,null,null,null,null,null,null,null,null,null,null,null,null,null,null,null,null,null,null,null,1,1]
[null,null,"Položka obsahuje přerušení stávajícího potrubí, montáž a dodávku příslušné tvarovky pro propojení stávajícího potrubí s novou stokou nebo RŠ včetně dodávky potrubí délky do 3 m a potřebných tvarovek",null,null,null,null,null,null,null,null,"Položka obsahuje přerušení stávajícího potrubí, montáž a dodávku příslušné tvarovky pro propojení stávajícího potrubí s novou stokou nebo RŠ včetně dodávky potrubí délky do 3 m a potřebných tvarovek",null,null,3]
[42,"891183425RX0","Přepojení potrubí KT na přípojkách DN 150 včetně dodávky přepojovací tvarovky","kus",3,null,{"$f":"E279*F279","v":0},4.6000000000000001E-4,{"$f":"E279*H279","v":1.3800000000000002E-3},0,{"$f":"E279*J279","v":0},null,null,null,2,null,null,null,null,null,null,null,null,null,null,null,1,1,1,null,null,null,null,null,null,null,null,null,null,null,null,null,null,null,null,null,null,null,null,null,null,1,{"$f":"IF(AZ279=1,G279,0)","v":0},{"$f":"IF(AZ279=2,G279,0)","v":0},{"$f":"IF(AZ279=3,G279,0)","v":0},{"$f":"IF(AZ279=4,G279,0)","v":0},{"$f":"IF(AZ279=5,G279,0)","v":0},null,null,null,null,null,null,null,null,null,null,null,null,null,null,null,null,null,null,null,null,null,1,1]
[null,null,"Položka obsahuje přerušení stávajícího potrubí, montáž a dodávku příslušné tvarovky pro propojení stávajícího potrubí s novou přípojkou nebo RŠ DN150",null,null,null,null,null,null,null,null,"Položka obsahuje přerušení stávajícího potrubí, montáž a dodávku příslušné tvarovky pro propojení stávajícího potrubí s novou přípojkou nebo RŠ DN150",null,null,3]
[null,null,"KP KT DN150 (3 kusy):3",null,3,null,null,null,null,null,null,null,"KP KT DN150 (3 kusy):3"]
[43,"891183429RX0","Přepojení potrubí PVC na přípojkách DN 150 včetně dodávky přepojovací tvarovky","kus",15,null,{"$f":"E282*F282","v":0},4.6000000000000001E-4,{"$f":"E282*H282","v":6.8999999999999999E-3},0,{"$f":"E282*J282","v":0},null,null,null,2,null,null,null,null,null,null,null,null,null,null,null,1,1,1,null,null,null,null,null,null,null,null,null,null,null,null,null,null,null,null,null,null,null,null,null,null,1,{"$f":"IF(AZ282=1,G282,0)","v":0},{"$f":"IF(AZ282=2,G282,0)","v":0},{"$f":"IF(AZ282=3,G282,0)","v":0},{"$f":"IF(AZ282=4,G282,0)","v":0},{"$f":"IF(AZ282=5,G282,0)","v":0},null,null,null,null,null,null,null,null,null,null,null,null,null,null,null,null,null,null,null,null,null,1,1]
[null,null,"Položka obsahuje přerušení stávajícího potrubí, montáž a dodávku příslušné tvarovky pro propojení stávajícího potrubí s novou přípojkou nebo RŠ DN150",null,null,null,null,null,null,null,null,"Položka obsahuje přerušení stávajícího potrubí, montáž a dodávku příslušné tvarovky pro propojení stávajícího potrubí s novou přípojkou nebo RŠ DN150",null,null,3]
[null,null,"KP PVC DN150 (10 kusů):15",null,15,null,null,null,null,null,null,null,"KP PVC DN150 (10 kusů):15"]
[44,"891183439RX0","Přepojení potrubí PE na přípojkách D 32 včetně dodávky přepojovací tvarovky","kus",17,null,{"$f":"E285*F285","v":0},4.6000000000000001E-4,{"$f":"E285*H285","v":7.8200000000000006E-3},0,{"$f":"E285*J285","v":0},null,null,null,2,null,null,null,null,null,null,null,null,null,null,null,1,1,1,null,null,null,null,null,null,null,null,null,null,null,null,null,null,null,null,null,null,null,null,null,null,1,{"$f":"IF(AZ285=1,G285,0)","v":0},{"$f":"IF(AZ285=2,G285,0)","v":0},{"$f":"IF(AZ285=3,G285,0)","v":0},{"$f":"IF(AZ285=4,G285,0)","v":0},{"$f":"IF(AZ285=5,G285,0)","v":0},null,null,null,null,null,null,null,null,null,null,null,null,null,null,null,null,null,null,null,null,null,1,1]
[null,null,"Položka obsahuje přerušení stávajícího potrubí, montáž a dodávku příslušné tvarovky pro propojení stávajícího potrubí (PE, ocel a pod.)  s novým potrubím (PE D 32x3,0 mm) přípojky  D 32",null,null,null,null,null,null,null,null,"Položka obsahuje přerušení stávajícího potrubí, montáž a dodávku příslušné tvarovky pro propojení stávajícího potrubí (PE, ocel a pod.)  s novým potrubím (PE D 32x3,0 mm) přípojky  D 32",null,null,3]
[null,null,"VP PE D 32x3,0 mm (17 kusů):17",null,17,null,null,null,null,null,null,null,"VP PE D 32x3,0 mm (17 kusů):17"]
[45,"891183440RX0","Přepojení potrubí PE na přípojkách D 40 včetně dodávky přepojovací tvarovky","kus",1,null,{"$f":"E288*F288","v":0},4.6000000000000001E-4,{"$f":"E288*H288","v":4.6000000000000001E-4},0,{"$f":"E288*J288","v":0},null,null,null,2,null,null,null,null,null,null,null,null,null,null,null,1,1,1,null,null,null,null,null,null,null,null,null,null,null,null,null,null,null,null,null,null,null,null,null,null,1,{"$f":"IF(AZ288=1,G288,0)","v":0},{"$f":"IF(AZ288=2,G288,0)","v":0},{"$f":"IF(AZ288=3,G288,0)","v":0},{"$f":"IF(AZ288=4,G288,0)","v":0},{"$f":"IF(AZ288=5,G288,0)","v":0},null,null,null,null,null,null,null,null,null,null,null,null,null,null,null,null,null,null,null,null,null,1,1]
[null,null,"Položka obsahuje přerušení stávajícího potrubí, montáž a dodávku příslušné tvarovky pro propojení stávajícího potrubí (PE, ocel a pod.)  s novým potrubím (PE D 40x3,7 mm) přípojky  D 40",null,null,null,null,null,null,null,null,"Položka obsahuje přerušení stávajícího potrubí, montáž a dodávku příslušné tvarovky pro propojení stávajícího potrubí (PE, ocel a pod.)  s novým potrubím (PE D 40x3,7 mm) přípojky  D 40",null,null,3]
[null,null,"VP PE D 40x3,7 mm (1 kus):1",null,1,null,null,null,null,null,null,null,"VP PE D 40x3,7 mm (1 kus):1"]
[46,"891183442RX0","Přepojení potrubí PE na přípojkách D 63 včetně dodávky přepojovací tvarovky","kus",2,null,{"$f":"E291*F291","v":0},4.6000000000000001E-4,{"$f":"E291*H291","v":9.2000000000000003E-4},0,{"$f":"E291*J291","v":0},null,null,null,2,null,null,null,null,null,null,null,null,null,null,null,1,1,1,null,null,null,null,null,null,null,null,null,null,null,null,null,null,null,null,null,null,null,null,null,null,1,{"$f":"IF(AZ291=1,G291,0)","v":0},{"$f":"IF(AZ291=2,G291,0)","v":0},{"$f":"IF(AZ291=3,G291,0)","v":0},{"$f":"IF(AZ291=4,G291,0)","v":0},{"$f":"IF(AZ291=5,G291,0)","v":0},null,null,null,null,null,null,null,null,null,null,null,null,null,null,null,null,null,null,null,null,null,1,1]
[null,null,"Položka obsahuje přerušení stávajícího potrubí, montáž a dodávku příslušné tvarovky pro propojení stávajícího potrubí (PE, ocel a pod.)  s novým potrubím (PE D 63x5,8 mm) přípojky  D 63",null,null,null,null,null,null,null,null,"Položka obsahuje přerušení stávajícího potrubí, montáž a dodávku příslušné tvarovky pro propojení stávajícího potrubí (PE, ocel a pod.)  s novým potrubím (PE D 63x5,8 mm) přípojky  D 63",null,null,3]
[null,null,"VP PE D 63x5,8 mm (2 kusy):2",null,2,null,null,null,null,null,null,null,"VP PE D 63x5,8 mm (2 kusy):2"]
[47,"892233111R00","Desinfekce vodovodního potrubí DN 70 ","m",162.5,null,{"$f":"E294*F294","v":0},0,{"$f":"E294*H294","v":0},0,{"$f":"E294*J294","v":0},null,null,null,2,null,null,null,null,null,null,null,null,null,null,null,1,1,1,null,null,null,null,null,null,null,null,null,null,null,null,null,null,null,null,null,null,null,null,null,null,1,{"$f":"IF(AZ294=1,G294,0)","v":0},{"$f":"IF(AZ294=2,G294,0)","v":0},{"$f":"IF(AZ294=3,G294,0)","v":0},{"$f":"IF(AZ294=4,G294,0)","v":0},{"$f":"IF(AZ294=5,G294,0)","v":0},null,null,null,null,null,null,null,null,null,null,null,null,null,null,null,null,null,null,null,null,null,1,1]
[null,null,"V položce jsou zakalkulovány náklady na napuštění a vypuštění vody, dodání vody a desinfekčního prostředku a na bakteriologický rozbor vody.",null,null,null,null,null,null,null,null,"V položce jsou zakalkulovány náklady na napuštění a vypuštění vody, dodání vody a desinfekčního prostředku a na bakteriologický rozbor vody.",null,null,3]
[null,null,"VP PE D32x3,0 mm (17 kusů):141,80",null,141.80000000000001,null,null,null,null,null,null,null,"VP PE D32x3,0 mm (17 kusů):141,80"]
[null,null,"VP PE D 40x3,7 mm (1 kus):5,20",null,5.2,null,null,null,null,null,null,null,"VP PE D 40x3,7 mm (1 kus):5,20"]
[null,null,"VP PE D 63x5,8 mm (2 kusy):15,50",null,15.5,null,null,null,null,null,null,null,"VP PE D 63x5,8 mm (2 kusy):15,50"]
[48,"892241111R00","Tlaková zkouška vodovodního potrubí DN 80 včetně zajištění konců potrubí","m",162.5,null,{"$f":"E299*F299","v":0},0,{"$f":"E299*H299","v":0},0,{"$f":"E299*J299","v":0},null,null,null,2,null,null,null,null,null,null,null,null,null,null,null,1,1,1,null,null,null,null,null,null,null,null,null,null,null,null,null,null,null,null,null,null,null,null,null,null,1,{"$f":"IF(AZ299=1,G299,0)","v":0},{"$f":"IF(AZ299=2,G299,0)","v":0},{"$f":"IF(AZ299=3,G299,0)","v":0},{"$f":"IF(AZ299=4,G299,0)","v":0},{"$f":"IF(AZ299=5,G299,0)","v":0},null,null,null,null,null,null,null,null,null,null,null,null,null,null,null,null,null,null,null,null,null,1,1]
[null,null,"V položce jsou započteny náklady na přísun, montáž, demontáž a odsun zkoušecího čerpadla, napuštění tlakovou vodou a dodání vody pro tlakovou zkoušku.",null,null,null,null,null,null,null,null,"V položce jsou započteny náklady na přísun, montáž, demontáž a odsun zkoušecího čerpadla, napuštění tlakovou vodou a dodání vody pro tlakovou zkoušku.",null,null,3]
[null,null,"VP PE D32x3,0 mm (17 kusů):141,80",null,141.80000000000001,null,null,null,null,null,null,null,"VP PE D32x3,0 mm (17 kusů):141,80"]
[null,null,"VP PE D 40x3,7 mm (1 kus):5,20",null,5.2,null,null,null,null,null,null,null,"VP PE D 40x3,7 mm (1 kus):5,20"]
[null,null,"VP PE D 63x5,8 mm (2 kusy):15,50",null,15.5,null,null,null,null,null,null,null,"VP PE D 63x5,8 mm (2 kusy):15,50"]
[49,"892601121R00","Čištění kanalizační stoky do DN 200, do 15 m ","úsek",13,null,{"$f":"E304*F304","v":0},0,{"$f":"E304*H304","v":0},0,{"$f":"E304*J304","v":0},null,null,null,2,null,null,null,null,null,null,null,null,null,null,null,1,1,1,null,null,null,null,null,null,null,null,null,null,null,null,null,null,null,null,null,null,null,null,null,null,1,{"$f":"IF(AZ304=1,G304,0)","v":0},{"$f":"IF(AZ304=2,G304,0)","v":0},{"$f":"IF(AZ304=3,G304,0)","v":0},{"$f":"IF(AZ304=4,G304,0)","v":0},{"$f":"IF(AZ304=5,G304,0)","v":0},null,null,null,null,null,null,null,null,null,null,null,null,null,null,null,null,null,null,null,null,null,1,1]
[null,null,"V položce je zakalkulováno:",null,null,null,null,null,null,null,null,"V položce je zakalkulováno:",null,null,3]
[null,null,"a) otevření a uzavření revizních šachet a čisticích kusů",null,null,null,null,null,null,null,null,"a) otevření a uzavření revizních šachet a čisticích kusů",null,null,3]
[null,null,"b) natažení vysokotlakých hadic k místu odkud se bude kanalizace čistit",null,null,null,null,null,null,null,null,"b) natažení vysokotlakých hadic k místu odkud se bude kanalizace čistit",null,null,3]
[null,null,"c) vyčištění potrubí tlakovou vodou nebo motorovým pérem.",null,null,null,null,null,null,null,null,"c) vyčištění potrubí tlakovou vodou nebo motorovým pérem.",null,null,3]
[null,null,"KP KT DN150 (3 kusy):3",null,3,null,null,null,null,null,null,null,"KP KT DN150 (3 kusy):3"]
[null,null,"KP PVC DN150 (10 kusů):10",null,10,null,null,null,null,null,null,null,"KP PVC DN150 (10 kusů):10"]
[50,"892855111R00","Kontrola kanalizace TV kamerou do 15 m ","úsek",13,null,{"$f":"E311*F311","v":0},0,{"$f":"E311*H311","v":0},0,{"$f":"E311*J311","v":0},null,null,null,2,null,null,null,null,null,null,null,null,null,null,null,1,1,1,null,null,null,null,null,null,null,null,null,null,null,null,null,null,null,null,null,null,null,null,null,null,1,{"$f":"IF(AZ311=1,G311,0)","v":0},{"$f":"IF(AZ311=2,G311,0)","v":0},{"$f":"IF(AZ311=3,G311,0)","v":0},{"$f":"IF(AZ311=4,G311,0)","v":0},{"$f":"IF(AZ311=5,G311,0)","v":0},null,null,null,null,null,null,null,null,null,null,null,null,null,null,null,null,null,null,null,null,null,1,1]
[null,null,"KP KT DN150 (3 kusy):3",null,3,null,null,null,null,null,null,null,"KP KT DN150 (3 kusy):3"]
[null,null,"KP PVC DN150 (10 kusů):10",null,10,null,null,null,null,null,null,null,"KP PVC DN150 (10 kusů):10"]
[51,"894431321RBB","Šachta, D 425 mm, dl.šach.roury 2,0 m, přímá dno KG D 160 mm, poklop šedá litina 40 t","kus",16,null,{"$f":"E314*F314","v":0},9.3259999999999996E-2,{"$f":"E314*H314","v":1.4921599999999999},0,{"$f":"E314*J314","v":0},null,null,null,2,null,null,null,null,null,null,null,null,null,null,null,1,1,1,null,null,null,null,null,null,null,null,null,null,null,null,null,null,null,null,null,null,null,null,null,null,1,{"$f":"IF(AZ314=1,G314,0)","v":0},{"$f":"IF(AZ314=2,G314,0)","v":0},{"$f":"IF(AZ314=3,G314,0)","v":0},{"$f":"IF(AZ314=4,G314,0)","v":0},{"$f":"IF(AZ314=5,G314,0)","v":0},null,null,null,null,null,null,null,null,null,null,null,null,null,null,null,null,null,null,null,null,null,1,1]
[null,null,"Plastové dno, šachta z korugované trouby, těsnění, šachtová roura teleskopická, rám do teleskopické trouby, poklop litinový.",null,null,null,null,null,null,null,null,"Plastové dno, šachta z korugované trouby, těsnění, šachtová roura teleskopická, rám do teleskopické trouby, poklop litinový.",null,null,3]
[null,null,"KP KT DN150 (3 kusy):3",null,3,null,null,null,null,null,null,null,"KP KT DN150 (3 kusy):3"]
[null,null,"KP PVC DN150 (9 kusů):13",null,13,null,null,null,null,null,null,null,"KP PVC DN150 (9 kusů):13"]
[52,"899711122R00","Fólie výstražná z PVC, šířka 30 cm ","m",328.4,null,{"$f":"E318*F318","v":0},0,{"$f":"E318*H318","v":0},0,{"$f":"E318*J318","v":0},null,null,null,2,null,null,null,null,null,null,null,null,null,null,null,1,1,1,null,null,null,null,null,null,null,null,null,null,null,null,null,null,null,null,null,null,null,null,null,null,1,{"$f":"IF(AZ318=1,G318,0)","v":0},{"$f":"IF(AZ318=2,G318,0)","v":0},{"$f":"IF(AZ318=3,G318,0)","v":0},{"$f":"IF(AZ318=4,G318,0)","v":0},{"$f":"IF(AZ318=5,G318,0)","v":0},null,null,null,null,null,null,null,null,null,null,null,null,null,null,null,null,null,null,null,null,null,1,1]
[null,null,"KP KT DN150 (3 kusy):12,00",null,12,null,null,null,null,null,null,null,"KP KT DN150 (3 kusy):12,00"]
[null,null,"KP PVC DN150 (10 kusů):153,90",null,153.9,null,null,null,null,null,null,null,"KP PVC DN150 (10 kusů):153,90"]
[null,null,"VP PE D32x3,0 mm (17 kusů):141,80",null,141.80000000000001,null,null,null,null,null,null,null,"VP PE D32x3,0 mm (17 kusů):141,80"]
[null,null,"VP PE D 40x3,7 mm (1 kus):5,20",null,5.2,null,null,null,null,null,null,null,"VP PE D 40x3,7 mm (1 kus):5,20"]
[null,null,"VP PE D 63x5,8 mm (2 kusy):15,50",null,15.5,null,null,null,null,null,null,null,"VP PE D 63x5,8 mm (2 kusy):15,50"]
[53,"899731114R00","Vodič signalizační CYY 6 mm2 ","m",162.5,null,{"$f":"E324*F324","v":0},8.0000000000000007E-5,{"$f":"E324*H324","v":1.3000000000000001E-2},0,{"$f":"E324*J324","v":0},null,null,null,2,null,null,null,null,null,null,null,null,null,null,null,1,1,1,null,null,null,null,null,null,null,null,null,null,null,null,null,null,null,null,null,null,null,null,null,null,1,{"$f":"IF(AZ324=1,G324,0)","v":0},{"$f":"IF(AZ324=2,G324,0)","v":0},{"$f":"IF(AZ324=3,G324,0)","v":0},{"$f":"IF(AZ324=4,G324,0)","v":0},{"$f":"IF(AZ324=5,G324,0)","v":0},null,null,null,null,null,null,null,null,null,null,null,null,null,null,null,null,null,null,null,null,null,1,1]
[null,null,"Součástí položky je zajištění proměření vodiče a výchozí zevize.",null,null,null,null,null,null,null,null,"Součástí položky je zajištění proměření vodiče a výchozí zevize.",null,null,3]
[null,null,"VP PE D32x3,0 mm (17 kusů):141,80",null,141.80000000000001,null,null,null,null,null,null,null,"VP PE D32x3,0 mm (17 kusů):141,80"]
[null,null,"VP PE D 40x3,7 mm (1 kus):5,20",null,5.2,null,null,null,null,null,null,null,"VP PE D 40x3,7 mm (1 kus):5,20"]
[null,null,"VP PE D 63x5,8 mm (2 kusy):15,50",null,15.5,null,null,null,null,null,null,null,"VP PE D 63x5,8 mm (2 kusy):15,50"]
[54,"286111903.R","Trubka kanalizační PVC SN min. 12 DN 150","m",158.517,null,{"$f":"E329*F329","v":0},8.2000000000000007E-3,{"$f":"E329*H329","v":1.2998394},null,{"$f":"E329*J329","v":0},null,null,null,2,null,null,null,null,null,null,null,null,null,null,null,3,1,"286111903.R",null,null,null,null,null,null,null,null,null,null,null,null,null,null,null,null,null,null,null,null,null,null,1,{"$f":"IF(AZ329=1,G329,0)","v":0},{"$f":"IF(AZ329=2,G329,0)","v":0},{"$f":"IF(AZ329=3,G329,0)","v":0},{"$f":"IF(AZ329=4,G329,0)","v":0},{"$f":"IF(AZ329=5,G329,0)","v":0},null,null,null,null,null,null,null,null,null,null,null,null,null,null,null,null,null,null,null,null,null,3,1]
[null,null,"Jedná  se  o  plnostěnné kanalizační trubky DN 150 – DN 400 a DN 500 KOMPAKT min. SN 12 kN/m2 , zvenčí  i  zevnitř  hladké. Jsou  opatřeny hrdlem,  v  němž  je  vložen vysoce  elastický  jazýčkový  kroužek.  konce  trubek  (dříků)  jsou opatřeny  zkosením  pod  úhlem  15°.  Způsob  použití  trubek  je  „U“  dle  normy  ČSN  EN  1401-1, tj. mimo budovy. Spolehlivá  funkce  těsnění  je  jištěna  výztužným  kroužkem  z  elastomeru.  Je  tak  zamezeno  vypad-nutí nebo vytlačení kroužku při manipulaci a montáži. Tento systém zaručuje při správné montáži ",null,null,null,null,null,null,null,null,"Jedná  se  o  plnostěnné kanalizační trubky DN 150 – DN 400 a DN 500 KOMPAKT min. SN 12 kN/m2 , zvenčí  i  zevnitř  hladké. Jsou  opatřeny hrdlem,  v  němž  je  vložen vysoce  elastický  jazýčkový  kroužek.  konce  trubek  (dříků)  jsou opatřeny  zkosením  pod  úhlem  15°.  Způsob  použití  trubek  je  „U“  dle  normy  ČSN  EN  1401-1, tj. mimo budovy. Spolehlivá  funkce  těsnění  je  jištěna  výztužným  kroužkem  z  elastomeru.  Je  tak  zamezeno  vypad-nutí nebo vytlačení kroužku při manipulaci a montáži. Tento systém zaručuje při správné montáži ",null,null,3]
[null,null,"dokonalou  těsnost  do  výšky  vodního  sloupce  5  metrů.",null,null,null,null,null,null,null,null,"dokonalou  těsnost  do  výšky  vodního  sloupce  5  metrů.",null,null,3]
[null,null,"Teplota při pokládce: min. -10 °C, max. 50 °C",null,null,null,null,null,null,null,null,"Teplota při pokládce: min. -10 °C, max. 50 °C",null,null,3]
[null,null,"Max. teplota média: trvale do 40 °C, krátkodobě do 60 °C",null,null,null,null,null,null,null,null,"Max. teplota média: trvale do 40 °C, krátkodobě do 60 °C",null,null,3]
[null,null,"Orientační výška krytí: min. 0,5 m, max. 10 m",null,null,null,null,null,null,null,null,"Orientační výška krytí: min. 0,5 m, max. 10 m",null,null,3]
[null,null,"Max. rychlost média: 12 m/s",null,null,null,null,null,null,null,null,"Max. rychlost média: 12 m/s",null,null,3]
[null,null,"KP PVC DN150 (10 kusů):153,90*1,03",null,158.517,null,null,null,null,null,null,null,"KP PVC DN150 (10 kusů):153,90*1,03"]
[55,"28613576.01.R","Trubka PE100RC2 SDR11 D 32x3,0 mm L 100m","m",143.92699999999999,null,{"$f":"E337*F337","v":0},3.79E-3,{"$f":"E337*H337","v":0.54548332999999993},null,{"$f":"E337*J337","v":0},null,null,null,2,null,null,null,null,null,null,null,null,null,null,null,3,1,"28613576.01.R",null,null,null,null,null,null,null,null,null,null,null,null,null,null,null,null,null,null,null,null,null,null,1,{"$f":"IF(AZ337=1,G337,0)","v":0},{"$f":"IF(AZ337=2,G337,0)","v":0},{"$f":"IF(AZ337=3,G337,0)","v":0},{"$f":"IF(AZ337=4,G337,0)","v":0},{"$f":"IF(AZ337=5,G337,0)","v":0},null,null,null,null,null,null,null,null,null,null,null,null,null,null,null,null,null,null,null,null,null,3,1]
[null,null,"VP PE D32x3,0 mm (17 kusů):141,80*1,015",null,143.92699999999999,null,null,null,null,null,null,null,"VP PE D32x3,0 mm (17 kusů):141,80*1,015"]
[56,"28613576.02.R","Trubka PE100RC2 SDR11 D 40x3,7 mm L 100m","m",5.2779999999999996,null,{"$f":"E339*F339","v":0},4.79E-3,{"$f":"E339*H339","v":2.5281619999999998E-2},null,{"$f":"E339*J339","v":0},null,null,null,2,null,null,null,null,null,null,null,null,null,null,null,3,1,"28613576.02.R",null,null,null,null,null,null,null,null,null,null,null,null,null,null,null,null,null,null,null,null,null,null,1,{"$f":"IF(AZ339=1,G339,0)","v":0},{"$f":"IF(AZ339=2,G339,0)","v":0},{"$f":"IF(AZ339=3,G339,0)","v":0},{"$f":"IF(AZ339=4,G339,0)","v":0},{"$f":"IF(AZ339=5,G339,0)","v":0},null,null,null,null,null,null,null,null,null,null,null,null,null,null,null,null,null,null,null,null,null,3,1]
[null,null,"VP PE D 40x3,7 mm (1 kus):5,20*1,015",null,5.2779999999999996,null,null,null,null,null,null,null,"VP PE D 40x3,7 mm (1 kus):5,20*1,015"]
[57,"28613576.04.R","Trubka PE100RC2 SDR11 D 63x5,8 mm L 100m","m",15.7325,null,{"$f":"E341*F341","v":0},4.79E-3,{"$f":"E341*H341","v":7.5358675E-2},null,{"$f":"E341*J341","v":0},null,null,null,2,null,null,null,null,null,null,null,null,null,null,null,3,1,"28613576.04.R",null,null,null,null,null,null,null,null,null,null,null,null,null,null,null,null,null,null,null,null,null,null,1,{"$f":"IF(AZ341=1,G341,0)","v":0},{"$f":"IF(AZ341=2,G341,0)","v":0},{"$f":"IF(AZ341=3,G341,0)","v":0},{"$f":"IF(AZ341=4,G341,0)","v":0},{"$f":"IF(AZ341=5,G341,0)","v":0},null,null,null,null,null,null,null,null,null,null,null,null,null,null,null,null,null,null,null,null,null,3,1]
[null,null,"VP PE D 63x5,8 mm (2 kusy):15,50*1,015",null,15.7325,null,null,null,null,null,null,null,"VP PE D 63x5,8 mm (2 kusy):15,50*1,015"]
[58,"286506003.R","Koleno kanalizační PVC SDR 34 DN 150/45°","kus",20.3,null,{"$f":"E343*F343","v":0},1.2700000000000001E-3,{"$f":"E343*H343","v":2.5781000000000002E-2},null,{"$f":"E343*J343","v":0},null,null,null,2,null,null,null,null,null,null,null,null,null,null,null,3,1,"286506003.R",null,null,null,null,null,null,null,null,null,null,null,null,null,null,null,null,null,null,null,null,null,null,1,{"$f":"IF(AZ343=1,G343,0)","v":0},{"$f":"IF(AZ343=2,G343,0)","v":0},{"$f":"IF(AZ343=3,G343,0)","v":0},{"$f":"IF(AZ343=4,G343,0)","v":0},{"$f":"IF(AZ343=5,G343,0)","v":0},null,null,null,null,null,null,null,null,null,null,null,null,null,null,null,null,null,null,null,null,null,3,1]
[null,null,"Tvarovky kanalizačního systému PVC SDR 34",null,null,null,null,null,null,null,null,"Tvarovky kanalizačního systému PVC SDR 34",null,null,3]
[null,null,"Teplota při pokládce: min. -10 °C, max. 50 °C",null,null,null,null,null,null,null,null,"Teplota při pokládce: min. -10 °C, max. 50 °C",null,null,3]
[null,null,"Max. teplota média: trvale do 40 °C, krátkodobě do 60 °C",null,null,null,null,null,null,null,null,"Max. teplota média: trvale do 40 °C, krátkodobě do 60 °C",null,null,3]
[null,null,"Orientační výška krytí: min. 0,5 m, max. 10 m",null,null,null,null,null,null,null,null,"Orientační výška krytí: min. 0,5 m, max. 10 m",null,null,3]
[null,null,"Max. rychlost média: 12 m/s",null,null,null,null,null,null,null,null,"Max. rychlost média: 12 m/s",null,null,3]
[null,null,"KP PVC DN150 (10 kusů):20*1,015",null,20.3,null,null,null,null,null,null,null,"KP PVC DN150 (10 kusů):20*1,015"]
[null,"Celkem za","8 Trubní vedení",null,null,null,{"$f":"SUM(G252:G349)","v":0},null,{"$f":"SUM(I252:I349)","v":3.8495440249999988},null,{"$f":"SUM(K252:K349)","v":0},null,null,null,4,null,null,null,null,null,null,null,null,null,null,null,null,null,null,null,null,null,null,null,null,null,null,null,null,null,null,null,null,null,null,null,null,null,null,null,null,null,{"$f":"SUM(BA252:BA349)","v":0},{"$f":"SUM(BB252:BB349)","v":0},{"$f":"SUM(BC252:BC349)","v":0},{"$f":"SUM(BD252:BD349)","v":0},{"$f":"SUM(BE252:BE349)","v":0}]
["Díl:","99","Staveništní přesun hmot",null,null,null,null,null,null,null,null,null,null,null,1]
[59,"998276101R00","Přesun hmot, trubní vedení plastová, otevř. výkop ","t",652.15800952500001,null,{"$f":"E352*F352","v":0},0,{"$f":"E352*H352","v":0},null,{"$f":"E352*J352","v":0},null,null,null,2,null,null,null,null,null,null,null,null,null,null,null,7,1,2,null,null,null,null,null,null,null,null,null,null,null,null,null,null,null,null,null,null,null,null,null,null,1,{"$f":"IF(AZ352=1,G352,0)","v":0},{"$f":"IF(AZ352=2,G352,0)","v":0},{"$f":"IF(AZ352=3,G352,0)","v":0},{"$f":"IF(AZ352=4,G352,0)","v":0},{"$f":"IF(AZ352=5,G352,0)","v":0},null,null,null,null,null,null,null,null,null,null,null,null,null,null,null,null,null,null,null,null,null,7,1]
[null,"Celkem za","99 Staveništní přesun hmot",null,null,null,{"$f":"SUM(G351:G352)","v":0},null,{"$f":"SUM(I351:I352)","v":0},null,{"$f":"SUM(K351:K352)","v":0},null,null,null,4,null,null,null,null,null,null,null,null,null,null,null,null,null,null,null,null,null,null,null,null,null,null,null,null,null,null,null,null,null,null,null,null,null,null,null,null,null,{"$f":"SUM(BA351:BA352)","v":0},{"$f":"SUM(BB351:BB352)","v":0},{"$f":"SUM(BC351:BC352)","v":0},{"$f":"SUM(BD351:BD352)","v":0},{"$f":"SUM(BE351:BE352)","v":0}]

{"sheet":"I. 02.01 I. 02.01 KL","index":10,"n_rows":45,"n_cols":8,"rows_kept":45,"cut":false,"hidden":false,"merged":[[45,1,45,6],[46,1,46,6],[47,1,47,6],[48,1,48,6],[49,1,49,6],[50,1,50,6],[29,5,29,6],[30,5,30,6],[31,5,31,6],[32,5,32,6],[33,5,33,6],[36,1,44,6],[7,2,7,4],[8,2,8,4],[9,2,9,4],[10,2,10,4],[11,2,11,4],[22,0,22,1]]}
["POLOŽKOVÝ ROZPOČET"]
["Rozpočet",null,"I. 02.01","Vodovod \"Kavánova\"",null,"JKSO ","827.11.A1"]
[]
["Objekt",null,null,null,null,"SKP "]
["I. 02.01",null,"Vodovod \"Kavánova\"",null,null,"Měrná jednotka","m"]
["Stavba",null,null,null,null,"Počet jednotek",0]
["3334",null,"Lomnice nad Popelkou - Vodovod a kanalizace",null,null,"Náklady na m.j.",{"$f":"IF(G6=0,,ROUND((F30+F32)/G6,1))","v":0}]
["Projektant",null,"VEDU VODU s.r.o. Dobrovice",null,null,"Typ rozpočtu"]
["Zpracovatel projektu"]
["Objednatel",null,"Vodohospodářské sdružení Turnov"]
["Dodavatel",null,".",null,null,"Zakázkové číslo "]
["Rozpočtoval",null,null,null,null,"Počet listů"]
["ROZPOČTOVÉ NÁKLADY"]
["Základní rozpočtové náklady"]
[null,"HSV celkem",{"$f":"'I. 02.01 I. 02.01 Rek'!E13","v":0}]
["Z","PSV celkem",{"$f":"'I. 02.01 I. 02.01 Rek'!F13","v":0}]
["R","M práce celkem",{"$f":"'I. 02.01 I. 02.01 Rek'!H13","v":0}]
["N","M dodávky celkem",{"$f":"'I. 02.01 I. 02.01 Rek'!G13","v":0}]
["ZRN celkem",null,{"$f":"SUM(C15:C18)","v":0}]
[]
["HZS",null,{"$f":"'I. 02.01 I. 02.01 Rek'!I13","v":0}]
["ZRN+HZS",null,{"$f":"C19+C21","v":0}]
["ZRN+ost.náklady+HZS",null,{"$f":"C22+G23","v":0}]
["Vypracoval",null,null,"Za zhotovitele",null,"Za objednatele"]
["Jméno :",null,null,"Jméno :",null,"Jméno :"]
["Datum :",null,null,"Datum :",null,"Datum :"]
[]
["Podpis :",null,null,"Podpis:",null,"Podpis:"]
[]
["Základ pro DPH",null,21,"%  ",null,{"$f":"C23-F32","v":0}]
["DPH",null,{"$f":"C30","v":21},"% ",null,{"$f":"ROUND(PRODUCT(F30,C31/100),0)","v":0}]
["Základ pro DPH",null,0,"% ",null,0]
["DPH",null,{"$f":"C32","v":0},"% ",null,{"$f":"ROUND(PRODUCT(F32,C33/100),0)","v":0}]
["CENA ZA OBJEKT CELKEM",null,null,null,null,{"$f":"ROUND(SUM(F30:F33),0)","v":0}]
[]
["Poznámka :",null,null,null,null,null,null," "]
[null,null,null,null,null,null,null," "]
[null,null,null,null,null,null,null," "]
[null,null,null,null,null,null,null," "]
[null,null,null,null,null,null,null," "]
[null,null,null,null,null,null,null," "]
[null,null,null,null,null,null,null," "]
[null,null,null,null,null,null,null," "]
[null,null,null,null,null,null,null," "]
[null,null,null,null,null,null,null," "]

{"sheet":"I. 02.01 I. 02.01 Rek","index":11,"n_rows":13,"n_cols":9,"rows_kept":13,"cut":false,"hidden":false,"merged":[[0,0,0,1],[1,0,1,1],[1,6,1,8]]}
["Stavba :",null,"3334 Lomnice nad Popelkou - Vodovod a kanalizace",null,null,null,"Rozpočet :","I. 02.01"]
["Objekt :",null,"I. 02.01 Vodovod \"Kavánova\"",null,null,null,"Vodovod \"Kavánova\""]
[]
["REKAPITULACE  STAVEBNÍCH  DÍLŮ"]
[]
[null,"Stavební díl",null,null,"HSV","PSV","Dodávka","Montáž","HZS"]
[{"$f":"'I. 02.01 I. 02.01 Pol'!B7","v":"1"},{"$f":"'I. 02.01 I. 02.01 Pol'!C7","v":"Zemní práce"},null,null,{"$f":"'I. 02.01 I. 02.01 Pol'!BA274","v":0},{"$f":"'I. 02.01 I. 02.01 Pol'!BB274","v":0},{"$f":"'I. 02.01 I. 02.01 Pol'!BC274","v":0},{"$f":"'I. 02.01 I. 02.01 Pol'!BD274","v":0},{"$f":"'I. 02.01 I. 02.01 Pol'!BE274","v":0}]
[{"$f":"'I. 02.01 I. 02.01 Pol'!B275","v":"38"},{"$f":"'I. 02.01 I. 02.01 Pol'!C275","v":"Kompletní konstrukce"},null,null,{"$f":"'I. 02.01 I. 02.01 Pol'!BA286","v":0},{"$f":"'I. 02.01 I. 02.01 Pol'!BB286","v":0},{"$f":"'I. 02.01 I. 02.01 Pol'!BC286","v":0},{"$f":"'I. 02.01 I. 02.01 Pol'!BD286","v":0},{"$f":"'I. 02.01 I. 02.01 Pol'!BE286","v":0}]
[{"$f":"'I. 02.01 I. 02.01 Pol'!B287","v":"45"},{"$f":"'I. 02.01 I. 02.01 Pol'!C287","v":"Podkladní a vedlejší konstrukce"},null,null,{"$f":"'I. 02.01 I. 02.01 Pol'!BA297","v":0},{"$f":"'I. 02.01 I. 02.01 Pol'!BB297","v":0},{"$f":"'I. 02.01 I. 02.01 Pol'!BC297","v":0},{"$f":"'I. 02.01 I. 02.01 Pol'!BD297","v":0},{"$f":"'I. 02.01 I. 02.01 Pol'!BE297","v":0}]
[{"$f":"'I. 02.01 I. 02.01 Pol'!B298","v":"5"},{"$f":"'I. 02.01 I. 02.01 Pol'!C298","v":"Komunikace"},null,null,{"$f":"'I. 02.01 I. 02.01 Pol'!BA323","v":0},{"$f":"'I. 02.01 I. 02.01 Pol'!BB323","v":0},{"$f":"'I. 02.01 I. 02.01 Pol'!BC323","v":0},{"$f":"'I. 02.01 I. 02.01 Pol'!BD323","v":0},{"$f":"'I. 02.01 I. 02.01 Pol'!BE323","v":0}]
[{"$f":"'I. 02.01 I. 02.01 Pol'!B324","v":"8"},{"$f":"'I. 02.01 I. 02.01 Pol'!C324","v":"Trubní vedení"},null,null,{"$f":"'I. 02.01 I. 02.01 Pol'!BA578","v":0},{"$f":"'I. 02.01 I. 02.01 Pol'!BB578","v":0},{"$f":"'I. 02.01 I. 02.01 Pol'!BC578","v":0},{"$f":"'I. 02.01 I. 02.01 Pol'!BD578","v":0},{"$f":"'I. 02.01 I. 02.01 Pol'!BE578","v":0}]
[{"$f":"'I. 02.01 I. 02.01 Pol'!B579","v":"99"},{"$f":"'I. 02.01 I. 02.01 Pol'!C579","v":"Staveništní přesun hmot"},null,null,{"$f":"'I. 02.01 I. 02.01 Pol'!BA581","v":0},{"$f":"'I. 02.01 I. 02.01 Pol'!BB581","v":0},{"$f":"'I. 02.01 I. 02.01 Pol'!BC581","v":0},{"$f":"'I. 02.01 I. 02.01 Pol'!BD581","v":0},{"$f":"'I. 02.01 I. 02.01 Pol'!BE581","v":0}]
[null,"CELKEM  OBJEKT",null,null,{"$f":"SUM(E7:E12)","v":0},{"$f":"SUM(F7:F12)","v":0},{"$f":"SUM(G7:G12)","v":0},{"$f":"SUM(H7:H12)","v":0},{"$f":"SUM(I7:I12)","v":0}]

{"sheet":"I. 02.01 I. 02.01 Pol","index":12,"n_rows":581,"n_cols":80,"rows_kept":581,"cut":false,"hidden":false,"merged":[[572,2,572,3],[573,2,573,3],[575,2,575,3],[576,2,576,3],[563,2,563,3],[564,2,564,3],[566,2,566,3],[567,2,567,3],[569,2,569,3],[570,2,570,3],[556,2,556,3],[557,2,557,3],[558,2,558,3],[559,2,559,3],[560,2,560,3],[562,2,562,3],[548,2,548,3],[550,2,550,3],[551,2,551,3],[552,2,552,3],[553,2,553,3],[554,2,554,3],[540,2,540,3],[542,2,542,3],[543,2,543,3],[544,2,544,3],[546,2,546,3],[547,2,547,3],[532,2,532,6],[533,2,533,3],[534,2,534,3],[536,2,536,3],[537,2,537,3],[539,2,539,3],[525,2,525,3],[526,2,526,3],[528,2,528,6],[529,2,529,6],[530,2,530,6],[531,2,531,6],[519,2,519,6],[520,2,520,6],[521,2,521,6],[522,2,522,6],[523,2,523,6],[524,2,524,3],[511,2,511,6],[512,2,512,3],[513,2,513,3],[515,2,515,3],[516,2,516,3],[517,2,517,3],[504,2,504,3],[506,2,506,6],[507,2,507,6],[508,2,508,6],[509,2,509,6],[510,2,510,6],[498,2,498,6],[499,2,499,6],[500,2,500,6],[501,2,501,6],[502,2,502,6],[503,2,503,3],[490,2,490,3],[492,2,492,6],[493,2,493,6],[494,2,494,3],[495,2,495,3],[497,2,497,6],[482,2,482,3],[484,2,484,3],[485,2,485,3],[487,2,487,6],[488,2,488,6],[489,2,489,3],[474,2,474,3],[476,2,476,3],[477,2,477,3],[478,2,478,3],[480,2,480,3],[481,2,481,3],[466,2,466,3],[468,2,468,3],[469,2,469,3],[470,2,470,3],[472,2,472,3],[473,2,473,3],[458,2,458,3],[460,2,460,3],[461,2,461,3],[462,2,462,3],[464,2,464,3],[465,2,465,3],[450,2,450,3],[451,2,451,3],[452,2,452,3],[454,2,454,3],[455,2,455,3],[457,2,457,3],[444,2,444,6],[445,2,445,3],[446,2,446,3],[447,2,447,3],[448,2,448,3],[449,2,449,3],[437,2,437,3],[438,2,438,3],[439,2,439,3],[440,2,440,3],[441,2,441,3],[442,2,442,3],[430,2,430,3],[431,2,431,3],[432,2,432,3],[433,2,433,3],[434,2,434,3],[436,2,436,3],[423,2,423,3],[424,2,424,3],[426,2,426,6],[427,2,427,3],[428,2,428,3],[429,2,429,3],[416,2,416,3],[417,2,417,3],[418,2,418,3],[419,2,419,3],[421,2,421,3],[422,2,422,3],[408,2,408,3],[410,2,410,6],[411,2,411,3],[412,2,412,3],[414,2,414,6],[415,2,415,3],[401,2,401,3],[402,2,402,3],[403,2,403,3],[404,2,404,3],[406,2,406,6],[407,2,407,3],[393,2,393,3],[394,2,394,3],[396,2,396,3],[397,2,397,3],[398,2,398,3],[399,2,399,3],[385,2,385,3],[386,2,386,3],[388,2,388,6],[389,2,389,3],[390,2,390,3],[392,2,392,6],[378,2,378,3],[379,2,379,3],[380,2,380,3],[381,2,381,3],[383,2,383,6],[384,2,384,3],[371,2,371,6],[372,2,372,3],[373,2,373,3],[375,2,375,6],[376,2,376,3],[377,2,377,3],[364,2,364,3],[365,2,365,3],[366,2,366,3],[367,2,367,3],[368,2,368,3],[369,2,369,3],[357,2,357,6],[358,2,358,3],[359,2,359,3],[360,2,360,3],[362,2,362,6],[363,2,363,3],[350,2,350,3],[351,2,351,3],[352,2,352,3],[353,2,353,3],[354,2,354,3],[355,2,355,3],[344,2,344,6],[345,2,345,3],[346,2,346,3],[347,2,347,3],[348,2,348,3],[349,2,349,3],[336,2,336,3],[337,2,337,3],[338,2,338,3],[340,2,340,6],[341,2,341,3],[342,2,342,3],[329,2,329,6],[330,2,330,6],[331,2,331,6],[332,2,332,6],[333,2,333,3],[335,2,335,6],[318,2,318,3],[319,2,319,3],[320,2,320,3],[321,2,321,3],[325,2,325,6],[326,2,326,6],[327,2,327,6],[328,2,328,6],[312,2,312,3],[313,2,313,3],[314,2,314,3],[315,2,315,3],[316,2,316,3],[317,2,317,3],[305,2,305,3],[306,2,306,3],[307,2,307,3],[308,2,308,3],[309,2,309,3],[311,2,311,3],[293,2,293,3],[294,2,294,3],[299,2,299,3],[300,2,300,3],[301,2,301,3],[302,2,302,3],[303,2,303,3],[304,2,304,3],[282,2,282,6],[283,2,283,6],[284,2,284,3],[288,2,288,3],[289,2,289,3],[290,2,290,3],[291,2,291,3],[292,2,292,3],[271,2,271,3],[272,2,272,3],[276,2,276,6],[277,2,277,6],[278,2,278,6],[279,2,279,6],[280,2,280,6],[281,2,281,6],[265,2,265,3],[266,2,266,3],[267,2,267,3],[268,2,268,3],[269,2,269,3],[270,2,270,3],[259,2,259,3],[260,2,260,3],[261,2,261,3],[262,2,262,3],[263,2,263,3],[264,2,264,3],[253,2,253,3],[254,2,254,3],[255,2,255,3],[256,2,256,3],[257,2,257,3],[258,2,258,3],[246,2,246,3],[247,2,247,3],[249,2,249,3],[250,2,250,3],[251,2,251,3],[252,2,252,3],[239,2,239,6],[241,2,241,3],[242,2,242,3],[243,2,243,3],[244,2,244,3],[245,2,245,3],[230,2,230,3],[231,2,231,3],[232,2,232,3],[233,2,233,3],[234,2,234,3],[235,2,235,3],[223,2,223,3],[224,2,224,3],[225,2,225,3],[226,2,226,3],[228,2,228,3],[229,2,229,3],[217,2,217,3],[218,2,218,3],[219,2,219,3],[220,2,220,3],[221,2,221,3],[222,2,222,3],[210,2,210,3],[211,2,211,3],[212,2,212,3],[213,2,213,3],[215,2,215,3],[216,2,216,3],[203,2,203,3],[204,2,204,3],[205,2,205,3],[207,2,207,3],[208,2,208,3],[209,2,209,3],[197,2,197,3],[198,2,198,3],[199,2,199,3],[200,2,200,3],[201,2,201,3],[202,2,202,3],[191,2,191,3],[192,2,192,3],[193,2,193,3],[194,2,194,3],[195,2,195,3],[196,2,196,3],[185,2,185,3],[186,2,186,3],[187,2,187,3],[188,2,188,3],[189,2,189,3],[190,2,190,3],[179,2,179,3],[181,2,181,6],[182,2,182,3],[183,2,183,3],[184,2,184,3],[173,2,173,3],[174,2,174,3],[175,2,175,3],[176,2,176,3],[177,2,177,3],[178,2,178,3],[166,2,166,3],[168,2,168,3],[169,2,169,3],[170,2,170,3],[171,2,171,3],[172,2,172,3],[160,2,160,3],[161,2,161,3],[162,2,162,3],[163,2,163,3],[164,2,164,3],[165,2,165,3],[153,2,153,3],[154,2,154,3],[155,2,155,3],[156,2,156,3],[157,2,157,3],[158,2,158,3],[146,2,146,3],[147,2,147,3],[148,2,148,3],[149,2,149,3],[150,2,150,3],[152,2,152,3],[140,2,140,3],[141,2,141,3],[142,2,142,3],[143,2,143,3],[144,2,144,3],[145,2,145,3],[133,2,133,3],[134,2,134,3],[135,2,135,3],[136,2,136,3],[138,2,138,6],[139,2,139,3],[127,2,127,3],[128,2,128,3],[129,2,129,3],[130,2,130,3],[131,2,131,3],[132,2,132,3],[120,2,120,3],[121,2,121,3],[122,2,122,3],[123,2,123,3],[125,2,125,3],[126,2,126,3],[114,2,114,3],[115,2,115,3],[116,2,116,3],[117,2,117,3],[118,2,118,3],[119,2,119,3],[107,2,107,3],[108,2,108,3],[109,2,109,3],[111,2,111,6],[112,2,112,3],[113,2,113,3],[101,2,101,3],[102,2,102,3],[103,2,103,3],[104,2,104,3],[105,2,105,3],[106,2,106,3],[94,2,94,3],[95,2,95,3],[96,2,96,3],[98,2,98,3],[99,2,99,3],[100,2,100,3],[88,2,88,3],[89,2,89,3],[90,2,90,3],[91,2,91,3],[92,2,92,3],[93,2,93,3],[81,2,81,3],[82,2,82,3],[84,2,84,6],[85,2,85,3],[86,2,86,3],[87,2,87,3],[74,2,74,3],[75,2,75,3],[77,2,77,6],[78,2,78,3],[79,2,79,3],[80,2,80,3],[67,2,67,3],[68,2,68,3],[69,2,69,3],[71,2,71,3],[72,2,72,3],[73,2,73,3],[60,2,60,3],[61,2,61,3],[62,2,62,3],[64,2,64,6],[65,2,65,3],[66,2,66,3],[53,2,53,3],[54,2,54,3],[55,2,55,3],[56,2,56,3],[58,2,58,3],[59,2,59,3],[46,2,46,3],[47,2,47,3],[48,2,48,3],[49,2,49,3],[51,2,51,6],[52,2,52,3],[40,2,40,3],[41,2,41,3],[42,2,42,3],[43,2,43,3],[44,2,44,3],[45,2,45,3],[34,2,34,6],[35,2,35,3],[36,2,36,3],[37,2,37,3],[38,2,38,3],[39,2,39,3],[25,2,25,3],[26,2,26,3],[27,2,27,3],[28,2,28,3],[29,2,29,3],[30,2,30,3],[18,2,18,3],[20,2,20,3],[21,2,21,3],[22,2,22,3],[23,2,23,3],[24,2,24,3],[12,2,12,3],[13,2,13,3],[14,2,14,3],[15,2,15,3],[16,2,16,3],[17,2,17,3],[0,0,0,6],[2,0,2,1],[3,0,3,1],[3,4,3,6],[8,2,8,3],[9,2,9,3],[10,2,10,3],[11,2,11,3]]}
["Položkový rozpočet "]
[]
["Stavba :",null,"3334 Lomnice nad Popelkou - Vodovod a kanalizace",null,"Rozpočet:",{"$f":"'I. 02.01 I. 02.01 Rek'!H1","v":"I. 02.01"}]
["Objekt :",null,"I. 02.01 Vodovod \"Kavánova\"",null,{"$f":"'I. 02.01 I. 02.01 Rek'!G2","v":"Vodovod \"Kavánova\""}]
[]
["P.č.","Číslo položky","Název položky","MJ","množství","cena / MJ","celkem (Kč)","Jednotková hmotnost","Celková hmotnost","Jednotková dem.hmot.","Celková dem.hmot."]
["Díl:","1","Zemní práce",null,null,null,null,null,null,null,null,null,null,null,1]
[1,"113107625R00","Odstranění podkladu nad 50 m2,kam.drcené tl.25 cm ","m2",70.36,null,{"$f":"E8*F8","v":0},0,{"$f":"E8*H8","v":0},-0.55000000000000004,{"$f":"E8*J8","v":-38.698},null,null,null,2,null,null,null,null,null,null,null,null,null,null,null,1,1,1,null,null,null,null,null,null,null,null,null,null,null,null,null,null,null,null,null,null,null,null,null,null,1,{"$f":"IF(AZ8=1,G8,0)","v":0},{"$f":"IF(AZ8=2,G8,0)","v":0},{"$f":"IF(AZ8=3,G8,0)","v":0},{"$f":"IF(AZ8=4,G8,0)","v":0},{"$f":"IF(AZ8=5,G8,0)","v":0},null,null,null,null,null,null,null,null,null,null,null,null,null,null,null,null,null,null,null,null,null,1,1]
[null,null,"AŠ:",null,0,null,null,null,null,null,null,null,"AŠ:"]
[null,null,"Objem konstrukce komunikací:5,70*4,80",null,27.36,null,null,null,null,null,null,null,"Objem konstrukce komunikací:5,70*4,80"]
[null,null,"NTL:",null,0,null,null,null,null,null,null,null,"NTL:"]
[null,null,"Řad \"K\" DN80:",null,0,null,null,null,null,null,null,null,"Řad \"K\" DN80:"]
[null,null,"Propoj na Řad  \"A\" TLT DN80:",null,0,null,null,null,null,null,null,null,"Propoj na Řad  \"A\" TLT DN80:"]
[null,null,"Řad \"J\" PE D90x8,2 mm:",null,0,null,null,null,null,null,null,null,"Řad \"J\" PE D90x8,2 mm:"]
[null,null,"Objem konstrukce komunikací:(6,20-1,00+16,70-1,00)*1,00",null,20.9,null,null,null,null,null,null,null,"Objem konstrukce komunikací:(6,20-1,00+16,70-1,00)*1,00"]
[null,null,"VTP:",null,0,null,null,null,null,null,null,null,"VTP:"]
[null,null,"Řad \"L\" TLT DN100:",null,0,null,null,null,null,null,null,null,"Řad \"L\" TLT DN100:"]
[null,null,"Řad \"L\" PE D110x10,0 mm:",null,0,null,null,null,null,null,null,null,"Řad \"L\" PE D110x10,0 mm:"]
[null,null,"Objem konstrukce komunikací:(9,60-1,00+14,50-1,00)*1,00",null,22.1,null,null,null,null,null,null,null,"Objem konstrukce komunikací:(9,60-1,00+14,50-1,00)*1,00"]
[2,"113108415R00","Odstranění asfaltové vrstvy pl.nad 50 m2, tl.15 cm ","m2",70.36,null,{"$f":"E20*F20","v":0},0,{"$f":"E20*H20","v":0},-0.33,{"$f":"E20*J20","v":-23.218800000000002},null,null,null,2,null,null,null,null,null,null,null,null,null,null,null,1,1,1,null,null,null,null,null,null,null,null,null,null,null,null,null,null,null,null,null,null,null,null,null,null,1,{"$f":"IF(AZ20=1,G20,0)","v":0},{"$f":"IF(AZ20=2,G20,0)","v":0},{"$f":"IF(AZ20=3,G20,0)","v":0},{"$f":"IF(AZ20=4,G20,0)","v":0},{"$f":"IF(AZ20=5,G20,0)","v":0},null,null,null,null,null,null,null,null,null,null,null,null,null,null,null,null,null,null,null,null,null,1,1]
[null,null,"AŠ:",null,0,null,null,null,null,null,null,null,"AŠ:"]
[null,null,"Objem konstrukce komunikací:5,70*4,80",null,27.36,null,null,null,null,null,null,null,"Objem konstrukce komunikací:5,70*4,80"]
[null,null,"NTL:",null,0,null,null,null,null,null,null,null,"NTL:"]
[null,null,"Řad \"K\" DN80:",null,0,null,null,null,null,null,null,null,"Řad \"K\" DN80:"]
[null,null,"Propoj na Řad  \"A\" TLT DN80:",null,0,null,null,null,null,null,null,null,"Propoj na Řad  \"A\" TLT DN80:"]
[null,null,"Řad \"J\" PE D90x8,2 mm:",null,0,null,null,null,null,null,null,null,"Řad \"J\" PE D90x8,2 mm:"]
[null,null,"Objem konstrukce komunikací:(6,20-1,00+16,70-1,00)*1,00",null,20.9,null,null,null,null,null,null,null,"Objem konstrukce komunikací:(6,20-1,00+16,70-1,00)*1,00"]
[null,null,"VTP:",null,0,null,null,null,null,null,null,null,"VTP:"]
[null,null,"Řad \"L\" TLT DN100:",null,0,null,null,null,null,null,null,null,"Řad \"L\" TLT DN100:"]
[null,null,"Řad \"L\" PE D110x10,0 mm:",null,0,null,null,null,null,null,null,null,"Řad \"L\" PE D110x10,0 mm:"]
[null,null,"Objem konstrukce komunikací:(9,60-1,00+14,50-1,00)*1,00",null,22.1,null,null,null,null,null,null,null,"Objem konstrukce komunikací:(9,60-1,00+14,50-1,00)*1,00"]
[3,"119001401R00","Dočasné zajištění ocelového potrubí do DN 200 mm ","m",15,null,{"$f":"E32*F32","v":0},8.6899999999999998E-3,{"$f":"E32*H32","v":0.13034999999999999},0,{"$f":"E32*J32","v":0},null,null,null,2,null,null,null,null,null,null,null,null,null,null,null,1,1,1,null,null,null,null,null,null,null,null,null,null,null,null,null,null,null,null,null,null,null,null,null,null,1,{"$f":"IF(AZ32=1,G32,0)","v":0},{"$f":"IF(AZ32=2,G32,0)","v":0},{"$f":"IF(AZ32=3,G32,0)","v":0},{"$f":"IF(AZ32=4,G32,0)","v":0},{"$f":"IF(AZ32=5,G32,0)","v":0},null,null,null,null,null,null,null,null,null,null,null,null,null,null,null,null,null,null,null,null,null,1,1]
[4,"119001422R00","Dočasné zajištění kabelů - v počtu 3 - 6 kabelů ","m",11.3,null,{"$f":"E33*F33","v":0},3.9739999999999998E-2,{"$f":"E33*H33","v":0.44906200000000002},0,{"$f":"E33*J33","v":0},null,null,null,2,null,null,null,null,null,null,null,null,null,null,null,1,1,1,null,null,null,null,null,null,null,null,null,null,null,null,null,null,null,null,null,null,null,null,null,null,1,{"$f":"IF(AZ33=1,G33,0)","v":0},{"$f":"IF(AZ33=2,G33,0)","v":0},{"$f":"IF(AZ33=3,G33,0)","v":0},{"$f":"IF(AZ33=4,G33,0)","v":0},{"$f":"IF(AZ33=5,G33,0)","v":0},null,null,null,null,null,null,null,null,null,null,null,null,null,null,null,null,null,null,null,null,null,1,1]
[5,"130001101RRX","Příplatek za ztížené hloubení v blízkosti vedení ","m3",17.532299999999999,null,{"$f":"E34*F34","v":0},0,{"$f":"E34*H34","v":0},0,{"$f":"E34*J34","v":0},null,null,null,2,null,null,null,null,null,null,null,null,null,null,null,1,1,1,null,null,null,null,null,null,null,null,null,null,null,null,null,null,null,null,null,null,null,null,null,null,1,{"$f":"IF(AZ34=1,G34,0)","v":0},{"$f":"IF(AZ34=2,G34,0)","v":0},{"$f":"IF(AZ34=3,G34,0)","v":0},{"$f":"IF(AZ34=4,G34,0)","v":0},{"$f":"IF(AZ34=5,G34,0)","v":0},null,null,null,null,null,null,null,null,null,null,null,null,null,null,null,null,null,null,null,null,null,1,1]
[null,null,"Včetně případných nutných dokopávem a ručního výkopu podél sousedících inženýrských sítí",null,null,null,null,null,null,null,null,"Včetně případných nutných dokopávem a ručního výkopu podél sousedících inženýrských sítí",null,null,3]
[null,null,"Začátek provozního součtu",null,0,null,null,null,null,null,null,null,"Začátek provozního součtu"]
[null,null,"Výkopy:",null,0,null,null,null,null,null,null,null,"Výkopy:"]
[null,null,"AŠ:2,44/3*(4,00*3,10+sqrt(4,00*3,10*5,70*4,80)+5,70*4,80)",null,47.319000000000003,null,null,null,null,null,null,null,"AŠ:2,44/3*(4,00*3,10+sqrt(4,00*3,10*5,70*4,80)+5,70*4,80)"]
[null,null,"Odpočet objemu konstrukce komunikací:-5,70*4,80*0,40",null,-10.944000000000001,null,null,null,null,null,null,null,"Odpočet objemu konstrukce komunikací:-5,70*4,80*0,40"]
[null,null,"NTL:",null,0,null,null,null,null,null,null,null,"NTL:"]
[null,null,"Řad \"K\" DN80:(6,20-1,00)*1,00*1,70",null,8.84,null,null,null,null,null,null,null,"Řad \"K\" DN80:(6,20-1,00)*1,00*1,70"]
[null,null,"Propoj na Řad  \"A\" TLT DN80:0",null,0,null,null,null,null,null,null,null,"Propoj na Řad  \"A\" TLT DN80:0"]
[null,null,"Řad \"J\" PE D90x8,2 mm:(16,70-1,00)*1,00*1,70",null,26.69,null,null,null,null,null,null,null,"Řad \"J\" PE D90x8,2 mm:(16,70-1,00)*1,00*1,70"]
[null,null,"Odpočet objemu konstrukcí komunikací:-(6,20-1,00+16,70-1,00)*1,00*0,40",null,-8.36,null,null,null,null,null,null,null,"Odpočet objemu konstrukcí komunikací:-(6,20-1,00+16,70-1,00)*1,00*0,40"]
[null,null,"VTP:",null,0,null,null,null,null,null,null,null,"VTP:"]
[null,null,"Řad \"L\" TLT DN100:(9,60-1,00)*1,00*1,70",null,14.62,null,null,null,null,null,null,null,"Řad \"L\" TLT DN100:(9,60-1,00)*1,00*1,70"]
[null,null,"Řad \"L\" PE D110x10,0 mm:(14,50-1,00)*1,00*1,70",null,22.95,null,null,null,null,null,null,null,"Řad \"L\" PE D110x10,0 mm:(14,50-1,00)*1,00*1,70"]
[null,null,"Odpočet objemu konstrukcí komunikací:-(9,60-1,00+14,50-1,00)*1,00*0,40",null,-8.84,null,null,null,null,null,null,null,"Odpočet objemu konstrukcí komunikací:-(9,60-1,00+14,50-1,00)*1,00*0,40"]
[null,null,"Konec provozního součtu",null,92.275000000000006,null,null,null,null,null,null,null,"Konec provozního součtu"]
[null,null,"V hornině tř. 3 - 5 - 19%:92,2750*0,19",null,17.532299999999999,null,null,null,null,null,null,null,"V hornině tř. 3 - 5 - 19%:92,2750*0,19"]
[6,"131201111R00","Hloubení nezapaž. jam hor.3 do 100 m3, STROJNĚ ","m3",16.3688,null,{"$f":"E51*F51","v":0},0,{"$f":"E51*H51","v":0},0,{"$f":"E51*J51","v":0},null,null,null,2,null,null,null,null,null,null,null,null,null,null,null,1,1,1,null,null,null,null,null,null,null,null,null,null,null,null,null,null,null,null,null,null,null,null,null,null,1,{"$f":"IF(AZ51=1,G51,0)","v":0},{"$f":"IF(AZ51=2,G51,0)","v":0},{"$f":"IF(AZ51=3,G51,0)","v":0},{"$f":"IF(AZ51=4,G51,0)","v":0},{"$f":"IF(AZ51=5,G51,0)","v":0},null,null,null,null,null,null,null,null,null,null,null,null,null,null,null,null,null,null,null,null,null,1,1]
[null,null,"Položka obsahuje hloubení jámy traktorbagrem, naložení výkopku na dopravní prostředek pro svislé, nebo vodorovné přemístění, popř. přemístění výkopku do 3 m (po povrchu území), případné zajištění rypadel polštáři, udržování pracoviště a ochranu výkopiště proti stékání srážkové vody z okolního terénu i s jejím odvodněním, nebo odvedením, přesekání a odstranění kořenů ve výkopišti, odstranění napadávek, urovnání dna výkopu.",null,null,null,null,null,null,null,null,"Položka obsahuje hloubení jámy traktorbagrem, naložení výkopku na dopravní prostředek pro svislé, nebo vodorovné přemístění, popř. přemístění výkopku do 3 m (po povrchu území), případné zajištění rypadel polštáři, udržování pracoviště a ochranu výkopiště proti stékání srážkové vody z okolního terénu i s jejím odvodněním, nebo odvedením, přesekání a odstranění kořenů ve výkopišti, odstranění napadávek, urovnání dna výkopu.",null,null,3]
[null,null,"Začátek provozního součtu",null,0,null,null,null,null,null,null,null,"Začátek provozního součtu"]
[null,null,"AŠ:2,44/3*(4,00*3,10+sqrt(4,00*3,10*5,70*4,80)+5,70*4,80)",null,47.319000000000003,null,null,null,null,null,null,null,"AŠ:2,44/3*(4,00*3,10+sqrt(4,00*3,10*5,70*4,80)+5,70*4,80)"]
[null,null,"Odpočet objemu konstrukce komunikací:-5,70*4,80*0,40",null,-10.944000000000001,null,null,null,null,null,null,null,"Odpočet objemu konstrukce komunikací:-5,70*4,80*0,40"]
[null,null,"Konec provozního součtu",null,36.375,null,null,null,null,null,null,null,"Konec provozního součtu"]
[null,null,"V hornině tř. 3 - 45%:36,3750*0,45",null,16.3688,null,null,null,null,null,null,null,"V hornině tř. 3 - 45%:36,3750*0,45"]
[7,"131201119R00","Příplatek za lepivost - hloubení nezap.jam v hor.3 ","m3",8.1844000000000001,null,{"$f":"E58*F58","v":0},0,{"$f":"E58*H58","v":0},0,{"$f":"E58*J58","v":0},null,null,null,2,null,null,null,null,null,null,null,null,null,null,null,1,1,1,null,null,null,null,null,null,null,null,null,null,null,null,null,null,null,null,null,null,null,null,null,null,1,{"$f":"IF(AZ58=1,G58,0)","v":0},{"$f":"IF(AZ58=2,G58,0)","v":0},{"$f":"IF(AZ58=3,G58,0)","v":0},{"$f":"IF(AZ58=4,G58,0)","v":0},{"$f":"IF(AZ58=5,G58,0)","v":0},null,null,null,null,null,null,null,null,null,null,null,null,null,null,null,null,null,null,null,null,null,1,1]
[null,null,"Začátek provozního součtu",null,0,null,null,null,null,null,null,null,"Začátek provozního součtu"]
[null,null,"AŠ:2,44/3*(4,00*3,10+sqrt(4,00*3,10*5,70*4,80)+5,70*4,80)",null,47.319000000000003,null,null,null,null,null,null,null,"AŠ:2,44/3*(4,00*3,10+sqrt(4,00*3,10*5,70*4,80)+5,70*4,80)"]
[null,null,"Odpočet objemu konstrukce komunikací:-5,70*4,80*0,40",null,-10.944000000000001,null,null,null,null,null,null,null,"Odpočet objemu konstrukce komunikací:-5,70*4,80*0,40"]
[null,null,"Konec provozního součtu",null,36.375,null,null,null,null,null,null,null,"Konec provozního součtu"]
[null,null,"V hornině tř. 3 - 45%:36,3750*0,45*0,5",null,8.1844000000000001,null,null,null,null,null,null,null,"V hornině tř. 3 - 45%:36,3750*0,45*0,5"]
[8,"131301111R00","Hloubení nezapaž. jam hor.4 do 100 m3, STROJNĚ ","m3",16.3688,null,{"$f":"E64*F64","v":0},0,{"$f":"E64*H64","v":0},0,{"$f":"E64*J64","v":0},null,null,null,2,null,null,null,null,null,null,null,null,null,null,null,1,1,1,null,null,null,null,null,null,null,null,null,null,null,null,null,null,null,null,null,null,null,null,null,null,1,{"$f":"IF(AZ64=1,G64,0)","v":0},{"$f":"IF(AZ64=2,G64,0)","v":0},{"$f":"IF(AZ64=3,G64,0)","v":0},{"$f":"IF(AZ64=4,G64,0)","v":0},{"$f":"IF(AZ64=5,G64,0)","v":0},null,null,null,null,null,null,null,null,null,null,null,null,null,null,null,null,null,null,null,null,null,1,1]
[null,null,"Položka obsahuje hloubení jámy traktorbagrem, naložení výkopku na dopravní prostředek pro svislé, nebo vodorovné přemístění, popř. přemístění výkopku do 3 m (po povrchu území), případné zajištění rypadel polštáři, udržování pracoviště a ochranu výkopiště proti stékání srážkové vody z okolního terénu i s jejím odvodněním, nebo odvedením, přesekání a odstranění kořenů ve výkopišti, odstranění napadávek, urovnání dna výkopu.",null,null,null,null,null,null,null,null,"Položka obsahuje hloubení jámy traktorbagrem, naložení výkopku na dopravní prostředek pro svislé, nebo vodorovné přemístění, popř. přemístění výkopku do 3 m (po povrchu území), případné zajištění rypadel polštáři, udržování pracoviště a ochranu výkopiště proti stékání srážkové vody z okolního terénu i s jejím odvodněním, nebo odvedením, přesekání a odstranění kořenů ve výkopišti, odstranění napadávek, urovnání dna výkopu.",null,null,3]
[null,null,"Začátek provozního součtu",null,0,null,null,null,null,null,null,null,"Začátek provozního součtu"]
[null,null,"AŠ:2,44/3*(4,00*3,10+sqrt(4,00*3,10*5,70*4,80)+5,70*4,80)",null,47.319000000000003,null,null,null,null,null,null,null,"AŠ:2,44/3*(4,00*3,10+sqrt(4,00*3,10*5,70*4,80)+5,70*4,80)"]
[null,null,"Odpočet objemu konstrukce komunikací:-5,70*4,80*0,40",null,-10.944000000000001,null,null,null,null,null,null,null,"Odpočet objemu konstrukce komunikací:-5,70*4,80*0,40"]
[null,null,"Konec provozního součtu",null,36.375,null,null,null,null,null,null,null,"Konec provozního součtu"]
[null,null,"V hornině tř. 4 - 45%:36,3750*0,45",null,16.3688,null,null,null,null,null,null,null,"V hornině tř. 4 - 45%:36,3750*0,45"]
[9,"131301119R00","Příplatek za lepivost - hloubení nezap.jam v hor.4 ","m3",8.1844000000000001,null,{"$f":"E71*F71","v":0},0,{"$f":"E71*H71","v":0},0,{"$f":"E71*J71","v":0},null,null,null,2,null,null,null,null,null,null,null,null,null,null,null,1,1,1,null,null,null,null,null,null,null,null,null,null,null,null,null,null,null,null,null,null,null,null,null,null,1,{"$f":"IF(AZ71=1,G71,0)","v":0},{"$f":"IF(AZ71=2,G71,0)","v":0},{"$f":"IF(AZ71=3,G71,0)","v":0},{"$f":"IF(AZ71=4,G71,0)","v":0},{"$f":"IF(AZ71=5,G71,0)","v":0},null,null,null,null,null,null,null,null,null,null,null,null,null,null,null,null,null,null,null,null,null,1,1]
[null,null,"Začátek provozního součtu",null,0,null,null,null,null,null,null,null,"Začátek provozního součtu"]
[null,null,"AŠ:2,44/3*(4,00*3,10+sqrt(4,00*3,10*5,70*4,80)+5,70*4,80)",null,47.319000000000003,null,null,null,null,null,null,null,"AŠ:2,44/3*(4,00*3,10+sqrt(4,00*3,10*5,70*4,80)+5,70*4,80)"]
[null,null,"Odpočet objemu konstrukce komunikací:-5,70*4,80*0,40",null,-10.944000000000001,null,null,null,null,null,null,null,"Odpočet objemu konstrukce komunikací:-5,70*4,80*0,40"]
[null,null,"Konec provozního součtu",null,36.375,null,null,null,null,null,null,null,"Konec provozního součtu"]
[null,null,"V hornině tř. 4 - 45%:36,3750*0,45*0,5",null,8.1844000000000001,null,null,null,null,null,null,null,"V hornině tř. 4 - 45%:36,3750*0,45*0,5"]
[10,"131401111R00","Hloubení nezapaž. jam v hor.5 do 100 m3, STROJNĚ ","m3",3.6375000000000002,null,{"$f":"E77*F77","v":0},0,{"$f":"E77*H77","v":0},0,{"$f":"E77*J77","v":0},null,null,null,2,null,null,null,null,null,null,null,null,null,null,null,1,1,1,null,null,null,null,null,null,null,null,null,null,null,null,null,null,null,null,null,null,null,null,null,null,1,{"$f":"IF(AZ77=1,G77,0)","v":0},{"$f":"IF(AZ77=2,G77,0)","v":0},{"$f":"IF(AZ77=3,G77,0)","v":0},{"$f":"IF(AZ77=4,G77,0)","v":0},{"$f":"IF(AZ77=5,G77,0)","v":0},null,null,null,null,null,null,null,null,null,null,null,null,null,null,null,null,null,null,null,null,null,1,1]
[null,null,"Položka obsahuje hloubení jámy traktorbagrem, naložení výkopku na dopravní prostředek pro svislé, nebo vodorovné přemístění, popř. přemístění výkopku do 3 m (po povrchu území), případné zajištění rypadel polštáři, udržování pracoviště a ochranu výkopiště proti stékání srážkové vody z okolního terénu i s jejím odvodněním, nebo odvedením, přesekání a odstranění kořenů ve výkopišti, odstranění napadávek, urovnání dna výkopu.",null,null,null,null,null,null,null,null,"Položka obsahuje hloubení jámy traktorbagrem, naložení výkopku na dopravní prostředek pro svislé, nebo vodorovné přemístění, popř. přemístění výkopku do 3 m (po povrchu území), případné zajištění rypadel polštáři, udržování pracoviště a ochranu výkopiště proti stékání srážkové vody z okolního terénu i s jejím odvodněním, nebo odvedením, přesekání a odstranění kořenů ve výkopišti, odstranění napadávek, urovnání dna výkopu.",null,null,3]
[null,null,"Začátek provozního součtu",null,0,null,null,null,null,null,null,null,"Začátek provozního součtu"]
[null,null,"AŠ:2,44/3*(4,00*3,10+sqrt(4,00*3,10*5,70*4,80)+5,70*4,80)",null,47.319000000000003,null,null,null,null,null,null,null,"AŠ:2,44/3*(4,00*3,10+sqrt(4,00*3,10*5,70*4,80)+5,70*4,80)"]
[null,null,"Odpočet objemu konstrukce komunikací:-5,70*4,80*0,40",null,-10.944000000000001,null,null,null,null,null,null,null,"Odpočet objemu konstrukce komunikací:-5,70*4,80*0,40"]
[null,null,"Konec provozního součtu",null,36.375,null,null,null,null,null,null,null,"Konec provozního součtu"]
[null,null,"V hornině tř. 5 - 10%:36,3750*0,1",null,3.6375000000000002,null,null,null,null,null,null,null,"V hornině tř. 5 - 10%:36,3750*0,1"]
[11,"132201211R00","Hloubení rýh š.do 200 cm hor.3 do 100 m3,STROJNĚ ","m3",25.155000000000001,null,{"$f":"E84*F84","v":0},0,{"$f":"E84*H84","v":0},0,{"$f":"E84*J84","v":0},null,null,null,2,null,null,null,null,null,null,null,null,null,null,null,1,1,1,null,null,null,null,null,null,null,null,null,null,null,null,null,null,null,null,null,null,null,null,null,null,1,{"$f":"IF(AZ84=1,G84,0)","v":0},{"$f":"IF(AZ84=2,G84,0)","v":0},{"$f":"IF(AZ84=3,G84,0)","v":0},{"$f":"IF(AZ84=4,G84,0)","v":0},{"$f":"IF(AZ84=5,G84,0)","v":0},null,null,null,null,null,null,null,null,null,null,null,null,null,null,null,null,null,null,null,null,null,1,1]
[null,null,"Položka obsahuje hloubení rýh traktorbagrem, naložení výkopku na dopravní prostředek pro svislé, nebo vodorovné přemístění, popř. přemístění výkopku do 3 m (po povrchu území), případné zajištění rypadel polštáři, udržování pracoviště a ochranu výkopiště proti stékání srážkové vody z okolního terénu i s jejím odvodněním, nebo odvedením, přesekání a odstranění kořenů ve výkopišti, odstranění napadávek, urovnání dna výkopu.",null,null,null,null,null,null,null,null,"Položka obsahuje hloubení rýh traktorbagrem, naložení výkopku na dopravní prostředek pro svislé, nebo vodorovné přemístění, popř. přemístění výkopku do 3 m (po povrchu území), případné zajištění rypadel polštáři, udržování pracoviště a ochranu výkopiště proti stékání srážkové vody z okolního terénu i s jejím odvodněním, nebo odvedením, přesekání a odstranění kořenů ve výkopišti, odstranění napadávek, urovnání dna výkopu.",null,null,3]
[null,null,"Začátek provozního součtu",null,0,null,null,null,null,null,null,null,"Začátek provozního součtu"]
[null,null,"NTL:",null,0,null,null,null,null,null,null,null,"NTL:"]
[null,null,"Řad \"K\" DN80:(6,20-1,00)*1,00*1,70",null,8.84,null,null,null,null,null,null,null,"Řad \"K\" DN80:(6,20-1,00)*1,00*1,70"]
[null,null,"Propoj na Řad  \"A\" TLT DN80:0",null,0,null,null,null,null,null,null,null,"Propoj na Řad  \"A\" TLT DN80:0"]
[null,null,"Řad \"J\" PE D90x8,2 mm:(16,70-1,00)*1,00*1,70",null,26.69,null,null,null,null,null,null,null,"Řad \"J\" PE D90x8,2 mm:(16,70-1,00)*1,00*1,70"]
[null,null,"Odpočet objemu konstrukcí komunikací:-(6,20-1,00+16,70-1,00)*1,00*0,40",null,-8.36,null,null,null,null,null,null,null,"Odpočet objemu konstrukcí komunikací:-(6,20-1,00+16,70-1,00)*1,00*0,40"]
[null,null,"VTP:",null,0,null,null,null,null,null,null,null,"VTP:"]
[null,null,"Řad \"L\" TLT DN100:(9,60-1,00)*1,00*1,70",null,14.62,null,null,null,null,null,null,null,"Řad \"L\" TLT DN100:(9,60-1,00)*1,00*1,70"]
[null,null,"Řad \"L\" PE D110x10,0 mm:(14,50-1,00)*1,00*1,70",null,22.95,null,null,null,null,null,null,null,"Řad \"L\" PE D110x10,0 mm:(14,50-1,00)*1,00*1,70"]
[null,null,"Odpočet objemu konstrukcí komunikací:-(9,60-1,00+14,50-1,00)*1,00*0,40",null,-8.84,null,null,null,null,null,null,null,"Odpočet objemu konstrukcí komunikací:-(9,60-1,00+14,50-1,00)*1,00*0,40"]
[null,null,"Konec provozního součtu",null,55.899999999999991,null,null,null,null,null,null,null,"Konec provozního součtu"]
[null,null,"V hornině tř. 3 - 45%:55,9000*0,45",null,25.155000000000001,null,null,null,null,null,null,null,"V hornině tř. 3 - 45%:55,9000*0,45"]
[12,"132201219R00","Přípl.za lepivost,hloubení rýh 200cm,hor.3,STROJNĚ ","m3",12.577500000000001,null,{"$f":"E98*F98","v":0},0,{"$f":"E98*H98","v":0},0,{"$f":"E98*J98","v":0},null,null,null,2,null,null,null,null,null,null,null,null,null,null,null,1,1,1,null,null,null,null,null,null,null,null,null,null,null,null,null,null,null,null,null,null,null,null,null,null,1,{"$f":"IF(AZ98=1,G98,0)","v":0},{"$f":"IF(AZ98=2,G98,0)","v":0},{"$f":"IF(AZ98=3,G98,0)","v":0},{"$f":"IF(AZ98=4,G98,0)","v":0},{"$f":"IF(AZ98=5,G98,0)","v":0},null,null,null,null,null,null,null,null,null,null,null,null,null,null,null,null,null,null,null,null,null,1,1]
[null,null,"Začátek provozního součtu",null,0,null,null,null,null,null,null,null,"Začátek provozního součtu"]
[null,null,"NTL:",null,0,null,null,null,null,null,null,null,"NTL:"]
[null,null,"Řad \"K\" DN80:(6,20-1,00)*1,00*1,70",null,8.84,null,null,null,null,null,null,null,"Řad \"K\" DN80:(6,20-1,00)*1,00*1,70"]
[null,null,"Propoj na Řad  \"A\" TLT DN80:0",null,0,null,null,null,null,null,null,null,"Propoj na Řad  \"A\" TLT DN80:0"]
[null,null,"Řad \"J\" PE D90x8,2 mm:(16,70-1,00)*1,00*1,70",null,26.69,null,null,null,null,null,null,null,"Řad \"J\" PE D90x8,2 mm:(16,70-1,00)*1,00*1,70"]
[null,null,"Odpočet objemu konstrukcí komunikací:-(6,20-1,00+16,70-1,00)*1,00*0,40",null,-8.36,null,null,null,null,null,null,null,"Odpočet objemu konstrukcí komunikací:-(6,20-1,00+16,70-1,00)*1,00*0,40"]
[null,null,"VTP:",null,0,null,null,null,null,null,null,null,"VTP:"]
[null,null,"Řad \"L\" TLT DN100:(9,60-1,00)*1,00*1,70",null,14.62,null,null,null,null,null,null,null,"Řad \"L\" TLT DN100:(9,60-1,00)*1,00*1,70"]
[null,null,"Řad \"L\" PE D110x10,0 mm:(14,50-1,00)*1,00*1,70",null,22.95,null,null,null,null,null,null,null,"Řad \"L\" PE D110x10,0 mm:(14,50-1,00)*1,00*1,70"]
[null,null,"Odpočet objemu konstrukcí komunikací:-(9,60-1,00+14,50-1,00)*1,00*0,40",null,-8.84,null,null,null,null,null,null,null,"Odpočet objemu konstrukcí komunikací:-(9,60-1,00+14,50-1,00)*1,00*0,40"]
[null,null,"Konec provozního součtu",null,55.899999999999991,null,null,null,null,null,null,null,"Konec provozního součtu"]
[null,null,"V hornině tř. 3 - 45%:55,9000*0,45*0,5",null,12.577500000000001,null,null,null,null,null,null,null,"V hornině tř. 3 - 45%:55,9000*0,45*0,5"]
[13,"132301211R00","Hloubení rýh š.do 200 cm hor.4 do 100 m3, STROJNĚ ","m3",25.155000000000001,null,{"$f":"E111*F111","v":0},0,{"$f":"E111*H111","v":0},0,{"$f":"E111*J111","v":0},null,null,null,2,null,null,null,null,null,null,null,null,null,null,null,1,1,1,null,null,null,null,null,null,null,null,null,null,null,null,null,null,null,null,null,null,null,null,null,null,1,{"$f":"IF(AZ111=1,G111,0)","v":0},{"$f":"IF(AZ111=2,G111,0)","v":0},{"$f":"IF(AZ111=3,G111,0)","v":0},{"$f":"IF(AZ111=4,G111,0)","v":0},{"$f":"IF(AZ111=5,G111,0)","v":0},null,null,null,null,null,null,null,null,null,null,null,null,null,null,null,null,null,null,null,null,null,1,1]
[null,null,"Položka obsahuje hloubení rýh traktorbagrem, naložení výkopku na dopravní prostředek pro svislé, nebo vodorovné přemístění, popř. přemístění výkopku do 3 m (po povrchu území), případné zajištění rypadel polštáři, udržování pracoviště a ochranu výkopiště proti stékání srážkové vody z okolního terénu i s jejím odvodněním, nebo odvedením, přesekání a odstranění kořenů ve výkopišti, odstranění napadávek, urovnání dna výkopu.",null,null,null,null,null,null,null,null,"Položka obsahuje hloubení rýh traktorbagrem, naložení výkopku na dopravní prostředek pro svislé, nebo vodorovné přemístění, popř. přemístění výkopku do 3 m (po povrchu území), případné zajištění rypadel polštáři, udržování pracoviště a ochranu výkopiště proti stékání srážkové vody z okolního terénu i s jejím odvodněním, nebo odvedením, přesekání a odstranění kořenů ve výkopišti, odstranění napadávek, urovnání dna výkopu.",null,null,3]
[null,null,"Začátek provozního součtu",null,0,null,null,null,null,null,null,null,"Začátek provozního součtu"]
[null,null,"NTL:",null,0,null,null,null,null,null,null,null,"NTL:"]
[null,null,"Řad \"K\" DN80:(6,20-1,00)*1,00*1,70",null,8.84,null,null,null,null,null,null,null,"Řad \"K\" DN80:(6,20-1,00)*1,00*1,70"]
[null,null,"Propoj na Řad  \"A\" TLT DN80:0",null,0,null,null,null,null,null,null,null,"Propoj na Řad  \"A\" TLT DN80:0"]
[null,null,"Řad \"J\" PE D90x8,2 mm:(16,70-1,00)*1,00*1,70",null,26.69,null,null,null,null,null,null,null,"Řad \"J\" PE D90x8,2 mm:(16,70-1,00)*1,00*1,70"]
[null,null,"Odpočet objemu konstrukcí komunikací:-(6,20-1,00+16,70-1,00)*1,00*0,40",null,-8.36,null,null,null,null,null,null,null,"Odpočet objemu konstrukcí komunikací:-(6,20-1,00+16,70-1,00)*1,00*0,40"]
[null,null,"VTP:",null,0,null,null,null,null,null,null,null,"VTP:"]
[null,null,"Řad \"L\" TLT DN100:(9,60-1,00)*1,00*1,70",null,14.62,null,null,null,null,null,null,null,"Řad \"L\" TLT DN100:(9,60-1,00)*1,00*1,70"]
[null,null,"Řad \"L\" PE D110x10,0 mm:(14,50-1,00)*1,00*1,70",null,22.95,null,null,null,null,null,null,null,"Řad \"L\" PE D110x10,0 mm:(14,50-1,00)*1,00*1,70"]
[null,null,"Odpočet objemu konstrukcí komunikací:-(9,60-1,00+14,50-1,00)*1,00*0,40",null,-8.84,null,null,null,null,null,null,null,"Odpočet objemu konstrukcí komunikací:-(9,60-1,00+14,50-1,00)*1,00*0,40"]
[null,null,"Konec provozního součtu",null,55.899999999999991,null,null,null,null,null,null,null,"Konec provozního součtu"]
[null,null,"V hornině tř. 4 - 45%:55,9000*0,45",null,25.155000000000001,null,null,null,null,null,null,null,"V hornině tř. 4 - 45%:55,9000*0,45"]
[14,"132301219R00","Přípl.za lepivost,hloubení rýh 200cm,hor.4,STROJNĚ ","m3",12.577500000000001,null,{"$f":"E125*F125","v":0},0,{"$f":"E125*H125","v":0},0,{"$f":"E125*J125","v":0},null,null,null,2,null,null,null,null,null,null,null,null,null,null,null,1,1,1,null,null,null,null,null,null,null,null,null,null,null,null,null,null,null,null,null,null,null,null,null,null,1,{"$f":"IF(AZ125=1,G125,0)","v":0},{"$f":"IF(AZ125=2,G125,0)","v":0},{"$f":"IF(AZ125=3,G125,0)","v":0},{"$f":"IF(AZ125=4,G125,0)","v":0},{"$f":"IF(AZ125=5,G125,0)","v":0},null,null,null,null,null,null,null,null,null,null,null,null,null,null,null,null,null,null,null,null,null,1,1]
[null,null,"Začátek provozního součtu",null,0,null,null,null,null,null,null,null,"Začátek provozního součtu"]
[null,null,"NTL:",null,0,null,null,null,null,null,null,null,"NTL:"]
[null,null,"Řad \"K\" DN80:(6,20-1,00)*1,00*1,70",null,8.84,null,null,null,null,null,null,null,"Řad \"K\" DN80:(6,20-1,00)*1,00*1,70"]
[null,null,"Propoj na Řad  \"A\" TLT DN80:0",null,0,null,null,null,null,null,null,null,"Propoj na Řad  \"A\" TLT DN80:0"]
[null,null,"Řad \"J\" PE D90x8,2 mm:(16,70-1,00)*1,00*1,70",null,26.69,null,null,null,null,null,null,null,"Řad \"J\" PE D90x8,2 mm:(16,70-1,00)*1,00*1,70"]
[null,null,"Odpočet objemu konstrukcí komunikací:-(6,20-1,00+16,70-1,00)*1,00*0,40",null,-8.36,null,null,null,null,null,null,null,"Odpočet objemu konstrukcí komunikací:-(6,20-1,00+16,70-1,00)*1,00*0,40"]
[null,null,"VTP:",null,0,null,null,null,null,null,null,null,"VTP:"]
[null,null,"Řad \"L\" TLT DN100:(9,60-1,00)*1,00*1,70",null,14.62,null,null,null,null,null,null,null,"Řad \"L\" TLT DN100:(9,60-1,00)*1,00*1,70"]
[null,null,"Řad \"L\" PE D110x10,0 mm:(14,50-1,00)*1,00*1,70",null,22.95,null,null,null,null,null,null,null,"Řad \"L\" PE D110x10,0 mm:(14,50-1,00)*1,00*1,70"]
[null,null,"Odpočet objemu konstrukcí komunikací:-(9,60-1,00+14,50-1,00)*1,00*0,40",null,-8.84,null,null,null,null,null,null,null,"Odpočet objemu konstrukcí komunikací:-(9,60-1,00+14,50-1,00)*1,00*0,40"]
[null,null,"Konec provozního součtu",null,55.899999999999991,null,null,null,null,null,null,null,"Konec provozního součtu"]
[null,null,"V hornině tř. 4 - 45%:55,9000*0,45*0,5",null,12.577500000000001,null,null,null,null,null,null,null,"V hornině tř. 4 - 45%:55,9000*0,45*0,5"]
[15,"132401211R00","Hloubení rýh šířky do 200 cm v hor.5, STROJNĚ ","m3",5.59,null,{"$f":"E138*F138","v":0},0,{"$f":"E138*H138","v":0},0,{"$f":"E138*J138","v":0},null,null,null,2,null,null,null,null,null,null,null,null,null,null,null,1,1,1,null,null,null,null,null,null,null,null,null,null,null,null,null,null,null,null,null,null,null,null,null,null,1,{"$f":"IF(AZ138=1,G138,0)","v":0},{"$f":"IF(AZ138=2,G138,0)","v":0},{"$f":"IF(AZ138=3,G138,0)","v":0},{"$f":"IF(AZ138=4,G138,0)","v":0},{"$f":"IF(AZ138=5,G138,0)","v":0},null,null,null,null,null,null,null,null,null,null,null,null,null,null,null,null,null,null,null,null,null,1,1]
[null,null,"Položka obsahuje hloubení jámy kolovým rypadlem s rozrývacím zubem, naložení výkopku na dopravní prostředek pro svislé, nebo vodorovné přemístění, popř. přemístění výkopku do 3 m (po povrchu území), případné zajištění rypadel polštáři, udržování pracoviště a ochranu výkopiště proti stékání srážkové vody z okolního terénu i s jejím odvodněním, nebo odvedením, přesekání a odstranění kořenů ve výkopišti, odstranění napadávek, urovnání dna výkopu. Položka se používá bez ohledu na těžené množství.",null,null,null,null,null,null,null,null,"Položka obsahuje hloubení jámy kolovým rypadlem s rozrývacím zubem, naložení výkopku na dopravní prostředek pro svislé, nebo vodorovné přemístění, popř. přemístění výkopku do 3 m (po povrchu území), případné zajištění rypadel polštáři, udržování pracoviště a ochranu výkopiště proti stékání srážkové vody z okolního terénu i s jejím odvodněním, nebo odvedením, přesekání a odstranění kořenů ve výkopišti, odstranění napadávek, urovnání dna výkopu. Položka se používá bez ohledu na těžené množství.",null,null,3]
[null,null,"Začátek provozního součtu",null,0,null,null,null,null,null,null,null,"Začátek provozního součtu"]
[null,null,"NTL:",null,0,null,null,null,null,null,null,null,"NTL:"]
[null,null,"Řad \"K\" DN80:(6,20-1,00)*1,00*1,70",null,8.84,null,null,null,null,null,null,null,"Řad \"K\" DN80:(6,20-1,00)*1,00*1,70"]
[null,null,"Propoj na Řad  \"A\" TLT DN80:0",null,0,null,null,null,null,null,null,null,"Propoj na Řad  \"A\" TLT DN80:0"]
[null,null,"Řad \"J\" PE D90x8,2 mm:(16,70-1,00)*1,00*1,70",null,26.69,null,null,null,null,null,null,null,"Řad \"J\" PE D90x8,2 mm:(16,70-1,00)*1,00*1,70"]
[null,null,"Odpočet objemu konstrukcí komunikací:-(6,20-1,00+16,70-1,00)*1,00*0,40",null,-8.36,null,null,null,null,null,null,null,"Odpočet objemu konstrukcí komunikací:-(6,20-1,00+16,70-1,00)*1,00*0,40"]
[null,null,"VTP:",null,0,null,null,null,null,null,null,null,"VTP:"]
[null,null,"Řad \"L\" TLT DN100:(9,60-1,00)*1,00*1,70",null,14.62,null,null,null,null,null,null,null,"Řad \"L\" TLT DN100:(9,60-1,00)*1,00*1,70"]
[null,null,"Řad \"L\" PE D110x10,0 mm:(14,50-1,00)*1,00*1,70",null,22.95,null,null,null,null,null,null,null,"Řad \"L\" PE D110x10,0 mm:(14,50-1,00)*1,00*1,70"]
[null,null,"Odpočet objemu konstrukcí komunikací:-(9,60-1,00+14,50-1,00)*1,00*0,40",null,-8.84,null,null,null,null,null,null,null,"Odpočet objemu konstrukcí komunikací:-(9,60-1,00+14,50-1,00)*1,00*0,40"]
[null,null,"Konec provozního součtu",null,55.899999999999991,null,null,null,null,null,null,null,"Konec provozního součtu"]
[null,null,"V hornině tř. 5 - 10%:55,9000*0,1",null,5.59,null,null,null,null,null,null,null,"V hornině tř. 5 - 10%:55,9000*0,1"]
[16,"151101101R00","Pažení a rozepření stěn rýh - příložné - hl.do 2 m ","m2",146.19999999999999,null,{"$f":"E152*F152","v":0},9.8999999999999999E-4,{"$f":"E152*H152","v":0.14473799999999998},0,{"$f":"E152*J152","v":0},null,null,null,2,null,null,null,null,null,null,null,null,null,null,null,1,1,1,null,null,null,null,null,null,null,null,null,null,null,null,null,null,null,null,null,null,null,null,null,null,1,{"$f":"IF(AZ152=1,G152,0)","v":0},{"$f":"IF(AZ152=2,G152,0)","v":0},{"$f":"IF(AZ152=3,G152,0)","v":0},{"$f":"IF(AZ152=4,G152,0)","v":0},{"$f":"IF(AZ152=5,G152,0)","v":0},null,null,null,null,null,null,null,null,null,null,null,null,null,null,null,null,null,null,null,null,null,1,1]
[null,null,"NTL:",null,0,null,null,null,null,null,null,null,"NTL:"]
[null,null,"Řad \"K\" DN80:(6,20-1,00)*1,70*2",null,17.68,null,null,null,null,null,null,null,"Řad \"K\" DN80:(6,20-1,00)*1,70*2"]
[null,null,"Propoj na Řad  \"A\" TLT DN80:0",null,0,null,null,null,null,null,null,null,"Propoj na Řad  \"A\" TLT DN80:0"]
[null,null,"Řad \"J\" PE D90x8,2 mm:(16,70-1,00)*1,70*2",null,53.38,null,null,null,null,null,null,null,"Řad \"J\" PE D90x8,2 mm:(16,70-1,00)*1,70*2"]
[null,null,"VTP:",null,0,null,null,null,null,null,null,null,"VTP:"]
[null,null,"Řad \"L\" TLT DN100:(9,60-1,00)*1,70*2",null,29.24,null,null,null,null,null,null,null,"Řad \"L\" TLT DN100:(9,60-1,00)*1,70*2"]
[null,null,"Řad \"L\" PE D110x10,0 mm:(14,50-1,00)*1,70*2",null,45.9,null,null,null,null,null,null,null,"Řad \"L\" PE D110x10,0 mm:(14,50-1,00)*1,70*2"]
[17,"151101111R00","Odstranění pažení stěn rýh - příložné - hl. do 2 m ","m2",146.19999999999999,null,{"$f":"E160*F160","v":0},0,{"$f":"E160*H160","v":0},0,{"$f":"E160*J160","v":0},null,null,null,2,null,null,null,null,null,null,null,null,null,null,null,1,1,1,null,null,null,null,null,null,null,null,null,null,null,null,null,null,null,null,null,null,null,null,null,null,1,{"$f":"IF(AZ160=1,G160,0)","v":0},{"$f":"IF(AZ160=2,G160,0)","v":0},{"$f":"IF(AZ160=3,G160,0)","v":0},{"$f":"IF(AZ160=4,G160,0)","v":0},{"$f":"IF(AZ160=5,G160,0)","v":0},null,null,null,null,null,null,null,null,null,null,null,null,null,null,null,null,null,null,null,null,null,1,1]
[null,null,"NTL:",null,0,null,null,null,null,null,null,null,"NTL:"]
[null,null,"Řad \"K\" DN80:(6,20-1,00)*1,70*2",null,17.68,null,null,null,null,null,null,null,"Řad \"K\" DN80:(6,20-1,00)*1,70*2"]
[null,null,"Propoj na Řad  \"A\" TLT DN80:0",null,0,null,null,null,null,null,null,null,"Propoj na Řad  \"A\" TLT DN80:0"]
[null,null,"Řad \"J\" PE D90x8,2 mm:(16,70-1,00)*1,70*2",null,53.38,null,null,null,null,null,null,null,"Řad \"J\" PE D90x8,2 mm:(16,70-1,00)*1,70*2"]
[null,null,"VTP:",null,0,null,null,null,null,null,null,null,"VTP:"]
[null,null,"Řad \"L\" TLT DN100:(9,60-1,00)*1,70*2",null,29.24,null,null,null,null,null,null,null,"Řad \"L\" TLT DN100:(9,60-1,00)*1,70*2"]
[null,null,"Řad \"L\" PE D110x10,0 mm:(14,50-1,00)*1,70*2",null,45.9,null,null,null,null,null,null,null,"Řad \"L\" PE D110x10,0 mm:(14,50-1,00)*1,70*2"]
[18,"162701105RSZ","Vodorovné přemístění výkopku z hor.1-4 na skládku zhotovitele","m3",92.275000000000006,null,{"$f":"E168*F168","v":0},0,{"$f":"E168*H168","v":0},0,{"$f":"E168*J168","v":0},null,null,null,2,null,null,null,null,null,null,null,null,null,null,null,1,1,1,null,null,null,null,null,null,null,null,null,null,null,null,null,null,null,null,null,null,null,null,null,null,1,{"$f":"IF(AZ168=1,G168,0)","v":0},{"$f":"IF(AZ168=2,G168,0)","v":0},{"$f":"IF(AZ168=3,G168,0)","v":0},{"$f":"IF(AZ168=4,G168,0)","v":0},{"$f":"IF(AZ168=5,G168,0)","v":0},null,null,null,null,null,null,null,null,null,null,null,null,null,null,null,null,null,null,null,null,null,1,1]
[null,null,"Výkopy:",null,0,null,null,null,null,null,null,null,"Výkopy:"]
[null,null,"AŠ:2,44/3*(4,00*3,10+sqrt(4,00*3,10*5,70*4,80)+5,70*4,80)",null,47.319000000000003,null,null,null,null,null,null,null,"AŠ:2,44/3*(4,00*3,10+sqrt(4,00*3,10*5,70*4,80)+5,70*4,80)"]
[null,null,"Odpočet objemu konstrukce komunikací:-5,70*4,80*0,40",null,-10.944000000000001,null,null,null,null,null,null,null,"Odpočet objemu konstrukce komunikací:-5,70*4,80*0,40"]
[null,null,"NTL:",null,0,null,null,null,null,null,null,null,"NTL:"]
[null,null,"Řad \"K\" DN80:(6,20-1,00)*1,00*1,70",null,8.84,null,null,null,null,null,null,null,"Řad \"K\" DN80:(6,20-1,00)*1,00*1,70"]
[null,null,"Propoj na Řad  \"A\" TLT DN80:0",null,0,null,null,null,null,null,null,null,"Propoj na Řad  \"A\" TLT DN80:0"]
[null,null,"Řad \"J\" PE D90x8,2 mm:(16,70-1,00)*1,00*1,70",null,26.69,null,null,null,null,null,null,null,"Řad \"J\" PE D90x8,2 mm:(16,70-1,00)*1,00*1,70"]
[null,null,"Odpočet objemu konstrukcí komunikací:-(6,20-1,00+16,70-1,00)*1,00*0,40",null,-8.36,null,null,null,null,null,null,null,"Odpočet objemu konstrukcí komunikací:-(6,20-1,00+16,70-1,00)*1,00*0,40"]
[null,null,"VTP:",null,0,null,null,null,null,null,null,null,"VTP:"]
[null,null,"Řad \"L\" TLT DN100:(9,60-1,00)*1,00*1,70",null,14.62,null,null,null,null,null,null,null,"Řad \"L\" TLT DN100:(9,60-1,00)*1,00*1,70"]
[null,null,"Řad \"L\" PE D110x10,0 mm:(14,50-1,00)*1,00*1,70",null,22.95,null,null,null,null,null,null,null,"Řad \"L\" PE D110x10,0 mm:(14,50-1,00)*1,00*1,70"]
[null,null,"Odpočet objemu konstrukcí komunikací:-(9,60-1,00+14,50-1,00)*1,00*0,40",null,-8.84,null,null,null,null,null,null,null,"Odpočet objemu konstrukcí komunikací:-(9,60-1,00+14,50-1,00)*1,00*0,40"]
[19,"174101101R00","Zásyp jam, rýh, šachet se zhutněním ","m3",57.270200000000003,null,{"$f":"E181*F181","v":0},0,{"$f":"E181*H181","v":0},0,{"$f":"E181*J181","v":0},null,null,null,2,null,null,null,null,null,null,null,null,null,null,null,1,1,1,null,null,null,null,null,null,null,null,null,null,null,null,null,null,null,null,null,null,null,null,null,null,1,{"$f":"IF(AZ181=1,G181,0)","v":0},{"$f":"IF(AZ181=2,G181,0)","v":0},{"$f":"IF(AZ181=3,G181,0)","v":0},{"$f":"IF(AZ181=4,G181,0)","v":0},{"$f":"IF(AZ181=5,G181,0)","v":0},null,null,null,null,null,null,null,null,null,null,null,null,null,null,null,null,null,null,null,null,null,1,1]
[null,null,"Položka obsahuje strojní přemístění materiálu pro zásyp ze vzdálenosti do 10 m od okraje zásypu.",null,null,null,null,null,null,null,null,"Položka obsahuje strojní přemístění materiálu pro zásyp ze vzdálenosti do 10 m od okraje zásypu.",null,null,3]
[null,null,"Zásyp štěrkodrtí fr. 0-63 mm:57,2702",null,57.270200000000003,null,null,null,null,null,null,null,"Zásyp štěrkodrtí fr. 0-63 mm:57,2702"]
[null,null,"Začátek provozního součtu",null,0,null,null,null,null,null,null,null,"Začátek provozního součtu"]
[null,null,"Výkopy:",null,0,null,null,null,null,null,null,null,"Výkopy:"]
[null,null,"AŠ:2,44/3*(4,00*3,10+sqrt(4,00*3,10*5,70*4,80)+5,70*4,80)",null,47.319000000000003,null,null,null,null,null,null,null,"AŠ:2,44/3*(4,00*3,10+sqrt(4,00*3,10*5,70*4,80)+5,70*4,80)"]
[null,null,"Odpočet objemu konstrukce komunikací:-5,70*4,80*0,40",null,-10.944000000000001,null,null,null,null,null,null,null,"Odpočet objemu konstrukce komunikací:-5,70*4,80*0,40"]
[null,null,"NTL:",null,0,null,null,null,null,null,null,null,"NTL:"]
[null,null,"Řad \"K\" DN80:(6,20-1,00)*1,00*1,70",null,8.84,null,null,null,null,null,null,null,"Řad \"K\" DN80:(6,20-1,00)*1,00*1,70"]
[null,null,"Propoj na Řad  \"A\" TLT DN80:0",null,0,null,null,null,null,null,null,null,"Propoj na Řad  \"A\" TLT DN80:0"]
[null,null,"Řad \"J\" PE D90x8,2 mm:(16,70-1,00)*1,00*1,70",null,26.69,null,null,null,null,null,null,null,"Řad \"J\" PE D90x8,2 mm:(16,70-1,00)*1,00*1,70"]
[null,null,"Odpočet objemu konstrukcí komunikací:-(6,20-1,00+16,70-1,00)*1,00*0,40",null,-8.36,null,null,null,null,null,null,null,"Odpočet objemu konstrukcí komunikací:-(6,20-1,00+16,70-1,00)*1,00*0,40"]
[null,null,"VTP:",null,0,null,null,null,null,null,null,null,"VTP:"]
[null,null,"Řad \"L\" TLT DN100:(9,60-1,00)*1,00*1,70",null,14.62,null,null,null,null,null,null,null,"Řad \"L\" TLT DN100:(9,60-1,00)*1,00*1,70"]
[null,null,"Řad \"L\" PE D110x10,0 mm:(14,50-1,00)*1,00*1,70",null,22.95,null,null,null,null,null,null,null,"Řad \"L\" PE D110x10,0 mm:(14,50-1,00)*1,00*1,70"]
[null,null,"Odpočet objemu konstrukcí komunikací:-(9,60-1,00+14,50-1,00)*1,00*0,40",null,-8.84,null,null,null,null,null,null,null,"Odpočet objemu konstrukcí komunikací:-(9,60-1,00+14,50-1,00)*1,00*0,40"]
[null,null,"Odpočet objemu AŠ:-11,1708",null,-11.1708,null,null,null,null,null,null,null,"Odpočet objemu AŠ:-11,1708"]
[null,null,"Odpočet lože, potrubí a obsypů potrubí:",null,0,null,null,null,null,null,null,null,"Odpočet lože, potrubí a obsypů potrubí:"]
[null,null,"NTL:",null,0,null,null,null,null,null,null,null,"NTL:"]
[null,null,"Řad \"K\" DN80:-6,20*1,00*(0,10+0,08+0,30)",null,-2.976,null,null,null,null,null,null,null,"Řad \"K\" DN80:-6,20*1,00*(0,10+0,08+0,30)"]
[null,null,"Propoj na Řad  \"A\" TLT DN80:-1,00*1,00*(0,10+0,08+0,30)",null,-0.48,null,null,null,null,null,null,null,"Propoj na Řad  \"A\" TLT DN80:-1,00*1,00*(0,10+0,08+0,30)"]
[null,null,"Řad \"J\" PE D90x8,2 mm:-16,70*1,00*(0,10+0,09+0,30)",null,-8.1829999999999998,null,null,null,null,null,null,null,"Řad \"J\" PE D90x8,2 mm:-16,70*1,00*(0,10+0,09+0,30)"]
[null,null,"VTP:",null,0,null,null,null,null,null,null,null,"VTP:"]
[null,null,"Řad \"L\" TLT DN100:-9,60*1,00*(0,10+0,10+0,30)",null,-4.8,null,null,null,null,null,null,null,"Řad \"L\" TLT DN100:-9,60*1,00*(0,10+0,10+0,30)"]
[null,null,"Řad \"L\" PE D110x10,0 mm:-14,50*1,00*(0,10+0,11+0,30)",null,-7.3949999999999996,null,null,null,null,null,null,null,"Řad \"L\" PE D110x10,0 mm:-14,50*1,00*(0,10+0,11+0,30)"]
[null,null,"Konec provozního součtu",null,57.270200000000017,null,null,null,null,null,null,null,"Konec provozního součtu"]
[20,"175101101R00","Obsyp potrubí bez prohození sypaniny ","m3",18.6784,null,{"$f":"E207*F207","v":0},0,{"$f":"E207*H207","v":0},0,{"$f":"E207*J207","v":0},null,null,null,2,null,null,null,null,null,null,null,null,null,null,null,1,1,1,null,null,null,null,null,null,null,null,null,null,null,null,null,null,null,null,null,null,null,null,null,null,1,{"$f":"IF(AZ207=1,G207,0)","v":0},{"$f":"IF(AZ207=2,G207,0)","v":0},{"$f":"IF(AZ207=3,G207,0)","v":0},{"$f":"IF(AZ207=4,G207,0)","v":0},{"$f":"IF(AZ207=5,G207,0)","v":0},null,null,null,null,null,null,null,null,null,null,null,null,null,null,null,null,null,null,null,null,null,1,1]
[null,null,"NTL:",null,0,null,null,null,null,null,null,null,"NTL:"]
[null,null,"Řad \"K\" DN80:6,20*(1,00*(0,08+0,30)-0,04^2*Pi)",null,2.3248000000000002,null,null,null,null,null,null,null,"Řad \"K\" DN80:6,20*(1,00*(0,08+0,30)-0,04^2*Pi)"]
[null,null,"Propoj na Řad  \"A\" TLT DN80:1,00*(1,00*(0,08+0,30)-0,04^2*Pi)",null,0.375,null,null,null,null,null,null,null,"Propoj na Řad  \"A\" TLT DN80:1,00*(1,00*(0,08+0,30)-0,04^2*Pi)"]
[null,null,"Řad \"J\" PE D90x8,2 mm:16,70*(1,00*(0,09+0,30)-0,045^2*Pi)",null,6.4067999999999996,null,null,null,null,null,null,null,"Řad \"J\" PE D90x8,2 mm:16,70*(1,00*(0,09+0,30)-0,045^2*Pi)"]
[null,null,"VTP:",null,0,null,null,null,null,null,null,null,"VTP:"]
[null,null,"Řad \"L\" TLT DN100:9,60*(1,00*(0,10+0,30)-0,05^2*Pi)",null,3.7646000000000002,null,null,null,null,null,null,null,"Řad \"L\" TLT DN100:9,60*(1,00*(0,10+0,30)-0,05^2*Pi)"]
[null,null,"Řad \"L\" PE D110x10,0 mm:14,50*(1,00*(0,11+0,30)-0,055^2*Pi)",null,5.8071999999999999,null,null,null,null,null,null,null,"Řad \"L\" PE D110x10,0 mm:14,50*(1,00*(0,11+0,30)-0,055^2*Pi)"]
[21,"199000002R00","Poplatek za skládku horniny 1- 4 č. dle katal. odpadů 17 05 04","m3",92.275000000000006,null,{"$f":"E215*F215","v":0},0,{"$f":"E215*H215","v":0},0,{"$f":"E215*J215","v":0},null,null,null,2,null,null,null,null,null,null,null,null,null,null,null,1,1,1,null,null,null,null,null,null,null,null,null,null,null,null,null,null,null,null,null,null,null,null,null,null,1,{"$f":"IF(AZ215=1,G215,0)","v":0},{"$f":"IF(AZ215=2,G215,0)","v":0},{"$f":"IF(AZ215=3,G215,0)","v":0},{"$f":"IF(AZ215=4,G215,0)","v":0},{"$f":"IF(AZ215=5,G215,0)","v":0},null,null,null,null,null,null,null,null,null,null,null,null,null,null,null,null,null,null,null,null,null,1,1]
[null,null,"Výkopy:",null,0,null,null,null,null,null,null,null,"Výkopy:"]
[null,null,"AŠ:2,44/3*(4,00*3,10+sqrt(4,00*3,10*5,70*4,80)+5,70*4,80)",null,47.319000000000003,null,null,null,null,null,null,null,"AŠ:2,44/3*(4,00*3,10+sqrt(4,00*3,10*5,70*4,80)+5,70*4,80)"]
[null,null,"Odpočet objemu konstrukce komunikací:-5,70*4,80*0,40",null,-10.944000000000001,null,null,null,null,null,null,null,"Odpočet objemu konstrukce komunikací:-5,70*4,80*0,40"]
[null,null,"NTL:",null,0,null,null,null,null,null,null,null,"NTL:"]
[null,null,"Řad \"K\" DN80:(6,20-1,00)*1,00*1,70",null,8.84,null,null,null,null,null,null,null,"Řad \"K\" DN80:(6,20-1,00)*1,00*1,70"]
[null,null,"Propoj na Řad  \"A\" TLT DN80:0",null,0,null,null,null,null,null,null,null,"Propoj na Řad  \"A\" TLT DN80:0"]
[null,null,"Řad \"J\" PE D90x8,2 mm:(16,70-1,00)*1,00*1,70",null,26.69,null,null,null,null,null,null,null,"Řad \"J\" PE D90x8,2 mm:(16,70-1,00)*1,00*1,70"]
[null,null,"Odpočet objemu konstrukcí komunikací:-(6,20-1,00+16,70-1,00)*1,00*0,40",null,-8.36,null,null,null,null,null,null,null,"Odpočet objemu konstrukcí komunikací:-(6,20-1,00+16,70-1,00)*1,00*0,40"]
[null,null,"VTP:",null,0,null,null,null,null,null,null,null,"VTP:"]
[null,null,"Řad \"L\" TLT DN100:(9,60-1,00)*1,00*1,70",null,14.62,null,null,null,null,null,null,null,"Řad \"L\" TLT DN100:(9,60-1,00)*1,00*1,70"]
[null,null,"Řad \"L\" PE D110x10,0 mm:(14,50-1,00)*1,00*1,70",null,22.95,null,null,null,null,null,null,null,"Řad \"L\" PE D110x10,0 mm:(14,50-1,00)*1,00*1,70"]
[null,null,"Odpočet objemu konstrukcí komunikací:-(9,60-1,00+14,50-1,00)*1,00*0,40",null,-8.84,null,null,null,null,null,null,null,"Odpočet objemu konstrukcí komunikací:-(9,60-1,00+14,50-1,00)*1,00*0,40"]
[22,"919735113R00","Řezání stávajícího živičného krytu tl. 10 - 15 cm ","m",107,null,{"$f":"E228*F228","v":0},0,{"$f":"E228*H228","v":0},0,{"$f":"E228*J228","v":0},null,null,null,2,null,null,null,null,null,null,null,null,null,null,null,1,1,1,null,null,null,null,null,null,null,null,null,null,null,null,null,null,null,null,null,null,null,null,null,null,1,{"$f":"IF(AZ228=1,G228,0)","v":0},{"$f":"IF(AZ228=2,G228,0)","v":0},{"$f":"IF(AZ228=3,G228,0)","v":0},{"$f":"IF(AZ228=4,G228,0)","v":0},{"$f":"IF(AZ228=5,G228,0)","v":0},null,null,null,null,null,null,null,null,null,null,null,null,null,null,null,null,null,null,null,null,null,1,1]
[null,null,"AŠ:(5,70+4,80)*2",null,21,null,null,null,null,null,null,null,"AŠ:(5,70+4,80)*2"]
[null,null,"NTP:",null,0,null,null,null,null,null,null,null,"NTP:"]
[null,null,"Řad \"K\" DN80:(6,20-1,00)*2",null,10.4,null,null,null,null,null,null,null,"Řad \"K\" DN80:(6,20-1,00)*2"]
[null,null,"Propoj na Řad  \"A\" TLT DN80:0",null,0,null,null,null,null,null,null,null,"Propoj na Řad  \"A\" TLT DN80:0"]
[null,null,"Řad \"J\" PE D90x8,2 mm:(16,70-1,00)*2",null,31.4,null,null,null,null,null,null,null,"Řad \"J\" PE D90x8,2 mm:(16,70-1,00)*2"]
[null,null,"VTP:",null,0,null,null,null,null,null,null,null,"VTP:"]
[null,null,"Řad \"L\" TLT DN100:(9,60-1,00)*2",null,17.2,null,null,null,null,null,null,null,"Řad \"L\" TLT DN100:(9,60-1,00)*2"]
[null,null,"Řad \"L\" PE D110x10,0 mm:(14,50-1,00)*2",null,27,null,null,null,null,null,null,null,"Řad \"L\" PE D110x10,0 mm:(14,50-1,00)*2"]
[23,"979082113RSZ","Vodorovná doprava suti po suchu na skládku zhotovitele","t",61.916800000000002,null,{"$f":"E237*F237","v":0},0,{"$f":"E237*H237","v":0},0,{"$f":"E237*J237","v":0},null,null,null,2,null,null,null,null,null,null,null,null,null,null,null,1,1,1,null,null,null,null,null,null,null,null,null,null,null,null,null,null,null,null,null,null,null,null,null,null,1,{"$f":"IF(AZ237=1,G237,0)","v":0},{"$f":"IF(AZ237=2,G237,0)","v":0},{"$f":"IF(AZ237=3,G237,0)","v":0},{"$f":"IF(AZ237=4,G237,0)","v":0},{"$f":"IF(AZ237=5,G237,0)","v":0},null,null,null,null,null,null,null,null,null,null,null,null,null,null,null,null,null,null,null,null,null,1,1]
[24,"979089001R00","Poplatek za skládku stavební suti štěrky z komunikací, skupina odpadu 010408","t",38.698,null,{"$f":"E238*F238","v":0},0,{"$f":"E238*H238","v":0},0,{"$f":"E238*J238","v":0},null,null,null,2,null,null,null,null,null,null,null,null,null,null,null,1,1,1,null,null,null,null,null,null,null,null,null,null,null,null,null,null,null,null,null,null,null,null,null,null,1,{"$f":"IF(AZ238=1,G238,0)","v":0},{"$f":"IF(AZ238=2,G238,0)","v":0},{"$f":"IF(AZ238=3,G238,0)","v":0},{"$f":"IF(AZ238=4,G238,0)","v":0},{"$f":"IF(AZ238=5,G238,0)","v":0},null,null,null,null,null,null,null,null,null,null,null,null,null,null,null,null,null,null,null,null,null,1,1]
[25,"979999995R00","Poplatek za reciklaci asfaltu, kusovost do 1600cm2 skupina 170302","t",23.218800000000002,null,{"$f":"E239*F239","v":0},0,{"$f":"E239*H239","v":0},0,{"$f":"E239*J239","v":0},null,null,null,2,null,null,null,null,null,null,null,null,null,null,null,1,1,1,null,null,null,null,null,null,null,null,null,null,null,null,null,null,null,null,null,null,null,null,null,null,1,{"$f":"IF(AZ239=1,G239,0)","v":0},{"$f":"IF(AZ239=2,G239,0)","v":0},{"$f":"IF(AZ239=3,G239,0)","v":0},{"$f":"IF(AZ239=4,G239,0)","v":0},{"$f":"IF(AZ239=5,G239,0)","v":0},null,null,null,null,null,null,null,null,null,null,null,null,null,null,null,null,null,null,null,null,null,1,1]
[null,null,"Položka je určena pro suť o velikosti kusu do 30x30 cm nebo frézovaný asfalt(technologický materiál určený k recyklaci).",null,null,null,null,null,null,null,null,"Položka je určena pro suť o velikosti kusu do 30x30 cm nebo frézovaný asfalt(technologický materiál určený k recyklaci).",null,null,3]
[26,"58337308R","Štěrkopísek frakce 0-2 tř.B","t",36.852400000000003,null,{"$f":"E241*F241","v":0},1,{"$f":"E241*H241","v":36.852400000000003},null,{"$f":"E241*J241","v":0},null,null,null,2,null,null,null,null,null,null,null,null,null,null,null,3,1,"58337308R",null,null,null,null,null,null,null,null,null,null,null,null,null,null,null,null,null,null,null,null,null,null,1,{"$f":"IF(AZ241=1,G241,0)","v":0},{"$f":"IF(AZ241=2,G241,0)","v":0},{"$f":"IF(AZ241=3,G241,0)","v":0},{"$f":"IF(AZ241=4,G241,0)","v":0},{"$f":"IF(AZ241=5,G241,0)","v":0},null,null,null,null,null,null,null,null,null,null,null,null,null,null,null,null,null,null,null,null,null,3,1]
[null,null,"NTL:",null,0,null,null,null,null,null,null,null,"NTL:"]
[null,null,"Řad \"K\" DN80:6,20*(1,00*(0,08+0,30)-0,04^2*Pi)*1,973",null,4.5869,null,null,null,null,null,null,null,"Řad \"K\" DN80:6,20*(1,00*(0,08+0,30)-0,04^2*Pi)*1,973"]
[null,null,"Propoj na Řad  \"A\" TLT DN80:1,00*(1,00*(0,08+0,30)-0,04^2*Pi)*1,973",null,0.73980000000000001,null,null,null,null,null,null,null,"Propoj na Řad  \"A\" TLT DN80:1,00*(1,00*(0,08+0,30)-0,04^2*Pi)*1,973"]
[null,null,"Řad \"J\" PE D90x8,2 mm:16,70*(1,00*(0,09+0,30)-0,045^2*Pi)*1,973",null,12.640499999999999,null,null,null,null,null,null,null,"Řad \"J\" PE D90x8,2 mm:16,70*(1,00*(0,09+0,30)-0,045^2*Pi)*1,973"]
[null,null,"VTP:",null,0,null,null,null,null,null,null,null,"VTP:"]
[null,null,"Řad \"L\" TLT DN100:9,60*(1,00*(0,10+0,30)-0,05^2*Pi)*1,973",null,7.4276,null,null,null,null,null,null,null,"Řad \"L\" TLT DN100:9,60*(1,00*(0,10+0,30)-0,05^2*Pi)*1,973"]
[null,null,"Řad \"L\" PE D110x10,0 mm:14,50*(1,00*(0,11+0,30)-0,055^2*Pi)*1,973",null,11.457599999999999,null,null,null,null,null,null,null,"Řad \"L\" PE D110x10,0 mm:14,50*(1,00*(0,11+0,30)-0,055^2*Pi)*1,973"]
[27,"58344197R","Štěrkodrtě frakce 0-63 A","t",107.2671,null,{"$f":"E249*F249","v":0},1,{"$f":"E249*H249","v":107.2671},null,{"$f":"E249*J249","v":0},null,null,null,2,null,null,null,null,null,null,null,null,null,null,null,3,1,"58344197R",null,null,null,null,null,null,null,null,null,null,null,null,null,null,null,null,null,null,null,null,null,null,1,{"$f":"IF(AZ249=1,G249,0)","v":0},{"$f":"IF(AZ249=2,G249,0)","v":0},{"$f":"IF(AZ249=3,G249,0)","v":0},{"$f":"IF(AZ249=4,G249,0)","v":0},{"$f":"IF(AZ249=5,G249,0)","v":0},null,null,null,null,null,null,null,null,null,null,null,null,null,null,null,null,null,null,null,null,null,3,1]
[null,null,"Zásyp štěrkodrtí fr. 0-63 mm:57,2702*1,873",null,107.2671,null,null,null,null,null,null,null,"Zásyp štěrkodrtí fr. 0-63 mm:57,2702*1,873"]
[null,null,"Začátek provozního součtu",null,0,null,null,null,null,null,null,null,"Začátek provozního součtu"]
[null,null,"Výkopy:",null,0,null,null,null,null,null,null,null,"Výkopy:"]
[null,null,"AŠ:2,44/3*(4,00*3,10+sqrt(4,00*3,10*5,70*4,80)+5,70*4,80)",null,47.319000000000003,null,null,null,null,null,null,null,"AŠ:2,44/3*(4,00*3,10+sqrt(4,00*3,10*5,70*4,80)+5,70*4,80)"]
[null,null,"Odpočet objemu konstrukce komunikací:-5,70*4,80*0,40",null,-10.944000000000001,null,null,null,null,null,null,null,"Odpočet objemu konstrukce komunikací:-5,70*4,80*0,40"]
[null,null,"NTL:",null,0,null,null,null,null,null,null,null,"NTL:"]
[null,null,"Řad \"K\" DN80:(6,20-1,00)*1,00*1,70",null,8.84,null,null,null,null,null,null,null,"Řad \"K\" DN80:(6,20-1,00)*1,00*1,70"]
[null,null,"Propoj na Řad  \"A\" TLT DN80:0",null,0,null,null,null,null,null,null,null,"Propoj na Řad  \"A\" TLT DN80:0"]
[null,null,"Řad \"J\" PE D90x8,2 mm:(16,70-1,00)*1,00*1,70",null,26.69,null,null,null,null,null,null,null,"Řad \"J\" PE D90x8,2 mm:(16,70-1,00)*1,00*1,70"]
[null,null,"Odpočet objemu konstrukcí komunikací:-(6,20-1,00+16,70-1,00)*1,00*0,40",null,-8.36,null,null,null,null,null,null,null,"Odpočet objemu konstrukcí komunikací:-(6,20-1,00+16,70-1,00)*1,00*0,40"]
[null,null,"VTP:",null,0,null,null,null,null,null,null,null,"VTP:"]
[null,null,"Řad \"L\" TLT DN100:(9,60-1,00)*1,00*1,70",null,14.62,null,null,null,null,null,null,null,"Řad \"L\" TLT DN100:(9,60-1,00)*1,00*1,70"]
[null,null,"Řad \"L\" PE D110x10,0 mm:(14,50-1,00)*1,00*1,70",null,22.95,null,null,null,null,null,null,null,"Řad \"L\" PE D110x10,0 mm:(14,50-1,00)*1,00*1,70"]
[null,null,"Odpočet objemu konstrukcí komunikací:-(9,60-1,00+14,50-1,00)*1,00*0,40",null,-8.84,null,null,null,null,null,null,null,"Odpočet objemu konstrukcí komunikací:-(9,60-1,00+14,50-1,00)*1,00*0,40"]
[null,null,"Odpočet objemu AŠ:-11,1708",null,-11.1708,null,null,null,null,null,null,null,"Odpočet objemu AŠ:-11,1708"]
[null,null,"Odpočet lože, potrubí a obsypů potrubí:",null,0,null,null,null,null,null,null,null,"Odpočet lože, potrubí a obsypů potrubí:"]
[null,null,"NTL:",null,0,null,null,null,null,null,null,null,"NTL:"]
[null,null,"Řad \"K\" DN80:-6,20*1,00*(0,10+0,08+0,30)",null,-2.976,null,null,null,null,null,null,null,"Řad \"K\" DN80:-6,20*1,00*(0,10+0,08+0,30)"]
[null,null,"Propoj na Řad  \"A\" TLT DN80:-1,00*1,00*(0,10+0,08+0,30)",null,-0.48,null,null,null,null,null,null,null,"Propoj na Řad  \"A\" TLT DN80:-1,00*1,00*(0,10+0,08+0,30)"]
[null,null,"Řad \"J\" PE D90x8,2 mm:-16,70*1,00*(0,10+0,09+0,30)",null,-8.1829999999999998,null,null,null,null,null,null,null,"Řad \"J\" PE D90x8,2 mm:-16,70*1,00*(0,10+0,09+0,30)"]
[null,null,"VTP:",null,0,null,null,null,null,null,null,null,"VTP:"]
[null,null,"Řad \"L\" TLT DN100:-9,60*1,00*(0,10+0,10+0,30)",null,-4.8,null,null,null,null,null,null,null,"Řad \"L\" TLT DN100:-9,60*1,00*(0,10+0,10+0,30)"]
[null,null,"Řad \"L\" PE D110x10,0 mm:-14,50*1,00*(0,10+0,11+0,30)",null,-7.3949999999999996,null,null,null,null,null,null,null,"Řad \"L\" PE D110x10,0 mm:-14,50*1,00*(0,10+0,11+0,30)"]
[null,null,"Konec provozního součtu",null,57.270200000000017,null,null,null,null,null,null,null,"Konec provozního součtu"]
[null,"Celkem za","1 Zemní práce",null,null,null,{"$f":"SUM(G7:G273)","v":0},null,{"$f":"SUM(I7:I273)","v":144.84365},null,{"$f":"SUM(K7:K273)","v":-61.916800000000002},null,null,null,4,null,null,null,null,null,null,null,null,null,null,null,null,null,null,null,null,null,null,null,null,null,null,null,null,null,null,null,null,null,null,null,null,null,null,null,null,null,{"$f":"SUM(BA7:BA273)","v":0},{"$f":"SUM(BB7:BB273)","v":0},{"$f":"SUM(BC7:BC273)","v":0},{"$f":"SUM(BD7:BD273)","v":0},{"$f":"SUM(BE7:BE273)","v":0}]
["Díl:","38","Kompletní konstrukce",null,null,null,null,null,null,null,null,null,null,null,1]
[28,"389000002RRR","Armaturní šachta - provedení dle PD ","m3 OP",13.86,null,{"$f":"E276*F276","v":0},1.35765,{"$f":"E276*H276","v":18.817028999999998},0,{"$f":"E276*J276","v":0},null,null,null,2,null,null,null,null,null,null,null,null,null,null,null,1,1,1,null,null,null,null,null,null,null,null,null,null,null,null,null,null,null,null,null,null,null,null,null,null,1,{"$f":"IF(AZ276=1,G276,0)","v":0},{"$f":"IF(AZ276=2,G276,0)","v":0},{"$f":"IF(AZ276=3,G276,0)","v":0},{"$f":"IF(AZ276=4,G276,0)","v":0},{"$f":"IF(AZ276=5,G276,0)","v":0},null,null,null,null,null,null,null,null,null,null,null,null,null,null,null,null,null,null,null,null,null,1,1]
[null,null,"Prefabrikovaná železobetonová šachta vnitřního rozměru 2,40x1,50x1,50 m.",null,null,null,null,null,null,null,null,"Prefabrikovaná železobetonová šachta vnitřního rozměru 2,40x1,50x1,50 m.",null,null,3]
[null,null,"Součástí dovávky je i:",null,null,null,null,null,null,null,null,"Součástí dovávky je i:",null,null,3]
[null,null,"- provedení veškerých izolací",null,null,null,null,null,null,null,null,"- provedení veškerých izolací",null,null,3]
[null,null,"- vstupního komínku s poklopem",null,null,null,null,null,null,null,null,"- vstupního komínku s poklopem",null,null,3]
[null,null,"- osazení stupadel",null,null,null,null,null,null,null,null,"- osazení stupadel",null,null,3]
[null,null,"- podkladní konstrukce pod prefa šachtu",null,null,null,null,null,null,null,null,"- podkladní konstrukce pod prefa šachtu",null,null,3]
[null,null,"- dodávka statického výpočtu a výrobní dokumentace šachty včetně zákrytové desky",null,null,null,null,null,null,null,null,"- dodávka statického výpočtu a výrobní dokumentace šachty včetně zákrytové desky",null,null,3]
[null,null,"- vnitřní povrchová úprava dle PD",null,null,null,null,null,null,null,null,"- vnitřní povrchová úprava dle PD",null,null,3]
[null,null,"Armaturní šachta (AŠ):13,86",null,13.86,null,null,null,null,null,null,null,"Armaturní šachta (AŠ):13,86"]
[null,"Celkem za","38 Kompletní konstrukce",null,null,null,{"$f":"SUM(G275:G285)","v":0},null,{"$f":"SUM(I275:I285)","v":18.817028999999998},null,{"$f":"SUM(K275:K285)","v":0},null,null,null,4,null,null,null,null,null,null,null,null,null,null,null,null,null,null,null,null,null,null,null,null,null,null,null,null,null,null,null,null,null,null,null,null,null,null,null,null,null,{"$f":"SUM(BA275:BA285)","v":0},{"$f":"SUM(BB275:BB285)","v":0},{"$f":"SUM(BC275:BC285)","v":0},{"$f":"SUM(BD275:BD285)","v":0},{"$f":"SUM(BE275:BE285)","v":0}]
["Díl:","45","Podkladní a vedlejší konstrukce",null,null,null,null,null,null,null,null,null,null,null,1]
[29,"451572111R00","Lože pod potrubí z kameniva těženého 0 - 4 mm ","m3",4.8,null,{"$f":"E288*F288","v":0},1.873,{"$f":"E288*H288","v":8.9903999999999993},0,{"$f":"E288*J288","v":0},null,null,null,2,null,null,null,null,null,null,null,null,null,null,null,1,1,1,null,null,null,null,null,null,null,null,null,null,null,null,null,null,null,null,null,null,null,null,null,null,1,{"$f":"IF(AZ288=1,G288,0)","v":0},{"$f":"IF(AZ288=2,G288,0)","v":0},{"$f":"IF(AZ288=3,G288,0)","v":0},{"$f":"IF(AZ288=4,G288,0)","v":0},{"$f":"IF(AZ288=5,G288,0)","v":0},null,null,null,null,null,null,null,null,null,null,null,null,null,null,null,null,null,null,null,null,null,1,1]
[null,null,"NTL:",null,0,null,null,null,null,null,null,null,"NTL:"]
[null,null,"Řad \"K\" DN80:6,20*1,00*0,10",null,0.62,null,null,null,null,null,null,null,"Řad \"K\" DN80:6,20*1,00*0,10"]
[null,null,"Propoj na Řad  \"A\" TLT DN80:1,00*1,00*0,10",null,0.1,null,null,null,null,null,null,null,"Propoj na Řad  \"A\" TLT DN80:1,00*1,00*0,10"]
[null,null,"Řad \"J\" PE D90x8,2 mm:16,70*1,00*0,10",null,1.67,null,null,null,null,null,null,null,"Řad \"J\" PE D90x8,2 mm:16,70*1,00*0,10"]
[null,null,"VTP:",null,0,null,null,null,null,null,null,null,"VTP:"]
[null,null,"Řad \"L\" TLT DN100:9,60*1,00*0,10",null,0.96,null,null,null,null,null,null,null,"Řad \"L\" TLT DN100:9,60*1,00*0,10"]
[null,null,"Řad \"L\" PE D110x10,0 mm:14,50*1,00*0,10",null,1.45,null,null,null,null,null,null,null,"Řad \"L\" PE D110x10,0 mm:14,50*1,00*0,10"]
[30,"452313141R00","Bloky pro potrubí z betonu C 16/20 vč. bednění ","m3",0.45100000000000001,null,{"$f":"E296*F296","v":0},2.5,{"$f":"E296*H296","v":1.1274999999999999},0,{"$f":"E296*J296","v":0},null,null,null,2,null,null,null,null,null,null,null,null,null,null,null,1,1,1,null,null,null,null,null,null,null,null,null,null,null,null,null,null,null,null,null,null,null,null,null,null,1,{"$f":"IF(AZ296=1,G296,0)","v":0},{"$f":"IF(AZ296=2,G296,0)","v":0},{"$f":"IF(AZ296=3,G296,0)","v":0},{"$f":"IF(AZ296=4,G296,0)","v":0},{"$f":"IF(AZ296=5,G296,0)","v":0},null,null,null,null,null,null,null,null,null,null,null,null,null,null,null,null,null,null,null,null,null,1,1]
[null,"Celkem za","45 Podkladní a vedlejší konstrukce",null,null,null,{"$f":"SUM(G287:G296)","v":0},null,{"$f":"SUM(I287:I296)","v":10.117899999999999},null,{"$f":"SUM(K287:K296)","v":0},null,null,null,4,null,null,null,null,null,null,null,null,null,null,null,null,null,null,null,null,null,null,null,null,null,null,null,null,null,null,null,null,null,null,null,null,null,null,null,null,null,{"$f":"SUM(BA287:BA296)","v":0},{"$f":"SUM(BB287:BB296)","v":0},{"$f":"SUM(BC287:BC296)","v":0},{"$f":"SUM(BD287:BD296)","v":0},{"$f":"SUM(BE287:BE296)","v":0}]
["Díl:","5","Komunikace",null,null,null,null,null,null,null,null,null,null,null,1]
[31,"566903111R00","Vyspravení podkladu po překopech kam.hrubě drceným ","t",32.946100000000001,null,{"$f":"E299*F299","v":0},1.1000000000000001,{"$f":"E299*H299","v":36.240710000000007},0,{"$f":"E299*J299","v":0},null,null,null,2,null,null,null,null,null,null,null,null,null,null,null,1,1,1,null,null,null,null,null,null,null,null,null,null,null,null,null,null,null,null,null,null,null,null,null,null,1,{"$f":"IF(AZ299=1,G299,0)","v":0},{"$f":"IF(AZ299=2,G299,0)","v":0},{"$f":"IF(AZ299=3,G299,0)","v":0},{"$f":"IF(AZ299=4,G299,0)","v":0},{"$f":"IF(AZ299=5,G299,0)","v":0},null,null,null,null,null,null,null,null,null,null,null,null,null,null,null,null,null,null,null,null,null,1,1]
[null,null,"AŠ:",null,0,null,null,null,null,null,null,null,"AŠ:"]
[null,null,"Objem konstrukce komunikací:5,70*4,80*0,25*1,873",null,12.811299999999999,null,null,null,null,null,null,null,"Objem konstrukce komunikací:5,70*4,80*0,25*1,873"]
[null,null,"NTL:",null,0,null,null,null,null,null,null,null,"NTL:"]
[null,null,"Řad \"K\" DN80:",null,0,null,null,null,null,null,null,null,"Řad \"K\" DN80:"]
[null,null,"Propoj na Řad  \"A\" TLT DN80:",null,0,null,null,null,null,null,null,null,"Propoj na Řad  \"A\" TLT DN80:"]
[null,null,"Řad \"J\" PE D90x8,2 mm:",null,0,null,null,null,null,null,null,null,"Řad \"J\" PE D90x8,2 mm:"]
[null,null,"Objem konstrukce komunikací:(6,20-1,00+16,70-1,00)*1,00*0,25*1,873",null,9.7864000000000004,null,null,null,null,null,null,null,"Objem konstrukce komunikací:(6,20-1,00+16,70-1,00)*1,00*0,25*1,873"]
[null,null,"VTP:",null,0,null,null,null,null,null,null,null,"VTP:"]
[null,null,"Řad \"L\" TLT DN100:",null,0,null,null,null,null,null,null,null,"Řad \"L\" TLT DN100:"]
[null,null,"Řad \"L\" PE D110x10,0 mm:",null,0,null,null,null,null,null,null,null,"Řad \"L\" PE D110x10,0 mm:"]
[null,null,"Objem konstrukce komunikací:(9,60-1,00+14,50-1,00)*1,00*0,25*1,873",null,10.3483,null,null,null,null,null,null,null,"Objem konstrukce komunikací:(9,60-1,00+14,50-1,00)*1,00*0,25*1,873"]
[32,"566904111R00","Vyspravení podkladu po překopech kam.obal.asfaltem ","t",26.385000000000002,null,{"$f":"E311*F311","v":0},1,{"$f":"E311*H311","v":26.385000000000002},0,{"$f":"E311*J311","v":0},null,null,null,2,null,null,null,null,null,null,null,null,null,null,null,1,1,1,null,null,null,null,null,null,null,null,null,null,null,null,null,null,null,null,null,null,null,null,null,null,1,{"$f":"IF(AZ311=1,G311,0)","v":0},{"$f":"IF(AZ311=2,G311,0)","v":0},{"$f":"IF(AZ311=3,G311,0)","v":0},{"$f":"IF(AZ311=4,G311,0)","v":0},{"$f":"IF(AZ311=5,G311,0)","v":0},null,null,null,null,null,null,null,null,null,null,null,null,null,null,null,null,null,null,null,null,null,1,1]
[null,null,"AŠ:",null,0,null,null,null,null,null,null,null,"AŠ:"]
[null,null,"Objem konstrukce komunikací:5,70*4,80*0,15*2,5",null,10.26,null,null,null,null,null,null,null,"Objem konstrukce komunikací:5,70*4,80*0,15*2,5"]
[null,null,"NTL:",null,0,null,null,null,null,null,null,null,"NTL:"]
[null,null,"Řad \"K\" DN80:",null,0,null,null,null,null,null,null,null,"Řad \"K\" DN80:"]
[null,null,"Propoj na Řad  \"A\" TLT DN80:",null,0,null,null,null,null,null,null,null,"Propoj na Řad  \"A\" TLT DN80:"]
[null,null,"Řad \"J\" PE D90x8,2 mm:",null,0,null,null,null,null,null,null,null,"Řad \"J\" PE D90x8,2 mm:"]
[null,null,"Objem konstrukce komunikací:(6,20-1,00+16,70-1,00)*1,00*0,15*2,5",null,7.8375000000000004,null,null,null,null,null,null,null,"Objem konstrukce komunikací:(6,20-1,00+16,70-1,00)*1,00*0,15*2,5"]
[null,null,"VTP:",null,0,null,null,null,null,null,null,null,"VTP:"]
[null,null,"Řad \"L\" TLT DN100:",null,0,null,null,null,null,null,null,null,"Řad \"L\" TLT DN100:"]
[null,null,"Řad \"L\" PE D110x10,0 mm:",null,0,null,null,null,null,null,null,null,"Řad \"L\" PE D110x10,0 mm:"]
[null,null,"Objem konstrukce komunikací:(9,60-1,00+14,50-1,00)*1,00*0,15*2,5",null,8.2874999999999996,null,null,null,null,null,null,null,"Objem konstrukce komunikací:(9,60-1,00+14,50-1,00)*1,00*0,15*2,5"]
[null,"Celkem za","5 Komunikace",null,null,null,{"$f":"SUM(G298:G322)","v":0},null,{"$f":"SUM(I298:I322)","v":62.625710000000012},null,{"$f":"SUM(K298:K322)","v":0},null,null,null,4,null,null,null,null,null,null,null,null,null,null,null,null,null,null,null,null,null,null,null,null,null,null,null,null,null,null,null,null,null,null,null,null,null,null,null,null,null,{"$f":"SUM(BA298:BA322)","v":0},{"$f":"SUM(BB298:BB322)","v":0},{"$f":"SUM(BC298:BC322)","v":0},{"$f":"SUM(BD298:BD322)","v":0},{"$f":"SUM(BE298:BE322)","v":0}]
["Díl:","8","Trubní vedení",null,null,null,null,null,null,null,null,null,null,null,1]
[33,"850245121R00","Výřez nebo výsek na potrubí litinovém DN 80 ","kus",1,null,{"$f":"E325*F325","v":0},0,{"$f":"E325*H325","v":0},0,{"$f":"E325*J325","v":0},null,null,null,2,null,null,null,null,null,null,null,null,null,null,null,1,1,1,null,null,null,null,null,null,null,null,null,null,null,null,null,null,null,null,null,null,null,null,null,null,1,{"$f":"IF(AZ325=1,G325,0)","v":0},{"$f":"IF(AZ325=2,G325,0)","v":0},{"$f":"IF(AZ325=3,G325,0)","v":0},{"$f":"IF(AZ325=4,G325,0)","v":0},{"$f":"IF(AZ325=5,G325,0)","v":0},null,null,null,null,null,null,null,null,null,null,null,null,null,null,null,null,null,null,null,null,null,1,1]
[null,null,"Položky výřezu nebo výseku na potrubí z trub litinových tlakových jsou určeny pro dva řezy nebo seky prováděné na potrubí dodatečně. V položkách jsou zakalkulovány náklady na",null,null,null,null,null,null,null,null,"Položky výřezu nebo výseku na potrubí z trub litinových tlakových jsou určeny pro dva řezy nebo seky prováděné na potrubí dodatečně. V položkách jsou zakalkulovány náklady na",null,null,3]
[null,null,"- ohlášení uzavírání vody",null,null,null,null,null,null,null,null,"- ohlášení uzavírání vody",null,null,3]
[null,null,"- uzavření a otevření šoupat",null,null,null,null,null,null,null,null,"- uzavření a otevření šoupat",null,null,3]
[null,null,"- vypuštění a napuštění vody",null,null,null,null,null,null,null,null,"- vypuštění a napuštění vody",null,null,3]
[null,null,"- odvzdušnění potrubí",null,null,null,null,null,null,null,null,"- odvzdušnění potrubí",null,null,3]
[null,null,"- strojní nebo ruční výřez potrubí",null,null,null,null,null,null,null,null,"- strojní nebo ruční výřez potrubí",null,null,3]
[null,null,"- nutné úpravy výkopu v prostoru provádění",null,null,null,null,null,null,null,null,"- nutné úpravy výkopu v prostoru provádění",null,null,3]
[null,null,"- montáž tvarovky",null,null,null,null,null,null,null,null,"- montáž tvarovky",null,null,3]
[null,null,"Stávající TLT DN80:1",null,1,null,null,null,null,null,null,null,"Stávající TLT DN80:1"]
[34,"851601101R00","Montáž potrubí tlakového tvárná litina DN 80 ","m",7.2,null,{"$f":"E335*F335","v":0},0,{"$f":"E335*H335","v":0},0,{"$f":"E335*J335","v":0},null,null,null,2,null,null,null,null,null,null,null,null,null,null,null,1,1,1,null,null,null,null,null,null,null,null,null,null,null,null,null,null,null,null,null,null,null,null,null,null,1,{"$f":"IF(AZ335=1,G335,0)","v":0},{"$f":"IF(AZ335=2,G335,0)","v":0},{"$f":"IF(AZ335=3,G335,0)","v":0},{"$f":"IF(AZ335=4,G335,0)","v":0},{"$f":"IF(AZ335=5,G335,0)","v":0},null,null,null,null,null,null,null,null,null,null,null,null,null,null,null,null,null,null,null,null,null,1,1]
[null,null,"Položka je určena pro montáž potrubí hrdlového s pružnými spoji, ve výkopu. Pro blokované spoje se cena zvýší o 15 - 20 %. V položce nejsou zakalkulovány náklady na dodávku trub; trouby a spojovací materiál se oceňuje ve specifikaci",null,null,null,null,null,null,null,null,"Položka je určena pro montáž potrubí hrdlového s pružnými spoji, ve výkopu. Pro blokované spoje se cena zvýší o 15 - 20 %. V položce nejsou zakalkulovány náklady na dodávku trub; trouby a spojovací materiál se oceňuje ve specifikaci",null,null,3]
[null,null,"NTL:",null,0,null,null,null,null,null,null,null,"NTL:"]
[null,null,"Řad \"K\" DN80:6,20",null,6.2,null,null,null,null,null,null,null,"Řad \"K\" DN80:6,20"]
[null,null,"Propoj na Řad  \"A\" TLT DN80:1,00",null,1,null,null,null,null,null,null,null,"Propoj na Řad  \"A\" TLT DN80:1,00"]
[35,"851601102R00","Montáž potrubí tlakového, tvárná litina DN 100 ","m",9.6,null,{"$f":"E340*F340","v":0},0,{"$f":"E340*H340","v":0},0,{"$f":"E340*J340","v":0},null,null,null,2,null,null,null,null,null,null,null,null,null,null,null,1,1,1,null,null,null,null,null,null,null,null,null,null,null,null,null,null,null,null,null,null,null,null,null,null,1,{"$f":"IF(AZ340=1,G340,0)","v":0},{"$f":"IF(AZ340=2,G340,0)","v":0},{"$f":"IF(AZ340=3,G340,0)","v":0},{"$f":"IF(AZ340=4,G340,0)","v":0},{"$f":"IF(AZ340=5,G340,0)","v":0},null,null,null,null,null,null,null,null,null,null,null,null,null,null,null,null,null,null,null,null,null,1,1]
[null,null,"Položka je určena pro montáž potrubí hrdlového s pružnými spoji, ve výkopu. Pro blokované spoje se cena zvýší o 15 - 20 %. V položce nejsou zakalkulovány náklady na dodávku trub; trouby a spojovací materiál se oceňuje ve specifikaci",null,null,null,null,null,null,null,null,"Položka je určena pro montáž potrubí hrdlového s pružnými spoji, ve výkopu. Pro blokované spoje se cena zvýší o 15 - 20 %. V položce nejsou zakalkulovány náklady na dodávku trub; trouby a spojovací materiál se oceňuje ve specifikaci",null,null,3]
[null,null,"VTP:",null,0,null,null,null,null,null,null,null,"VTP:"]
[null,null,"Řad \"L\" TLT DN100:9,60",null,9.6,null,null,null,null,null,null,null,"Řad \"L\" TLT DN100:9,60"]
[36,"857242121R00","Montáž tvarovek litin. jednoos.přír. výkop DN 80 včetně nerezových spoj. prvků a obandážování spoje","kus",8,null,{"$f":"E344*F344","v":0},2.2000000000000001E-4,{"$f":"E344*H344","v":1.7600000000000001E-3},0,{"$f":"E344*J344","v":0},null,null,null,2,null,null,null,null,null,null,null,null,null,null,null,1,1,1,null,null,null,null,null,null,null,null,null,null,null,null,null,null,null,null,null,null,null,null,null,null,1,{"$f":"IF(AZ344=1,G344,0)","v":0},{"$f":"IF(AZ344=2,G344,0)","v":0},{"$f":"IF(AZ344=3,G344,0)","v":0},{"$f":"IF(AZ344=4,G344,0)","v":0},{"$f":"IF(AZ344=5,G344,0)","v":0},null,null,null,null,null,null,null,null,null,null,null,null,null,null,null,null,null,null,null,null,null,1,1]
[null,null,"Položka je určena pro montáž litinových tvarovek na potrubí litinovém tlakovém přírubovém jednoosých v otevřeném výkopu, v otevřeném kanálu nebo v šachtě.",null,null,null,null,null,null,null,null,"Položka je určena pro montáž litinových tvarovek na potrubí litinovém tlakovém přírubovém jednoosých v otevřeném výkopu, v otevřeném kanálu nebo v šachtě.",null,null,3]
[null,null,"AŠ:",null,0,null,null,null,null,null,null,null,"AŠ:"]
[null,null,"FF DN80/1000:3",null,3,null,null,null,null,null,null,null,"FF DN80/1000:3"]
[null,null,"XG DN80/2\":1",null,1,null,null,null,null,null,null,null,"XG DN80/2\":1"]
[null,null,"NTL:",null,0,null,null,null,null,null,null,null,"NTL:"]
[null,null,"Řad \"J\" PE D90x8,2 mm:",null,0,null,null,null,null,null,null,null,"Řad \"J\" PE D90x8,2 mm:"]
[null,null,"LN+TP D90/DN80:1",null,1,null,null,null,null,null,null,null,"LN+TP D90/DN80:1"]
[null,null,"Synoflex spojka DN80/90:1",null,1,null,null,null,null,null,null,null,"Synoflex spojka DN80/90:1"]
[null,null,"Řad \"K\" TLT DN80:",null,0,null,null,null,null,null,null,null,"Řad \"K\" TLT DN80:"]
[null,null,"EU DN80:1",null,1,null,null,null,null,null,null,null,"EU DN80:1"]
[null,null,"Propoj na Řad  \"A\" TLT DN80:",null,0,null,null,null,null,null,null,null,"Propoj na Řad  \"A\" TLT DN80:"]
[null,null,"EU DN80:1",null,1,null,null,null,null,null,null,null,"EU DN80:1"]
[37,"857244121R00","Montáž tvarovek litin. odboč. přír. výkop DN 80 včetně nerezových spoj. prvků a obandážování spoje","kus",2,null,{"$f":"E357*F357","v":0},3.2000000000000003E-4,{"$f":"E357*H357","v":6.4000000000000005E-4},0,{"$f":"E357*J357","v":0},null,null,null,2,null,null,null,null,null,null,null,null,null,null,null,1,1,1,null,null,null,null,null,null,null,null,null,null,null,null,null,null,null,null,null,null,null,null,null,null,1,{"$f":"IF(AZ357=1,G357,0)","v":0},{"$f":"IF(AZ357=2,G357,0)","v":0},{"$f":"IF(AZ357=3,G357,0)","v":0},{"$f":"IF(AZ357=4,G357,0)","v":0},{"$f":"IF(AZ357=5,G357,0)","v":0},null,null,null,null,null,null,null,null,null,null,null,null,null,null,null,null,null,null,null,null,null,1,1]
[null,null,"Položka je určena pro montáž litinových tvarovek na potrubí litinovém tlakovém přírubovém odbočných v otevřeném výkopu, v otevřeném kanálu nebo v šachtě",null,null,null,null,null,null,null,null,"Položka je určena pro montáž litinových tvarovek na potrubí litinovém tlakovém přírubovém odbočných v otevřeném výkopu, v otevřeném kanálu nebo v šachtě",null,null,3]
[null,null,"AŠ:",null,0,null,null,null,null,null,null,null,"AŠ:"]
[null,null,"TT DN80:1",null,1,null,null,null,null,null,null,null,"TT DN80:1"]
[null,null,"T DN80/80:1",null,1,null,null,null,null,null,null,null,"T DN80/80:1"]
[38,"857262121R00","Montáž tvarovek litin. jednoos. přír. výkop DN 100 včetně nerezových spoj. prvků a obandážování spoje","kus",5,null,{"$f":"E362*F362","v":0},4.0999999999999999E-4,{"$f":"E362*H362","v":2.0499999999999997E-3},0,{"$f":"E362*J362","v":0},null,null,null,2,null,null,null,null,null,null,null,null,null,null,null,1,1,1,null,null,null,null,null,null,null,null,null,null,null,null,null,null,null,null,null,null,null,null,null,null,1,{"$f":"IF(AZ362=1,G362,0)","v":0},{"$f":"IF(AZ362=2,G362,0)","v":0},{"$f":"IF(AZ362=3,G362,0)","v":0},{"$f":"IF(AZ362=4,G362,0)","v":0},{"$f":"IF(AZ362=5,G362,0)","v":0},null,null,null,null,null,null,null,null,null,null,null,null,null,null,null,null,null,null,null,null,null,1,1]
[null,null,"Položka je určena pro montáž litinových tvarovek na potrubí litinovém tlakovém přírubovém jednoosých v otevřeném výkopu, v otevřeném kanálu nebo v šachtě.",null,null,null,null,null,null,null,null,"Položka je určena pro montáž litinových tvarovek na potrubí litinovém tlakovém přírubovém jednoosých v otevřeném výkopu, v otevřeném kanálu nebo v šachtě.",null,null,3]
[null,null,"AŠ:",null,0,null,null,null,null,null,null,null,"AŠ:"]
[null,null,"FF DN100/1000:2",null,2,null,null,null,null,null,null,null,"FF DN100/1000:2"]
[null,null,"Reduk příruba DN100/80:1",null,1,null,null,null,null,null,null,null,"Reduk příruba DN100/80:1"]
[null,null,"VTP:",null,0,null,null,null,null,null,null,null,"VTP:"]
[null,null,"ŘAD \"L\" TLT DN80 a PE D110x10,0 mm:",null,0,null,null,null,null,null,null,null,"ŘAD \"L\" TLT DN80 a PE D110x10,0 mm:"]
[null,null,"LN+TP D110/DN100:1",null,1,null,null,null,null,null,null,null,"LN+TP D110/DN100:1"]
[null,null,"EU DN100:1",null,1,null,null,null,null,null,null,null,"EU DN100:1"]
[39,"857264121R00","Montáž tvarovek litin. odboč. přír. výkop DN 100 včetně nerezových spoj. prvků a obandážování spoje","kus",1,null,{"$f":"E371*F371","v":0},6.2E-4,{"$f":"E371*H371","v":6.2E-4},0,{"$f":"E371*J371","v":0},null,null,null,2,null,null,null,null,null,null,null,null,null,null,null,1,1,1,null,null,null,null,null,null,null,null,null,null,null,null,null,null,null,null,null,null,null,null,null,null,1,{"$f":"IF(AZ371=1,G371,0)","v":0},{"$f":"IF(AZ371=2,G371,0)","v":0},{"$f":"IF(AZ371=3,G371,0)","v":0},{"$f":"IF(AZ371=4,G371,0)","v":0},{"$f":"IF(AZ371=5,G371,0)","v":0},null,null,null,null,null,null,null,null,null,null,null,null,null,null,null,null,null,null,null,null,null,1,1]
[null,null,"Položka je určena pro montáž litinových tvarovek na potrubí litinovém tlakovém přírubovém odbočných v otevřeném výkopu, v otevřeném kanálu nebo v šachtě",null,null,null,null,null,null,null,null,"Položka je určena pro montáž litinových tvarovek na potrubí litinovém tlakovém přírubovém odbočných v otevřeném výkopu, v otevřeném kanálu nebo v šachtě",null,null,3]
[null,null,"AŠ:",null,0,null,null,null,null,null,null,null,"AŠ:"]
[null,null,"T DN100/100:1",null,1,null,null,null,null,null,null,null,"T DN100/100:1"]
[40,"857601101R00","Montáž tvarovek jednoosých, tvárná litina DN 80 ","kus",4,null,{"$f":"E375*F375","v":0},0,{"$f":"E375*H375","v":0},0,{"$f":"E375*J375","v":0},null,null,null,2,null,null,null,null,null,null,null,null,null,null,null,1,1,1,null,null,null,null,null,null,null,null,null,null,null,null,null,null,null,null,null,null,null,null,null,null,1,{"$f":"IF(AZ375=1,G375,0)","v":0},{"$f":"IF(AZ375=2,G375,0)","v":0},{"$f":"IF(AZ375=3,G375,0)","v":0},{"$f":"IF(AZ375=4,G375,0)","v":0},{"$f":"IF(AZ375=5,G375,0)","v":0},null,null,null,null,null,null,null,null,null,null,null,null,null,null,null,null,null,null,null,null,null,1,1]
[null,null,"Položka je určena pro montáž tvarovek jednoosých s pružnými spoji ve výkopu. ",null,null,null,null,null,null,null,null,"Položka je určena pro montáž tvarovek jednoosých s pružnými spoji ve výkopu. ",null,null,3]
[null,null,"NTP:",null,0,null,null,null,null,null,null,null,"NTP:"]
[null,null,"Řad \"K\" TLT DN80:",null,0,null,null,null,null,null,null,null,"Řad \"K\" TLT DN80:"]
[null,null,"MMK DN80/11° :1",null,1,null,null,null,null,null,null,null,"MMK DN80/11° :1"]
[null,null,"MMK DN80/45° :1",null,1,null,null,null,null,null,null,null,"MMK DN80/45° :1"]
[null,null,"Propoj na Řad \"A\" TLT DN80:",null,0,null,null,null,null,null,null,null,"Propoj na Řad \"A\" TLT DN80:"]
[null,null,"MMK DN80/45° :2",null,2,null,null,null,null,null,null,null,"MMK DN80/45° :2"]
[41,"857601102R00","Montáž tvarovek jednoosých, tvárná litina DN 100 ","kus",1,null,{"$f":"E383*F383","v":0},0,{"$f":"E383*H383","v":0},0,{"$f":"E383*J383","v":0},null,null,null,2,null,null,null,null,null,null,null,null,null,null,null,1,1,1,null,null,null,null,null,null,null,null,null,null,null,null,null,null,null,null,null,null,null,null,null,null,1,{"$f":"IF(AZ383=1,G383,0)","v":0},{"$f":"IF(AZ383=2,G383,0)","v":0},{"$f":"IF(AZ383=3,G383,0)","v":0},{"$f":"IF(AZ383=4,G383,0)","v":0},{"$f":"IF(AZ383=5,G383,0)","v":0},null,null,null,null,null,null,null,null,null,null,null,null,null,null,null,null,null,null,null,null,null,1,1]
[null,null,"Položka je určena pro montáž tvarovek jednoosých s pružnými spoji ve výkopu. ",null,null,null,null,null,null,null,null,"Položka je určena pro montáž tvarovek jednoosých s pružnými spoji ve výkopu. ",null,null,3]
[null,null,"VTP:",null,0,null,null,null,null,null,null,null,"VTP:"]
[null,null,"Řad \"L\" TLT DN100:",null,0,null,null,null,null,null,null,null,"Řad \"L\" TLT DN100:"]
[null,null,"MMK DN100/11° :1",null,1,null,null,null,null,null,null,null,"MMK DN100/11° :1"]
[42,"871241121R00","Montáž potrubí polyetylenového ve výkopu d 90 mm ","m",16.7,null,{"$f":"E388*F388","v":0},0,{"$f":"E388*H388","v":0},0,{"$f":"E388*J388","v":0},null,null,null,2,null,null,null,null,null,null,null,null,null,null,null,1,1,1,null,null,null,null,null,null,null,null,null,null,null,null,null,null,null,null,null,null,null,null,null,null,1,{"$f":"IF(AZ388=1,G388,0)","v":0},{"$f":"IF(AZ388=2,G388,0)","v":0},{"$f":"IF(AZ388=3,G388,0)","v":0},{"$f":"IF(AZ388=4,G388,0)","v":0},{"$f":"IF(AZ388=5,G388,0)","v":0},null,null,null,null,null,null,null,null,null,null,null,null,null,null,null,null,null,null,null,null,null,1,1]
[null,null,"V položce je uvažováno s jedním spojem na 6 m potrubí.",null,null,null,null,null,null,null,null,"V položce je uvažováno s jedním spojem na 6 m potrubí.",null,null,3]
[null,null,"NTP:",null,0,null,null,null,null,null,null,null,"NTP:"]
[null,null,"Řad \"J\" PE D90x8,2 mm:16,70",null,16.7,null,null,null,null,null,null,null,"Řad \"J\" PE D90x8,2 mm:16,70"]
[43,"871251121R00","Montáž trubek polyetylenových ve výkopu d 110 mm ","m",14.5,null,{"$f":"E392*F392","v":0},0,{"$f":"E392*H392","v":0},0,{"$f":"E392*J392","v":0},null,null,null,2,null,null,null,null,null,null,null,null,null,null,null,1,1,1,null,null,null,null,null,null,null,null,null,null,null,null,null,null,null,null,null,null,null,null,null,null,1,{"$f":"IF(AZ392=1,G392,0)","v":0},{"$f":"IF(AZ392=2,G392,0)","v":0},{"$f":"IF(AZ392=3,G392,0)","v":0},{"$f":"IF(AZ392=4,G392,0)","v":0},{"$f":"IF(AZ392=5,G392,0)","v":0},null,null,null,null,null,null,null,null,null,null,null,null,null,null,null,null,null,null,null,null,null,1,1]
[null,null,"V položce je uvažováno s jedním spojem na 6 m potrubí. ",null,null,null,null,null,null,null,null,"V položce je uvažováno s jedním spojem na 6 m potrubí. ",null,null,3]
[null,null,"VTP:",null,0,null,null,null,null,null,null,null,"VTP:"]
[null,null,"Řad \"L\" PE D110x10,0 mm:14,50",null,14.5,null,null,null,null,null,null,null,"Řad \"L\" PE D110x10,0 mm:14,50"]
[44,"877242121R00","Přirážka za 1 spoj elektrotvarovky d 90 mm ","kus",4,null,{"$f":"E396*F396","v":0},0,{"$f":"E396*H396","v":0},0,{"$f":"E396*J396","v":0},null,null,null,2,null,null,null,null,null,null,null,null,null,null,null,1,1,1,null,null,null,null,null,null,null,null,null,null,null,null,null,null,null,null,null,null,null,null,null,null,1,{"$f":"IF(AZ396=1,G396,0)","v":0},{"$f":"IF(AZ396=2,G396,0)","v":0},{"$f":"IF(AZ396=3,G396,0)","v":0},{"$f":"IF(AZ396=4,G396,0)","v":0},{"$f":"IF(AZ396=5,G396,0)","v":0},null,null,null,null,null,null,null,null,null,null,null,null,null,null,null,null,null,null,null,null,null,1,1]
[null,null,"NTP:",null,0,null,null,null,null,null,null,null,"NTP:"]
[null,null,"Řad \"J\" PE D90x8,2 mm:",null,0,null,null,null,null,null,null,null,"Řad \"J\" PE D90x8,2 mm:"]
[null,null,"Elektrospojka D90:2",null,2,null,null,null,null,null,null,null,"Elektrospojka D90:2"]
[null,null,"Elektrokoleno D90/45° :2",null,2,null,null,null,null,null,null,null,"Elektrokoleno D90/45° :2"]
[45,"877252121R00","Přirážka za 1 spoj elektrotvarovky d 110 mm ","kus",3,null,{"$f":"E401*F401","v":0},0,{"$f":"E401*H401","v":0},0,{"$f":"E401*J401","v":0},null,null,null,2,null,null,null,null,null,null,null,null,null,null,null,1,1,1,null,null,null,null,null,null,null,null,null,null,null,null,null,null,null,null,null,null,null,null,null,null,1,{"$f":"IF(AZ401=1,G401,0)","v":0},{"$f":"IF(AZ401=2,G401,0)","v":0},{"$f":"IF(AZ401=3,G401,0)","v":0},{"$f":"IF(AZ401=4,G401,0)","v":0},{"$f":"IF(AZ401=5,G401,0)","v":0},null,null,null,null,null,null,null,null,null,null,null,null,null,null,null,null,null,null,null,null,null,1,1]
[null,null,"VTP:",null,0,null,null,null,null,null,null,null,"VTP:"]
[null,null,"Řad \"L\" PE D110x10,0 mm:",null,0,null,null,null,null,null,null,null,"Řad \"L\" PE D110x10,0 mm:"]
[null,null,"Elektrospojka D110:2",null,2,null,null,null,null,null,null,null,"Elektrospojka D110:2"]
[null,null,"Elektrovíčko D110:1",null,1,null,null,null,null,null,null,null,"Elektrovíčko D110:1"]
[46,"891241221R00","Montáž vodovod. šoupátek šacht. kolečko DN 80 včetně nerezových spoj. prvků a obandážování spoje","kus",6,null,{"$f":"E406*F406","v":0},2.2000000000000001E-4,{"$f":"E406*H406","v":1.32E-3},0,{"$f":"E406*J406","v":0},null,null,null,2,null,null,null,null,null,null,null,null,null,null,null,1,0,0,null,null,null,null,null,null,null,null,null,null,null,null,null,null,null,null,null,null,null,null,null,null,1,{"$f":"IF(AZ406=1,G406,0)","v":0},{"$f":"IF(AZ406=2,G406,0)","v":0},{"$f":"IF(AZ406=3,G406,0)","v":0},{"$f":"IF(AZ406=4,G406,0)","v":0},{"$f":"IF(AZ406=5,G406,0)","v":0},null,null,null,null,null,null,null,null,null,null,null,null,null,null,null,null,null,null,null,null,null,1,0]
[null,null,"Položka je určena pro montáž vodovodních šoupátek v šachtách s ručním kolečkem.",null,null,null,null,null,null,null,null,"Položka je určena pro montáž vodovodních šoupátek v šachtách s ručním kolečkem.",null,null,3]
[null,null,"AŠ:",null,0,null,null,null,null,null,null,null,"AŠ:"]
[null,null,"Š DN80:6",null,6,null,null,null,null,null,null,null,"Š DN80:6"]
[47,"891261221R00","Montáž vodovod. šoupátek šacht. kolečko DN 100 včetně nerezových spoj. prvků a obandážování spoje","kus",2,null,{"$f":"E410*F410","v":0},4.0999999999999999E-4,{"$f":"E410*H410","v":8.1999999999999998E-4},0,{"$f":"E410*J410","v":0},null,null,null,2,null,null,null,null,null,null,null,null,null,null,null,1,1,1,null,null,null,null,null,null,null,null,null,null,null,null,null,null,null,null,null,null,null,null,null,null,1,{"$f":"IF(AZ410=1,G410,0)","v":0},{"$f":"IF(AZ410=2,G410,0)","v":0},{"$f":"IF(AZ410=3,G410,0)","v":0},{"$f":"IF(AZ410=4,G410,0)","v":0},{"$f":"IF(AZ410=5,G410,0)","v":0},null,null,null,null,null,null,null,null,null,null,null,null,null,null,null,null,null,null,null,null,null,1,1]
[null,null,"Položka je určena pro montáž vodovodních šoupátek v šachtách s ručním kolečkem.",null,null,null,null,null,null,null,null,"Položka je určena pro montáž vodovodních šoupátek v šachtách s ručním kolečkem.",null,null,3]
[null,null,"AŠ:",null,0,null,null,null,null,null,null,null,"AŠ:"]
[null,null,"Š DN100:2",null,2,null,null,null,null,null,null,null,"Š DN100:2"]
[48,"892241111R00","Tlaková zkouška vodovodního potrubí DN 80 včetně zajištění konců potrubí","m",27.9,null,{"$f":"E414*F414","v":0},0,{"$f":"E414*H414","v":0},0,{"$f":"E414*J414","v":0},null,null,null,2,null,null,null,null,null,null,null,null,null,null,null,1,1,1,null,null,null,null,null,null,null,null,null,null,null,null,null,null,null,null,null,null,null,null,null,null,1,{"$f":"IF(AZ414=1,G414,0)","v":0},{"$f":"IF(AZ414=2,G414,0)","v":0},{"$f":"IF(AZ414=3,G414,0)","v":0},{"$f":"IF(AZ414=4,G414,0)","v":0},{"$f":"IF(AZ414=5,G414,0)","v":0},null,null,null,null,null,null,null,null,null,null,null,null,null,null,null,null,null,null,null,null,null,1,1]
[null,null,"V položce jsou započteny náklady na přísun, montáž, demontáž a odsun zkoušecího čerpadla, napuštění tlakovou vodou a dodání vody pro tlakovou zkoušku.",null,null,null,null,null,null,null,null,"V položce jsou započteny náklady na přísun, montáž, demontáž a odsun zkoušecího čerpadla, napuštění tlakovou vodou a dodání vody pro tlakovou zkoušku.",null,null,3]
[null,null,"NTP:",null,0,null,null,null,null,null,null,null,"NTP:"]
[null,null,"Řad \"J\" PE D90x8,2 mm:16,70",null,16.7,null,null,null,null,null,null,null,"Řad \"J\" PE D90x8,2 mm:16,70"]
[null,null,"Řad \"K\" DN80:6,20",null,6.2,null,null,null,null,null,null,null,"Řad \"K\" DN80:6,20"]
[null,null,"Propoj na Řad  \"A\" TLT DN80:1,00",null,1,null,null,null,null,null,null,null,"Propoj na Řad  \"A\" TLT DN80:1,00"]
[null,null,"AŠ:4,00",null,4,null,null,null,null,null,null,null,"AŠ:4,00"]
[49,"892271111R00","Tlaková zkouška vodovodního potrubí DN 125 ","m",26.1,null,{"$f":"E421*F421","v":0},0,{"$f":"E421*H421","v":0},0,{"$f":"E421*J421","v":0},null,null,null,2,null,null,null,null,null,null,null,null,null,null,null,1,1,1,null,null,null,null,null,null,null,null,null,null,null,null,null,null,null,null,null,null,null,null,null,null,1,{"$f":"IF(AZ421=1,G421,0)","v":0},{"$f":"IF(AZ421=2,G421,0)","v":0},{"$f":"IF(AZ421=3,G421,0)","v":0},{"$f":"IF(AZ421=4,G421,0)","v":0},{"$f":"IF(AZ421=5,G421,0)","v":0},null,null,null,null,null,null,null,null,null,null,null,null,null,null,null,null,null,null,null,null,null,1,1]
[null,null,"VTP:",null,0,null,null,null,null,null,null,null,"VTP:"]
[null,null,"Řad \"L\" PE D110x10,0 mm:14,50",null,14.5,null,null,null,null,null,null,null,"Řad \"L\" PE D110x10,0 mm:14,50"]
[null,null,"Řad \"L\" TLT DN100:9,60",null,9.6,null,null,null,null,null,null,null,"Řad \"L\" TLT DN100:9,60"]
[null,null,"AŠ:2,00",null,2,null,null,null,null,null,null,null,"AŠ:2,00"]
[50,"892273111R00","Desinfekce vodovodního potrubí DN 125 ","m",54,null,{"$f":"E426*F426","v":0},0,{"$f":"E426*H426","v":0},0,{"$f":"E426*J426","v":0},null,null,null,2,null,null,null,null,null,null,null,null,null,null,null,1,1,1,null,null,null,null,null,null,null,null,null,null,null,null,null,null,null,null,null,null,null,null,null,null,1,{"$f":"IF(AZ426=1,G426,0)","v":0},{"$f":"IF(AZ426=2,G426,0)","v":0},{"$f":"IF(AZ426=3,G426,0)","v":0},{"$f":"IF(AZ426=4,G426,0)","v":0},{"$f":"IF(AZ426=5,G426,0)","v":0},null,null,null,null,null,null,null,null,null,null,null,null,null,null,null,null,null,null,null,null,null,1,1]
[null,null,"V položce jsou zakalkulovány náklady na napuštění a vypuštění vody, dodání vody a desinfekčního prostředku a na bakteriologický rozbor vody.",null,null,null,null,null,null,null,null,"V položce jsou zakalkulovány náklady na napuštění a vypuštění vody, dodání vody a desinfekčního prostředku a na bakteriologický rozbor vody.",null,null,3]
[null,null,"NTP:",null,0,null,null,null,null,null,null,null,"NTP:"]
[null,null,"Řad \"J\" PE D90x8,2 mm:16,70",null,16.7,null,null,null,null,null,null,null,"Řad \"J\" PE D90x8,2 mm:16,70"]
[null,null,"Řad \"K\" DN80:6,20",null,6.2,null,null,null,null,null,null,null,"Řad \"K\" DN80:6,20"]
[null,null,"Propoj na Řad  \"A\" TLT DN80:1,00",null,1,null,null,null,null,null,null,null,"Propoj na Řad  \"A\" TLT DN80:1,00"]
[null,null,"VTP:",null,0,null,null,null,null,null,null,null,"VTP:"]
[null,null,"Řad \"L\" PE D110x10,0 mm:14,50",null,14.5,null,null,null,null,null,null,null,"Řad \"L\" PE D110x10,0 mm:14,50"]
[null,null,"Řad \"L\" TLT DN100:9,60",null,9.6,null,null,null,null,null,null,null,"Řad \"L\" TLT DN100:9,60"]
[null,null,"AŠ:6,00",null,6,null,null,null,null,null,null,null,"AŠ:6,00"]
[51,"899721112R00","Fólie výstražná z PVC bílá, šířka 30 cm ","m",48,null,{"$f":"E436*F436","v":0},0,{"$f":"E436*H436","v":0},0,{"$f":"E436*J436","v":0},null,null,null,2,null,null,null,null,null,null,null,null,null,null,null,1,1,1,null,null,null,null,null,null,null,null,null,null,null,null,null,null,null,null,null,null,null,null,null,null,1,{"$f":"IF(AZ436=1,G436,0)","v":0},{"$f":"IF(AZ436=2,G436,0)","v":0},{"$f":"IF(AZ436=3,G436,0)","v":0},{"$f":"IF(AZ436=4,G436,0)","v":0},{"$f":"IF(AZ436=5,G436,0)","v":0},null,null,null,null,null,null,null,null,null,null,null,null,null,null,null,null,null,null,null,null,null,1,1]
[null,null,"NTP:",null,0,null,null,null,null,null,null,null,"NTP:"]
[null,null,"Řad \"J\" PE D90x8,2 mm:16,70",null,16.7,null,null,null,null,null,null,null,"Řad \"J\" PE D90x8,2 mm:16,70"]
[null,null,"Řad \"K\" DN80:6,20",null,6.2,null,null,null,null,null,null,null,"Řad \"K\" DN80:6,20"]
[null,null,"Propoj na Řad  \"A\" TLT DN80:1,00",null,1,null,null,null,null,null,null,null,"Propoj na Řad  \"A\" TLT DN80:1,00"]
[null,null,"VTP:",null,0,null,null,null,null,null,null,null,"VTP:"]
[null,null,"Řad \"L\" PE D110x10,0 mm:14,50",null,14.5,null,null,null,null,null,null,null,"Řad \"L\" PE D110x10,0 mm:14,50"]
[null,null,"Řad \"L\" TLT DN100:9,60",null,9.6,null,null,null,null,null,null,null,"Řad \"L\" TLT DN100:9,60"]
[52,"899731114R00","Vodič signalizační CYY 6 mm2 ","m",52,null,{"$f":"E444*F444","v":0},8.0000000000000007E-5,{"$f":"E444*H444","v":4.1600000000000005E-3},0,{"$f":"E444*J444","v":0},null,null,null,2,null,null,null,null,null,null,null,null,null,null,null,1,1,1,null,null,null,null,null,null,null,null,null,null,null,null,null,null,null,null,null,null,null,null,null,null,1,{"$f":"IF(AZ444=1,G444,0)","v":0},{"$f":"IF(AZ444=2,G444,0)","v":0},{"$f":"IF(AZ444=3,G444,0)","v":0},{"$f":"IF(AZ444=4,G444,0)","v":0},{"$f":"IF(AZ444=5,G444,0)","v":0},null,null,null,null,null,null,null,null,null,null,null,null,null,null,null,null,null,null,null,null,null,1,1]
[null,null,"Součástí položky je zajištění proměření vodiče a výchozí zevize.",null,null,null,null,null,null,null,null,"Součástí položky je zajištění proměření vodiče a výchozí zevize.",null,null,3]
[null,null,"NTP:",null,0,null,null,null,null,null,null,null,"NTP:"]
[null,null,"Řad \"J\" PE D90x8,2 mm:16,70",null,16.7,null,null,null,null,null,null,null,"Řad \"J\" PE D90x8,2 mm:16,70"]
[null,null,"Řad \"K\" DN80:6,20",null,6.2,null,null,null,null,null,null,null,"Řad \"K\" DN80:6,20"]
[null,null,"Propoj na Řad  \"A\" TLT DN80:1,00",null,1,null,null,null,null,null,null,null,"Propoj na Řad  \"A\" TLT DN80:1,00"]
[null,null,"VTP:",null,0,null,null,null,null,null,null,null,"VTP:"]
[null,null,"Řad \"L\" PE D110x10,0 mm:14,50",null,14.5,null,null,null,null,null,null,null,"Řad \"L\" PE D110x10,0 mm:14,50"]
[null,null,"Řad \"L\" TLT DN100:9,60",null,9.6,null,null,null,null,null,null,null,"Řad \"L\" TLT DN100:9,60"]
[null,null,"AŠ:4,00",null,4,null,null,null,null,null,null,null,"AŠ:4,00"]
[53,"28613576.6.R","Trubka PE100RC2 SDR11 D 90x8,6 mm L 12 m","m",16.950500000000002,null,{"$f":"E454*F454","v":0},3.79E-3,{"$f":"E454*H454","v":6.4242395000000008E-2},null,{"$f":"E454*J454","v":0},null,null,null,2,null,null,null,null,null,null,null,null,null,null,null,3,1,"28613576.6.R",null,null,null,null,null,null,null,null,null,null,null,null,null,null,null,null,null,null,null,null,null,null,1,{"$f":"IF(AZ454=1,G454,0)","v":0},{"$f":"IF(AZ454=2,G454,0)","v":0},{"$f":"IF(AZ454=3,G454,0)","v":0},{"$f":"IF(AZ454=4,G454,0)","v":0},{"$f":"IF(AZ454=5,G454,0)","v":0},null,null,null,null,null,null,null,null,null,null,null,null,null,null,null,null,null,null,null,null,null,3,1]
[null,null,"NTP:",null,0,null,null,null,null,null,null,null,"NTP:"]
[null,null,"Řad \"J\" PE D90x8,2 mm:16,70*1,015",null,16.950500000000002,null,null,null,null,null,null,null,"Řad \"J\" PE D90x8,2 mm:16,70*1,015"]
[54,"28613577.6.R","Trubka PE100RC2 SDR11 D 110x10,0 mm L 12 m","m",14.717499999999999,null,{"$f":"E457*F457","v":0},3.79E-3,{"$f":"E457*H457","v":5.5779324999999998E-2},null,{"$f":"E457*J457","v":0},null,null,null,2,null,null,null,null,null,null,null,null,null,null,null,3,1,"28613577.6.R",null,null,null,null,null,null,null,null,null,null,null,null,null,null,null,null,null,null,null,null,null,null,1,{"$f":"IF(AZ457=1,G457,0)","v":0},{"$f":"IF(AZ457=2,G457,0)","v":0},{"$f":"IF(AZ457=3,G457,0)","v":0},{"$f":"IF(AZ457=4,G457,0)","v":0},{"$f":"IF(AZ457=5,G457,0)","v":0},null,null,null,null,null,null,null,null,null,null,null,null,null,null,null,null,null,null,null,null,null,3,1]
[null,null,"VTP:",null,0,null,null,null,null,null,null,null,"VTP:"]
[null,null,"Řad \"L\" PE D110x10,0 mm:14,50*1,015",null,14.717499999999999,null,null,null,null,null,null,null,"Řad \"L\" PE D110x10,0 mm:14,50*1,015"]
[55,"28653086.4.R","Elektrospojka d 90 mm PE 100 SDR11","kus",2.0299999999999998,null,{"$f":"E460*F460","v":0},1.2999999999999999E-3,{"$f":"E460*H460","v":2.6389999999999994E-3},null,{"$f":"E460*J460","v":0},null,null,null,2,null,null,null,null,null,null,null,null,null,null,null,3,1,"28653086.4.R",null,null,null,null,null,null,null,null,null,null,null,null,null,null,null,null,null,null,null,null,null,null,1,{"$f":"IF(AZ460=1,G460,0)","v":0},{"$f":"IF(AZ460=2,G460,0)","v":0},{"$f":"IF(AZ460=3,G460,0)","v":0},{"$f":"IF(AZ460=4,G460,0)","v":0},{"$f":"IF(AZ460=5,G460,0)","v":0},null,null,null,null,null,null,null,null,null,null,null,null,null,null,null,null,null,null,null,null,null,3,1]
[null,null,"VTP:",null,0,null,null,null,null,null,null,null,"VTP:"]
[null,null,"Řad \"J\" PE D90x8,2 mm:",null,0,null,null,null,null,null,null,null,"Řad \"J\" PE D90x8,2 mm:"]
[null,null,"Elektrospojka D90:2*1,015",null,2.0299999999999998,null,null,null,null,null,null,null,"Elektrospojka D90:2*1,015"]
[56,"28653086.5.R","Elektrospojka d 110 mm PE 100 SDR11","kus",2.0299999999999998,null,{"$f":"E464*F464","v":0},1.2999999999999999E-3,{"$f":"E464*H464","v":2.6389999999999994E-3},null,{"$f":"E464*J464","v":0},null,null,null,2,null,null,null,null,null,null,null,null,null,null,null,3,1,"28653086.5.R",null,null,null,null,null,null,null,null,null,null,null,null,null,null,null,null,null,null,null,null,null,null,1,{"$f":"IF(AZ464=1,G464,0)","v":0},{"$f":"IF(AZ464=2,G464,0)","v":0},{"$f":"IF(AZ464=3,G464,0)","v":0},{"$f":"IF(AZ464=4,G464,0)","v":0},{"$f":"IF(AZ464=5,G464,0)","v":0},null,null,null,null,null,null,null,null,null,null,null,null,null,null,null,null,null,null,null,null,null,3,1]
[null,null,"VTP:",null,0,null,null,null,null,null,null,null,"VTP:"]
[null,null,"Řad \"L\" PE D110x10,0 mm:",null,0,null,null,null,null,null,null,null,"Řad \"L\" PE D110x10,0 mm:"]
[null,null,"Elektrospojka D110:2*1,015",null,2.0299999999999998,null,null,null,null,null,null,null,"Elektrospojka D110:2*1,015"]
[57,"28653091.5.R","Elektrokoleno d 90 mm 45° PE 100 SDR11","kus",2.0299999999999998,null,{"$f":"E468*F468","v":0},1.2999999999999999E-3,{"$f":"E468*H468","v":2.6389999999999994E-3},null,{"$f":"E468*J468","v":0},null,null,null,2,null,null,null,null,null,null,null,null,null,null,null,3,1,"28653091.5.R",null,null,null,null,null,null,null,null,null,null,null,null,null,null,null,null,null,null,null,null,null,null,1,{"$f":"IF(AZ468=1,G468,0)","v":0},{"$f":"IF(AZ468=2,G468,0)","v":0},{"$f":"IF(AZ468=3,G468,0)","v":0},{"$f":"IF(AZ468=4,G468,0)","v":0},{"$f":"IF(AZ468=5,G468,0)","v":0},null,null,null,null,null,null,null,null,null,null,null,null,null,null,null,null,null,null,null,null,null,3,1]
[null,null,"NTP:",null,0,null,null,null,null,null,null,null,"NTP:"]
[null,null,"Řad \"J\" PE D90x8,2 mm:",null,0,null,null,null,null,null,null,null,"Řad \"J\" PE D90x8,2 mm:"]
[null,null,"Elektrokoleno D90/45° :2*1,015",null,2.0299999999999998,null,null,null,null,null,null,null,"Elektrokoleno D90/45° :2*1,015"]
[58,"28653096.5.R","Elektrovíčko d 110 mm PE 100 SDR11","kus",1.0149999999999999,null,{"$f":"E472*F472","v":0},1.2999999999999999E-3,{"$f":"E472*H472","v":1.3194999999999997E-3},null,{"$f":"E472*J472","v":0},null,null,null,2,null,null,null,null,null,null,null,null,null,null,null,3,1,"28653096.5.R",null,null,null,null,null,null,null,null,null,null,null,null,null,null,null,null,null,null,null,null,null,null,1,{"$f":"IF(AZ472=1,G472,0)","v":0},{"$f":"IF(AZ472=2,G472,0)","v":0},{"$f":"IF(AZ472=3,G472,0)","v":0},{"$f":"IF(AZ472=4,G472,0)","v":0},{"$f":"IF(AZ472=5,G472,0)","v":0},null,null,null,null,null,null,null,null,null,null,null,null,null,null,null,null,null,null,null,null,null,3,1]
[null,null,"VTP:",null,0,null,null,null,null,null,null,null,"VTP:"]
[null,null,"Řad \"L\" PE D110x10,0 mm:",null,0,null,null,null,null,null,null,null,"Řad \"L\" PE D110x10,0 mm:"]
[null,null,"Elektrovíčko D110:1*1,015",null,1.0149999999999999,null,null,null,null,null,null,null,"Elektrovíčko D110:1*1,015"]
[59,"28653765.R","LN + TP D90/DN80 PE100 SDR11","kus",1,null,{"$f":"E476*F476","v":0},3.5E-4,{"$f":"E476*H476","v":3.5E-4},null,{"$f":"E476*J476","v":0},null,null,null,2,null,null,null,null,null,null,null,null,null,null,null,3,1,"28653765.R",null,null,null,null,null,null,null,null,null,null,null,null,null,null,null,null,null,null,null,null,null,null,1,{"$f":"IF(AZ476=1,G476,0)","v":0},{"$f":"IF(AZ476=2,G476,0)","v":0},{"$f":"IF(AZ476=3,G476,0)","v":0},{"$f":"IF(AZ476=4,G476,0)","v":0},{"$f":"IF(AZ476=5,G476,0)","v":0},null,null,null,null,null,null,null,null,null,null,null,null,null,null,null,null,null,null,null,null,null,3,1]
[null,null,"NTL:",null,0,null,null,null,null,null,null,null,"NTL:"]
[null,null,"Řad \"J\" PE D90x8,2 mm:",null,0,null,null,null,null,null,null,null,"Řad \"J\" PE D90x8,2 mm:"]
[null,null,"LN+TP D90/DN80:1",null,1,null,null,null,null,null,null,null,"LN+TP D90/DN80:1"]
[60,"28653766.R","LN + TP D110/DN100 PE100 SDR11","kus",1,null,{"$f":"E480*F480","v":0},3.5E-4,{"$f":"E480*H480","v":3.5E-4},null,{"$f":"E480*J480","v":0},null,null,null,2,null,null,null,null,null,null,null,null,null,null,null,3,1,"28653766.R",null,null,null,null,null,null,null,null,null,null,null,null,null,null,null,null,null,null,null,null,null,null,1,{"$f":"IF(AZ480=1,G480,0)","v":0},{"$f":"IF(AZ480=2,G480,0)","v":0},{"$f":"IF(AZ480=3,G480,0)","v":0},{"$f":"IF(AZ480=4,G480,0)","v":0},{"$f":"IF(AZ480=5,G480,0)","v":0},null,null,null,null,null,null,null,null,null,null,null,null,null,null,null,null,null,null,null,null,null,3,1]
[null,null,"VTP:",null,0,null,null,null,null,null,null,null,"VTP:"]
[null,null,"ŘAD \"L\" TLT DN80 a PE D110x10,0 mm:",null,0,null,null,null,null,null,null,null,"ŘAD \"L\" TLT DN80 a PE D110x10,0 mm:"]
[null,null,"LN+TP D110/DN100:1",null,1,null,null,null,null,null,null,null,"LN+TP D110/DN100:1"]
[61,"42200801","Příruba redukovaná XR-A DN100/80","kus",1,null,{"$f":"E484*F484","v":0},2.5000000000000001E-4,{"$f":"E484*H484","v":2.5000000000000001E-4},null,{"$f":"E484*J484","v":0},null,null,null,2,null,null,null,null,null,null,null,null,null,null,null,3,1,42200801,null,null,null,null,null,null,null,null,null,null,null,null,null,null,null,null,null,null,null,null,null,null,1,{"$f":"IF(AZ484=1,G484,0)","v":0},{"$f":"IF(AZ484=2,G484,0)","v":0},{"$f":"IF(AZ484=3,G484,0)","v":0},{"$f":"IF(AZ484=4,G484,0)","v":0},{"$f":"IF(AZ484=5,G484,0)","v":0},null,null,null,null,null,null,null,null,null,null,null,null,null,null,null,null,null,null,null,null,null,3,1]
[null,null,"AŠ:",null,0,null,null,null,null,null,null,null,"AŠ:"]
[null,null,"Reduk příruba DN100/80:1",null,1,null,null,null,null,null,null,null,"Reduk příruba DN100/80:1"]
[62,"42207800.01.R","Ruční kolo pro šoupátko DN 65-80","kus",6,null,{"$f":"E487*F487","v":0},6.1999999999999998E-3,{"$f":"E487*H487","v":3.7199999999999997E-2},null,{"$f":"E487*J487","v":0},null,null,null,2,null,null,null,null,null,null,null,null,null,null,null,3,1,"42207800.01.R",null,null,null,null,null,null,null,null,null,null,null,null,null,null,null,null,null,null,null,null,null,null,1,{"$f":"IF(AZ487=1,G487,0)","v":0},{"$f":"IF(AZ487=2,G487,0)","v":0},{"$f":"IF(AZ487=3,G487,0)","v":0},{"$f":"IF(AZ487=4,G487,0)","v":0},{"$f":"IF(AZ487=5,G487,0)","v":0},null,null,null,null,null,null,null,null,null,null,null,null,null,null,null,null,null,null,null,null,null,3,1]
[null,null,"Ruční kolo uzavírací pro šoupátka z šsdé litiny GG 250 s epoxidovou ochrannou vrstvou.",null,null,null,null,null,null,null,null,"Ruční kolo uzavírací pro šoupátka z šsdé litiny GG 250 s epoxidovou ochrannou vrstvou.",null,null,3]
[null,null,"Pro Š DN65-80.",null,null,null,null,null,null,null,null,"Pro Š DN65-80.",null,null,3]
[null,null,"AŠ:",null,0,null,null,null,null,null,null,null,"AŠ:"]
[null,null,"Š DN80:6",null,6,null,null,null,null,null,null,null,"Š DN80:6"]
[63,"42207800.02.R","Ruční kolo pro šoupátko DN100","kus",2,null,{"$f":"E492*F492","v":0},6.1999999999999998E-3,{"$f":"E492*H492","v":1.24E-2},null,{"$f":"E492*J492","v":0},null,null,null,2,null,null,null,null,null,null,null,null,null,null,null,3,1,"42207800.02.R",null,null,null,null,null,null,null,null,null,null,null,null,null,null,null,null,null,null,null,null,null,null,1,{"$f":"IF(AZ492=1,G492,0)","v":0},{"$f":"IF(AZ492=2,G492,0)","v":0},{"$f":"IF(AZ492=3,G492,0)","v":0},{"$f":"IF(AZ492=4,G492,0)","v":0},{"$f":"IF(AZ492=5,G492,0)","v":0},null,null,null,null,null,null,null,null,null,null,null,null,null,null,null,null,null,null,null,null,null,3,1]
[null,null,"Ruční kolo uzavírací pro šoupátka z šsdé litiny GG 250 s epoxidovou ochrannou vrstvou.",null,null,null,null,null,null,null,null,"Ruční kolo uzavírací pro šoupátka z šsdé litiny GG 250 s epoxidovou ochrannou vrstvou.",null,null,3]
[null,null,"Pro Š DN100.",null,null,null,null,null,null,null,null,"Pro Š DN100.",null,null,3]
[null,null,"AŠ:",null,0,null,null,null,null,null,null,null,"AŠ:"]
[null,null,"Š DN100:2",null,2,null,null,null,null,null,null,null,"Š DN100:2"]
[64,"42228310.R","Šoupátko 4000E2 DN 80 přírubové, voda PN16","kus",6,null,{"$f":"E497*F497","v":0},1.6500000000000001E-2,{"$f":"E497*H497","v":9.9000000000000005E-2},null,{"$f":"E497*J497","v":0},null,null,null,2,null,null,null,null,null,null,null,null,null,null,null,3,1,"42228310.R",null,null,null,null,null,null,null,null,null,null,null,null,null,null,null,null,null,null,null,null,null,null,1,{"$f":"IF(AZ497=1,G497,0)","v":0},{"$f":"IF(AZ497=2,G497,0)","v":0},{"$f":"IF(AZ497=3,G497,0)","v":0},{"$f":"IF(AZ497=4,G497,0)","v":0},{"$f":"IF(AZ497=5,G497,0)","v":0},null,null,null,null,null,null,null,null,null,null,null,null,null,null,null,null,null,null,null,null,null,3,1]
[null,null,"Šoupátko přírubové krkové - měkcetěsnící klínové šoupátko s hladkým a volným průtokovým kanálem",null,null,null,null,null,null,null,null,"Šoupátko přírubové krkové - měkcetěsnící klínové šoupátko s hladkým a volným průtokovým kanálem",null,null,3]
[null,null,"č. 4000E2",null,null,null,null,null,null,null,null,"č. 4000E2",null,null,3]
[null,null,"PN 16",null,null,null,null,null,null,null,null,"PN 16",null,null,3]
[null,null,"DN 80",null,null,null,null,null,null,null,null,"DN 80",null,null,3]
[null,null,"těleso a víko: tvárná litina GGG 400 - DIN 1693",null,null,null,null,null,null,null,null,"těleso a víko: tvárná litina GGG 400 - DIN 1693",null,null,3]
[null,null,"medium: pitná voda, neagresivní odpadní voda",null,null,null,null,null,null,null,null,"medium: pitná voda, neagresivní odpadní voda",null,null,3]
[null,null,"AŠ:",null,0,null,null,null,null,null,null,null,"AŠ:"]
[null,null,"Š DN80:6",null,6,null,null,null,null,null,null,null,"Š DN80:6"]
[65,"42228312.R","Šoupátko 4000E2 DN 100 přírubové, voda PN16","kus",2,null,{"$f":"E506*F506","v":0},2.4500000000000001E-2,{"$f":"E506*H506","v":4.9000000000000002E-2},null,{"$f":"E506*J506","v":0},null,null,null,2,null,null,null,null,null,null,null,null,null,null,null,3,1,"42228312.R",null,null,null,null,null,null,null,null,null,null,null,null,null,null,null,null,null,null,null,null,null,null,1,{"$f":"IF(AZ506=1,G506,0)","v":0},{"$f":"IF(AZ506=2,G506,0)","v":0},{"$f":"IF(AZ506=3,G506,0)","v":0},{"$f":"IF(AZ506=4,G506,0)","v":0},{"$f":"IF(AZ506=5,G506,0)","v":0},null,null,null,null,null,null,null,null,null,null,null,null,null,null,null,null,null,null,null,null,null,3,1]
[null,null,"Šoupátko přírubové krkové - měkcetěsnící klínové šoupátko s hladkým a volným průtokovým kanálem",null,null,null,null,null,null,null,null,"Šoupátko přírubové krkové - měkcetěsnící klínové šoupátko s hladkým a volným průtokovým kanálem",null,null,3]
[null,null,"č. 4000E2",null,null,null,null,null,null,null,null,"č. 4000E2",null,null,3]
[null,null,"PN 16",null,null,null,null,null,null,null,null,"PN 16",null,null,3]
[null,null,"DN 100",null,null,null,null,null,null,null,null,"DN 100",null,null,3]
[null,null,"těleso a víko: tvárná litina GGG 400 - DIN 1693",null,null,null,null,null,null,null,null,"těleso a víko: tvárná litina GGG 400 - DIN 1693",null,null,3]
[null,null,"medium: pitná voda, neagresivní odpadní voda",null,null,null,null,null,null,null,null,"medium: pitná voda, neagresivní odpadní voda",null,null,3]
[null,null,"AŠ:",null,0,null,null,null,null,null,null,null,"AŠ:"]
[null,null,"Š DN100:2",null,2,null,null,null,null,null,null,null,"Š DN100:2"]
[66,"422935303","Spojka Synoflex 7974, DN 80, PN 16","kus",1,null,{"$f":"E515*F515","v":0},6.8999999999999999E-3,{"$f":"E515*H515","v":6.8999999999999999E-3},null,{"$f":"E515*J515","v":0},null,null,null,2,null,null,null,null,null,null,null,null,null,null,null,3,1,422935303,null,null,null,null,null,null,null,null,null,null,null,null,null,null,null,null,null,null,null,null,null,null,1,{"$f":"IF(AZ515=1,G515,0)","v":0},{"$f":"IF(AZ515=2,G515,0)","v":0},{"$f":"IF(AZ515=3,G515,0)","v":0},{"$f":"IF(AZ515=4,G515,0)","v":0},{"$f":"IF(AZ515=5,G515,0)","v":0},null,null,null,null,null,null,null,null,null,null,null,null,null,null,null,null,null,null,null,null,null,3,1]
[null,null,"NTL:",null,0,null,null,null,null,null,null,null,"NTL:"]
[null,null,"Řad \"J\" PE D90x8,2 mm:",null,0,null,null,null,null,null,null,null,"Řad \"J\" PE D90x8,2 mm:"]
[null,null,"Synoflex spojka DN80/90:1",null,1,null,null,null,null,null,null,null,"Synoflex spojka DN80/90:1"]
[67,"55251130.R","TL vod.tlak. DN 80 mm C100 spoj TYTON","m",7.2720000000000002,null,{"$f":"E519*F519","v":0},1.4500000000000001E-2,{"$f":"E519*H519","v":0.10544400000000001},null,{"$f":"E519*J519","v":0},null,null,null,2,null,null,null,null,null,null,null,null,null,null,null,3,1,"55251130.R",null,null,null,null,null,null,null,null,null,null,null,null,null,null,null,null,null,null,null,null,null,null,1,{"$f":"IF(AZ519=1,G519,0)","v":0},{"$f":"IF(AZ519=2,G519,0)","v":0},{"$f":"IF(AZ519=3,G519,0)","v":0},{"$f":"IF(AZ519=4,G519,0)","v":0},{"$f":"IF(AZ519=5,G519,0)","v":0},null,null,null,null,null,null,null,null,null,null,null,null,null,null,null,null,null,null,null,null,null,3,1]
[null,null,"Hrdlová trouba z tvárné litiny s hladkým koncem dle ČSN EN 545",null,null,null,null,null,null,null,null,"Hrdlová trouba z tvárné litiny s hladkým koncem dle ČSN EN 545",null,null,3]
[null,null,"Hrdlový spoj Tyton (pružný násuvný spoj EPDM)",null,null,null,null,null,null,null,null,"Hrdlový spoj Tyton (pružný násuvný spoj EPDM)",null,null,3]
[null,null,"Zinek Plus - vně zinko-aluminiový povlak 400 g/m2 (85Zn-15Al) s krycí modrou epoxidovou vrstvou",null,null,null,null,null,null,null,null,"Zinek Plus - vně zinko-aluminiový povlak 400 g/m2 (85Zn-15Al) s krycí modrou epoxidovou vrstvou",null,null,3]
[null,null,"uvnitř vyložení z cementové malty z vysokopecního cementu",null,null,null,null,null,null,null,null,"uvnitř vyložení z cementové malty z vysokopecního cementu",null,null,3]
[null,null,"hrdla trub jsou zevnitř pozinkována a pokryta epoxidovým povlakem",null,null,null,null,null,null,null,null,"hrdla trub jsou zevnitř pozinkována a pokryta epoxidovým povlakem",null,null,3]
[null,null,"NTL:",null,0,null,null,null,null,null,null,null,"NTL:"]
[null,null,"Řad \"K\" DN80:6,20*1,01",null,6.2619999999999996,null,null,null,null,null,null,null,"Řad \"K\" DN80:6,20*1,01"]
[null,null,"Propoj na Řad  \"A\" TLT DN80:1,00*1,01",null,1.01,null,null,null,null,null,null,null,"Propoj na Řad  \"A\" TLT DN80:1,00*1,01"]
[68,"55251131.R","TL vod.tlak. DN100 mm C100 spoj TYTON","m",9.6959999999999997,null,{"$f":"E528*F528","v":0},1.77E-2,{"$f":"E528*H528","v":0.1716192},null,{"$f":"E528*J528","v":0},null,null,null,2,null,null,null,null,null,null,null,null,null,null,null,3,1,"55251131.R",null,null,null,null,null,null,null,null,null,null,null,null,null,null,null,null,null,null,null,null,null,null,1,{"$f":"IF(AZ528=1,G528,0)","v":0},{"$f":"IF(AZ528=2,G528,0)","v":0},{"$f":"IF(AZ528=3,G528,0)","v":0},{"$f":"IF(AZ528=4,G528,0)","v":0},{"$f":"IF(AZ528=5,G528,0)","v":0},null,null,null,null,null,null,null,null,null,null,null,null,null,null,null,null,null,null,null,null,null,3,1]
[null,null,"Hrdlová trouba z tvárné litiny s hladkým koncem dle ČSN EN 545",null,null,null,null,null,null,null,null,"Hrdlová trouba z tvárné litiny s hladkým koncem dle ČSN EN 545",null,null,3]
[null,null,"Hrdlový spoj Tyton (pružný násuvný spoj EPDM)",null,null,null,null,null,null,null,null,"Hrdlový spoj Tyton (pružný násuvný spoj EPDM)",null,null,3]
[null,null,"Zinek Plus - vně zinko-aluminiový povlak 400 g/m2 (85Zn-15Al) s krycí modrou epoxidovou vrstvou",null,null,null,null,null,null,null,null,"Zinek Plus - vně zinko-aluminiový povlak 400 g/m2 (85Zn-15Al) s krycí modrou epoxidovou vrstvou",null,null,3]
[null,null,"uvnitř vyložení z cementové malty z vysokopecního cementu",null,null,null,null,null,null,null,null,"uvnitř vyložení z cementové malty z vysokopecního cementu",null,null,3]
[null,null,"hrdla trub jsou zevnitř pozinkována a pokryta epoxidovým povlakem",null,null,null,null,null,null,null,null,"hrdla trub jsou zevnitř pozinkována a pokryta epoxidovým povlakem",null,null,3]
[null,null,"VTP:",null,0,null,null,null,null,null,null,null,"VTP:"]
[null,null,"Řad \"L\" TLT DN100:9,60*1,01",null,9.6959999999999997,null,null,null,null,null,null,null,"Řad \"L\" TLT DN100:9,60*1,01"]
[69,"55251223","Trouba přír.litin. FF DN 80 mm dl. 1000 mm","kus",3,null,{"$f":"E536*F536","v":0},1.78E-2,{"$f":"E536*H536","v":5.3400000000000003E-2},null,{"$f":"E536*J536","v":0},null,null,null,2,null,null,null,null,null,null,null,null,null,null,null,3,1,55251223,null,null,null,null,null,null,null,null,null,null,null,null,null,null,null,null,null,null,null,null,null,null,1,{"$f":"IF(AZ536=1,G536,0)","v":0},{"$f":"IF(AZ536=2,G536,0)","v":0},{"$f":"IF(AZ536=3,G536,0)","v":0},{"$f":"IF(AZ536=4,G536,0)","v":0},{"$f":"IF(AZ536=5,G536,0)","v":0},null,null,null,null,null,null,null,null,null,null,null,null,null,null,null,null,null,null,null,null,null,3,1]
[null,null,"AŠ:",null,0,null,null,null,null,null,null,null,"AŠ:"]
[null,null,"FF DN80/1000:3",null,3,null,null,null,null,null,null,null,"FF DN80/1000:3"]
[70,"55251252","Trouba přír.litin. FF DN 100 mm dl. 1000 mm","kus",2,null,{"$f":"E539*F539","v":0},2.8000000000000001E-2,{"$f":"E539*H539","v":5.6000000000000001E-2},null,{"$f":"E539*J539","v":0},null,null,null,2,null,null,null,null,null,null,null,null,null,null,null,3,1,55251252,null,null,null,null,null,null,null,null,null,null,null,null,null,null,null,null,null,null,null,null,null,null,1,{"$f":"IF(AZ539=1,G539,0)","v":0},{"$f":"IF(AZ539=2,G539,0)","v":0},{"$f":"IF(AZ539=3,G539,0)","v":0},{"$f":"IF(AZ539=4,G539,0)","v":0},{"$f":"IF(AZ539=5,G539,0)","v":0},null,null,null,null,null,null,null,null,null,null,null,null,null,null,null,null,null,null,null,null,null,3,1]
[null,null,"AŠ:",null,0,null,null,null,null,null,null,null,"AŠ:"]
[null,null,"FF DN100/1000:2",null,2,null,null,null,null,null,null,null,"FF DN100/1000:2"]
[71,"55259410.R","Koleno hrdlové MMK DN80-11 1/4°","kus",1,null,{"$f":"E542*F542","v":0},6.4999999999999997E-3,{"$f":"E542*H542","v":6.4999999999999997E-3},null,{"$f":"E542*J542","v":0},null,null,null,2,null,null,null,null,null,null,null,null,null,null,null,3,1,"55259410.R",null,null,null,null,null,null,null,null,null,null,null,null,null,null,null,null,null,null,null,null,null,null,1,{"$f":"IF(AZ542=1,G542,0)","v":0},{"$f":"IF(AZ542=2,G542,0)","v":0},{"$f":"IF(AZ542=3,G542,0)","v":0},{"$f":"IF(AZ542=4,G542,0)","v":0},{"$f":"IF(AZ542=5,G542,0)","v":0},null,null,null,null,null,null,null,null,null,null,null,null,null,null,null,null,null,null,null,null,null,3,1]
[null,null,"NTP:",null,0,null,null,null,null,null,null,null,"NTP:"]
[null,null,"Řad \"K\" TLT DN80:",null,0,null,null,null,null,null,null,null,"Řad \"K\" TLT DN80:"]
[null,null,"MMK DN80/11° :1",null,1,null,null,null,null,null,null,null,"MMK DN80/11° :1"]
[72,"55259412","Koleno hrdlové MMK DN100-11 1/4°","kus",1,null,{"$f":"E546*F546","v":0},8.8000000000000005E-3,{"$f":"E546*H546","v":8.8000000000000005E-3},null,{"$f":"E546*J546","v":0},null,null,null,2,null,null,null,null,null,null,null,null,null,null,null,3,1,55259412,null,null,null,null,null,null,null,null,null,null,null,null,null,null,null,null,null,null,null,null,null,null,1,{"$f":"IF(AZ546=1,G546,0)","v":0},{"$f":"IF(AZ546=2,G546,0)","v":0},{"$f":"IF(AZ546=3,G546,0)","v":0},{"$f":"IF(AZ546=4,G546,0)","v":0},{"$f":"IF(AZ546=5,G546,0)","v":0},null,null,null,null,null,null,null,null,null,null,null,null,null,null,null,null,null,null,null,null,null,3,1]
[null,null,"VTP:",null,0,null,null,null,null,null,null,null,"VTP:"]
[null,null,"Řad \"L\" TLT DN100:",null,0,null,null,null,null,null,null,null,"Řad \"L\" TLT DN100:"]
[null,null,"MMK DN100/11° :1",null,1,null,null,null,null,null,null,null,"MMK DN100/11° :1"]
[73,"55259470.R","Koleno hrdlové MMK DN80/45°","kus",3,null,{"$f":"E550*F550","v":0},8.6999999999999994E-3,{"$f":"E550*H550","v":2.6099999999999998E-2},null,{"$f":"E550*J550","v":0},null,null,null,2,null,null,null,null,null,null,null,null,null,null,null,3,1,"55259470.R",null,null,null,null,null,null,null,null,null,null,null,null,null,null,null,null,null,null,null,null,null,null,1,{"$f":"IF(AZ550=1,G550,0)","v":0},{"$f":"IF(AZ550=2,G550,0)","v":0},{"$f":"IF(AZ550=3,G550,0)","v":0},{"$f":"IF(AZ550=4,G550,0)","v":0},{"$f":"IF(AZ550=5,G550,0)","v":0},null,null,null,null,null,null,null,null,null,null,null,null,null,null,null,null,null,null,null,null,null,3,1]
[null,null,"NTP:",null,0,null,null,null,null,null,null,null,"NTP:"]
[null,null,"Řad \"K\" TLT DN80:",null,0,null,null,null,null,null,null,null,"Řad \"K\" TLT DN80:"]
[null,null,"MMK DN80/45° :1",null,1,null,null,null,null,null,null,null,"MMK DN80/45° :1"]
[null,null,"Propoj na Řad \"A\" TLT DN80:",null,0,null,null,null,null,null,null,null,"Propoj na Řad \"A\" TLT DN80:"]
[null,null,"MMK DN80/45° :2",null,2,null,null,null,null,null,null,null,"MMK DN80/45° :2"]
[74,"55259730.R","Tvar. přír. s hrdlem EU DN 80","kus",2,null,{"$f":"E556*F556","v":0},6.8999999999999999E-3,{"$f":"E556*H556","v":1.38E-2},null,{"$f":"E556*J556","v":0},null,null,null,2,null,null,null,null,null,null,null,null,null,null,null,3,1,"55259730.R",null,null,null,null,null,null,null,null,null,null,null,null,null,null,null,null,null,null,null,null,null,null,1,{"$f":"IF(AZ556=1,G556,0)","v":0},{"$f":"IF(AZ556=2,G556,0)","v":0},{"$f":"IF(AZ556=3,G556,0)","v":0},{"$f":"IF(AZ556=4,G556,0)","v":0},{"$f":"IF(AZ556=5,G556,0)","v":0},null,null,null,null,null,null,null,null,null,null,null,null,null,null,null,null,null,null,null,null,null,3,1]
[null,null,"NTL:",null,0,null,null,null,null,null,null,null,"NTL:"]
[null,null,"Řad \"K\" TLT DN80:",null,0,null,null,null,null,null,null,null,"Řad \"K\" TLT DN80:"]
[null,null,"EU DN80:1",null,1,null,null,null,null,null,null,null,"EU DN80:1"]
[null,null,"Propoj na Řad  \"A\" TLT DN80:",null,0,null,null,null,null,null,null,null,"Propoj na Řad  \"A\" TLT DN80:"]
[null,null,"EU DN80:1",null,1,null,null,null,null,null,null,null,"EU DN80:1"]
[75,"55259731.R","Tvar. přír. s hrdlem EU DN 100","kus",1,null,{"$f":"E562*F562","v":0},8.8000000000000005E-3,{"$f":"E562*H562","v":8.8000000000000005E-3},null,{"$f":"E562*J562","v":0},null,null,null,2,null,null,null,null,null,null,null,null,null,null,null,3,1,"55259731.R",null,null,null,null,null,null,null,null,null,null,null,null,null,null,null,null,null,null,null,null,null,null,1,{"$f":"IF(AZ562=1,G562,0)","v":0},{"$f":"IF(AZ562=2,G562,0)","v":0},{"$f":"IF(AZ562=3,G562,0)","v":0},{"$f":"IF(AZ562=4,G562,0)","v":0},{"$f":"IF(AZ562=5,G562,0)","v":0},null,null,null,null,null,null,null,null,null,null,null,null,null,null,null,null,null,null,null,null,null,3,1]
[null,null,"VTP:",null,0,null,null,null,null,null,null,null,"VTP:"]
[null,null,"ŘAD \"L\" TLT DN80 a PE D110x10,0 mm:",null,0,null,null,null,null,null,null,null,"ŘAD \"L\" TLT DN80 a PE D110x10,0 mm:"]
[null,null,"EU DN100:1",null,1,null,null,null,null,null,null,null,"EU DN100:1"]
[76,"552599939.R","Tvarovka přír. s přír. odb. T DN 80/80","kus",1,null,{"$f":"E566*F566","v":0},1.49E-2,{"$f":"E566*H566","v":1.49E-2},null,{"$f":"E566*J566","v":0},null,null,null,2,null,null,null,null,null,null,null,null,null,null,null,3,1,"552599939.R",null,null,null,null,null,null,null,null,null,null,null,null,null,null,null,null,null,null,null,null,null,null,1,{"$f":"IF(AZ566=1,G566,0)","v":0},{"$f":"IF(AZ566=2,G566,0)","v":0},{"$f":"IF(AZ566=3,G566,0)","v":0},{"$f":"IF(AZ566=4,G566,0)","v":0},{"$f":"IF(AZ566=5,G566,0)","v":0},null,null,null,null,null,null,null,null,null,null,null,null,null,null,null,null,null,null,null,null,null,3,1]
[null,null,"AŠ:",null,0,null,null,null,null,null,null,null,"AŠ:"]
[null,null,"T DN80/80:1",null,1,null,null,null,null,null,null,null,"T DN80/80:1"]
[77,"552599944.R","Tvarovka přír. s přír. odb.T DN 100/100","kus",1,null,{"$f":"E569*F569","v":0},1.9699999999999999E-2,{"$f":"E569*H569","v":1.9699999999999999E-2},null,{"$f":"E569*J569","v":0},null,null,null,2,null,null,null,null,null,null,null,null,null,null,null,3,1,"552599944.R",null,null,null,null,null,null,null,null,null,null,null,null,null,null,null,null,null,null,null,null,null,null,1,{"$f":"IF(AZ569=1,G569,0)","v":0},{"$f":"IF(AZ569=2,G569,0)","v":0},{"$f":"IF(AZ569=3,G569,0)","v":0},{"$f":"IF(AZ569=4,G569,0)","v":0},{"$f":"IF(AZ569=5,G569,0)","v":0},null,null,null,null,null,null,null,null,null,null,null,null,null,null,null,null,null,null,null,null,null,3,1]
[null,null,"AŠ:",null,0,null,null,null,null,null,null,null,"AŠ:"]
[null,null,"T DN100/100:1",null,1,null,null,null,null,null,null,null,"T DN100/100:1"]
[78,"55260001.A","Kříž přírubový TT DN 80/80","kus",1,null,{"$f":"E572*F572","v":0},2.01E-2,{"$f":"E572*H572","v":2.01E-2},null,{"$f":"E572*J572","v":0},null,null,null,2,null,null,null,null,null,null,null,null,null,null,null,3,1,"55260001.A",null,null,null,null,null,null,null,null,null,null,null,null,null,null,null,null,null,null,null,null,null,null,1,{"$f":"IF(AZ572=1,G572,0)","v":0},{"$f":"IF(AZ572=2,G572,0)","v":0},{"$f":"IF(AZ572=3,G572,0)","v":0},{"$f":"IF(AZ572=4,G572,0)","v":0},{"$f":"IF(AZ572=5,G572,0)","v":0},null,null,null,null,null,null,null,null,null,null,null,null,null,null,null,null,null,null,null,null,null,3,1]
[null,null,"AŠ:",null,0,null,null,null,null,null,null,null,"AŠ:"]
[null,null,"TT DN80:1",null,1,null,null,null,null,null,null,null,"TT DN80:1"]
[79,"55260055.R","Příruba zaslepovací  XG DN 80 závit 2\"","kus",1,null,{"$f":"E575*F575","v":0},3.7000000000000002E-3,{"$f":"E575*H575","v":3.7000000000000002E-3},null,{"$f":"E575*J575","v":0},null,null,null,2,null,null,null,null,null,null,null,null,null,null,null,3,1,"55260055.R",null,null,null,null,null,null,null,null,null,null,null,null,null,null,null,null,null,null,null,null,null,null,1,{"$f":"IF(AZ575=1,G575,0)","v":0},{"$f":"IF(AZ575=2,G575,0)","v":0},{"$f":"IF(AZ575=3,G575,0)","v":0},{"$f":"IF(AZ575=4,G575,0)","v":0},{"$f":"IF(AZ575=5,G575,0)","v":0},null,null,null,null,null,null,null,null,null,null,null,null,null,null,null,null,null,null,null,null,null,3,1]
[null,null,"AŠ:",null,0,null,null,null,null,null,null,null,"AŠ:"]
[null,null,"XG DN80/2\":1",null,1,null,null,null,null,null,null,null,"XG DN80/2\":1"]
[null,"Celkem za","8 Trubní vedení",null,null,null,{"$f":"SUM(G324:G577)","v":0},null,{"$f":"SUM(I324:I577)","v":0.85494142000000017},null,{"$f":"SUM(K324:K577)","v":0},null,null,null,4,null,null,null,null,null,null,null,null,null,null,null,null,null,null,null,null,null,null,null,null,null,null,null,null,null,null,null,null,null,null,null,null,null,null,null,null,null,{"$f":"SUM(BA324:BA577)","v":0},{"$f":"SUM(BB324:BB577)","v":0},{"$f":"SUM(BC324:BC577)","v":0},{"$f":"SUM(BD324:BD577)","v":0},{"$f":"SUM(BE324:BE577)","v":0}]
["Díl:","99","Staveništní přesun hmot",null,null,null,null,null,null,null,null,null,null,null,1]
[80,"998273101R00","Přesun hmot, trubní vedení litinové, otevř. výkop ","t",237.25923041999999,null,{"$f":"E580*F580","v":0},0,{"$f":"E580*H580","v":0},null,{"$f":"E580*J580","v":0},null,null,null,2,null,null,null,null,null,null,null,null,null,null,null,7,1,2,null,null,null,null,null,null,null,null,null,null,null,null,null,null,null,null,null,null,null,null,null,null,1,{"$f":"IF(AZ580=1,G580,0)","v":0},{"$f":"IF(AZ580=2,G580,0)","v":0},{"$f":"IF(AZ580=3,G580,0)","v":0},{"$f":"IF(AZ580=4,G580,0)","v":0},{"$f":"IF(AZ580=5,G580,0)","v":0},null,null,null,null,null,null,null,null,null,null,null,null,null,null,null,null,null,null,null,null,null,7,1]
[null,"Celkem za","99 Staveništní přesun hmot",null,null,null,{"$f":"SUM(G579:G580)","v":0},null,{"$f":"SUM(I579:I580)","v":0},null,{"$f":"SUM(K579:K580)","v":0},null,null,null,4,null,null,null,null,null,null,null,null,null,null,null,null,null,null,null,null,null,null,null,null,null,null,null,null,null,null,null,null,null,null,null,null,null,null,null,null,null,{"$f":"SUM(BA579:BA580)","v":0},{"$f":"SUM(BB579:BB580)","v":0},{"$f":"SUM(BC579:BC580)","v":0},{"$f":"SUM(BD579:BD580)","v":0},{"$f":"SUM(BE579:BE580)","v":0}]

{"sheet":"I. 02.02 I. 02.02 KL","index":13,"n_rows":45,"n_cols":8,"rows_kept":45,"cut":false,"hidden":false,"merged":[[45,1,45,6],[46,1,46,6],[47,1,47,6],[48,1,48,6],[49,1,49,6],[50,1,50,6],[29,5,29,6],[30,5,30,6],[31,5,31,6],[32,5,32,6],[33,5,33,6],[36,1,44,6],[7,2,7,4],[8,2,8,4],[9,2,9,4],[10,2,10,4],[11,2,11,4],[22,0,22,1]]}
["POLOŽKOVÝ ROZPOČET"]
["Rozpočet",null,"I. 02.02","Kanalizace \"Kavánova\"",null,"JKSO ","827.21.A3"]
[]
["Objekt",null,null,null,null,"SKP "]
["I. 02.02",null,"Kanalizace \"Kavánova\"",null,null,"Měrná jednotka","m"]
["Stavba",null,null,null,null,"Počet jednotek",0]
["3334",null,"Lomnice nad Popelkou - Vodovod a kanalizace",null,null,"Náklady na m.j.",{"$f":"IF(G6=0,,ROUND((F30+F32)/G6,1))","v":0}]
["Projektant",null,"VEDU VODU s.r.o. Dobrovice",null,null,"Typ rozpočtu"]
["Zpracovatel projektu"]
["Objednatel",null,"Vodohospodářské sdružení Turnov"]
["Dodavatel",null,".",null,null,"Zakázkové číslo "]
["Rozpočtoval",null,null,null,null,"Počet listů"]
["ROZPOČTOVÉ NÁKLADY"]
["Základní rozpočtové náklady"]
[null,"HSV celkem",{"$f":"'I. 02.02 I. 02.02 Rek'!E13","v":0}]
["Z","PSV celkem",{"$f":"'I. 02.02 I. 02.02 Rek'!F13","v":0}]
["R","M práce celkem",{"$f":"'I. 02.02 I. 02.02 Rek'!H13","v":0}]
["N","M dodávky celkem",{"$f":"'I. 02.02 I. 02.02 Rek'!G13","v":0}]
["ZRN celkem",null,{"$f":"SUM(C15:C18)","v":0}]
[]
["HZS",null,{"$f":"'I. 02.02 I. 02.02 Rek'!I13","v":0}]
["ZRN+HZS",null,{"$f":"C19+C21","v":0}]
["ZRN+ost.náklady+HZS",null,{"$f":"C22+G23","v":0}]
["Vypracoval",null,null,"Za zhotovitele",null,"Za objednatele"]
["Jméno :",null,null,"Jméno :",null,"Jméno :"]
["Datum :",null,null,"Datum :",null,"Datum :"]
[]
["Podpis :",null,null,"Podpis:",null,"Podpis:"]
[]
["Základ pro DPH",null,21,"%  ",null,{"$f":"C23-F32","v":0}]
["DPH",null,{"$f":"C30","v":21},"% ",null,{"$f":"ROUND(PRODUCT(F30,C31/100),0)","v":0}]
["Základ pro DPH",null,0,"% ",null,0]
["DPH",null,{"$f":"C32","v":0},"% ",null,{"$f":"ROUND(PRODUCT(F32,C33/100),0)","v":0}]
["CENA ZA OBJEKT CELKEM",null,null,null,null,{"$f":"ROUND(SUM(F30:F33),0)","v":0}]
[]
["Poznámka :",null,null,null,null,null,null," "]
[null,null,null,null,null,null,null," "]
[null,null,null,null,null,null,null," "]
[null,null,null,null,null,null,null," "]
[null,null,null,null,null,null,null," "]
[null,null,null,null,null,null,null," "]
[null,null,null,null,null,null,null," "]
[null,null,null,null,null,null,null," "]
[null,null,null,null,null,null,null," "]
[null,null,null,null,null,null,null," "]

{"sheet":"I. 02.02 I. 02.02 Rek","index":14,"n_rows":13,"n_cols":9,"rows_kept":13,"cut":false,"hidden":false,"merged":[[0,0,0,1],[1,0,1,1],[1,6,1,8]]}
["Stavba :",null,"3334 Lomnice nad Popelkou - Vodovod a kanalizace",null,null,null,"Rozpočet :","I. 02.02"]
["Objekt :",null,"I. 02.02 Kanalizace \"Kavánova\"",null,null,null,"Kanalizace \"Kavánova\""]
[]
["REKAPITULACE  STAVEBNÍCH  DÍLŮ"]
[]
[null,"Stavební díl",null,null,"HSV","PSV","Dodávka","Montáž","HZS"]
[{"$f":"'I. 02.02 I. 02.02 Pol'!B7","v":"1"},{"$f":"'I. 02.02 I. 02.02 Pol'!C7","v":"Zemní práce"},null,null,{"$f":"'I. 02.02 I. 02.02 Pol'!BA128","v":0},{"$f":"'I. 02.02 I. 02.02 Pol'!BB128","v":0},{"$f":"'I. 02.02 I. 02.02 Pol'!BC128","v":0},{"$f":"'I. 02.02 I. 02.02 Pol'!BD128","v":0},{"$f":"'I. 02.02 I. 02.02 Pol'!BE128","v":0}]
[{"$f":"'I. 02.02 I. 02.02 Pol'!B129","v":"45"},{"$f":"'I. 02.02 I. 02.02 Pol'!C129","v":"Podkladní a vedlejší konstrukce"},null,null,{"$f":"'I. 02.02 I. 02.02 Pol'!BA146","v":0},{"$f":"'I. 02.02 I. 02.02 Pol'!BB146","v":0},{"$f":"'I. 02.02 I. 02.02 Pol'!BC146","v":0},{"$f":"'I. 02.02 I. 02.02 Pol'!BD146","v":0},{"$f":"'I. 02.02 I. 02.02 Pol'!BE146","v":0}]
[{"$f":"'I. 02.02 I. 02.02 Pol'!B147","v":"5"},{"$f":"'I. 02.02 I. 02.02 Pol'!C147","v":"Komunikace"},null,null,{"$f":"'I. 02.02 I. 02.02 Pol'!BA152","v":0},{"$f":"'I. 02.02 I. 02.02 Pol'!BB152","v":0},{"$f":"'I. 02.02 I. 02.02 Pol'!BC152","v":0},{"$f":"'I. 02.02 I. 02.02 Pol'!BD152","v":0},{"$f":"'I. 02.02 I. 02.02 Pol'!BE152","v":0}]
[{"$f":"'I. 02.02 I. 02.02 Pol'!B153","v":"8"},{"$f":"'I. 02.02 I. 02.02 Pol'!C153","v":"Trubní vedení"},null,null,{"$f":"'I. 02.02 I. 02.02 Pol'!BA244","v":0},{"$f":"'I. 02.02 I. 02.02 Pol'!BB244","v":0},{"$f":"'I. 02.02 I. 02.02 Pol'!BC244","v":0},{"$f":"'I. 02.02 I. 02.02 Pol'!BD244","v":0},{"$f":"'I. 02.02 I. 02.02 Pol'!BE244","v":0}]
[{"$f":"'I. 02.02 I. 02.02 Pol'!B245","v":"93"},{"$f":"'I. 02.02 I. 02.02 Pol'!C245","v":"Dokončovací práce inženýrských staveb"},null,null,{"$f":"'I. 02.02 I. 02.02 Pol'!BA270","v":0},{"$f":"'I. 02.02 I. 02.02 Pol'!BB270","v":0},{"$f":"'I. 02.02 I. 02.02 Pol'!BC270","v":0},{"$f":"'I. 02.02 I. 02.02 Pol'!BD270","v":0},{"$f":"'I. 02.02 I. 02.02 Pol'!BE270","v":0}]
[{"$f":"'I. 02.02 I. 02.02 Pol'!B271","v":"99"},{"$f":"'I. 02.02 I. 02.02 Pol'!C271","v":"Staveništní přesun hmot"},null,null,{"$f":"'I. 02.02 I. 02.02 Pol'!BA273","v":0},{"$f":"'I. 02.02 I. 02.02 Pol'!BB273","v":0},{"$f":"'I. 02.02 I. 02.02 Pol'!BC273","v":0},{"$f":"'I. 02.02 I. 02.02 Pol'!BD273","v":0},{"$f":"'I. 02.02 I. 02.02 Pol'!BE273","v":0}]
[null,"CELKEM  OBJEKT",null,null,{"$f":"SUM(E7:E12)","v":0},{"$f":"SUM(F7:F12)","v":0},{"$f":"SUM(G7:G12)","v":0},{"$f":"SUM(H7:H12)","v":0},{"$f":"SUM(I7:I12)","v":0}]

{"sheet":"I. 02.02 I. 02.02 Pol","index":15,"n_rows":273,"n_cols":80,"rows_kept":273,"cut":false,"hidden":false,"merged":[[268,2,268,3],[261,2,261,6],[262,2,262,3],[263,2,263,3],[265,2,265,6],[266,2,266,6],[267,2,267,3],[254,2,254,6],[255,2,255,6],[256,2,256,3],[257,2,257,3],[258,2,258,3],[260,2,260,6],[246,2,246,6],[247,2,247,6],[248,2,248,6],[249,2,249,6],[250,2,250,6],[251,2,251,6],[252,2,252,6],[253,2,253,6],[237,2,237,6],[238,2,238,6],[239,2,239,6],[240,2,240,6],[241,2,241,6],[242,2,242,3],[230,2,230,3],[231,2,231,3],[233,2,233,6],[234,2,234,6],[235,2,235,6],[236,2,236,6],[222,2,222,3],[223,2,223,3],[225,2,225,6],[226,2,226,3],[227,2,227,3],[229,2,229,6],[213,2,213,3],[214,2,214,3],[216,2,216,3],[217,2,217,3],[219,2,219,3],[220,2,220,3],[207,2,207,6],[208,2,208,6],[209,2,209,6],[210,2,210,6],[211,2,211,3],[199,2,199,6],[200,2,200,3],[201,2,201,3],[203,2,203,3],[205,2,205,6],[206,2,206,6],[191,2,191,3],[192,2,192,3],[194,2,194,6],[195,2,195,6],[196,2,196,3],[197,2,197,3],[184,2,184,6],[185,2,185,6],[186,2,186,3],[187,2,187,3],[189,2,189,6],[190,2,190,6],[176,2,176,3],[178,2,178,6],[179,2,179,6],[180,2,180,3],[181,2,181,3],[182,2,182,3],[168,2,168,3],[170,2,170,6],[171,2,171,3],[173,2,173,6],[174,2,174,6],[175,2,175,3],[161,2,161,3],[162,2,162,3],[164,2,164,6],[165,2,165,6],[166,2,166,6],[167,2,167,6],[148,2,148,3],[150,2,150,3],[154,2,154,6],[155,2,155,3],[157,2,157,6],[158,2,158,3],[160,2,160,6],[138,2,138,3],[140,2,140,3],[141,2,141,3],[143,2,143,3],[144,2,144,3],[125,2,125,3],[126,2,126,3],[130,2,130,3],[132,2,132,6],[133,2,133,3],[134,2,134,3],[135,2,135,3],[137,2,137,6],[119,2,119,3],[120,2,120,3],[121,2,121,3],[122,2,122,3],[123,2,123,3],[124,2,124,3],[112,2,112,3],[113,2,113,3],[114,2,114,3],[116,2,116,3],[117,2,117,3],[118,2,118,3],[100,2,100,3],[101,2,101,3],[102,2,102,3],[104,2,104,3],[106,2,106,3],[110,2,110,6],[93,2,93,3],[94,2,94,3],[95,2,95,3],[97,2,97,3],[98,2,98,3],[99,2,99,3],[86,2,86,3],[87,2,87,3],[88,2,88,3],[89,2,89,3],[90,2,90,3],[91,2,91,3],[81,2,81,3],[82,2,82,3],[83,2,83,3],[84,2,84,3],[85,2,85,3],[74,2,74,3],[75,2,75,3],[76,2,76,3],[77,2,77,3],[78,2,78,3],[80,2,80,6],[65,2,65,3],[66,2,66,3],[67,2,67,3],[69,2,69,3],[71,2,71,3],[73,2,73,3],[58,2,58,3],[59,2,59,3],[61,2,61,6],[62,2,62,3],[63,2,63,3],[64,2,64,3],[51,2,51,3],[52,2,52,3],[54,2,54,3],[55,2,55,3],[56,2,56,3],[57,2,57,3],[44,2,44,3],[46,2,46,6],[47,2,47,3],[48,2,48,3],[49,2,49,3],[50,2,50,3],[37,2,37,3],[39,2,39,3],[40,2,40,3],[41,2,41,3],[42,2,42,3],[43,2,43,3],[32,2,32,3],[33,2,33,3],[34,2,34,3],[35,2,35,3],[36,2,36,3],[24,2,24,3],[25,2,25,3],[26,2,26,3],[28,2,28,6],[29,2,29,3],[31,2,31,6],[15,2,15,6],[16,2,16,6],[20,2,20,6],[21,2,21,3],[22,2,22,3],[23,2,23,3],[0,0,0,6],[2,0,2,1],[3,0,3,1],[3,4,3,6],[8,2,8,3],[10,2,10,3],[12,2,12,6],[13,2,13,3]]}
["Položkový rozpočet "]
[]
["Stavba :",null,"3334 Lomnice nad Popelkou - Vodovod a kanalizace",null,"Rozpočet:",{"$f":"'I. 02.02 I. 02.02 Rek'!H1","v":"I. 02.02"}]
["Objekt :",null,"I. 02.02 Kanalizace \"Kavánova\"",null,{"$f":"'I. 02.02 I. 02.02 Rek'!G2","v":"Kanalizace \"Kavánova\""}]
[]
["P.č.","Číslo položky","Název položky","MJ","množství","cena / MJ","celkem (Kč)","Jednotková hmotnost","Celková hmotnost","Jednotková dem.hmot.","Celková dem.hmot."]
["Díl:","1","Zemní práce",null,null,null,null,null,null,null,null,null,null,null,1]
[1,"113107625R00","Odstranění podkladu nad 50 m2,kam.drcené tl.25 cm ","m2",40,null,{"$f":"E8*F8","v":0},0,{"$f":"E8*H8","v":0},-0.55000000000000004,{"$f":"E8*J8","v":-22},null,null,null,2,null,null,null,null,null,null,null,null,null,null,null,1,1,1,null,null,null,null,null,null,null,null,null,null,null,null,null,null,null,null,null,null,null,null,null,null,1,{"$f":"IF(AZ8=1,G8,0)","v":0},{"$f":"IF(AZ8=2,G8,0)","v":0},{"$f":"IF(AZ8=3,G8,0)","v":0},{"$f":"IF(AZ8=4,G8,0)","v":0},{"$f":"IF(AZ8=5,G8,0)","v":0},null,null,null,null,null,null,null,null,null,null,null,null,null,null,null,null,null,null,null,null,null,1,1]
[null,null,"Stoka \"I\" DN300:25,00*1,60",null,40,null,null,null,null,null,null,null,"Stoka \"I\" DN300:25,00*1,60"]
[2,"113108415R00","Odstranění asfaltové vrstvy pl.nad 50 m2, tl.15 cm ","m2",40,null,{"$f":"E10*F10","v":0},0,{"$f":"E10*H10","v":0},-0.33,{"$f":"E10*J10","v":-13.200000000000001},null,null,null,2,null,null,null,null,null,null,null,null,null,null,null,1,1,1,null,null,null,null,null,null,null,null,null,null,null,null,null,null,null,null,null,null,null,null,null,null,1,{"$f":"IF(AZ10=1,G10,0)","v":0},{"$f":"IF(AZ10=2,G10,0)","v":0},{"$f":"IF(AZ10=3,G10,0)","v":0},{"$f":"IF(AZ10=4,G10,0)","v":0},{"$f":"IF(AZ10=5,G10,0)","v":0},null,null,null,null,null,null,null,null,null,null,null,null,null,null,null,null,null,null,null,null,null,1,1]
[null,null,"Stoka \"I\" DN300:25,00*1,60",null,40,null,null,null,null,null,null,null,"Stoka \"I\" DN300:25,00*1,60"]
[3,"114211103R00","Odstranění betonových trub do DN 300 mm, ve výkopu ","m",22,null,{"$f":"E12*F12","v":0},0,{"$f":"E12*H12","v":0},-0.10150000000000001,{"$f":"E12*J12","v":-2.2330000000000001},null,null,null,2,null,null,null,null,null,null,null,null,null,null,null,1,1,1,null,null,null,null,null,null,null,null,null,null,null,null,null,null,null,null,null,null,null,null,null,null,1,{"$f":"IF(AZ12=1,G12,0)","v":0},{"$f":"IF(AZ12=2,G12,0)","v":0},{"$f":"IF(AZ12=3,G12,0)","v":0},{"$f":"IF(AZ12=4,G12,0)","v":0},{"$f":"IF(AZ12=5,G12,0)","v":0},null,null,null,null,null,null,null,null,null,null,null,null,null,null,null,null,null,null,null,null,null,1,1]
[null,null,"Položka obsahuje odstranění materiálu obklopujícího potrubí v míře nutné pro vyzvednutí, rozpojení trub, uchopení a vyzvednutí trub z výkopu a uložení na dopravní prostředek včetně odvozu na skládku zhotovitele a poplatek za skládku.",null,null,null,null,null,null,null,null,"Položka obsahuje odstranění materiálu obklopujícího potrubí v míře nutné pro vyzvednutí, rozpojení trub, uchopení a vyzvednutí trub z výkopu a uložení na dopravní prostředek včetně odvozu na skládku zhotovitele a poplatek za skládku.",null,null,3]
[null,null,"Stávající potrubí BT DN300:22,00",null,22,null,null,null,null,null,null,null,"Stávající potrubí BT DN300:22,00"]
[4,"115101201RRX","Přečerpávání nebo převedení splašků a dešť. vod ","h",70,null,{"$f":"E15*F15","v":0},0,{"$f":"E15*H15","v":0},0,{"$f":"E15*J15","v":0},null,null,null,2,null,null,null,null,null,null,null,null,null,null,null,1,1,1,null,null,null,null,null,null,null,null,null,null,null,null,null,null,null,null,null,null,null,null,null,null,1,{"$f":"IF(AZ15=1,G15,0)","v":0},{"$f":"IF(AZ15=2,G15,0)","v":0},{"$f":"IF(AZ15=3,G15,0)","v":0},{"$f":"IF(AZ15=4,G15,0)","v":0},{"$f":"IF(AZ15=5,G15,0)","v":0},null,null,null,null,null,null,null,null,null,null,null,null,null,null,null,null,null,null,null,null,null,1,1]
[null,null,"Převedení a čerpání splašků nebo dešťových vod dle zvolené technologie zhotovitele stavby.",null,null,null,null,null,null,null,null,"Převedení a čerpání splašků nebo dešťových vod dle zvolené technologie zhotovitele stavby.",null,null,3]
[null,null,"(Množství bude určeno na stavbě dle skutečnosti)",null,null,null,null,null,null,null,null,"(Množství bude určeno na stavbě dle skutečnosti)",null,null,3]
[5,"119001401R00","Dočasné zajištění ocelového potrubí do DN 200 mm ","m",6.4,null,{"$f":"E18*F18","v":0},8.6899999999999998E-3,{"$f":"E18*H18","v":5.5615999999999999E-2},0,{"$f":"E18*J18","v":0},null,null,null,2,null,null,null,null,null,null,null,null,null,null,null,1,1,1,null,null,null,null,null,null,null,null,null,null,null,null,null,null,null,null,null,null,null,null,null,null,1,{"$f":"IF(AZ18=1,G18,0)","v":0},{"$f":"IF(AZ18=2,G18,0)","v":0},{"$f":"IF(AZ18=3,G18,0)","v":0},{"$f":"IF(AZ18=4,G18,0)","v":0},{"$f":"IF(AZ18=5,G18,0)","v":0},null,null,null,null,null,null,null,null,null,null,null,null,null,null,null,null,null,null,null,null,null,1,1]
[6,"119001422R00","Dočasné zajištění kabelů - v počtu 3 - 6 kabelů ","m",8,null,{"$f":"E19*F19","v":0},3.9739999999999998E-2,{"$f":"E19*H19","v":0.31791999999999998},0,{"$f":"E19*J19","v":0},null,null,null,2,null,null,null,null,null,null,null,null,null,null,null,1,1,1,null,null,null,null,null,null,null,null,null,null,null,null,null,null,null,null,null,null,null,null,null,null,1,{"$f":"IF(AZ19=1,G19,0)","v":0},{"$f":"IF(AZ19=2,G19,0)","v":0},{"$f":"IF(AZ19=3,G19,0)","v":0},{"$f":"IF(AZ19=4,G19,0)","v":0},{"$f":"IF(AZ19=5,G19,0)","v":0},null,null,null,null,null,null,null,null,null,null,null,null,null,null,null,null,null,null,null,null,null,1,1]
[7,"130001101RRX","Příplatek za ztížené hloubení v blízkosti vedení ","m3",61.225000000000001,null,{"$f":"E20*F20","v":0},0,{"$f":"E20*H20","v":0},0,{"$f":"E20*J20","v":0},null,null,null,2,null,null,null,null,null,null,null,null,null,null,null,1,1,1,null,null,null,null,null,null,null,null,null,null,null,null,null,null,null,null,null,null,null,null,null,null,1,{"$f":"IF(AZ20=1,G20,0)","v":0},{"$f":"IF(AZ20=2,G20,0)","v":0},{"$f":"IF(AZ20=3,G20,0)","v":0},{"$f":"IF(AZ20=4,G20,0)","v":0},{"$f":"IF(AZ20=5,G20,0)","v":0},null,null,null,null,null,null,null,null,null,null,null,null,null,null,null,null,null,null,null,null,null,1,1]
[null,null,"Včetně případných nutných dokopávem a ručního výkopu podél sousedících inženýrských sítí",null,null,null,null,null,null,null,null,"Včetně případných nutných dokopávem a ručního výkopu podél sousedících inženýrských sítí",null,null,3]
[null,null,"Začátek provozního součtu",null,0,null,null,null,null,null,null,null,"Začátek provozního součtu"]
[null,null,"Stoka \"I\" DN300 (částečně součást výkopů pro AŠ vodovodu):22,40*1,60*3,19",null,114.3296,null,null,null,null,null,null,null,"Stoka \"I\" DN300 (částečně součást výkopů pro AŠ vodovodu):22,40*1,60*3,19"]
[null,null,"Prohloubení pro RŠ:1,60*1,60*0,20*4",null,2.048,null,null,null,null,null,null,null,"Prohloubení pro RŠ:1,60*1,60*0,20*4"]
[null,null,"Odpočet konstrukce komunikace:-22,40*1,60*0,40",null,-14.336,null,null,null,null,null,null,null,"Odpočet konstrukce komunikace:-22,40*1,60*0,40"]
[null,null,"Konec provozního součtu",null,102.0416,null,null,null,null,null,null,null,"Konec provozního součtu"]
[null,null,"V hornině tř. 3 - 5 - 60%:102,0416*0,6",null,61.225000000000001,null,null,null,null,null,null,null,"V hornině tř. 3 - 5 - 60%:102,0416*0,6"]
[8,"130901123RT3","Bourání konstrukcí ze železobetonu ve vykopávkách bagrem s kladivem","m3",1.8280000000000001,null,{"$f":"E28*F28","v":0},0,{"$f":"E28*H28","v":0},0,{"$f":"E28*J28","v":0},null,null,null,2,null,null,null,null,null,null,null,null,null,null,null,1,1,1,null,null,null,null,null,null,null,null,null,null,null,null,null,null,null,null,null,null,null,null,null,null,1,{"$f":"IF(AZ28=1,G28,0)","v":0},{"$f":"IF(AZ28=2,G28,0)","v":0},{"$f":"IF(AZ28=3,G28,0)","v":0},{"$f":"IF(AZ28=4,G28,0)","v":0},{"$f":"IF(AZ28=5,G28,0)","v":0},null,null,null,null,null,null,null,null,null,null,null,null,null,null,null,null,null,null,null,null,null,1,1]
[null,null,"Položka obsahuje odstranění materiálu obklopujícího betonové a železobetonové konstrukce v míře nutné pro vyzvednutí, rozpojení konstrukcí, uchopení a vyzvednutí konstrukce z výkopu a uložení na dopravní prostředek včetně odvozu na skládku zhotovitele a poplatek za skládku.",null,null,null,null,null,null,null,null,"Položka obsahuje odstranění materiálu obklopujícího betonové a železobetonové konstrukce v míře nutné pro vyzvednutí, rozpojení konstrukcí, uchopení a vyzvednutí konstrukce z výkopu a uložení na dopravní prostředek včetně odvozu na skládku zhotovitele a poplatek za skládku.",null,null,3]
[null,null,"Stávající RŠ (1 kus):1,8280",null,1.8280000000000001,null,null,null,null,null,null,null,"Stávající RŠ (1 kus):1,8280"]
[9,"132201212R00","Hloubení rýh š.do 200 cm hor.3 do 1000m3,STROJNĚ ","m3",45.918700000000001,null,{"$f":"E31*F31","v":0},0,{"$f":"E31*H31","v":0},0,{"$f":"E31*J31","v":0},null,null,null,2,null,null,null,null,null,null,null,null,null,null,null,1,1,1,null,null,null,null,null,null,null,null,null,null,null,null,null,null,null,null,null,null,null,null,null,null,1,{"$f":"IF(AZ31=1,G31,0)","v":0},{"$f":"IF(AZ31=2,G31,0)","v":0},{"$f":"IF(AZ31=3,G31,0)","v":0},{"$f":"IF(AZ31=4,G31,0)","v":0},{"$f":"IF(AZ31=5,G31,0)","v":0},null,null,null,null,null,null,null,null,null,null,null,null,null,null,null,null,null,null,null,null,null,1,1]
[null,null,"Položka obsahuje hloubení rýh traktorbagrem, naložení výkopku na dopravní prostředek pro svislé, nebo vodorovné přemístění, popř. přemístění výkopku do 3 m (po povrchu území), případné zajištění rypadel polštáři, udržování pracoviště a ochranu výkopiště proti stékání srážkové vody z okolního terénu i s jejím odvodněním, nebo odvedením, přesekání a odstranění kořenů ve výkopišti, odstranění napadávek, urovnání dna výkopu.",null,null,null,null,null,null,null,null,"Položka obsahuje hloubení rýh traktorbagrem, naložení výkopku na dopravní prostředek pro svislé, nebo vodorovné přemístění, popř. přemístění výkopku do 3 m (po povrchu území), případné zajištění rypadel polštáři, udržování pracoviště a ochranu výkopiště proti stékání srážkové vody z okolního terénu i s jejím odvodněním, nebo odvedením, přesekání a odstranění kořenů ve výkopišti, odstranění napadávek, urovnání dna výkopu.",null,null,3]
[null,null,"Začátek provozního součtu",null,0,null,null,null,null,null,null,null,"Začátek provozního součtu"]
[null,null,"Stoka \"I\" DN300 (částečně součást výkopů pro AŠ vodovodu):22,40*1,60*3,19",null,114.3296,null,null,null,null,null,null,null,"Stoka \"I\" DN300 (částečně součást výkopů pro AŠ vodovodu):22,40*1,60*3,19"]
[null,null,"Prohloubení pro RŠ:1,60*1,60*0,20*4",null,2.048,null,null,null,null,null,null,null,"Prohloubení pro RŠ:1,60*1,60*0,20*4"]
[null,null,"Odpočet konstrukce komunikace:-22,40*1,60*0,40",null,-14.336,null,null,null,null,null,null,null,"Odpočet konstrukce komunikace:-22,40*1,60*0,40"]
[null,null,"Konec provozního součtu",null,102.0416,null,null,null,null,null,null,null,"Konec provozního součtu"]
[null,null,"V hornině tř. 3 - 45%:102,0416*0,45",null,45.918700000000001,null,null,null,null,null,null,null,"V hornině tř. 3 - 45%:102,0416*0,45"]
[10,"132201219R00","Přípl.za lepivost,hloubení rýh 200cm,hor.3,STROJNĚ ","m3",22.959399999999999,null,{"$f":"E39*F39","v":0},0,{"$f":"E39*H39","v":0},0,{"$f":"E39*J39","v":0},null,null,null,2,null,null,null,null,null,null,null,null,null,null,null,1,1,1,null,null,null,null,null,null,null,null,null,null,null,null,null,null,null,null,null,null,null,null,null,null,1,{"$f":"IF(AZ39=1,G39,0)","v":0},{"$f":"IF(AZ39=2,G39,0)","v":0},{"$f":"IF(AZ39=3,G39,0)","v":0},{"$f":"IF(AZ39=4,G39,0)","v":0},{"$f":"IF(AZ39=5,G39,0)","v":0},null,null,null,null,null,null,null,null,null,null,null,null,null,null,null,null,null,null,null,null,null,1,1]
[null,null,"Začátek provozního součtu",null,0,null,null,null,null,null,null,null,"Začátek provozního součtu"]
[null,null,"Stoka \"I\" DN300 (částečně součást výkopů pro AŠ vodovodu):22,40*1,60*3,19",null,114.3296,null,null,null,null,null,null,null,"Stoka \"I\" DN300 (částečně součást výkopů pro AŠ vodovodu):22,40*1,60*3,19"]
[null,null,"Prohloubení pro RŠ:1,60*1,60*0,20*4",null,2.048,null,null,null,null,null,null,null,"Prohloubení pro RŠ:1,60*1,60*0,20*4"]
[null,null,"Odpočet konstrukce komunikace:-22,40*1,60*0,40",null,-14.336,null,null,null,null,null,null,null,"Odpočet konstrukce komunikace:-22,40*1,60*0,40"]
[null,null,"Konec provozního součtu",null,102.0416,null,null,null,null,null,null,null,"Konec provozního součtu"]
[null,null,"V hornině tř. 3 - 45%:102,0416*0,45*0,5",null,22.959399999999999,null,null,null,null,null,null,null,"V hornině tř. 3 - 45%:102,0416*0,45*0,5"]
[11,"132301212R00","Hloubení rýh š.do 200 cm hor.4 do 1000 m3, STROJNĚ ","m3",45.918700000000001,null,{"$f":"E46*F46","v":0},0,{"$f":"E46*H46","v":0},0,{"$f":"E46*J46","v":0},null,null,null,2,null,null,null,null,null,null,null,null,null,null,null,1,1,1,null,null,null,null,null,null,null,null,null,null,null,null,null,null,null,null,null,null,null,null,null,null,1,{"$f":"IF(AZ46=1,G46,0)","v":0},{"$f":"IF(AZ46=2,G46,0)","v":0},{"$f":"IF(AZ46=3,G46,0)","v":0},{"$f":"IF(AZ46=4,G46,0)","v":0},{"$f":"IF(AZ46=5,G46,0)","v":0},null,null,null,null,null,null,null,null,null,null,null,null,null,null,null,null,null,null,null,null,null,1,1]
[null,null,"Položka obsahuje hloubení rýh traktorbagrem, naložení výkopku na dopravní prostředek pro svislé, nebo vodorovné přemístění, popř. přemístění výkopku do 3 m (po povrchu území), případné zajištění rypadel polštáři, udržování pracoviště a ochranu výkopiště proti stékání srážkové vody z okolního terénu i s jejím odvodněním, nebo odvedením, přesekání a odstranění kořenů ve výkopišti, odstranění napadávek, urovnání dna výkopu.",null,null,null,null,null,null,null,null,"Položka obsahuje hloubení rýh traktorbagrem, naložení výkopku na dopravní prostředek pro svislé, nebo vodorovné přemístění, popř. přemístění výkopku do 3 m (po povrchu území), případné zajištění rypadel polštáři, udržování pracoviště a ochranu výkopiště proti stékání srážkové vody z okolního terénu i s jejím odvodněním, nebo odvedením, přesekání a odstranění kořenů ve výkopišti, odstranění napadávek, urovnání dna výkopu.",null,null,3]
[null,null,"Začátek provozního součtu",null,0,null,null,null,null,null,null,null,"Začátek provozního součtu"]
[null,null,"Stoka \"I\" DN300 (částečně součást výkopů pro AŠ vodovodu):22,40*1,60*3,19",null,114.3296,null,null,null,null,null,null,null,"Stoka \"I\" DN300 (částečně součást výkopů pro AŠ vodovodu):22,40*1,60*3,19"]
[null,null,"Prohloubení pro RŠ:1,60*1,60*0,20*4",null,2.048,null,null,null,null,null,null,null,"Prohloubení pro RŠ:1,60*1,60*0,20*4"]
[null,null,"Odpočet konstrukce komunikace:-22,40*1,60*0,40",null,-14.336,null,null,null,null,null,null,null,"Odpočet konstrukce komunikace:-22,40*1,60*0,40"]
[null,null,"Konec provozního součtu",null,102.0416,null,null,null,null,null,null,null,"Konec provozního součtu"]
[null,null,"V hornině tř. 4 - 45%:102,0416*0,45",null,45.918700000000001,null,null,null,null,null,null,null,"V hornině tř. 4 - 45%:102,0416*0,45"]
[12,"132301219R00","Přípl.za lepivost,hloubení rýh 200cm,hor.4,STROJNĚ ","m3",22.959399999999999,null,{"$f":"E54*F54","v":0},0,{"$f":"E54*H54","v":0},0,{"$f":"E54*J54","v":0},null,null,null,2,null,null,null,null,null,null,null,null,null,null,null,1,1,1,null,null,null,null,null,null,null,null,null,null,null,null,null,null,null,null,null,null,null,null,null,null,1,{"$f":"IF(AZ54=1,G54,0)","v":0},{"$f":"IF(AZ54=2,G54,0)","v":0},{"$f":"IF(AZ54=3,G54,0)","v":0},{"$f":"IF(AZ54=4,G54,0)","v":0},{"$f":"IF(AZ54=5,G54,0)","v":0},null,null,null,null,null,null,null,null,null,null,null,null,null,null,null,null,null,null,null,null,null,1,1]
[null,null,"Začátek provozního součtu",null,0,null,null,null,null,null,null,null,"Začátek provozního součtu"]
[null,null,"Stoka \"I\" DN300 (částečně součást výkopů pro AŠ vodovodu):22,40*1,60*3,19",null,114.3296,null,null,null,null,null,null,null,"Stoka \"I\" DN300 (částečně součást výkopů pro AŠ vodovodu):22,40*1,60*3,19"]
[null,null,"Prohloubení pro RŠ:1,60*1,60*0,20*4",null,2.048,null,null,null,null,null,null,null,"Prohloubení pro RŠ:1,60*1,60*0,20*4"]
[null,null,"Odpočet konstrukce komunikace:-22,40*1,60*0,40",null,-14.336,null,null,null,null,null,null,null,"Odpočet konstrukce komunikace:-22,40*1,60*0,40"]
[null,null,"Konec provozního součtu",null,102.0416,null,null,null,null,null,null,null,"Konec provozního součtu"]
[null,null,"V hornině tř. 4 - 45%:102,0416*0,45*0,5",null,22.959399999999999,null,null,null,null,null,null,null,"V hornině tř. 4 - 45%:102,0416*0,45*0,5"]
[13,"132401211R00","Hloubení rýh šířky do 200 cm v hor.5, STROJNĚ ","m3",10.2042,null,{"$f":"E61*F61","v":0},0,{"$f":"E61*H61","v":0},0,{"$f":"E61*J61","v":0},null,null,null,2,null,null,null,null,null,null,null,null,null,null,null,1,1,1,null,null,null,null,null,null,null,null,null,null,null,null,null,null,null,null,null,null,null,null,null,null,1,{"$f":"IF(AZ61=1,G61,0)","v":0},{"$f":"IF(AZ61=2,G61,0)","v":0},{"$f":"IF(AZ61=3,G61,0)","v":0},{"$f":"IF(AZ61=4,G61,0)","v":0},{"$f":"IF(AZ61=5,G61,0)","v":0},null,null,null,null,null,null,null,null,null,null,null,null,null,null,null,null,null,null,null,null,null,1,1]
[null,null,"Položka obsahuje hloubení jámy kolovým rypadlem s rozrývacím zubem, naložení výkopku na dopravní prostředek pro svislé, nebo vodorovné přemístění, popř. přemístění výkopku do 3 m (po povrchu území), případné zajištění rypadel polštáři, udržování pracoviště a ochranu výkopiště proti stékání srážkové vody z okolního terénu i s jejím odvodněním, nebo odvedením, přesekání a odstranění kořenů ve výkopišti, odstranění napadávek, urovnání dna výkopu. Položka se používá bez ohledu na těžené množství.",null,null,null,null,null,null,null,null,"Položka obsahuje hloubení jámy kolovým rypadlem s rozrývacím zubem, naložení výkopku na dopravní prostředek pro svislé, nebo vodorovné přemístění, popř. přemístění výkopku do 3 m (po povrchu území), případné zajištění rypadel polštáři, udržování pracoviště a ochranu výkopiště proti stékání srážkové vody z okolního terénu i s jejím odvodněním, nebo odvedením, přesekání a odstranění kořenů ve výkopišti, odstranění napadávek, urovnání dna výkopu. Položka se používá bez ohledu na těžené množství.",null,null,3]
[null,null,"Začátek provozního součtu",null,0,null,null,null,null,null,null,null,"Začátek provozního součtu"]
[null,null,"Stoka \"I\" DN300 (částečně součást výkopů pro AŠ vodovodu):22,40*1,60*3,19",null,114.3296,null,null,null,null,null,null,null,"Stoka \"I\" DN300 (částečně součást výkopů pro AŠ vodovodu):22,40*1,60*3,19"]
[null,null,"Prohloubení pro RŠ:1,60*1,60*0,20*4",null,2.048,null,null,null,null,null,null,null,"Prohloubení pro RŠ:1,60*1,60*0,20*4"]
[null,null,"Odpočet konstrukce komunikace:-22,40*1,60*0,40",null,-14.336,null,null,null,null,null,null,null,"Odpočet konstrukce komunikace:-22,40*1,60*0,40"]
[null,null,"Konec provozního součtu",null,102.0416,null,null,null,null,null,null,null,"Konec provozního součtu"]
[null,null,"V hornině tř. 5 - 10%:102,0416*0,1",null,10.2042,null,null,null,null,null,null,null,"V hornině tř. 5 - 10%:102,0416*0,1"]
[14,"151101102R00","Pažení a rozepření stěn rýh - příložné - hl.do 4 m ","m2",142.91200000000001,null,{"$f":"E69*F69","v":0},8.5999999999999998E-4,{"$f":"E69*H69","v":0.12290432},0,{"$f":"E69*J69","v":0},null,null,null,2,null,null,null,null,null,null,null,null,null,null,null,1,1,1,null,null,null,null,null,null,null,null,null,null,null,null,null,null,null,null,null,null,null,null,null,null,1,{"$f":"IF(AZ69=1,G69,0)","v":0},{"$f":"IF(AZ69=2,G69,0)","v":0},{"$f":"IF(AZ69=3,G69,0)","v":0},{"$f":"IF(AZ69=4,G69,0)","v":0},{"$f":"IF(AZ69=5,G69,0)","v":0},null,null,null,null,null,null,null,null,null,null,null,null,null,null,null,null,null,null,null,null,null,1,1]
[null,null,"Stoka \"I\" DN300 (částečně součást výkopů pro AŠ vodovodu):22,40*3,19*2",null,142.91200000000001,null,null,null,null,null,null,null,"Stoka \"I\" DN300 (částečně součást výkopů pro AŠ vodovodu):22,40*3,19*2"]
[15,"151101112R00","Odstranění pažení stěn rýh - příložné - hl. do 4 m ","m2",142.91200000000001,null,{"$f":"E71*F71","v":0},0,{"$f":"E71*H71","v":0},0,{"$f":"E71*J71","v":0},null,null,null,2,null,null,null,null,null,null,null,null,null,null,null,1,1,1,null,null,null,null,null,null,null,null,null,null,null,null,null,null,null,null,null,null,null,null,null,null,1,{"$f":"IF(AZ71=1,G71,0)","v":0},{"$f":"IF(AZ71=2,G71,0)","v":0},{"$f":"IF(AZ71=3,G71,0)","v":0},{"$f":"IF(AZ71=4,G71,0)","v":0},{"$f":"IF(AZ71=5,G71,0)","v":0},null,null,null,null,null,null,null,null,null,null,null,null,null,null,null,null,null,null,null,null,null,1,1]
[null,null,"Stoka \"I\" DN300 (částečně součást výkopů pro AŠ vodovodu):22,40*3,19*2",null,142.91200000000001,null,null,null,null,null,null,null,"Stoka \"I\" DN300 (částečně součást výkopů pro AŠ vodovodu):22,40*3,19*2"]
[16,"162701105RSZ","Vodorovné přemístění výkopku z hor.1-7 na skládku zhotovitele","m3",102.0416,null,{"$f":"E73*F73","v":0},0,{"$f":"E73*H73","v":0},0,{"$f":"E73*J73","v":0},null,null,null,2,null,null,null,null,null,null,null,null,null,null,null,1,1,1,null,null,null,null,null,null,null,null,null,null,null,null,null,null,null,null,null,null,null,null,null,null,1,{"$f":"IF(AZ73=1,G73,0)","v":0},{"$f":"IF(AZ73=2,G73,0)","v":0},{"$f":"IF(AZ73=3,G73,0)","v":0},{"$f":"IF(AZ73=4,G73,0)","v":0},{"$f":"IF(AZ73=5,G73,0)","v":0},null,null,null,null,null,null,null,null,null,null,null,null,null,null,null,null,null,null,null,null,null,1,1]
[null,null,"Začátek provozního součtu",null,0,null,null,null,null,null,null,null,"Začátek provozního součtu"]
[null,null,"Stoka \"I\" DN300 (částečně součást výkopů pro AŠ vodovodu):22,40*1,60*3,19",null,114.3296,null,null,null,null,null,null,null,"Stoka \"I\" DN300 (částečně součást výkopů pro AŠ vodovodu):22,40*1,60*3,19"]
[null,null,"Prohloubení pro RŠ:1,60*1,60*0,20*4",null,2.048,null,null,null,null,null,null,null,"Prohloubení pro RŠ:1,60*1,60*0,20*4"]
[null,null,"Odpočet konstrukce komunikace:-22,40*1,60*0,40",null,-14.336,null,null,null,null,null,null,null,"Odpočet konstrukce komunikace:-22,40*1,60*0,40"]
[null,null,"Konec provozního součtu",null,102.0416,null,null,null,null,null,null,null,"Konec provozního součtu"]
[null,null,"V hornině tř. 3 - 5:102,0416",null,102.0416,null,null,null,null,null,null,null,"V hornině tř. 3 - 5:102,0416"]
[17,"174101101R00","Zásyp jam, rýh, šachet se zhutněním ","m3",65.055999999999997,null,{"$f":"E80*F80","v":0},0,{"$f":"E80*H80","v":0},0,{"$f":"E80*J80","v":0},null,null,null,2,null,null,null,null,null,null,null,null,null,null,null,1,1,1,null,null,null,null,null,null,null,null,null,null,null,null,null,null,null,null,null,null,null,null,null,null,1,{"$f":"IF(AZ80=1,G80,0)","v":0},{"$f":"IF(AZ80=2,G80,0)","v":0},{"$f":"IF(AZ80=3,G80,0)","v":0},{"$f":"IF(AZ80=4,G80,0)","v":0},{"$f":"IF(AZ80=5,G80,0)","v":0},null,null,null,null,null,null,null,null,null,null,null,null,null,null,null,null,null,null,null,null,null,1,1]
[null,null,"Položka obsahuje strojní přemístění materiálu pro zásyp ze vzdálenosti do 10 m od okraje zásypu.",null,null,null,null,null,null,null,null,"Položka obsahuje strojní přemístění materiálu pro zásyp ze vzdálenosti do 10 m od okraje zásypu.",null,null,3]
[null,null,"Zásyp ŠD frakce 0-63 mm:65,0560",null,65.055999999999997,null,null,null,null,null,null,null,"Zásyp ŠD frakce 0-63 mm:65,0560"]
[null,null,"Výkopy:",null,0,null,null,null,null,null,null,null,"Výkopy:"]
[null,null,"Začátek provozního součtu",null,0,null,null,null,null,null,null,null,"Začátek provozního součtu"]
[null,null,"Stoka \"I\" DN300 (částečně součást výkopů pro AŠ vodovodu):22,40*1,60*3,19",null,114.3296,null,null,null,null,null,null,null,"Stoka \"I\" DN300 (částečně součást výkopů pro AŠ vodovodu):22,40*1,60*3,19"]
[null,null,"Prohloubení pro RŠ:1,60*1,60*0,20*4",null,2.048,null,null,null,null,null,null,null,"Prohloubení pro RŠ:1,60*1,60*0,20*4"]
[null,null,"Odpočet konstrukce komunikace:-22,40*1,60*0,40",null,-14.336,null,null,null,null,null,null,null,"Odpočet konstrukce komunikace:-22,40*1,60*0,40"]
[null,null,"Odpočet lože, potrubí a obsypů - KT DN300:-19,80*0,9840",null,-19.4832,null,null,null,null,null,null,null,"Odpočet lože, potrubí a obsypů - KT DN300:-19,80*0,9840"]
[null,null,"                                                  - PVC DN300:-2,40*1,10*(0,10+0,30+0,30)",null,-1.8480000000000001,null,null,null,null,null,null,null,"                                                  - PVC DN300:-2,40*1,10*(0,10+0,30+0,30)"]
[null,null,"Odpočet objemu RŠ:-15,6544",null,-15.654400000000001,null,null,null,null,null,null,null,"Odpočet objemu RŠ:-15,6544"]
[null,null,"0",null,0,null,null,null,null,null,null,null,0]
[null,null,"Konec provozního součtu",null,65.056000000000012,null,null,null,null,null,null,null,"Konec provozního součtu"]
[18,"175101101R00","Obsyp potrubí bez prohození sypaniny ","m3",13.4231,null,{"$f":"E93*F93","v":0},0,{"$f":"E93*H93","v":0},0,{"$f":"E93*J93","v":0},null,null,null,2,null,null,null,null,null,null,null,null,null,null,null,1,1,1,null,null,null,null,null,null,null,null,null,null,null,null,null,null,null,null,null,null,null,null,null,null,1,{"$f":"IF(AZ93=1,G93,0)","v":0},{"$f":"IF(AZ93=2,G93,0)","v":0},{"$f":"IF(AZ93=3,G93,0)","v":0},{"$f":"IF(AZ93=4,G93,0)","v":0},{"$f":"IF(AZ93=5,G93,0)","v":0},null,null,null,null,null,null,null,null,null,null,null,null,null,null,null,null,null,null,null,null,null,1,1]
[null,null,"Stoka \"I\":",null,0,null,null,null,null,null,null,null,"Stoka \"I\":"]
[null,null,"KT DN300:19,80*0,6065",null,12.008699999999999,null,null,null,null,null,null,null,"KT DN300:19,80*0,6065"]
[null,null,"PVC DN300:2,40*(1,10*(0,30+0,30)-0,15^2*Pi)",null,1.4144000000000001,null,null,null,null,null,null,null,"PVC DN300:2,40*(1,10*(0,30+0,30)-0,15^2*Pi)"]
[19,"199000002R00","Poplatek za skládku horniny 1- 7 č. dle katal. odpadů 17 05 04","m3",102.0416,null,{"$f":"E97*F97","v":0},0,{"$f":"E97*H97","v":0},0,{"$f":"E97*J97","v":0},null,null,null,2,null,null,null,null,null,null,null,null,null,null,null,1,1,1,null,null,null,null,null,null,null,null,null,null,null,null,null,null,null,null,null,null,null,null,null,null,1,{"$f":"IF(AZ97=1,G97,0)","v":0},{"$f":"IF(AZ97=2,G97,0)","v":0},{"$f":"IF(AZ97=3,G97,0)","v":0},{"$f":"IF(AZ97=4,G97,0)","v":0},{"$f":"IF(AZ97=5,G97,0)","v":0},null,null,null,null,null,null,null,null,null,null,null,null,null,null,null,null,null,null,null,null,null,1,1]
[null,null,"Začátek provozního součtu",null,0,null,null,null,null,null,null,null,"Začátek provozního součtu"]
[null,null,"Stoka \"I\" DN300 (částečně součást výkopů pro AŠ vodovodu):22,40*1,60*3,19",null,114.3296,null,null,null,null,null,null,null,"Stoka \"I\" DN300 (částečně součást výkopů pro AŠ vodovodu):22,40*1,60*3,19"]
[null,null,"Prohloubení pro RŠ:1,60*1,60*0,20*4",null,2.048,null,null,null,null,null,null,null,"Prohloubení pro RŠ:1,60*1,60*0,20*4"]
[null,null,"Odpočet konstrukce komunikace:-22,40*1,60*0,40",null,-14.336,null,null,null,null,null,null,null,"Odpočet konstrukce komunikace:-22,40*1,60*0,40"]
[null,null,"Konec provozního součtu",null,102.0416,null,null,null,null,null,null,null,"Konec provozního součtu"]
[null,null,"V hornině tř. 3 - 5:102,0416",null,102.0416,null,null,null,null,null,null,null,"V hornině tř. 3 - 5:102,0416"]
[20,"919735113R00","Řezání stávajícího živičného krytu tl. 10 - 15 cm ","m",53.2,null,{"$f":"E104*F104","v":0},0,{"$f":"E104*H104","v":0},0,{"$f":"E104*J104","v":0},null,null,null,2,null,null,null,null,null,null,null,null,null,null,null,1,1,1,null,null,null,null,null,null,null,null,null,null,null,null,null,null,null,null,null,null,null,null,null,null,1,{"$f":"IF(AZ104=1,G104,0)","v":0},{"$f":"IF(AZ104=2,G104,0)","v":0},{"$f":"IF(AZ104=3,G104,0)","v":0},{"$f":"IF(AZ104=4,G104,0)","v":0},{"$f":"IF(AZ104=5,G104,0)","v":0},null,null,null,null,null,null,null,null,null,null,null,null,null,null,null,null,null,null,null,null,null,1,1]
[null,null,"Stoka \"I\" DN300:(25,00+1,60)*2",null,53.2,null,null,null,null,null,null,null,"Stoka \"I\" DN300:(25,00+1,60)*2"]
[21,"976085211R00","Vybourání kanal.rámů a poklopů plochy do 0,3 m2 ","kus",1,null,{"$f":"E106*F106","v":0},0,{"$f":"E106*H106","v":0},-2.4E-2,{"$f":"E106*J106","v":-2.4E-2},null,null,null,2,null,null,null,null,null,null,null,null,null,null,null,1,0,0,null,null,null,null,null,null,null,null,null,null,null,null,null,null,null,null,null,null,null,null,null,null,1,{"$f":"IF(AZ106=1,G106,0)","v":0},{"$f":"IF(AZ106=2,G106,0)","v":0},{"$f":"IF(AZ106=3,G106,0)","v":0},{"$f":"IF(AZ106=4,G106,0)","v":0},{"$f":"IF(AZ106=5,G106,0)","v":0},null,null,null,null,null,null,null,null,null,null,null,null,null,null,null,null,null,null,null,null,null,1,0]
[null,null,"Stávající poklop RŠ:1",null,1,null,null,null,null,null,null,null,"Stávající poklop RŠ:1"]
[22,"979082113RSZ","Vodorovná doprava suti po suchu na skládku zhotovitele","t",35.200000000000003,null,{"$f":"E108*F108","v":0},0,{"$f":"E108*H108","v":0},0,{"$f":"E108*J108","v":0},null,null,null,2,null,null,null,null,null,null,null,null,null,null,null,1,1,1,null,null,null,null,null,null,null,null,null,null,null,null,null,null,null,null,null,null,null,null,null,null,1,{"$f":"IF(AZ108=1,G108,0)","v":0},{"$f":"IF(AZ108=2,G108,0)","v":0},{"$f":"IF(AZ108=3,G108,0)","v":0},{"$f":"IF(AZ108=4,G108,0)","v":0},{"$f":"IF(AZ108=5,G108,0)","v":0},null,null,null,null,null,null,null,null,null,null,null,null,null,null,null,null,null,null,null,null,null,1,1]
[23,"979089001R00","Poplatek za skládku stavební suti štěrky z komunikací, skupina odpadu 010408","t",22,null,{"$f":"E109*F109","v":0},0,{"$f":"E109*H109","v":0},0,{"$f":"E109*J109","v":0},null,null,null,2,null,null,null,null,null,null,null,null,null,null,null,1,1,1,null,null,null,null,null,null,null,null,null,null,null,null,null,null,null,null,null,null,null,null,null,null,1,{"$f":"IF(AZ109=1,G109,0)","v":0},{"$f":"IF(AZ109=2,G109,0)","v":0},{"$f":"IF(AZ109=3,G109,0)","v":0},{"$f":"IF(AZ109=4,G109,0)","v":0},{"$f":"IF(AZ109=5,G109,0)","v":0},null,null,null,null,null,null,null,null,null,null,null,null,null,null,null,null,null,null,null,null,null,1,1]
[24,"979999995R00","Poplatek za reciklaci asfaltu, kusovost do 1600cm2 skupina 170302","t",13.2,null,{"$f":"E110*F110","v":0},0,{"$f":"E110*H110","v":0},0,{"$f":"E110*J110","v":0},null,null,null,2,null,null,null,null,null,null,null,null,null,null,null,1,1,1,null,null,null,null,null,null,null,null,null,null,null,null,null,null,null,null,null,null,null,null,null,null,1,{"$f":"IF(AZ110=1,G110,0)","v":0},{"$f":"IF(AZ110=2,G110,0)","v":0},{"$f":"IF(AZ110=3,G110,0)","v":0},{"$f":"IF(AZ110=4,G110,0)","v":0},{"$f":"IF(AZ110=5,G110,0)","v":0},null,null,null,null,null,null,null,null,null,null,null,null,null,null,null,null,null,null,null,null,null,1,1]
[null,null,"Položka je určena pro suť o velikosti kusu do 30x30 cm nebo frézovaný asfalt(technologický materiál určený k recyklaci).",null,null,null,null,null,null,null,null,"Položka je určena pro suť o velikosti kusu do 30x30 cm nebo frézovaný asfalt(technologický materiál určený k recyklaci).",null,null,3]
[25,"58337308R","Štěrkopísek frakce 0-2 tř.B","t",26.483699999999999,null,{"$f":"E112*F112","v":0},1,{"$f":"E112*H112","v":26.483699999999999},null,{"$f":"E112*J112","v":0},null,null,null,2,null,null,null,null,null,null,null,null,null,null,null,3,1,"58337308R",null,null,null,null,null,null,null,null,null,null,null,null,null,null,null,null,null,null,null,null,null,null,1,{"$f":"IF(AZ112=1,G112,0)","v":0},{"$f":"IF(AZ112=2,G112,0)","v":0},{"$f":"IF(AZ112=3,G112,0)","v":0},{"$f":"IF(AZ112=4,G112,0)","v":0},{"$f":"IF(AZ112=5,G112,0)","v":0},null,null,null,null,null,null,null,null,null,null,null,null,null,null,null,null,null,null,null,null,null,3,1]
[null,null,"Stoka \"I\":",null,0,null,null,null,null,null,null,null,"Stoka \"I\":"]
[null,null,"KT DN300:19,80*0,6065*1,973",null,23.693200000000001,null,null,null,null,null,null,null,"KT DN300:19,80*0,6065*1,973"]
[null,null,"PVC DN300:2,40*(1,10*(0,30+0,30)-0,15^2*Pi)*1,973",null,2.7905000000000002,null,null,null,null,null,null,null,"PVC DN300:2,40*(1,10*(0,30+0,30)-0,15^2*Pi)*1,973"]
[26,"58344197R","Štěrkodrtě frakce 0-63 A","t",121.84990000000001,null,{"$f":"E116*F116","v":0},1,{"$f":"E116*H116","v":121.84990000000001},null,{"$f":"E116*J116","v":0},null,null,null,2,null,null,null,null,null,null,null,null,null,null,null,3,1,"58344197R",null,null,null,null,null,null,null,null,null,null,null,null,null,null,null,null,null,null,null,null,null,null,1,{"$f":"IF(AZ116=1,G116,0)","v":0},{"$f":"IF(AZ116=2,G116,0)","v":0},{"$f":"IF(AZ116=3,G116,0)","v":0},{"$f":"IF(AZ116=4,G116,0)","v":0},{"$f":"IF(AZ116=5,G116,0)","v":0},null,null,null,null,null,null,null,null,null,null,null,null,null,null,null,null,null,null,null,null,null,3,1]
[null,null,"Zásyp ŠD frakce 0-63 mm:65,0560*1,873",null,121.84990000000001,null,null,null,null,null,null,null,"Zásyp ŠD frakce 0-63 mm:65,0560*1,873"]
[null,null,"Výkopy:",null,0,null,null,null,null,null,null,null,"Výkopy:"]
[null,null,"Začátek provozního součtu",null,0,null,null,null,null,null,null,null,"Začátek provozního součtu"]
[null,null,"Stoka \"I\" DN300 (částečně součást výkopů pro AŠ vodovodu):22,40*1,60*3,19",null,114.3296,null,null,null,null,null,null,null,"Stoka \"I\" DN300 (částečně součást výkopů pro AŠ vodovodu):22,40*1,60*3,19"]
[null,null,"Prohloubení pro RŠ:1,60*1,60*0,20*4",null,2.048,null,null,null,null,null,null,null,"Prohloubení pro RŠ:1,60*1,60*0,20*4"]
[null,null,"Odpočet konstrukce komunikace:-22,40*1,60*0,40",null,-14.336,null,null,null,null,null,null,null,"Odpočet konstrukce komunikace:-22,40*1,60*0,40"]
[null,null,"Odpočet lože, potrubí a obsypů - KT DN300:-19,80*0,9840",null,-19.4832,null,null,null,null,null,null,null,"Odpočet lože, potrubí a obsypů - KT DN300:-19,80*0,9840"]
[null,null,"                                                  - PVC DN300:-2,40*1,10*(0,10+0,30+0,30)",null,-1.8480000000000001,null,null,null,null,null,null,null,"                                                  - PVC DN300:-2,40*1,10*(0,10+0,30+0,30)"]
[null,null,"Odpočet objemu RŠ:-15,6544",null,-15.654400000000001,null,null,null,null,null,null,null,"Odpočet objemu RŠ:-15,6544"]
[null,null,"0",null,0,null,null,null,null,null,null,null,0]
[null,null,"Konec provozního součtu",null,65.056000000000012,null,null,null,null,null,null,null,"Konec provozního součtu"]
[null,"Celkem za","1 Zemní práce",null,null,null,{"$f":"SUM(G7:G127)","v":0},null,{"$f":"SUM(I7:I127)","v":148.83004031999999},null,{"$f":"SUM(K7:K127)","v":-37.457000000000001},null,null,null,4,null,null,null,null,null,null,null,null,null,null,null,null,null,null,null,null,null,null,null,null,null,null,null,null,null,null,null,null,null,null,null,null,null,null,null,null,null,{"$f":"SUM(BA7:BA127)","v":0},{"$f":"SUM(BB7:BB127)","v":0},{"$f":"SUM(BC7:BC127)","v":0},{"$f":"SUM(BD7:BD127)","v":0},{"$f":"SUM(BE7:BE127)","v":0}]
["Díl:","45","Podkladní a vedlejší konstrukce",null,null,null,null,null,null,null,null,null,null,null,1]
[27,"451572111R00","Lože pod potrubí z kameniva těženého 0 - 4 mm ","m3",0.26400000000000001,null,{"$f":"E130*F130","v":0},1.873,{"$f":"E130*H130","v":0.49447200000000002},0,{"$f":"E130*J130","v":0},null,null,null,2,null,null,null,null,null,null,null,null,null,null,null,1,1,1,null,null,null,null,null,null,null,null,null,null,null,null,null,null,null,null,null,null,null,null,null,null,1,{"$f":"IF(AZ130=1,G130,0)","v":0},{"$f":"IF(AZ130=2,G130,0)","v":0},{"$f":"IF(AZ130=3,G130,0)","v":0},{"$f":"IF(AZ130=4,G130,0)","v":0},{"$f":"IF(AZ130=5,G130,0)","v":0},null,null,null,null,null,null,null,null,null,null,null,null,null,null,null,null,null,null,null,null,null,1,1]
[null,null,"Stoka  \"I\" PVC DN300:2,40*1,10*0,10",null,0.26400000000000001,null,null,null,null,null,null,null,"Stoka  \"I\" PVC DN300:2,40*1,10*0,10"]
[28,"452112111R00","Osazení beton. prstenců pod poklopy,výšky do100 mm ","kus",6,null,{"$f":"E132*F132","v":0},6.6E-3,{"$f":"E132*H132","v":3.9599999999999996E-2},0,{"$f":"E132*J132","v":0},null,null,null,2,null,null,null,null,null,null,null,null,null,null,null,1,1,1,null,null,null,null,null,null,null,null,null,null,null,null,null,null,null,null,null,null,null,null,null,null,1,{"$f":"IF(AZ132=1,G132,0)","v":0},{"$f":"IF(AZ132=2,G132,0)","v":0},{"$f":"IF(AZ132=3,G132,0)","v":0},{"$f":"IF(AZ132=4,G132,0)","v":0},{"$f":"IF(AZ132=5,G132,0)","v":0},null,null,null,null,null,null,null,null,null,null,null,null,null,null,null,null,null,null,null,null,null,1,1]
[null,null,"Volba položky se řídí výškou prstence nebo rámu. V položkách nejsou zakalkulovány náklady na dodávku betonových výrobků;",null,null,null,null,null,null,null,null,"Volba položky se řídí výškou prstence nebo rámu. V položkách nejsou zakalkulovány náklady na dodávku betonových výrobků;",null,null,3]
[null,null,"Stoka \"I\" DN300:",null,0,null,null,null,null,null,null,null,"Stoka \"I\" DN300:"]
[null,null,"VP H80:2",null,2,null,null,null,null,null,null,null,"VP H80:2"]
[null,null,"VP H100:4",null,4,null,null,null,null,null,null,null,"VP H100:4"]
[29,"452312131R00","Sedlové lože pod potrubí z betonu C 12/15 ","m3",5.3460000000000001,null,{"$f":"E137*F137","v":0},2.5,{"$f":"E137*H137","v":13.365},0,{"$f":"E137*J137","v":0},null,null,null,2,null,null,null,null,null,null,null,null,null,null,null,1,1,1,null,null,null,null,null,null,null,null,null,null,null,null,null,null,null,null,null,null,null,null,null,null,1,{"$f":"IF(AZ137=1,G137,0)","v":0},{"$f":"IF(AZ137=2,G137,0)","v":0},{"$f":"IF(AZ137=3,G137,0)","v":0},{"$f":"IF(AZ137=4,G137,0)","v":0},{"$f":"IF(AZ137=5,G137,0)","v":0},null,null,null,null,null,null,null,null,null,null,null,null,null,null,null,null,null,null,null,null,null,1,1]
[null,null,"Položka je určena pro práce v otevřeném výkopu",null,null,null,null,null,null,null,null,"Položka je určena pro práce v otevřeném výkopu",null,null,3]
[null,null,"Stoka  \"I\" KT DN300:19,80*0,2700",null,5.3460000000000001,null,null,null,null,null,null,null,"Stoka  \"I\" KT DN300:19,80*0,2700"]
[30,"59224347.B.R","Prstenec vyrovn šachetní TBW-Q.1 80/600/120","kus",2.02,null,{"$f":"E140*F140","v":0},5.2999999999999999E-2,{"$f":"E140*H140","v":0.10706},null,{"$f":"E140*J140","v":0},null,null,null,2,null,null,null,null,null,null,null,null,null,null,null,3,1,"59224347.B.R",null,null,null,null,null,null,null,null,null,null,null,null,null,null,null,null,null,null,null,null,null,null,1,{"$f":"IF(AZ140=1,G140,0)","v":0},{"$f":"IF(AZ140=2,G140,0)","v":0},{"$f":"IF(AZ140=3,G140,0)","v":0},{"$f":"IF(AZ140=4,G140,0)","v":0},{"$f":"IF(AZ140=5,G140,0)","v":0},null,null,null,null,null,null,null,null,null,null,null,null,null,null,null,null,null,null,null,null,null,3,1]
[null,null,"Stoka \"I\" DN300:",null,0,null,null,null,null,null,null,null,"Stoka \"I\" DN300:"]
[null,null,"VP H80:2*1,01",null,2.02,null,null,null,null,null,null,null,"VP H80:2*1,01"]
[31,"59224348.B.R","Prstenec vyrovn šachetní TBW-Q.1 100/600/120","kus",4.04,null,{"$f":"E143*F143","v":0},6.8000000000000005E-2,{"$f":"E143*H143","v":0.27472000000000002},null,{"$f":"E143*J143","v":0},null,null,null,2,null,null,null,null,null,null,null,null,null,null,null,3,1,"59224348.B.R",null,null,null,null,null,null,null,null,null,null,null,null,null,null,null,null,null,null,null,null,null,null,1,{"$f":"IF(AZ143=1,G143,0)","v":0},{"$f":"IF(AZ143=2,G143,0)","v":0},{"$f":"IF(AZ143=3,G143,0)","v":0},{"$f":"IF(AZ143=4,G143,0)","v":0},{"$f":"IF(AZ143=5,G143,0)","v":0},null,null,null,null,null,null,null,null,null,null,null,null,null,null,null,null,null,null,null,null,null,3,1]
[null,null,"Stoka \"I\" DN300:",null,0,null,null,null,null,null,null,null,"Stoka \"I\" DN300:"]
[null,null,"VP H100:4*1,01",null,4.04,null,null,null,null,null,null,null,"VP H100:4*1,01"]
[null,"Celkem za","45 Podkladní a vedlejší konstrukce",null,null,null,{"$f":"SUM(G129:G145)","v":0},null,{"$f":"SUM(I129:I145)","v":14.280852000000001},null,{"$f":"SUM(K129:K145)","v":0},null,null,null,4,null,null,null,null,null,null,null,null,null,null,null,null,null,null,null,null,null,null,null,null,null,null,null,null,null,null,null,null,null,null,null,null,null,null,null,null,null,{"$f":"SUM(BA129:BA145)","v":0},{"$f":"SUM(BB129:BB145)","v":0},{"$f":"SUM(BC129:BC145)","v":0},{"$f":"SUM(BD129:BD145)","v":0},{"$f":"SUM(BE129:BE145)","v":0}]
["Díl:","5","Komunikace",null,null,null,null,null,null,null,null,null,null,null,1]
[32,"566903111R00","Vyspravení podkladu po překopech kam.hrubě drceným ","t",18.73,null,{"$f":"E148*F148","v":0},1.1000000000000001,{"$f":"E148*H148","v":20.603000000000002},0,{"$f":"E148*J148","v":0},null,null,null,2,null,null,null,null,null,null,null,null,null,null,null,1,1,1,null,null,null,null,null,null,null,null,null,null,null,null,null,null,null,null,null,null,null,null,null,null,1,{"$f":"IF(AZ148=1,G148,0)","v":0},{"$f":"IF(AZ148=2,G148,0)","v":0},{"$f":"IF(AZ148=3,G148,0)","v":0},{"$f":"IF(AZ148=4,G148,0)","v":0},{"$f":"IF(AZ148=5,G148,0)","v":0},null,null,null,null,null,null,null,null,null,null,null,null,null,null,null,null,null,null,null,null,null,1,1]
[null,null,"Stoka \"I\" DN300:25,00*1,60*0,25*1,873",null,18.73,null,null,null,null,null,null,null,"Stoka \"I\" DN300:25,00*1,60*0,25*1,873"]
[33,"566904111R00","Vyspravení podkladu po překopech kam.obal.asfaltem ","t",15,null,{"$f":"E150*F150","v":0},1,{"$f":"E150*H150","v":15},0,{"$f":"E150*J150","v":0},null,null,null,2,null,null,null,null,null,null,null,null,null,null,null,1,1,1,null,null,null,null,null,null,null,null,null,null,null,null,null,null,null,null,null,null,null,null,null,null,1,{"$f":"IF(AZ150=1,G150,0)","v":0},{"$f":"IF(AZ150=2,G150,0)","v":0},{"$f":"IF(AZ150=3,G150,0)","v":0},{"$f":"IF(AZ150=4,G150,0)","v":0},{"$f":"IF(AZ150=5,G150,0)","v":0},null,null,null,null,null,null,null,null,null,null,null,null,null,null,null,null,null,null,null,null,null,1,1]
[null,null,"Stoka \"I\" DN300:25,00*1,60*0,15*2,5",null,15,null,null,null,null,null,null,null,"Stoka \"I\" DN300:25,00*1,60*0,15*2,5"]
[null,"Celkem za","5 Komunikace",null,null,null,{"$f":"SUM(G147:G151)","v":0},null,{"$f":"SUM(I147:I151)","v":35.603000000000002},null,{"$f":"SUM(K147:K151)","v":0},null,null,null,4,null,null,null,null,null,null,null,null,null,null,null,null,null,null,null,null,null,null,null,null,null,null,null,null,null,null,null,null,null,null,null,null,null,null,null,null,null,{"$f":"SUM(BA147:BA151)","v":0},{"$f":"SUM(BB147:BB151)","v":0},{"$f":"SUM(BC147:BC151)","v":0},{"$f":"SUM(BD147:BD151)","v":0},{"$f":"SUM(BE147:BE151)","v":0}]
["Díl:","8","Trubní vedení",null,null,null,null,null,null,null,null,null,null,null,1]
[34,"831372121R00","Montáž trub kameninových, pryž. kroužek, DN 300 ","m",19.8,null,{"$f":"E154*F154","v":0},4.0000000000000003E-5,{"$f":"E154*H154","v":7.9200000000000006E-4},0,{"$f":"E154*J154","v":0},null,null,null,2,null,null,null,null,null,null,null,null,null,null,null,1,1,1,null,null,null,null,null,null,null,null,null,null,null,null,null,null,null,null,null,null,null,null,null,null,1,{"$f":"IF(AZ154=1,G154,0)","v":0},{"$f":"IF(AZ154=2,G154,0)","v":0},{"$f":"IF(AZ154=3,G154,0)","v":0},{"$f":"IF(AZ154=4,G154,0)","v":0},{"$f":"IF(AZ154=5,G154,0)","v":0},null,null,null,null,null,null,null,null,null,null,null,null,null,null,null,null,null,null,null,null,null,1,1]
[null,null,"Položka je určena pro montáž potrubí z trub kameninových s polyuretanovým spojem v otevřeném výkopu ve sklonu do 20 %.",null,null,null,null,null,null,null,null,"Položka je určena pro montáž potrubí z trub kameninových s polyuretanovým spojem v otevřeném výkopu ve sklonu do 20 %.",null,null,3]
[null,null,"Stoka  \"I\" KT DN300:19,80",null,19.8,null,null,null,null,null,null,null,"Stoka  \"I\" KT DN300:19,80"]
[35,"871373121R00","Montáž trub z plastu, gumový kroužek, DN 300 ","m",2.4,null,{"$f":"E157*F157","v":0},1.0000000000000001E-5,{"$f":"E157*H157","v":2.4000000000000001E-5},0,{"$f":"E157*J157","v":0},null,null,null,2,null,null,null,null,null,null,null,null,null,null,null,1,1,1,null,null,null,null,null,null,null,null,null,null,null,null,null,null,null,null,null,null,null,null,null,null,1,{"$f":"IF(AZ157=1,G157,0)","v":0},{"$f":"IF(AZ157=2,G157,0)","v":0},{"$f":"IF(AZ157=3,G157,0)","v":0},{"$f":"IF(AZ157=4,G157,0)","v":0},{"$f":"IF(AZ157=5,G157,0)","v":0},null,null,null,null,null,null,null,null,null,null,null,null,null,null,null,null,null,null,null,null,null,1,1]
[null,null,"V položce je uvažováno s jedním spojem na 6 m potrubí. Položka je určena pro montáž potrubí z kanalizačních trub z plastu těsněných gumovým kroužkem v otevřeném výkopu ve sklonu do 20 %.",null,null,null,null,null,null,null,null,"V položce je uvažováno s jedním spojem na 6 m potrubí. Položka je určena pro montáž potrubí z kanalizačních trub z plastu těsněných gumovým kroužkem v otevřeném výkopu ve sklonu do 20 %.",null,null,3]
[null,null,"Stoka  \"I\" PVC DN300:2,40",null,2.4,null,null,null,null,null,null,null,"Stoka  \"I\" PVC DN300:2,40"]
[36,"891183450RX6","Propojeníí potrubí BT DN300 na novou RŠ včetně dodávky propojovací tvarovky","kus",2,null,{"$f":"E160*F160","v":0},0.16800000000000001,{"$f":"E160*H160","v":0.33600000000000002},0,{"$f":"E160*J160","v":0},null,null,null,2,null,null,null,null,null,null,null,null,null,null,null,1,1,1,null,null,null,null,null,null,null,null,null,null,null,null,null,null,null,null,null,null,null,null,null,null,1,{"$f":"IF(AZ160=1,G160,0)","v":0},{"$f":"IF(AZ160=2,G160,0)","v":0},{"$f":"IF(AZ160=3,G160,0)","v":0},{"$f":"IF(AZ160=4,G160,0)","v":0},{"$f":"IF(AZ160=5,G160,0)","v":0},null,null,null,null,null,null,null,null,null,null,null,null,null,null,null,null,null,null,null,null,null,1,1]
[null,null,"Položka obsahuje úpravu stávajícího potrubí včetně a napojení na novou RŠ, jeho utěsnění a obetonování dle projektové dokumentace.",null,null,null,null,null,null,null,null,"Položka obsahuje úpravu stávajícího potrubí včetně a napojení na novou RŠ, jeho utěsnění a obetonování dle projektové dokumentace.",null,null,3]
[null,null,"Přítokové potrubí:1",null,1,null,null,null,null,null,null,null,"Přítokové potrubí:1"]
[null,null,"Odtokové potrubí:1",null,1,null,null,null,null,null,null,null,"Odtokové potrubí:1"]
[37,"892601152R00","Čištění kanalizační stoky do DN 500, do 50 m ","m",22.2,null,{"$f":"E164*F164","v":0},0,{"$f":"E164*H164","v":0},0,{"$f":"E164*J164","v":0},null,null,null,2,null,null,null,null,null,null,null,null,null,null,null,1,1,1,null,null,null,null,null,null,null,null,null,null,null,null,null,null,null,null,null,null,null,null,null,null,1,{"$f":"IF(AZ164=1,G164,0)","v":0},{"$f":"IF(AZ164=2,G164,0)","v":0},{"$f":"IF(AZ164=3,G164,0)","v":0},{"$f":"IF(AZ164=4,G164,0)","v":0},{"$f":"IF(AZ164=5,G164,0)","v":0},null,null,null,null,null,null,null,null,null,null,null,null,null,null,null,null,null,null,null,null,null,1,1]
[null,null,"V položce je zakalkulováno:",null,null,null,null,null,null,null,null,"V položce je zakalkulováno:",null,null,3]
[null,null,"a) otevření a uzavření revizních šachet a čisticích kusů",null,null,null,null,null,null,null,null,"a) otevření a uzavření revizních šachet a čisticích kusů",null,null,3]
[null,null,"b) natažení vysokotlakých hadic k místu odkud se bude kanalizace čistit",null,null,null,null,null,null,null,null,"b) natažení vysokotlakých hadic k místu odkud se bude kanalizace čistit",null,null,3]
[null,null,"c) vyčištění potrubí tlakovou vodou nebo motorovým pérem.",null,null,null,null,null,null,null,null,"c) vyčištění potrubí tlakovou vodou nebo motorovým pérem.",null,null,3]
[null,null,"Stoka \"I\" DN300:22,20",null,22.2,null,null,null,null,null,null,null,"Stoka \"I\" DN300:22,20"]
[38,"892855112R00","Kontrola kanalizace TV kamerou do 50 m ","m",22.2,null,{"$f":"E170*F170","v":0},0,{"$f":"E170*H170","v":0},0,{"$f":"E170*J170","v":0},null,null,null,2,null,null,null,null,null,null,null,null,null,null,null,1,1,1,null,null,null,null,null,null,null,null,null,null,null,null,null,null,null,null,null,null,null,null,null,null,1,{"$f":"IF(AZ170=1,G170,0)","v":0},{"$f":"IF(AZ170=2,G170,0)","v":0},{"$f":"IF(AZ170=3,G170,0)","v":0},{"$f":"IF(AZ170=4,G170,0)","v":0},{"$f":"IF(AZ170=5,G170,0)","v":0},null,null,null,null,null,null,null,null,null,null,null,null,null,null,null,null,null,null,null,null,null,1,1]
[null,null,"Provedení kaberové prohlídky včetně dodání elektronického záznamu na CD zadavateli a tištěné dokumentace průběhu kamerové prohlídky",null,null,null,null,null,null,null,null,"Provedení kaberové prohlídky včetně dodání elektronického záznamu na CD zadavateli a tištěné dokumentace průběhu kamerové prohlídky",null,null,3]
[null,null,"Stoka \"I\" DN300:22,20",null,22.2,null,null,null,null,null,null,null,"Stoka \"I\" DN300:22,20"]
[39,"894421111RT1","Osazení betonových dílců šachet skruže rovné, na kroužek, do 0,5 t","kus",1,null,{"$f":"E173*F173","v":0},0,{"$f":"E173*H173","v":0},0,{"$f":"E173*J173","v":0},null,null,null,2,null,null,null,null,null,null,null,null,null,null,null,1,1,1,null,null,null,null,null,null,null,null,null,null,null,null,null,null,null,null,null,null,null,null,null,null,1,{"$f":"IF(AZ173=1,G173,0)","v":0},{"$f":"IF(AZ173=2,G173,0)","v":0},{"$f":"IF(AZ173=3,G173,0)","v":0},{"$f":"IF(AZ173=4,G173,0)","v":0},{"$f":"IF(AZ173=5,G173,0)","v":0},null,null,null,null,null,null,null,null,null,null,null,null,null,null,null,null,null,null,null,null,null,1,1]
[null,null,"Položka je určena pro osazení betonových dílců šachet dle DIN 4034, skruže rovné na kroužek, hmotnost do 0,5 t.",null,null,null,null,null,null,null,null,"Položka je určena pro osazení betonových dílců šachet dle DIN 4034, skruže rovné na kroužek, hmotnost do 0,5 t.",null,null,3]
[null,null,"V položce nejsou zakalkulovány náklady na dodání betonových dílců; dílce se oceňují ve specifikaci.",null,null,null,null,null,null,null,null,"V položce nejsou zakalkulovány náklady na dodání betonových dílců; dílce se oceňují ve specifikaci.",null,null,3]
[null,null,"Stoka \"I\" DN300:",null,0,null,null,null,null,null,null,null,"Stoka \"I\" DN300:"]
[null,null,"Skruž H250:1",null,1,null,null,null,null,null,null,null,"Skruž H250:1"]
[40,"894421112RT1","Osazení betonových dílců šachet skruže rovné, na kroužek, do 1,4 t","kus",7,null,{"$f":"E178*F178","v":0},0,{"$f":"E178*H178","v":0},0,{"$f":"E178*J178","v":0},null,null,null,2,null,null,null,null,null,null,null,null,null,null,null,1,1,1,null,null,null,null,null,null,null,null,null,null,null,null,null,null,null,null,null,null,null,null,null,null,1,{"$f":"IF(AZ178=1,G178,0)","v":0},{"$f":"IF(AZ178=2,G178,0)","v":0},{"$f":"IF(AZ178=3,G178,0)","v":0},{"$f":"IF(AZ178=4,G178,0)","v":0},{"$f":"IF(AZ178=5,G178,0)","v":0},null,null,null,null,null,null,null,null,null,null,null,null,null,null,null,null,null,null,null,null,null,1,1]
[null,null,"Položka je určena pro osazení betonových dílců šachet dle DIN 4034, skruže rovné na kroužek, hmotnost přes 0,5 do 1,4 t.",null,null,null,null,null,null,null,null,"Položka je určena pro osazení betonových dílců šachet dle DIN 4034, skruže rovné na kroužek, hmotnost přes 0,5 do 1,4 t.",null,null,3]
[null,null,"V položce nejsou zakalkulovány náklady na dodání betonových dílců; dílce se oceňují ve specifikaci.",null,null,null,null,null,null,null,null,"V položce nejsou zakalkulovány náklady na dodání betonových dílců; dílce se oceňují ve specifikaci.",null,null,3]
[null,null,"Stoka \"I\" DN300:",null,0,null,null,null,null,null,null,null,"Stoka \"I\" DN300:"]
[null,null,"Skruž H500:3",null,3,null,null,null,null,null,null,null,"Skruž H500:3"]
[null,null,"Skruž H1000:4",null,4,null,null,null,null,null,null,null,"Skruž H1000:4"]
[41,"894422111RT1","Osazení betonových dílců šachet skruže přechodové, na kroužek","kus",4,null,{"$f":"E184*F184","v":0},0,{"$f":"E184*H184","v":0},0,{"$f":"E184*J184","v":0},null,null,null,2,null,null,null,null,null,null,null,null,null,null,null,1,1,1,null,null,null,null,null,null,null,null,null,null,null,null,null,null,null,null,null,null,null,null,null,null,1,{"$f":"IF(AZ184=1,G184,0)","v":0},{"$f":"IF(AZ184=2,G184,0)","v":0},{"$f":"IF(AZ184=3,G184,0)","v":0},{"$f":"IF(AZ184=4,G184,0)","v":0},{"$f":"IF(AZ184=5,G184,0)","v":0},null,null,null,null,null,null,null,null,null,null,null,null,null,null,null,null,null,null,null,null,null,1,1]
[null,null,"Položka je určena pro osazení betonových dílců šachet dle DIN 4034, skruže přechodové na kroužek.",null,null,null,null,null,null,null,null,"Položka je určena pro osazení betonových dílců šachet dle DIN 4034, skruže přechodové na kroužek.",null,null,3]
[null,null,"V položce nejsou zakalkulovány náklady na dodání betonových dílců",null,null,null,null,null,null,null,null,"V položce nejsou zakalkulovány náklady na dodání betonových dílců",null,null,3]
[null,null,"Stoka \"I\" DN300:",null,0,null,null,null,null,null,null,null,"Stoka \"I\" DN300:"]
[null,null,"Kónus H600:4",null,4,null,null,null,null,null,null,null,"Kónus H600:4"]
[42,"894423111RT1","Osazení betonových dílců šachet do 2,0 t šachtová dna, na kroužek, do 2,0 t","kus",3,null,{"$f":"E189*F189","v":0},0,{"$f":"E189*H189","v":0},0,{"$f":"E189*J189","v":0},null,null,null,2,null,null,null,null,null,null,null,null,null,null,null,1,1,1,null,null,null,null,null,null,null,null,null,null,null,null,null,null,null,null,null,null,null,null,null,null,1,{"$f":"IF(AZ189=1,G189,0)","v":0},{"$f":"IF(AZ189=2,G189,0)","v":0},{"$f":"IF(AZ189=3,G189,0)","v":0},{"$f":"IF(AZ189=4,G189,0)","v":0},{"$f":"IF(AZ189=5,G189,0)","v":0},null,null,null,null,null,null,null,null,null,null,null,null,null,null,null,null,null,null,null,null,null,1,1]
[null,null,"Položka je určena pro osazení betonových dílců šachet dle DIN 4034, šachtová dna na kroužek, hmotnost do 2,0 t. včetně dodávky a provedení podkladního betonového lože.",null,null,null,null,null,null,null,null,"Položka je určena pro osazení betonových dílců šachet dle DIN 4034, šachtová dna na kroužek, hmotnost do 2,0 t. včetně dodávky a provedení podkladního betonového lože.",null,null,3]
[null,null,"V položce nejsou zakalkulovány náklady na dodání betonových dílců;",null,null,null,null,null,null,null,null,"V položce nejsou zakalkulovány náklady na dodání betonových dílců;",null,null,3]
[null,null,"Stoka \"I\" DN300:",null,0,null,null,null,null,null,null,null,"Stoka \"I\" DN300:"]
[null,null,"ŠD 300/600:3",null,3,null,null,null,null,null,null,null,"ŠD 300/600:3"]
[43,"894423112RT1","Osazení betonových dílců šachet do 3,0 t šachtová dna, na kroužek, do 3,0 t","kus",1,null,{"$f":"E194*F194","v":0},0,{"$f":"E194*H194","v":0},0,{"$f":"E194*J194","v":0},null,null,null,2,null,null,null,null,null,null,null,null,null,null,null,1,1,1,null,null,null,null,null,null,null,null,null,null,null,null,null,null,null,null,null,null,null,null,null,null,1,{"$f":"IF(AZ194=1,G194,0)","v":0},{"$f":"IF(AZ194=2,G194,0)","v":0},{"$f":"IF(AZ194=3,G194,0)","v":0},{"$f":"IF(AZ194=4,G194,0)","v":0},{"$f":"IF(AZ194=5,G194,0)","v":0},null,null,null,null,null,null,null,null,null,null,null,null,null,null,null,null,null,null,null,null,null,1,1]
[null,null,"Položka je určena pro osazení betonových dílců šachet dle DIN 4034, šachtová dna na kroužek, hmotnost do 3,0 t. včetně dodávky a provedení podkladního betonového lože.",null,null,null,null,null,null,null,null,"Položka je určena pro osazení betonových dílců šachet dle DIN 4034, šachtová dna na kroužek, hmotnost do 3,0 t. včetně dodávky a provedení podkladního betonového lože.",null,null,3]
[null,null,"V položce nejsou zakalkulovány náklady na dodání betonových dílců;",null,null,null,null,null,null,null,null,"V položce nejsou zakalkulovány náklady na dodání betonových dílců;",null,null,3]
[null,null,"Stoka \"I\" DN300:",null,0,null,null,null,null,null,null,null,"Stoka \"I\" DN300:"]
[null,null,"ŠD 600/1000:1",null,1,null,null,null,null,null,null,null,"ŠD 600/1000:1"]
[44,"899102111R00","Osazení poklopu s rámem do 100 kg ","kus",4,null,{"$f":"E199*F199","v":0},7.0200000000000002E-3,{"$f":"E199*H199","v":2.8080000000000001E-2},0,{"$f":"E199*J199","v":0},null,null,null,2,null,null,null,null,null,null,null,null,null,null,null,1,1,1,null,null,null,null,null,null,null,null,null,null,null,null,null,null,null,null,null,null,null,null,null,null,1,{"$f":"IF(AZ199=1,G199,0)","v":0},{"$f":"IF(AZ199=2,G199,0)","v":0},{"$f":"IF(AZ199=3,G199,0)","v":0},{"$f":"IF(AZ199=4,G199,0)","v":0},{"$f":"IF(AZ199=5,G199,0)","v":0},null,null,null,null,null,null,null,null,null,null,null,null,null,null,null,null,null,null,null,null,null,1,1]
[null,null,"Osazení provizorních poklopů během realizace stavby  (nefakturovaný materiál zhotovitele)",null,null,null,null,null,null,null,null,"Osazení provizorních poklopů během realizace stavby  (nefakturovaný materiál zhotovitele)",null,null,3]
[null,null,"Stoka \"I\" DN300:",null,0,null,null,null,null,null,null,null,"Stoka \"I\" DN300:"]
[null,null,"Provizorní poklop:4",null,4,null,null,null,null,null,null,null,"Provizorní poklop:4"]
[45,"899711122R00","Fólie výstražná z PVC šedá, šířka 30 cm ","m",22.2,null,{"$f":"E203*F203","v":0},0,{"$f":"E203*H203","v":0},0,{"$f":"E203*J203","v":0},null,null,null,2,null,null,null,null,null,null,null,null,null,null,null,1,1,1,null,null,null,null,null,null,null,null,null,null,null,null,null,null,null,null,null,null,null,null,null,null,1,{"$f":"IF(AZ203=1,G203,0)","v":0},{"$f":"IF(AZ203=2,G203,0)","v":0},{"$f":"IF(AZ203=3,G203,0)","v":0},{"$f":"IF(AZ203=4,G203,0)","v":0},{"$f":"IF(AZ203=5,G203,0)","v":0},null,null,null,null,null,null,null,null,null,null,null,null,null,null,null,null,null,null,null,null,null,1,1]
[null,null,"Stoka \"I\" DN300:22,20",null,22.2,null,null,null,null,null,null,null,"Stoka \"I\" DN300:22,20"]
[46,"286111934.R","Trubka kanalizační PVC SN 12 DN 300","m",2.472,null,{"$f":"E205*F205","v":0},1.0200000000000001E-3,{"$f":"E205*H205","v":2.5214400000000002E-3},null,{"$f":"E205*J205","v":0},null,null,null,2,null,null,null,null,null,null,null,null,null,null,null,3,1,"286111934.R",null,null,null,null,null,null,null,null,null,null,null,null,null,null,null,null,null,null,null,null,null,null,1,{"$f":"IF(AZ205=1,G205,0)","v":0},{"$f":"IF(AZ205=2,G205,0)","v":0},{"$f":"IF(AZ205=3,G205,0)","v":0},{"$f":"IF(AZ205=4,G205,0)","v":0},{"$f":"IF(AZ205=5,G205,0)","v":0},null,null,null,null,null,null,null,null,null,null,null,null,null,null,null,null,null,null,null,null,null,3,1]
[null,null,"Jedná  se  o  plnostěnné kanalizační trubky DN 150 – DN 400, SN 12 kN/m2 , zvenčí  i  zevnitř  hladké. Jsou  opatřeny hrdlem,  v  němž  je  vložen vysoce  elastický  jazýčkový  kroužek.  konce  trubek  (dříků)  jsou opatřeny  zkosením  pod  úhlem  15°.  Způsob  použití  trubek  je  „U“  dle  normy  ČSN  EN  1401-1, tj. mimo budovy. Spolehlivá  funkce  těsnění  je  jištěna  výztužným  kroužkem  z  elastomeru.  Je  tak  zamezeno  vypad-nutí nebo vytlačení kroužku při manipulaci a montáži. Tento systém zaručuje při správné montáži ",null,null,null,null,null,null,null,null,"Jedná  se  o  plnostěnné kanalizační trubky DN 150 – DN 400, SN 12 kN/m2 , zvenčí  i  zevnitř  hladké. Jsou  opatřeny hrdlem,  v  němž  je  vložen vysoce  elastický  jazýčkový  kroužek.  konce  trubek  (dříků)  jsou opatřeny  zkosením  pod  úhlem  15°.  Způsob  použití  trubek  je  „U“  dle  normy  ČSN  EN  1401-1, tj. mimo budovy. Spolehlivá  funkce  těsnění  je  jištěna  výztužným  kroužkem  z  elastomeru.  Je  tak  zamezeno  vypad-nutí nebo vytlačení kroužku při manipulaci a montáži. Tento systém zaručuje při správné montáži ",null,null,3]
[null,null,"dokonalou  těsnost  do  výšky  vodního  sloupce  5  metrů.",null,null,null,null,null,null,null,null,"dokonalou  těsnost  do  výšky  vodního  sloupce  5  metrů.",null,null,3]
[null,null,"Teplota při pokládce: min. -10 °C, max. 50 °C",null,null,null,null,null,null,null,null,"Teplota při pokládce: min. -10 °C, max. 50 °C",null,null,3]
[null,null,"Max. teplota média: trvale do 40 °C, krátkodobě do 60 °C",null,null,null,null,null,null,null,null,"Max. teplota média: trvale do 40 °C, krátkodobě do 60 °C",null,null,3]
[null,null,"Orientační výška krytí: min. 0,5 m, max. 10 m",null,null,null,null,null,null,null,null,"Orientační výška krytí: min. 0,5 m, max. 10 m",null,null,3]
[null,null,"Max. rychlost média: 12 m/s",null,null,null,null,null,null,null,null,"Max. rychlost média: 12 m/s",null,null,3]
[null,null,"Stoka \"I\" PVC DN300:2,40*1,03",null,2.472,null,null,null,null,null,null,null,"Stoka \"I\" PVC DN300:2,40*1,03"]
[47,"592243593.R","Konus šachetní TBR-Q.1 1000x625/600/120SKP INTEGRO","kus",4.04,null,{"$f":"E213*F213","v":0},0.54900000000000004,{"$f":"E213*H213","v":2.2179600000000002},null,{"$f":"E213*J213","v":0},null,null,null,2,null,null,null,null,null,null,null,null,null,null,null,3,1,"592243593.R",null,null,null,null,null,null,null,null,null,null,null,null,null,null,null,null,null,null,null,null,null,null,1,{"$f":"IF(AZ213=1,G213,0)","v":0},{"$f":"IF(AZ213=2,G213,0)","v":0},{"$f":"IF(AZ213=3,G213,0)","v":0},{"$f":"IF(AZ213=4,G213,0)","v":0},{"$f":"IF(AZ213=5,G213,0)","v":0},null,null,null,null,null,null,null,null,null,null,null,null,null,null,null,null,null,null,null,null,null,3,1]
[null,null,"Stoka \"I\" DN300:",null,0,null,null,null,null,null,null,null,"Stoka \"I\" DN300:"]
[null,null,"Kónus H600:4*1,01",null,4.04,null,null,null,null,null,null,null,"Kónus H600:4*1,01"]
[48,"592243594.R","Skruž šachetní TBS-Q.1 1000/250/120 SP INTEGRO","kus",1.01,null,{"$f":"E216*F216","v":0},0.254,{"$f":"E216*H216","v":0.25653999999999999},null,{"$f":"E216*J216","v":0},null,null,null,2,null,null,null,null,null,null,null,null,null,null,null,3,1,"592243594.R",null,null,null,null,null,null,null,null,null,null,null,null,null,null,null,null,null,null,null,null,null,null,1,{"$f":"IF(AZ216=1,G216,0)","v":0},{"$f":"IF(AZ216=2,G216,0)","v":0},{"$f":"IF(AZ216=3,G216,0)","v":0},{"$f":"IF(AZ216=4,G216,0)","v":0},{"$f":"IF(AZ216=5,G216,0)","v":0},null,null,null,null,null,null,null,null,null,null,null,null,null,null,null,null,null,null,null,null,null,3,1]
[null,null,"Stoka \"I\" DN300:",null,0,null,null,null,null,null,null,null,"Stoka \"I\" DN300:"]
[null,null,"Skruž H250:1*1,01",null,1.01,null,null,null,null,null,null,null,"Skruž H250:1*1,01"]
[49,"592243595.R","Skruž šachetní TBS-Q.1 1000/500/120 SP INTEGRO","kus",3.03,null,{"$f":"E219*F219","v":0},0.50900000000000001,{"$f":"E219*H219","v":1.54227},null,{"$f":"E219*J219","v":0},null,null,null,2,null,null,null,null,null,null,null,null,null,null,null,3,1,"592243595.R",null,null,null,null,null,null,null,null,null,null,null,null,null,null,null,null,null,null,null,null,null,null,1,{"$f":"IF(AZ219=1,G219,0)","v":0},{"$f":"IF(AZ219=2,G219,0)","v":0},{"$f":"IF(AZ219=3,G219,0)","v":0},{"$f":"IF(AZ219=4,G219,0)","v":0},{"$f":"IF(AZ219=5,G219,0)","v":0},null,null,null,null,null,null,null,null,null,null,null,null,null,null,null,null,null,null,null,null,null,3,1]
[null,null,"Stoka \"I\" DN300:",null,0,null,null,null,null,null,null,null,"Stoka \"I\" DN300:"]
[null,null,"Skruž H500:3*1,01",null,3.03,null,null,null,null,null,null,null,"Skruž H500:3*1,01"]
[50,"592243696.R","Skruž šachetní TBS-Q.1 1000/1000/120 SP INTEGRO","kus",4.04,null,{"$f":"E222*F222","v":0},1.0189999999999999,{"$f":"E222*H222","v":4.1167599999999993},null,{"$f":"E222*J222","v":0},null,null,null,2,null,null,null,null,null,null,null,null,null,null,null,3,1,"592243696.R",null,null,null,null,null,null,null,null,null,null,null,null,null,null,null,null,null,null,null,null,null,null,1,{"$f":"IF(AZ222=1,G222,0)","v":0},{"$f":"IF(AZ222=2,G222,0)","v":0},{"$f":"IF(AZ222=3,G222,0)","v":0},{"$f":"IF(AZ222=4,G222,0)","v":0},{"$f":"IF(AZ222=5,G222,0)","v":0},null,null,null,null,null,null,null,null,null,null,null,null,null,null,null,null,null,null,null,null,null,3,1]
[null,null,"Stoka \"I\" DN300:",null,0,null,null,null,null,null,null,null,"Stoka \"I\" DN300:"]
[null,null,"Skruž H1000:4*1,01",null,4.04,null,null,null,null,null,null,null,"Skruž H1000:4*1,01"]
[51,"592243716.R","Dno šachetní TBZ-Q.1CAPITAN 300/600","kus",3.03,null,{"$f":"E225*F225","v":0},1.58,{"$f":"E225*H225","v":4.7873999999999999},null,{"$f":"E225*J225","v":0},null,null,null,2,null,null,null,null,null,null,null,null,null,null,null,3,1,"592243716.R",null,null,null,null,null,null,null,null,null,null,null,null,null,null,null,null,null,null,null,null,null,null,1,{"$f":"IF(AZ225=1,G225,0)","v":0},{"$f":"IF(AZ225=2,G225,0)","v":0},{"$f":"IF(AZ225=3,G225,0)","v":0},{"$f":"IF(AZ225=4,G225,0)","v":0},{"$f":"IF(AZ225=5,G225,0)","v":0},null,null,null,null,null,null,null,null,null,null,null,null,null,null,null,null,null,null,null,null,null,3,1]
[null,null,"Včetně kynety a vstupů dle PD",null,null,null,null,null,null,null,null,"Včetně kynety a vstupů dle PD",null,null,3]
[null,null,"Stoka \"I\" DN300:",null,0,null,null,null,null,null,null,null,"Stoka \"I\" DN300:"]
[null,null,"ŠD 300/600:3*1,01",null,3.03,null,null,null,null,null,null,null,"ŠD 300/600:3*1,01"]
[52,"592243720.R","Dno šachetní TBZ-Q.1CAPITAN 600/1000","kus",1.01,null,{"$f":"E229*F229","v":0},2.5950000000000002,{"$f":"E229*H229","v":2.6209500000000001},null,{"$f":"E229*J229","v":0},null,null,null,2,null,null,null,null,null,null,null,null,null,null,null,3,1,"592243720.R",null,null,null,null,null,null,null,null,null,null,null,null,null,null,null,null,null,null,null,null,null,null,1,{"$f":"IF(AZ229=1,G229,0)","v":0},{"$f":"IF(AZ229=2,G229,0)","v":0},{"$f":"IF(AZ229=3,G229,0)","v":0},{"$f":"IF(AZ229=4,G229,0)","v":0},{"$f":"IF(AZ229=5,G229,0)","v":0},null,null,null,null,null,null,null,null,null,null,null,null,null,null,null,null,null,null,null,null,null,3,1]
[null,null,"Včetně kynety a vstupů dle PD",null,null,null,null,null,null,null,null,"Včetně kynety a vstupů dle PD",null,null,3]
[null,null,"Stoka \"I\" DN300:",null,0,null,null,null,null,null,null,null,"Stoka \"I\" DN300:"]
[null,null,"ŠD 600/1000:1*1,01",null,1.01,null,null,null,null,null,null,null,"ŠD 600/1000:1*1,01"]
[53,"59710699.A.R","Trouba kameninová hrdlová DN 300, l=2,50 m, FN 48","m",20.097000000000001,null,{"$f":"E233*F233","v":0},7.1999999999999995E-2,{"$f":"E233*H233","v":1.446984},null,{"$f":"E233*J233","v":0},null,null,null,2,null,null,null,null,null,null,null,null,null,null,null,3,1,"59710699.A.R",null,null,null,null,null,null,null,null,null,null,null,null,null,null,null,null,null,null,null,null,null,null,1,{"$f":"IF(AZ233=1,G233,0)","v":0},{"$f":"IF(AZ233=2,G233,0)","v":0},{"$f":"IF(AZ233=3,G233,0)","v":0},{"$f":"IF(AZ233=4,G233,0)","v":0},{"$f":"IF(AZ233=5,G233,0)","v":0},null,null,null,null,null,null,null,null,null,null,null,null,null,null,null,null,null,null,null,null,null,3,1]
[null,null,"Hrdlové trouby KeraBase pro použití v komunální a průmyslové kanalizační systémy včetně případné dodávky zkrácené trouby KeraBase GZ, GA a GE dle potřeb na stavbě",null,null,null,null,null,null,null,null,"Hrdlové trouby KeraBase pro použití v komunální a průmyslové kanalizační systémy včetně případné dodávky zkrácené trouby KeraBase GZ, GA a GE dle potřeb na stavbě",null,null,3]
[null,null,"Otevřený výkop, normální zatížení.",null,null,null,null,null,null,null,null,"Otevřený výkop, normální zatížení.",null,null,3]
[null,null,"DN 300",null,null,null,null,null,null,null,null,"DN 300",null,null,3]
[null,null,"Délka 250 cm",null,null,null,null,null,null,null,null,"Délka 250 cm",null,null,3]
[null,null,"FN 40 kN/m",null,null,null,null,null,null,null,null,"FN 40 kN/m",null,null,3]
[null,null,"Hmotnost 181 kg/ks",null,null,null,null,null,null,null,null,"Hmotnost 181 kg/ks",null,null,3]
[null,null,"Hrdlo K/S",null,null,null,null,null,null,null,null,"Hrdlo K/S",null,null,3]
[null,null,"Třída pevnosti 160",null,null,null,null,null,null,null,null,"Třída pevnosti 160",null,null,3]
[null,null,"trouba oboustranně glazována",null,null,null,null,null,null,null,null,"trouba oboustranně glazována",null,null,3]
[null,null,"Stoka \"I\" KT DN300:19,80*1,015",null,20.097000000000001,null,null,null,null,null,null,null,"Stoka \"I\" KT DN300:19,80*1,015"]
[null,"Celkem za","8 Trubní vedení",null,null,null,{"$f":"SUM(G153:G243)","v":0},null,{"$f":"SUM(I153:I243)","v":17.35628144},null,{"$f":"SUM(K153:K243)","v":0},null,null,null,4,null,null,null,null,null,null,null,null,null,null,null,null,null,null,null,null,null,null,null,null,null,null,null,null,null,null,null,null,null,null,null,null,null,null,null,null,null,{"$f":"SUM(BA153:BA243)","v":0},{"$f":"SUM(BB153:BB243)","v":0},{"$f":"SUM(BC153:BC243)","v":0},{"$f":"SUM(BD153:BD243)","v":0},{"$f":"SUM(BE153:BE243)","v":0}]
["Díl:","93","Dokončovací práce inženýrských staveb",null,null,null,null,null,null,null,null,null,null,null,1]
[54,"939421111RT1","Osazení samonivelač.kanalizač.poklopu za finišerem bez dodávky poklopu","kus",4,null,{"$f":"E246*F246","v":0},0.15425,{"$f":"E246*H246","v":0.61699999999999999},0,{"$f":"E246*J246","v":0},null,null,null,2,null,null,null,null,null,null,null,null,null,null,null,1,0,0,null,null,null,null,null,null,null,null,null,null,null,null,null,null,null,null,null,null,null,null,null,null,1,{"$f":"IF(AZ246=1,G246,0)","v":0},{"$f":"IF(AZ246=2,G246,0)","v":0},{"$f":"IF(AZ246=3,G246,0)","v":0},{"$f":"IF(AZ246=4,G246,0)","v":0},{"$f":"IF(AZ246=5,G246,0)","v":0},null,null,null,null,null,null,null,null,null,null,null,null,null,null,null,null,null,null,null,null,null,1,0]
[null,null,"Položka obsahuje:",null,null,null,null,null,null,null,null,"Položka obsahuje:",null,null,3]
[null,null,"- osazení prefabrikovaného betonového prstence do rychletuhnoucí malty (s dodávkou hmot)",null,null,null,null,null,null,null,null,"- osazení prefabrikovaného betonového prstence do rychletuhnoucí malty (s dodávkou hmot)",null,null,3]
[null,null,"- zalití prstence rychletuhnoucí zálivkou do výše prstence (s dodávkou hmoty)",null,null,null,null,null,null,null,null,"- zalití prstence rychletuhnoucí zálivkou do výše prstence (s dodávkou hmoty)",null,null,3]
[null,null,"- vložení kruhového bednění",null,null,null,null,null,null,null,null,"- vložení kruhového bednění",null,null,3]
[null,null,"- doplnění mezikruží asfaltovou směsí do výšky současné podkladní vrstvy, zhutnění",null,null,null,null,null,null,null,null,"- doplnění mezikruží asfaltovou směsí do výšky současné podkladní vrstvy, zhutnění",null,null,3]
[null,null,"- vyjmutí kruhového bednění",null,null,null,null,null,null,null,null,"- vyjmutí kruhového bednění",null,null,3]
[null,null,"- osazení poklopu a zatlačení",null,null,null,null,null,null,null,null,"- osazení poklopu a zatlačení",null,null,3]
[null,null,"  (následuje pokládka finální vrstvy vozovky - není součástí položky)",null,null,null,null,null,null,null,null,"  (následuje pokládka finální vrstvy vozovky - není součástí položky)",null,null,3]
[null,null,"- povytažení poklopu",null,null,null,null,null,null,null,null,"- povytažení poklopu",null,null,3]
[null,null,"- podsyp asfaltovou směsí, spuštění poklopu a zhutnění směsi",null,null,null,null,null,null,null,null,"- podsyp asfaltovou směsí, spuštění poklopu a zhutnění směsi",null,null,3]
[null,null,"Revizní šachty:",null,0,null,null,null,null,null,null,null,"Revizní šachty:"]
[null,null,"Poklop EUROPE9 E600 KEM91B rám samonivelační:1",null,1,null,null,null,null,null,null,null,"Poklop EUROPE9 E600 KEM91B rám samonivelační:1"]
[null,null,"Poklop EUROPE9 D400 KDM91B rám samonivelační:3",null,3,null,null,null,null,null,null,null,"Poklop EUROPE9 D400 KDM91B rám samonivelační:3"]
[55,"55244420.R","Poklop EUROPE9 E600 KEM91B rám samonivelační","kus",1,null,{"$f":"E260*F260","v":0},0.113,{"$f":"E260*H260","v":0.113},null,{"$f":"E260*J260","v":0},null,null,null,2,null,null,null,null,null,null,null,null,null,null,null,3,1,"55244420.R",null,null,null,null,null,null,null,null,null,null,null,null,null,null,null,null,null,null,null,null,null,null,1,{"$f":"IF(AZ260=1,G260,0)","v":0},{"$f":"IF(AZ260=2,G260,0)","v":0},{"$f":"IF(AZ260=3,G260,0)","v":0},{"$f":"IF(AZ260=4,G260,0)","v":0},{"$f":"IF(AZ260=5,G260,0)","v":0},null,null,null,null,null,null,null,null,null,null,null,null,null,null,null,null,null,null,null,null,null,3,1]
[null,null,"Kanalizační kruhový samonivelační bez odvětrání dle standatrů VHS TURNOV.",null,null,null,null,null,null,null,null,"Kanalizační kruhový samonivelační bez odvětrání dle standatrů VHS TURNOV.",null,null,3]
[null,null,"Poklop se znakem Město Lomnice nad Popelkou.",null,null,null,null,null,null,null,null,"Poklop se znakem Město Lomnice nad Popelkou.",null,null,3]
[null,null,"Revizní šachty:",null,0,null,null,null,null,null,null,null,"Revizní šachty:"]
[null,null,"Poklop EUROPE9 E600 KEM91B rám samonivelační:1",null,1,null,null,null,null,null,null,null,"Poklop EUROPE9 E600 KEM91B rám samonivelační:1"]
[56,"55244421.R","Poklop EUROPE9 D400 KDM91B rám samonivelační","kus",3,null,{"$f":"E265*F265","v":0},0.113,{"$f":"E265*H265","v":0.33900000000000002},null,{"$f":"E265*J265","v":0},null,null,null,2,null,null,null,null,null,null,null,null,null,null,null,3,1,"55244421.R",null,null,null,null,null,null,null,null,null,null,null,null,null,null,null,null,null,null,null,null,null,null,1,{"$f":"IF(AZ265=1,G265,0)","v":0},{"$f":"IF(AZ265=2,G265,0)","v":0},{"$f":"IF(AZ265=3,G265,0)","v":0},{"$f":"IF(AZ265=4,G265,0)","v":0},{"$f":"IF(AZ265=5,G265,0)","v":0},null,null,null,null,null,null,null,null,null,null,null,null,null,null,null,null,null,null,null,null,null,3,1]
[null,null,"Kanalizační kruhový samonivelační bez odvětrání dle standatrů VHS TURNOV.",null,null,null,null,null,null,null,null,"Kanalizační kruhový samonivelační bez odvětrání dle standatrů VHS TURNOV.",null,null,3]
[null,null,"Poklop se znakem Město Lomnice nad Popelkou.",null,null,null,null,null,null,null,null,"Poklop se znakem Město Lomnice nad Popelkou.",null,null,3]
[null,null,"Revizní šachty:",null,0,null,null,null,null,null,null,null,"Revizní šachty:"]
[null,null,"Poklop EUROPE9 D400 KDM91B rám samonivelační:3",null,3,null,null,null,null,null,null,null,"Poklop EUROPE9 D400 KDM91B rám samonivelační:3"]
[null,"Celkem za","93 Dokončovací práce inženýrských staveb",null,null,null,{"$f":"SUM(G245:G269)","v":0},null,{"$f":"SUM(I245:I269)","v":1.069},null,{"$f":"SUM(K245:K269)","v":0},null,null,null,4,null,null,null,null,null,null,null,null,null,null,null,null,null,null,null,null,null,null,null,null,null,null,null,null,null,null,null,null,null,null,null,null,null,null,null,null,null,{"$f":"SUM(BA245:BA269)","v":0},{"$f":"SUM(BB245:BB269)","v":0},{"$f":"SUM(BC245:BC269)","v":0},{"$f":"SUM(BD245:BD269)","v":0},{"$f":"SUM(BE245:BE269)","v":0}]
["Díl:","99","Staveništní přesun hmot",null,null,null,null,null,null,null,null,null,null,null,1]
[57,"998275101R00","Přesun hmot, kanalizace kameninové, otevřený výkop ","t",217.13917376000001,null,{"$f":"E272*F272","v":0},0,{"$f":"E272*H272","v":0},null,{"$f":"E272*J272","v":0},null,null,null,2,null,null,null,null,null,null,null,null,null,null,null,7,1,2,null,null,null,null,null,null,null,null,null,null,null,null,null,null,null,null,null,null,null,null,null,null,1,{"$f":"IF(AZ272=1,G272,0)","v":0},{"$f":"IF(AZ272=2,G272,0)","v":0},{"$f":"IF(AZ272=3,G272,0)","v":0},{"$f":"IF(AZ272=4,G272,0)","v":0},{"$f":"IF(AZ272=5,G272,0)","v":0},null,null,null,null,null,null,null,null,null,null,null,null,null,null,null,null,null,null,null,null,null,7,1]
[null,"Celkem za","99 Staveništní přesun hmot",null,null,null,{"$f":"SUM(G271:G272)","v":0},null,{"$f":"SUM(I271:I272)","v":0},null,{"$f":"SUM(K271:K272)","v":0},null,null,null,4,null,null,null,null,null,null,null,null,null,null,null,null,null,null,null,null,null,null,null,null,null,null,null,null,null,null,null,null,null,null,null,null,null,null,null,null,null,{"$f":"SUM(BA271:BA272)","v":0},{"$f":"SUM(BB271:BB272)","v":0},{"$f":"SUM(BC271:BC272)","v":0},{"$f":"SUM(BD271:BD272)","v":0},{"$f":"SUM(BE271:BE272)","v":0}]

{"sheet":"II. 01 II. 01 KL","index":16,"n_rows":45,"n_cols":8,"rows_kept":45,"cut":false,"hidden":false,"merged":[[45,1,45,6],[46,1,46,6],[47,1,47,6],[48,1,48,6],[49,1,49,6],[50,1,50,6],[29,5,29,6],[30,5,30,6],[31,5,31,6],[32,5,32,6],[33,5,33,6],[36,1,44,6],[7,2,7,4],[8,2,8,4],[9,2,9,4],[10,2,10,4],[11,2,11,4],[22,0,22,1]]}
["POLOŽKOVÝ ROZPOČET"]
["Rozpočet",null,"II. 01","Kanalizace",null,"JKSO ","827.21.A4"]
[]
["Objekt",null,null,null,null,"SKP "]
["II. 01",null,"Kanalizace",null,null,"Měrná jednotka","m"]
["Stavba",null,null,null,null,"Počet jednotek",0]
["3334",null,"Lomnice nad Popelkou - Vodovod a kanalizace",null,null,"Náklady na m.j.",{"$f":"IF(G6=0,,ROUND((F30+F32)/G6,1))","v":0}]
["Projektant",null,"VEDU VODU s.r.o. Dobrovice",null,null,"Typ rozpočtu"]
["Zpracovatel projektu"]
["Objednatel",null,"Vodohospodářské sdružení Turnov"]
["Dodavatel",null,".",null,null,"Zakázkové číslo "]
["Rozpočtoval",null,null,null,null,"Počet listů"]
["ROZPOČTOVÉ NÁKLADY"]
["Základní rozpočtové náklady"]
[null,"HSV celkem",{"$f":"'II. 01 II. 01 Rek'!E14","v":0}]
["Z","PSV celkem",{"$f":"'II. 01 II. 01 Rek'!F14","v":0}]
["R","M práce celkem",{"$f":"'II. 01 II. 01 Rek'!H14","v":0}]
["N","M dodávky celkem",{"$f":"'II. 01 II. 01 Rek'!G14","v":0}]
["ZRN celkem",null,{"$f":"SUM(C15:C18)","v":0}]
[]
["HZS",null,{"$f":"'II. 01 II. 01 Rek'!I14","v":0}]
["ZRN+HZS",null,{"$f":"C19+C21","v":0}]
["ZRN+ost.náklady+HZS",null,{"$f":"C22+G23","v":0}]
["Vypracoval",null,null,"Za zhotovitele",null,"Za objednatele"]
["Jméno :",null,null,"Jméno :",null,"Jméno :"]
["Datum :",null,null,"Datum :",null,"Datum :"]
[]
["Podpis :",null,null,"Podpis:",null,"Podpis:"]
[]
["Základ pro DPH",null,21,"%  ",null,{"$f":"C23-F32","v":0}]
["DPH",null,{"$f":"C30","v":21},"% ",null,{"$f":"ROUND(PRODUCT(F30,C31/100),0)","v":0}]
["Základ pro DPH",null,0,"% ",null,0]
["DPH",null,{"$f":"C32","v":0},"% ",null,{"$f":"ROUND(PRODUCT(F32,C33/100),0)","v":0}]
["CENA ZA OBJEKT CELKEM",null,null,null,null,{"$f":"ROUND(SUM(F30:F33),0)","v":0}]
[]
["Poznámka :",null,null,null,null,null,null," "]
[null,null,null,null,null,null,null," "]
[null,null,null,null,null,null,null," "]
[null,null,null,null,null,null,null," "]
[null,null,null,null,null,null,null," "]
[null,null,null,null,null,null,null," "]
[null,null,null,null,null,null,null," "]
[null,null,null,null,null,null,null," "]
[null,null,null,null,null,null,null," "]
[null,null,null,null,null,null,null," "]

{"sheet":"II. 01 II. 01 Rek","index":17,"n_rows":14,"n_cols":9,"rows_kept":14,"cut":false,"hidden":false,"merged":[[0,0,0,1],[1,0,1,1],[1,6,1,8]]}
["Stavba :",null,"3334 Lomnice nad Popelkou - Vodovod a kanalizace",null,null,null,"Rozpočet :","II. 01"]
["Objekt :",null,"II. 01 Kanalizace",null,null,null,"Kanalizace"]
[]
["REKAPITULACE  STAVEBNÍCH  DÍLŮ"]
[]
[null,"Stavební díl",null,null,"HSV","PSV","Dodávka","Montáž","HZS"]
[{"$f":"'II. 01 II. 01 Pol'!B7","v":"1"},{"$f":"'II. 01 II. 01 Pol'!C7","v":"Zemní práce"},null,null,{"$f":"'II. 01 II. 01 Pol'!BA317","v":0},{"$f":"'II. 01 II. 01 Pol'!BB317","v":0},{"$f":"'II. 01 II. 01 Pol'!BC317","v":0},{"$f":"'II. 01 II. 01 Pol'!BD317","v":0},{"$f":"'II. 01 II. 01 Pol'!BE317","v":0}]
[{"$f":"'II. 01 II. 01 Pol'!B318","v":"2"},{"$f":"'II. 01 II. 01 Pol'!C318","v":"Základy a zvláštní zakládání"},null,null,{"$f":"'II. 01 II. 01 Pol'!BA331","v":0},{"$f":"'II. 01 II. 01 Pol'!BB331","v":0},{"$f":"'II. 01 II. 01 Pol'!BC331","v":0},{"$f":"'II. 01 II. 01 Pol'!BD331","v":0},{"$f":"'II. 01 II. 01 Pol'!BE331","v":0}]
[{"$f":"'II. 01 II. 01 Pol'!B332","v":"45"},{"$f":"'II. 01 II. 01 Pol'!C332","v":"Podkladní a vedlejší konstrukce"},null,null,{"$f":"'II. 01 II. 01 Pol'!BA361","v":0},{"$f":"'II. 01 II. 01 Pol'!BB361","v":0},{"$f":"'II. 01 II. 01 Pol'!BC361","v":0},{"$f":"'II. 01 II. 01 Pol'!BD361","v":0},{"$f":"'II. 01 II. 01 Pol'!BE361","v":0}]
[{"$f":"'II. 01 II. 01 Pol'!B362","v":"5"},{"$f":"'II. 01 II. 01 Pol'!C362","v":"Komunikace"},null,null,{"$f":"'II. 01 II. 01 Pol'!BA381","v":0},{"$f":"'II. 01 II. 01 Pol'!BB381","v":0},{"$f":"'II. 01 II. 01 Pol'!BC381","v":0},{"$f":"'II. 01 II. 01 Pol'!BD381","v":0},{"$f":"'II. 01 II. 01 Pol'!BE381","v":0}]
[{"$f":"'II. 01 II. 01 Pol'!B382","v":"8"},{"$f":"'II. 01 II. 01 Pol'!C382","v":"Trubní vedení"},null,null,{"$f":"'II. 01 II. 01 Pol'!BA576","v":0},{"$f":"'II. 01 II. 01 Pol'!BB576","v":0},{"$f":"'II. 01 II. 01 Pol'!BC576","v":0},{"$f":"'II. 01 II. 01 Pol'!BD576","v":0},{"$f":"'II. 01 II. 01 Pol'!BE576","v":0}]
[{"$f":"'II. 01 II. 01 Pol'!B577","v":"93"},{"$f":"'II. 01 II. 01 Pol'!C577","v":"Dokončovací práce inženýrských staveb"},null,null,{"$f":"'II. 01 II. 01 Pol'!BA609","v":0},{"$f":"'II. 01 II. 01 Pol'!BB609","v":0},{"$f":"'II. 01 II. 01 Pol'!BC609","v":0},{"$f":"'II. 01 II. 01 Pol'!BD609","v":0},{"$f":"'II. 01 II. 01 Pol'!BE609","v":0}]
[{"$f":"'II. 01 II. 01 Pol'!B610","v":"99"},{"$f":"'II. 01 II. 01 Pol'!C610","v":"Staveništní přesun hmot"},null,null,{"$f":"'II. 01 II. 01 Pol'!BA612","v":0},{"$f":"'II. 01 II. 01 Pol'!BB612","v":0},{"$f":"'II. 01 II. 01 Pol'!BC612","v":0},{"$f":"'II. 01 II. 01 Pol'!BD612","v":0},{"$f":"'II. 01 II. 01 Pol'!BE612","v":0}]
[null,"CELKEM  OBJEKT",null,null,{"$f":"SUM(E7:E13)","v":0},{"$f":"SUM(F7:F13)","v":0},{"$f":"SUM(G7:G13)","v":0},{"$f":"SUM(H7:H13)","v":0},{"$f":"SUM(I7:I13)","v":0}]

{"sheet":"II. 01 II. 01 Pol","index":18,"n_rows":612,"n_cols":80,"rows_kept":612,"cut":false,"hidden":false,"merged":[[601,2,601,3],[602,2,602,3],[604,2,604,6],[605,2,605,6],[606,2,606,3],[607,2,607,3],[594,2,594,6],[595,2,595,3],[596,2,596,3],[597,2,597,3],[599,2,599,6],[600,2,600,6],[578,2,578,3],[580,2,580,3],[582,2,582,3],[583,2,583,3],[585,2,585,6],[586,2,586,6],[587,2,587,6],[588,2,588,6],[589,2,589,6],[570,2,570,6],[571,2,571,6],[572,2,572,3],[573,2,573,3],[574,2,574,3],[590,2,590,6],[591,2,591,6],[592,2,592,6],[593,2,593,6],[564,2,564,6],[565,2,565,6],[566,2,566,6],[567,2,567,6],[568,2,568,6],[569,2,569,6],[557,2,557,6],[558,2,558,3],[559,2,559,3],[560,2,560,3],[562,2,562,6],[563,2,563,6],[551,2,551,6],[552,2,552,6],[553,2,553,6],[554,2,554,6],[555,2,555,6],[556,2,556,6],[544,2,544,6],[545,2,545,6],[546,2,546,6],[547,2,547,3],[548,2,548,3],[550,2,550,6],[537,2,537,3],[538,2,538,3],[539,2,539,3],[541,2,541,6],[542,2,542,6],[543,2,543,6],[530,2,530,3],[532,2,532,6],[533,2,533,6],[534,2,534,6],[535,2,535,6],[536,2,536,6],[524,2,524,6],[525,2,525,6],[526,2,526,6],[527,2,527,6],[528,2,528,6],[529,2,529,6],[517,2,517,6],[518,2,518,6],[519,2,519,3],[521,2,521,6],[522,2,522,6],[523,2,523,6],[511,2,511,6],[512,2,512,6],[513,2,513,6],[514,2,514,6],[515,2,515,6],[516,2,516,6],[503,2,503,3],[504,2,504,3],[506,2,506,6],[507,2,507,3],[508,2,508,3],[510,2,510,6],[495,2,495,3],[496,2,496,3],[498,2,498,6],[499,2,499,3],[500,2,500,3],[502,2,502,6],[486,2,486,3],[488,2,488,3],[489,2,489,3],[491,2,491,3],[492,2,492,3],[494,2,494,6],[477,2,477,3],[479,2,479,3],[480,2,480,3],[482,2,482,3],[483,2,483,3],[485,2,485,3],[470,2,470,3],[471,2,471,3],[472,2,472,3],[473,2,473,3],[474,2,474,3],[476,2,476,3],[463,2,463,6],[464,2,464,3],[465,2,465,3],[466,2,466,3],[467,2,467,3],[468,2,468,3],[455,2,455,3],[456,2,456,3],[458,2,458,6],[459,2,459,6],[460,2,460,3],[461,2,461,3],[448,2,448,3],[449,2,449,3],[451,2,451,6],[452,2,452,6],[453,2,453,3],[454,2,454,3],[441,2,441,3],[442,2,442,3],[443,2,443,3],[445,2,445,6],[446,2,446,6],[447,2,447,3],[434,2,434,6],[435,2,435,6],[436,2,436,3],[437,2,437,3],[439,2,439,6],[440,2,440,6],[427,2,427,6],[428,2,428,3],[429,2,429,3],[430,2,430,3],[431,2,431,3],[432,2,432,3],[420,2,420,6],[421,2,421,3],[422,2,422,3],[423,2,423,3],[424,2,424,3],[425,2,425,3],[413,2,413,6],[414,2,414,3],[415,2,415,3],[417,2,417,6],[418,2,418,6],[419,2,419,6],[405,2,405,6],[406,2,406,3],[407,2,407,3],[408,2,408,3],[410,2,410,6],[411,2,411,3],[398,2,398,6],[399,2,399,6],[400,2,400,3],[401,2,401,3],[402,2,402,3],[404,2,404,6],[390,2,390,3],[391,2,391,3],[392,2,392,3],[394,2,394,6],[395,2,395,3],[396,2,396,3],[377,2,377,3],[378,2,378,3],[379,2,379,3],[383,2,383,6],[384,2,384,3],[386,2,386,6],[387,2,387,3],[389,2,389,6],[363,2,363,3],[364,2,364,3],[365,2,365,3],[366,2,366,3],[367,2,367,3],[368,2,368,3],[369,2,369,3],[370,2,370,3],[372,2,372,3],[353,2,353,3],[355,2,355,3],[356,2,356,3],[358,2,358,3],[359,2,359,3],[373,2,373,3],[374,2,374,3],[375,2,375,3],[376,2,376,3],[345,2,345,3],[346,2,346,3],[347,2,347,3],[349,2,349,3],[350,2,350,3],[352,2,352,3],[337,2,337,3],[339,2,339,3],[340,2,340,3],[342,2,342,6],[343,2,343,3],[344,2,344,3],[325,2,325,3],[327,2,327,3],[328,2,328,3],[329,2,329,3],[333,2,333,6],[334,2,334,3],[335,2,335,3],[336,2,336,3],[313,2,313,3],[314,2,314,3],[315,2,315,3],[319,2,319,3],[320,2,320,3],[321,2,321,3],[323,2,323,3],[324,2,324,3],[307,2,307,3],[308,2,308,3],[309,2,309,3],[310,2,310,3],[311,2,311,3],[312,2,312,3],[301,2,301,3],[302,2,302,3],[303,2,303,3],[304,2,304,3],[305,2,305,3],[306,2,306,3],[294,2,294,3],[295,2,295,3],[296,2,296,3],[297,2,297,3],[298,2,298,3],[300,2,300,3],[283,2,283,3],[284,2,284,3],[285,2,285,3],[286,2,286,3],[287,2,287,3],[292,2,292,6],[276,2,276,3],[277,2,277,3],[278,2,278,3],[280,2,280,3],[281,2,281,3],[282,2,282,3],[268,2,268,3],[270,2,270,3],[271,2,271,3],[272,2,272,3],[273,2,273,3],[274,2,274,3],[262,2,262,3],[263,2,263,3],[264,2,264,3],[265,2,265,3],[266,2,266,3],[267,2,267,3],[256,2,256,3],[257,2,257,3],[258,2,258,3],[259,2,259,3],[260,2,260,3],[261,2,261,3],[250,2,250,3],[252,2,252,6],[253,2,253,3],[254,2,254,3],[255,2,255,3],[243,2,243,3],[244,2,244,3],[245,2,245,3],[246,2,246,3],[248,2,248,3],[249,2,249,3],[237,2,237,3],[238,2,238,3],[239,2,239,3],[240,2,240,3],[241,2,241,3],[242,2,242,3],[230,2,230,3],[231,2,231,3],[232,2,232,3],[234,2,234,3],[235,2,235,3],[236,2,236,3],[224,2,224,3],[225,2,225,3],[226,2,226,3],[227,2,227,3],[228,2,228,3],[229,2,229,3],[217,2,217,3],[218,2,218,3],[220,2,220,3],[221,2,221,3],[222,2,222,3],[223,2,223,3],[211,2,211,3],[212,2,212,3],[213,2,213,3],[214,2,214,3],[215,2,215,3],[216,2,216,3],[205,2,205,3],[206,2,206,3],[207,2,207,3],[208,2,208,3],[209,2,209,3],[210,2,210,3],[199,2,199,3],[200,2,200,3],[201,2,201,3],[202,2,202,3],[203,2,203,3],[204,2,204,3],[193,2,193,3],[194,2,194,3],[195,2,195,3],[196,2,196,3],[197,2,197,3],[198,2,198,3],[186,2,186,3],[187,2,187,3],[188,2,188,3],[190,2,190,6],[191,2,191,3],[192,2,192,3],[180,2,180,3],[181,2,181,3],[182,2,182,3],[183,2,183,3],[184,2,184,3],[185,2,185,3],[174,2,174,3],[175,2,175,3],[176,2,176,3],[177,2,177,3],[178,2,178,3],[179,2,179,3],[168,2,168,3],[169,2,169,3],[170,2,170,3],[171,2,171,3],[172,2,172,3],[173,2,173,3],[162,2,162,3],[163,2,163,3],[164,2,164,3],[165,2,165,3],[166,2,166,3],[167,2,167,3],[155,2,155,3],[156,2,156,3],[157,2,157,3],[158,2,158,3],[159,2,159,3],[161,2,161,3],[149,2,149,3],[150,2,150,3],[151,2,151,3],[152,2,152,3],[153,2,153,3],[154,2,154,3],[143,2,143,3],[144,2,144,3],[145,2,145,3],[146,2,146,3],[147,2,147,3],[148,2,148,3],[137,2,137,3],[138,2,138,3],[139,2,139,3],[140,2,140,3],[141,2,141,3],[142,2,142,3],[131,2,131,6],[132,2,132,3],[133,2,133,3],[134,2,134,3],[135,2,135,3],[136,2,136,3],[124,2,124,3],[125,2,125,3],[126,2,126,3],[127,2,127,3],[128,2,128,3],[129,2,129,3],[118,2,118,3],[119,2,119,3],[120,2,120,3],[121,2,121,3],[122,2,122,3],[123,2,123,3],[112,2,112,3],[113,2,113,3],[114,2,114,3],[115,2,115,3],[116,2,116,3],[117,2,117,3],[106,2,106,3],[107,2,107,3],[108,2,108,3],[109,2,109,3],[110,2,110,3],[111,2,111,3],[99,2,99,3],[100,2,100,3],[102,2,102,3],[103,2,103,3],[104,2,104,3],[105,2,105,3],[93,2,93,3],[94,2,94,3],[95,2,95,3],[96,2,96,3],[97,2,97,3],[98,2,98,3],[87,2,87,3],[88,2,88,3],[89,2,89,3],[90,2,90,3],[91,2,91,3],[92,2,92,3],[81,2,81,3],[82,2,82,3],[83,2,83,3],[84,2,84,3],[85,2,85,3],[86,2,86,3],[75,2,75,3],[76,2,76,3],[77,2,77,3],[78,2,78,3],[79,2,79,3],[80,2,80,3],[69,2,69,6],[70,2,70,3],[72,2,72,6],[73,2,73,3],[74,2,74,3],[62,2,62,3],[63,2,63,3],[64,2,64,3],[65,2,65,3],[66,2,66,3],[67,2,67,3],[56,2,56,3],[57,2,57,3],[58,2,58,3],[59,2,59,3],[60,2,60,3],[61,2,61,3],[50,2,50,3],[51,2,51,3],[52,2,52,3],[53,2,53,3],[54,2,54,3],[55,2,55,3],[44,2,44,3],[45,2,45,3],[46,2,46,3],[47,2,47,3],[48,2,48,3],[49,2,49,3],[34,2,34,6],[39,2,39,6],[40,2,40,3],[41,2,41,3],[42,2,42,3],[43,2,43,3],[26,2,26,6],[27,2,27,3],[29,2,29,6],[30,2,30,3],[31,2,31,3],[33,2,33,6],[19,2,19,3],[20,2,20,3],[21,2,21,3],[22,2,22,3],[23,2,23,3],[24,2,24,3],[12,2,12,3],[13,2,13,3],[14,2,14,3],[15,2,15,3],[17,2,17,3],[18,2,18,3],[0,0,0,6],[2,0,2,1],[3,0,3,1],[3,4,3,6],[8,2,8,3],[9,2,9,3],[10,2,10,3],[11,2,11,3]]}
["Položkový rozpočet "]
[]
["Stavba :",null,"3334 Lomnice nad Popelkou - Vodovod a kanalizace",null,"Rozpočet:",{"$f":"'II. 01 II. 01 Rek'!H1","v":"II. 01"}]
["Objekt :",null,"II. 01 Kanalizace",null,{"$f":"'II. 01 II. 01 Rek'!G2","v":"Kanalizace"}]
[]
["P.č.","Číslo položky","Název položky","MJ","množství","cena / MJ","celkem (Kč)","Jednotková hmotnost","Celková hmotnost","Jednotková dem.hmot.","Celková dem.hmot."]
["Díl:","1","Zemní práce",null,null,null,null,null,null,null,null,null,null,null,1]
[1,"113107625R00","Odstranění podkladu nad 50 m2,kam.drcené tl.25 cm ","m2",471.08,null,{"$f":"E8*F8","v":0},0,{"$f":"E8*H8","v":0},-0.55000000000000004,{"$f":"E8*J8","v":-259.09399999999999},null,null,null,2,null,null,null,null,null,null,null,null,null,null,null,1,1,1,null,null,null,null,null,null,null,null,null,null,null,null,null,null,null,null,null,null,null,null,null,null,1,{"$f":"IF(AZ8=1,G8,0)","v":0},{"$f":"IF(AZ8=2,G8,0)","v":0},{"$f":"IF(AZ8=3,G8,0)","v":0},{"$f":"IF(AZ8=4,G8,0)","v":0},{"$f":"IF(AZ8=5,G8,0)","v":0},null,null,null,null,null,null,null,null,null,null,null,null,null,null,null,null,null,null,null,null,null,1,1]
[null,null,"Stoka \"B\" KT DN300 a DN400:",null,0,null,null,null,null,null,null,null,"Stoka \"B\" KT DN300 a DN400:"]
[null,null,"Konstrukce komunikace:164,00*1,25+158,80*1,20+1,60*(1,60-1,25)*11+1,60*(1,60-1,20)*4",null,404.28,null,null,null,null,null,null,null,"Konstrukce komunikace:164,00*1,25+158,80*1,20+1,60*(1,60-1,25)*11+1,60*(1,60-1,20)*4"]
[null,null,"Stoka \"C\" KT DN400:",null,0,null,null,null,null,null,null,null,"Stoka \"C\" KT DN400:"]
[null,null,"Konstrukce komunikace:23,20*1,25+1,60*(1,60-1,25)*1",null,29.56,null,null,null,null,null,null,null,"Konstrukce komunikace:23,20*1,25+1,60*(1,60-1,25)*1"]
[null,null,"Stoka \"D\" KT DN400:",null,0,null,null,null,null,null,null,null,"Stoka \"D\" KT DN400:"]
[null,null,"Konstrukce komunikace:25,10*1,25+1,60*(1,60-1,25)*2",null,32.494999999999997,null,null,null,null,null,null,null,"Konstrukce komunikace:25,10*1,25+1,60*(1,60-1,25)*2"]
[null,null,"Stoka \"G\" KT DN250:",null,0,null,null,null,null,null,null,null,"Stoka \"G\" KT DN250:"]
[null,null,"Konstrukce komunikace:3,50*1,15+1,60*(1,60-1,15)*1",null,4.7450000000000001,null,null,null,null,null,null,null,"Konstrukce komunikace:3,50*1,15+1,60*(1,60-1,15)*1"]
[2,"113108415R00","Odstranění asfaltové vrstvy pl.nad 50 m2, tl.15 cm ","m2",471.08,null,{"$f":"E17*F17","v":0},0,{"$f":"E17*H17","v":0},-0.33,{"$f":"E17*J17","v":-155.4564},null,null,null,2,null,null,null,null,null,null,null,null,null,null,null,1,1,1,null,null,null,null,null,null,null,null,null,null,null,null,null,null,null,null,null,null,null,null,null,null,1,{"$f":"IF(AZ17=1,G17,0)","v":0},{"$f":"IF(AZ17=2,G17,0)","v":0},{"$f":"IF(AZ17=3,G17,0)","v":0},{"$f":"IF(AZ17=4,G17,0)","v":0},{"$f":"IF(AZ17=5,G17,0)","v":0},null,null,null,null,null,null,null,null,null,null,null,null,null,null,null,null,null,null,null,null,null,1,1]
[null,null,"Stoka \"B\" KT DN300 a DN400:",null,0,null,null,null,null,null,null,null,"Stoka \"B\" KT DN300 a DN400:"]
[null,null,"Konstrukce komunikace:164,00*1,25+158,80*1,20+1,60*(1,60-1,25)*11+1,60*(1,60-1,20)*4",null,404.28,null,null,null,null,null,null,null,"Konstrukce komunikace:164,00*1,25+158,80*1,20+1,60*(1,60-1,25)*11+1,60*(1,60-1,20)*4"]
[null,null,"Stoka \"C\" KT DN400:",null,0,null,null,null,null,null,null,null,"Stoka \"C\" KT DN400:"]
[null,null,"Konstrukce komunikace:23,20*1,25+1,60*(1,60-1,25)*1",null,29.56,null,null,null,null,null,null,null,"Konstrukce komunikace:23,20*1,25+1,60*(1,60-1,25)*1"]
[null,null,"Stoka \"D\" KT DN400:",null,0,null,null,null,null,null,null,null,"Stoka \"D\" KT DN400:"]
[null,null,"Konstrukce komunikace:25,10*1,25+1,60*(1,60-1,25)*2",null,32.494999999999997,null,null,null,null,null,null,null,"Konstrukce komunikace:25,10*1,25+1,60*(1,60-1,25)*2"]
[null,null,"Stoka \"G\" KT DN250:",null,0,null,null,null,null,null,null,null,"Stoka \"G\" KT DN250:"]
[null,null,"Konstrukce komunikace:3,50*1,15+1,60*(1,60-1,15)*1",null,4.7450000000000001,null,null,null,null,null,null,null,"Konstrukce komunikace:3,50*1,15+1,60*(1,60-1,15)*1"]
[3,"114211103R00","Odstranění betonových trub do DN 300 mm, ve výkopu ","m",5,null,{"$f":"E26*F26","v":0},0,{"$f":"E26*H26","v":0},-0.10150000000000001,{"$f":"E26*J26","v":-0.50750000000000006},null,null,null,2,null,null,null,null,null,null,null,null,null,null,null,1,1,1,null,null,null,null,null,null,null,null,null,null,null,null,null,null,null,null,null,null,null,null,null,null,1,{"$f":"IF(AZ26=1,G26,0)","v":0},{"$f":"IF(AZ26=2,G26,0)","v":0},{"$f":"IF(AZ26=3,G26,0)","v":0},{"$f":"IF(AZ26=4,G26,0)","v":0},{"$f":"IF(AZ26=5,G26,0)","v":0},null,null,null,null,null,null,null,null,null,null,null,null,null,null,null,null,null,null,null,null,null,1,1]
[null,null,"Položka obsahuje odstranění materiálu obklopujícího potrubí v míře nutné pro vyzvednutí, rozpojení trub, uchopení a vyzvednutí trub z výkopu a uložení na dopravní prostředek včetně odvozu na skládku zhotovitele a poplatek za skládku.",null,null,null,null,null,null,null,null,"Položka obsahuje odstranění materiálu obklopujícího potrubí v míře nutné pro vyzvednutí, rozpojení trub, uchopení a vyzvednutí trub z výkopu a uložení na dopravní prostředek včetně odvozu na skládku zhotovitele a poplatek za skládku.",null,null,3]
[null,null,"Stávající potrubí KT DN300:5,00",null,5,null,null,null,null,null,null,null,"Stávající potrubí KT DN300:5,00"]
[4,"114211105R00","Odstranění betonových trub do DN 500 mm, ve výkopu ","m",14,null,{"$f":"E29*F29","v":0},0,{"$f":"E29*H29","v":0},-0.40799999999999997,{"$f":"E29*J29","v":-5.7119999999999997},null,null,null,2,null,null,null,null,null,null,null,null,null,null,null,1,1,1,null,null,null,null,null,null,null,null,null,null,null,null,null,null,null,null,null,null,null,null,null,null,1,{"$f":"IF(AZ29=1,G29,0)","v":0},{"$f":"IF(AZ29=2,G29,0)","v":0},{"$f":"IF(AZ29=3,G29,0)","v":0},{"$f":"IF(AZ29=4,G29,0)","v":0},{"$f":"IF(AZ29=5,G29,0)","v":0},null,null,null,null,null,null,null,null,null,null,null,null,null,null,null,null,null,null,null,null,null,1,1]
[null,null,"Položka obsahuje odstranění materiálu obklopujícího potrubí v míře nutné pro vyzvednutí, rozpojení trub, uchopení a vyzvednutí trub z výkopu a uložení na dopravní prostředek včetně odvozu na skládku zhotovitele a poplatek za skládku.",null,null,null,null,null,null,null,null,"Položka obsahuje odstranění materiálu obklopujícího potrubí v míře nutné pro vyzvednutí, rozpojení trub, uchopení a vyzvednutí trub z výkopu a uložení na dopravní prostředek včetně odvozu na skládku zhotovitele a poplatek za skládku.",null,null,3]
[null,null,"Stávající potrubí KT DN400:10,00",null,10,null,null,null,null,null,null,null,"Stávající potrubí KT DN400:10,00"]
[null,null,"                           BE DN400:4,00",null,4,null,null,null,null,null,null,null,"                           BE DN400:4,00"]
[5,"115101201RRX","Přečerpávání nebo převedení splašků a dešť. vod ","h",450,null,{"$f":"E33*F33","v":0},0,{"$f":"E33*H33","v":0},0,{"$f":"E33*J33","v":0},null,null,null,2,null,null,null,null,null,null,null,null,null,null,null,1,1,1,null,null,null,null,null,null,null,null,null,null,null,null,null,null,null,null,null,null,null,null,null,null,1,{"$f":"IF(AZ33=1,G33,0)","v":0},{"$f":"IF(AZ33=2,G33,0)","v":0},{"$f":"IF(AZ33=3,G33,0)","v":0},{"$f":"IF(AZ33=4,G33,0)","v":0},{"$f":"IF(AZ33=5,G33,0)","v":0},null,null,null,null,null,null,null,null,null,null,null,null,null,null,null,null,null,null,null,null,null,1,1]
[null,null,"Převedení a čerpání splašků nebo dešťových vod dle zvolené technologie zhotovitele stavby.",null,null,null,null,null,null,null,null,"Převedení a čerpání splašků nebo dešťových vod dle zvolené technologie zhotovitele stavby.",null,null,3]
[null,null,"(Množství bude určeno na stavbě dle skutečnosti)",null,null,null,null,null,null,null,null,"(Množství bude určeno na stavbě dle skutečnosti)",null,null,3]
[6,"119001401R00","Dočasné zajištění ocelového potrubí do DN 200 mm ","m",72.599999999999994,null,{"$f":"E36*F36","v":0},8.6899999999999998E-3,{"$f":"E36*H36","v":0.63089399999999995},0,{"$f":"E36*J36","v":0},null,null,null,2,null,null,null,null,null,null,null,null,null,null,null,1,1,1,null,null,null,null,null,null,null,null,null,null,null,null,null,null,null,null,null,null,null,null,null,null,1,{"$f":"IF(AZ36=1,G36,0)","v":0},{"$f":"IF(AZ36=2,G36,0)","v":0},{"$f":"IF(AZ36=3,G36,0)","v":0},{"$f":"IF(AZ36=4,G36,0)","v":0},{"$f":"IF(AZ36=5,G36,0)","v":0},null,null,null,null,null,null,null,null,null,null,null,null,null,null,null,null,null,null,null,null,null,1,1]
[7,"119001402R00","Dočasné zajištění ocelového potrubí DN 200-500 mm ","m",6.8,null,{"$f":"E37*F37","v":0},1.2710000000000001E-2,{"$f":"E37*H37","v":8.6428000000000005E-2},0,{"$f":"E37*J37","v":0},null,null,null,2,null,null,null,null,null,null,null,null,null,null,null,1,1,1,null,null,null,null,null,null,null,null,null,null,null,null,null,null,null,null,null,null,null,null,null,null,1,{"$f":"IF(AZ37=1,G37,0)","v":0},{"$f":"IF(AZ37=2,G37,0)","v":0},{"$f":"IF(AZ37=3,G37,0)","v":0},{"$f":"IF(AZ37=4,G37,0)","v":0},{"$f":"IF(AZ37=5,G37,0)","v":0},null,null,null,null,null,null,null,null,null,null,null,null,null,null,null,null,null,null,null,null,null,1,1]
[8,"119001422R00","Dočasné zajištění kabelů - v počtu 3 - 6 kabelů ","m",58.45,null,{"$f":"E38*F38","v":0},3.9739999999999998E-2,{"$f":"E38*H38","v":2.322803},0,{"$f":"E38*J38","v":0},null,null,null,2,null,null,null,null,null,null,null,null,null,null,null,1,1,1,null,null,null,null,null,null,null,null,null,null,null,null,null,null,null,null,null,null,null,null,null,null,1,{"$f":"IF(AZ38=1,G38,0)","v":0},{"$f":"IF(AZ38=2,G38,0)","v":0},{"$f":"IF(AZ38=3,G38,0)","v":0},{"$f":"IF(AZ38=4,G38,0)","v":0},{"$f":"IF(AZ38=5,G38,0)","v":0},null,null,null,null,null,null,null,null,null,null,null,null,null,null,null,null,null,null,null,null,null,1,1]
[9,"130001101RRX","Příplatek za ztížené hloubení v blízkosti vedení ","m3",282.35939999999999,null,{"$f":"E39*F39","v":0},0,{"$f":"E39*H39","v":0},0,{"$f":"E39*J39","v":0},null,null,null,2,null,null,null,null,null,null,null,null,null,null,null,1,1,1,null,null,null,null,null,null,null,null,null,null,null,null,null,null,null,null,null,null,null,null,null,null,1,{"$f":"IF(AZ39=1,G39,0)","v":0},{"$f":"IF(AZ39=2,G39,0)","v":0},{"$f":"IF(AZ39=3,G39,0)","v":0},{"$f":"IF(AZ39=4,G39,0)","v":0},{"$f":"IF(AZ39=5,G39,0)","v":0},null,null,null,null,null,null,null,null,null,null,null,null,null,null,null,null,null,null,null,null,null,1,1]
[null,null,"Včetně případných nutných dokopávem a ručního výkopu podél sousedících inženýrských sítí",null,null,null,null,null,null,null,null,"Včetně případných nutných dokopávem a ručního výkopu podél sousedících inženýrských sítí",null,null,3]
[null,null,"Začátek provozního součtu",null,0,null,null,null,null,null,null,null,"Začátek provozního součtu"]
[null,null,"Stoka \"B\" KT DN300 a DN400:31,30*1,25*(3,15+2,45)/2",null,109.55,null,null,null,null,null,null,null,"Stoka \"B\" KT DN300 a DN400:31,30*1,25*(3,15+2,45)/2"]
[null,null,"(109,50-31,30)*1,25*(2,45+2,41)/2",null,237.5325,null,null,null,null,null,null,null,"(109,50-31,30)*1,25*(2,45+2,41)/2"]
[null,null,"(152,80-109,50)*1,25*(2,41+2,50)/2",null,132.87690000000001,null,null,null,null,null,null,null,"(152,80-109,50)*1,25*(2,41+2,50)/2"]
[null,null,"(164,00-152,80)*1,25*(2,50+2,50)/2",null,35,null,null,null,null,null,null,null,"(164,00-152,80)*1,25*(2,50+2,50)/2"]
[null,null,"(213,60-164,00)*1,20*(2,50+2,25)/2",null,141.36000000000001,null,null,null,null,null,null,null,"(213,60-164,00)*1,20*(2,50+2,25)/2"]
[null,null,"(274,30-213,60)*1,20*(2,25+2,87)/2",null,186.47040000000001,null,null,null,null,null,null,null,"(274,30-213,60)*1,20*(2,25+2,87)/2"]
[null,null,"(322,80-274,30)*1,20*(2,87+2,15)/2",null,146.08199999999999,null,null,null,null,null,null,null,"(322,80-274,30)*1,20*(2,87+2,15)/2"]
[null,null,"Prohloubení pro RŠ:1,60*1,60*0,20*11",null,5.6319999999999997,null,null,null,null,null,null,null,"Prohloubení pro RŠ:1,60*1,60*0,20*11"]
[null,null,"Rozšíření pro RŠ:1,60*(1,60-1,25)*18,02+1,60*(1,60-1,20)*9,59",null,16.2288,null,null,null,null,null,null,null,"Rozšíření pro RŠ:1,60*(1,60-1,25)*18,02+1,60*(1,60-1,20)*9,59"]
[null,null,"Odpočet konstrukce komunikace:-(164,00*1,25+158,80*1,20+1,60*(1,60-1,25)*11+1,60*(1,60-1,20)*4)*0,40",null,-161.71199999999999,null,null,null,null,null,null,null,"Odpočet konstrukce komunikace:-(164,00*1,25+158,80*1,20+1,60*(1,60-1,25)*11+1,60*(1,60-1,20)*4)*0,40"]
[null,null,"Stoka \"C\" KT DN400:23,20*1,25*(2,50+1,97)/2",null,64.814999999999998,null,null,null,null,null,null,null,"Stoka \"C\" KT DN400:23,20*1,25*(2,50+1,97)/2"]
[null,null,"Prohloubení pro RŠ:1,60*1,60*0,20*1",null,0.51200000000000001,null,null,null,null,null,null,null,"Prohloubení pro RŠ:1,60*1,60*0,20*1"]
[null,null,"Rozšíření pro RŠ:1,60*(1,60-1,25)*1,97",null,1.1032,null,null,null,null,null,null,null,"Rozšíření pro RŠ:1,60*(1,60-1,25)*1,97"]
[null,null,"Odpočet konstrukce komunikace:-(23,20*1,25+1,60*(1,60-1,25)*1)*0,40",null,-11.824,null,null,null,null,null,null,null,"Odpočet konstrukce komunikace:-(23,20*1,25+1,60*(1,60-1,25)*1)*0,40"]
[null,null,"Stoka \"D\" KT DN400:5,10*1,25*(2,50+2,11)/2",null,14.6944,null,null,null,null,null,null,null,"Stoka \"D\" KT DN400:5,10*1,25*(2,50+2,11)/2"]
[null,null,"(7,90-5,10)*1,25*(2,11+2,11)/2",null,7.3849999999999998,null,null,null,null,null,null,null,"(7,90-5,10)*1,25*(2,11+2,11)/2"]
[null,null,"(16,00-7,90)*1,25*(2,11+2,09)/2",null,21.262499999999999,null,null,null,null,null,null,null,"(16,00-7,90)*1,25*(2,11+2,09)/2"]
[null,null,"(25,10-16,00)*1,25*(2,09+2,48)/2",null,25.991900000000001,null,null,null,null,null,null,null,"(25,10-16,00)*1,25*(2,09+2,48)/2"]
[null,null,"Prohloubení pro RŠ:1,60*1,60*0,20*2",null,1.024,null,null,null,null,null,null,null,"Prohloubení pro RŠ:1,60*1,60*0,20*2"]
[null,null,"Rozšíření pro RŠ:1,60*(1,60-1,25)*4,93",null,2.7608000000000001,null,null,null,null,null,null,null,"Rozšíření pro RŠ:1,60*(1,60-1,25)*4,93"]
[null,null,"Odpočet konstrukce komunikace:-(25,10*1,25+1,60*(1,60-1,25)*2)*0,40",null,-12.997999999999999,null,null,null,null,null,null,null,"Odpočet konstrukce komunikace:-(25,10*1,25+1,60*(1,60-1,25)*2)*0,40"]
[null,null,"Stoka \"G\" KT DN250:3,50*1,15*(2,42+2,35)/2",null,9.5996000000000006,null,null,null,null,null,null,null,"Stoka \"G\" KT DN250:3,50*1,15*(2,42+2,35)/2"]
[null,null,"Prohloubení pro RŠ:1,60*1,60*0,20*1",null,0.51200000000000001,null,null,null,null,null,null,null,"Prohloubení pro RŠ:1,60*1,60*0,20*1"]
[null,null,"Rozšíření pro RŠ:1,60*(1,60-1,15)*2,35",null,1.6919999999999999,null,null,null,null,null,null,null,"Rozšíření pro RŠ:1,60*(1,60-1,15)*2,35"]
[null,null,"Odpočet konstrukce komunikace:-(3,50*1,15+1,60*(1,60-1,15)*1)*0,40",null,-1.8979999999999999,null,null,null,null,null,null,null,"Odpočet konstrukce komunikace:-(3,50*1,15+1,60*(1,60-1,15)*1)*0,40"]
[null,null,"Konec provozního součtu",null,973.65299999999979,null,null,null,null,null,null,null,"Konec provozního součtu"]
[null,null,"V hornině tř. 3 - 5 - 29%:973,6530*0,29",null,282.35939999999999,null,null,null,null,null,null,null,"V hornině tř. 3 - 5 - 29%:973,6530*0,29"]
[10,"130901123RT3","Bourání konstrukcí ze železobetonu ve vykopávkách bagrem s kladivem","m3",11.452500000000001,null,{"$f":"E69*F69","v":0},0,{"$f":"E69*H69","v":0},0,{"$f":"E69*J69","v":0},null,null,null,2,null,null,null,null,null,null,null,null,null,null,null,1,1,1,null,null,null,null,null,null,null,null,null,null,null,null,null,null,null,null,null,null,null,null,null,null,1,{"$f":"IF(AZ69=1,G69,0)","v":0},{"$f":"IF(AZ69=2,G69,0)","v":0},{"$f":"IF(AZ69=3,G69,0)","v":0},{"$f":"IF(AZ69=4,G69,0)","v":0},{"$f":"IF(AZ69=5,G69,0)","v":0},null,null,null,null,null,null,null,null,null,null,null,null,null,null,null,null,null,null,null,null,null,1,1]
[null,null,"Položka obsahuje odstranění materiálu obklopujícího betonové a železobetonové konstrukce v míře nutné pro vyzvednutí, rozpojení konstrukcí, uchopení a vyzvednutí konstrukce z výkopu a uložení na dopravní prostředek včetně odvozu na skládku zhotovitele a poplatek za skládku.",null,null,null,null,null,null,null,null,"Položka obsahuje odstranění materiálu obklopujícího betonové a železobetonové konstrukce v míře nutné pro vyzvednutí, rozpojení konstrukcí, uchopení a vyzvednutí konstrukce z výkopu a uložení na dopravní prostředek včetně odvozu na skládku zhotovitele a poplatek za skládku.",null,null,3]
[null,null,"Stávající šachy (2x celá a 10x část):11,4525",null,11.452500000000001,null,null,null,null,null,null,null,"Stávající šachy (2x celá a 10x část):11,4525"]
[11,"132201212R00","Hloubení rýh š.do 200 cm hor.3 do 1000m3,STROJNĚ ","m3",438.14389999999997,null,{"$f":"E72*F72","v":0},0,{"$f":"E72*H72","v":0},0,{"$f":"E72*J72","v":0},null,null,null,2,null,null,null,null,null,null,null,null,null,null,null,1,1,1,null,null,null,null,null,null,null,null,null,null,null,null,null,null,null,null,null,null,null,null,null,null,1,{"$f":"IF(AZ72=1,G72,0)","v":0},{"$f":"IF(AZ72=2,G72,0)","v":0},{"$f":"IF(AZ72=3,G72,0)","v":0},{"$f":"IF(AZ72=4,G72,0)","v":0},{"$f":"IF(AZ72=5,G72,0)","v":0},null,null,null,null,null,null,null,null,null,null,null,null,null,null,null,null,null,null,null,null,null,1,1]
[null,null,"Položka obsahuje hloubení rýh traktorbagrem, naložení výkopku na dopravní prostředek pro svislé, nebo vodorovné přemístění, popř. přemístění výkopku do 3 m (po povrchu území), případné zajištění rypadel polštáři, udržování pracoviště a ochranu výkopiště proti stékání srážkové vody z okolního terénu i s jejím odvodněním, nebo odvedením, přesekání a odstranění kořenů ve výkopišti, odstranění napadávek, urovnání dna výkopu.",null,null,null,null,null,null,null,null,"Položka obsahuje hloubení rýh traktorbagrem, naložení výkopku na dopravní prostředek pro svislé, nebo vodorovné přemístění, popř. přemístění výkopku do 3 m (po povrchu území), případné zajištění rypadel polštáři, udržování pracoviště a ochranu výkopiště proti stékání srážkové vody z okolního terénu i s jejím odvodněním, nebo odvedením, přesekání a odstranění kořenů ve výkopišti, odstranění napadávek, urovnání dna výkopu.",null,null,3]
[null,null,"Začátek provozního součtu",null,0,null,null,null,null,null,null,null,"Začátek provozního součtu"]
[null,null,"Stoka \"B\" KT DN300 a DN400:31,30*1,25*(3,15+2,45)/2",null,109.55,null,null,null,null,null,null,null,"Stoka \"B\" KT DN300 a DN400:31,30*1,25*(3,15+2,45)/2"]
[null,null,"(109,50-31,30)*1,25*(2,45+2,41)/2",null,237.5325,null,null,null,null,null,null,null,"(109,50-31,30)*1,25*(2,45+2,41)/2"]
[null,null,"(152,80-109,50)*1,25*(2,41+2,50)/2",null,132.87690000000001,null,null,null,null,null,null,null,"(152,80-109,50)*1,25*(2,41+2,50)/2"]
[null,null,"(164,00-152,80)*1,25*(2,50+2,50)/2",null,35,null,null,null,null,null,null,null,"(164,00-152,80)*1,25*(2,50+2,50)/2"]
[null,null,"(213,60-164,00)*1,20*(2,50+2,25)/2",null,141.36000000000001,null,null,null,null,null,null,null,"(213,60-164,00)*1,20*(2,50+2,25)/2"]
[null,null,"(274,30-213,60)*1,20*(2,25+2,87)/2",null,186.47040000000001,null,null,null,null,null,null,null,"(274,30-213,60)*1,20*(2,25+2,87)/2"]
[null,null,"(322,80-274,30)*1,20*(2,87+2,15)/2",null,146.08199999999999,null,null,null,null,null,null,null,"(322,80-274,30)*1,20*(2,87+2,15)/2"]
[null,null,"Prohloubení pro RŠ:1,60*1,60*0,20*11",null,5.6319999999999997,null,null,null,null,null,null,null,"Prohloubení pro RŠ:1,60*1,60*0,20*11"]
[null,null,"Rozšíření pro RŠ:1,60*(1,60-1,25)*18,02+1,60*(1,60-1,20)*9,59",null,16.2288,null,null,null,null,null,null,null,"Rozšíření pro RŠ:1,60*(1,60-1,25)*18,02+1,60*(1,60-1,20)*9,59"]
[null,null,"Odpočet konstrukce komunikace:-(164,00*1,25+158,80*1,20+1,60*(1,60-1,25)*11+1,60*(1,60-1,20)*4)*0,40",null,-161.71199999999999,null,null,null,null,null,null,null,"Odpočet konstrukce komunikace:-(164,00*1,25+158,80*1,20+1,60*(1,60-1,25)*11+1,60*(1,60-1,20)*4)*0,40"]
[null,null,"Stoka \"C\" KT DN400:23,20*1,25*(2,50+1,97)/2",null,64.814999999999998,null,null,null,null,null,null,null,"Stoka \"C\" KT DN400:23,20*1,25*(2,50+1,97)/2"]
[null,null,"Prohloubení pro RŠ:1,60*1,60*0,20*1",null,0.51200000000000001,null,null,null,null,null,null,null,"Prohloubení pro RŠ:1,60*1,60*0,20*1"]
[null,null,"Rozšíření pro RŠ:1,60*(1,60-1,25)*1,97",null,1.1032,null,null,null,null,null,null,null,"Rozšíření pro RŠ:1,60*(1,60-1,25)*1,97"]
[null,null,"Odpočet konstrukce komunikace:-(23,20*1,25+1,60*(1,60-1,25)*1)*0,40",null,-11.824,null,null,null,null,null,null,null,"Odpočet konstrukce komunikace:-(23,20*1,25+1,60*(1,60-1,25)*1)*0,40"]
[null,null,"Stoka \"D\" KT DN400:5,10*1,25*(2,50+2,11)/2",null,14.6944,null,null,null,null,null,null,null,"Stoka \"D\" KT DN400:5,10*1,25*(2,50+2,11)/2"]
[null,null,"(7,90-5,10)*1,25*(2,11+2,11)/2",null,7.3849999999999998,null,null,null,null,null,null,null,"(7,90-5,10)*1,25*(2,11+2,11)/2"]
[null,null,"(16,00-7,90)*1,25*(2,11+2,09)/2",null,21.262499999999999,null,null,null,null,null,null,null,"(16,00-7,90)*1,25*(2,11+2,09)/2"]
[null,null,"(25,10-16,00)*1,25*(2,09+2,48)/2",null,25.991900000000001,null,null,null,null,null,null,null,"(25,10-16,00)*1,25*(2,09+2,48)/2"]
[null,null,"Prohloubení pro RŠ:1,60*1,60*0,20*2",null,1.024,null,null,null,null,null,null,null,"Prohloubení pro RŠ:1,60*1,60*0,20*2"]
[null,null,"Rozšíření pro RŠ:1,60*(1,60-1,25)*4,93",null,2.7608000000000001,null,null,null,null,null,null,null,"Rozšíření pro RŠ:1,60*(1,60-1,25)*4,93"]
[null,null,"Odpočet konstrukce komunikace:-(25,10*1,25+1,60*(1,60-1,25)*2)*0,40",null,-12.997999999999999,null,null,null,null,null,null,null,"Odpočet konstrukce komunikace:-(25,10*1,25+1,60*(1,60-1,25)*2)*0,40"]
[null,null,"Stoka \"G\" KT DN250:3,50*1,15*(2,42+2,35)/2",null,9.5996000000000006,null,null,null,null,null,null,null,"Stoka \"G\" KT DN250:3,50*1,15*(2,42+2,35)/2"]
[null,null,"Prohloubení pro RŠ:1,60*1,60*0,20*1",null,0.51200000000000001,null,null,null,null,null,null,null,"Prohloubení pro RŠ:1,60*1,60*0,20*1"]
[null,null,"Rozšíření pro RŠ:1,60*(1,60-1,15)*2,35",null,1.6919999999999999,null,null,null,null,null,null,null,"Rozšíření pro RŠ:1,60*(1,60-1,15)*2,35"]
[null,null,"Odpočet konstrukce komunikace:-(3,50*1,15+1,60*(1,60-1,15)*1)*0,40",null,-1.8979999999999999,null,null,null,null,null,null,null,"Odpočet konstrukce komunikace:-(3,50*1,15+1,60*(1,60-1,15)*1)*0,40"]
[null,null,"Konec provozního součtu",null,973.65299999999979,null,null,null,null,null,null,null,"Konec provozního součtu"]
[null,null,"V hornině tř. 3 - 45%:973,6530*0,45",null,438.14389999999997,null,null,null,null,null,null,null,"V hornině tř. 3 - 45%:973,6530*0,45"]
[12,"132201219R00","Přípl.za lepivost,hloubení rýh 200cm,hor.3,STROJNĚ ","m3",219.0719,null,{"$f":"E102*F102","v":0},0,{"$f":"E102*H102","v":0},0,{"$f":"E102*J102","v":0},null,null,null,2,null,null,null,null,null,null,null,null,null,null,null,1,1,1,null,null,null,null,null,null,null,null,null,null,null,null,null,null,null,null,null,null,null,null,null,null,1,{"$f":"IF(AZ102=1,G102,0)","v":0},{"$f":"IF(AZ102=2,G102,0)","v":0},{"$f":"IF(AZ102=3,G102,0)","v":0},{"$f":"IF(AZ102=4,G102,0)","v":0},{"$f":"IF(AZ102=5,G102,0)","v":0},null,null,null,null,null,null,null,null,null,null,null,null,null,null,null,null,null,null,null,null,null,1,1]
[null,null,"Začátek provozního součtu",null,0,null,null,null,null,null,null,null,"Začátek provozního součtu"]
[null,null,"Stoka \"B\" KT DN300 a DN400:31,30*1,25*(3,15+2,45)/2",null,109.55,null,null,null,null,null,null,null,"Stoka \"B\" KT DN300 a DN400:31,30*1,25*(3,15+2,45)/2"]
[null,null,"(109,50-31,30)*1,25*(2,45+2,41)/2",null,237.5325,null,null,null,null,null,null,null,"(109,50-31,30)*1,25*(2,45+2,41)/2"]
[null,null,"(152,80-109,50)*1,25*(2,41+2,50)/2",null,132.87690000000001,null,null,null,null,null,null,null,"(152,80-109,50)*1,25*(2,41+2,50)/2"]
[null,null,"(164,00-152,80)*1,25*(2,50+2,50)/2",null,35,null,null,null,null,null,null,null,"(164,00-152,80)*1,25*(2,50+2,50)/2"]
[null,null,"(213,60-164,00)*1,20*(2,50+2,25)/2",null,141.36000000000001,null,null,null,null,null,null,null,"(213,60-164,00)*1,20*(2,50+2,25)/2"]
[null,null,"(274,30-213,60)*1,20*(2,25+2,87)/2",null,186.47040000000001,null,null,null,null,null,null,null,"(274,30-213,60)*1,20*(2,25+2,87)/2"]
[null,null,"(322,80-274,30)*1,20*(2,87+2,15)/2",null,146.08199999999999,null,null,null,null,null,null,null,"(322,80-274,30)*1,20*(2,87+2,15)/2"]
[null,null,"Prohloubení pro RŠ:1,60*1,60*0,20*11",null,5.6319999999999997,null,null,null,null,null,null,null,"Prohloubení pro RŠ:1,60*1,60*0,20*11"]
[null,null,"Rozšíření pro RŠ:1,60*(1,60-1,25)*18,02+1,60*(1,60-1,20)*9,59",null,16.2288,null,null,null,null,null,null,null,"Rozšíření pro RŠ:1,60*(1,60-1,25)*18,02+1,60*(1,60-1,20)*9,59"]
[null,null,"Odpočet konstrukce komunikace:-(164,00*1,25+158,80*1,20+1,60*(1,60-1,25)*11+1,60*(1,60-1,20)*4)*0,40",null,-161.71199999999999,null,null,null,null,null,null,null,"Odpočet konstrukce komunikace:-(164,00*1,25+158,80*1,20+1,60*(1,60-1,25)*11+1,60*(1,60-1,20)*4)*0,40"]
[null,null,"Stoka \"C\" KT DN400:23,20*1,25*(2,50+1,97)/2",null,64.814999999999998,null,null,null,null,null,null,null,"Stoka \"C\" KT DN400:23,20*1,25*(2,50+1,97)/2"]
[null,null,"Prohloubení pro RŠ:1,60*1,60*0,20*1",null,0.51200000000000001,null,null,null,null,null,null,null,"Prohloubení pro RŠ:1,60*1,60*0,20*1"]
[null,null,"Rozšíření pro RŠ:1,60*(1,60-1,25)*1,97",null,1.1032,null,null,null,null,null,null,null,"Rozšíření pro RŠ:1,60*(1,60-1,25)*1,97"]
[null,null,"Odpočet konstrukce komunikace:-(23,20*1,25+1,60*(1,60-1,25)*1)*0,40",null,-11.824,null,null,null,null,null,null,null,"Odpočet konstrukce komunikace:-(23,20*1,25+1,60*(1,60-1,25)*1)*0,40"]
[null,null,"Stoka \"D\" KT DN400:5,10*1,25*(2,50+2,11)/2",null,14.6944,null,null,null,null,null,null,null,"Stoka \"D\" KT DN400:5,10*1,25*(2,50+2,11)/2"]
[null,null,"(7,90-5,10)*1,25*(2,11+2,11)/2",null,7.3849999999999998,null,null,null,null,null,null,null,"(7,90-5,10)*1,25*(2,11+2,11)/2"]
[null,null,"(16,00-7,90)*1,25*(2,11+2,09)/2",null,21.262499999999999,null,null,null,null,null,null,null,"(16,00-7,90)*1,25*(2,11+2,09)/2"]
[null,null,"(25,10-16,00)*1,25*(2,09+2,48)/2",null,25.991900000000001,null,null,null,null,null,null,null,"(25,10-16,00)*1,25*(2,09+2,48)/2"]
[null,null,"Prohloubení pro RŠ:1,60*1,60*0,20*2",null,1.024,null,null,null,null,null,null,null,"Prohloubení pro RŠ:1,60*1,60*0,20*2"]
[null,null,"Rozšíření pro RŠ:1,60*(1,60-1,25)*4,93",null,2.7608000000000001,null,null,null,null,null,null,null,"Rozšíření pro RŠ:1,60*(1,60-1,25)*4,93"]
[null,null,"Odpočet konstrukce komunikace:-(25,10*1,25+1,60*(1,60-1,25)*2)*0,40",null,-12.997999999999999,null,null,null,null,null,null,null,"Odpočet konstrukce komunikace:-(25,10*1,25+1,60*(1,60-1,25)*2)*0,40"]
[null,null,"Stoka \"G\" KT DN250:3,50*1,15*(2,42+2,35)/2",null,9.5996000000000006,null,null,null,null,null,null,null,"Stoka \"G\" KT DN250:3,50*1,15*(2,42+2,35)/2"]
[null,null,"Prohloubení pro RŠ:1,60*1,60*0,20*1",null,0.51200000000000001,null,null,null,null,null,null,null,"Prohloubení pro RŠ:1,60*1,60*0,20*1"]
[null,null,"Rozšíření pro RŠ:1,60*(1,60-1,15)*2,35",null,1.6919999999999999,null,null,null,null,null,null,null,"Rozšíření pro RŠ:1,60*(1,60-1,15)*2,35"]
[null,null,"Odpočet konstrukce komunikace:-(3,50*1,15+1,60*(1,60-1,15)*1)*0,40",null,-1.8979999999999999,null,null,null,null,null,null,null,"Odpočet konstrukce komunikace:-(3,50*1,15+1,60*(1,60-1,15)*1)*0,40"]
[null,null,"Konec provozního součtu",null,973.65299999999979,null,null,null,null,null,null,null,"Konec provozního součtu"]
[null,null,"V hornině tř. 3 - 45%:973,6530*0,45*0,5",null,219.0719,null,null,null,null,null,null,null,"V hornině tř. 3 - 45%:973,6530*0,45*0,5"]
[13,"132301212R00","Hloubení rýh š.do 200 cm hor.4 do 1000 m3, STROJNĚ ","m3",438.14389999999997,null,{"$f":"E131*F131","v":0},0,{"$f":"E131*H131","v":0},0,{"$f":"E131*J131","v":0},null,null,null,2,null,null,null,null,null,null,null,null,null,null,null,1,1,1,null,null,null,null,null,null,null,null,null,null,null,null,null,null,null,null,null,null,null,null,null,null,1,{"$f":"IF(AZ131=1,G131,0)","v":0},{"$f":"IF(AZ131=2,G131,0)","v":0},{"$f":"IF(AZ131=3,G131,0)","v":0},{"$f":"IF(AZ131=4,G131,0)","v":0},{"$f":"IF(AZ131=5,G131,0)","v":0},null,null,null,null,null,null,null,null,null,null,null,null,null,null,null,null,null,null,null,null,null,1,1]
[null,null,"Položka obsahuje hloubení rýh traktorbagrem, naložení výkopku na dopravní prostředek pro svislé, nebo vodorovné přemístění, popř. přemístění výkopku do 3 m (po povrchu území), případné zajištění rypadel polštáři, udržování pracoviště a ochranu výkopiště proti stékání srážkové vody z okolního terénu i s jejím odvodněním, nebo odvedením, přesekání a odstranění kořenů ve výkopišti, odstranění napadávek, urovnání dna výkopu.",null,null,null,null,null,null,null,null,"Položka obsahuje hloubení rýh traktorbagrem, naložení výkopku na dopravní prostředek pro svislé, nebo vodorovné přemístění, popř. přemístění výkopku do 3 m (po povrchu území), případné zajištění rypadel polštáři, udržování pracoviště a ochranu výkopiště proti stékání srážkové vody z okolního terénu i s jejím odvodněním, nebo odvedením, přesekání a odstranění kořenů ve výkopišti, odstranění napadávek, urovnání dna výkopu.",null,null,3]
[null,null,"Začátek provozního součtu",null,0,null,null,null,null,null,null,null,"Začátek provozního součtu"]
[null,null,"Stoka \"B\" KT DN300 a DN400:31,30*1,25*(3,15+2,45)/2",null,109.55,null,null,null,null,null,null,null,"Stoka \"B\" KT DN300 a DN400:31,30*1,25*(3,15+2,45)/2"]
[null,null,"(109,50-31,30)*1,25*(2,45+2,41)/2",null,237.5325,null,null,null,null,null,null,null,"(109,50-31,30)*1,25*(2,45+2,41)/2"]
[null,null,"(152,80-109,50)*1,25*(2,41+2,50)/2",null,132.87690000000001,null,null,null,null,null,null,null,"(152,80-109,50)*1,25*(2,41+2,50)/2"]
[null,null,"(164,00-152,80)*1,25*(2,50+2,50)/2",null,35,null,null,null,null,null,null,null,"(164,00-152,80)*1,25*(2,50+2,50)/2"]
[null,null,"(213,60-164,00)*1,20*(2,50+2,25)/2",null,141.36000000000001,null,null,null,null,null,null,null,"(213,60-164,00)*1,20*(2,50+2,25)/2"]
[null,null,"(274,30-213,60)*1,20*(2,25+2,87)/2",null,186.47040000000001,null,null,null,null,null,null,null,"(274,30-213,60)*1,20*(2,25+2,87)/2"]
[null,null,"(322,80-274,30)*1,20*(2,87+2,15)/2",null,146.08199999999999,null,null,null,null,null,null,null,"(322,80-274,30)*1,20*(2,87+2,15)/2"]
[null,null,"Prohloubení pro RŠ:1,60*1,60*0,20*11",null,5.6319999999999997,null,null,null,null,null,null,null,"Prohloubení pro RŠ:1,60*1,60*0,20*11"]
[null,null,"Rozšíření pro RŠ:1,60*(1,60-1,25)*18,02+1,60*(1,60-1,20)*9,59",null,16.2288,null,null,null,null,null,null,null,"Rozšíření pro RŠ:1,60*(1,60-1,25)*18,02+1,60*(1,60-1,20)*9,59"]
[null,null,"Odpočet konstrukce komunikace:-(164,00*1,25+158,80*1,20+1,60*(1,60-1,25)*11+1,60*(1,60-1,20)*4)*0,40",null,-161.71199999999999,null,null,null,null,null,null,null,"Odpočet konstrukce komunikace:-(164,00*1,25+158,80*1,20+1,60*(1,60-1,25)*11+1,60*(1,60-1,20)*4)*0,40"]
[null,null,"Stoka \"C\" KT DN400:23,20*1,25*(2,50+1,97)/2",null,64.814999999999998,null,null,null,null,null,null,null,"Stoka \"C\" KT DN400:23,20*1,25*(2,50+1,97)/2"]
[null,null,"Prohloubení pro RŠ:1,60*1,60*0,20*1",null,0.51200000000000001,null,null,null,null,null,null,null,"Prohloubení pro RŠ:1,60*1,60*0,20*1"]
[null,null,"Rozšíření pro RŠ:1,60*(1,60-1,25)*1,97",null,1.1032,null,null,null,null,null,null,null,"Rozšíření pro RŠ:1,60*(1,60-1,25)*1,97"]
[null,null,"Odpočet konstrukce komunikace:-(23,20*1,25+1,60*(1,60-1,25)*1)*0,40",null,-11.824,null,null,null,null,null,null,null,"Odpočet konstrukce komunikace:-(23,20*1,25+1,60*(1,60-1,25)*1)*0,40"]
[null,null,"Stoka \"D\" KT DN400:5,10*1,25*(2,50+2,11)/2",null,14.6944,null,null,null,null,null,null,null,"Stoka \"D\" KT DN400:5,10*1,25*(2,50+2,11)/2"]
[null,null,"(7,90-5,10)*1,25*(2,11+2,11)/2",null,7.3849999999999998,null,null,null,null,null,null,null,"(7,90-5,10)*1,25*(2,11+2,11)/2"]
[null,null,"(16,00-7,90)*1,25*(2,11+2,09)/2",null,21.262499999999999,null,null,null,null,null,null,null,"(16,00-7,90)*1,25*(2,11+2,09)/2"]
[null,null,"(25,10-16,00)*1,25*(2,09+2,48)/2",null,25.991900000000001,null,null,null,null,null,null,null,"(25,10-16,00)*1,25*(2,09+2,48)/2"]
[null,null,"Prohloubení pro RŠ:1,60*1,60*0,20*2",null,1.024,null,null,null,null,null,null,null,"Prohloubení pro RŠ:1,60*1,60*0,20*2"]
[null,null,"Rozšíření pro RŠ:1,60*(1,60-1,25)*4,93",null,2.7608000000000001,null,null,null,null,null,null,null,"Rozšíření pro RŠ:1,60*(1,60-1,25)*4,93"]
[null,null,"Odpočet konstrukce komunikace:-(25,10*1,25+1,60*(1,60-1,25)*2)*0,40",null,-12.997999999999999,null,null,null,null,null,null,null,"Odpočet konstrukce komunikace:-(25,10*1,25+1,60*(1,60-1,25)*2)*0,40"]
[null,null,"Stoka \"G\" KT DN250:3,50*1,15*(2,42+2,35)/2",null,9.5996000000000006,null,null,null,null,null,null,null,"Stoka \"G\" KT DN250:3,50*1,15*(2,42+2,35)/2"]
[null,null,"Prohloubení pro RŠ:1,60*1,60*0,20*1",null,0.51200000000000001,null,null,null,null,null,null,null,"Prohloubení pro RŠ:1,60*1,60*0,20*1"]
[null,null,"Rozšíření pro RŠ:1,60*(1,60-1,15)*2,35",null,1.6919999999999999,null,null,null,null,null,null,null,"Rozšíření pro RŠ:1,60*(1,60-1,15)*2,35"]
[null,null,"Odpočet konstrukce komunikace:-(3,50*1,15+1,60*(1,60-1,15)*1)*0,40",null,-1.8979999999999999,null,null,null,null,null,null,null,"Odpočet konstrukce komunikace:-(3,50*1,15+1,60*(1,60-1,15)*1)*0,40"]
[null,null,"Konec provozního součtu",null,973.65299999999979,null,null,null,null,null,null,null,"Konec provozního součtu"]
[null,null,"V hornině tř. 4 - 45%:973,6530*0,45",null,438.14389999999997,null,null,null,null,null,null,null,"V hornině tř. 4 - 45%:973,6530*0,45"]
[14,"132301219R00","Přípl.za lepivost,hloubení rýh 200cm,hor.4,STROJNĚ ","m3",219.0719,null,{"$f":"E161*F161","v":0},0,{"$f":"E161*H161","v":0},0,{"$f":"E161*J161","v":0},null,null,null,2,null,null,null,null,null,null,null,null,null,null,null,1,1,1,null,null,null,null,null,null,null,null,null,null,null,null,null,null,null,null,null,null,null,null,null,null,1,{"$f":"IF(AZ161=1,G161,0)","v":0},{"$f":"IF(AZ161=2,G161,0)","v":0},{"$f":"IF(AZ161=3,G161,0)","v":0},{"$f":"IF(AZ161=4,G161,0)","v":0},{"$f":"IF(AZ161=5,G161,0)","v":0},null,null,null,null,null,null,null,null,null,null,null,null,null,null,null,null,null,null,null,null,null,1,1]
[null,null,"Začátek provozního součtu",null,0,null,null,null,null,null,null,null,"Začátek provozního součtu"]
[null,null,"Stoka \"B\" KT DN300 a DN400:31,30*1,25*(3,15+2,45)/2",null,109.55,null,null,null,null,null,null,null,"Stoka \"B\" KT DN300 a DN400:31,30*1,25*(3,15+2,45)/2"]
[null,null,"(109,50-31,30)*1,25*(2,45+2,41)/2",null,237.5325,null,null,null,null,null,null,null,"(109,50-31,30)*1,25*(2,45+2,41)/2"]
[null,null,"(152,80-109,50)*1,25*(2,41+2,50)/2",null,132.87690000000001,null,null,null,null,null,null,null,"(152,80-109,50)*1,25*(2,41+2,50)/2"]
[null,null,"(164,00-152,80)*1,25*(2,50+2,50)/2",null,35,null,null,null,null,null,null,null,"(164,00-152,80)*1,25*(2,50+2,50)/2"]
[null,null,"(213,60-164,00)*1,20*(2,50+2,25)/2",null,141.36000000000001,null,null,null,null,null,null,null,"(213,60-164,00)*1,20*(2,50+2,25)/2"]
[null,null,"(274,30-213,60)*1,20*(2,25+2,87)/2",null,186.47040000000001,null,null,null,null,null,null,null,"(274,30-213,60)*1,20*(2,25+2,87)/2"]
[null,null,"(322,80-274,30)*1,20*(2,87+2,15)/2",null,146.08199999999999,null,null,null,null,null,null,null,"(322,80-274,30)*1,20*(2,87+2,15)/2"]
[null,null,"Prohloubení pro RŠ:1,60*1,60*0,20*11",null,5.6319999999999997,null,null,null,null,null,null,null,"Prohloubení pro RŠ:1,60*1,60*0,20*11"]
[null,null,"Rozšíření pro RŠ:1,60*(1,60-1,25)*18,02+1,60*(1,60-1,20)*9,59",null,16.2288,null,null,null,null,null,null,null,"Rozšíření pro RŠ:1,60*(1,60-1,25)*18,02+1,60*(1,60-1,20)*9,59"]
[null,null,"Odpočet konstrukce komunikace:-(164,00*1,25+158,80*1,20+1,60*(1,60-1,25)*11+1,60*(1,60-1,20)*4)*0,40",null,-161.71199999999999,null,null,null,null,null,null,null,"Odpočet konstrukce komunikace:-(164,00*1,25+158,80*1,20+1,60*(1,60-1,25)*11+1,60*(1,60-1,20)*4)*0,40"]
[null,null,"Stoka \"C\" KT DN400:23,20*1,25*(2,50+1,97)/2",null,64.814999999999998,null,null,null,null,null,null,null,"Stoka \"C\" KT DN400:23,20*1,25*(2,50+1,97)/2"]
[null,null,"Prohloubení pro RŠ:1,60*1,60*0,20*1",null,0.51200000000000001,null,null,null,null,null,null,null,"Prohloubení pro RŠ:1,60*1,60*0,20*1"]
[null,null,"Rozšíření pro RŠ:1,60*(1,60-1,25)*1,97",null,1.1032,null,null,null,null,null,null,null,"Rozšíření pro RŠ:1,60*(1,60-1,25)*1,97"]
[null,null,"Odpočet konstrukce komunikace:-(23,20*1,25+1,60*(1,60-1,25)*1)*0,40",null,-11.824,null,null,null,null,null,null,null,"Odpočet konstrukce komunikace:-(23,20*1,25+1,60*(1,60-1,25)*1)*0,40"]
[null,null,"Stoka \"D\" KT DN400:5,10*1,25*(2,50+2,11)/2",null,14.6944,null,null,null,null,null,null,null,"Stoka \"D\" KT DN400:5,10*1,25*(2,50+2,11)/2"]
[null,null,"(7,90-5,10)*1,25*(2,11+2,11)/2",null,7.3849999999999998,null,null,null,null,null,null,null,"(7,90-5,10)*1,25*(2,11+2,11)/2"]
[null,null,"(16,00-7,90)*1,25*(2,11+2,09)/2",null,21.262499999999999,null,null,null,null,null,null,null,"(16,00-7,90)*1,25*(2,11+2,09)/2"]
[null,null,"(25,10-16,00)*1,25*(2,09+2,48)/2",null,25.991900000000001,null,null,null,null,null,null,null,"(25,10-16,00)*1,25*(2,09+2,48)/2"]
[null,null,"Prohloubení pro RŠ:1,60*1,60*0,20*2",null,1.024,null,null,null,null,null,null,null,"Prohloubení pro RŠ:1,60*1,60*0,20*2"]
[null,null,"Rozšíření pro RŠ:1,60*(1,60-1,25)*4,93",null,2.7608000000000001,null,null,null,null,null,null,null,"Rozšíření pro RŠ:1,60*(1,60-1,25)*4,93"]
[null,null,"Odpočet konstrukce komunikace:-(25,10*1,25+1,60*(1,60-1,25)*2)*0,40",null,-12.997999999999999,null,null,null,null,null,null,null,"Odpočet konstrukce komunikace:-(25,10*1,25+1,60*(1,60-1,25)*2)*0,40"]
[null,null,"Stoka \"G\" KT DN250:3,50*1,15*(2,42+2,35)/2",null,9.5996000000000006,null,null,null,null,null,null,null,"Stoka \"G\" KT DN250:3,50*1,15*(2,42+2,35)/2"]
[null,null,"Prohloubení pro RŠ:1,60*1,60*0,20*1",null,0.51200000000000001,null,null,null,null,null,null,null,"Prohloubení pro RŠ:1,60*1,60*0,20*1"]
[null,null,"Rozšíření pro RŠ:1,60*(1,60-1,15)*2,35",null,1.6919999999999999,null,null,null,null,null,null,null,"Rozšíření pro RŠ:1,60*(1,60-1,15)*2,35"]
[null,null,"Odpočet konstrukce komunikace:-(3,50*1,15+1,60*(1,60-1,15)*1)*0,40",null,-1.8979999999999999,null,null,null,null,null,null,null,"Odpočet konstrukce komunikace:-(3,50*1,15+1,60*(1,60-1,15)*1)*0,40"]
[null,null,"Konec provozního součtu",null,973.65299999999979,null,null,null,null,null,null,null,"Konec provozního součtu"]
[null,null,"V hornině tř. 4 - 45%:973,6530*0,45*0,5",null,219.0719,null,null,null,null,null,null,null,"V hornině tř. 4 - 45%:973,6530*0,45*0,5"]
[15,"132401211R00","Hloubení rýh šířky do 200 cm v hor.5, STROJNĚ ","m3",97.365300000000005,null,{"$f":"E190*F190","v":0},0,{"$f":"E190*H190","v":0},0,{"$f":"E190*J190","v":0},null,null,null,2,null,null,null,null,null,null,null,null,null,null,null,1,1,1,null,null,null,null,null,null,null,null,null,null,null,null,null,null,null,null,null,null,null,null,null,null,1,{"$f":"IF(AZ190=1,G190,0)","v":0},{"$f":"IF(AZ190=2,G190,0)","v":0},{"$f":"IF(AZ190=3,G190,0)","v":0},{"$f":"IF(AZ190=4,G190,0)","v":0},{"$f":"IF(AZ190=5,G190,0)","v":0},null,null,null,null,null,null,null,null,null,null,null,null,null,null,null,null,null,null,null,null,null,1,1]
[null,null,"Položka obsahuje hloubení jámy kolovým rypadlem s rozrývacím zubem, naložení výkopku na dopravní prostředek pro svislé, nebo vodorovné přemístění, popř. přemístění výkopku do 3 m (po povrchu území), případné zajištění rypadel polštáři, udržování pracoviště a ochranu výkopiště proti stékání srážkové vody z okolního terénu i s jejím odvodněním, nebo odvedením, přesekání a odstranění kořenů ve výkopišti, odstranění napadávek, urovnání dna výkopu. Položka se používá bez ohledu na těžené množství.",null,null,null,null,null,null,null,null,"Položka obsahuje hloubení jámy kolovým rypadlem s rozrývacím zubem, naložení výkopku na dopravní prostředek pro svislé, nebo vodorovné přemístění, popř. přemístění výkopku do 3 m (po povrchu území), případné zajištění rypadel polštáři, udržování pracoviště a ochranu výkopiště proti stékání srážkové vody z okolního terénu i s jejím odvodněním, nebo odvedením, přesekání a odstranění kořenů ve výkopišti, odstranění napadávek, urovnání dna výkopu. Položka se používá bez ohledu na těžené množství.",null,null,3]
[null,null,"Začátek provozního součtu",null,0,null,null,null,null,null,null,null,"Začátek provozního součtu"]
[null,null,"Stoka \"B\" KT DN300 a DN400:31,30*1,25*(3,15+2,45)/2",null,109.55,null,null,null,null,null,null,null,"Stoka \"B\" KT DN300 a DN400:31,30*1,25*(3,15+2,45)/2"]
[null,null,"(109,50-31,30)*1,25*(2,45+2,41)/2",null,237.5325,null,null,null,null,null,null,null,"(109,50-31,30)*1,25*(2,45+2,41)/2"]
[null,null,"(152,80-109,50)*1,25*(2,41+2,50)/2",null,132.87690000000001,null,null,null,null,null,null,null,"(152,80-109,50)*1,25*(2,41+2,50)/2"]
[null,null,"(164,00-152,80)*1,25*(2,50+2,50)/2",null,35,null,null,null,null,null,null,null,"(164,00-152,80)*1,25*(2,50+2,50)/2"]
[null,null,"(213,60-164,00)*1,20*(2,50+2,25)/2",null,141.36000000000001,null,null,null,null,null,null,null,"(213,60-164,00)*1,20*(2,50+2,25)/2"]
[null,null,"(274,30-213,60)*1,20*(2,25+2,87)/2",null,186.47040000000001,null,null,null,null,null,null,null,"(274,30-213,60)*1,20*(2,25+2,87)/2"]
[null,null,"(322,80-274,30)*1,20*(2,87+2,15)/2",null,146.08199999999999,null,null,null,null,null,null,null,"(322,80-274,30)*1,20*(2,87+2,15)/2"]
[null,null,"Prohloubení pro RŠ:1,60*1,60*0,20*11",null,5.6319999999999997,null,null,null,null,null,null,null,"Prohloubení pro RŠ:1,60*1,60*0,20*11"]
[null,null,"Rozšíření pro RŠ:1,60*(1,60-1,25)*18,02+1,60*(1,60-1,20)*9,59",null,16.2288,null,null,null,null,null,null,null,"Rozšíření pro RŠ:1,60*(1,60-1,25)*18,02+1,60*(1,60-1,20)*9,59"]
[null,null,"Odpočet konstrukce komunikace:-(164,00*1,25+158,80*1,20+1,60*(1,60-1,25)*11+1,60*(1,60-1,20)*4)*0,40",null,-161.71199999999999,null,null,null,null,null,null,null,"Odpočet konstrukce komunikace:-(164,00*1,25+158,80*1,20+1,60*(1,60-1,25)*11+1,60*(1,60-1,20)*4)*0,40"]
[null,null,"Stoka \"C\" KT DN400:23,20*1,25*(2,50+1,97)/2",null,64.814999999999998,null,null,null,null,null,null,null,"Stoka \"C\" KT DN400:23,20*1,25*(2,50+1,97)/2"]
[null,null,"Prohloubení pro RŠ:1,60*1,60*0,20*1",null,0.51200000000000001,null,null,null,null,null,null,null,"Prohloubení pro RŠ:1,60*1,60*0,20*1"]
[null,null,"Rozšíření pro RŠ:1,60*(1,60-1,25)*1,97",null,1.1032,null,null,null,null,null,null,null,"Rozšíření pro RŠ:1,60*(1,60-1,25)*1,97"]
[null,null,"Odpočet konstrukce komunikace:-(23,20*1,25+1,60*(1,60-1,25)*1)*0,40",null,-11.824,null,null,null,null,null,null,null,"Odpočet konstrukce komunikace:-(23,20*1,25+1,60*(1,60-1,25)*1)*0,40"]
[null,null,"Stoka \"D\" KT DN400:5,10*1,25*(2,50+2,11)/2",null,14.6944,null,null,null,null,null,null,null,"Stoka \"D\" KT DN400:5,10*1,25*(2,50+2,11)/2"]
[null,null,"(7,90-5,10)*1,25*(2,11+2,11)/2",null,7.3849999999999998,null,null,null,null,null,null,null,"(7,90-5,10)*1,25*(2,11+2,11)/2"]
[null,null,"(16,00-7,90)*1,25*(2,11+2,09)/2",null,21.262499999999999,null,null,null,null,null,null,null,"(16,00-7,90)*1,25*(2,11+2,09)/2"]
[null,null,"(25,10-16,00)*1,25*(2,09+2,48)/2",null,25.991900000000001,null,null,null,null,null,null,null,"(25,10-16,00)*1,25*(2,09+2,48)/2"]
[null,null,"Prohloubení pro RŠ:1,60*1,60*0,20*2",null,1.024,null,null,null,null,null,null,null,"Prohloubení pro RŠ:1,60*1,60*0,20*2"]
[null,null,"Rozšíření pro RŠ:1,60*(1,60-1,25)*4,93",null,2.7608000000000001,null,null,null,null,null,null,null,"Rozšíření pro RŠ:1,60*(1,60-1,25)*4,93"]
[null,null,"Odpočet konstrukce komunikace:-(25,10*1,25+1,60*(1,60-1,25)*2)*0,40",null,-12.997999999999999,null,null,null,null,null,null,null,"Odpočet konstrukce komunikace:-(25,10*1,25+1,60*(1,60-1,25)*2)*0,40"]
[null,null,"Stoka \"G\" KT DN250:3,50*1,15*(2,42+2,35)/2",null,9.5996000000000006,null,null,null,null,null,null,null,"Stoka \"G\" KT DN250:3,50*1,15*(2,42+2,35)/2"]
[null,null,"Prohloubení pro RŠ:1,60*1,60*0,20*1",null,0.51200000000000001,null,null,null,null,null,null,null,"Prohloubení pro RŠ:1,60*1,60*0,20*1"]
[null,null,"Rozšíření pro RŠ:1,60*(1,60-1,15)*2,35",null,1.6919999999999999,null,null,null,null,null,null,null,"Rozšíření pro RŠ:1,60*(1,60-1,15)*2,35"]
[null,null,"Odpočet konstrukce komunikace:-(3,50*1,15+1,60*(1,60-1,15)*1)*0,40",null,-1.8979999999999999,null,null,null,null,null,null,null,"Odpočet konstrukce komunikace:-(3,50*1,15+1,60*(1,60-1,15)*1)*0,40"]
[null,null,"Konec provozního součtu",null,973.65299999999979,null,null,null,null,null,null,null,"Konec provozního součtu"]
[null,null,"V hornině tř. 5 - 10%:973,6530*0,1",null,97.365300000000005,null,null,null,null,null,null,null,"V hornině tř. 5 - 10%:973,6530*0,1"]
[16,"151101102R00","Pažení a rozepření stěn rýh - příložné - hl.do 4 m ","m2",1845.1220000000001,null,{"$f":"E220*F220","v":0},8.5999999999999998E-4,{"$f":"E220*H220","v":1.5868049200000001},0,{"$f":"E220*J220","v":0},null,null,null,2,null,null,null,null,null,null,null,null,null,null,null,1,1,1,null,null,null,null,null,null,null,null,null,null,null,null,null,null,null,null,null,null,null,null,null,null,1,{"$f":"IF(AZ220=1,G220,0)","v":0},{"$f":"IF(AZ220=2,G220,0)","v":0},{"$f":"IF(AZ220=3,G220,0)","v":0},{"$f":"IF(AZ220=4,G220,0)","v":0},{"$f":"IF(AZ220=5,G220,0)","v":0},null,null,null,null,null,null,null,null,null,null,null,null,null,null,null,null,null,null,null,null,null,1,1]
[null,null,"Stoka \"B\" KT DN300 a DN400:31,30*(3,15+2,45)/2*2",null,175.28,null,null,null,null,null,null,null,"Stoka \"B\" KT DN300 a DN400:31,30*(3,15+2,45)/2*2"]
[null,null,"(109,50-31,30)*(2,45+2,41)/2*2",null,380.05200000000002,null,null,null,null,null,null,null,"(109,50-31,30)*(2,45+2,41)/2*2"]
[null,null,"(152,80-109,50)*(2,41+2,50)/2*2",null,212.60300000000001,null,null,null,null,null,null,null,"(152,80-109,50)*(2,41+2,50)/2*2"]
[null,null,"(164,00-152,80)*(2,50+2,50)/2*2",null,56,null,null,null,null,null,null,null,"(164,00-152,80)*(2,50+2,50)/2*2"]
[null,null,"(213,60-164,00)*(2,50+2,25)/2*2",null,235.6,null,null,null,null,null,null,null,"(213,60-164,00)*(2,50+2,25)/2*2"]
[null,null,"(274,30-213,60)*(2,25+2,87)/2*2",null,310.78399999999999,null,null,null,null,null,null,null,"(274,30-213,60)*(2,25+2,87)/2*2"]
[null,null,"(322,80-274,30)*(2,87+2,15)/2*2",null,243.47,null,null,null,null,null,null,null,"(322,80-274,30)*(2,87+2,15)/2*2"]
[null,null,"Stoka \"C\" KT DN400:23,20*(2,50+1,97)/2*2",null,103.70399999999999,null,null,null,null,null,null,null,"Stoka \"C\" KT DN400:23,20*(2,50+1,97)/2*2"]
[null,null,"Stoka \"D\" KT DN400:5,10*(2,50+2,11)/2*2",null,23.510999999999999,null,null,null,null,null,null,null,"Stoka \"D\" KT DN400:5,10*(2,50+2,11)/2*2"]
[null,null,"(7,90-5,10)*(2,11+2,11)/2*2",null,11.816000000000001,null,null,null,null,null,null,null,"(7,90-5,10)*(2,11+2,11)/2*2"]
[null,null,"(16,00-7,90)*(2,11+2,09)/2*2",null,34.020000000000003,null,null,null,null,null,null,null,"(16,00-7,90)*(2,11+2,09)/2*2"]
[null,null,"(25,10-16,00)*(2,09+2,48)/2*2",null,41.587000000000003,null,null,null,null,null,null,null,"(25,10-16,00)*(2,09+2,48)/2*2"]
[null,null,"Stoka \"G\" KT DN250:3,50*(2,42+2,35)/2*2",null,16.695,null,null,null,null,null,null,null,"Stoka \"G\" KT DN250:3,50*(2,42+2,35)/2*2"]
[17,"151101112R00","Odstranění pažení stěn rýh - příložné - hl. do 4 m ","m2",1845.1220000000001,null,{"$f":"E234*F234","v":0},0,{"$f":"E234*H234","v":0},0,{"$f":"E234*J234","v":0},null,null,null,2,null,null,null,null,null,null,null,null,null,null,null,1,1,1,null,null,null,null,null,null,null,null,null,null,null,null,null,null,null,null,null,null,null,null,null,null,1,{"$f":"IF(AZ234=1,G234,0)","v":0},{"$f":"IF(AZ234=2,G234,0)","v":0},{"$f":"IF(AZ234=3,G234,0)","v":0},{"$f":"IF(AZ234=4,G234,0)","v":0},{"$f":"IF(AZ234=5,G234,0)","v":0},null,null,null,null,null,null,null,null,null,null,null,null,null,null,null,null,null,null,null,null,null,1,1]
[null,null,"Stoka \"B\" KT DN300 a DN400:31,30*(3,15+2,45)/2*2",null,175.28,null,null,null,null,null,null,null,"Stoka \"B\" KT DN300 a DN400:31,30*(3,15+2,45)/2*2"]
[null,null,"(109,50-31,30)*(2,45+2,41)/2*2",null,380.05200000000002,null,null,null,null,null,null,null,"(109,50-31,30)*(2,45+2,41)/2*2"]
[null,null,"(152,80-109,50)*(2,41+2,50)/2*2",null,212.60300000000001,null,null,null,null,null,null,null,"(152,80-109,50)*(2,41+2,50)/2*2"]
[null,null,"(164,00-152,80)*(2,50+2,50)/2*2",null,56,null,null,null,null,null,null,null,"(164,00-152,80)*(2,50+2,50)/2*2"]
[null,null,"(213,60-164,00)*(2,50+2,25)/2*2",null,235.6,null,null,null,null,null,null,null,"(213,60-164,00)*(2,50+2,25)/2*2"]
[null,null,"(274,30-213,60)*(2,25+2,87)/2*2",null,310.78399999999999,null,null,null,null,null,null,null,"(274,30-213,60)*(2,25+2,87)/2*2"]
[null,null,"(322,80-274,30)*(2,87+2,15)/2*2",null,243.47,null,null,null,null,null,null,null,"(322,80-274,30)*(2,87+2,15)/2*2"]
[null,null,"Stoka \"C\" KT DN400:23,20*(2,50+1,97)/2*2",null,103.70399999999999,null,null,null,null,null,null,null,"Stoka \"C\" KT DN400:23,20*(2,50+1,97)/2*2"]
[null,null,"Stoka \"D\" KT DN400:5,10*(2,50+2,11)/2*2",null,23.510999999999999,null,null,null,null,null,null,null,"Stoka \"D\" KT DN400:5,10*(2,50+2,11)/2*2"]
[null,null,"(7,90-5,10)*(2,11+2,11)/2*2",null,11.816000000000001,null,null,null,null,null,null,null,"(7,90-5,10)*(2,11+2,11)/2*2"]
[null,null,"(16,00-7,90)*(2,11+2,09)/2*2",null,34.020000000000003,null,null,null,null,null,null,null,"(16,00-7,90)*(2,11+2,09)/2*2"]
[null,null,"(25,10-16,00)*(2,09+2,48)/2*2",null,41.587000000000003,null,null,null,null,null,null,null,"(25,10-16,00)*(2,09+2,48)/2*2"]
[null,null,"Stoka \"G\" KT DN250:3,50*(2,42+2,35)/2*2",null,16.695,null,null,null,null,null,null,null,"Stoka \"G\" KT DN250:3,50*(2,42+2,35)/2*2"]
[18,"162701105RSZ","Vodorovné přemístění výkopku z hor.1-7 na skládku zhotovitele","m3",973.65300000000002,null,{"$f":"E248*F248","v":0},0,{"$f":"E248*H248","v":0},0,{"$f":"E248*J248","v":0},null,null,null,2,null,null,null,null,null,null,null,null,null,null,null,1,1,1,null,null,null,null,null,null,null,null,null,null,null,null,null,null,null,null,null,null,null,null,null,null,1,{"$f":"IF(AZ248=1,G248,0)","v":0},{"$f":"IF(AZ248=2,G248,0)","v":0},{"$f":"IF(AZ248=3,G248,0)","v":0},{"$f":"IF(AZ248=4,G248,0)","v":0},{"$f":"IF(AZ248=5,G248,0)","v":0},null,null,null,null,null,null,null,null,null,null,null,null,null,null,null,null,null,null,null,null,null,1,1]
[null,null,"Výkopy:",null,0,null,null,null,null,null,null,null,"Výkopy:"]
[null,null,"V hornině tř. 3 - 5:973,6530",null,973.65300000000002,null,null,null,null,null,null,null,"V hornině tř. 3 - 5:973,6530"]
[null,null,"Odpočet zásypů zeminou:0",null,0,null,null,null,null,null,null,null,"Odpočet zásypů zeminou:0"]
[19,"174101101R00","Zásyp jam, rýh, šachet se zhutněním ","m3",520.00220000000002,null,{"$f":"E252*F252","v":0},0,{"$f":"E252*H252","v":0},0,{"$f":"E252*J252","v":0},null,null,null,2,null,null,null,null,null,null,null,null,null,null,null,1,1,1,null,null,null,null,null,null,null,null,null,null,null,null,null,null,null,null,null,null,null,null,null,null,1,{"$f":"IF(AZ252=1,G252,0)","v":0},{"$f":"IF(AZ252=2,G252,0)","v":0},{"$f":"IF(AZ252=3,G252,0)","v":0},{"$f":"IF(AZ252=4,G252,0)","v":0},{"$f":"IF(AZ252=5,G252,0)","v":0},null,null,null,null,null,null,null,null,null,null,null,null,null,null,null,null,null,null,null,null,null,1,1]
[null,null,"Položka obsahuje strojní přemístění materiálu pro zásyp ze vzdálenosti do 10 m od okraje zásypu.",null,null,null,null,null,null,null,null,"Položka obsahuje strojní přemístění materiálu pro zásyp ze vzdálenosti do 10 m od okraje zásypu.",null,null,3]
[null,null,"Zásypy štěrkodrtí fr. 0-63 mm:520,0022",null,520.00220000000002,null,null,null,null,null,null,null,"Zásypy štěrkodrtí fr. 0-63 mm:520,0022"]
[null,null,"Začátek provozního součtu",null,0,null,null,null,null,null,null,null,"Začátek provozního součtu"]
[null,null,"Výkopy:",null,0,null,null,null,null,null,null,null,"Výkopy:"]
[null,null,"V hornině tř. 3 - 5:973,6530",null,973.65300000000002,null,null,null,null,null,null,null,"V hornině tř. 3 - 5:973,6530"]
[null,null,"Stoka \"B\" KT DN300 a DN400:",null,0,null,null,null,null,null,null,null,"Stoka \"B\" KT DN300 a DN400:"]
[null,null,"Odpočet lože, potrubí a obsypů:-(164,00*1,1750+158,80*0,9840)",null,-348.95920000000001,null,null,null,null,null,null,null,"Odpočet lože, potrubí a obsypů:-(164,00*1,1750+158,80*0,9840)"]
[null,null,"Odpočet objemu RŠ:-33,7102",null,-33.7102,null,null,null,null,null,null,null,"Odpočet objemu RŠ:-33,7102"]
[null,null,"Stoka \"C\" KT DN400:",null,0,null,null,null,null,null,null,null,"Stoka \"C\" KT DN400:"]
[null,null,"Odpočet lože, potrubí a obsypů:-23,20*1,1750",null,-27.26,null,null,null,null,null,null,null,"Odpočet lože, potrubí a obsypů:-23,20*1,1750"]
[null,null,"Odpočet objemu RŠ:-2,3482",null,-2.3481999999999998,null,null,null,null,null,null,null,"Odpočet objemu RŠ:-2,3482"]
[null,null,"Stoka \"D\" KT DN400:",null,0,null,null,null,null,null,null,null,"Stoka \"D\" KT DN400:"]
[null,null,"Odpočet lože, potrubí a obsypů:-25,10*1,1750",null,-29.4925,null,null,null,null,null,null,null,"Odpočet lože, potrubí a obsypů:-25,10*1,1750"]
[null,null,"Odpočet objemu RŠ:-6,0097",null,-6.0096999999999996,null,null,null,null,null,null,null,"Odpočet objemu RŠ:-6,0097"]
[null,null,"Stoka \"G\" KT DN250:-3,50*0,8625",null,-3.0188000000000001,null,null,null,null,null,null,null,"Stoka \"G\" KT DN250:-3,50*0,8625"]
[null,null,"Odpočet objemu RŠ:-2,8523",null,-2.8523000000000001,null,null,null,null,null,null,null,"Odpočet objemu RŠ:-2,8523"]
[null,null,"Konec provozního součtu",null,520.00210000000004,null,null,null,null,null,null,null,"Konec provozního součtu"]
[20,"175101101R00","Obsyp potrubí bez prohození sypaniny ","m3",244.58080000000001,null,{"$f":"E270*F270","v":0},0,{"$f":"E270*H270","v":0},0,{"$f":"E270*J270","v":0},null,null,null,2,null,null,null,null,null,null,null,null,null,null,null,1,1,1,null,null,null,null,null,null,null,null,null,null,null,null,null,null,null,null,null,null,null,null,null,null,1,{"$f":"IF(AZ270=1,G270,0)","v":0},{"$f":"IF(AZ270=2,G270,0)","v":0},{"$f":"IF(AZ270=3,G270,0)","v":0},{"$f":"IF(AZ270=4,G270,0)","v":0},{"$f":"IF(AZ270=5,G270,0)","v":0},null,null,null,null,null,null,null,null,null,null,null,null,null,null,null,null,null,null,null,null,null,1,1]
[null,null,"Stoka \"B\" KT DN300:158,80*0,6065",null,96.312200000000004,null,null,null,null,null,null,null,"Stoka \"B\" KT DN300:158,80*0,6065"]
[null,null,"Stoka \"B\" KT DN400:164,00*0,6893",null,113.04519999999999,null,null,null,null,null,null,null,"Stoka \"B\" KT DN400:164,00*0,6893"]
[null,null,"Stoka \"C\" KT DN400:23,20*0,6893",null,15.9918,null,null,null,null,null,null,null,"Stoka \"C\" KT DN400:23,20*0,6893"]
[null,null,"Stoka \"D\" KT DN400:25,10*0,6893",null,17.301400000000001,null,null,null,null,null,null,null,"Stoka \"D\" KT DN400:25,10*0,6893"]
[null,null,"Stoka \"G\" KT DN250:3,50*0,5515",null,1.9302999999999999,null,null,null,null,null,null,null,"Stoka \"G\" KT DN250:3,50*0,5515"]
[21,"199000002R00","Poplatek za skládku horniny 1- 7 č. dle katal. odpadů 17 05 04","m3",973.65300000000002,null,{"$f":"E276*F276","v":0},0,{"$f":"E276*H276","v":0},0,{"$f":"E276*J276","v":0},null,null,null,2,null,null,null,null,null,null,null,null,null,null,null,1,1,1,null,null,null,null,null,null,null,null,null,null,null,null,null,null,null,null,null,null,null,null,null,null,1,{"$f":"IF(AZ276=1,G276,0)","v":0},{"$f":"IF(AZ276=2,G276,0)","v":0},{"$f":"IF(AZ276=3,G276,0)","v":0},{"$f":"IF(AZ276=4,G276,0)","v":0},{"$f":"IF(AZ276=5,G276,0)","v":0},null,null,null,null,null,null,null,null,null,null,null,null,null,null,null,null,null,null,null,null,null,1,1]
[null,null,"Výkopy:",null,0,null,null,null,null,null,null,null,"Výkopy:"]
[null,null,"V hornině tř. 3 - 5:973,6530",null,973.65300000000002,null,null,null,null,null,null,null,"V hornině tř. 3 - 5:973,6530"]
[null,null,"Odpočet zásypů zeminou:0",null,0,null,null,null,null,null,null,null,"Odpočet zásypů zeminou:0"]
[22,"919735113R00","Řezání stávajícího živičného krytu tl. 10 - 15 cm ","m",776.29,null,{"$f":"E280*F280","v":0},0,{"$f":"E280*H280","v":0},0,{"$f":"E280*J280","v":0},null,null,null,2,null,null,null,null,null,null,null,null,null,null,null,1,1,1,null,null,null,null,null,null,null,null,null,null,null,null,null,null,null,null,null,null,null,null,null,null,1,{"$f":"IF(AZ280=1,G280,0)","v":0},{"$f":"IF(AZ280=2,G280,0)","v":0},{"$f":"IF(AZ280=3,G280,0)","v":0},{"$f":"IF(AZ280=4,G280,0)","v":0},{"$f":"IF(AZ280=5,G280,0)","v":0},null,null,null,null,null,null,null,null,null,null,null,null,null,null,null,null,null,null,null,null,null,1,1]
[null,null,"Stoka \"B\" KT DN300 a DN400:",null,0,null,null,null,null,null,null,null,"Stoka \"B\" KT DN300 a DN400:"]
[null,null,"Konstrukce komunikace:(164,00+158,80)*2+1,20+1,60*(1,60-1,25)*11*2+1,60*(1,60-1,20)*4*2",null,664.24,null,null,null,null,null,null,null,"Konstrukce komunikace:(164,00+158,80)*2+1,20+1,60*(1,60-1,25)*11*2+1,60*(1,60-1,20)*4*2"]
[null,null,"Stoka \"C\" KT DN400:",null,0,null,null,null,null,null,null,null,"Stoka \"C\" KT DN400:"]
[null,null,"Konstrukce komunikace:23,20*2+1,25+1,60*(1,60-1,25)*1*2",null,48.77,null,null,null,null,null,null,null,"Konstrukce komunikace:23,20*2+1,25+1,60*(1,60-1,25)*1*2"]
[null,null,"Stoka \"D\" KT DN400:",null,0,null,null,null,null,null,null,null,"Stoka \"D\" KT DN400:"]
[null,null,"Konstrukce komunikace:25,10*2+1,25+1,60*(1,60-1,25)*2*2",null,53.69,null,null,null,null,null,null,null,"Konstrukce komunikace:25,10*2+1,25+1,60*(1,60-1,25)*2*2"]
[null,null,"Stoka \"G\" KT DN250:",null,0,null,null,null,null,null,null,null,"Stoka \"G\" KT DN250:"]
[null,null,"Konstrukce komunikace:3,50*2+1,15+1,60*(1,60-1,15)*1*2",null,9.59,null,null,null,null,null,null,null,"Konstrukce komunikace:3,50*2+1,15+1,60*(1,60-1,15)*1*2"]
[23,"976085211R00","Vybourání kanal.rámů a poklopů plochy do 0,3 m2 ","kus",12,null,{"$f":"E289*F289","v":0},0,{"$f":"E289*H289","v":0},-2.4E-2,{"$f":"E289*J289","v":-0.28800000000000003},null,null,null,2,null,null,null,null,null,null,null,null,null,null,null,1,0,0,null,null,null,null,null,null,null,null,null,null,null,null,null,null,null,null,null,null,null,null,null,null,1,{"$f":"IF(AZ289=1,G289,0)","v":0},{"$f":"IF(AZ289=2,G289,0)","v":0},{"$f":"IF(AZ289=3,G289,0)","v":0},{"$f":"IF(AZ289=4,G289,0)","v":0},{"$f":"IF(AZ289=5,G289,0)","v":0},null,null,null,null,null,null,null,null,null,null,null,null,null,null,null,null,null,null,null,null,null,1,0]
[24,"979082113RSZ","Vodorovná doprava suti po suchu na skládku zhotovitele","t",414.55040000000002,null,{"$f":"E290*F290","v":0},0,{"$f":"E290*H290","v":0},0,{"$f":"E290*J290","v":0},null,null,null,2,null,null,null,null,null,null,null,null,null,null,null,1,1,1,null,null,null,null,null,null,null,null,null,null,null,null,null,null,null,null,null,null,null,null,null,null,1,{"$f":"IF(AZ290=1,G290,0)","v":0},{"$f":"IF(AZ290=2,G290,0)","v":0},{"$f":"IF(AZ290=3,G290,0)","v":0},{"$f":"IF(AZ290=4,G290,0)","v":0},{"$f":"IF(AZ290=5,G290,0)","v":0},null,null,null,null,null,null,null,null,null,null,null,null,null,null,null,null,null,null,null,null,null,1,1]
[25,"979089001R00","Poplatek za skládku stavební suti štěrky z komunikací, skupina odpadu 010408","t",259.09399999999999,null,{"$f":"E291*F291","v":0},0,{"$f":"E291*H291","v":0},0,{"$f":"E291*J291","v":0},null,null,null,2,null,null,null,null,null,null,null,null,null,null,null,1,1,1,null,null,null,null,null,null,null,null,null,null,null,null,null,null,null,null,null,null,null,null,null,null,1,{"$f":"IF(AZ291=1,G291,0)","v":0},{"$f":"IF(AZ291=2,G291,0)","v":0},{"$f":"IF(AZ291=3,G291,0)","v":0},{"$f":"IF(AZ291=4,G291,0)","v":0},{"$f":"IF(AZ291=5,G291,0)","v":0},null,null,null,null,null,null,null,null,null,null,null,null,null,null,null,null,null,null,null,null,null,1,1]
[26,"979999995R00","Poplatek za reciklaci asfaltu, kusovost do 1600cm2 skupina 170302","t",155.4564,null,{"$f":"E292*F292","v":0},0,{"$f":"E292*H292","v":0},0,{"$f":"E292*J292","v":0},null,null,null,2,null,null,null,null,null,null,null,null,null,null,null,1,1,1,null,null,null,null,null,null,null,null,null,null,null,null,null,null,null,null,null,null,null,null,null,null,1,{"$f":"IF(AZ292=1,G292,0)","v":0},{"$f":"IF(AZ292=2,G292,0)","v":0},{"$f":"IF(AZ292=3,G292,0)","v":0},{"$f":"IF(AZ292=4,G292,0)","v":0},{"$f":"IF(AZ292=5,G292,0)","v":0},null,null,null,null,null,null,null,null,null,null,null,null,null,null,null,null,null,null,null,null,null,1,1]
[null,null,"Položka je určena pro suť o velikosti kusu do 30x30 cm nebo frézovaný asfalt(technologický materiál určený k recyklaci).",null,null,null,null,null,null,null,null,"Položka je určena pro suť o velikosti kusu do 30x30 cm nebo frézovaný asfalt(technologický materiál určený k recyklaci).",null,null,3]
[27,"58337308R","Štěrkopísek frakce 0-2 tř.B","t",482.55799999999999,null,{"$f":"E294*F294","v":0},1,{"$f":"E294*H294","v":482.55799999999999},null,{"$f":"E294*J294","v":0},null,null,null,2,null,null,null,null,null,null,null,null,null,null,null,3,1,"58337308R",null,null,null,null,null,null,null,null,null,null,null,null,null,null,null,null,null,null,null,null,null,null,1,{"$f":"IF(AZ294=1,G294,0)","v":0},{"$f":"IF(AZ294=2,G294,0)","v":0},{"$f":"IF(AZ294=3,G294,0)","v":0},{"$f":"IF(AZ294=4,G294,0)","v":0},{"$f":"IF(AZ294=5,G294,0)","v":0},null,null,null,null,null,null,null,null,null,null,null,null,null,null,null,null,null,null,null,null,null,3,1]
[null,null,"Stoka \"B\" KT DN300:158,80*0,6065*1,973",null,190.024,null,null,null,null,null,null,null,"Stoka \"B\" KT DN300:158,80*0,6065*1,973"]
[null,null,"Stoka \"B\" KT DN400:164,00*0,6893*1,973",null,223.03819999999999,null,null,null,null,null,null,null,"Stoka \"B\" KT DN400:164,00*0,6893*1,973"]
[null,null,"Stoka \"C\" KT DN400:23,20*0,6893*1,973",null,31.5517,null,null,null,null,null,null,null,"Stoka \"C\" KT DN400:23,20*0,6893*1,973"]
[null,null,"Stoka \"D\" KT DN400:25,10*0,6893*1,973",null,34.1357,null,null,null,null,null,null,null,"Stoka \"D\" KT DN400:25,10*0,6893*1,973"]
[null,null,"Stoka \"G\" KT DN250:3,50*0,5515*1,973",null,3.8083999999999998,null,null,null,null,null,null,null,"Stoka \"G\" KT DN250:3,50*0,5515*1,973"]
[28,"58344197R","Štěrkodrtě frakce 0-63 A","t",973.96410000000003,null,{"$f":"E300*F300","v":0},1,{"$f":"E300*H300","v":973.96410000000003},null,{"$f":"E300*J300","v":0},null,null,null,2,null,null,null,null,null,null,null,null,null,null,null,3,1,"58344197R",null,null,null,null,null,null,null,null,null,null,null,null,null,null,null,null,null,null,null,null,null,null,1,{"$f":"IF(AZ300=1,G300,0)","v":0},{"$f":"IF(AZ300=2,G300,0)","v":0},{"$f":"IF(AZ300=3,G300,0)","v":0},{"$f":"IF(AZ300=4,G300,0)","v":0},{"$f":"IF(AZ300=5,G300,0)","v":0},null,null,null,null,null,null,null,null,null,null,null,null,null,null,null,null,null,null,null,null,null,3,1]
[null,null,"Zásypy štěrkodrtí fr. 0-63 mm:520,0022*1,873",null,973.96410000000003,null,null,null,null,null,null,null,"Zásypy štěrkodrtí fr. 0-63 mm:520,0022*1,873"]
[null,null,"Začátek provozního součtu",null,0,null,null,null,null,null,null,null,"Začátek provozního součtu"]
[null,null,"Výkopy:",null,0,null,null,null,null,null,null,null,"Výkopy:"]
[null,null,"V hornině tř. 3 - 5:973,6530",null,973.65300000000002,null,null,null,null,null,null,null,"V hornině tř. 3 - 5:973,6530"]
[null,null,"Stoka \"B\" KT DN300 a DN400:",null,0,null,null,null,null,null,null,null,"Stoka \"B\" KT DN300 a DN400:"]
[null,null,"Odpočet lože, potrubí a obsypů:-(164,00*1,1750+158,80*0,9840)",null,-348.95920000000001,null,null,null,null,null,null,null,"Odpočet lože, potrubí a obsypů:-(164,00*1,1750+158,80*0,9840)"]
[null,null,"Odpočet objemu RŠ:-33,7102",null,-33.7102,null,null,null,null,null,null,null,"Odpočet objemu RŠ:-33,7102"]
[null,null,"Stoka \"C\" KT DN400:",null,0,null,null,null,null,null,null,null,"Stoka \"C\" KT DN400:"]
[null,null,"Odpočet lože, potrubí a obsypů:-23,20*1,1750",null,-27.26,null,null,null,null,null,null,null,"Odpočet lože, potrubí a obsypů:-23,20*1,1750"]
[null,null,"Odpočet objemu RŠ:-2,3482",null,-2.3481999999999998,null,null,null,null,null,null,null,"Odpočet objemu RŠ:-2,3482"]
[null,null,"Stoka \"D\" KT DN400:",null,0,null,null,null,null,null,null,null,"Stoka \"D\" KT DN400:"]
[null,null,"Odpočet lože, potrubí a obsypů:-25,10*1,1750",null,-29.4925,null,null,null,null,null,null,null,"Odpočet lože, potrubí a obsypů:-25,10*1,1750"]
[null,null,"Odpočet objemu RŠ:-6,0097",null,-6.0096999999999996,null,null,null,null,null,null,null,"Odpočet objemu RŠ:-6,0097"]
[null,null,"Stoka \"G\" KT DN250:-3,50*0,8625",null,-3.0188000000000001,null,null,null,null,null,null,null,"Stoka \"G\" KT DN250:-3,50*0,8625"]
[null,null,"Odpočet objemu RŠ:-2,8523",null,-2.8523000000000001,null,null,null,null,null,null,null,"Odpočet objemu RŠ:-2,8523"]
[null,null,"Konec provozního součtu",null,520.00210000000004,null,null,null,null,null,null,null,"Konec provozního součtu"]
[null,"Celkem za","1 Zemní práce",null,null,null,{"$f":"SUM(G7:G316)","v":0},null,{"$f":"SUM(I7:I316)","v":1461.14902992},null,{"$f":"SUM(K7:K316)","v":-421.05789999999996},null,null,null,4,null,null,null,null,null,null,null,null,null,null,null,null,null,null,null,null,null,null,null,null,null,null,null,null,null,null,null,null,null,null,null,null,null,null,null,null,null,{"$f":"SUM(BA7:BA316)","v":0},{"$f":"SUM(BB7:BB316)","v":0},{"$f":"SUM(BC7:BC316)","v":0},{"$f":"SUM(BD7:BD316)","v":0},{"$f":"SUM(BE7:BE316)","v":0}]
["Díl:","2","Základy a zvláštní zakládání",null,null,null,null,null,null,null,null,null,null,null,1]
[29,"212810010RAC","Trativody z PVC drenážních flexibilních trubek lože štěrkopísek a obsyp kamenivo, trubky d 100 mm","m",371.1,null,{"$f":"E319*F319","v":0},0.43651000000000001,{"$f":"E319*H319","v":161.98886100000001},0,{"$f":"E319*J319","v":0},null,null,null,2,null,null,null,null,null,null,null,null,null,null,null,1,1,1,null,null,null,null,null,null,null,null,null,null,null,null,null,null,null,null,null,null,null,null,null,null,1,{"$f":"IF(AZ319=1,G319,0)","v":0},{"$f":"IF(AZ319=2,G319,0)","v":0},{"$f":"IF(AZ319=3,G319,0)","v":0},{"$f":"IF(AZ319=4,G319,0)","v":0},{"$f":"IF(AZ319=5,G319,0)","v":0},null,null,null,null,null,null,null,null,null,null,null,null,null,null,null,null,null,null,null,null,null,1,1]
[null,null,"Stoka \"B\" KT DN300 a DN400:158,80+164,00",null,322.8,null,null,null,null,null,null,null,"Stoka \"B\" KT DN300 a DN400:158,80+164,00"]
[null,null,"Stoka \"C\" KT DN400:23,20",null,23.2,null,null,null,null,null,null,null,"Stoka \"C\" KT DN400:23,20"]
[null,null,"Stoka \"D\" KT DN400:25,10",null,25.1,null,null,null,null,null,null,null,"Stoka \"D\" KT DN400:25,10"]
[30,"212971110R00","Opláštění trativodů z geotext., do sklonu 1:2,5 ","m2",371.1,null,{"$f":"E323*F323","v":0},1.8000000000000001E-4,{"$f":"E323*H323","v":6.679800000000001E-2},0,{"$f":"E323*J323","v":0},null,null,null,2,null,null,null,null,null,null,null,null,null,null,null,1,1,1,null,null,null,null,null,null,null,null,null,null,null,null,null,null,null,null,null,null,null,null,null,null,1,{"$f":"IF(AZ323=1,G323,0)","v":0},{"$f":"IF(AZ323=2,G323,0)","v":0},{"$f":"IF(AZ323=3,G323,0)","v":0},{"$f":"IF(AZ323=4,G323,0)","v":0},{"$f":"IF(AZ323=5,G323,0)","v":0},null,null,null,null,null,null,null,null,null,null,null,null,null,null,null,null,null,null,null,null,null,1,1]
[null,null,"Stoka \"B\" KT DN300 a DN400:(158,80+164,00)*1,00",null,322.8,null,null,null,null,null,null,null,"Stoka \"B\" KT DN300 a DN400:(158,80+164,00)*1,00"]
[null,null,"Stoka \"C\" KT DN400:23,20*1,00",null,23.2,null,null,null,null,null,null,null,"Stoka \"C\" KT DN400:23,20*1,00"]
[null,null,"Stoka \"D\" KT DN400:25,10*1,00",null,25.1,null,null,null,null,null,null,null,"Stoka \"D\" KT DN400:25,10*1,00"]
[31,"67390503.R","Geotextilie netkaná 300 g/m2","m2",445.32,null,{"$f":"E327*F327","v":0},2.9999999999999997E-4,{"$f":"E327*H327","v":0.13359599999999999},null,{"$f":"E327*J327","v":0},null,null,null,2,null,null,null,null,null,null,null,null,null,null,null,3,1,"67390503.R",null,null,null,null,null,null,null,null,null,null,null,null,null,null,null,null,null,null,null,null,null,null,1,{"$f":"IF(AZ327=1,G327,0)","v":0},{"$f":"IF(AZ327=2,G327,0)","v":0},{"$f":"IF(AZ327=3,G327,0)","v":0},{"$f":"IF(AZ327=4,G327,0)","v":0},{"$f":"IF(AZ327=5,G327,0)","v":0},null,null,null,null,null,null,null,null,null,null,null,null,null,null,null,null,null,null,null,null,null,3,1]
[null,null,"Stoka \"B\" KT DN300 a DN400:(158,80+164,00)*1,00*1,2",null,387.36,null,null,null,null,null,null,null,"Stoka \"B\" KT DN300 a DN400:(158,80+164,00)*1,00*1,2"]
[null,null,"Stoka \"C\" KT DN400:23,20*1,00*1,2",null,27.84,null,null,null,null,null,null,null,"Stoka \"C\" KT DN400:23,20*1,00*1,2"]
[null,null,"Stoka \"D\" KT DN400:25,10*1,00*1,2",null,30.12,null,null,null,null,null,null,null,"Stoka \"D\" KT DN400:25,10*1,00*1,2"]
[null,"Celkem za","2 Základy a zvláštní zakládání",null,null,null,{"$f":"SUM(G318:G330)","v":0},null,{"$f":"SUM(I318:I330)","v":162.18925500000003},null,{"$f":"SUM(K318:K330)","v":0},null,null,null,4,null,null,null,null,null,null,null,null,null,null,null,null,null,null,null,null,null,null,null,null,null,null,null,null,null,null,null,null,null,null,null,null,null,null,null,null,null,{"$f":"SUM(BA318:BA330)","v":0},{"$f":"SUM(BB318:BB330)","v":0},{"$f":"SUM(BC318:BC330)","v":0},{"$f":"SUM(BD318:BD330)","v":0},{"$f":"SUM(BE318:BE330)","v":0}]
["Díl:","45","Podkladní a vedlejší konstrukce",null,null,null,null,null,null,null,null,null,null,null,1]
[32,"452112111R00","Osazení beton. prstenců pod poklopy,výšky do100 mm ","kus",14,null,{"$f":"E333*F333","v":0},6.6E-3,{"$f":"E333*H333","v":9.2399999999999996E-2},0,{"$f":"E333*J333","v":0},null,null,null,2,null,null,null,null,null,null,null,null,null,null,null,1,1,1,null,null,null,null,null,null,null,null,null,null,null,null,null,null,null,null,null,null,null,null,null,null,1,{"$f":"IF(AZ333=1,G333,0)","v":0},{"$f":"IF(AZ333=2,G333,0)","v":0},{"$f":"IF(AZ333=3,G333,0)","v":0},{"$f":"IF(AZ333=4,G333,0)","v":0},{"$f":"IF(AZ333=5,G333,0)","v":0},null,null,null,null,null,null,null,null,null,null,null,null,null,null,null,null,null,null,null,null,null,1,1]
[null,null,"Volba položky se řídí výškou prstence nebo rámu. V položkách nejsou zakalkulovány náklady na dodávku betonových výrobků;",null,null,null,null,null,null,null,null,"Volba položky se řídí výškou prstence nebo rámu. V položkách nejsou zakalkulovány náklady na dodávku betonových výrobků;",null,null,3]
[null,null,"Revizní šachty:",null,0,null,null,null,null,null,null,null,"Revizní šachty:"]
[null,null,"VP H40:1",null,1,null,null,null,null,null,null,null,"VP H40:1"]
[null,null,"VP H60:6",null,6,null,null,null,null,null,null,null,"VP H60:6"]
[null,null,"VP H100:7",null,7,null,null,null,null,null,null,null,"VP H100:7"]
[33,"452112121R00","Osazení beton. prstenců pod poklopy,výšky do200 mm ","kus",6,null,{"$f":"E339*F339","v":0},6.6E-3,{"$f":"E339*H339","v":3.9599999999999996E-2},0,{"$f":"E339*J339","v":0},null,null,null,2,null,null,null,null,null,null,null,null,null,null,null,1,1,1,null,null,null,null,null,null,null,null,null,null,null,null,null,null,null,null,null,null,null,null,null,null,1,{"$f":"IF(AZ339=1,G339,0)","v":0},{"$f":"IF(AZ339=2,G339,0)","v":0},{"$f":"IF(AZ339=3,G339,0)","v":0},{"$f":"IF(AZ339=4,G339,0)","v":0},{"$f":"IF(AZ339=5,G339,0)","v":0},null,null,null,null,null,null,null,null,null,null,null,null,null,null,null,null,null,null,null,null,null,1,1]
[null,null,"Revizní šachty:",null,0,null,null,null,null,null,null,null,"Revizní šachty:"]
[null,null,"VP H120:6",null,6,null,null,null,null,null,null,null,"VP H120:6"]
[34,"452312131R00","Sedlové lože pod potrubí z betonu C 12/15 ","m3",105.1782,null,{"$f":"E342*F342","v":0},2.5,{"$f":"E342*H342","v":262.94550000000004},0,{"$f":"E342*J342","v":0},null,null,null,2,null,null,null,null,null,null,null,null,null,null,null,1,1,1,null,null,null,null,null,null,null,null,null,null,null,null,null,null,null,null,null,null,null,null,null,null,1,{"$f":"IF(AZ342=1,G342,0)","v":0},{"$f":"IF(AZ342=2,G342,0)","v":0},{"$f":"IF(AZ342=3,G342,0)","v":0},{"$f":"IF(AZ342=4,G342,0)","v":0},{"$f":"IF(AZ342=5,G342,0)","v":0},null,null,null,null,null,null,null,null,null,null,null,null,null,null,null,null,null,null,null,null,null,1,1]
[null,null,"Položka je určena pro práce v otevřeném výkopu",null,null,null,null,null,null,null,null,"Položka je určena pro práce v otevřeném výkopu",null,null,3]
[null,null,"Stoka \"B\" KT DN300:158,80*0,2700",null,42.875999999999998,null,null,null,null,null,null,null,"Stoka \"B\" KT DN300:158,80*0,2700"]
[null,null,"Stoka \"B\" KT DN400:164,00*0,2895",null,47.478000000000002,null,null,null,null,null,null,null,"Stoka \"B\" KT DN400:164,00*0,2895"]
[null,null,"Stoka \"C\" KT DN400:23,20*0,2895",null,6.7164000000000001,null,null,null,null,null,null,null,"Stoka \"C\" KT DN400:23,20*0,2895"]
[null,null,"Stoka \"D\" KT DN400:25,10*0,2895",null,7.2664,null,null,null,null,null,null,null,"Stoka \"D\" KT DN400:25,10*0,2895"]
[null,null,"Stoka \"G\" KT DN250:3,50*0,2404",null,0.84140000000000004,null,null,null,null,null,null,null,"Stoka \"G\" KT DN250:3,50*0,2404"]
[35,"59224345.B.R","Prstenec vyrovn šachetní TBW-Q.1 40/600/120","kus",1.01,null,{"$f":"E349*F349","v":0},2.8000000000000001E-2,{"$f":"E349*H349","v":2.828E-2},null,{"$f":"E349*J349","v":0},null,null,null,2,null,null,null,null,null,null,null,null,null,null,null,3,1,"59224345.B.R",null,null,null,null,null,null,null,null,null,null,null,null,null,null,null,null,null,null,null,null,null,null,1,{"$f":"IF(AZ349=1,G349,0)","v":0},{"$f":"IF(AZ349=2,G349,0)","v":0},{"$f":"IF(AZ349=3,G349,0)","v":0},{"$f":"IF(AZ349=4,G349,0)","v":0},{"$f":"IF(AZ349=5,G349,0)","v":0},null,null,null,null,null,null,null,null,null,null,null,null,null,null,null,null,null,null,null,null,null,3,1]
[null,null,"Revizní šachty:",null,0,null,null,null,null,null,null,null,"Revizní šachty:"]
[null,null,"VP H40:1*1,01",null,1.01,null,null,null,null,null,null,null,"VP H40:1*1,01"]
[36,"59224346.B.R","Prstenec vyrovn šachetní TBW-Q.1 60/600/120","kus",6.06,null,{"$f":"E352*F352","v":0},0.04,{"$f":"E352*H352","v":0.24239999999999998},null,{"$f":"E352*J352","v":0},null,null,null,2,null,null,null,null,null,null,null,null,null,null,null,3,1,"59224346.B.R",null,null,null,null,null,null,null,null,null,null,null,null,null,null,null,null,null,null,null,null,null,null,1,{"$f":"IF(AZ352=1,G352,0)","v":0},{"$f":"IF(AZ352=2,G352,0)","v":0},{"$f":"IF(AZ352=3,G352,0)","v":0},{"$f":"IF(AZ352=4,G352,0)","v":0},{"$f":"IF(AZ352=5,G352,0)","v":0},null,null,null,null,null,null,null,null,null,null,null,null,null,null,null,null,null,null,null,null,null,3,1]
[null,null,"Revizní šachty:",null,0,null,null,null,null,null,null,null,"Revizní šachty:"]
[null,null,"VP H60:6*1,01",null,6.06,null,null,null,null,null,null,null,"VP H60:6*1,01"]
[37,"59224348.B.R","Prstenec vyrovn šachetní TBW-Q.1 100/600/120","kus",7.07,null,{"$f":"E355*F355","v":0},6.8000000000000005E-2,{"$f":"E355*H355","v":0.48076000000000008},null,{"$f":"E355*J355","v":0},null,null,null,2,null,null,null,null,null,null,null,null,null,null,null,3,1,"59224348.B.R",null,null,null,null,null,null,null,null,null,null,null,null,null,null,null,null,null,null,null,null,null,null,1,{"$f":"IF(AZ355=1,G355,0)","v":0},{"$f":"IF(AZ355=2,G355,0)","v":0},{"$f":"IF(AZ355=3,G355,0)","v":0},{"$f":"IF(AZ355=4,G355,0)","v":0},{"$f":"IF(AZ355=5,G355,0)","v":0},null,null,null,null,null,null,null,null,null,null,null,null,null,null,null,null,null,null,null,null,null,3,1]
[null,null,"Revizní šachty:",null,0,null,null,null,null,null,null,null,"Revizní šachty:"]
[null,null,"VP H100:7*1,01",null,7.07,null,null,null,null,null,null,null,"VP H100:7*1,01"]
[38,"59224349.B.R","Prstenec vyrovn šachetní TBW-Q.1 120/600/120","kus",6.06,null,{"$f":"E358*F358","v":0},8.1000000000000003E-2,{"$f":"E358*H358","v":0.49085999999999996},null,{"$f":"E358*J358","v":0},null,null,null,2,null,null,null,null,null,null,null,null,null,null,null,3,1,"59224349.B.R",null,null,null,null,null,null,null,null,null,null,null,null,null,null,null,null,null,null,null,null,null,null,1,{"$f":"IF(AZ358=1,G358,0)","v":0},{"$f":"IF(AZ358=2,G358,0)","v":0},{"$f":"IF(AZ358=3,G358,0)","v":0},{"$f":"IF(AZ358=4,G358,0)","v":0},{"$f":"IF(AZ358=5,G358,0)","v":0},null,null,null,null,null,null,null,null,null,null,null,null,null,null,null,null,null,null,null,null,null,3,1]
[null,null,"Revizní šachty:",null,0,null,null,null,null,null,null,null,"Revizní šachty:"]
[null,null,"VP H120:6*1,01",null,6.06,null,null,null,null,null,null,null,"VP H120:6*1,01"]
[null,"Celkem za","45 Podkladní a vedlejší konstrukce",null,null,null,{"$f":"SUM(G332:G360)","v":0},null,{"$f":"SUM(I332:I360)","v":264.31979999999999},null,{"$f":"SUM(K332:K360)","v":0},null,null,null,4,null,null,null,null,null,null,null,null,null,null,null,null,null,null,null,null,null,null,null,null,null,null,null,null,null,null,null,null,null,null,null,null,null,null,null,null,null,{"$f":"SUM(BA332:BA360)","v":0},{"$f":"SUM(BB332:BB360)","v":0},{"$f":"SUM(BC332:BC360)","v":0},{"$f":"SUM(BD332:BD360)","v":0},{"$f":"SUM(BE332:BE360)","v":0}]
["Díl:","5","Komunikace",null,null,null,null,null,null,null,null,null,null,null,1]
[39,"566903111R00","Vyspravení podkladu po překopech kam.hrubě drceným ","t",220.58320000000001,null,{"$f":"E363*F363","v":0},1.1000000000000001,{"$f":"E363*H363","v":242.64152000000001},0,{"$f":"E363*J363","v":0},null,null,null,2,null,null,null,null,null,null,null,null,null,null,null,1,1,1,null,null,null,null,null,null,null,null,null,null,null,null,null,null,null,null,null,null,null,null,null,null,1,{"$f":"IF(AZ363=1,G363,0)","v":0},{"$f":"IF(AZ363=2,G363,0)","v":0},{"$f":"IF(AZ363=3,G363,0)","v":0},{"$f":"IF(AZ363=4,G363,0)","v":0},{"$f":"IF(AZ363=5,G363,0)","v":0},null,null,null,null,null,null,null,null,null,null,null,null,null,null,null,null,null,null,null,null,null,1,1]
[null,null,"Stoka \"B\" KT DN300 a DN400:",null,0,null,null,null,null,null,null,null,"Stoka \"B\" KT DN300 a DN400:"]
[null,null,"Konstrukce komunikace:(164,00*1,25+158,80*1,20+1,60*(1,60-1,25)*11+1,60*(1,60-1,20)*4)*0,25*1,873",null,189.30410000000001,null,null,null,null,null,null,null,"Konstrukce komunikace:(164,00*1,25+158,80*1,20+1,60*(1,60-1,25)*11+1,60*(1,60-1,20)*4)*0,25*1,873"]
[null,null,"Stoka \"C\" KT DN400:",null,0,null,null,null,null,null,null,null,"Stoka \"C\" KT DN400:"]
[null,null,"Konstrukce komunikace:(23,20*1,25+1,60*(1,60-1,25)*1)*0,25*1,873",null,13.8415,null,null,null,null,null,null,null,"Konstrukce komunikace:(23,20*1,25+1,60*(1,60-1,25)*1)*0,25*1,873"]
[null,null,"Stoka \"D\" KT DN400:",null,0,null,null,null,null,null,null,null,"Stoka \"D\" KT DN400:"]
[null,null,"Konstrukce komunikace:(25,10*1,25+1,60*(1,60-1,25)*2)*0,25*1,873",null,15.2158,null,null,null,null,null,null,null,"Konstrukce komunikace:(25,10*1,25+1,60*(1,60-1,25)*2)*0,25*1,873"]
[null,null,"Stoka \"G\" KT DN250:",null,0,null,null,null,null,null,null,null,"Stoka \"G\" KT DN250:"]
[null,null,"Konstrukce komunikace:(3,50*1,15+1,60*(1,60-1,15)*1)*0,25*1,873",null,2.2218,null,null,null,null,null,null,null,"Konstrukce komunikace:(3,50*1,15+1,60*(1,60-1,15)*1)*0,25*1,873"]
[40,"566904111R00","Vyspravení podkladu po překopech kam.obal.asfaltem ","t",176.655,null,{"$f":"E372*F372","v":0},1,{"$f":"E372*H372","v":176.655},0,{"$f":"E372*J372","v":0},null,null,null,2,null,null,null,null,null,null,null,null,null,null,null,1,1,1,null,null,null,null,null,null,null,null,null,null,null,null,null,null,null,null,null,null,null,null,null,null,1,{"$f":"IF(AZ372=1,G372,0)","v":0},{"$f":"IF(AZ372=2,G372,0)","v":0},{"$f":"IF(AZ372=3,G372,0)","v":0},{"$f":"IF(AZ372=4,G372,0)","v":0},{"$f":"IF(AZ372=5,G372,0)","v":0},null,null,null,null,null,null,null,null,null,null,null,null,null,null,null,null,null,null,null,null,null,1,1]
[null,null,"Stoka \"B\" KT DN300 a DN400:",null,0,null,null,null,null,null,null,null,"Stoka \"B\" KT DN300 a DN400:"]
[null,null,"Konstrukce komunikace:(164,00*1,25+158,80*1,20+1,60*(1,60-1,25)*11+1,60*(1,60-1,20)*4)*0,15*2,5",null,151.60499999999999,null,null,null,null,null,null,null,"Konstrukce komunikace:(164,00*1,25+158,80*1,20+1,60*(1,60-1,25)*11+1,60*(1,60-1,20)*4)*0,15*2,5"]
[null,null,"Stoka \"C\" KT DN400:",null,0,null,null,null,null,null,null,null,"Stoka \"C\" KT DN400:"]
[null,null,"Konstrukce komunikace:(23,20*1,25+1,60*(1,60-1,25)*1)*0,15*2,5",null,11.085000000000001,null,null,null,null,null,null,null,"Konstrukce komunikace:(23,20*1,25+1,60*(1,60-1,25)*1)*0,15*2,5"]
[null,null,"Stoka \"D\" KT DN400:",null,0,null,null,null,null,null,null,null,"Stoka \"D\" KT DN400:"]
[null,null,"Konstrukce komunikace:(25,10*1,25+1,60*(1,60-1,25)*2)*0,15*2,5",null,12.185600000000001,null,null,null,null,null,null,null,"Konstrukce komunikace:(25,10*1,25+1,60*(1,60-1,25)*2)*0,15*2,5"]
[null,null,"Stoka \"G\" KT DN250:",null,0,null,null,null,null,null,null,null,"Stoka \"G\" KT DN250:"]
[null,null,"Konstrukce komunikace:(3,50*1,15+1,60*(1,60-1,15)*1)*0,15*2,5",null,1.7794000000000001,null,null,null,null,null,null,null,"Konstrukce komunikace:(3,50*1,15+1,60*(1,60-1,15)*1)*0,15*2,5"]
[null,"Celkem za","5 Komunikace",null,null,null,{"$f":"SUM(G362:G380)","v":0},null,{"$f":"SUM(I362:I380)","v":419.29651999999999},null,{"$f":"SUM(K362:K380)","v":0},null,null,null,4,null,null,null,null,null,null,null,null,null,null,null,null,null,null,null,null,null,null,null,null,null,null,null,null,null,null,null,null,null,null,null,null,null,null,null,null,null,{"$f":"SUM(BA362:BA380)","v":0},{"$f":"SUM(BB362:BB380)","v":0},{"$f":"SUM(BC362:BC380)","v":0},{"$f":"SUM(BD362:BD380)","v":0},{"$f":"SUM(BE362:BE380)","v":0}]
["Díl:","8","Trubní vedení",null,null,null,null,null,null,null,null,null,null,null,1]
[41,"831362121R00","Montáž trub kameninových, pryž. kroužek, DN 250 ","m",3.5,null,{"$f":"E383*F383","v":0},3.0000000000000001E-5,{"$f":"E383*H383","v":1.05E-4},0,{"$f":"E383*J383","v":0},null,null,null,2,null,null,null,null,null,null,null,null,null,null,null,1,1,1,null,null,null,null,null,null,null,null,null,null,null,null,null,null,null,null,null,null,null,null,null,null,1,{"$f":"IF(AZ383=1,G383,0)","v":0},{"$f":"IF(AZ383=2,G383,0)","v":0},{"$f":"IF(AZ383=3,G383,0)","v":0},{"$f":"IF(AZ383=4,G383,0)","v":0},{"$f":"IF(AZ383=5,G383,0)","v":0},null,null,null,null,null,null,null,null,null,null,null,null,null,null,null,null,null,null,null,null,null,1,1]
[null,null,"Položka je určena pro montáž potrubí z trub kameninových těsněných pryžovým kroužkem v otevřeném výkopu ve sklonu do 20 %.",null,null,null,null,null,null,null,null,"Položka je určena pro montáž potrubí z trub kameninových těsněných pryžovým kroužkem v otevřeném výkopu ve sklonu do 20 %.",null,null,3]
[null,null,"Stoka \"G\" KT DN250:3,50",null,3.5,null,null,null,null,null,null,null,"Stoka \"G\" KT DN250:3,50"]
[42,"831372121R00","Montáž trub kameninových, pryž. kroužek, DN 300 ","m",158.80000000000001,null,{"$f":"E386*F386","v":0},4.0000000000000003E-5,{"$f":"E386*H386","v":6.3520000000000009E-3},0,{"$f":"E386*J386","v":0},null,null,null,2,null,null,null,null,null,null,null,null,null,null,null,1,1,1,null,null,null,null,null,null,null,null,null,null,null,null,null,null,null,null,null,null,null,null,null,null,1,{"$f":"IF(AZ386=1,G386,0)","v":0},{"$f":"IF(AZ386=2,G386,0)","v":0},{"$f":"IF(AZ386=3,G386,0)","v":0},{"$f":"IF(AZ386=4,G386,0)","v":0},{"$f":"IF(AZ386=5,G386,0)","v":0},null,null,null,null,null,null,null,null,null,null,null,null,null,null,null,null,null,null,null,null,null,1,1]
[null,null,"Položka je určena pro montáž potrubí z trub kameninových s polyuretanovým spojem v otevřeném výkopu ve sklonu do 20 %.",null,null,null,null,null,null,null,null,"Položka je určena pro montáž potrubí z trub kameninových s polyuretanovým spojem v otevřeném výkopu ve sklonu do 20 %.",null,null,3]
[null,null,"Stoka \"B\" KT DN300:158,80",null,158.80000000000001,null,null,null,null,null,null,null,"Stoka \"B\" KT DN300:158,80"]
[43,"831392121R00","Montáž trub kameninových, pryž. kroužek, DN 400 ","m",212.3,null,{"$f":"E389*F389","v":0},6.0000000000000002E-5,{"$f":"E389*H389","v":1.2738000000000001E-2},0,{"$f":"E389*J389","v":0},null,null,null,2,null,null,null,null,null,null,null,null,null,null,null,1,1,1,null,null,null,null,null,null,null,null,null,null,null,null,null,null,null,null,null,null,null,null,null,null,1,{"$f":"IF(AZ389=1,G389,0)","v":0},{"$f":"IF(AZ389=2,G389,0)","v":0},{"$f":"IF(AZ389=3,G389,0)","v":0},{"$f":"IF(AZ389=4,G389,0)","v":0},{"$f":"IF(AZ389=5,G389,0)","v":0},null,null,null,null,null,null,null,null,null,null,null,null,null,null,null,null,null,null,null,null,null,1,1]
[null,null,"Položka je určena pro montáž potrubí z trub kameninových s polyuretanovým spojem v otevřeném výkopu ve sklonu do 20 %.",null,null,null,null,null,null,null,null,"Položka je určena pro montáž potrubí z trub kameninových s polyuretanovým spojem v otevřeném výkopu ve sklonu do 20 %.",null,null,3]
[null,null,"Stoka \"B\" KT DN400:164,00",null,164,null,null,null,null,null,null,null,"Stoka \"B\" KT DN400:164,00"]
[null,null,"Stoka \"C\" KT DN400:23,20",null,23.2,null,null,null,null,null,null,null,"Stoka \"C\" KT DN400:23,20"]
[null,null,"Stoka \"D\" KT DN400:25,10",null,25.1,null,null,null,null,null,null,null,"Stoka \"D\" KT DN400:25,10"]
[44,"837312221R00","Montáž tvarov. kamenin. jednoos. pryž. kr. DN 150 ","kus",4,null,{"$f":"E394*F394","v":0},2.0000000000000002E-5,{"$f":"E394*H394","v":8.0000000000000007E-5},0,{"$f":"E394*J394","v":0},null,null,null,2,null,null,null,null,null,null,null,null,null,null,null,1,1,1,null,null,null,null,null,null,null,null,null,null,null,null,null,null,null,null,null,null,null,null,null,null,1,{"$f":"IF(AZ394=1,G394,0)","v":0},{"$f":"IF(AZ394=2,G394,0)","v":0},{"$f":"IF(AZ394=3,G394,0)","v":0},{"$f":"IF(AZ394=4,G394,0)","v":0},{"$f":"IF(AZ394=5,G394,0)","v":0},null,null,null,null,null,null,null,null,null,null,null,null,null,null,null,null,null,null,null,null,null,1,1]
[null,null,"Položka je určena pro montáž kameninových tvarovek jednoosých těsněných przžovým kroužkem na potrubí z trub kameninových v otevřeném výkopu.",null,null,null,null,null,null,null,null,"Položka je určena pro montáž kameninových tvarovek jednoosých těsněných przžovým kroužkem na potrubí z trub kameninových v otevřeném výkopu.",null,null,3]
[null,null,"Stoka \"B\" KT DN400 a DN300:",null,0,null,null,null,null,null,null,null,"Stoka \"B\" KT DN400 a DN300:"]
[null,null,"Ucpávky DN150 do odboček pro UV:4",null,4,null,null,null,null,null,null,null,"Ucpávky DN150 do odboček pro UV:4"]
[45,"837371221R00","Montáž tvarov. kamenin. odboč. pryž. krouž. DN 300 ","kus",12,null,{"$f":"E398*F398","v":0},6.9999999999999994E-5,{"$f":"E398*H398","v":8.3999999999999993E-4},0,{"$f":"E398*J398","v":0},null,null,null,2,null,null,null,null,null,null,null,null,null,null,null,1,1,1,null,null,null,null,null,null,null,null,null,null,null,null,null,null,null,null,null,null,null,null,null,null,1,{"$f":"IF(AZ398=1,G398,0)","v":0},{"$f":"IF(AZ398=2,G398,0)","v":0},{"$f":"IF(AZ398=3,G398,0)","v":0},{"$f":"IF(AZ398=4,G398,0)","v":0},{"$f":"IF(AZ398=5,G398,0)","v":0},null,null,null,null,null,null,null,null,null,null,null,null,null,null,null,null,null,null,null,null,null,1,1]
[null,null,"Položka je určena pro montáž kameninových tvarovek odbočných těsněných pryžovými kroužky na potrubí z trub kameninových v otevřeném výkopu.",null,null,null,null,null,null,null,null,"Položka je určena pro montáž kameninových tvarovek odbočných těsněných pryžovými kroužky na potrubí z trub kameninových v otevřeném výkopu.",null,null,3]
[null,null,"Pro volbu položky je rozhodující DN hlavního řadu.",null,null,null,null,null,null,null,null,"Pro volbu položky je rozhodující DN hlavního řadu.",null,null,3]
[null,null,"Stoka \"B\" KT DN400 a DN300:",null,0,null,null,null,null,null,null,null,"Stoka \"B\" KT DN400 a DN300:"]
[null,null,"Odbočka KT DN300/150 pro UV:3",null,3,null,null,null,null,null,null,null,"Odbočka KT DN300/150 pro UV:3"]
[null,null,"Odbočka KT DN300/150 pro KP:9",null,9,null,null,null,null,null,null,null,"Odbočka KT DN300/150 pro KP:9"]
[46,"837391221R00","Montáž tvarov. kamenin. odboč. pryž. krouž. DN 400 ","kus",5,null,{"$f":"E404*F404","v":0},8.0000000000000007E-5,{"$f":"E404*H404","v":4.0000000000000002E-4},0,{"$f":"E404*J404","v":0},null,null,null,2,null,null,null,null,null,null,null,null,null,null,null,1,1,1,null,null,null,null,null,null,null,null,null,null,null,null,null,null,null,null,null,null,null,null,null,null,1,{"$f":"IF(AZ404=1,G404,0)","v":0},{"$f":"IF(AZ404=2,G404,0)","v":0},{"$f":"IF(AZ404=3,G404,0)","v":0},{"$f":"IF(AZ404=4,G404,0)","v":0},{"$f":"IF(AZ404=5,G404,0)","v":0},null,null,null,null,null,null,null,null,null,null,null,null,null,null,null,null,null,null,null,null,null,1,1]
[null,null,"Položka je určena pro montáž kameninových tvarovek odbočných těsněných pryžovými nebo polyuretanovými spoji na potrubí z trub kameninových v otevřeném výkopu.",null,null,null,null,null,null,null,null,"Položka je určena pro montáž kameninových tvarovek odbočných těsněných pryžovými nebo polyuretanovými spoji na potrubí z trub kameninových v otevřeném výkopu.",null,null,3]
[null,null,"Pro volbu položky je rozhodující DN hlavního řadu.",null,null,null,null,null,null,null,null,"Pro volbu položky je rozhodující DN hlavního řadu.",null,null,3]
[null,null,"Stoka \"B\" KT DN400 a DN300:",null,0,null,null,null,null,null,null,null,"Stoka \"B\" KT DN400 a DN300:"]
[null,null,"Odbočka KT DN400/150 pro UV:1",null,1,null,null,null,null,null,null,null,"Odbočka KT DN400/150 pro UV:1"]
[null,null,"Odbočka KT DN400/150 pro KP:4",null,4,null,null,null,null,null,null,null,"Odbočka KT DN400/150 pro KP:4"]
[47,"891183450RX5","Propojeníí potrubí BT DN250 na novou RŠ včetně dodávky propojovací tvarovky","kus",1,null,{"$f":"E410*F410","v":0},0.16800000000000001,{"$f":"E410*H410","v":0.16800000000000001},0,{"$f":"E410*J410","v":0},null,null,null,2,null,null,null,null,null,null,null,null,null,null,null,1,1,1,null,null,null,null,null,null,null,null,null,null,null,null,null,null,null,null,null,null,null,null,null,null,1,{"$f":"IF(AZ410=1,G410,0)","v":0},{"$f":"IF(AZ410=2,G410,0)","v":0},{"$f":"IF(AZ410=3,G410,0)","v":0},{"$f":"IF(AZ410=4,G410,0)","v":0},{"$f":"IF(AZ410=5,G410,0)","v":0},null,null,null,null,null,null,null,null,null,null,null,null,null,null,null,null,null,null,null,null,null,1,1]
[null,null,"Položka obsahuje úpravu stávajícího potrubí včetně a napojení na novou RŠ, jeho utěsnění a obetonování dle projektové dokumentace.",null,null,null,null,null,null,null,null,"Položka obsahuje úpravu stávajícího potrubí včetně a napojení na novou RŠ, jeho utěsnění a obetonování dle projektové dokumentace.",null,null,3]
[null,null,"Stoka \"G\" KT DN250:1",null,1,null,null,null,null,null,null,null,"Stoka \"G\" KT DN250:1"]
[48,"891183450RX6","Propojeníí potrubí BT DN300 na novou RŠ včetně dodávky propojovací tvarovky","kus",2,null,{"$f":"E413*F413","v":0},0.16800000000000001,{"$f":"E413*H413","v":0.33600000000000002},0,{"$f":"E413*J413","v":0},null,null,null,2,null,null,null,null,null,null,null,null,null,null,null,1,1,1,null,null,null,null,null,null,null,null,null,null,null,null,null,null,null,null,null,null,null,null,null,null,1,{"$f":"IF(AZ413=1,G413,0)","v":0},{"$f":"IF(AZ413=2,G413,0)","v":0},{"$f":"IF(AZ413=3,G413,0)","v":0},{"$f":"IF(AZ413=4,G413,0)","v":0},{"$f":"IF(AZ413=5,G413,0)","v":0},null,null,null,null,null,null,null,null,null,null,null,null,null,null,null,null,null,null,null,null,null,1,1]
[null,null,"Položka obsahuje úpravu stávajícího potrubí včetně a napojení na novou RŠ, jeho utěsnění a obetonování dle projektové dokumentace.",null,null,null,null,null,null,null,null,"Položka obsahuje úpravu stávajícího potrubí včetně a napojení na novou RŠ, jeho utěsnění a obetonování dle projektové dokumentace.",null,null,3]
[null,null,"Stoka \"C\" KT DN400:1",null,1,null,null,null,null,null,null,null,"Stoka \"C\" KT DN400:1"]
[null,null,"Stoka \"D\" KT DN400:1",null,1,null,null,null,null,null,null,null,"Stoka \"D\" KT DN400:1"]
[49,"892601154R00","Čištění kanalizační stoky do DN 500, nad 100 m ","m",374.6,null,{"$f":"E417*F417","v":0},0,{"$f":"E417*H417","v":0},0,{"$f":"E417*J417","v":0},null,null,null,2,null,null,null,null,null,null,null,null,null,null,null,1,1,1,null,null,null,null,null,null,null,null,null,null,null,null,null,null,null,null,null,null,null,null,null,null,1,{"$f":"IF(AZ417=1,G417,0)","v":0},{"$f":"IF(AZ417=2,G417,0)","v":0},{"$f":"IF(AZ417=3,G417,0)","v":0},{"$f":"IF(AZ417=4,G417,0)","v":0},{"$f":"IF(AZ417=5,G417,0)","v":0},null,null,null,null,null,null,null,null,null,null,null,null,null,null,null,null,null,null,null,null,null,1,1]
[null,null,"V položce je zakalkulováno:",null,null,null,null,null,null,null,null,"V položce je zakalkulováno:",null,null,3]
[null,null,"a) otevření a uzavření revizních šachet a čisticích kusů",null,null,null,null,null,null,null,null,"a) otevření a uzavření revizních šachet a čisticích kusů",null,null,3]
[null,null,"b) natažení vysokotlakých hadic k místu odkud se bude kanalizace čistit",null,null,null,null,null,null,null,null,"b) natažení vysokotlakých hadic k místu odkud se bude kanalizace čistit",null,null,3]
[null,null,"c) vyčištění potrubí tlakovou vodou nebo motorovým pérem.",null,null,null,null,null,null,null,null,"c) vyčištění potrubí tlakovou vodou nebo motorovým pérem.",null,null,3]
[null,null,"Stoka \"B\" KT DN300:158,80",null,158.80000000000001,null,null,null,null,null,null,null,"Stoka \"B\" KT DN300:158,80"]
[null,null,"Stoka \"B\" KT DN400:164,00",null,164,null,null,null,null,null,null,null,"Stoka \"B\" KT DN400:164,00"]
[null,null,"Stoka \"C\" KT DN400:23,20",null,23.2,null,null,null,null,null,null,null,"Stoka \"C\" KT DN400:23,20"]
[null,null,"Stoka \"D\" KT DN400:25,10",null,25.1,null,null,null,null,null,null,null,"Stoka \"D\" KT DN400:25,10"]
[null,null,"Stoka \"G\" KT DN250:3,50",null,3.5,null,null,null,null,null,null,null,"Stoka \"G\" KT DN250:3,50"]
[50,"892855115R00","Kontrola kanalizace TV kamerou do 500 m ","m",374.6,null,{"$f":"E427*F427","v":0},0,{"$f":"E427*H427","v":0},0,{"$f":"E427*J427","v":0},null,null,null,2,null,null,null,null,null,null,null,null,null,null,null,1,1,1,null,null,null,null,null,null,null,null,null,null,null,null,null,null,null,null,null,null,null,null,null,null,1,{"$f":"IF(AZ427=1,G427,0)","v":0},{"$f":"IF(AZ427=2,G427,0)","v":0},{"$f":"IF(AZ427=3,G427,0)","v":0},{"$f":"IF(AZ427=4,G427,0)","v":0},{"$f":"IF(AZ427=5,G427,0)","v":0},null,null,null,null,null,null,null,null,null,null,null,null,null,null,null,null,null,null,null,null,null,1,1]
[null,null,"Provedení kaberové prohlídky včetně dodání elektronického záznamu na CD zadavateli a tištěné dokumentace průběhu kamerové prohlídky",null,null,null,null,null,null,null,null,"Provedení kaberové prohlídky včetně dodání elektronického záznamu na CD zadavateli a tištěné dokumentace průběhu kamerové prohlídky",null,null,3]
[null,null,"Stoka \"B\" KT DN300:158,80",null,158.80000000000001,null,null,null,null,null,null,null,"Stoka \"B\" KT DN300:158,80"]
[null,null,"Stoka \"B\" KT DN400:164,00",null,164,null,null,null,null,null,null,null,"Stoka \"B\" KT DN400:164,00"]
[null,null,"Stoka \"C\" KT DN400:23,20",null,23.2,null,null,null,null,null,null,null,"Stoka \"C\" KT DN400:23,20"]
[null,null,"Stoka \"D\" KT DN400:25,10",null,25.1,null,null,null,null,null,null,null,"Stoka \"D\" KT DN400:25,10"]
[null,null,"Stoka \"G\" KT DN250:3,50",null,3.5,null,null,null,null,null,null,null,"Stoka \"G\" KT DN250:3,50"]
[51,"894421111RT1","Osazení betonových dílců šachet skruže rovné, na kroužek, do 0,5 t","kus",7,null,{"$f":"E434*F434","v":0},0,{"$f":"E434*H434","v":0},0,{"$f":"E434*J434","v":0},null,null,null,2,null,null,null,null,null,null,null,null,null,null,null,1,1,1,null,null,null,null,null,null,null,null,null,null,null,null,null,null,null,null,null,null,null,null,null,null,1,{"$f":"IF(AZ434=1,G434,0)","v":0},{"$f":"IF(AZ434=2,G434,0)","v":0},{"$f":"IF(AZ434=3,G434,0)","v":0},{"$f":"IF(AZ434=4,G434,0)","v":0},{"$f":"IF(AZ434=5,G434,0)","v":0},null,null,null,null,null,null,null,null,null,null,null,null,null,null,null,null,null,null,null,null,null,1,1]
[null,null,"Položka je určena pro osazení betonových dílců šachet dle DIN 4034, skruže rovné na kroužek, hmotnost do 0,5 t.",null,null,null,null,null,null,null,null,"Položka je určena pro osazení betonových dílců šachet dle DIN 4034, skruže rovné na kroužek, hmotnost do 0,5 t.",null,null,3]
[null,null,"V položce nejsou zakalkulovány náklady na dodání betonových dílců; dílce se oceňují ve specifikaci.",null,null,null,null,null,null,null,null,"V položce nejsou zakalkulovány náklady na dodání betonových dílců; dílce se oceňují ve specifikaci.",null,null,3]
[null,null,"Revizní šachty:",null,0,null,null,null,null,null,null,null,"Revizní šachty:"]
[null,null,"Skruř H250:7",null,7,null,null,null,null,null,null,null,"Skruř H250:7"]
[52,"894421112RT1","Osazení betonových dílců šachet skruže rovné, na kroužek, do 1,4 t","kus",11,null,{"$f":"E439*F439","v":0},0,{"$f":"E439*H439","v":0},0,{"$f":"E439*J439","v":0},null,null,null,2,null,null,null,null,null,null,null,null,null,null,null,1,1,1,null,null,null,null,null,null,null,null,null,null,null,null,null,null,null,null,null,null,null,null,null,null,1,{"$f":"IF(AZ439=1,G439,0)","v":0},{"$f":"IF(AZ439=2,G439,0)","v":0},{"$f":"IF(AZ439=3,G439,0)","v":0},{"$f":"IF(AZ439=4,G439,0)","v":0},{"$f":"IF(AZ439=5,G439,0)","v":0},null,null,null,null,null,null,null,null,null,null,null,null,null,null,null,null,null,null,null,null,null,1,1]
[null,null,"Položka je určena pro osazení betonových dílců šachet dle DIN 4034, skruže rovné na kroužek, hmotnost přes 0,5 do 1,4 t.",null,null,null,null,null,null,null,null,"Položka je určena pro osazení betonových dílců šachet dle DIN 4034, skruže rovné na kroužek, hmotnost přes 0,5 do 1,4 t.",null,null,3]
[null,null,"V položce nejsou zakalkulovány náklady na dodání betonových dílců; dílce se oceňují ve specifikaci.",null,null,null,null,null,null,null,null,"V položce nejsou zakalkulovány náklady na dodání betonových dílců; dílce se oceňují ve specifikaci.",null,null,3]
[null,null,"Revizní šachty:",null,0,null,null,null,null,null,null,null,"Revizní šachty:"]
[null,null,"Skruž H500:10",null,10,null,null,null,null,null,null,null,"Skruž H500:10"]
[null,null,"Skruž H1000:1",null,1,null,null,null,null,null,null,null,"Skruž H1000:1"]
[53,"894422111RT1","Osazení betonových dílců šachet skruže přechodové, na kroužek","kus",16,null,{"$f":"E445*F445","v":0},0,{"$f":"E445*H445","v":0},0,{"$f":"E445*J445","v":0},null,null,null,2,null,null,null,null,null,null,null,null,null,null,null,1,1,1,null,null,null,null,null,null,null,null,null,null,null,null,null,null,null,null,null,null,null,null,null,null,1,{"$f":"IF(AZ445=1,G445,0)","v":0},{"$f":"IF(AZ445=2,G445,0)","v":0},{"$f":"IF(AZ445=3,G445,0)","v":0},{"$f":"IF(AZ445=4,G445,0)","v":0},{"$f":"IF(AZ445=5,G445,0)","v":0},null,null,null,null,null,null,null,null,null,null,null,null,null,null,null,null,null,null,null,null,null,1,1]
[null,null,"Položka je určena pro osazení betonových dílců šachet dle DIN 4034, skruže přechodové na kroužek.",null,null,null,null,null,null,null,null,"Položka je určena pro osazení betonových dílců šachet dle DIN 4034, skruže přechodové na kroužek.",null,null,3]
[null,null,"V položce nejsou zakalkulovány náklady na dodání betonových dílců",null,null,null,null,null,null,null,null,"V položce nejsou zakalkulovány náklady na dodání betonových dílců",null,null,3]
[null,null,"Revizní šachty:",null,0,null,null,null,null,null,null,null,"Revizní šachty:"]
[null,null,"Kónus H600:14",null,14,null,null,null,null,null,null,null,"Kónus H600:14"]
[null,null,"ZD H250:2",null,2,null,null,null,null,null,null,null,"ZD H250:2"]
[54,"894423111RT1","Osazení betonových dílců šachet do 2,0 t šachtová dna, na kroužek, do 2,0 t","kus",13,null,{"$f":"E451*F451","v":0},0,{"$f":"E451*H451","v":0},0,{"$f":"E451*J451","v":0},null,null,null,2,null,null,null,null,null,null,null,null,null,null,null,1,1,1,null,null,null,null,null,null,null,null,null,null,null,null,null,null,null,null,null,null,null,null,null,null,1,{"$f":"IF(AZ451=1,G451,0)","v":0},{"$f":"IF(AZ451=2,G451,0)","v":0},{"$f":"IF(AZ451=3,G451,0)","v":0},{"$f":"IF(AZ451=4,G451,0)","v":0},{"$f":"IF(AZ451=5,G451,0)","v":0},null,null,null,null,null,null,null,null,null,null,null,null,null,null,null,null,null,null,null,null,null,1,1]
[null,null,"Položka je určena pro osazení betonových dílců šachet dle DIN 4034, šachtová dna na kroužek, hmotnost do 2,0 t. včetně dodávky a provedení podkladního betonového lože.",null,null,null,null,null,null,null,null,"Položka je určena pro osazení betonových dílců šachet dle DIN 4034, šachtová dna na kroužek, hmotnost do 2,0 t. včetně dodávky a provedení podkladního betonového lože.",null,null,3]
[null,null,"V položce nejsou zakalkulovány náklady na dodání betonových dílců;",null,null,null,null,null,null,null,null,"V položce nejsou zakalkulovány náklady na dodání betonových dílců;",null,null,3]
[null,null,"Revizní šachty:",null,0,null,null,null,null,null,null,null,"Revizní šachty:"]
[null,null,"ŠD 250/800:1",null,1,null,null,null,null,null,null,null,"ŠD 250/800:1"]
[null,null,"ŠD 300/600:4",null,4,null,null,null,null,null,null,null,"ŠD 300/600:4"]
[null,null,"ŠD 400/800:8",null,8,null,null,null,null,null,null,null,"ŠD 400/800:8"]
[55,"894423114R00","Osazení betonových dílců šachet do 5,0 t šachtová dna, na kroužek, do 5,0 t","kus",2,null,{"$f":"E458*F458","v":0},0,{"$f":"E458*H458","v":0},0,{"$f":"E458*J458","v":0},null,null,null,2,null,null,null,null,null,null,null,null,null,null,null,1,1,1,null,null,null,null,null,null,null,null,null,null,null,null,null,null,null,null,null,null,null,null,null,null,1,{"$f":"IF(AZ458=1,G458,0)","v":0},{"$f":"IF(AZ458=2,G458,0)","v":0},{"$f":"IF(AZ458=3,G458,0)","v":0},{"$f":"IF(AZ458=4,G458,0)","v":0},{"$f":"IF(AZ458=5,G458,0)","v":0},null,null,null,null,null,null,null,null,null,null,null,null,null,null,null,null,null,null,null,null,null,1,1]
[null,null,"Položka je určena pro osazení betonových dílců šachet dle DIN 4034, šachtová dna na kroužek, hmotnost do 5,0 t. včetně dodávky a provedení podkladního betonového lože.",null,null,null,null,null,null,null,null,"Položka je určena pro osazení betonových dílců šachet dle DIN 4034, šachtová dna na kroužek, hmotnost do 5,0 t. včetně dodávky a provedení podkladního betonového lože.",null,null,3]
[null,null,"V položce nejsou zakalkulovány náklady na dodání betonových dílců;",null,null,null,null,null,null,null,null,"V položce nejsou zakalkulovány náklady na dodání betonových dílců;",null,null,3]
[null,null,"Revizní šachty:",null,0,null,null,null,null,null,null,null,"Revizní šachty:"]
[null,null,"ŠD 400/1200:2",null,2,null,null,null,null,null,null,null,"ŠD 400/1200:2"]
[56,"899102111R00","Osazení poklopu s rámem do 100 kg ","kus",15,null,{"$f":"E463*F463","v":0},7.0200000000000002E-3,{"$f":"E463*H463","v":0.1053},0,{"$f":"E463*J463","v":0},null,null,null,2,null,null,null,null,null,null,null,null,null,null,null,1,1,1,null,null,null,null,null,null,null,null,null,null,null,null,null,null,null,null,null,null,null,null,null,null,1,{"$f":"IF(AZ463=1,G463,0)","v":0},{"$f":"IF(AZ463=2,G463,0)","v":0},{"$f":"IF(AZ463=3,G463,0)","v":0},{"$f":"IF(AZ463=4,G463,0)","v":0},{"$f":"IF(AZ463=5,G463,0)","v":0},null,null,null,null,null,null,null,null,null,null,null,null,null,null,null,null,null,null,null,null,null,1,1]
[null,null,"Osazení provizorních poklopů během realizace stavby  (nefakturovaný materiál zhotovitele)",null,null,null,null,null,null,null,null,"Osazení provizorních poklopů během realizace stavby  (nefakturovaný materiál zhotovitele)",null,null,3]
[null,null,"Revizní šachty:",null,0,null,null,null,null,null,null,null,"Revizní šachty:"]
[null,null,"Stoka \"B\" KT DN300 a DN400:11",null,11,null,null,null,null,null,null,null,"Stoka \"B\" KT DN300 a DN400:11"]
[null,null,"Stoka \"C\" KT DN400:1",null,1,null,null,null,null,null,null,null,"Stoka \"C\" KT DN400:1"]
[null,null,"Stoka \"D\" KT DN400:2",null,2,null,null,null,null,null,null,null,"Stoka \"D\" KT DN400:2"]
[null,null,"Stoka \"G\" KT DN250:1",null,1,null,null,null,null,null,null,null,"Stoka \"G\" KT DN250:1"]
[57,"899711122R00","Fólie výstražná z PVC šedá, šířka 30 cm ","m",374.6,null,{"$f":"E470*F470","v":0},0,{"$f":"E470*H470","v":0},0,{"$f":"E470*J470","v":0},null,null,null,2,null,null,null,null,null,null,null,null,null,null,null,1,1,1,null,null,null,null,null,null,null,null,null,null,null,null,null,null,null,null,null,null,null,null,null,null,1,{"$f":"IF(AZ470=1,G470,0)","v":0},{"$f":"IF(AZ470=2,G470,0)","v":0},{"$f":"IF(AZ470=3,G470,0)","v":0},{"$f":"IF(AZ470=4,G470,0)","v":0},{"$f":"IF(AZ470=5,G470,0)","v":0},null,null,null,null,null,null,null,null,null,null,null,null,null,null,null,null,null,null,null,null,null,1,1]
[null,null,"Stoka \"B\" KT DN300:158,80",null,158.80000000000001,null,null,null,null,null,null,null,"Stoka \"B\" KT DN300:158,80"]
[null,null,"Stoka \"B\" KT DN400:164,00",null,164,null,null,null,null,null,null,null,"Stoka \"B\" KT DN400:164,00"]
[null,null,"Stoka \"C\" KT DN400:23,20",null,23.2,null,null,null,null,null,null,null,"Stoka \"C\" KT DN400:23,20"]
[null,null,"Stoka \"D\" KT DN400:25,10",null,25.1,null,null,null,null,null,null,null,"Stoka \"D\" KT DN400:25,10"]
[null,null,"Stoka \"G\" KT DN250:3,50",null,3.5,null,null,null,null,null,null,null,"Stoka \"G\" KT DN250:3,50"]
[58,"592243541.R","Přechodová deska TZK-Q.1 1200/1000/250 D400 INTEGR","kus",1.01,null,{"$f":"E476*F476","v":0},0.37,{"$f":"E476*H476","v":0.37369999999999998},null,{"$f":"E476*J476","v":0},null,null,null,2,null,null,null,null,null,null,null,null,null,null,null,3,1,"592243541.R",null,null,null,null,null,null,null,null,null,null,null,null,null,null,null,null,null,null,null,null,null,null,1,{"$f":"IF(AZ476=1,G476,0)","v":0},{"$f":"IF(AZ476=2,G476,0)","v":0},{"$f":"IF(AZ476=3,G476,0)","v":0},{"$f":"IF(AZ476=4,G476,0)","v":0},{"$f":"IF(AZ476=5,G476,0)","v":0},null,null,null,null,null,null,null,null,null,null,null,null,null,null,null,null,null,null,null,null,null,3,1]
[null,null,"Revizní šachty:",null,0,null,null,null,null,null,null,null,"Revizní šachty:"]
[null,null,"ZD H250:1*1,01",null,1.01,null,null,null,null,null,null,null,"ZD H250:1*1,01"]
[59,"592243542.R","Přechodová deska TZK-Q.1 1200x625/250 D400 INTEGRO","kus",1.01,null,{"$f":"E479*F479","v":0},0.37,{"$f":"E479*H479","v":0.37369999999999998},null,{"$f":"E479*J479","v":0},null,null,null,2,null,null,null,null,null,null,null,null,null,null,null,3,1,"592243542.R",null,null,null,null,null,null,null,null,null,null,null,null,null,null,null,null,null,null,null,null,null,null,1,{"$f":"IF(AZ479=1,G479,0)","v":0},{"$f":"IF(AZ479=2,G479,0)","v":0},{"$f":"IF(AZ479=3,G479,0)","v":0},{"$f":"IF(AZ479=4,G479,0)","v":0},{"$f":"IF(AZ479=5,G479,0)","v":0},null,null,null,null,null,null,null,null,null,null,null,null,null,null,null,null,null,null,null,null,null,3,1]
[null,null,"Revizní šachty:",null,0,null,null,null,null,null,null,null,"Revizní šachty:"]
[null,null,"ZD H250:1*1,01",null,1.01,null,null,null,null,null,null,null,"ZD H250:1*1,01"]
[60,"592243593.R","Konus šachetní TBR-Q.1 1000x625/600/120SKP INTEGRO","kus",14.14,null,{"$f":"E482*F482","v":0},0.54900000000000004,{"$f":"E482*H482","v":7.7628600000000008},null,{"$f":"E482*J482","v":0},null,null,null,2,null,null,null,null,null,null,null,null,null,null,null,3,1,"592243593.R",null,null,null,null,null,null,null,null,null,null,null,null,null,null,null,null,null,null,null,null,null,null,1,{"$f":"IF(AZ482=1,G482,0)","v":0},{"$f":"IF(AZ482=2,G482,0)","v":0},{"$f":"IF(AZ482=3,G482,0)","v":0},{"$f":"IF(AZ482=4,G482,0)","v":0},{"$f":"IF(AZ482=5,G482,0)","v":0},null,null,null,null,null,null,null,null,null,null,null,null,null,null,null,null,null,null,null,null,null,3,1]
[null,null,"Revizní šachty:",null,0,null,null,null,null,null,null,null,"Revizní šachty:"]
[null,null,"Kónus H600:14*1,01",null,14.14,null,null,null,null,null,null,null,"Kónus H600:14*1,01"]
[61,"592243594.R","Skruž šachetní TBS-Q.1 1000/250/120 SP INTEGRO","kus",7.07,null,{"$f":"E485*F485","v":0},0.254,{"$f":"E485*H485","v":1.7957800000000002},null,{"$f":"E485*J485","v":0},null,null,null,2,null,null,null,null,null,null,null,null,null,null,null,3,1,"592243594.R",null,null,null,null,null,null,null,null,null,null,null,null,null,null,null,null,null,null,null,null,null,null,1,{"$f":"IF(AZ485=1,G485,0)","v":0},{"$f":"IF(AZ485=2,G485,0)","v":0},{"$f":"IF(AZ485=3,G485,0)","v":0},{"$f":"IF(AZ485=4,G485,0)","v":0},{"$f":"IF(AZ485=5,G485,0)","v":0},null,null,null,null,null,null,null,null,null,null,null,null,null,null,null,null,null,null,null,null,null,3,1]
[null,null,"Revizní šachty:",null,0,null,null,null,null,null,null,null,"Revizní šachty:"]
[null,null,"Skruř H250:7*1,01",null,7.07,null,null,null,null,null,null,null,"Skruř H250:7*1,01"]
[62,"592243595.R","Skruž šachetní TBS-Q.1 1000/500/120 SP INTEGRO","kus",10.1,null,{"$f":"E488*F488","v":0},0.50900000000000001,{"$f":"E488*H488","v":5.1409000000000002},null,{"$f":"E488*J488","v":0},null,null,null,2,null,null,null,null,null,null,null,null,null,null,null,3,1,"592243595.R",null,null,null,null,null,null,null,null,null,null,null,null,null,null,null,null,null,null,null,null,null,null,1,{"$f":"IF(AZ488=1,G488,0)","v":0},{"$f":"IF(AZ488=2,G488,0)","v":0},{"$f":"IF(AZ488=3,G488,0)","v":0},{"$f":"IF(AZ488=4,G488,0)","v":0},{"$f":"IF(AZ488=5,G488,0)","v":0},null,null,null,null,null,null,null,null,null,null,null,null,null,null,null,null,null,null,null,null,null,3,1]
[null,null,"Revizní šachty:",null,0,null,null,null,null,null,null,null,"Revizní šachty:"]
[null,null,"Skruž H500:10*1,01",null,10.1,null,null,null,null,null,null,null,"Skruž H500:10*1,01"]
[63,"592243696.R","Skruž šachetní TBS-Q.1 1000/1000/120 SP INTEGRO","kus",1.01,null,{"$f":"E491*F491","v":0},1.0189999999999999,{"$f":"E491*H491","v":1.0291899999999998},null,{"$f":"E491*J491","v":0},null,null,null,2,null,null,null,null,null,null,null,null,null,null,null,3,1,"592243696.R",null,null,null,null,null,null,null,null,null,null,null,null,null,null,null,null,null,null,null,null,null,null,1,{"$f":"IF(AZ491=1,G491,0)","v":0},{"$f":"IF(AZ491=2,G491,0)","v":0},{"$f":"IF(AZ491=3,G491,0)","v":0},{"$f":"IF(AZ491=4,G491,0)","v":0},{"$f":"IF(AZ491=5,G491,0)","v":0},null,null,null,null,null,null,null,null,null,null,null,null,null,null,null,null,null,null,null,null,null,3,1]
[null,null,"Revizní šachty:",null,0,null,null,null,null,null,null,null,"Revizní šachty:"]
[null,null,"Skruž H1000:1*1,01",null,1.01,null,null,null,null,null,null,null,"Skruž H1000:1*1,01"]
[64,"592243715.R","Dno šachetní TBZ-Q.1CAPITAN 250/800","kus",1.01,null,{"$f":"E494*F494","v":0},1.83,{"$f":"E494*H494","v":1.8483000000000001},null,{"$f":"E494*J494","v":0},null,null,null,2,null,null,null,null,null,null,null,null,null,null,null,3,1,"592243715.R",null,null,null,null,null,null,null,null,null,null,null,null,null,null,null,null,null,null,null,null,null,null,1,{"$f":"IF(AZ494=1,G494,0)","v":0},{"$f":"IF(AZ494=2,G494,0)","v":0},{"$f":"IF(AZ494=3,G494,0)","v":0},{"$f":"IF(AZ494=4,G494,0)","v":0},{"$f":"IF(AZ494=5,G494,0)","v":0},null,null,null,null,null,null,null,null,null,null,null,null,null,null,null,null,null,null,null,null,null,3,1]
[null,null,"Včetně kynety a vstupů dle PD",null,null,null,null,null,null,null,null,"Včetně kynety a vstupů dle PD",null,null,3]
[null,null,"Revizní šachty:",null,0,null,null,null,null,null,null,null,"Revizní šachty:"]
[null,null,"ŠD 250/800:1*1,01",null,1.01,null,null,null,null,null,null,null,"ŠD 250/800:1*1,01"]
[65,"592243716.R","Dno šachetní TBZ-Q.1CAPITAN 300/600","kus",4.04,null,{"$f":"E498*F498","v":0},1.58,{"$f":"E498*H498","v":6.3832000000000004},null,{"$f":"E498*J498","v":0},null,null,null,2,null,null,null,null,null,null,null,null,null,null,null,3,1,"592243716.R",null,null,null,null,null,null,null,null,null,null,null,null,null,null,null,null,null,null,null,null,null,null,1,{"$f":"IF(AZ498=1,G498,0)","v":0},{"$f":"IF(AZ498=2,G498,0)","v":0},{"$f":"IF(AZ498=3,G498,0)","v":0},{"$f":"IF(AZ498=4,G498,0)","v":0},{"$f":"IF(AZ498=5,G498,0)","v":0},null,null,null,null,null,null,null,null,null,null,null,null,null,null,null,null,null,null,null,null,null,3,1]
[null,null,"Včetně kynety a vstupů dle PD",null,null,null,null,null,null,null,null,"Včetně kynety a vstupů dle PD",null,null,3]
[null,null,"Revizní šachty:",null,0,null,null,null,null,null,null,null,"Revizní šachty:"]
[null,null,"ŠD 300/600:4*1,01",null,4.04,null,null,null,null,null,null,null,"ŠD 300/600:4*1,01"]
[66,"592243717.R","Dno šachetní TBZ-Q.1CAPITAN 400/800","kus",4.04,null,{"$f":"E502*F502","v":0},1.83,{"$f":"E502*H502","v":7.3932000000000002},null,{"$f":"E502*J502","v":0},null,null,null,2,null,null,null,null,null,null,null,null,null,null,null,3,1,"592243717.R",null,null,null,null,null,null,null,null,null,null,null,null,null,null,null,null,null,null,null,null,null,null,1,{"$f":"IF(AZ502=1,G502,0)","v":0},{"$f":"IF(AZ502=2,G502,0)","v":0},{"$f":"IF(AZ502=3,G502,0)","v":0},{"$f":"IF(AZ502=4,G502,0)","v":0},{"$f":"IF(AZ502=5,G502,0)","v":0},null,null,null,null,null,null,null,null,null,null,null,null,null,null,null,null,null,null,null,null,null,3,1]
[null,null,"Včetně kynety a vstupů dle PD",null,null,null,null,null,null,null,null,"Včetně kynety a vstupů dle PD",null,null,3]
[null,null,"Revizní šachty:",null,0,null,null,null,null,null,null,null,"Revizní šachty:"]
[null,null,"ŠD 300/600:4*1,01",null,4.04,null,null,null,null,null,null,null,"ŠD 300/600:4*1,01"]
[67,"592243720.R","Dno šachetní TBZ-Q.1CAPITAN 400/1200","kus",2.02,null,{"$f":"E506*F506","v":0},4.125,{"$f":"E506*H506","v":8.3324999999999996},null,{"$f":"E506*J506","v":0},null,null,null,2,null,null,null,null,null,null,null,null,null,null,null,3,1,"592243720.R",null,null,null,null,null,null,null,null,null,null,null,null,null,null,null,null,null,null,null,null,null,null,1,{"$f":"IF(AZ506=1,G506,0)","v":0},{"$f":"IF(AZ506=2,G506,0)","v":0},{"$f":"IF(AZ506=3,G506,0)","v":0},{"$f":"IF(AZ506=4,G506,0)","v":0},{"$f":"IF(AZ506=5,G506,0)","v":0},null,null,null,null,null,null,null,null,null,null,null,null,null,null,null,null,null,null,null,null,null,3,1]
[null,null,"Včetně kynety a vstupů dle PD",null,null,null,null,null,null,null,null,"Včetně kynety a vstupů dle PD",null,null,3]
[null,null,"Revizní šachty:",null,0,null,null,null,null,null,null,null,"Revizní šachty:"]
[null,null,"ŠD 400/1200:2*1,01",null,2.02,null,null,null,null,null,null,null,"ŠD 400/1200:2*1,01"]
[68,"59710698.A.R","Trouba kameninová hrdlová DN 250, l=2,50 m, FN 40","m",3.5350000000000001,null,{"$f":"E510*F510","v":0},5.2999999999999999E-2,{"$f":"E510*H510","v":0.18735499999999999},null,{"$f":"E510*J510","v":0},null,null,null,2,null,null,null,null,null,null,null,null,null,null,null,3,1,"59710698.A.R",null,null,null,null,null,null,null,null,null,null,null,null,null,null,null,null,null,null,null,null,null,null,1,{"$f":"IF(AZ510=1,G510,0)","v":0},{"$f":"IF(AZ510=2,G510,0)","v":0},{"$f":"IF(AZ510=3,G510,0)","v":0},{"$f":"IF(AZ510=4,G510,0)","v":0},{"$f":"IF(AZ510=5,G510,0)","v":0},null,null,null,null,null,null,null,null,null,null,null,null,null,null,null,null,null,null,null,null,null,3,1]
[null,null,"Hrdlové trouby KeraBase pro použití v komunální a průmyslové kanalizační systémy včetně případné dodávky zkrácené trouby KeraBase GZ, GA a GE dle potřeb na stavbě",null,null,null,null,null,null,null,null,"Hrdlové trouby KeraBase pro použití v komunální a průmyslové kanalizační systémy včetně případné dodávky zkrácené trouby KeraBase GZ, GA a GE dle potřeb na stavbě",null,null,3]
[null,null,"Otevřený výkop, normální zatížení.",null,null,null,null,null,null,null,null,"Otevřený výkop, normální zatížení.",null,null,3]
[null,null,"DN 250",null,null,null,null,null,null,null,null,"DN 250",null,null,3]
[null,null,"Délka 250 cm",null,null,null,null,null,null,null,null,"Délka 250 cm",null,null,3]
[null,null,"FN 40 kN/m",null,null,null,null,null,null,null,null,"FN 40 kN/m",null,null,3]
[null,null,"Hmotnost 133 kg/ks",null,null,null,null,null,null,null,null,"Hmotnost 133 kg/ks",null,null,3]
[null,null,"Hrdlo K/S",null,null,null,null,null,null,null,null,"Hrdlo K/S",null,null,3]
[null,null,"Třída pevnosti 160",null,null,null,null,null,null,null,null,"Třída pevnosti 160",null,null,3]
[null,null,"trouba oboustranně glazována",null,null,null,null,null,null,null,null,"trouba oboustranně glazována",null,null,3]
[null,null,"Stoka \"G\" KT DN250:3,50*1,01",null,3.5350000000000001,null,null,null,null,null,null,null,"Stoka \"G\" KT DN250:3,50*1,01"]
[69,"59710699.A.R","Trouba kameninová hrdlová DN 300, l=2,50 m, FN 48","m",161.18199999999999,null,{"$f":"E521*F521","v":0},7.1999999999999995E-2,{"$f":"E521*H521","v":11.605103999999999},null,{"$f":"E521*J521","v":0},null,null,null,2,null,null,null,null,null,null,null,null,null,null,null,3,1,"59710699.A.R",null,null,null,null,null,null,null,null,null,null,null,null,null,null,null,null,null,null,null,null,null,null,1,{"$f":"IF(AZ521=1,G521,0)","v":0},{"$f":"IF(AZ521=2,G521,0)","v":0},{"$f":"IF(AZ521=3,G521,0)","v":0},{"$f":"IF(AZ521=4,G521,0)","v":0},{"$f":"IF(AZ521=5,G521,0)","v":0},null,null,null,null,null,null,null,null,null,null,null,null,null,null,null,null,null,null,null,null,null,3,1]
[null,null,"Hrdlové trouby KeraBase pro použití v komunální a průmyslové kanalizační systémy včetně případné dodávky zkrácené trouby KeraBase GZ, GA a GE dle potřeb na stavbě",null,null,null,null,null,null,null,null,"Hrdlové trouby KeraBase pro použití v komunální a průmyslové kanalizační systémy včetně případné dodávky zkrácené trouby KeraBase GZ, GA a GE dle potřeb na stavbě",null,null,3]
[null,null,"Otevřený výkop, normální zatížení.",null,null,null,null,null,null,null,null,"Otevřený výkop, normální zatížení.",null,null,3]
[null,null,"DN 300",null,null,null,null,null,null,null,null,"DN 300",null,null,3]
[null,null,"Délka 250 cm",null,null,null,null,null,null,null,null,"Délka 250 cm",null,null,3]
[null,null,"FN 40 kN/m",null,null,null,null,null,null,null,null,"FN 40 kN/m",null,null,3]
[null,null,"Hmotnost 181 kg/ks",null,null,null,null,null,null,null,null,"Hmotnost 181 kg/ks",null,null,3]
[null,null,"Hrdlo K/S",null,null,null,null,null,null,null,null,"Hrdlo K/S",null,null,3]
[null,null,"Třída pevnosti 160",null,null,null,null,null,null,null,null,"Třída pevnosti 160",null,null,3]
[null,null,"trouba oboustranně glazována",null,null,null,null,null,null,null,null,"trouba oboustranně glazována",null,null,3]
[null,null,"Stoka \"B\" KT DN300:158,80*1,015",null,161.18199999999999,null,null,null,null,null,null,null,"Stoka \"B\" KT DN300:158,80*1,015"]
[70,"59710700.A.R","Trouba kameninová hrdlová DN 400, l=2,50 m, FN 64","m",215.4845,null,{"$f":"E532*F532","v":0},0.13600000000000001,{"$f":"E532*H532","v":29.305892},null,{"$f":"E532*J532","v":0},null,null,null,2,null,null,null,null,null,null,null,null,null,null,null,3,1,"59710700.A.R",null,null,null,null,null,null,null,null,null,null,null,null,null,null,null,null,null,null,null,null,null,null,1,{"$f":"IF(AZ532=1,G532,0)","v":0},{"$f":"IF(AZ532=2,G532,0)","v":0},{"$f":"IF(AZ532=3,G532,0)","v":0},{"$f":"IF(AZ532=4,G532,0)","v":0},{"$f":"IF(AZ532=5,G532,0)","v":0},null,null,null,null,null,null,null,null,null,null,null,null,null,null,null,null,null,null,null,null,null,3,1]
[null,null,"Hrdlové trouby KeraBase pro použití v komunální a průmyslové kanalizační systémy včetně případné dodávky zkrácené trouby KeraBase GZ, GA a GE dle potřeb na stavbě",null,null,null,null,null,null,null,null,"Hrdlové trouby KeraBase pro použití v komunální a průmyslové kanalizační systémy včetně případné dodávky zkrácené trouby KeraBase GZ, GA a GE dle potřeb na stavbě",null,null,3]
[null,null,"Otevřený výkop, normální zatížení.",null,null,null,null,null,null,null,null,"Otevřený výkop, normální zatížení.",null,null,3]
[null,null,"DN 300",null,null,null,null,null,null,null,null,"DN 300",null,null,3]
[null,null,"Délka 250 cm",null,null,null,null,null,null,null,null,"Délka 250 cm",null,null,3]
[null,null,"FN 64 kN/m",null,null,null,null,null,null,null,null,"FN 64 kN/m",null,null,3]
[null,null,"Stoka \"B\" KT DN400:164,00*1,015",null,166.46,null,null,null,null,null,null,null,"Stoka \"B\" KT DN400:164,00*1,015"]
[null,null,"Stoka \"C\" KT DN400:23,20*1,015",null,23.547999999999998,null,null,null,null,null,null,null,"Stoka \"C\" KT DN400:23,20*1,015"]
[null,null,"Stoka \"D\" KT DN400:25,10*1,015",null,25.476500000000001,null,null,null,null,null,null,null,"Stoka \"D\" KT DN400:25,10*1,015"]
[71,"59711516.A.R","Ucpávka kamenina DN 150, FN 34","kus",4.0599999999999996,null,{"$f":"E541*F541","v":0},3.0000000000000001E-3,{"$f":"E541*H541","v":1.218E-2},null,{"$f":"E541*J541","v":0},null,null,null,2,null,null,null,null,null,null,null,null,null,null,null,3,1,"59711516.A.R",null,null,null,null,null,null,null,null,null,null,null,null,null,null,null,null,null,null,null,null,null,null,1,{"$f":"IF(AZ541=1,G541,0)","v":0},{"$f":"IF(AZ541=2,G541,0)","v":0},{"$f":"IF(AZ541=3,G541,0)","v":0},{"$f":"IF(AZ541=4,G541,0)","v":0},{"$f":"IF(AZ541=5,G541,0)","v":0},null,null,null,null,null,null,null,null,null,null,null,null,null,null,null,null,null,null,null,null,null,3,1]
[null,null,"KeraBase ucpávka pro normální zatížení.",null,null,null,null,null,null,null,null,"KeraBase ucpávka pro normální zatížení.",null,null,3]
[null,null,"Profil DN 150",null,null,null,null,null,null,null,null,"Profil DN 150",null,null,3]
[null,null,"Třída pevnosti -",null,null,null,null,null,null,null,null,"Třída pevnosti -",null,null,3]
[null,null,"Mezní únosnost FNk 34 N/m",null,null,null,null,null,null,null,null,"Mezní únosnost FNk 34 N/m",null,null,3]
[null,null,"Hmotnost 3 kg/ks",null,null,null,null,null,null,null,null,"Hmotnost 3 kg/ks",null,null,3]
[null,null,"Hrdlo L",null,null,null,null,null,null,null,null,"Hrdlo L",null,null,3]
[null,null,"Stoka \"B\" KT DN400 a DN300:",null,0,null,null,null,null,null,null,null,"Stoka \"B\" KT DN400 a DN300:"]
[null,null,"Ucpávky DN150 do odboček pro UV:4*1,015",null,4.0599999999999996,null,null,null,null,null,null,null,"Ucpávky DN150 do odboček pro UV:4*1,015"]
[72,"59711549.R","Odbočka 45° kamenina hrdlová 300/150 FN 48/34","kus",12.18,null,{"$f":"E550*F550","v":0},4.9000000000000002E-2,{"$f":"E550*H550","v":0.59682000000000002},null,{"$f":"E550*J550","v":0},null,null,null,2,null,null,null,null,null,null,null,null,null,null,null,3,1,"59711549.R",null,null,null,null,null,null,null,null,null,null,null,null,null,null,null,null,null,null,null,null,null,null,1,{"$f":"IF(AZ550=1,G550,0)","v":0},{"$f":"IF(AZ550=2,G550,0)","v":0},{"$f":"IF(AZ550=3,G550,0)","v":0},{"$f":"IF(AZ550=4,G550,0)","v":0},{"$f":"IF(AZ550=5,G550,0)","v":0},null,null,null,null,null,null,null,null,null,null,null,null,null,null,null,null,null,null,null,null,null,3,1]
[null,null,"KeraBase odbočky 45° pro normální zatížení.",null,null,null,null,null,null,null,null,"KeraBase odbočky 45° pro normální zatížení.",null,null,3]
[null,null,"Specif. 45°",null,null,null,null,null,null,null,null,"Specif. 45°",null,null,3]
[null,null,"Profil DN 300/150",null,null,null,null,null,null,null,null,"Profil DN 300/150",null,null,3]
[null,null,"Délka 50 cm",null,null,null,null,null,null,null,null,"Délka 50 cm",null,null,3]
[null,null,"Třída pevnosti 160/-",null,null,null,null,null,null,null,null,"Třída pevnosti 160/-",null,null,3]
[null,null,"Mezní únosnost FN 48/34 kN/m",null,null,null,null,null,null,null,null,"Mezní únosnost FN 48/34 kN/m",null,null,3]
[null,null,"Hmotnost 49 kg/ks",null,null,null,null,null,null,null,null,"Hmotnost 49 kg/ks",null,null,3]
[null,null,"Hrdlo KL",null,null,null,null,null,null,null,null,"Hrdlo KL",null,null,3]
[null,null,"Stoka \"B\" KT DN400 a DN300:",null,0,null,null,null,null,null,null,null,"Stoka \"B\" KT DN400 a DN300:"]
[null,null,"Odbočka KT DN300/150 pro UV:3*1,015",null,3.0449999999999999,null,null,null,null,null,null,null,"Odbočka KT DN300/150 pro UV:3*1,015"]
[null,null,"Odbočka KT DN300/150 pro KP:9*1,015",null,9.1349999999999998,null,null,null,null,null,null,null,"Odbočka KT DN300/150 pro KP:9*1,015"]
[73,"59711560.R","Odbočka 90° kamenina hrdlová 400/150 FN 64/34","kus",5.0750000000000002,null,{"$f":"E562*F562","v":0},0.14499999999999999,{"$f":"E562*H562","v":0.73587499999999995},null,{"$f":"E562*J562","v":0},null,null,null,2,null,null,null,null,null,null,null,null,null,null,null,3,1,"59711560.R",null,null,null,null,null,null,null,null,null,null,null,null,null,null,null,null,null,null,null,null,null,null,1,{"$f":"IF(AZ562=1,G562,0)","v":0},{"$f":"IF(AZ562=2,G562,0)","v":0},{"$f":"IF(AZ562=3,G562,0)","v":0},{"$f":"IF(AZ562=4,G562,0)","v":0},{"$f":"IF(AZ562=5,G562,0)","v":0},null,null,null,null,null,null,null,null,null,null,null,null,null,null,null,null,null,null,null,null,null,3,1]
[null,null,"KeraBase odbočky 90° pro normální zatížení.",null,null,null,null,null,null,null,null,"KeraBase odbočky 90° pro normální zatížení.",null,null,3]
[null,null,"Specif. 90° pravá/levá",null,null,null,null,null,null,null,null,"Specif. 90° pravá/levá",null,null,3]
[null,null,"Profil DN 400/150",null,null,null,null,null,null,null,null,"Profil DN 400/150",null,null,3]
[null,null,"Délka 100 cm",null,null,null,null,null,null,null,null,"Délka 100 cm",null,null,3]
[null,null,"Třída pevnosti 160/-",null,null,null,null,null,null,null,null,"Třída pevnosti 160/-",null,null,3]
[null,null,"Mezní únosnost FN 64/34 kN/m",null,null,null,null,null,null,null,null,"Mezní únosnost FN 64/34 kN/m",null,null,3]
[null,null,"Hmotnost 145 kg/ks",null,null,null,null,null,null,null,null,"Hmotnost 145 kg/ks",null,null,3]
[null,null,"Hrdlo KL",null,null,null,null,null,null,null,null,"Hrdlo KL",null,null,3]
[null,null,"levá - bílé značení",null,null,null,null,null,null,null,null,"levá - bílé značení",null,null,3]
[null,null,"pravá - červené značení",null,null,null,null,null,null,null,null,"pravá - červené značení",null,null,3]
[null,null,"Stoka \"B\" KT DN400 a DN300:",null,0,null,null,null,null,null,null,null,"Stoka \"B\" KT DN400 a DN300:"]
[null,null,"Odbočka KT DN400/150 pro UV:1*1,015",null,1.0149999999999999,null,null,null,null,null,null,null,"Odbočka KT DN400/150 pro UV:1*1,015"]
[null,null,"Odbočka KT DN400/150 pro KP:4*1,015",null,4.0599999999999996,null,null,null,null,null,null,null,"Odbočka KT DN400/150 pro KP:4*1,015"]
[null,"Celkem za","8 Trubní vedení",null,null,null,{"$f":"SUM(G382:G575)","v":0},null,{"$f":"SUM(I382:I575)","v":83.506370999999987},null,{"$f":"SUM(K382:K575)","v":0},null,null,null,4,null,null,null,null,null,null,null,null,null,null,null,null,null,null,null,null,null,null,null,null,null,null,null,null,null,null,null,null,null,null,null,null,null,null,null,null,null,{"$f":"SUM(BA382:BA575)","v":0},{"$f":"SUM(BB382:BB575)","v":0},{"$f":"SUM(BC382:BC575)","v":0},{"$f":"SUM(BD382:BD575)","v":0},{"$f":"SUM(BE382:BE575)","v":0}]
["Díl:","93","Dokončovací práce inženýrských staveb",null,null,null,null,null,null,null,null,null,null,null,1]
[74,"936451111R00","Výplň dutin cementopopílkovou suspenzí ","m3",15.75,null,{"$f":"E578*F578","v":0},1.8050999999999999,{"$f":"E578*H578","v":28.430325},0,{"$f":"E578*J578","v":0},null,null,null,2,null,null,null,null,null,null,null,null,null,null,null,1,0,0,null,null,null,null,null,null,null,null,null,null,null,null,null,null,null,null,null,null,null,null,null,null,1,{"$f":"IF(AZ578=1,G578,0)","v":0},{"$f":"IF(AZ578=2,G578,0)","v":0},{"$f":"IF(AZ578=3,G578,0)","v":0},{"$f":"IF(AZ578=4,G578,0)","v":0},{"$f":"IF(AZ578=5,G578,0)","v":0},null,null,null,null,null,null,null,null,null,null,null,null,null,null,null,null,null,null,null,null,null,1,0]
[null,null,"Zalití části původních RŠ:15,7500",null,15.75,null,null,null,null,null,null,null,"Zalití části původních RŠ:15,7500"]
[75,"936452115R00","Výplň potrubí cementopopílkovou suspenzí DN 300 ","m",158,null,{"$f":"E580*F580","v":0},0.12751000000000001,{"$f":"E580*H580","v":20.14658},0,{"$f":"E580*J580","v":0},null,null,null,2,null,null,null,null,null,null,null,null,null,null,null,1,1,1,null,null,null,null,null,null,null,null,null,null,null,null,null,null,null,null,null,null,null,null,null,null,1,{"$f":"IF(AZ580=1,G580,0)","v":0},{"$f":"IF(AZ580=2,G580,0)","v":0},{"$f":"IF(AZ580=3,G580,0)","v":0},{"$f":"IF(AZ580=4,G580,0)","v":0},{"$f":"IF(AZ580=5,G580,0)","v":0},null,null,null,null,null,null,null,null,null,null,null,null,null,null,null,null,null,null,null,null,null,1,1]
[null,null,"Stávající potrubí KT DN300:158,00",null,158,null,null,null,null,null,null,null,"Stávající potrubí KT DN300:158,00"]
[76,"936452116R00","Výplň potrubí cementopopílkovou suspenzí DN 400 ","m",232,null,{"$f":"E582*F582","v":0},0.22678999999999999,{"$f":"E582*H582","v":52.615279999999998},0,{"$f":"E582*J582","v":0},null,null,null,2,null,null,null,null,null,null,null,null,null,null,null,1,1,1,null,null,null,null,null,null,null,null,null,null,null,null,null,null,null,null,null,null,null,null,null,null,1,{"$f":"IF(AZ582=1,G582,0)","v":0},{"$f":"IF(AZ582=2,G582,0)","v":0},{"$f":"IF(AZ582=3,G582,0)","v":0},{"$f":"IF(AZ582=4,G582,0)","v":0},{"$f":"IF(AZ582=5,G582,0)","v":0},null,null,null,null,null,null,null,null,null,null,null,null,null,null,null,null,null,null,null,null,null,1,1]
[null,null,"Stávající potrubí KT DN400:155,00",null,155,null,null,null,null,null,null,null,"Stávající potrubí KT DN400:155,00"]
[null,null,"                           BE DN400:77,00",null,77,null,null,null,null,null,null,null,"                           BE DN400:77,00"]
[77,"939421111RT1","Osazení samonivelač.kanalizač.poklopu za finišerem bez dodávky poklopu","kus",15,null,{"$f":"E585*F585","v":0},0.15425,{"$f":"E585*H585","v":2.3137499999999998},0,{"$f":"E585*J585","v":0},null,null,null,2,null,null,null,null,null,null,null,null,null,null,null,1,0,0,null,null,null,null,null,null,null,null,null,null,null,null,null,null,null,null,null,null,null,null,null,null,1,{"$f":"IF(AZ585=1,G585,0)","v":0},{"$f":"IF(AZ585=2,G585,0)","v":0},{"$f":"IF(AZ585=3,G585,0)","v":0},{"$f":"IF(AZ585=4,G585,0)","v":0},{"$f":"IF(AZ585=5,G585,0)","v":0},null,null,null,null,null,null,null,null,null,null,null,null,null,null,null,null,null,null,null,null,null,1,0]
[null,null,"Položka obsahuje:",null,null,null,null,null,null,null,null,"Položka obsahuje:",null,null,3]
[null,null,"- osazení prefabrikovaného betonového prstence do rychletuhnoucí malty (s dodávkou hmot)",null,null,null,null,null,null,null,null,"- osazení prefabrikovaného betonového prstence do rychletuhnoucí malty (s dodávkou hmot)",null,null,3]
[null,null,"- zalití prstence rychletuhnoucí zálivkou do výše prstence (s dodávkou hmoty)",null,null,null,null,null,null,null,null,"- zalití prstence rychletuhnoucí zálivkou do výše prstence (s dodávkou hmoty)",null,null,3]
[null,null,"- vložení kruhového bednění",null,null,null,null,null,null,null,null,"- vložení kruhového bednění",null,null,3]
[null,null,"- doplnění mezikruží asfaltovou směsí do výšky současné podkladní vrstvy, zhutnění",null,null,null,null,null,null,null,null,"- doplnění mezikruží asfaltovou směsí do výšky současné podkladní vrstvy, zhutnění",null,null,3]
[null,null,"- vyjmutí kruhového bednění",null,null,null,null,null,null,null,null,"- vyjmutí kruhového bednění",null,null,3]
[null,null,"- osazení poklopu a zatlačení",null,null,null,null,null,null,null,null,"- osazení poklopu a zatlačení",null,null,3]
[null,null,"  (následuje pokládka finální vrstvy vozovky - není součástí položky)",null,null,null,null,null,null,null,null,"  (následuje pokládka finální vrstvy vozovky - není součástí položky)",null,null,3]
[null,null,"- povytažení poklopu",null,null,null,null,null,null,null,null,"- povytažení poklopu",null,null,3]
[null,null,"- podsyp asfaltovou směsí, spuštění poklopu a zhutnění směsi",null,null,null,null,null,null,null,null,"- podsyp asfaltovou směsí, spuštění poklopu a zhutnění směsi",null,null,3]
[null,null,"Revizní šachty:",null,0,null,null,null,null,null,null,null,"Revizní šachty:"]
[null,null,"Poklop EUROPE9 E600 KEM91B rám samonivelační:12",null,12,null,null,null,null,null,null,null,"Poklop EUROPE9 E600 KEM91B rám samonivelační:12"]
[null,null,"Poklop EUROPE9 D400 KDM91B rám samonivelační:3",null,3,null,null,null,null,null,null,null,"Poklop EUROPE9 D400 KDM91B rám samonivelační:3"]
[78,"55244420.R","Poklop EUROPE9 E600 KEM91B rám samonivelační","kus",12,null,{"$f":"E599*F599","v":0},0.113,{"$f":"E599*H599","v":1.3560000000000001},null,{"$f":"E599*J599","v":0},null,null,null,2,null,null,null,null,null,null,null,null,null,null,null,3,1,"55244420.R",null,null,null,null,null,null,null,null,null,null,null,null,null,null,null,null,null,null,null,null,null,null,1,{"$f":"IF(AZ599=1,G599,0)","v":0},{"$f":"IF(AZ599=2,G599,0)","v":0},{"$f":"IF(AZ599=3,G599,0)","v":0},{"$f":"IF(AZ599=4,G599,0)","v":0},{"$f":"IF(AZ599=5,G599,0)","v":0},null,null,null,null,null,null,null,null,null,null,null,null,null,null,null,null,null,null,null,null,null,3,1]
[null,null,"Kanalizační kruhový samonivelační bez odvětrání dle standatrů VHS TURNOV.",null,null,null,null,null,null,null,null,"Kanalizační kruhový samonivelační bez odvětrání dle standatrů VHS TURNOV.",null,null,3]
[null,null,"Poklop se znakem Město Lomnice nad Popelkou.",null,null,null,null,null,null,null,null,"Poklop se znakem Město Lomnice nad Popelkou.",null,null,3]
[null,null,"Revizní šachty:",null,0,null,null,null,null,null,null,null,"Revizní šachty:"]
[null,null,"Poklop EUROPE9 E600 KEM91B rám samonivelační:12",null,12,null,null,null,null,null,null,null,"Poklop EUROPE9 E600 KEM91B rám samonivelační:12"]
[79,"55244421.R","Poklop EUROPE9 D400 KDM91B rám samonivelační","kus",3,null,{"$f":"E604*F604","v":0},0.113,{"$f":"E604*H604","v":0.33900000000000002},null,{"$f":"E604*J604","v":0},null,null,null,2,null,null,null,null,null,null,null,null,null,null,null,3,1,"55244421.R",null,null,null,null,null,null,null,null,null,null,null,null,null,null,null,null,null,null,null,null,null,null,1,{"$f":"IF(AZ604=1,G604,0)","v":0},{"$f":"IF(AZ604=2,G604,0)","v":0},{"$f":"IF(AZ604=3,G604,0)","v":0},{"$f":"IF(AZ604=4,G604,0)","v":0},{"$f":"IF(AZ604=5,G604,0)","v":0},null,null,null,null,null,null,null,null,null,null,null,null,null,null,null,null,null,null,null,null,null,3,1]
[null,null,"Kanalizační kruhový samonivelační bez odvětrání dle standatrů VHS TURNOV.",null,null,null,null,null,null,null,null,"Kanalizační kruhový samonivelační bez odvětrání dle standatrů VHS TURNOV.",null,null,3]
[null,null,"Poklop se znakem Město Lomnice nad Popelkou.",null,null,null,null,null,null,null,null,"Poklop se znakem Město Lomnice nad Popelkou.",null,null,3]
[null,null,"Revizní šachty:",null,0,null,null,null,null,null,null,null,"Revizní šachty:"]
[null,null,"Poklop EUROPE9 D400 KDM91B rám samonivelační:3",null,3,null,null,null,null,null,null,null,"Poklop EUROPE9 D400 KDM91B rám samonivelační:3"]
[null,"Celkem za","93 Dokončovací práce inženýrských staveb",null,null,null,{"$f":"SUM(G577:G608)","v":0},null,{"$f":"SUM(I577:I608)","v":105.20093499999999},null,{"$f":"SUM(K577:K608)","v":0},null,null,null,4,null,null,null,null,null,null,null,null,null,null,null,null,null,null,null,null,null,null,null,null,null,null,null,null,null,null,null,null,null,null,null,null,null,null,null,null,null,{"$f":"SUM(BA577:BA608)","v":0},{"$f":"SUM(BB577:BB608)","v":0},{"$f":"SUM(BC577:BC608)","v":0},{"$f":"SUM(BD577:BD608)","v":0},{"$f":"SUM(BE577:BE608)","v":0}]
["Díl:","99","Staveništní přesun hmot",null,null,null,null,null,null,null,null,null,null,null,1]
[80,"998275101R00","Přesun hmot, kanalizace kameninové, otevřený výkop ","t",2495.6619109200001,null,{"$f":"E611*F611","v":0},0,{"$f":"E611*H611","v":0},null,{"$f":"E611*J611","v":0},null,null,null,2,null,null,null,null,null,null,null,null,null,null,null,7,1,2,null,null,null,null,null,null,null,null,null,null,null,null,null,null,null,null,null,null,null,null,null,null,1,{"$f":"IF(AZ611=1,G611,0)","v":0},{"$f":"IF(AZ611=2,G611,0)","v":0},{"$f":"IF(AZ611=3,G611,0)","v":0},{"$f":"IF(AZ611=4,G611,0)","v":0},{"$f":"IF(AZ611=5,G611,0)","v":0},null,null,null,null,null,null,null,null,null,null,null,null,null,null,null,null,null,null,null,null,null,7,1]
[null,"Celkem za","99 Staveništní přesun hmot",null,null,null,{"$f":"SUM(G610:G611)","v":0},null,{"$f":"SUM(I610:I611)","v":0},null,{"$f":"SUM(K610:K611)","v":0},null,null,null,4,null,null,null,null,null,null,null,null,null,null,null,null,null,null,null,null,null,null,null,null,null,null,null,null,null,null,null,null,null,null,null,null,null,null,null,null,null,{"$f":"SUM(BA610:BA611)","v":0},{"$f":"SUM(BB610:BB611)","v":0},{"$f":"SUM(BC610:BC611)","v":0},{"$f":"SUM(BD610:BD611)","v":0},{"$f":"SUM(BE610:BE611)","v":0}]

{"sheet":"II. 02 II. 02 KL","index":19,"n_rows":45,"n_cols":8,"rows_kept":45,"cut":false,"hidden":false,"merged":[[45,1,45,6],[46,1,46,6],[47,1,47,6],[48,1,48,6],[49,1,49,6],[50,1,50,6],[29,5,29,6],[30,5,30,6],[31,5,31,6],[32,5,32,6],[33,5,33,6],[36,1,44,6],[7,2,7,4],[8,2,8,4],[9,2,9,4],[10,2,10,4],[11,2,11,4],[22,0,22,1]]}
["POLOŽKOVÝ ROZPOČET"]
["Rozpočet",null,"II. 02","Vodovod",null,"JKSO ","827.11.A1"]
[]
["Objekt",null,null,null,null,"SKP "]
["II. 02",null,"Vodovod",null,null,"Měrná jednotka","m"]
["Stavba",null,null,null,null,"Počet jednotek",0]
["3334",null,"Lomnice nad Popelkou - Vodovod a kanalizace",null,null,"Náklady na m.j.",{"$f":"IF(G6=0,,ROUND((F30+F32)/G6,1))","v":0}]
["Projektant",null,"VEDU VODU s.r.o. Dobrovice",null,null,"Typ rozpočtu"]
["Zpracovatel projektu"]
["Objednatel",null,"Vodohospodářské sdružení Turnov"]
["Dodavatel",null,".",null,null,"Zakázkové číslo "]
["Rozpočtoval",null,null,null,null,"Počet listů"]
["ROZPOČTOVÉ NÁKLADY"]
["Základní rozpočtové náklady"]
[null,"HSV celkem",{"$f":"'II. 02 II. 02 Rek'!E14","v":0}]
["Z","PSV celkem",{"$f":"'II. 02 II. 02 Rek'!F14","v":0}]
["R","M práce celkem",{"$f":"'II. 02 II. 02 Rek'!H14","v":0}]
["N","M dodávky celkem",{"$f":"'II. 02 II. 02 Rek'!G14","v":0}]
["ZRN celkem",null,{"$f":"SUM(C15:C18)","v":0}]
[]
["HZS",null,{"$f":"'II. 02 II. 02 Rek'!I14","v":0}]
["ZRN+HZS",null,{"$f":"C19+C21","v":0}]
["ZRN+ost.náklady+HZS",null,{"$f":"C22+G23","v":0}]
["Vypracoval",null,null,"Za zhotovitele",null,"Za objednatele"]
["Jméno :",null,null,"Jméno :",null,"Jméno :"]
["Datum :",null,null,"Datum :",null,"Datum :"]
[]
["Podpis :",null,null,"Podpis:",null,"Podpis:"]
[]
["Základ pro DPH",null,21,"%  ",null,{"$f":"C23-F32","v":0}]
["DPH",null,{"$f":"C30","v":21},"% ",null,{"$f":"ROUND(PRODUCT(F30,C31/100),0)","v":0}]
["Základ pro DPH",null,0,"% ",null,0]
["DPH",null,{"$f":"C32","v":0},"% ",null,{"$f":"ROUND(PRODUCT(F32,C33/100),0)","v":0}]
["CENA ZA OBJEKT CELKEM",null,null,null,null,{"$f":"ROUND(SUM(F30:F33),0)","v":0}]
[]
["Poznámka :",null,null,null,null,null,null," "]
[null,null,null,null,null,null,null," "]
[null,null,null,null,null,null,null," "]
[null,null,null,null,null,null,null," "]
[null,null,null,null,null,null,null," "]
[null,null,null,null,null,null,null," "]
[null,null,null,null,null,null,null," "]
[null,null,null,null,null,null,null," "]
[null,null,null,null,null,null,null," "]
[null,null,null,null,null,null,null," "]

{"sheet":"II. 02 II. 02 Rek","index":20,"n_rows":14,"n_cols":9,"rows_kept":14,"cut":false,"hidden":false,"merged":[[0,0,0,1],[1,0,1,1],[1,6,1,8]]}
["Stavba :",null,"3334 Lomnice nad Popelkou - Vodovod a kanalizace",null,null,null,"Rozpočet :","II. 02"]
["Objekt :",null,"II. 02 Vodovod",null,null,null,"Vodovod"]
[]
["REKAPITULACE  STAVEBNÍCH  DÍLŮ"]
[]
[null,"Stavební díl",null,null,"HSV","PSV","Dodávka","Montáž","HZS"]
[{"$f":"'II. 02 II. 02 Pol'!B7","v":"1"},{"$f":"'II. 02 II. 02 Pol'!C7","v":"Zemní práce"},null,null,{"$f":"'II. 02 II. 02 Pol'!BA267","v":0},{"$f":"'II. 02 II. 02 Pol'!BB267","v":0},{"$f":"'II. 02 II. 02 Pol'!BC267","v":0},{"$f":"'II. 02 II. 02 Pol'!BD267","v":0},{"$f":"'II. 02 II. 02 Pol'!BE267","v":0}]
[{"$f":"'II. 02 II. 02 Pol'!B268","v":"45"},{"$f":"'II. 02 II. 02 Pol'!C268","v":"Podkladní a vedlejší konstrukce"},null,null,{"$f":"'II. 02 II. 02 Pol'!BA278","v":0},{"$f":"'II. 02 II. 02 Pol'!BB278","v":0},{"$f":"'II. 02 II. 02 Pol'!BC278","v":0},{"$f":"'II. 02 II. 02 Pol'!BD278","v":0},{"$f":"'II. 02 II. 02 Pol'!BE278","v":0}]
[{"$f":"'II. 02 II. 02 Pol'!B279","v":"5"},{"$f":"'II. 02 II. 02 Pol'!C279","v":"Komunikace"},null,null,{"$f":"'II. 02 II. 02 Pol'!BA310","v":0},{"$f":"'II. 02 II. 02 Pol'!BB310","v":0},{"$f":"'II. 02 II. 02 Pol'!BC310","v":0},{"$f":"'II. 02 II. 02 Pol'!BD310","v":0},{"$f":"'II. 02 II. 02 Pol'!BE310","v":0}]
[{"$f":"'II. 02 II. 02 Pol'!B311","v":"8"},{"$f":"'II. 02 II. 02 Pol'!C311","v":"Trubní vedení"},null,null,{"$f":"'II. 02 II. 02 Pol'!BA685","v":0},{"$f":"'II. 02 II. 02 Pol'!BB685","v":0},{"$f":"'II. 02 II. 02 Pol'!BC685","v":0},{"$f":"'II. 02 II. 02 Pol'!BD685","v":0},{"$f":"'II. 02 II. 02 Pol'!BE685","v":0}]
[{"$f":"'II. 02 II. 02 Pol'!B686","v":"89"},{"$f":"'II. 02 II. 02 Pol'!C686","v":"Ostatní konstrukce na trubním vedení"},null,null,{"$f":"'II. 02 II. 02 Pol'!BA707","v":0},{"$f":"'II. 02 II. 02 Pol'!BB707","v":0},{"$f":"'II. 02 II. 02 Pol'!BC707","v":0},{"$f":"'II. 02 II. 02 Pol'!BD707","v":0},{"$f":"'II. 02 II. 02 Pol'!BE707","v":0}]
[{"$f":"'II. 02 II. 02 Pol'!B708","v":"93"},{"$f":"'II. 02 II. 02 Pol'!C708","v":"Dokončovací práce inženýrských staveb"},null,null,{"$f":"'II. 02 II. 02 Pol'!BA788","v":0},{"$f":"'II. 02 II. 02 Pol'!BB788","v":0},{"$f":"'II. 02 II. 02 Pol'!BC788","v":0},{"$f":"'II. 02 II. 02 Pol'!BD788","v":0},{"$f":"'II. 02 II. 02 Pol'!BE788","v":0}]
[{"$f":"'II. 02 II. 02 Pol'!B789","v":"99"},{"$f":"'II. 02 II. 02 Pol'!C789","v":"Staveništní přesun hmot"},null,null,{"$f":"'II. 02 II. 02 Pol'!BA791","v":0},{"$f":"'II. 02 II. 02 Pol'!BB791","v":0},{"$f":"'II. 02 II. 02 Pol'!BC791","v":0},{"$f":"'II. 02 II. 02 Pol'!BD791","v":0},{"$f":"'II. 02 II. 02 Pol'!BE791","v":0}]
[null,"CELKEM  OBJEKT",null,null,{"$f":"SUM(E7:E13)","v":0},{"$f":"SUM(F7:F13)","v":0},{"$f":"SUM(G7:G13)","v":0},{"$f":"SUM(H7:H13)","v":0},{"$f":"SUM(I7:I13)","v":0}]

{"sheet":"II. 02 II. 02 Pol","index":21,"n_rows":791,"n_cols":80,"rows_kept":791,"cut":false,"hidden":false,"merged":[[785,2,785,3],[786,2,786,3],[779,2,779,6],[780,2,780,6],[781,2,781,3],[782,2,782,3],[783,2,783,3],[784,2,784,3],[772,2,772,3],[773,2,773,3],[774,2,774,3],[776,2,776,6],[777,2,777,6],[778,2,778,6],[766,2,766,6],[767,2,767,6],[768,2,768,3],[769,2,769,3],[770,2,770,3],[771,2,771,3],[759,2,759,3],[760,2,760,3],[761,2,761,3],[763,2,763,6],[764,2,764,6],[765,2,765,6],[753,2,753,6],[754,2,754,6],[755,2,755,6],[756,2,756,3],[757,2,757,3],[758,2,758,3],[746,2,746,3],[747,2,747,3],[748,2,748,3],[749,2,749,3],[751,2,751,6],[752,2,752,6],[740,2,740,6],[741,2,741,6],[742,2,742,6],[743,2,743,6],[744,2,744,3],[745,2,745,3],[734,2,734,6],[735,2,735,6],[736,2,736,6],[737,2,737,6],[738,2,738,6],[739,2,739,6],[727,2,727,3],[728,2,728,3],[729,2,729,3],[731,2,731,6],[732,2,732,6],[733,2,733,6],[721,2,721,6],[722,2,722,3],[723,2,723,3],[724,2,724,3],[725,2,725,3],[726,2,726,3],[715,2,715,6],[716,2,716,6],[717,2,717,6],[718,2,718,6],[719,2,719,6],[720,2,720,6],[704,2,704,6],[705,2,705,6],[709,2,709,6],[710,2,710,6],[711,2,711,6],[712,2,712,6],[713,2,713,6],[714,2,714,6],[698,2,698,6],[699,2,699,6],[700,2,700,6],[701,2,701,6],[702,2,702,6],[703,2,703,6],[691,2,691,6],[692,2,692,6],[693,2,693,6],[694,2,694,6],[695,2,695,6],[697,2,697,6],[680,2,680,3],[681,2,681,3],[682,2,682,3],[683,2,683,3],[687,2,687,6],[688,2,688,6],[689,2,689,6],[690,2,690,6],[672,2,672,3],[673,2,673,3],[675,2,675,3],[676,2,676,3],[678,2,678,3],[679,2,679,3],[665,2,665,3],[666,2,666,3],[668,2,668,3],[669,2,669,3],[670,2,670,3],[671,2,671,3],[656,2,656,3],[657,2,657,3],[659,2,659,3],[660,2,660,3],[662,2,662,3],[663,2,663,3],[649,2,649,3],[650,2,650,3],[652,2,652,3],[653,2,653,3],[654,2,654,3],[655,2,655,3],[642,2,642,3],[643,2,643,3],[644,2,644,3],[645,2,645,3],[646,2,646,3],[647,2,647,3],[635,2,635,3],[636,2,636,3],[637,2,637,3],[638,2,638,3],[639,2,639,3],[640,2,640,3],[626,2,626,3],[627,2,627,3],[629,2,629,3],[630,2,630,3],[632,2,632,3],[633,2,633,3],[619,2,619,6],[620,2,620,3],[622,2,622,3],[623,2,623,3],[624,2,624,3],[625,2,625,3],[612,2,612,6],[613,2,613,3],[615,2,615,6],[616,2,616,6],[617,2,617,6],[618,2,618,6],[605,2,605,3],[606,2,606,3],[608,2,608,6],[609,2,609,6],[610,2,610,6],[611,2,611,6],[599,2,599,6],[600,2,600,6],[601,2,601,6],[602,2,602,3],[603,2,603,3],[604,2,604,3],[591,2,591,3],[592,2,592,3],[594,2,594,3],[595,2,595,3],[597,2,597,6],[598,2,598,6],[583,2,583,3],[584,2,584,3],[585,2,585,3],[586,2,586,3],[588,2,588,3],[589,2,589,3],[576,2,576,3],[577,2,577,3],[578,2,578,3],[579,2,579,3],[581,2,581,3],[582,2,582,3],[569,2,569,3],[570,2,570,3],[571,2,571,3],[573,2,573,3],[574,2,574,3],[575,2,575,3],[562,2,562,6],[563,2,563,3],[564,2,564,3],[566,2,566,3],[567,2,567,3],[568,2,568,3],[555,2,555,3],[557,2,557,6],[558,2,558,6],[559,2,559,6],[560,2,560,6],[561,2,561,6],[549,2,549,6],[550,2,550,3],[551,2,551,3],[552,2,552,3],[553,2,553,3],[554,2,554,3],[542,2,542,3],[544,2,544,6],[545,2,545,6],[546,2,546,6],[547,2,547,6],[548,2,548,6],[535,2,535,3],[537,2,537,3],[538,2,538,3],[539,2,539,3],[540,2,540,3],[541,2,541,3],[530,2,530,3],[531,2,531,3],[532,2,532,3],[533,2,533,3],[534,2,534,3],[525,2,525,3],[526,2,526,3],[527,2,527,3],[528,2,528,3],[520,2,520,3],[521,2,521,3],[523,2,523,3],[524,2,524,3],[513,2,513,3],[514,2,514,3],[515,2,515,3],[516,2,516,3],[517,2,517,3],[518,2,518,3],[507,2,507,3],[508,2,508,3],[509,2,509,3],[510,2,510,3],[511,2,511,3],[501,2,501,3],[502,2,502,3],[503,2,503,3],[504,2,504,3],[506,2,506,3],[495,2,495,3],[496,2,496,3],[497,2,497,3],[498,2,498,3],[499,2,499,3],[500,2,500,3],[488,2,488,3],[489,2,489,3],[490,2,490,3],[491,2,491,3],[493,2,493,6],[494,2,494,3],[480,2,480,6],[481,2,481,3],[483,2,483,6],[484,2,484,3],[486,2,486,3],[487,2,487,3],[473,2,473,6],[474,2,474,3],[475,2,475,3],[476,2,476,3],[477,2,477,3],[478,2,478,3],[465,2,465,3],[466,2,466,3],[467,2,467,3],[468,2,468,3],[470,2,470,6],[471,2,471,3],[458,2,458,6],[459,2,459,6],[460,2,460,3],[461,2,461,3],[463,2,463,6],[464,2,464,3],[450,2,450,3],[451,2,451,3],[453,2,453,6],[454,2,454,6],[455,2,455,3],[456,2,456,3],[444,2,444,6],[445,2,445,6],[446,2,446,3],[447,2,447,3],[448,2,448,3],[449,2,449,3],[437,2,437,3],[438,2,438,3],[439,2,439,3],[440,2,440,3],[441,2,441,3],[442,2,442,3],[430,2,430,3],[431,2,431,3],[432,2,432,3],[433,2,433,3],[435,2,435,6],[436,2,436,6],[423,2,423,3],[424,2,424,3],[426,2,426,6],[427,2,427,6],[428,2,428,3],[429,2,429,3],[416,2,416,3],[417,2,417,3],[419,2,419,3],[420,2,420,3],[421,2,421,3],[422,2,422,3],[408,2,408,3],[410,2,410,6],[411,2,411,3],[412,2,412,3],[414,2,414,6],[415,2,415,3],[402,2,402,3],[403,2,403,3],[404,2,404,3],[405,2,405,3],[406,2,406,3],[407,2,407,3],[395,2,395,6],[396,2,396,3],[397,2,397,3],[398,2,398,3],[400,2,400,6],[401,2,401,3],[387,2,387,6],[388,2,388,3],[389,2,389,3],[391,2,391,6],[392,2,392,3],[393,2,393,3],[379,2,379,3],[381,2,381,6],[382,2,382,3],[383,2,383,3],[384,2,384,3],[385,2,385,3],[373,2,373,6],[374,2,374,3],[375,2,375,3],[376,2,376,3],[377,2,377,3],[378,2,378,3],[366,2,366,3],[367,2,367,3],[368,2,368,3],[369,2,369,3],[370,2,370,3],[371,2,371,3],[358,2,358,3],[360,2,360,6],[361,2,361,3],[363,2,363,6],[364,2,364,3],[365,2,365,3],[351,2,351,3],[352,2,352,3],[353,2,353,3],[354,2,354,3],[355,2,355,3],[357,2,357,6],[344,2,344,6],[345,2,345,6],[346,2,346,6],[347,2,347,6],[348,2,348,3],[350,2,350,6],[337,2,337,3],[338,2,338,3],[340,2,340,6],[341,2,341,6],[342,2,342,6],[343,2,343,6],[331,2,331,6],[332,2,332,6],[333,2,333,6],[334,2,334,6],[335,2,335,6],[336,2,336,6],[324,2,324,3],[325,2,325,3],[326,2,326,3],[327,2,327,3],[329,2,329,6],[330,2,330,6],[318,2,318,6],[319,2,319,6],[320,2,320,3],[321,2,321,3],[322,2,322,3],[323,2,323,3],[307,2,307,3],[308,2,308,3],[312,2,312,6],[313,2,313,6],[314,2,314,6],[315,2,315,6],[316,2,316,6],[317,2,317,6],[301,2,301,3],[302,2,302,3],[303,2,303,3],[304,2,304,3],[305,2,305,3],[306,2,306,3],[295,2,295,3],[296,2,296,3],[297,2,297,3],[298,2,298,3],[299,2,299,3],[300,2,300,3],[288,2,288,3],[289,2,289,3],[290,2,290,3],[291,2,291,3],[292,2,292,3],[293,2,293,3],[280,2,280,3],[281,2,281,3],[282,2,282,3],[283,2,283,3],[284,2,284,3],[285,2,285,3],[286,2,286,3],[287,2,287,3],[269,2,269,3],[270,2,270,3],[271,2,271,3],[272,2,272,3],[273,2,273,3],[274,2,274,3],[275,2,275,3],[260,2,260,3],[261,2,261,3],[262,2,262,3],[263,2,263,3],[264,2,264,3],[265,2,265,3],[254,2,254,3],[255,2,255,3],[256,2,256,3],[257,2,257,3],[258,2,258,3],[259,2,259,3],[247,2,247,3],[248,2,248,3],[249,2,249,3],[250,2,250,3],[252,2,252,3],[253,2,253,3],[236,2,236,3],[238,2,238,6],[242,2,242,6],[244,2,244,3],[245,2,245,3],[246,2,246,3],[230,2,230,3],[231,2,231,3],[232,2,232,3],[233,2,233,3],[234,2,234,3],[235,2,235,3],[223,2,223,3],[224,2,224,3],[225,2,225,3],[226,2,226,3],[227,2,227,3],[228,2,228,3],[217,2,217,3],[218,2,218,3],[219,2,219,3],[220,2,220,3],[221,2,221,3],[222,2,222,3],[211,2,211,3],[212,2,212,3],[213,2,213,3],[214,2,214,3],[215,2,215,3],[216,2,216,3],[204,2,204,3],[205,2,205,3],[206,2,206,3],[207,2,207,3],[208,2,208,3],[209,2,209,3],[197,2,197,3],[198,2,198,3],[199,2,199,3],[200,2,200,3],[201,2,201,3],[203,2,203,3],[191,2,191,3],[192,2,192,3],[193,2,193,3],[194,2,194,3],[195,2,195,3],[196,2,196,3],[185,2,185,3],[187,2,187,6],[188,2,188,3],[189,2,189,3],[190,2,190,3],[179,2,179,3],[180,2,180,3],[181,2,181,3],[182,2,182,3],[183,2,183,3],[184,2,184,3],[173,2,173,3],[174,2,174,3],[175,2,175,3],[176,2,176,3],[177,2,177,3],[178,2,178,3],[166,2,166,3],[168,2,168,3],[169,2,169,3],[170,2,170,3],[171,2,171,3],[172,2,172,3],[160,2,160,3],[161,2,161,3],[162,2,162,3],[163,2,163,3],[164,2,164,3],[165,2,165,3],[153,2,153,3],[154,2,154,3],[155,2,155,3],[156,2,156,3],[157,2,157,3],[158,2,158,3],[146,2,146,3],[147,2,147,3],[148,2,148,3],[149,2,149,3],[150,2,150,3],[152,2,152,3],[140,2,140,3],[141,2,141,3],[142,2,142,3],[143,2,143,3],[144,2,144,3],[145,2,145,3],[134,2,134,3],[135,2,135,3],[136,2,136,3],[137,2,137,3],[138,2,138,3],[139,2,139,3],[127,2,127,3],[128,2,128,3],[129,2,129,3],[130,2,130,3],[131,2,131,3],[133,2,133,6],[121,2,121,3],[122,2,122,3],[123,2,123,3],[124,2,124,3],[125,2,125,3],[126,2,126,3],[115,2,115,3],[116,2,116,3],[117,2,117,3],[118,2,118,3],[119,2,119,3],[120,2,120,3],[108,2,108,3],[109,2,109,3],[110,2,110,3],[111,2,111,3],[112,2,112,3],[113,2,113,3],[102,2,102,3],[103,2,103,3],[104,2,104,3],[105,2,105,3],[106,2,106,3],[107,2,107,3],[96,2,96,6],[97,2,97,3],[98,2,98,3],[99,2,99,3],[100,2,100,3],[101,2,101,3],[89,2,89,3],[90,2,90,3],[91,2,91,3],[92,2,92,3],[93,2,93,3],[94,2,94,3],[83,2,83,3],[84,2,84,3],[85,2,85,3],[86,2,86,3],[87,2,87,3],[88,2,88,3],[76,2,76,3],[78,2,78,3],[79,2,79,3],[80,2,80,3],[81,2,81,3],[82,2,82,3],[70,2,70,3],[71,2,71,3],[72,2,72,3],[73,2,73,3],[74,2,74,3],[75,2,75,3],[64,2,64,3],[65,2,65,3],[66,2,66,3],[67,2,67,3],[68,2,68,3],[69,2,69,3],[59,2,59,6],[60,2,60,3],[61,2,61,3],[62,2,62,3],[63,2,63,3],[52,2,52,3],[53,2,53,3],[54,2,54,3],[55,2,55,3],[56,2,56,3],[57,2,57,3],[46,2,46,3],[47,2,47,3],[48,2,48,3],[49,2,49,3],[50,2,50,3],[51,2,51,3],[40,2,40,6],[41,2,41,3],[42,2,42,3],[43,2,43,3],[44,2,44,3],[45,2,45,3],[31,2,31,3],[32,2,32,3],[33,2,33,3],[34,2,34,3],[35,2,35,3],[36,2,36,3],[25,2,25,3],[26,2,26,3],[27,2,27,3],[28,2,28,3],[29,2,29,3],[30,2,30,3],[18,2,18,3],[19,2,19,3],[20,2,20,3],[21,2,21,3],[23,2,23,3],[24,2,24,3],[12,2,12,3],[13,2,13,3],[14,2,14,3],[15,2,15,3],[16,2,16,3],[17,2,17,3],[0,0,0,6],[2,0,2,1],[3,0,3,1],[3,4,3,6],[8,2,8,3],[9,2,9,3],[10,2,10,3],[11,2,11,3]]}
["Položkový rozpočet "]
[]
["Stavba :",null,"3334 Lomnice nad Popelkou - Vodovod a kanalizace",null,"Rozpočet:",{"$f":"'II. 02 II. 02 Rek'!H1","v":"II. 02"}]
["Objekt :",null,"II. 02 Vodovod",null,{"$f":"'II. 02 II. 02 Rek'!G2","v":"Vodovod"}]
[]
["P.č.","Číslo položky","Název položky","MJ","množství","cena / MJ","celkem (Kč)","Jednotková hmotnost","Celková hmotnost","Jednotková dem.hmot.","Celková dem.hmot."]
["Díl:","1","Zemní práce",null,null,null,null,null,null,null,null,null,null,null,1]
[1,"113107625R00","Odstranění podkladu nad 50 m2,kam.drcené tl.25 cm ","m2",789.9,null,{"$f":"E8*F8","v":0},0,{"$f":"E8*H8","v":0},-0.55000000000000004,{"$f":"E8*J8","v":-434.44500000000005},null,null,null,2,null,null,null,null,null,null,null,null,null,null,null,1,1,1,null,null,null,null,null,null,null,null,null,null,null,null,null,null,null,null,null,null,null,null,null,null,1,{"$f":"IF(AZ8=1,G8,0)","v":0},{"$f":"IF(AZ8=2,G8,0)","v":0},{"$f":"IF(AZ8=3,G8,0)","v":0},{"$f":"IF(AZ8=4,G8,0)","v":0},{"$f":"IF(AZ8=5,G8,0)","v":0},null,null,null,null,null,null,null,null,null,null,null,null,null,null,null,null,null,null,null,null,null,1,1]
[null,null,"Řad \"A\" TLT DN80 (částečně souběh s kanalizací) / (průměrná hloubka výkopů 1,70 m):",null,0,null,null,null,null,null,null,null,"Řad \"A\" TLT DN80 (částečně souběh s kanalizací) / (průměrná hloubka výkopů 1,70 m):"]
[null,null,"Objem konstrukce komunikací:503,50*1,00",null,503.5,null,null,null,null,null,null,null,"Objem konstrukce komunikací:503,50*1,00"]
[null,null,"Řad \"A\" TLT DN100 (částečně souběh s kanalizací) / (průměrná hloubka výkopů 1,70 m):",null,0,null,null,null,null,null,null,null,"Řad \"A\" TLT DN100 (částečně souběh s kanalizací) / (průměrná hloubka výkopů 1,70 m):"]
[null,null,"Objem konstrukce komunikací:155,30*1,00",null,155.30000000000001,null,null,null,null,null,null,null,"Objem konstrukce komunikací:155,30*1,00"]
[null,null,"Řad \"D\" TLT DN80 (průměrná hloubka výkopů 1,65 m):",null,0,null,null,null,null,null,null,null,"Řad \"D\" TLT DN80 (průměrná hloubka výkopů 1,65 m):"]
[null,null,"Objem konstrukce komunikací:45,40*1,00",null,45.4,null,null,null,null,null,null,null,"Objem konstrukce komunikací:45,40*1,00"]
[null,null,"Řad \"E\" TLT DN80 (průměrná hloubka výkopů 1,65 m):",null,0,null,null,null,null,null,null,null,"Řad \"E\" TLT DN80 (průměrná hloubka výkopů 1,65 m):"]
[null,null,"Objem konstrukce komunikací:25,70*1,00",null,25.7,null,null,null,null,null,null,null,"Objem konstrukce komunikací:25,70*1,00"]
[null,null,"Řad \"F\" TLT DN80 (průměrná hloubka výkopů 1,65 m):",null,0,null,null,null,null,null,null,null,"Řad \"F\" TLT DN80 (průměrná hloubka výkopů 1,65 m):"]
[null,null,"Objem konstrukce komunikací:9,40*1,00",null,9.4,null,null,null,null,null,null,null,"Objem konstrukce komunikací:9,40*1,00"]
[null,null,"Řad \"G\" TLT DN80 (průměrná hloubka výkopů 1,65 m):",null,0,null,null,null,null,null,null,null,"Řad \"G\" TLT DN80 (průměrná hloubka výkopů 1,65 m):"]
[null,null,"Objem konstrukce komunikací:6,60*1,00",null,6.6,null,null,null,null,null,null,null,"Objem konstrukce komunikací:6,60*1,00"]
[null,null,"Řad VV TLT DN150 (průměrná hloubka výkopů 1,95 m):",null,0,null,null,null,null,null,null,null,"Řad VV TLT DN150 (průměrná hloubka výkopů 1,95 m):"]
[null,null,"Objem konstrukce komunikací:40,00*1,10",null,44,null,null,null,null,null,null,null,"Objem konstrukce komunikací:40,00*1,10"]
[2,"113108415R00","Odstranění asfaltové vrstvy pl.nad 50 m2, tl.15 cm ","m2",789.9,null,{"$f":"E23*F23","v":0},0,{"$f":"E23*H23","v":0},-0.33,{"$f":"E23*J23","v":-260.66700000000003},null,null,null,2,null,null,null,null,null,null,null,null,null,null,null,1,1,1,null,null,null,null,null,null,null,null,null,null,null,null,null,null,null,null,null,null,null,null,null,null,1,{"$f":"IF(AZ23=1,G23,0)","v":0},{"$f":"IF(AZ23=2,G23,0)","v":0},{"$f":"IF(AZ23=3,G23,0)","v":0},{"$f":"IF(AZ23=4,G23,0)","v":0},{"$f":"IF(AZ23=5,G23,0)","v":0},null,null,null,null,null,null,null,null,null,null,null,null,null,null,null,null,null,null,null,null,null,1,1]
[null,null,"Řad \"A\" TLT DN80 (částečně souběh s kanalizací) / (průměrná hloubka výkopů 1,70 m):",null,0,null,null,null,null,null,null,null,"Řad \"A\" TLT DN80 (částečně souběh s kanalizací) / (průměrná hloubka výkopů 1,70 m):"]
[null,null,"Objem konstrukce komunikací:503,50*1,00",null,503.5,null,null,null,null,null,null,null,"Objem konstrukce komunikací:503,50*1,00"]
[null,null,"Řad \"A\" TLT DN100 (částečně souběh s kanalizací) / (průměrná hloubka výkopů 1,70 m):",null,0,null,null,null,null,null,null,null,"Řad \"A\" TLT DN100 (částečně souběh s kanalizací) / (průměrná hloubka výkopů 1,70 m):"]
[null,null,"Objem konstrukce komunikací:155,30*1,00",null,155.30000000000001,null,null,null,null,null,null,null,"Objem konstrukce komunikací:155,30*1,00"]
[null,null,"Řad \"D\" TLT DN80 (průměrná hloubka výkopů 1,65 m):",null,0,null,null,null,null,null,null,null,"Řad \"D\" TLT DN80 (průměrná hloubka výkopů 1,65 m):"]
[null,null,"Objem konstrukce komunikací:45,40*1,00",null,45.4,null,null,null,null,null,null,null,"Objem konstrukce komunikací:45,40*1,00"]
[null,null,"Řad \"E\" TLT DN80 (průměrná hloubka výkopů 1,65 m):",null,0,null,null,null,null,null,null,null,"Řad \"E\" TLT DN80 (průměrná hloubka výkopů 1,65 m):"]
[null,null,"Objem konstrukce komunikací:25,70*1,00",null,25.7,null,null,null,null,null,null,null,"Objem konstrukce komunikací:25,70*1,00"]
[null,null,"Řad \"F\" TLT DN80 (průměrná hloubka výkopů 1,65 m):",null,0,null,null,null,null,null,null,null,"Řad \"F\" TLT DN80 (průměrná hloubka výkopů 1,65 m):"]
[null,null,"Objem konstrukce komunikací:9,40*1,00",null,9.4,null,null,null,null,null,null,null,"Objem konstrukce komunikací:9,40*1,00"]
[null,null,"Řad \"G\" TLT DN80 (průměrná hloubka výkopů 1,65 m):",null,0,null,null,null,null,null,null,null,"Řad \"G\" TLT DN80 (průměrná hloubka výkopů 1,65 m):"]
[null,null,"Objem konstrukce komunikací:6,60*1,00",null,6.6,null,null,null,null,null,null,null,"Objem konstrukce komunikací:6,60*1,00"]
[null,null,"Řad VV TLT DN150 (průměrná hloubka výkopů 1,95 m):",null,0,null,null,null,null,null,null,null,"Řad VV TLT DN150 (průměrná hloubka výkopů 1,95 m):"]
[null,null,"Objem konstrukce komunikací:40,00*1,10",null,44,null,null,null,null,null,null,null,"Objem konstrukce komunikací:40,00*1,10"]
[3,"119001401R00","Dočasné zajištění ocelového potrubí do DN 200 mm ","m",45.6,null,{"$f":"E38*F38","v":0},8.6899999999999998E-3,{"$f":"E38*H38","v":0.39626400000000001},0,{"$f":"E38*J38","v":0},null,null,null,2,null,null,null,null,null,null,null,null,null,null,null,1,1,1,null,null,null,null,null,null,null,null,null,null,null,null,null,null,null,null,null,null,null,null,null,null,1,{"$f":"IF(AZ38=1,G38,0)","v":0},{"$f":"IF(AZ38=2,G38,0)","v":0},{"$f":"IF(AZ38=3,G38,0)","v":0},{"$f":"IF(AZ38=4,G38,0)","v":0},{"$f":"IF(AZ38=5,G38,0)","v":0},null,null,null,null,null,null,null,null,null,null,null,null,null,null,null,null,null,null,null,null,null,1,1]
[4,"119001422R00","Dočasné zajištění kabelů - v počtu 3 - 6 kabelů ","m",59.2,null,{"$f":"E39*F39","v":0},3.9739999999999998E-2,{"$f":"E39*H39","v":2.352608},0,{"$f":"E39*J39","v":0},null,null,null,2,null,null,null,null,null,null,null,null,null,null,null,1,1,1,null,null,null,null,null,null,null,null,null,null,null,null,null,null,null,null,null,null,null,null,null,null,1,{"$f":"IF(AZ39=1,G39,0)","v":0},{"$f":"IF(AZ39=2,G39,0)","v":0},{"$f":"IF(AZ39=3,G39,0)","v":0},{"$f":"IF(AZ39=4,G39,0)","v":0},{"$f":"IF(AZ39=5,G39,0)","v":0},null,null,null,null,null,null,null,null,null,null,null,null,null,null,null,null,null,null,null,null,null,1,1]
[5,"130001101RRX","Příplatek za ztížené hloubení v blízkosti vedení ","m3",82.681200000000004,null,{"$f":"E40*F40","v":0},0,{"$f":"E40*H40","v":0},0,{"$f":"E40*J40","v":0},null,null,null,2,null,null,null,null,null,null,null,null,null,null,null,1,1,1,null,null,null,null,null,null,null,null,null,null,null,null,null,null,null,null,null,null,null,null,null,null,1,{"$f":"IF(AZ40=1,G40,0)","v":0},{"$f":"IF(AZ40=2,G40,0)","v":0},{"$f":"IF(AZ40=3,G40,0)","v":0},{"$f":"IF(AZ40=4,G40,0)","v":0},{"$f":"IF(AZ40=5,G40,0)","v":0},null,null,null,null,null,null,null,null,null,null,null,null,null,null,null,null,null,null,null,null,null,1,1]
[null,null,"Včetně případných nutných dokopávem a ručního výkopu podél sousedících inženýrských sítí",null,null,null,null,null,null,null,null,"Včetně případných nutných dokopávem a ručního výkopu podél sousedících inženýrských sítí",null,null,3]
[null,null,"Začátek provozního součtu",null,0,null,null,null,null,null,null,null,"Začátek provozního součtu"]
[null,null,"Řad \"A\" TLT DN80 (částečně souběh s kanalizací) / (průměrná hloubka výkopů 1,70 m):503,50*1,00*1,70",null,855.95,null,null,null,null,null,null,null,"Řad \"A\" TLT DN80 (částečně souběh s kanalizací) / (průměrná hloubka výkopů 1,70 m):503,50*1,00*1,70"]
[null,null,"Odpočet objemu konstrukce komunikací:-503,50*1,00*0,40",null,-201.4,null,null,null,null,null,null,null,"Odpočet objemu konstrukce komunikací:-503,50*1,00*0,40"]
[null,null,"Řad \"A\" TLT DN100 (částečně souběh s kanalizací) / (průměrná hloubka výkopů 1,70 m):155,30*1,00*1,70",null,264.01,null,null,null,null,null,null,null,"Řad \"A\" TLT DN100 (částečně souběh s kanalizací) / (průměrná hloubka výkopů 1,70 m):155,30*1,00*1,70"]
[null,null,"Odpočet objemu konstrukce komunikací:-155,30*1,00*0,40",null,-62.12,null,null,null,null,null,null,null,"Odpočet objemu konstrukce komunikací:-155,30*1,00*0,40"]
[null,null,"Řad \"D\" TLT DN80 (průměrná hloubka výkopů 1,65 m):45,40*1,00*1,65",null,74.91,null,null,null,null,null,null,null,"Řad \"D\" TLT DN80 (průměrná hloubka výkopů 1,65 m):45,40*1,00*1,65"]
[null,null,"Odpočet objemu konstrukce komunikací:-45,40*1,00*0,40",null,-18.16,null,null,null,null,null,null,null,"Odpočet objemu konstrukce komunikací:-45,40*1,00*0,40"]
[null,null,"Řad \"E\" TLT DN80 (průměrná hloubka výkopů 1,65 m):25,70*1,00*1,65",null,42.405000000000001,null,null,null,null,null,null,null,"Řad \"E\" TLT DN80 (průměrná hloubka výkopů 1,65 m):25,70*1,00*1,65"]
[null,null,"Odpočet objemu konstrukce komunikací:-25,70*1,00*0,40",null,-10.28,null,null,null,null,null,null,null,"Odpočet objemu konstrukce komunikací:-25,70*1,00*0,40"]
[null,null,"Řad \"F\" TLT DN80 (průměrná hloubka výkopů 1,65 m):9,40*1,00*1,65",null,15.51,null,null,null,null,null,null,null,"Řad \"F\" TLT DN80 (průměrná hloubka výkopů 1,65 m):9,40*1,00*1,65"]
[null,null,"Odpočet objemu konstrukce komunikací:-9,40*1,00*0,40",null,-3.76,null,null,null,null,null,null,null,"Odpočet objemu konstrukce komunikací:-9,40*1,00*0,40"]
[null,null,"Řad \"G\" TLT DN80 (průměrná hloubka výkopů 1,65 m):6,60*1,00*1,65",null,10.89,null,null,null,null,null,null,null,"Řad \"G\" TLT DN80 (průměrná hloubka výkopů 1,65 m):6,60*1,00*1,65"]
[null,null,"Odpočet objemu konstrukce komunikací:-6,60*1,00*0,40",null,-2.64,null,null,null,null,null,null,null,"Odpočet objemu konstrukce komunikací:-6,60*1,00*0,40"]
[null,null,"Řad VV TLT DN150 (průměrná hloubka výkopů 1,95 m):40,00*1,10*1,95",null,85.8,null,null,null,null,null,null,null,"Řad VV TLT DN150 (průměrná hloubka výkopů 1,95 m):40,00*1,10*1,95"]
[null,null,"Odpočet objemu konstrukce komunikací:-40,00*1,10*0,40",null,-17.600000000000001,null,null,null,null,null,null,null,"Odpočet objemu konstrukce komunikací:-40,00*1,10*0,40"]
[null,null,"Konec provozního součtu",null,1033.5150000000001,null,null,null,null,null,null,null,"Konec provozního součtu"]
[null,null,"V hornině tř. 3 - 5 - 8%:1033,5150*0,08",null,82.681200000000004,null,null,null,null,null,null,null,"V hornině tř. 3 - 5 - 8%:1033,5150*0,08"]
[6,"132201212R00","Hloubení rýh š.do 200 cm hor.3 do 1000m3,STROJNĚ ","m3",465.08179999999999,null,{"$f":"E59*F59","v":0},0,{"$f":"E59*H59","v":0},0,{"$f":"E59*J59","v":0},null,null,null,2,null,null,null,null,null,null,null,null,null,null,null,1,1,1,null,null,null,null,null,null,null,null,null,null,null,null,null,null,null,null,null,null,null,null,null,null,1,{"$f":"IF(AZ59=1,G59,0)","v":0},{"$f":"IF(AZ59=2,G59,0)","v":0},{"$f":"IF(AZ59=3,G59,0)","v":0},{"$f":"IF(AZ59=4,G59,0)","v":0},{"$f":"IF(AZ59=5,G59,0)","v":0},null,null,null,null,null,null,null,null,null,null,null,null,null,null,null,null,null,null,null,null,null,1,1]
[null,null,"Položka obsahuje hloubení rýh traktorbagrem, naložení výkopku na dopravní prostředek pro svislé, nebo vodorovné přemístění, popř. přemístění výkopku do 3 m (po povrchu území), případné zajištění rypadel polštáři, udržování pracoviště a ochranu výkopiště proti stékání srážkové vody z okolního terénu i s jejím odvodněním, nebo odvedením, přesekání a odstranění kořenů ve výkopišti, odstranění napadávek, urovnání dna výkopu.",null,null,null,null,null,null,null,null,"Položka obsahuje hloubení rýh traktorbagrem, naložení výkopku na dopravní prostředek pro svislé, nebo vodorovné přemístění, popř. přemístění výkopku do 3 m (po povrchu území), případné zajištění rypadel polštáři, udržování pracoviště a ochranu výkopiště proti stékání srážkové vody z okolního terénu i s jejím odvodněním, nebo odvedením, přesekání a odstranění kořenů ve výkopišti, odstranění napadávek, urovnání dna výkopu.",null,null,3]
[null,null,"Začátek provozního součtu",null,0,null,null,null,null,null,null,null,"Začátek provozního součtu"]
[null,null,"Řad \"A\" TLT DN80 (částečně souběh s kanalizací) / (průměrná hloubka výkopů 1,70 m):503,50*1,00*1,70",null,855.95,null,null,null,null,null,null,null,"Řad \"A\" TLT DN80 (částečně souběh s kanalizací) / (průměrná hloubka výkopů 1,70 m):503,50*1,00*1,70"]
[null,null,"Odpočet objemu konstrukce komunikací:-503,50*1,00*0,40",null,-201.4,null,null,null,null,null,null,null,"Odpočet objemu konstrukce komunikací:-503,50*1,00*0,40"]
[null,null,"Řad \"A\" TLT DN100 (částečně souběh s kanalizací) / (průměrná hloubka výkopů 1,70 m):155,30*1,00*1,70",null,264.01,null,null,null,null,null,null,null,"Řad \"A\" TLT DN100 (částečně souběh s kanalizací) / (průměrná hloubka výkopů 1,70 m):155,30*1,00*1,70"]
[null,null,"Odpočet objemu konstrukce komunikací:-155,30*1,00*0,40",null,-62.12,null,null,null,null,null,null,null,"Odpočet objemu konstrukce komunikací:-155,30*1,00*0,40"]
[null,null,"Řad \"D\" TLT DN80 (průměrná hloubka výkopů 1,65 m):45,40*1,00*1,65",null,74.91,null,null,null,null,null,null,null,"Řad \"D\" TLT DN80 (průměrná hloubka výkopů 1,65 m):45,40*1,00*1,65"]
[null,null,"Odpočet objemu konstrukce komunikací:-45,40*1,00*0,40",null,-18.16,null,null,null,null,null,null,null,"Odpočet objemu konstrukce komunikací:-45,40*1,00*0,40"]
[null,null,"Řad \"E\" TLT DN80 (průměrná hloubka výkopů 1,65 m):25,70*1,00*1,65",null,42.405000000000001,null,null,null,null,null,null,null,"Řad \"E\" TLT DN80 (průměrná hloubka výkopů 1,65 m):25,70*1,00*1,65"]
[null,null,"Odpočet objemu konstrukce komunikací:-25,70*1,00*0,40",null,-10.28,null,null,null,null,null,null,null,"Odpočet objemu konstrukce komunikací:-25,70*1,00*0,40"]
[null,null,"Řad \"F\" TLT DN80 (průměrná hloubka výkopů 1,65 m):9,40*1,00*1,65",null,15.51,null,null,null,null,null,null,null,"Řad \"F\" TLT DN80 (průměrná hloubka výkopů 1,65 m):9,40*1,00*1,65"]
[null,null,"Odpočet objemu konstrukce komunikací:-9,40*1,00*0,40",null,-3.76,null,null,null,null,null,null,null,"Odpočet objemu konstrukce komunikací:-9,40*1,00*0,40"]
[null,null,"Řad \"G\" TLT DN80 (průměrná hloubka výkopů 1,65 m):6,60*1,00*1,65",null,10.89,null,null,null,null,null,null,null,"Řad \"G\" TLT DN80 (průměrná hloubka výkopů 1,65 m):6,60*1,00*1,65"]
[null,null,"Odpočet objemu konstrukce komunikací:-6,60*1,00*0,40",null,-2.64,null,null,null,null,null,null,null,"Odpočet objemu konstrukce komunikací:-6,60*1,00*0,40"]
[null,null,"Řad VV TLT DN150 (průměrná hloubka výkopů 1,95 m):40,00*1,10*1,95",null,85.8,null,null,null,null,null,null,null,"Řad VV TLT DN150 (průměrná hloubka výkopů 1,95 m):40,00*1,10*1,95"]
[null,null,"Odpočet objemu konstrukce komunikací:-40,00*1,10*0,40",null,-17.600000000000001,null,null,null,null,null,null,null,"Odpočet objemu konstrukce komunikací:-40,00*1,10*0,40"]
[null,null,"Konec provozního součtu",null,1033.5150000000001,null,null,null,null,null,null,null,"Konec provozního součtu"]
[null,null,"V hornině tř. 3 - 45%:1033,5150*0,45",null,465.08179999999999,null,null,null,null,null,null,null,"V hornině tř. 3 - 45%:1033,5150*0,45"]
[7,"132201219R00","Přípl.za lepivost,hloubení rýh 200cm,hor.3,STROJNĚ ","m3",232.54089999999999,null,{"$f":"E78*F78","v":0},0,{"$f":"E78*H78","v":0},0,{"$f":"E78*J78","v":0},null,null,null,2,null,null,null,null,null,null,null,null,null,null,null,1,1,1,null,null,null,null,null,null,null,null,null,null,null,null,null,null,null,null,null,null,null,null,null,null,1,{"$f":"IF(AZ78=1,G78,0)","v":0},{"$f":"IF(AZ78=2,G78,0)","v":0},{"$f":"IF(AZ78=3,G78,0)","v":0},{"$f":"IF(AZ78=4,G78,0)","v":0},{"$f":"IF(AZ78=5,G78,0)","v":0},null,null,null,null,null,null,null,null,null,null,null,null,null,null,null,null,null,null,null,null,null,1,1]
[null,null,"Začátek provozního součtu",null,0,null,null,null,null,null,null,null,"Začátek provozního součtu"]
[null,null,"Řad \"A\" TLT DN80 (částečně souběh s kanalizací) / (průměrná hloubka výkopů 1,70 m):503,50*1,00*1,70",null,855.95,null,null,null,null,null,null,null,"Řad \"A\" TLT DN80 (částečně souběh s kanalizací) / (průměrná hloubka výkopů 1,70 m):503,50*1,00*1,70"]
[null,null,"Odpočet objemu konstrukce komunikací:-503,50*1,00*0,40",null,-201.4,null,null,null,null,null,null,null,"Odpočet objemu konstrukce komunikací:-503,50*1,00*0,40"]
[null,null,"Řad \"A\" TLT DN100 (částečně souběh s kanalizací) / (průměrná hloubka výkopů 1,70 m):155,30*1,00*1,70",null,264.01,null,null,null,null,null,null,null,"Řad \"A\" TLT DN100 (částečně souběh s kanalizací) / (průměrná hloubka výkopů 1,70 m):155,30*1,00*1,70"]
[null,null,"Odpočet objemu konstrukce komunikací:-155,30*1,00*0,40",null,-62.12,null,null,null,null,null,null,null,"Odpočet objemu konstrukce komunikací:-155,30*1,00*0,40"]
[null,null,"Řad \"D\" TLT DN80 (průměrná hloubka výkopů 1,65 m):45,40*1,00*1,65",null,74.91,null,null,null,null,null,null,null,"Řad \"D\" TLT DN80 (průměrná hloubka výkopů 1,65 m):45,40*1,00*1,65"]
[null,null,"Odpočet objemu konstrukce komunikací:-45,40*1,00*0,40",null,-18.16,null,null,null,null,null,null,null,"Odpočet objemu konstrukce komunikací:-45,40*1,00*0,40"]
[null,null,"Řad \"E\" TLT DN80 (průměrná hloubka výkopů 1,65 m):25,70*1,00*1,65",null,42.405000000000001,null,null,null,null,null,null,null,"Řad \"E\" TLT DN80 (průměrná hloubka výkopů 1,65 m):25,70*1,00*1,65"]
[null,null,"Odpočet objemu konstrukce komunikací:-25,70*1,00*0,40",null,-10.28,null,null,null,null,null,null,null,"Odpočet objemu konstrukce komunikací:-25,70*1,00*0,40"]
[null,null,"Řad \"F\" TLT DN80 (průměrná hloubka výkopů 1,65 m):9,40*1,00*1,65",null,15.51,null,null,null,null,null,null,null,"Řad \"F\" TLT DN80 (průměrná hloubka výkopů 1,65 m):9,40*1,00*1,65"]
[null,null,"Odpočet objemu konstrukce komunikací:-9,40*1,00*0,40",null,-3.76,null,null,null,null,null,null,null,"Odpočet objemu konstrukce komunikací:-9,40*1,00*0,40"]
[null,null,"Řad \"G\" TLT DN80 (průměrná hloubka výkopů 1,65 m):6,60*1,00*1,65",null,10.89,null,null,null,null,null,null,null,"Řad \"G\" TLT DN80 (průměrná hloubka výkopů 1,65 m):6,60*1,00*1,65"]
[null,null,"Odpočet objemu konstrukce komunikací:-6,60*1,00*0,40",null,-2.64,null,null,null,null,null,null,null,"Odpočet objemu konstrukce komunikací:-6,60*1,00*0,40"]
[null,null,"Řad VV TLT DN150 (průměrná hloubka výkopů 1,95 m):40,00*1,10*1,95",null,85.8,null,null,null,null,null,null,null,"Řad VV TLT DN150 (průměrná hloubka výkopů 1,95 m):40,00*1,10*1,95"]
[null,null,"Odpočet objemu konstrukce komunikací:-40,00*1,10*0,40",null,-17.600000000000001,null,null,null,null,null,null,null,"Odpočet objemu konstrukce komunikací:-40,00*1,10*0,40"]
[null,null,"Konec provozního součtu",null,1033.5150000000001,null,null,null,null,null,null,null,"Konec provozního součtu"]
[null,null,"V hornině tř. 3 - 45%:1033,5150*0,45*0,5",null,232.54089999999999,null,null,null,null,null,null,null,"V hornině tř. 3 - 45%:1033,5150*0,45*0,5"]
[8,"132301212R00","Hloubení rýh š.do 200 cm hor.4 do 1000 m3, STROJNĚ ","m3",465.08179999999999,null,{"$f":"E96*F96","v":0},0,{"$f":"E96*H96","v":0},0,{"$f":"E96*J96","v":0},null,null,null,2,null,null,null,null,null,null,null,null,null,null,null,1,1,1,null,null,null,null,null,null,null,null,null,null,null,null,null,null,null,null,null,null,null,null,null,null,1,{"$f":"IF(AZ96=1,G96,0)","v":0},{"$f":"IF(AZ96=2,G96,0)","v":0},{"$f":"IF(AZ96=3,G96,0)","v":0},{"$f":"IF(AZ96=4,G96,0)","v":0},{"$f":"IF(AZ96=5,G96,0)","v":0},null,null,null,null,null,null,null,null,null,null,null,null,null,null,null,null,null,null,null,null,null,1,1]
[null,null,"Položka obsahuje hloubení rýh traktorbagrem, naložení výkopku na dopravní prostředek pro svislé, nebo vodorovné přemístění, popř. přemístění výkopku do 3 m (po povrchu území), případné zajištění rypadel polštáři, udržování pracoviště a ochranu výkopiště proti stékání srážkové vody z okolního terénu i s jejím odvodněním, nebo odvedením, přesekání a odstranění kořenů ve výkopišti, odstranění napadávek, urovnání dna výkopu.",null,null,null,null,null,null,null,null,"Položka obsahuje hloubení rýh traktorbagrem, naložení výkopku na dopravní prostředek pro svislé, nebo vodorovné přemístění, popř. přemístění výkopku do 3 m (po povrchu území), případné zajištění rypadel polštáři, udržování pracoviště a ochranu výkopiště proti stékání srážkové vody z okolního terénu i s jejím odvodněním, nebo odvedením, přesekání a odstranění kořenů ve výkopišti, odstranění napadávek, urovnání dna výkopu.",null,null,3]
[null,null,"Začátek provozního součtu",null,0,null,null,null,null,null,null,null,"Začátek provozního součtu"]
[null,null,"Řad \"A\" TLT DN80 (částečně souběh s kanalizací) / (průměrná hloubka výkopů 1,70 m):503,50*1,00*1,70",null,855.95,null,null,null,null,null,null,null,"Řad \"A\" TLT DN80 (částečně souběh s kanalizací) / (průměrná hloubka výkopů 1,70 m):503,50*1,00*1,70"]
[null,null,"Odpočet objemu konstrukce komunikací:-503,50*1,00*0,40",null,-201.4,null,null,null,null,null,null,null,"Odpočet objemu konstrukce komunikací:-503,50*1,00*0,40"]
[null,null,"Řad \"A\" TLT DN100 (částečně souběh s kanalizací) / (průměrná hloubka výkopů 1,70 m):155,30*1,00*1,70",null,264.01,null,null,null,null,null,null,null,"Řad \"A\" TLT DN100 (částečně souběh s kanalizací) / (průměrná hloubka výkopů 1,70 m):155,30*1,00*1,70"]
[null,null,"Odpočet objemu konstrukce komunikací:-155,30*1,00*0,40",null,-62.12,null,null,null,null,null,null,null,"Odpočet objemu konstrukce komunikací:-155,30*1,00*0,40"]
[null,null,"Řad \"D\" TLT DN80 (průměrná hloubka výkopů 1,65 m):45,40*1,00*1,65",null,74.91,null,null,null,null,null,null,null,"Řad \"D\" TLT DN80 (průměrná hloubka výkopů 1,65 m):45,40*1,00*1,65"]
[null,null,"Odpočet objemu konstrukce komunikací:-45,40*1,00*0,40",null,-18.16,null,null,null,null,null,null,null,"Odpočet objemu konstrukce komunikací:-45,40*1,00*0,40"]
[null,null,"Řad \"E\" TLT DN80 (průměrná hloubka výkopů 1,65 m):25,70*1,00*1,65",null,42.405000000000001,null,null,null,null,null,null,null,"Řad \"E\" TLT DN80 (průměrná hloubka výkopů 1,65 m):25,70*1,00*1,65"]
[null,null,"Odpočet objemu konstrukce komunikací:-25,70*1,00*0,40",null,-10.28,null,null,null,null,null,null,null,"Odpočet objemu konstrukce komunikací:-25,70*1,00*0,40"]
[null,null,"Řad \"F\" TLT DN80 (průměrná hloubka výkopů 1,65 m):9,40*1,00*1,65",null,15.51,null,null,null,null,null,null,null,"Řad \"F\" TLT DN80 (průměrná hloubka výkopů 1,65 m):9,40*1,00*1,65"]
[null,null,"Odpočet objemu konstrukce komunikací:-9,40*1,00*0,40",null,-3.76,null,null,null,null,null,null,null,"Odpočet objemu konstrukce komunikací:-9,40*1,00*0,40"]
[null,null,"Řad \"G\" TLT DN80 (průměrná hloubka výkopů 1,65 m):6,60*1,00*1,65",null,10.89,null,null,null,null,null,null,null,"Řad \"G\" TLT DN80 (průměrná hloubka výkopů 1,65 m):6,60*1,00*1,65"]
[null,null,"Odpočet objemu konstrukce komunikací:-6,60*1,00*0,40",null,-2.64,null,null,null,null,null,null,null,"Odpočet objemu konstrukce komunikací:-6,60*1,00*0,40"]
[null,null,"Řad VV TLT DN150 (průměrná hloubka výkopů 1,95 m):40,00*1,10*1,95",null,85.8,null,null,null,null,null,null,null,"Řad VV TLT DN150 (průměrná hloubka výkopů 1,95 m):40,00*1,10*1,95"]
[null,null,"Odpočet objemu konstrukce komunikací:-40,00*1,10*0,40",null,-17.600000000000001,null,null,null,null,null,null,null,"Odpočet objemu konstrukce komunikací:-40,00*1,10*0,40"]
[null,null,"Konec provozního součtu",null,1033.5150000000001,null,null,null,null,null,null,null,"Konec provozního součtu"]
[null,null,"V hornině tř. 4 - 45%:1033,5150*0,45",null,465.08179999999999,null,null,null,null,null,null,null,"V hornině tř. 4 - 45%:1033,5150*0,45"]
[9,"132301219R00","Přípl.za lepivost,hloubení rýh 200cm,hor.4,STROJNĚ ","m3",232.54089999999999,null,{"$f":"E115*F115","v":0},0,{"$f":"E115*H115","v":0},0,{"$f":"E115*J115","v":0},null,null,null,2,null,null,null,null,null,null,null,null,null,null,null,1,1,1,null,null,null,null,null,null,null,null,null,null,null,null,null,null,null,null,null,null,null,null,null,null,1,{"$f":"IF(AZ115=1,G115,0)","v":0},{"$f":"IF(AZ115=2,G115,0)","v":0},{"$f":"IF(AZ115=3,G115,0)","v":0},{"$f":"IF(AZ115=4,G115,0)","v":0},{"$f":"IF(AZ115=5,G115,0)","v":0},null,null,null,null,null,null,null,null,null,null,null,null,null,null,null,null,null,null,null,null,null,1,1]
[null,null,"Začátek provozního součtu",null,0,null,null,null,null,null,null,null,"Začátek provozního součtu"]
[null,null,"Řad \"A\" TLT DN80 (částečně souběh s kanalizací) / (průměrná hloubka výkopů 1,70 m):503,50*1,00*1,70",null,855.95,null,null,null,null,null,null,null,"Řad \"A\" TLT DN80 (částečně souběh s kanalizací) / (průměrná hloubka výkopů 1,70 m):503,50*1,00*1,70"]
[null,null,"Odpočet objemu konstrukce komunikací:-503,50*1,00*0,40",null,-201.4,null,null,null,null,null,null,null,"Odpočet objemu konstrukce komunikací:-503,50*1,00*0,40"]
[null,null,"Řad \"A\" TLT DN100 (částečně souběh s kanalizací) / (průměrná hloubka výkopů 1,70 m):155,30*1,00*1,70",null,264.01,null,null,null,null,null,null,null,"Řad \"A\" TLT DN100 (částečně souběh s kanalizací) / (průměrná hloubka výkopů 1,70 m):155,30*1,00*1,70"]
[null,null,"Odpočet objemu konstrukce komunikací:-155,30*1,00*0,40",null,-62.12,null,null,null,null,null,null,null,"Odpočet objemu konstrukce komunikací:-155,30*1,00*0,40"]
[null,null,"Řad \"D\" TLT DN80 (průměrná hloubka výkopů 1,65 m):45,40*1,00*1,65",null,74.91,null,null,null,null,null,null,null,"Řad \"D\" TLT DN80 (průměrná hloubka výkopů 1,65 m):45,40*1,00*1,65"]
[null,null,"Odpočet objemu konstrukce komunikací:-45,40*1,00*0,40",null,-18.16,null,null,null,null,null,null,null,"Odpočet objemu konstrukce komunikací:-45,40*1,00*0,40"]
[null,null,"Řad \"E\" TLT DN80 (průměrná hloubka výkopů 1,65 m):25,70*1,00*1,65",null,42.405000000000001,null,null,null,null,null,null,null,"Řad \"E\" TLT DN80 (průměrná hloubka výkopů 1,65 m):25,70*1,00*1,65"]
[null,null,"Odpočet objemu konstrukce komunikací:-25,70*1,00*0,40",null,-10.28,null,null,null,null,null,null,null,"Odpočet objemu konstrukce komunikací:-25,70*1,00*0,40"]
[null,null,"Řad \"F\" TLT DN80 (průměrná hloubka výkopů 1,65 m):9,40*1,00*1,65",null,15.51,null,null,null,null,null,null,null,"Řad \"F\" TLT DN80 (průměrná hloubka výkopů 1,65 m):9,40*1,00*1,65"]
[null,null,"Odpočet objemu konstrukce komunikací:-9,40*1,00*0,40",null,-3.76,null,null,null,null,null,null,null,"Odpočet objemu konstrukce komunikací:-9,40*1,00*0,40"]
[null,null,"Řad \"G\" TLT DN80 (průměrná hloubka výkopů 1,65 m):6,60*1,00*1,65",null,10.89,null,null,null,null,null,null,null,"Řad \"G\" TLT DN80 (průměrná hloubka výkopů 1,65 m):6,60*1,00*1,65"]
[null,null,"Odpočet objemu konstrukce komunikací:-6,60*1,00*0,40",null,-2.64,null,null,null,null,null,null,null,"Odpočet objemu konstrukce komunikací:-6,60*1,00*0,40"]
[null,null,"Řad VV TLT DN150 (průměrná hloubka výkopů 1,95 m):40,00*1,10*1,95",null,85.8,null,null,null,null,null,null,null,"Řad VV TLT DN150 (průměrná hloubka výkopů 1,95 m):40,00*1,10*1,95"]
[null,null,"Odpočet objemu konstrukce komunikací:-40,00*1,10*0,40",null,-17.600000000000001,null,null,null,null,null,null,null,"Odpočet objemu konstrukce komunikací:-40,00*1,10*0,40"]
[null,null,"Konec provozního součtu",null,1033.5150000000001,null,null,null,null,null,null,null,"Konec provozního součtu"]
[null,null,"V hornině tř. 4 - 45%:1033,5150*0,45*0,5",null,232.54089999999999,null,null,null,null,null,null,null,"V hornině tř. 4 - 45%:1033,5150*0,45*0,5"]
[10,"132401211R00","Hloubení rýh šířky do 200 cm v hor.5, STROJNĚ ","m3",103.3515,null,{"$f":"E133*F133","v":0},0,{"$f":"E133*H133","v":0},0,{"$f":"E133*J133","v":0},null,null,null,2,null,null,null,null,null,null,null,null,null,null,null,1,1,1,null,null,null,null,null,null,null,null,null,null,null,null,null,null,null,null,null,null,null,null,null,null,1,{"$f":"IF(AZ133=1,G133,0)","v":0},{"$f":"IF(AZ133=2,G133,0)","v":0},{"$f":"IF(AZ133=3,G133,0)","v":0},{"$f":"IF(AZ133=4,G133,0)","v":0},{"$f":"IF(AZ133=5,G133,0)","v":0},null,null,null,null,null,null,null,null,null,null,null,null,null,null,null,null,null,null,null,null,null,1,1]
[null,null,"Položka obsahuje hloubení jámy kolovým rypadlem s rozrývacím zubem, naložení výkopku na dopravní prostředek pro svislé, nebo vodorovné přemístění, popř. přemístění výkopku do 3 m (po povrchu území), případné zajištění rypadel polštáři, udržování pracoviště a ochranu výkopiště proti stékání srážkové vody z okolního terénu i s jejím odvodněním, nebo odvedením, přesekání a odstranění kořenů ve výkopišti, odstranění napadávek, urovnání dna výkopu. Položka se používá bez ohledu na těžené množství.",null,null,null,null,null,null,null,null,"Položka obsahuje hloubení jámy kolovým rypadlem s rozrývacím zubem, naložení výkopku na dopravní prostředek pro svislé, nebo vodorovné přemístění, popř. přemístění výkopku do 3 m (po povrchu území), případné zajištění rypadel polštáři, udržování pracoviště a ochranu výkopiště proti stékání srážkové vody z okolního terénu i s jejím odvodněním, nebo odvedením, přesekání a odstranění kořenů ve výkopišti, odstranění napadávek, urovnání dna výkopu. Položka se používá bez ohledu na těžené množství.",null,null,3]
[null,null,"Začátek provozního součtu",null,0,null,null,null,null,null,null,null,"Začátek provozního součtu"]
[null,null,"Řad \"A\" TLT DN80 (částečně souběh s kanalizací) / (průměrná hloubka výkopů 1,70 m):503,50*1,00*1,70",null,855.95,null,null,null,null,null,null,null,"Řad \"A\" TLT DN80 (částečně souběh s kanalizací) / (průměrná hloubka výkopů 1,70 m):503,50*1,00*1,70"]
[null,null,"Odpočet objemu konstrukce komunikací:-503,50*1,00*0,40",null,-201.4,null,null,null,null,null,null,null,"Odpočet objemu konstrukce komunikací:-503,50*1,00*0,40"]
[null,null,"Řad \"A\" TLT DN100 (částečně souběh s kanalizací) / (průměrná hloubka výkopů 1,70 m):155,30*1,00*1,70",null,264.01,null,null,null,null,null,null,null,"Řad \"A\" TLT DN100 (částečně souběh s kanalizací) / (průměrná hloubka výkopů 1,70 m):155,30*1,00*1,70"]
[null,null,"Odpočet objemu konstrukce komunikací:-155,30*1,00*0,40",null,-62.12,null,null,null,null,null,null,null,"Odpočet objemu konstrukce komunikací:-155,30*1,00*0,40"]
[null,null,"Řad \"D\" TLT DN80 (průměrná hloubka výkopů 1,65 m):45,40*1,00*1,65",null,74.91,null,null,null,null,null,null,null,"Řad \"D\" TLT DN80 (průměrná hloubka výkopů 1,65 m):45,40*1,00*1,65"]
[null,null,"Odpočet objemu konstrukce komunikací:-45,40*1,00*0,40",null,-18.16,null,null,null,null,null,null,null,"Odpočet objemu konstrukce komunikací:-45,40*1,00*0,40"]
[null,null,"Řad \"E\" TLT DN80 (průměrná hloubka výkopů 1,65 m):25,70*1,00*1,65",null,42.405000000000001,null,null,null,null,null,null,null,"Řad \"E\" TLT DN80 (průměrná hloubka výkopů 1,65 m):25,70*1,00*1,65"]
[null,null,"Odpočet objemu konstrukce komunikací:-25,70*1,00*0,40",null,-10.28,null,null,null,null,null,null,null,"Odpočet objemu konstrukce komunikací:-25,70*1,00*0,40"]
[null,null,"Řad \"F\" TLT DN80 (průměrná hloubka výkopů 1,65 m):9,40*1,00*1,65",null,15.51,null,null,null,null,null,null,null,"Řad \"F\" TLT DN80 (průměrná hloubka výkopů 1,65 m):9,40*1,00*1,65"]
[null,null,"Odpočet objemu konstrukce komunikací:-9,40*1,00*0,40",null,-3.76,null,null,null,null,null,null,null,"Odpočet objemu konstrukce komunikací:-9,40*1,00*0,40"]
[null,null,"Řad \"G\" TLT DN80 (průměrná hloubka výkopů 1,65 m):6,60*1,00*1,65",null,10.89,null,null,null,null,null,null,null,"Řad \"G\" TLT DN80 (průměrná hloubka výkopů 1,65 m):6,60*1,00*1,65"]
[null,null,"Odpočet objemu konstrukce komunikací:-6,60*1,00*0,40",null,-2.64,null,null,null,null,null,null,null,"Odpočet objemu konstrukce komunikací:-6,60*1,00*0,40"]
[null,null,"Řad VV TLT DN150 (průměrná hloubka výkopů 1,95 m):40,00*1,10*1,95",null,85.8,null,null,null,null,null,null,null,"Řad VV TLT DN150 (průměrná hloubka výkopů 1,95 m):40,00*1,10*1,95"]
[null,null,"Odpočet objemu konstrukce komunikací:-40,00*1,10*0,40",null,-17.600000000000001,null,null,null,null,null,null,null,"Odpočet objemu konstrukce komunikací:-40,00*1,10*0,40"]
[null,null,"Konec provozního součtu",null,1033.5150000000001,null,null,null,null,null,null,null,"Konec provozního součtu"]
[null,null,"V hornině tř. 5 - 10%:1033,5150*0,1",null,103.3515,null,null,null,null,null,null,null,"V hornině tř. 5 - 10%:1033,5150*0,1"]
[11,"151101101R00","Pažení a rozepření stěn rýh - příložné - hl.do 2 m ","m2",1622.55,null,{"$f":"E152*F152","v":0},9.8999999999999999E-4,{"$f":"E152*H152","v":1.6063244999999999},0,{"$f":"E152*J152","v":0},null,null,null,2,null,null,null,null,null,null,null,null,null,null,null,1,1,1,null,null,null,null,null,null,null,null,null,null,null,null,null,null,null,null,null,null,null,null,null,null,1,{"$f":"IF(AZ152=1,G152,0)","v":0},{"$f":"IF(AZ152=2,G152,0)","v":0},{"$f":"IF(AZ152=3,G152,0)","v":0},{"$f":"IF(AZ152=4,G152,0)","v":0},{"$f":"IF(AZ152=5,G152,0)","v":0},null,null,null,null,null,null,null,null,null,null,null,null,null,null,null,null,null,null,null,null,null,1,1]
[null,null,"Řad \"A\" TLT DN80 (částečně souběh s kanalizací) / (průměrná hloubka výkopů 1,70 m):(503,50-156,70)*1,70*2",null,1179.1199999999999,null,null,null,null,null,null,null,"Řad \"A\" TLT DN80 (částečně souběh s kanalizací) / (průměrná hloubka výkopů 1,70 m):(503,50-156,70)*1,70*2"]
[null,null,"Řad \"A\" TLT DN100 (částečně souběh s kanalizací) / (průměrná hloubka výkopů 1,70 m):0",null,0,null,null,null,null,null,null,null,"Řad \"A\" TLT DN100 (částečně souběh s kanalizací) / (průměrná hloubka výkopů 1,70 m):0"]
[null,null,"Řad \"D\" TLT DN80 (průměrná hloubka výkopů 1,65 m):45,40*1,65*2",null,149.82,null,null,null,null,null,null,null,"Řad \"D\" TLT DN80 (průměrná hloubka výkopů 1,65 m):45,40*1,65*2"]
[null,null,"Řad \"E\" TLT DN80 (průměrná hloubka výkopů 1,65 m):25,70*1,65*2",null,84.81,null,null,null,null,null,null,null,"Řad \"E\" TLT DN80 (průměrná hloubka výkopů 1,65 m):25,70*1,65*2"]
[null,null,"Řad \"F\" TLT DN80 (průměrná hloubka výkopů 1,65 m):9,40*1,65*2",null,31.02,null,null,null,null,null,null,null,"Řad \"F\" TLT DN80 (průměrná hloubka výkopů 1,65 m):9,40*1,65*2"]
[null,null,"Řad \"G\" TLT DN80 (průměrná hloubka výkopů 1,65 m):6,60*1,65*2",null,21.78,null,null,null,null,null,null,null,"Řad \"G\" TLT DN80 (průměrná hloubka výkopů 1,65 m):6,60*1,65*2"]
[null,null,"Řad VV TLT DN150 (průměrná hloubka výkopů 1,95 m):40,00*1,95*2",null,156,null,null,null,null,null,null,null,"Řad VV TLT DN150 (průměrná hloubka výkopů 1,95 m):40,00*1,95*2"]
[12,"151101111R00","Odstranění pažení stěn rýh - příložné - hl. do 2 m ","m2",1622.55,null,{"$f":"E160*F160","v":0},0,{"$f":"E160*H160","v":0},0,{"$f":"E160*J160","v":0},null,null,null,2,null,null,null,null,null,null,null,null,null,null,null,1,1,1,null,null,null,null,null,null,null,null,null,null,null,null,null,null,null,null,null,null,null,null,null,null,1,{"$f":"IF(AZ160=1,G160,0)","v":0},{"$f":"IF(AZ160=2,G160,0)","v":0},{"$f":"IF(AZ160=3,G160,0)","v":0},{"$f":"IF(AZ160=4,G160,0)","v":0},{"$f":"IF(AZ160=5,G160,0)","v":0},null,null,null,null,null,null,null,null,null,null,null,null,null,null,null,null,null,null,null,null,null,1,1]
[null,null,"Řad \"A\" TLT DN80 (částečně souběh s kanalizací) / (průměrná hloubka výkopů 1,70 m):(503,50-156,70)*1,70*2",null,1179.1199999999999,null,null,null,null,null,null,null,"Řad \"A\" TLT DN80 (částečně souběh s kanalizací) / (průměrná hloubka výkopů 1,70 m):(503,50-156,70)*1,70*2"]
[null,null,"Řad \"A\" TLT DN100 (částečně souběh s kanalizací) / (průměrná hloubka výkopů 1,70 m):0",null,0,null,null,null,null,null,null,null,"Řad \"A\" TLT DN100 (částečně souběh s kanalizací) / (průměrná hloubka výkopů 1,70 m):0"]
[null,null,"Řad \"D\" TLT DN80 (průměrná hloubka výkopů 1,65 m):45,40*1,65*2",null,149.82,null,null,null,null,null,null,null,"Řad \"D\" TLT DN80 (průměrná hloubka výkopů 1,65 m):45,40*1,65*2"]
[null,null,"Řad \"E\" TLT DN80 (průměrná hloubka výkopů 1,65 m):25,70*1,65*2",null,84.81,null,null,null,null,null,null,null,"Řad \"E\" TLT DN80 (průměrná hloubka výkopů 1,65 m):25,70*1,65*2"]
[null,null,"Řad \"F\" TLT DN80 (průměrná hloubka výkopů 1,65 m):9,40*1,65*2",null,31.02,null,null,null,null,null,null,null,"Řad \"F\" TLT DN80 (průměrná hloubka výkopů 1,65 m):9,40*1,65*2"]
[null,null,"Řad \"G\" TLT DN80 (průměrná hloubka výkopů 1,65 m):6,60*1,65*2",null,21.78,null,null,null,null,null,null,null,"Řad \"G\" TLT DN80 (průměrná hloubka výkopů 1,65 m):6,60*1,65*2"]
[null,null,"Řad VV TLT DN150 (průměrná hloubka výkopů 1,95 m):40,00*1,95*2",null,156,null,null,null,null,null,null,null,"Řad VV TLT DN150 (průměrná hloubka výkopů 1,95 m):40,00*1,95*2"]
[13,"162701105RSZ","Vodorovné přemístění výkopku z hor.1-4 na skládku zhotovitele","m3",1033.5150000000001,null,{"$f":"E168*F168","v":0},0,{"$f":"E168*H168","v":0},0,{"$f":"E168*J168","v":0},null,null,null,2,null,null,null,null,null,null,null,null,null,null,null,1,1,1,null,null,null,null,null,null,null,null,null,null,null,null,null,null,null,null,null,null,null,null,null,null,1,{"$f":"IF(AZ168=1,G168,0)","v":0},{"$f":"IF(AZ168=2,G168,0)","v":0},{"$f":"IF(AZ168=3,G168,0)","v":0},{"$f":"IF(AZ168=4,G168,0)","v":0},{"$f":"IF(AZ168=5,G168,0)","v":0},null,null,null,null,null,null,null,null,null,null,null,null,null,null,null,null,null,null,null,null,null,1,1]
[null,null,"Výkopy:",null,0,null,null,null,null,null,null,null,"Výkopy:"]
[null,null,"Začátek provozního součtu",null,0,null,null,null,null,null,null,null,"Začátek provozního součtu"]
[null,null,"Řad \"A\" TLT DN80 (částečně souběh s kanalizací) / (průměrná hloubka výkopů 1,70 m):503,50*1,00*1,70",null,855.95,null,null,null,null,null,null,null,"Řad \"A\" TLT DN80 (částečně souběh s kanalizací) / (průměrná hloubka výkopů 1,70 m):503,50*1,00*1,70"]
[null,null,"Odpočet objemu konstrukce komunikací:-503,50*1,00*0,40",null,-201.4,null,null,null,null,null,null,null,"Odpočet objemu konstrukce komunikací:-503,50*1,00*0,40"]
[null,null,"Řad \"A\" TLT DN100 (částečně souběh s kanalizací) / (průměrná hloubka výkopů 1,70 m):155,30*1,00*1,70",null,264.01,null,null,null,null,null,null,null,"Řad \"A\" TLT DN100 (částečně souběh s kanalizací) / (průměrná hloubka výkopů 1,70 m):155,30*1,00*1,70"]
[null,null,"Odpočet objemu konstrukce komunikací:-155,30*1,00*0,40",null,-62.12,null,null,null,null,null,null,null,"Odpočet objemu konstrukce komunikací:-155,30*1,00*0,40"]
[null,null,"Řad \"D\" TLT DN80 (průměrná hloubka výkopů 1,65 m):45,40*1,00*1,65",null,74.91,null,null,null,null,null,null,null,"Řad \"D\" TLT DN80 (průměrná hloubka výkopů 1,65 m):45,40*1,00*1,65"]
[null,null,"Odpočet objemu konstrukce komunikací:-45,40*1,00*0,40",null,-18.16,null,null,null,null,null,null,null,"Odpočet objemu konstrukce komunikací:-45,40*1,00*0,40"]
[null,null,"Řad \"E\" TLT DN80 (průměrná hloubka výkopů 1,65 m):25,70*1,00*1,65",null,42.405000000000001,null,null,null,null,null,null,null,"Řad \"E\" TLT DN80 (průměrná hloubka výkopů 1,65 m):25,70*1,00*1,65"]
[null,null,"Odpočet objemu konstrukce komunikací:-25,70*1,00*0,40",null,-10.28,null,null,null,null,null,null,null,"Odpočet objemu konstrukce komunikací:-25,70*1,00*0,40"]
[null,null,"Řad \"F\" TLT DN80 (průměrná hloubka výkopů 1,65 m):9,40*1,00*1,65",null,15.51,null,null,null,null,null,null,null,"Řad \"F\" TLT DN80 (průměrná hloubka výkopů 1,65 m):9,40*1,00*1,65"]
[null,null,"Odpočet objemu konstrukce komunikací:-9,40*1,00*0,40",null,-3.76,null,null,null,null,null,null,null,"Odpočet objemu konstrukce komunikací:-9,40*1,00*0,40"]
[null,null,"Řad \"G\" TLT DN80 (průměrná hloubka výkopů 1,65 m):6,60*1,00*1,65",null,10.89,null,null,null,null,null,null,null,"Řad \"G\" TLT DN80 (průměrná hloubka výkopů 1,65 m):6,60*1,00*1,65"]
[null,null,"Odpočet objemu konstrukce komunikací:-6,60*1,00*0,40",null,-2.64,null,null,null,null,null,null,null,"Odpočet objemu konstrukce komunikací:-6,60*1,00*0,40"]
[null,null,"Řad VV TLT DN150 (průměrná hloubka výkopů 1,95 m):40,00*1,10*1,95",null,85.8,null,null,null,null,null,null,null,"Řad VV TLT DN150 (průměrná hloubka výkopů 1,95 m):40,00*1,10*1,95"]
[null,null,"Odpočet objemu konstrukce komunikací:-40,00*1,10*0,40",null,-17.600000000000001,null,null,null,null,null,null,null,"Odpočet objemu konstrukce komunikací:-40,00*1,10*0,40"]
[null,null,"Konec provozního součtu",null,1033.5150000000001,null,null,null,null,null,null,null,"Konec provozního součtu"]
[null,null,"V hornině tř. 3 - 5:1033,5150",null,1033.5150000000001,null,null,null,null,null,null,null,"V hornině tř. 3 - 5:1033,5150"]
[14,"174101101R00","Zásyp jam, rýh, šachet se zhutněním ","m3",648.17700000000002,null,{"$f":"E187*F187","v":0},0,{"$f":"E187*H187","v":0},0,{"$f":"E187*J187","v":0},null,null,null,2,null,null,null,null,null,null,null,null,null,null,null,1,1,1,null,null,null,null,null,null,null,null,null,null,null,null,null,null,null,null,null,null,null,null,null,null,1,{"$f":"IF(AZ187=1,G187,0)","v":0},{"$f":"IF(AZ187=2,G187,0)","v":0},{"$f":"IF(AZ187=3,G187,0)","v":0},{"$f":"IF(AZ187=4,G187,0)","v":0},{"$f":"IF(AZ187=5,G187,0)","v":0},null,null,null,null,null,null,null,null,null,null,null,null,null,null,null,null,null,null,null,null,null,1,1]
[null,null,"Položka obsahuje strojní přemístění materiálu pro zásyp ze vzdálenosti do 10 m od okraje zásypu.",null,null,null,null,null,null,null,null,"Položka obsahuje strojní přemístění materiálu pro zásyp ze vzdálenosti do 10 m od okraje zásypu.",null,null,3]
[null,null,"Zásyp štěrkodrtí fr. 0-63 mm:648,1770",null,648.17700000000002,null,null,null,null,null,null,null,"Zásyp štěrkodrtí fr. 0-63 mm:648,1770"]
[null,null,"Začátek provozního součtu",null,0,null,null,null,null,null,null,null,"Začátek provozního součtu"]
[null,null,"Výkopy:",null,0,null,null,null,null,null,null,null,"Výkopy:"]
[null,null,"V hornině tř. 3 - 5 - 8%:1033,5150",null,1033.5150000000001,null,null,null,null,null,null,null,"V hornině tř. 3 - 5 - 8%:1033,5150"]
[null,null,"Odpočet lože, potrubí a obsypů:",null,0,null,null,null,null,null,null,null,"Odpočet lože, potrubí a obsypů:"]
[null,null,"Řad \"A\" TLT DN80 (částečně souběh s kanalizací) / (průměrná hloubka výkopů 1,70 m):-503,50*1,00*(0,10+0,08+0,30)",null,-241.68,null,null,null,null,null,null,null,"Řad \"A\" TLT DN80 (částečně souběh s kanalizací) / (průměrná hloubka výkopů 1,70 m):-503,50*1,00*(0,10+0,08+0,30)"]
[null,null,"Řad \"A\" TLT DN100 (částečně souběh s kanalizací) / (průměrná hloubka výkopů 1,70 m):-155,30*1,00*(0,10+0,10+0,30)",null,-77.650000000000006,null,null,null,null,null,null,null,"Řad \"A\" TLT DN100 (částečně souběh s kanalizací) / (průměrná hloubka výkopů 1,70 m):-155,30*1,00*(0,10+0,10+0,30)"]
[null,null,"Řad \"D\" TLT DN80 (průměrná hloubka výkopů 1,65 m):-45,40*1,00*(0,10+0,08+0,30)",null,-21.792000000000002,null,null,null,null,null,null,null,"Řad \"D\" TLT DN80 (průměrná hloubka výkopů 1,65 m):-45,40*1,00*(0,10+0,08+0,30)"]
[null,null,"Řad \"E\" TLT DN80 (průměrná hloubka výkopů 1,65 m):-25,70*1,00*(0,10+0,08+0,30)",null,-12.336,null,null,null,null,null,null,null,"Řad \"E\" TLT DN80 (průměrná hloubka výkopů 1,65 m):-25,70*1,00*(0,10+0,08+0,30)"]
[null,null,"Řad \"F\" TLT DN80 (průměrná hloubka výkopů 1,65 m):-9,40*1,00*(0,10+0,08+0,30)",null,-4.5119999999999996,null,null,null,null,null,null,null,"Řad \"F\" TLT DN80 (průměrná hloubka výkopů 1,65 m):-9,40*1,00*(0,10+0,08+0,30)"]
[null,null,"Řad \"G\" TLT DN80 (průměrná hloubka výkopů 1,65 m):-6,60*1,00*(0,10+0,08+0,30)",null,-3.1680000000000001,null,null,null,null,null,null,null,"Řad \"G\" TLT DN80 (průměrná hloubka výkopů 1,65 m):-6,60*1,00*(0,10+0,08+0,30)"]
[null,null,"Řad VV TLT DN150 (průměrná hloubka výkopů 1,95 m):-40,00*1,10*(0,10+0,15+0,30)",null,-24.2,null,null,null,null,null,null,null,"Řad VV TLT DN150 (průměrná hloubka výkopů 1,95 m):-40,00*1,10*(0,10+0,15+0,30)"]
[null,null,"0",null,0,null,null,null,null,null,null,null,0]
[null,null,"Konec provozního součtu",null,648.17700000000002,null,null,null,null,null,null,null,"Konec provozního součtu"]
[15,"175101101R00","Obsyp potrubí bez prohození sypaniny ","m3",301.45269999999999,null,{"$f":"E203*F203","v":0},0,{"$f":"E203*H203","v":0},0,{"$f":"E203*J203","v":0},null,null,null,2,null,null,null,null,null,null,null,null,null,null,null,1,1,1,null,null,null,null,null,null,null,null,null,null,null,null,null,null,null,null,null,null,null,null,null,null,1,{"$f":"IF(AZ203=1,G203,0)","v":0},{"$f":"IF(AZ203=2,G203,0)","v":0},{"$f":"IF(AZ203=3,G203,0)","v":0},{"$f":"IF(AZ203=4,G203,0)","v":0},{"$f":"IF(AZ203=5,G203,0)","v":0},null,null,null,null,null,null,null,null,null,null,null,null,null,null,null,null,null,null,null,null,null,1,1]
[null,null,"Řad \"A\" TLT DN80 (částečně souběh s kanalizací) / (průměrná hloubka výkopů 1,70 m):503,50*(1,00*(0,08+0,30)-0,04^2*Pi)",null,188.79910000000001,null,null,null,null,null,null,null,"Řad \"A\" TLT DN80 (částečně souběh s kanalizací) / (průměrná hloubka výkopů 1,70 m):503,50*(1,00*(0,08+0,30)-0,04^2*Pi)"]
[null,null,"Řad \"A\" TLT DN100 (částečně souběh s kanalizací) / (průměrná hloubka výkopů 1,70 m):155,30*(1,00*(0,10+0,30)-0,05^2*Pi)",null,60.900300000000001,null,null,null,null,null,null,null,"Řad \"A\" TLT DN100 (částečně souběh s kanalizací) / (průměrná hloubka výkopů 1,70 m):155,30*(1,00*(0,10+0,30)-0,05^2*Pi)"]
[null,null,"Řad \"D\" TLT DN80 (průměrná hloubka výkopů 1,65 m):45,40*(1,00*(0,08+0,30)-0,04^2*Pi)",null,17.023800000000001,null,null,null,null,null,null,null,"Řad \"D\" TLT DN80 (průměrná hloubka výkopů 1,65 m):45,40*(1,00*(0,08+0,30)-0,04^2*Pi)"]
[null,null,"Řad \"E\" TLT DN80 (průměrná hloubka výkopů 1,65 m):25,70*(1,00*(0,08+0,30)-0,04^2*Pi)",null,9.6367999999999991,null,null,null,null,null,null,null,"Řad \"E\" TLT DN80 (průměrná hloubka výkopů 1,65 m):25,70*(1,00*(0,08+0,30)-0,04^2*Pi)"]
[null,null,"Řad \"F\" TLT DN80 (průměrná hloubka výkopů 1,65 m):9,40*(1,00*(0,08+0,30)-0,04^2*Pi)",null,3.5247999999999999,null,null,null,null,null,null,null,"Řad \"F\" TLT DN80 (průměrná hloubka výkopů 1,65 m):9,40*(1,00*(0,08+0,30)-0,04^2*Pi)"]
[null,null,"Řad \"G\" TLT DN80 (průměrná hloubka výkopů 1,65 m):6,60*(1,00*(0,08+0,30)-0,04^2*Pi)",null,2.4748000000000001,null,null,null,null,null,null,null,"Řad \"G\" TLT DN80 (průměrná hloubka výkopů 1,65 m):6,60*(1,00*(0,08+0,30)-0,04^2*Pi)"]
[null,null,"Řad VV TLT DN150 (průměrná hloubka výkopů 1,95 m):40,00*(1,10*(0,15+0,30)-0,075^2*Pi)",null,19.0931,null,null,null,null,null,null,null,"Řad VV TLT DN150 (průměrná hloubka výkopů 1,95 m):40,00*(1,10*(0,15+0,30)-0,075^2*Pi)"]
[16,"199000002R00","Poplatek za skládku horniny 1- 4 č. dle katal. odpadů 17 05 04","m3",1033.5150000000001,null,{"$f":"E211*F211","v":0},0,{"$f":"E211*H211","v":0},0,{"$f":"E211*J211","v":0},null,null,null,2,null,null,null,null,null,null,null,null,null,null,null,1,1,1,null,null,null,null,null,null,null,null,null,null,null,null,null,null,null,null,null,null,null,null,null,null,1,{"$f":"IF(AZ211=1,G211,0)","v":0},{"$f":"IF(AZ211=2,G211,0)","v":0},{"$f":"IF(AZ211=3,G211,0)","v":0},{"$f":"IF(AZ211=4,G211,0)","v":0},{"$f":"IF(AZ211=5,G211,0)","v":0},null,null,null,null,null,null,null,null,null,null,null,null,null,null,null,null,null,null,null,null,null,1,1]
[null,null,"Výkopy:",null,0,null,null,null,null,null,null,null,"Výkopy:"]
[null,null,"Začátek provozního součtu",null,0,null,null,null,null,null,null,null,"Začátek provozního součtu"]
[null,null,"Řad \"A\" TLT DN80 (částečně souběh s kanalizací) / (průměrná hloubka výkopů 1,70 m):503,50*1,00*1,70",null,855.95,null,null,null,null,null,null,null,"Řad \"A\" TLT DN80 (částečně souběh s kanalizací) / (průměrná hloubka výkopů 1,70 m):503,50*1,00*1,70"]
[null,null,"Odpočet objemu konstrukce komunikací:-503,50*1,00*0,40",null,-201.4,null,null,null,null,null,null,null,"Odpočet objemu konstrukce komunikací:-503,50*1,00*0,40"]
[null,null,"Řad \"A\" TLT DN100 (částečně souběh s kanalizací) / (průměrná hloubka výkopů 1,70 m):155,30*1,00*1,70",null,264.01,null,null,null,null,null,null,null,"Řad \"A\" TLT DN100 (částečně souběh s kanalizací) / (průměrná hloubka výkopů 1,70 m):155,30*1,00*1,70"]
[null,null,"Odpočet objemu konstrukce komunikací:-155,30*1,00*0,40",null,-62.12,null,null,null,null,null,null,null,"Odpočet objemu konstrukce komunikací:-155,30*1,00*0,40"]
[null,null,"Řad \"D\" TLT DN80 (průměrná hloubka výkopů 1,65 m):45,40*1,00*1,65",null,74.91,null,null,null,null,null,null,null,"Řad \"D\" TLT DN80 (průměrná hloubka výkopů 1,65 m):45,40*1,00*1,65"]
[null,null,"Odpočet objemu konstrukce komunikací:-45,40*1,00*0,40",null,-18.16,null,null,null,null,null,null,null,"Odpočet objemu konstrukce komunikací:-45,40*1,00*0,40"]
[null,null,"Řad \"E\" TLT DN80 (průměrná hloubka výkopů 1,65 m):25,70*1,00*1,65",null,42.405000000000001,null,null,null,null,null,null,null,"Řad \"E\" TLT DN80 (průměrná hloubka výkopů 1,65 m):25,70*1,00*1,65"]
[null,null,"Odpočet objemu konstrukce komunikací:-25,70*1,00*0,40",null,-10.28,null,null,null,null,null,null,null,"Odpočet objemu konstrukce komunikací:-25,70*1,00*0,40"]
[null,null,"Řad \"F\" TLT DN80 (průměrná hloubka výkopů 1,65 m):9,40*1,00*1,65",null,15.51,null,null,null,null,null,null,null,"Řad \"F\" TLT DN80 (průměrná hloubka výkopů 1,65 m):9,40*1,00*1,65"]
[null,null,"Odpočet objemu konstrukce komunikací:-9,40*1,00*0,40",null,-3.76,null,null,null,null,null,null,null,"Odpočet objemu konstrukce komunikací:-9,40*1,00*0,40"]
[null,null,"Řad \"G\" TLT DN80 (průměrná hloubka výkopů 1,65 m):6,60*1,00*1,65",null,10.89,null,null,null,null,null,null,null,"Řad \"G\" TLT DN80 (průměrná hloubka výkopů 1,65 m):6,60*1,00*1,65"]
[null,null,"Odpočet objemu konstrukce komunikací:-6,60*1,00*0,40",null,-2.64,null,null,null,null,null,null,null,"Odpočet objemu konstrukce komunikací:-6,60*1,00*0,40"]
[null,null,"Řad VV TLT DN150 (průměrná hloubka výkopů 1,95 m):40,00*1,10*1,95",null,85.8,null,null,null,null,null,null,null,"Řad VV TLT DN150 (průměrná hloubka výkopů 1,95 m):40,00*1,10*1,95"]
[null,null,"Odpočet objemu konstrukce komunikací:-40,00*1,10*0,40",null,-17.600000000000001,null,null,null,null,null,null,null,"Odpočet objemu konstrukce komunikací:-40,00*1,10*0,40"]
[null,null,"Konec provozního součtu",null,1033.5150000000001,null,null,null,null,null,null,null,"Konec provozního součtu"]
[null,null,"V hornině tř. 3 - 5:1033,5150",null,1033.5150000000001,null,null,null,null,null,null,null,"V hornině tř. 3 - 5:1033,5150"]
[17,"919735113R00","Řezání stávajícího živičného krytu tl. 10 - 15 cm ","m",956,null,{"$f":"E230*F230","v":0},0,{"$f":"E230*H230","v":0},0,{"$f":"E230*J230","v":0},null,null,null,2,null,null,null,null,null,null,null,null,null,null,null,1,1,1,null,null,null,null,null,null,null,null,null,null,null,null,null,null,null,null,null,null,null,null,null,null,1,{"$f":"IF(AZ230=1,G230,0)","v":0},{"$f":"IF(AZ230=2,G230,0)","v":0},{"$f":"IF(AZ230=3,G230,0)","v":0},{"$f":"IF(AZ230=4,G230,0)","v":0},{"$f":"IF(AZ230=5,G230,0)","v":0},null,null,null,null,null,null,null,null,null,null,null,null,null,null,null,null,null,null,null,null,null,1,1]
[null,null,"Řad \"A\" TLT DN80 (částečně souběh s kanalizací) / (průměrná hloubka výkopů 1,70 m):(503,50-156,70)*2+1,00",null,694.6,null,null,null,null,null,null,null,"Řad \"A\" TLT DN80 (částečně souběh s kanalizací) / (průměrná hloubka výkopů 1,70 m):(503,50-156,70)*2+1,00"]
[null,null,"Řad \"A\" TLT DN100 (částečně souběh s kanalizací) / (průměrná hloubka výkopů 1,70 m):1,00",null,1,null,null,null,null,null,null,null,"Řad \"A\" TLT DN100 (částečně souběh s kanalizací) / (průměrná hloubka výkopů 1,70 m):1,00"]
[null,null,"Řad \"D\" TLT DN80 (průměrná hloubka výkopů 1,65 m):45,40*2+1,00",null,91.8,null,null,null,null,null,null,null,"Řad \"D\" TLT DN80 (průměrná hloubka výkopů 1,65 m):45,40*2+1,00"]
[null,null,"Řad \"E\" TLT DN80 (průměrná hloubka výkopů 1,65 m):25,70*2+1,00",null,52.4,null,null,null,null,null,null,null,"Řad \"E\" TLT DN80 (průměrná hloubka výkopů 1,65 m):25,70*2+1,00"]
[null,null,"Řad \"F\" TLT DN80 (průměrná hloubka výkopů 1,65 m):9,40*2+1,00",null,19.8,null,null,null,null,null,null,null,"Řad \"F\" TLT DN80 (průměrná hloubka výkopů 1,65 m):9,40*2+1,00"]
[null,null,"Řad \"G\" TLT DN80 (průměrná hloubka výkopů 1,65 m):6,60*2+1,00",null,14.2,null,null,null,null,null,null,null,"Řad \"G\" TLT DN80 (průměrná hloubka výkopů 1,65 m):6,60*2+1,00"]
[null,null,"Řad VV TLT DN150 (průměrná hloubka výkopů 1,95 m):40,00*2+1,10*2",null,82.2,null,null,null,null,null,null,null,"Řad VV TLT DN150 (průměrná hloubka výkopů 1,95 m):40,00*2+1,10*2"]
[18,"969011131RRX","Vybourání vodovod., plynového vedení DN do 125 mm ","m",402,null,{"$f":"E238*F238","v":0},3.8000000000000002E-4,{"$f":"E238*H238","v":0.15276000000000001},-3.6999999999999998E-2,{"$f":"E238*J238","v":-14.873999999999999},null,null,null,2,null,null,null,null,null,null,null,null,null,null,null,1,1,1,null,null,null,null,null,null,null,null,null,null,null,null,null,null,null,null,null,null,null,null,null,null,1,{"$f":"IF(AZ238=1,G238,0)","v":0},{"$f":"IF(AZ238=2,G238,0)","v":0},{"$f":"IF(AZ238=3,G238,0)","v":0},{"$f":"IF(AZ238=4,G238,0)","v":0},{"$f":"IF(AZ238=5,G238,0)","v":0},null,null,null,null,null,null,null,null,null,null,null,null,null,null,null,null,null,null,null,null,null,1,1]
[null,null,"Položka obsahuje odstranění materiálu obklopujícího potrubí v míře nutné pro vyzvednutí, rozpojení trub, uchopení a vyzvednutí trub z výkopu včetně všech znaků a armatur a uložení na dopravní prostředek včetně odvozu na skládku zhotovitele a poplatek za skládku.",null,null,null,null,null,null,null,null,"Položka obsahuje odstranění materiálu obklopujícího potrubí v míře nutné pro vyzvednutí, rozpojení trub, uchopení a vyzvednutí trub z výkopu včetně všech znaků a armatur a uložení na dopravní prostředek včetně odvozu na skládku zhotovitele a poplatek za skládku.",null,null,3]
[19,"979082113RSZ","Vodorovná doprava suti po suchu na skládku zhotovitele","t",695.11199999999997,null,{"$f":"E240*F240","v":0},0,{"$f":"E240*H240","v":0},0,{"$f":"E240*J240","v":0},null,null,null,2,null,null,null,null,null,null,null,null,null,null,null,1,1,1,null,null,null,null,null,null,null,null,null,null,null,null,null,null,null,null,null,null,null,null,null,null,1,{"$f":"IF(AZ240=1,G240,0)","v":0},{"$f":"IF(AZ240=2,G240,0)","v":0},{"$f":"IF(AZ240=3,G240,0)","v":0},{"$f":"IF(AZ240=4,G240,0)","v":0},{"$f":"IF(AZ240=5,G240,0)","v":0},null,null,null,null,null,null,null,null,null,null,null,null,null,null,null,null,null,null,null,null,null,1,1]
[20,"979089001R00","Poplatek za skládku stavební suti štěrky z komunikací, skupina odpadu 010408","t",434.44499999999999,null,{"$f":"E241*F241","v":0},0,{"$f":"E241*H241","v":0},0,{"$f":"E241*J241","v":0},null,null,null,2,null,null,null,null,null,null,null,null,null,null,null,1,1,1,null,null,null,null,null,null,null,null,null,null,null,null,null,null,null,null,null,null,null,null,null,null,1,{"$f":"IF(AZ241=1,G241,0)","v":0},{"$f":"IF(AZ241=2,G241,0)","v":0},{"$f":"IF(AZ241=3,G241,0)","v":0},{"$f":"IF(AZ241=4,G241,0)","v":0},{"$f":"IF(AZ241=5,G241,0)","v":0},null,null,null,null,null,null,null,null,null,null,null,null,null,null,null,null,null,null,null,null,null,1,1]
[21,"979999995R00","Poplatek za reciklaci asfaltu, kusovost do 1600cm2 skupina 170302","t",260.66699999999997,null,{"$f":"E242*F242","v":0},0,{"$f":"E242*H242","v":0},0,{"$f":"E242*J242","v":0},null,null,null,2,null,null,null,null,null,null,null,null,null,null,null,1,1,1,null,null,null,null,null,null,null,null,null,null,null,null,null,null,null,null,null,null,null,null,null,null,1,{"$f":"IF(AZ242=1,G242,0)","v":0},{"$f":"IF(AZ242=2,G242,0)","v":0},{"$f":"IF(AZ242=3,G242,0)","v":0},{"$f":"IF(AZ242=4,G242,0)","v":0},{"$f":"IF(AZ242=5,G242,0)","v":0},null,null,null,null,null,null,null,null,null,null,null,null,null,null,null,null,null,null,null,null,null,1,1]
[null,null,"Položka je určena pro suť o velikosti kusu do 30x30 cm nebo frézovaný asfalt(technologický materiál určený k recyklaci).",null,null,null,null,null,null,null,null,"Položka je určena pro suť o velikosti kusu do 30x30 cm nebo frézovaný asfalt(technologický materiál určený k recyklaci).",null,null,3]
[22,"58337308R","Štěrkopísek frakce 0-2 tř.B","t",594.7663,null,{"$f":"E244*F244","v":0},1,{"$f":"E244*H244","v":594.7663},null,{"$f":"E244*J244","v":0},null,null,null,2,null,null,null,null,null,null,null,null,null,null,null,3,1,"58337308R",null,null,null,null,null,null,null,null,null,null,null,null,null,null,null,null,null,null,null,null,null,null,1,{"$f":"IF(AZ244=1,G244,0)","v":0},{"$f":"IF(AZ244=2,G244,0)","v":0},{"$f":"IF(AZ244=3,G244,0)","v":0},{"$f":"IF(AZ244=4,G244,0)","v":0},{"$f":"IF(AZ244=5,G244,0)","v":0},null,null,null,null,null,null,null,null,null,null,null,null,null,null,null,null,null,null,null,null,null,3,1]
[null,null,"Řad \"A\" TLT DN80 (částečně souběh s kanalizací) / (průměrná hloubka výkopů 1,70 m):503,50*(1,00*(0,08+0,30)-0,04^2*Pi)*1,973",null,372.50069999999999,null,null,null,null,null,null,null,"Řad \"A\" TLT DN80 (částečně souběh s kanalizací) / (průměrná hloubka výkopů 1,70 m):503,50*(1,00*(0,08+0,30)-0,04^2*Pi)*1,973"]
[null,null,"Řad \"A\" TLT DN100 (částečně souběh s kanalizací) / (průměrná hloubka výkopů 1,70 m):155,30*(1,00*(0,10+0,30)-0,05^2*Pi)*1,973",null,120.1562,null,null,null,null,null,null,null,"Řad \"A\" TLT DN100 (částečně souběh s kanalizací) / (průměrná hloubka výkopů 1,70 m):155,30*(1,00*(0,10+0,30)-0,05^2*Pi)*1,973"]
[null,null,"Řad \"D\" TLT DN80 (průměrná hloubka výkopů 1,65 m):45,40*(1,00*(0,08+0,30)-0,04^2*Pi)*1,973",null,33.587899999999998,null,null,null,null,null,null,null,"Řad \"D\" TLT DN80 (průměrná hloubka výkopů 1,65 m):45,40*(1,00*(0,08+0,30)-0,04^2*Pi)*1,973"]
[null,null,"Řad \"E\" TLT DN80 (průměrná hloubka výkopů 1,65 m):25,70*(1,00*(0,08+0,30)-0,04^2*Pi)*1,973",null,19.013400000000001,null,null,null,null,null,null,null,"Řad \"E\" TLT DN80 (průměrná hloubka výkopů 1,65 m):25,70*(1,00*(0,08+0,30)-0,04^2*Pi)*1,973"]
[null,null,"Řad \"F\" TLT DN80 (průměrná hloubka výkopů 1,65 m):9,40*(1,00*(0,08+0,30)-0,04^2*Pi)*1,973",null,6.9542999999999999,null,null,null,null,null,null,null,"Řad \"F\" TLT DN80 (průměrná hloubka výkopů 1,65 m):9,40*(1,00*(0,08+0,30)-0,04^2*Pi)*1,973"]
[null,null,"Řad \"G\" TLT DN80 (průměrná hloubka výkopů 1,65 m):6,60*(1,00*(0,08+0,30)-0,04^2*Pi)*1,973",null,4.8827999999999996,null,null,null,null,null,null,null,"Řad \"G\" TLT DN80 (průměrná hloubka výkopů 1,65 m):6,60*(1,00*(0,08+0,30)-0,04^2*Pi)*1,973"]
[null,null,"Řad VV TLT DN150 (průměrná hloubka výkopů 1,95 m):40,00*(1,10*(0,15+0,30)-0,075^2*Pi)*1,973",null,37.6708,null,null,null,null,null,null,null,"Řad VV TLT DN150 (průměrná hloubka výkopů 1,95 m):40,00*(1,10*(0,15+0,30)-0,075^2*Pi)*1,973"]
[23,"58344197R","Štěrkodrtě frakce 0-63 A","t",1214.0355,null,{"$f":"E252*F252","v":0},1,{"$f":"E252*H252","v":1214.0355},null,{"$f":"E252*J252","v":0},null,null,null,2,null,null,null,null,null,null,null,null,null,null,null,3,1,"58344197R",null,null,null,null,null,null,null,null,null,null,null,null,null,null,null,null,null,null,null,null,null,null,1,{"$f":"IF(AZ252=1,G252,0)","v":0},{"$f":"IF(AZ252=2,G252,0)","v":0},{"$f":"IF(AZ252=3,G252,0)","v":0},{"$f":"IF(AZ252=4,G252,0)","v":0},{"$f":"IF(AZ252=5,G252,0)","v":0},null,null,null,null,null,null,null,null,null,null,null,null,null,null,null,null,null,null,null,null,null,3,1]
[null,null,"Zásyp štěrkodrtí fr. 0-63 mm:648,1770*1,873",null,1214.0355,null,null,null,null,null,null,null,"Zásyp štěrkodrtí fr. 0-63 mm:648,1770*1,873"]
[null,null,"Začátek provozního součtu",null,0,null,null,null,null,null,null,null,"Začátek provozního součtu"]
[null,null,"Výkopy:",null,0,null,null,null,null,null,null,null,"Výkopy:"]
[null,null,"V hornině tř. 3 - 5 - 8%:1033,5150",null,1033.5150000000001,null,null,null,null,null,null,null,"V hornině tř. 3 - 5 - 8%:1033,5150"]
[null,null,"Odpočet lože, potrubí a obsypů:",null,0,null,null,null,null,null,null,null,"Odpočet lože, potrubí a obsypů:"]
[null,null,"Řad \"A\" TLT DN80 (částečně souběh s kanalizací) / (průměrná hloubka výkopů 1,70 m):-503,50*1,00*(0,10+0,08+0,30)",null,-241.68,null,null,null,null,null,null,null,"Řad \"A\" TLT DN80 (částečně souběh s kanalizací) / (průměrná hloubka výkopů 1,70 m):-503,50*1,00*(0,10+0,08+0,30)"]
[null,null,"Řad \"A\" TLT DN100 (částečně souběh s kanalizací) / (průměrná hloubka výkopů 1,70 m):-155,30*1,00*(0,10+0,10+0,30)",null,-77.650000000000006,null,null,null,null,null,null,null,"Řad \"A\" TLT DN100 (částečně souběh s kanalizací) / (průměrná hloubka výkopů 1,70 m):-155,30*1,00*(0,10+0,10+0,30)"]
[null,null,"Řad \"D\" TLT DN80 (průměrná hloubka výkopů 1,65 m):-45,40*1,00*(0,10+0,08+0,30)",null,-21.792000000000002,null,null,null,null,null,null,null,"Řad \"D\" TLT DN80 (průměrná hloubka výkopů 1,65 m):-45,40*1,00*(0,10+0,08+0,30)"]
[null,null,"Řad \"E\" TLT DN80 (průměrná hloubka výkopů 1,65 m):-25,70*1,00*(0,10+0,08+0,30)",null,-12.336,null,null,null,null,null,null,null,"Řad \"E\" TLT DN80 (průměrná hloubka výkopů 1,65 m):-25,70*1,00*(0,10+0,08+0,30)"]
[null,null,"Řad \"F\" TLT DN80 (průměrná hloubka výkopů 1,65 m):-9,40*1,00*(0,10+0,08+0,30)",null,-4.5119999999999996,null,null,null,null,null,null,null,"Řad \"F\" TLT DN80 (průměrná hloubka výkopů 1,65 m):-9,40*1,00*(0,10+0,08+0,30)"]
[null,null,"Řad \"G\" TLT DN80 (průměrná hloubka výkopů 1,65 m):-6,60*1,00*(0,10+0,08+0,30)",null,-3.1680000000000001,null,null,null,null,null,null,null,"Řad \"G\" TLT DN80 (průměrná hloubka výkopů 1,65 m):-6,60*1,00*(0,10+0,08+0,30)"]
[null,null,"Řad VV TLT DN150 (průměrná hloubka výkopů 1,95 m):-40,00*1,10*(0,10+0,15+0,30)",null,-24.2,null,null,null,null,null,null,null,"Řad VV TLT DN150 (průměrná hloubka výkopů 1,95 m):-40,00*1,10*(0,10+0,15+0,30)"]
[null,null,"0",null,0,null,null,null,null,null,null,null,0]
[null,null,"Konec provozního součtu",null,648.17700000000002,null,null,null,null,null,null,null,"Konec provozního součtu"]
[null,"Celkem za","1 Zemní práce",null,null,null,{"$f":"SUM(G7:G266)","v":0},null,{"$f":"SUM(I7:I266)","v":1813.3097564999998},null,{"$f":"SUM(K7:K266)","v":-709.9860000000001},null,null,null,4,null,null,null,null,null,null,null,null,null,null,null,null,null,null,null,null,null,null,null,null,null,null,null,null,null,null,null,null,null,null,null,null,null,null,null,null,null,{"$f":"SUM(BA7:BA266)","v":0},{"$f":"SUM(BB7:BB266)","v":0},{"$f":"SUM(BC7:BC266)","v":0},{"$f":"SUM(BD7:BD266)","v":0},{"$f":"SUM(BE7:BE266)","v":0}]
["Díl:","45","Podkladní a vedlejší konstrukce",null,null,null,null,null,null,null,null,null,null,null,1]
[24,"451572111R00","Lože pod potrubí z kameniva těženého 0 - 4 mm ","m3",78.989999999999995,null,{"$f":"E269*F269","v":0},1.873,{"$f":"E269*H269","v":147.94826999999998},0,{"$f":"E269*J269","v":0},null,null,null,2,null,null,null,null,null,null,null,null,null,null,null,1,1,1,null,null,null,null,null,null,null,null,null,null,null,null,null,null,null,null,null,null,null,null,null,null,1,{"$f":"IF(AZ269=1,G269,0)","v":0},{"$f":"IF(AZ269=2,G269,0)","v":0},{"$f":"IF(AZ269=3,G269,0)","v":0},{"$f":"IF(AZ269=4,G269,0)","v":0},{"$f":"IF(AZ269=5,G269,0)","v":0},null,null,null,null,null,null,null,null,null,null,null,null,null,null,null,null,null,null,null,null,null,1,1]
[null,null,"Řad \"A\" TLT DN80 (částečně souběh s kanalizací) / (průměrná hloubka výkopů 1,70 m):503,50*1,00*0,10",null,50.35,null,null,null,null,null,null,null,"Řad \"A\" TLT DN80 (částečně souběh s kanalizací) / (průměrná hloubka výkopů 1,70 m):503,50*1,00*0,10"]
[null,null,"Řad \"A\" TLT DN100 (částečně souběh s kanalizací) / (průměrná hloubka výkopů 1,70 m):155,30*1,00*0,10",null,15.53,null,null,null,null,null,null,null,"Řad \"A\" TLT DN100 (částečně souběh s kanalizací) / (průměrná hloubka výkopů 1,70 m):155,30*1,00*0,10"]
[null,null,"Řad \"D\" TLT DN80 (průměrná hloubka výkopů 1,65 m):45,40*1,00*0,10",null,4.54,null,null,null,null,null,null,null,"Řad \"D\" TLT DN80 (průměrná hloubka výkopů 1,65 m):45,40*1,00*0,10"]
[null,null,"Řad \"E\" TLT DN80 (průměrná hloubka výkopů 1,65 m):25,70*1,00*0,10",null,2.57,null,null,null,null,null,null,null,"Řad \"E\" TLT DN80 (průměrná hloubka výkopů 1,65 m):25,70*1,00*0,10"]
[null,null,"Řad \"F\" TLT DN80 (průměrná hloubka výkopů 1,65 m):9,40*1,00*0,10",null,0.94,null,null,null,null,null,null,null,"Řad \"F\" TLT DN80 (průměrná hloubka výkopů 1,65 m):9,40*1,00*0,10"]
[null,null,"Řad \"G\" TLT DN80 (průměrná hloubka výkopů 1,65 m):6,60*1,00*0,10",null,0.66,null,null,null,null,null,null,null,"Řad \"G\" TLT DN80 (průměrná hloubka výkopů 1,65 m):6,60*1,00*0,10"]
[null,null,"Řad VV TLT DN150 (průměrná hloubka výkopů 1,95 m):40,00*1,10*0,10",null,4.4000000000000004,null,null,null,null,null,null,null,"Řad VV TLT DN150 (průměrná hloubka výkopů 1,95 m):40,00*1,10*0,10"]
[25,"452313141R00","Bloky pro potrubí z betonu C 16/20 vč. bednění ","m3",5.6429999999999998,null,{"$f":"E277*F277","v":0},2.5,{"$f":"E277*H277","v":14.1075},0,{"$f":"E277*J277","v":0},null,null,null,2,null,null,null,null,null,null,null,null,null,null,null,1,1,1,null,null,null,null,null,null,null,null,null,null,null,null,null,null,null,null,null,null,null,null,null,null,1,{"$f":"IF(AZ277=1,G277,0)","v":0},{"$f":"IF(AZ277=2,G277,0)","v":0},{"$f":"IF(AZ277=3,G277,0)","v":0},{"$f":"IF(AZ277=4,G277,0)","v":0},{"$f":"IF(AZ277=5,G277,0)","v":0},null,null,null,null,null,null,null,null,null,null,null,null,null,null,null,null,null,null,null,null,null,1,1]
[null,"Celkem za","45 Podkladní a vedlejší konstrukce",null,null,null,{"$f":"SUM(G268:G277)","v":0},null,{"$f":"SUM(I268:I277)","v":162.05576999999997},null,{"$f":"SUM(K268:K277)","v":0},null,null,null,4,null,null,null,null,null,null,null,null,null,null,null,null,null,null,null,null,null,null,null,null,null,null,null,null,null,null,null,null,null,null,null,null,null,null,null,null,null,{"$f":"SUM(BA268:BA277)","v":0},{"$f":"SUM(BB268:BB277)","v":0},{"$f":"SUM(BC268:BC277)","v":0},{"$f":"SUM(BD268:BD277)","v":0},{"$f":"SUM(BE268:BE277)","v":0}]
["Díl:","5","Komunikace",null,null,null,null,null,null,null,null,null,null,null,1]
[26,"566903111R00","Vyspravení podkladu po překopech kam.hrubě drceným ","t",369.8707,null,{"$f":"E280*F280","v":0},1.1000000000000001,{"$f":"E280*H280","v":406.85777000000002},0,{"$f":"E280*J280","v":0},null,null,null,2,null,null,null,null,null,null,null,null,null,null,null,1,1,1,null,null,null,null,null,null,null,null,null,null,null,null,null,null,null,null,null,null,null,null,null,null,1,{"$f":"IF(AZ280=1,G280,0)","v":0},{"$f":"IF(AZ280=2,G280,0)","v":0},{"$f":"IF(AZ280=3,G280,0)","v":0},{"$f":"IF(AZ280=4,G280,0)","v":0},{"$f":"IF(AZ280=5,G280,0)","v":0},null,null,null,null,null,null,null,null,null,null,null,null,null,null,null,null,null,null,null,null,null,1,1]
[null,null,"Řad \"A\" TLT DN80 (částečně souběh s kanalizací) / (průměrná hloubka výkopů 1,70 m):",null,0,null,null,null,null,null,null,null,"Řad \"A\" TLT DN80 (částečně souběh s kanalizací) / (průměrná hloubka výkopů 1,70 m):"]
[null,null,"Objem konstrukce komunikací:503,50*1,00*0,25*1,873",null,235.76390000000001,null,null,null,null,null,null,null,"Objem konstrukce komunikací:503,50*1,00*0,25*1,873"]
[null,null,"Řad \"A\" TLT DN100 (částečně souběh s kanalizací) / (průměrná hloubka výkopů 1,70 m):",null,0,null,null,null,null,null,null,null,"Řad \"A\" TLT DN100 (částečně souběh s kanalizací) / (průměrná hloubka výkopů 1,70 m):"]
[null,null,"Objem konstrukce komunikací:155,30*1,00*0,25*1,873",null,72.719200000000001,null,null,null,null,null,null,null,"Objem konstrukce komunikací:155,30*1,00*0,25*1,873"]
[null,null,"Řad \"D\" TLT DN80 (průměrná hloubka výkopů 1,65 m):",null,0,null,null,null,null,null,null,null,"Řad \"D\" TLT DN80 (průměrná hloubka výkopů 1,65 m):"]
[null,null,"Objem konstrukce komunikací:45,40*1,00*0,25*1,873",null,21.258500000000002,null,null,null,null,null,null,null,"Objem konstrukce komunikací:45,40*1,00*0,25*1,873"]
[null,null,"Řad \"E\" TLT DN80 (průměrná hloubka výkopů 1,65 m):",null,0,null,null,null,null,null,null,null,"Řad \"E\" TLT DN80 (průměrná hloubka výkopů 1,65 m):"]
[null,null,"Objem konstrukce komunikací:25,70*1,00*0,25*1,873",null,12.034000000000001,null,null,null,null,null,null,null,"Objem konstrukce komunikací:25,70*1,00*0,25*1,873"]
[null,null,"Řad \"F\" TLT DN80 (průměrná hloubka výkopů 1,65 m):",null,0,null,null,null,null,null,null,null,"Řad \"F\" TLT DN80 (průměrná hloubka výkopů 1,65 m):"]
[null,null,"Objem konstrukce komunikací:9,40*1,00*0,25*1,873",null,4.4016000000000002,null,null,null,null,null,null,null,"Objem konstrukce komunikací:9,40*1,00*0,25*1,873"]
[null,null,"Řad \"G\" TLT DN80 (průměrná hloubka výkopů 1,65 m):",null,0,null,null,null,null,null,null,null,"Řad \"G\" TLT DN80 (průměrná hloubka výkopů 1,65 m):"]
[null,null,"Objem konstrukce komunikací:6,60*1,00*0,25*1,873",null,3.0903999999999998,null,null,null,null,null,null,null,"Objem konstrukce komunikací:6,60*1,00*0,25*1,873"]
[null,null,"Řad VV TLT DN150 (průměrná hloubka výkopů 1,95 m):",null,0,null,null,null,null,null,null,null,"Řad VV TLT DN150 (průměrná hloubka výkopů 1,95 m):"]
[null,null,"Objem konstrukce komunikací:40,00*1,10*0,25*1,873",null,20.603000000000002,null,null,null,null,null,null,null,"Objem konstrukce komunikací:40,00*1,10*0,25*1,873"]
[27,"566904111R00","Vyspravení podkladu po překopech kam.obal.asfaltem ","t",296.21249999999998,null,{"$f":"E295*F295","v":0},1,{"$f":"E295*H295","v":296.21249999999998},0,{"$f":"E295*J295","v":0},null,null,null,2,null,null,null,null,null,null,null,null,null,null,null,1,1,1,null,null,null,null,null,null,null,null,null,null,null,null,null,null,null,null,null,null,null,null,null,null,1,{"$f":"IF(AZ295=1,G295,0)","v":0},{"$f":"IF(AZ295=2,G295,0)","v":0},{"$f":"IF(AZ295=3,G295,0)","v":0},{"$f":"IF(AZ295=4,G295,0)","v":0},{"$f":"IF(AZ295=5,G295,0)","v":0},null,null,null,null,null,null,null,null,null,null,null,null,null,null,null,null,null,null,null,null,null,1,1]
[null,null,"Řad \"A\" TLT DN80 (částečně souběh s kanalizací) / (průměrná hloubka výkopů 1,70 m):",null,0,null,null,null,null,null,null,null,"Řad \"A\" TLT DN80 (částečně souběh s kanalizací) / (průměrná hloubka výkopů 1,70 m):"]
[null,null,"Objem konstrukce komunikací:503,50*1,00*0,15*2,5",null,188.8125,null,null,null,null,null,null,null,"Objem konstrukce komunikací:503,50*1,00*0,15*2,5"]
[null,null,"Řad \"A\" TLT DN100 (částečně souběh s kanalizací) / (průměrná hloubka výkopů 1,70 m):",null,0,null,null,null,null,null,null,null,"Řad \"A\" TLT DN100 (částečně souběh s kanalizací) / (průměrná hloubka výkopů 1,70 m):"]
[null,null,"Objem konstrukce komunikací:155,30*1,00*0,15*2,5",null,58.237499999999997,null,null,null,null,null,null,null,"Objem konstrukce komunikací:155,30*1,00*0,15*2,5"]
[null,null,"Řad \"D\" TLT DN80 (průměrná hloubka výkopů 1,65 m):",null,0,null,null,null,null,null,null,null,"Řad \"D\" TLT DN80 (průměrná hloubka výkopů 1,65 m):"]
[null,null,"Objem konstrukce komunikací:45,40*1,00*0,15*2,5",null,17.024999999999999,null,null,null,null,null,null,null,"Objem konstrukce komunikací:45,40*1,00*0,15*2,5"]
[null,null,"Řad \"E\" TLT DN80 (průměrná hloubka výkopů 1,65 m):",null,0,null,null,null,null,null,null,null,"Řad \"E\" TLT DN80 (průměrná hloubka výkopů 1,65 m):"]
[null,null,"Objem konstrukce komunikací:25,70*1,00*0,15*2,5",null,9.6374999999999993,null,null,null,null,null,null,null,"Objem konstrukce komunikací:25,70*1,00*0,15*2,5"]
[null,null,"Řad \"F\" TLT DN80 (průměrná hloubka výkopů 1,65 m):",null,0,null,null,null,null,null,null,null,"Řad \"F\" TLT DN80 (průměrná hloubka výkopů 1,65 m):"]
[null,null,"Objem konstrukce komunikací:9,40*1,00*0,15*2,5",null,3.5249999999999999,null,null,null,null,null,null,null,"Objem konstrukce komunikací:9,40*1,00*0,15*2,5"]
[null,null,"Řad \"G\" TLT DN80 (průměrná hloubka výkopů 1,65 m):",null,0,null,null,null,null,null,null,null,"Řad \"G\" TLT DN80 (průměrná hloubka výkopů 1,65 m):"]
[null,null,"Objem konstrukce komunikací:6,60*1,00*0,15*2,5",null,2.4750000000000001,null,null,null,null,null,null,null,"Objem konstrukce komunikací:6,60*1,00*0,15*2,5"]
[null,null,"Řad VV TLT DN150 (průměrná hloubka výkopů 1,95 m):",null,0,null,null,null,null,null,null,null,"Řad VV TLT DN150 (průměrná hloubka výkopů 1,95 m):"]
[null,null,"Objem konstrukce komunikací:40,00*1,10*0,15*2,5",null,16.5,null,null,null,null,null,null,null,"Objem konstrukce komunikací:40,00*1,10*0,15*2,5"]
[null,"Celkem za","5 Komunikace",null,null,null,{"$f":"SUM(G279:G309)","v":0},null,{"$f":"SUM(I279:I309)","v":703.07026999999994},null,{"$f":"SUM(K279:K309)","v":0},null,null,null,4,null,null,null,null,null,null,null,null,null,null,null,null,null,null,null,null,null,null,null,null,null,null,null,null,null,null,null,null,null,null,null,null,null,null,null,null,null,{"$f":"SUM(BA279:BA309)","v":0},{"$f":"SUM(BB279:BB309)","v":0},{"$f":"SUM(BC279:BC309)","v":0},{"$f":"SUM(BD279:BD309)","v":0},{"$f":"SUM(BE279:BE309)","v":0}]
["Díl:","8","Trubní vedení",null,null,null,null,null,null,null,null,null,null,null,1]
[28,"850245121R00","Výřez nebo výsek na potrubí litinovém DN 80 ","kus",4,null,{"$f":"E312*F312","v":0},0,{"$f":"E312*H312","v":0},0,{"$f":"E312*J312","v":0},null,null,null,2,null,null,null,null,null,null,null,null,null,null,null,1,1,1,null,null,null,null,null,null,null,null,null,null,null,null,null,null,null,null,null,null,null,null,null,null,1,{"$f":"IF(AZ312=1,G312,0)","v":0},{"$f":"IF(AZ312=2,G312,0)","v":0},{"$f":"IF(AZ312=3,G312,0)","v":0},{"$f":"IF(AZ312=4,G312,0)","v":0},{"$f":"IF(AZ312=5,G312,0)","v":0},null,null,null,null,null,null,null,null,null,null,null,null,null,null,null,null,null,null,null,null,null,1,1]
[null,null,"Položky výřezu nebo výseku na potrubí z trub litinových tlakových jsou určeny pro dva řezy nebo seky prováděné na potrubí dodatečně. V položkách jsou zakalkulovány náklady na",null,null,null,null,null,null,null,null,"Položky výřezu nebo výseku na potrubí z trub litinových tlakových jsou určeny pro dva řezy nebo seky prováděné na potrubí dodatečně. V položkách jsou zakalkulovány náklady na",null,null,3]
[null,null,"- ohlášení uzavírání vody",null,null,null,null,null,null,null,null,"- ohlášení uzavírání vody",null,null,3]
[null,null,"- uzavření a otevření šoupat",null,null,null,null,null,null,null,null,"- uzavření a otevření šoupat",null,null,3]
[null,null,"- vypuštění a napuštění vody",null,null,null,null,null,null,null,null,"- vypuštění a napuštění vody",null,null,3]
[null,null,"- odvzdušnění potrubí",null,null,null,null,null,null,null,null,"- odvzdušnění potrubí",null,null,3]
[null,null,"- strojní nebo ruční výřez potrubí",null,null,null,null,null,null,null,null,"- strojní nebo ruční výřez potrubí",null,null,3]
[null,null,"- nutné úpravy výkopu v prostoru provádění",null,null,null,null,null,null,null,null,"- nutné úpravy výkopu v prostoru provádění",null,null,3]
[null,null,"- montáž tvarovky",null,null,null,null,null,null,null,null,"- montáž tvarovky",null,null,3]
[null,null,"Řad \"A\" TLT DN80:",null,0,null,null,null,null,null,null,null,"Řad \"A\" TLT DN80:"]
[null,null,"Propoj na VP k čp.791 DN80:1",null,1,null,null,null,null,null,null,null,"Propoj na VP k čp.791 DN80:1"]
[null,null,"Řad \"D\" TLT DN80:",null,0,null,null,null,null,null,null,null,"Řad \"D\" TLT DN80:"]
[null,null,"Propoj na PE D90:1",null,1,null,null,null,null,null,null,null,"Propoj na PE D90:1"]
[null,null,"Řad \"E\" TLT DN80:",null,0,null,null,null,null,null,null,null,"Řad \"E\" TLT DN80:"]
[null,null,"Propoj na TLT DN80:1",null,1,null,null,null,null,null,null,null,"Propoj na TLT DN80:1"]
[null,null,"Řad \"F\" TLT DN80:",null,0,null,null,null,null,null,null,null,"Řad \"F\" TLT DN80:"]
[null,null,"Propoj na TLT DN80:1",null,1,null,null,null,null,null,null,null,"Propoj na TLT DN80:1"]
[29,"850265121R00","Výřez nebo výsek na potrubí litinovém DN 100 ","kus",1,null,{"$f":"E329*F329","v":0},0,{"$f":"E329*H329","v":0},0,{"$f":"E329*J329","v":0},null,null,null,2,null,null,null,null,null,null,null,null,null,null,null,1,1,1,null,null,null,null,null,null,null,null,null,null,null,null,null,null,null,null,null,null,null,null,null,null,1,{"$f":"IF(AZ329=1,G329,0)","v":0},{"$f":"IF(AZ329=2,G329,0)","v":0},{"$f":"IF(AZ329=3,G329,0)","v":0},{"$f":"IF(AZ329=4,G329,0)","v":0},{"$f":"IF(AZ329=5,G329,0)","v":0},null,null,null,null,null,null,null,null,null,null,null,null,null,null,null,null,null,null,null,null,null,1,1]
[null,null,"Položky výřezu nebo výseku na potrubí z trub litinových tlakových jsou určeny pro dva řezy nebo seky prováděné na potrubí dodatečně. V položkách jsou zakalkulovány náklady na",null,null,null,null,null,null,null,null,"Položky výřezu nebo výseku na potrubí z trub litinových tlakových jsou určeny pro dva řezy nebo seky prováděné na potrubí dodatečně. V položkách jsou zakalkulovány náklady na",null,null,3]
[null,null,"- ohlášení uzavírání vody",null,null,null,null,null,null,null,null,"- ohlášení uzavírání vody",null,null,3]
[null,null,"- uzavření a otevření šoupat",null,null,null,null,null,null,null,null,"- uzavření a otevření šoupat",null,null,3]
[null,null,"- vypuštění a napuštění vody",null,null,null,null,null,null,null,null,"- vypuštění a napuštění vody",null,null,3]
[null,null,"- odvzdušnění potrubí",null,null,null,null,null,null,null,null,"- odvzdušnění potrubí",null,null,3]
[null,null,"- strojní nebo ruční výřez potrubí",null,null,null,null,null,null,null,null,"- strojní nebo ruční výřez potrubí",null,null,3]
[null,null,"- nutné úpravy výkopu v prostoru provádění",null,null,null,null,null,null,null,null,"- nutné úpravy výkopu v prostoru provádění",null,null,3]
[null,null,"- montáž tvarovky",null,null,null,null,null,null,null,null,"- montáž tvarovky",null,null,3]
[null,null,"Řad \"G\" TLT DN80:",null,0,null,null,null,null,null,null,null,"Řad \"G\" TLT DN80:"]
[null,null,"Propoj na PE D110:1",null,1,null,null,null,null,null,null,null,"Propoj na PE D110:1"]
[30,"850375121R00","Výřez nebo výsek na potrubí litinovém DN 300 ","kus",2,null,{"$f":"E340*F340","v":0},0,{"$f":"E340*H340","v":0},0,{"$f":"E340*J340","v":0},null,null,null,2,null,null,null,null,null,null,null,null,null,null,null,1,1,1,null,null,null,null,null,null,null,null,null,null,null,null,null,null,null,null,null,null,null,null,null,null,1,{"$f":"IF(AZ340=1,G340,0)","v":0},{"$f":"IF(AZ340=2,G340,0)","v":0},{"$f":"IF(AZ340=3,G340,0)","v":0},{"$f":"IF(AZ340=4,G340,0)","v":0},{"$f":"IF(AZ340=5,G340,0)","v":0},null,null,null,null,null,null,null,null,null,null,null,null,null,null,null,null,null,null,null,null,null,1,1]
[null,null,"Položky výřezu nebo výseku na potrubí z trub litinových tlakových jsou určeny pro dva řezy nebo seky prováděné na potrubí dodatečně. V položkách jsou zakalkulovány náklady na",null,null,null,null,null,null,null,null,"Položky výřezu nebo výseku na potrubí z trub litinových tlakových jsou určeny pro dva řezy nebo seky prováděné na potrubí dodatečně. V položkách jsou zakalkulovány náklady na",null,null,3]
[null,null,"- ohlášení uzavírání vody",null,null,null,null,null,null,null,null,"- ohlášení uzavírání vody",null,null,3]
[null,null,"- uzavření a otevření šoupat",null,null,null,null,null,null,null,null,"- uzavření a otevření šoupat",null,null,3]
[null,null,"- vypuštění a napuštění vody",null,null,null,null,null,null,null,null,"- vypuštění a napuštění vody",null,null,3]
[null,null,"- odvzdušnění potrubí",null,null,null,null,null,null,null,null,"- odvzdušnění potrubí",null,null,3]
[null,null,"- strojní nebo ruční výřez potrubí",null,null,null,null,null,null,null,null,"- strojní nebo ruční výřez potrubí",null,null,3]
[null,null,"- nutné úpravy výkopu v prostoru provádění",null,null,null,null,null,null,null,null,"- nutné úpravy výkopu v prostoru provádění",null,null,3]
[null,null,"- montáž tvarovky",null,null,null,null,null,null,null,null,"- montáž tvarovky",null,null,3]
[null,null,"Řad VV TLT DN150 - Propoj na TLT DN300:2",null,2,null,null,null,null,null,null,null,"Řad VV TLT DN150 - Propoj na TLT DN300:2"]
[31,"851601101R00","Montáž potrubí tlakového tvárná litina DN 80 ","m",590.6,null,{"$f":"E350*F350","v":0},0,{"$f":"E350*H350","v":0},0,{"$f":"E350*J350","v":0},null,null,null,2,null,null,null,null,null,null,null,null,null,null,null,1,1,1,null,null,null,null,null,null,null,null,null,null,null,null,null,null,null,null,null,null,null,null,null,null,1,{"$f":"IF(AZ350=1,G350,0)","v":0},{"$f":"IF(AZ350=2,G350,0)","v":0},{"$f":"IF(AZ350=3,G350,0)","v":0},{"$f":"IF(AZ350=4,G350,0)","v":0},{"$f":"IF(AZ350=5,G350,0)","v":0},null,null,null,null,null,null,null,null,null,null,null,null,null,null,null,null,null,null,null,null,null,1,1]
[null,null,"Položka je určena pro montáž potrubí hrdlového s pružnými spoji, ve výkopu. Pro blokované spoje se cena zvýší o 15 - 20 %. V položce nejsou zakalkulovány náklady na dodávku trub; trouby a spojovací materiál se oceňuje ve specifikaci",null,null,null,null,null,null,null,null,"Položka je určena pro montáž potrubí hrdlového s pružnými spoji, ve výkopu. Pro blokované spoje se cena zvýší o 15 - 20 %. V položce nejsou zakalkulovány náklady na dodávku trub; trouby a spojovací materiál se oceňuje ve specifikaci",null,null,3]
[null,null,"Řad \"A\" TLT DN80:503,50",null,503.5,null,null,null,null,null,null,null,"Řad \"A\" TLT DN80:503,50"]
[null,null,"Řad \"D\" TLT DN80:45,40",null,45.4,null,null,null,null,null,null,null,"Řad \"D\" TLT DN80:45,40"]
[null,null,"Řad \"E\" TLT DN80:25,70",null,25.7,null,null,null,null,null,null,null,"Řad \"E\" TLT DN80:25,70"]
[null,null,"Řad \"F\" TLT DN80:9,40",null,9.4,null,null,null,null,null,null,null,"Řad \"F\" TLT DN80:9,40"]
[null,null,"Řad \"G\" TLT DN80:6,60",null,6.6,null,null,null,null,null,null,null,"Řad \"G\" TLT DN80:6,60"]
[32,"851601102R00","Montáž potrubí tlakového, tvárná litina DN 100 ","m",155.30000000000001,null,{"$f":"E357*F357","v":0},0,{"$f":"E357*H357","v":0},0,{"$f":"E357*J357","v":0},null,null,null,2,null,null,null,null,null,null,null,null,null,null,null,1,1,1,null,null,null,null,null,null,null,null,null,null,null,null,null,null,null,null,null,null,null,null,null,null,1,{"$f":"IF(AZ357=1,G357,0)","v":0},{"$f":"IF(AZ357=2,G357,0)","v":0},{"$f":"IF(AZ357=3,G357,0)","v":0},{"$f":"IF(AZ357=4,G357,0)","v":0},{"$f":"IF(AZ357=5,G357,0)","v":0},null,null,null,null,null,null,null,null,null,null,null,null,null,null,null,null,null,null,null,null,null,1,1]
[null,null,"Položka je určena pro montáž potrubí hrdlového s pružnými spoji, ve výkopu. Pro blokované spoje se cena zvýší o 15 - 20 %. V položce nejsou zakalkulovány náklady na dodávku trub; trouby a spojovací materiál se oceňuje ve specifikaci",null,null,null,null,null,null,null,null,"Položka je určena pro montáž potrubí hrdlového s pružnými spoji, ve výkopu. Pro blokované spoje se cena zvýší o 15 - 20 %. V položce nejsou zakalkulovány náklady na dodávku trub; trouby a spojovací materiál se oceňuje ve specifikaci",null,null,3]
[null,null,"Řad \"A\" TLT DN100:155,30",null,155.30000000000001,null,null,null,null,null,null,null,"Řad \"A\" TLT DN100:155,30"]
[33,"851601104R00","Montáž potrubí tlakového, tvárná litina DN 150 ","m",40,null,{"$f":"E360*F360","v":0},0,{"$f":"E360*H360","v":0},0,{"$f":"E360*J360","v":0},null,null,null,2,null,null,null,null,null,null,null,null,null,null,null,1,1,1,null,null,null,null,null,null,null,null,null,null,null,null,null,null,null,null,null,null,null,null,null,null,1,{"$f":"IF(AZ360=1,G360,0)","v":0},{"$f":"IF(AZ360=2,G360,0)","v":0},{"$f":"IF(AZ360=3,G360,0)","v":0},{"$f":"IF(AZ360=4,G360,0)","v":0},{"$f":"IF(AZ360=5,G360,0)","v":0},null,null,null,null,null,null,null,null,null,null,null,null,null,null,null,null,null,null,null,null,null,1,1]
[null,null,"Položka je určena pro montáž potrubí hrdlového s pružnými spoji, ve výkopu. Pro blokované spoje se cena zvýší o 15 - 20 %. V položce nejsou zakalkulovány náklady na dodávku trub; trouby a spojovací materiál se oceňuje ve specifikaci",null,null,null,null,null,null,null,null,"Položka je určena pro montáž potrubí hrdlového s pružnými spoji, ve výkopu. Pro blokované spoje se cena zvýší o 15 - 20 %. V položce nejsou zakalkulovány náklady na dodávku trub; trouby a spojovací materiál se oceňuje ve specifikaci",null,null,3]
[null,null,"Řad VV TLT DN150:40,00",null,40,null,null,null,null,null,null,null,"Řad VV TLT DN150:40,00"]
[34,"857242121R00","Montáž tvarovek litin. jednoos.přír. výkop DN 80 včetně nerezových spoj. prvků a obandážování spoje","kus",18,null,{"$f":"E363*F363","v":0},2.2000000000000001E-4,{"$f":"E363*H363","v":3.96E-3},0,{"$f":"E363*J363","v":0},null,null,null,2,null,null,null,null,null,null,null,null,null,null,null,1,1,1,null,null,null,null,null,null,null,null,null,null,null,null,null,null,null,null,null,null,null,null,null,null,1,{"$f":"IF(AZ363=1,G363,0)","v":0},{"$f":"IF(AZ363=2,G363,0)","v":0},{"$f":"IF(AZ363=3,G363,0)","v":0},{"$f":"IF(AZ363=4,G363,0)","v":0},{"$f":"IF(AZ363=5,G363,0)","v":0},null,null,null,null,null,null,null,null,null,null,null,null,null,null,null,null,null,null,null,null,null,1,1]
[null,null,"Položka je určena pro montáž litinových tvarovek na potrubí litinovém tlakovém přírubovém jednoosých v otevřeném výkopu, v otevřeném kanálu nebo v šachtě.",null,null,null,null,null,null,null,null,"Položka je určena pro montáž litinových tvarovek na potrubí litinovém tlakovém přírubovém jednoosých v otevřeném výkopu, v otevřeném kanálu nebo v šachtě.",null,null,3]
[null,null,"Řad \"A\" TLT DN80 a DN100:",null,0,null,null,null,null,null,null,null,"Řad \"A\" TLT DN80 a DN100:"]
[null,null,"Řad \"D\" TLT DN80:",null,0,null,null,null,null,null,null,null,"Řad \"D\" TLT DN80:"]
[null,null,"Řad \"E\" TLT DN80:",null,0,null,null,null,null,null,null,null,"Řad \"E\" TLT DN80:"]
[null,null,"Řad \"F\" TLT DN80:",null,0,null,null,null,null,null,null,null,"Řad \"F\" TLT DN80:"]
[null,null,"Řad \"G\" TLT DN80:",null,0,null,null,null,null,null,null,null,"Řad \"G\" TLT DN80:"]
[null,null,"EU DN80:12",null,12,null,null,null,null,null,null,null,"EU DN80:12"]
[null,null,"PPL DN80:2",null,2,null,null,null,null,null,null,null,"PPL DN80:2"]
[null,null,"Synoflex spojka DN80:4",null,4,null,null,null,null,null,null,null,"Synoflex spojka DN80:4"]
[35,"857244121R00","Montáž tvarovek litin. odboč. přír. výkop DN 80 včetně nerezových spoj. prvků a obandážování spoje","kus",3,null,{"$f":"E373*F373","v":0},3.2000000000000003E-4,{"$f":"E373*H373","v":9.6000000000000013E-4},0,{"$f":"E373*J373","v":0},null,null,null,2,null,null,null,null,null,null,null,null,null,null,null,1,1,1,null,null,null,null,null,null,null,null,null,null,null,null,null,null,null,null,null,null,null,null,null,null,1,{"$f":"IF(AZ373=1,G373,0)","v":0},{"$f":"IF(AZ373=2,G373,0)","v":0},{"$f":"IF(AZ373=3,G373,0)","v":0},{"$f":"IF(AZ373=4,G373,0)","v":0},{"$f":"IF(AZ373=5,G373,0)","v":0},null,null,null,null,null,null,null,null,null,null,null,null,null,null,null,null,null,null,null,null,null,1,1]
[null,null,"Položka je určena pro montáž litinových tvarovek na potrubí litinovém tlakovém přírubovém odbočných v otevřeném výkopu, v otevřeném kanálu nebo v šachtě",null,null,null,null,null,null,null,null,"Položka je určena pro montáž litinových tvarovek na potrubí litinovém tlakovém přírubovém odbočných v otevřeném výkopu, v otevřeném kanálu nebo v šachtě",null,null,3]
[null,null,"Řad \"A\" TLT DN80 a DN100:",null,0,null,null,null,null,null,null,null,"Řad \"A\" TLT DN80 a DN100:"]
[null,null,"Řad \"D\" TLT DN80:",null,0,null,null,null,null,null,null,null,"Řad \"D\" TLT DN80:"]
[null,null,"Řad \"E\" TLT DN80:",null,0,null,null,null,null,null,null,null,"Řad \"E\" TLT DN80:"]
[null,null,"Řad \"F\" TLT DN80:",null,0,null,null,null,null,null,null,null,"Řad \"F\" TLT DN80:"]
[null,null,"Řad \"G\" TLT DN80:",null,0,null,null,null,null,null,null,null,"Řad \"G\" TLT DN80:"]
[null,null,"T DN80/80:3",null,3,null,null,null,null,null,null,null,"T DN80/80:3"]
[36,"857262121R00","Montáž tvarovek litin. jednoos. přír. výkop DN 100 včetně nerezových spoj. prvků a obandážování spoje","kus",7,null,{"$f":"E381*F381","v":0},4.0999999999999999E-4,{"$f":"E381*H381","v":2.8700000000000002E-3},0,{"$f":"E381*J381","v":0},null,null,null,2,null,null,null,null,null,null,null,null,null,null,null,1,1,1,null,null,null,null,null,null,null,null,null,null,null,null,null,null,null,null,null,null,null,null,null,null,1,{"$f":"IF(AZ381=1,G381,0)","v":0},{"$f":"IF(AZ381=2,G381,0)","v":0},{"$f":"IF(AZ381=3,G381,0)","v":0},{"$f":"IF(AZ381=4,G381,0)","v":0},{"$f":"IF(AZ381=5,G381,0)","v":0},null,null,null,null,null,null,null,null,null,null,null,null,null,null,null,null,null,null,null,null,null,1,1]
[null,null,"Položka je určena pro montáž litinových tvarovek na potrubí litinovém tlakovém přírubovém jednoosých v otevřeném výkopu, v otevřeném kanálu nebo v šachtě.",null,null,null,null,null,null,null,null,"Položka je určena pro montáž litinových tvarovek na potrubí litinovém tlakovém přírubovém jednoosých v otevřeném výkopu, v otevřeném kanálu nebo v šachtě.",null,null,3]
[null,null,"Řad \"A\" TLT DN80 a DN100:",null,0,null,null,null,null,null,null,null,"Řad \"A\" TLT DN80 a DN100:"]
[null,null,"EU DN100:5",null,5,null,null,null,null,null,null,null,"EU DN100:5"]
[null,null,"FFR DN100/80:1",null,1,null,null,null,null,null,null,null,"FFR DN100/80:1"]
[null,null,"Synoflex spojka redukovaná DN100/80:1",null,1,null,null,null,null,null,null,null,"Synoflex spojka redukovaná DN100/80:1"]
[37,"857264121R00","Montáž tvarovek litin. odboč. přír. výkop DN 100 včetně nerezových spoj. prvků a obandážování spoje","kus",3,null,{"$f":"E387*F387","v":0},6.2E-4,{"$f":"E387*H387","v":1.8600000000000001E-3},0,{"$f":"E387*J387","v":0},null,null,null,2,null,null,null,null,null,null,null,null,null,null,null,1,1,1,null,null,null,null,null,null,null,null,null,null,null,null,null,null,null,null,null,null,null,null,null,null,1,{"$f":"IF(AZ387=1,G387,0)","v":0},{"$f":"IF(AZ387=2,G387,0)","v":0},{"$f":"IF(AZ387=3,G387,0)","v":0},{"$f":"IF(AZ387=4,G387,0)","v":0},{"$f":"IF(AZ387=5,G387,0)","v":0},null,null,null,null,null,null,null,null,null,null,null,null,null,null,null,null,null,null,null,null,null,1,1]
[null,null,"Položka je určena pro montáž litinových tvarovek na potrubí litinovém tlakovém přírubovém odbočných v otevřeném výkopu, v otevřeném kanálu nebo v šachtě",null,null,null,null,null,null,null,null,"Položka je určena pro montáž litinových tvarovek na potrubí litinovém tlakovém přírubovém odbočných v otevřeném výkopu, v otevřeném kanálu nebo v šachtě",null,null,3]
[null,null,"Řad \"A\" TLT DN80 a DN100:",null,0,null,null,null,null,null,null,null,"Řad \"A\" TLT DN80 a DN100:"]
[null,null,"T DN100/80:3",null,3,null,null,null,null,null,null,null,"T DN100/80:3"]
[38,"857312121R00","Montáž tvarovek litin. jednoos. přír. výkop DN 150 včetně nerezových spoj. prvků a obandážování spoje","kus",2,null,{"$f":"E391*F391","v":0},2.7799999999999999E-3,{"$f":"E391*H391","v":5.5599999999999998E-3},0,{"$f":"E391*J391","v":0},null,null,null,2,null,null,null,null,null,null,null,null,null,null,null,1,1,1,null,null,null,null,null,null,null,null,null,null,null,null,null,null,null,null,null,null,null,null,null,null,1,{"$f":"IF(AZ391=1,G391,0)","v":0},{"$f":"IF(AZ391=2,G391,0)","v":0},{"$f":"IF(AZ391=3,G391,0)","v":0},{"$f":"IF(AZ391=4,G391,0)","v":0},{"$f":"IF(AZ391=5,G391,0)","v":0},null,null,null,null,null,null,null,null,null,null,null,null,null,null,null,null,null,null,null,null,null,1,1]
[null,null,"Položka je určena pro montáž litinových tvarovek na potrubí litinovém tlakovém přírubovém jednoosých v otevřeném výkopu, v otevřeném kanálu nebo v šachtě.",null,null,null,null,null,null,null,null,"Položka je určena pro montáž litinových tvarovek na potrubí litinovém tlakovém přírubovém jednoosých v otevřeném výkopu, v otevřeném kanálu nebo v šachtě.",null,null,3]
[null,null,"Řad VV TLT DN150:",null,0,null,null,null,null,null,null,null,"Řad VV TLT DN150:"]
[null,null,"Synoflex s přírubou DN150:2",null,2,null,null,null,null,null,null,null,"Synoflex s přírubou DN150:2"]
[39,"857372121R00","Montáž tvarovek litin. jednoos. přír. výkop DN 300 včetně nerezových spoj. prvků a obandážování spoje","kus",4,null,{"$f":"E395*F395","v":0},5.0499999999999998E-3,{"$f":"E395*H395","v":2.0199999999999999E-2},0,{"$f":"E395*J395","v":0},null,null,null,2,null,null,null,null,null,null,null,null,null,null,null,1,1,1,null,null,null,null,null,null,null,null,null,null,null,null,null,null,null,null,null,null,null,null,null,null,1,{"$f":"IF(AZ395=1,G395,0)","v":0},{"$f":"IF(AZ395=2,G395,0)","v":0},{"$f":"IF(AZ395=3,G395,0)","v":0},{"$f":"IF(AZ395=4,G395,0)","v":0},{"$f":"IF(AZ395=5,G395,0)","v":0},null,null,null,null,null,null,null,null,null,null,null,null,null,null,null,null,null,null,null,null,null,1,1]
[null,null,"Položka je určena pro montáž litinových tvarovek na potrubí litinovém tlakovém přírubovém jednoosých v otevřeném výkopu, v otevřeném kanálu nebo v šachtě.",null,null,null,null,null,null,null,null,"Položka je určena pro montáž litinových tvarovek na potrubí litinovém tlakovém přírubovém jednoosých v otevřeném výkopu, v otevřeném kanálu nebo v šachtě.",null,null,3]
[null,null,"Řad VV TLT DN150:",null,0,null,null,null,null,null,null,null,"Řad VV TLT DN150:"]
[null,null,"Synoflex s přírubou DN300:2",null,2,null,null,null,null,null,null,null,"Synoflex s přírubou DN300:2"]
[null,null,"FFR DN300/150:2",null,2,null,null,null,null,null,null,null,"FFR DN300/150:2"]
[40,"857601101R00","Montáž tvarovek jednoosých, tvárná litina DN 80 ","kus",10,null,{"$f":"E400*F400","v":0},0,{"$f":"E400*H400","v":0},0,{"$f":"E400*J400","v":0},null,null,null,2,null,null,null,null,null,null,null,null,null,null,null,1,1,1,null,null,null,null,null,null,null,null,null,null,null,null,null,null,null,null,null,null,null,null,null,null,1,{"$f":"IF(AZ400=1,G400,0)","v":0},{"$f":"IF(AZ400=2,G400,0)","v":0},{"$f":"IF(AZ400=3,G400,0)","v":0},{"$f":"IF(AZ400=4,G400,0)","v":0},{"$f":"IF(AZ400=5,G400,0)","v":0},null,null,null,null,null,null,null,null,null,null,null,null,null,null,null,null,null,null,null,null,null,1,1]
[null,null,"Položka je určena pro montáž tvarovek jednoosých s pružnými spoji ve výkopu. ",null,null,null,null,null,null,null,null,"Položka je určena pro montáž tvarovek jednoosých s pružnými spoji ve výkopu. ",null,null,3]
[null,null,"Řad \"A\" TLT DN80 a DN100:",null,0,null,null,null,null,null,null,null,"Řad \"A\" TLT DN80 a DN100:"]
[null,null,"Řad \"D\" TLT DN80:",null,0,null,null,null,null,null,null,null,"Řad \"D\" TLT DN80:"]
[null,null,"Řad \"E\" TLT DN80:",null,0,null,null,null,null,null,null,null,"Řad \"E\" TLT DN80:"]
[null,null,"Řad \"F\" TLT DN80:",null,0,null,null,null,null,null,null,null,"Řad \"F\" TLT DN80:"]
[null,null,"Řad \"G\" TLT DN80:",null,0,null,null,null,null,null,null,null,"Řad \"G\" TLT DN80:"]
[null,null,"MMK DN80/11° :5",null,5,null,null,null,null,null,null,null,"MMK DN80/11° :5"]
[null,null,"MMK DN80/22° :2",null,2,null,null,null,null,null,null,null,"MMK DN80/22° :2"]
[null,null,"MMK DN80/45° :3",null,3,null,null,null,null,null,null,null,"MMK DN80/45° :3"]
[41,"857601102R00","Montáž tvarovek jednoosých, tvárná litina DN 100 ","kus",1,null,{"$f":"E410*F410","v":0},0,{"$f":"E410*H410","v":0},0,{"$f":"E410*J410","v":0},null,null,null,2,null,null,null,null,null,null,null,null,null,null,null,1,1,1,null,null,null,null,null,null,null,null,null,null,null,null,null,null,null,null,null,null,null,null,null,null,1,{"$f":"IF(AZ410=1,G410,0)","v":0},{"$f":"IF(AZ410=2,G410,0)","v":0},{"$f":"IF(AZ410=3,G410,0)","v":0},{"$f":"IF(AZ410=4,G410,0)","v":0},{"$f":"IF(AZ410=5,G410,0)","v":0},null,null,null,null,null,null,null,null,null,null,null,null,null,null,null,null,null,null,null,null,null,1,1]
[null,null,"Položka je určena pro montáž tvarovek jednoosých s pružnými spoji ve výkopu. ",null,null,null,null,null,null,null,null,"Položka je určena pro montáž tvarovek jednoosých s pružnými spoji ve výkopu. ",null,null,3]
[null,null,"Řad \"A\" TLT DN80 a DN100:",null,0,null,null,null,null,null,null,null,"Řad \"A\" TLT DN80 a DN100:"]
[null,null,"MMK DN100/11° :1",null,1,null,null,null,null,null,null,null,"MMK DN100/11° :1"]
[42,"857601104R00","Montáž tvarovek jednoosých, tvárná litina DN 150 ","kus",4,null,{"$f":"E414*F414","v":0},0,{"$f":"E414*H414","v":0},0,{"$f":"E414*J414","v":0},null,null,null,2,null,null,null,null,null,null,null,null,null,null,null,1,1,1,null,null,null,null,null,null,null,null,null,null,null,null,null,null,null,null,null,null,null,null,null,null,1,{"$f":"IF(AZ414=1,G414,0)","v":0},{"$f":"IF(AZ414=2,G414,0)","v":0},{"$f":"IF(AZ414=3,G414,0)","v":0},{"$f":"IF(AZ414=4,G414,0)","v":0},{"$f":"IF(AZ414=5,G414,0)","v":0},null,null,null,null,null,null,null,null,null,null,null,null,null,null,null,null,null,null,null,null,null,1,1]
[null,null,"Položka je určena pro montáž tvarovek jednoosých s pružnými spoji ve výkopu. ",null,null,null,null,null,null,null,null,"Položka je určena pro montáž tvarovek jednoosých s pružnými spoji ve výkopu. ",null,null,3]
[null,null,"Řad VV TLT DN150:",null,0,null,null,null,null,null,null,null,"Řad VV TLT DN150:"]
[null,null,"MMK DN150/11° :2",null,2,null,null,null,null,null,null,null,"MMK DN150/11° :2"]
[null,null,"MMK DN150/45° :2",null,2,null,null,null,null,null,null,null,"MMK DN150/45° :2"]
[43,"891163111R00","Montáž ventilů hlavních pro přípojky DN 25 ","kus",27,null,{"$f":"E419*F419","v":0},2.0000000000000002E-5,{"$f":"E419*H419","v":5.4000000000000001E-4},0,{"$f":"E419*J419","v":0},null,null,null,2,null,null,null,null,null,null,null,null,null,null,null,1,1,1,null,null,null,null,null,null,null,null,null,null,null,null,null,null,null,null,null,null,null,null,null,null,1,{"$f":"IF(AZ419=1,G419,0)","v":0},{"$f":"IF(AZ419=2,G419,0)","v":0},{"$f":"IF(AZ419=3,G419,0)","v":0},{"$f":"IF(AZ419=4,G419,0)","v":0},{"$f":"IF(AZ419=5,G419,0)","v":0},null,null,null,null,null,null,null,null,null,null,null,null,null,null,null,null,null,null,null,null,null,1,1]
[null,null,"Řad \"A\" TLT DN80 a DN100:",null,0,null,null,null,null,null,null,null,"Řad \"A\" TLT DN80 a DN100:"]
[null,null,"Řad \"D\" TLT DN80:",null,0,null,null,null,null,null,null,null,"Řad \"D\" TLT DN80:"]
[null,null,"Řad \"E\" TLT DN80:",null,0,null,null,null,null,null,null,null,"Řad \"E\" TLT DN80:"]
[null,null,"Řad \"F\" TLT DN80:",null,0,null,null,null,null,null,null,null,"Řad \"F\" TLT DN80:"]
[null,null,"Řad \"G\" TLT DN80:",null,0,null,null,null,null,null,null,null,"Řad \"G\" TLT DN80:"]
[null,null,"VP PE D32x3,0 mm (27 kusů):27",null,27,null,null,null,null,null,null,null,"VP PE D32x3,0 mm (27 kusů):27"]
[44,"891241111R00","Montáž vodovodních šoupátek ve výkopu DN 80 včetně nerezových spoj. prvků a obandážování spoje","kus",16,null,{"$f":"E426*F426","v":0},2.2000000000000001E-4,{"$f":"E426*H426","v":3.5200000000000001E-3},0,{"$f":"E426*J426","v":0},null,null,null,2,null,null,null,null,null,null,null,null,null,null,null,1,1,1,null,null,null,null,null,null,null,null,null,null,null,null,null,null,null,null,null,null,null,null,null,null,1,{"$f":"IF(AZ426=1,G426,0)","v":0},{"$f":"IF(AZ426=2,G426,0)","v":0},{"$f":"IF(AZ426=3,G426,0)","v":0},{"$f":"IF(AZ426=4,G426,0)","v":0},{"$f":"IF(AZ426=5,G426,0)","v":0},null,null,null,null,null,null,null,null,null,null,null,null,null,null,null,null,null,null,null,null,null,1,1]
[null,null,"Položka je určena pro montáž vodovodních šoupátek v otevřeném výkopu nebo v šachtách s osazením zemní soupravy (bez poklopů). V položce jsou zakalkulovány i náklady na vytvoření otvorů ve stropech šachet pro prostup zemních souprav šoupátek.",null,null,null,null,null,null,null,null,"Položka je určena pro montáž vodovodních šoupátek v otevřeném výkopu nebo v šachtách s osazením zemní soupravy (bez poklopů). V položce jsou zakalkulovány i náklady na vytvoření otvorů ve stropech šachet pro prostup zemních souprav šoupátek.",null,null,3]
[null,null,"Součástí položky je i dodávka nerezových spojovacích prvků (šrouby, podložky, matky) a kompletního obandážování spojů. ",null,null,null,null,null,null,null,null,"Součástí položky je i dodávka nerezových spojovacích prvků (šrouby, podložky, matky) a kompletního obandážování spojů. ",null,null,3]
[null,null,"Řad \"A\" TLT DN80 a DN100:",null,0,null,null,null,null,null,null,null,"Řad \"A\" TLT DN80 a DN100:"]
[null,null,"Řad \"D\" TLT DN80:",null,0,null,null,null,null,null,null,null,"Řad \"D\" TLT DN80:"]
[null,null,"Řad \"E\" TLT DN80:",null,0,null,null,null,null,null,null,null,"Řad \"E\" TLT DN80:"]
[null,null,"Řad \"F\" TLT DN80:",null,0,null,null,null,null,null,null,null,"Řad \"F\" TLT DN80:"]
[null,null,"Řad \"G\" TLT DN80:",null,0,null,null,null,null,null,null,null,"Řad \"G\" TLT DN80:"]
[null,null,"Š DN80:16",null,16,null,null,null,null,null,null,null,"Š DN80:16"]
[45,"891247111R00","Montáž hydrantů podzemních DN 80 včetně nerezových spoj. prvků a obandážování spoje","kus",2,null,{"$f":"E435*F435","v":0},1.1E-4,{"$f":"E435*H435","v":2.2000000000000001E-4},0,{"$f":"E435*J435","v":0},null,null,null,2,null,null,null,null,null,null,null,null,null,null,null,1,1,1,null,null,null,null,null,null,null,null,null,null,null,null,null,null,null,null,null,null,null,null,null,null,1,{"$f":"IF(AZ435=1,G435,0)","v":0},{"$f":"IF(AZ435=2,G435,0)","v":0},{"$f":"IF(AZ435=3,G435,0)","v":0},{"$f":"IF(AZ435=4,G435,0)","v":0},{"$f":"IF(AZ435=5,G435,0)","v":0},null,null,null,null,null,null,null,null,null,null,null,null,null,null,null,null,null,null,null,null,null,1,1]
[null,null,"Položka je určena pro montáž hydrantů podzemních (bez osazení poklopů) na potrubí včetně drenážního obalu.",null,null,null,null,null,null,null,null,"Položka je určena pro montáž hydrantů podzemních (bez osazení poklopů) na potrubí včetně drenážního obalu.",null,null,3]
[null,null,"Součástí položky je i dodávka nerezových spojovacích prvků (šrouby, podložky, matky) a kompletního obandážování spojů. ",null,null,null,null,null,null,null,null,"Součástí položky je i dodávka nerezových spojovacích prvků (šrouby, podložky, matky) a kompletního obandážování spojů. ",null,null,3]
[null,null,"Řad \"A\" TLT DN80 a DN100:",null,0,null,null,null,null,null,null,null,"Řad \"A\" TLT DN80 a DN100:"]
[null,null,"Řad \"D\" TLT DN80:",null,0,null,null,null,null,null,null,null,"Řad \"D\" TLT DN80:"]
[null,null,"Řad \"E\" TLT DN80:",null,0,null,null,null,null,null,null,null,"Řad \"E\" TLT DN80:"]
[null,null,"Řad \"F\" TLT DN80:",null,0,null,null,null,null,null,null,null,"Řad \"F\" TLT DN80:"]
[null,null,"Řad \"G\" TLT DN80:",null,0,null,null,null,null,null,null,null,"Řad \"G\" TLT DN80:"]
[null,null,"Hp DN80/1,5:2",null,2,null,null,null,null,null,null,null,"Hp DN80/1,5:2"]
[46,"891249111R00","Montáž navrtávacích pasů DN 80 ","kus",23,null,{"$f":"E444*F444","v":0},0,{"$f":"E444*H444","v":0},0,{"$f":"E444*J444","v":0},null,null,null,2,null,null,null,null,null,null,null,null,null,null,null,1,1,1,null,null,null,null,null,null,null,null,null,null,null,null,null,null,null,null,null,null,null,null,null,null,1,{"$f":"IF(AZ444=1,G444,0)","v":0},{"$f":"IF(AZ444=2,G444,0)","v":0},{"$f":"IF(AZ444=3,G444,0)","v":0},{"$f":"IF(AZ444=4,G444,0)","v":0},{"$f":"IF(AZ444=5,G444,0)","v":0},null,null,null,null,null,null,null,null,null,null,null,null,null,null,null,null,null,null,null,null,null,1,1]
[null,null,"Položka je určena pro montáž navrtávacích pasů s ventilem Jt 1 MPa na potrubí z trub osinkocementových, litinových, ocelových nebo plastckých hmot.",null,null,null,null,null,null,null,null,"Položka je určena pro montáž navrtávacích pasů s ventilem Jt 1 MPa na potrubí z trub osinkocementových, litinových, ocelových nebo plastckých hmot.",null,null,3]
[null,null,"V položce jsou zakalkulovány i náklady na jejich montáž a výkop montážních jamek; na opravu izolace ocelových trubek a na osazení zemních souprav.",null,null,null,null,null,null,null,null,"V položce jsou zakalkulovány i náklady na jejich montáž a výkop montážních jamek; na opravu izolace ocelových trubek a na osazení zemních souprav.",null,null,3]
[null,null,"Řad \"A\" TLT DN80:",null,0,null,null,null,null,null,null,null,"Řad \"A\" TLT DN80:"]
[null,null,"Řad \"D\" TLT DN80:",null,0,null,null,null,null,null,null,null,"Řad \"D\" TLT DN80:"]
[null,null,"Řad \"E\" TLT DN80:",null,0,null,null,null,null,null,null,null,"Řad \"E\" TLT DN80:"]
[null,null,"Řad \"F\" TLT DN80:",null,0,null,null,null,null,null,null,null,"Řad \"F\" TLT DN80:"]
[null,null,"Řad \"G\" TLT DN80:",null,0,null,null,null,null,null,null,null,"Řad \"G\" TLT DN80:"]
[null,null,"VP PE D32x3,0 mm (23 kusů):23",null,23,null,null,null,null,null,null,null,"VP PE D32x3,0 mm (23 kusů):23"]
[47,"891261111R00","Montáž vodovodních šoupátek ve výkopu DN 100 včetně nerezových spoj. prvků a obandážování spoje","kus",5,null,{"$f":"E453*F453","v":0},4.0999999999999999E-4,{"$f":"E453*H453","v":2.0499999999999997E-3},0,{"$f":"E453*J453","v":0},null,null,null,2,null,null,null,null,null,null,null,null,null,null,null,1,1,1,null,null,null,null,null,null,null,null,null,null,null,null,null,null,null,null,null,null,null,null,null,null,1,{"$f":"IF(AZ453=1,G453,0)","v":0},{"$f":"IF(AZ453=2,G453,0)","v":0},{"$f":"IF(AZ453=3,G453,0)","v":0},{"$f":"IF(AZ453=4,G453,0)","v":0},{"$f":"IF(AZ453=5,G453,0)","v":0},null,null,null,null,null,null,null,null,null,null,null,null,null,null,null,null,null,null,null,null,null,1,1]
[null,null,"Položka je určena pro montáž vodovodních šoupátek v otevřeném výkopu nebo v šachtách s osazením zemní soupravy (bez poklopů). V položce jsou zakalkulovány i náklady na vytvoření otvorů ve stropech šachet pro prostup zemních souprav šoupátek.",null,null,null,null,null,null,null,null,"Položka je určena pro montáž vodovodních šoupátek v otevřeném výkopu nebo v šachtách s osazením zemní soupravy (bez poklopů). V položce jsou zakalkulovány i náklady na vytvoření otvorů ve stropech šachet pro prostup zemních souprav šoupátek.",null,null,3]
[null,null,"Součástí položky je i dodávka nerezových spojovacích prvků (šrouby, podložky, matky) a kompletního obandážování spojů. ",null,null,null,null,null,null,null,null,"Součástí položky je i dodávka nerezových spojovacích prvků (šrouby, podložky, matky) a kompletního obandážování spojů. ",null,null,3]
[null,null,"Řad \"A\" TLT DN80 a DN100:",null,0,null,null,null,null,null,null,null,"Řad \"A\" TLT DN80 a DN100:"]
[null,null,"Š DN100:5",null,5,null,null,null,null,null,null,null,"Š DN100:5"]
[48,"891269111R00","Montáž navrtávacích pasů DN 100 ","kus",4,null,{"$f":"E458*F458","v":0},0,{"$f":"E458*H458","v":0},0,{"$f":"E458*J458","v":0},null,null,null,2,null,null,null,null,null,null,null,null,null,null,null,1,1,1,null,null,null,null,null,null,null,null,null,null,null,null,null,null,null,null,null,null,null,null,null,null,1,{"$f":"IF(AZ458=1,G458,0)","v":0},{"$f":"IF(AZ458=2,G458,0)","v":0},{"$f":"IF(AZ458=3,G458,0)","v":0},{"$f":"IF(AZ458=4,G458,0)","v":0},{"$f":"IF(AZ458=5,G458,0)","v":0},null,null,null,null,null,null,null,null,null,null,null,null,null,null,null,null,null,null,null,null,null,1,1]
[null,null,"Položka je určena pro montáž navrtávacích pasů s ventilem Jt 1 MPa na potrubí z trub osinkocementových, litinových, ocelových nebo plastckých hmot.",null,null,null,null,null,null,null,null,"Položka je určena pro montáž navrtávacích pasů s ventilem Jt 1 MPa na potrubí z trub osinkocementových, litinových, ocelových nebo plastckých hmot.",null,null,3]
[null,null,"V položce jsou zakalkulovány i náklady na jejich montáž a výkop montážních jamek; na opravu izolace ocelových trubek a na osazení zemních souprav.",null,null,null,null,null,null,null,null,"V položce jsou zakalkulovány i náklady na jejich montáž a výkop montážních jamek; na opravu izolace ocelových trubek a na osazení zemních souprav.",null,null,3]
[null,null,"Řad \"A\" TLT DN100:",null,0,null,null,null,null,null,null,null,"Řad \"A\" TLT DN100:"]
[null,null,"VP PE D32x3,0 mm (4 kusy):4",null,4,null,null,null,null,null,null,null,"VP PE D32x3,0 mm (4 kusy):4"]
[49,"892241111R00","Tlaková zkouška vodovodního potrubí DN 80 včetně zajištění konců potrubí","m",590.6,null,{"$f":"E463*F463","v":0},0,{"$f":"E463*H463","v":0},0,{"$f":"E463*J463","v":0},null,null,null,2,null,null,null,null,null,null,null,null,null,null,null,1,1,1,null,null,null,null,null,null,null,null,null,null,null,null,null,null,null,null,null,null,null,null,null,null,1,{"$f":"IF(AZ463=1,G463,0)","v":0},{"$f":"IF(AZ463=2,G463,0)","v":0},{"$f":"IF(AZ463=3,G463,0)","v":0},{"$f":"IF(AZ463=4,G463,0)","v":0},{"$f":"IF(AZ463=5,G463,0)","v":0},null,null,null,null,null,null,null,null,null,null,null,null,null,null,null,null,null,null,null,null,null,1,1]
[null,null,"V položce jsou započteny náklady na přísun, montáž, demontáž a odsun zkoušecího čerpadla, napuštění tlakovou vodou a dodání vody pro tlakovou zkoušku.",null,null,null,null,null,null,null,null,"V položce jsou započteny náklady na přísun, montáž, demontáž a odsun zkoušecího čerpadla, napuštění tlakovou vodou a dodání vody pro tlakovou zkoušku.",null,null,3]
[null,null,"Řad \"A\" TLT DN80:503,50",null,503.5,null,null,null,null,null,null,null,"Řad \"A\" TLT DN80:503,50"]
[null,null,"Řad \"D\" TLT DN80:45,40",null,45.4,null,null,null,null,null,null,null,"Řad \"D\" TLT DN80:45,40"]
[null,null,"Řad \"E\" TLT DN80:25,70",null,25.7,null,null,null,null,null,null,null,"Řad \"E\" TLT DN80:25,70"]
[null,null,"Řad \"F\" TLT DN80:9,40",null,9.4,null,null,null,null,null,null,null,"Řad \"F\" TLT DN80:9,40"]
[null,null,"Řad \"G\" TLT DN80:6,60",null,6.6,null,null,null,null,null,null,null,"Řad \"G\" TLT DN80:6,60"]
[50,"892271111R00","Tlaková zkouška vodovodního potrubí DN 125 včetně zajištění konců potrubí","m",155.30000000000001,null,{"$f":"E470*F470","v":0},0,{"$f":"E470*H470","v":0},0,{"$f":"E470*J470","v":0},null,null,null,2,null,null,null,null,null,null,null,null,null,null,null,1,1,1,null,null,null,null,null,null,null,null,null,null,null,null,null,null,null,null,null,null,null,null,null,null,1,{"$f":"IF(AZ470=1,G470,0)","v":0},{"$f":"IF(AZ470=2,G470,0)","v":0},{"$f":"IF(AZ470=3,G470,0)","v":0},{"$f":"IF(AZ470=4,G470,0)","v":0},{"$f":"IF(AZ470=5,G470,0)","v":0},null,null,null,null,null,null,null,null,null,null,null,null,null,null,null,null,null,null,null,null,null,1,1]
[null,null,"V položce jsou započteny náklady na přísun, montáž, demontáž a odsun zkoušecího čerpadla, napuštění tlakovou vodou a dodání vody pro tlakovou zkoušku.",null,null,null,null,null,null,null,null,"V položce jsou započteny náklady na přísun, montáž, demontáž a odsun zkoušecího čerpadla, napuštění tlakovou vodou a dodání vody pro tlakovou zkoušku.",null,null,3]
[null,null,"Řad \"A\" TLT DN80:155,30",null,155.30000000000001,null,null,null,null,null,null,null,"Řad \"A\" TLT DN80:155,30"]
[51,"892273111R00","Desinfekce vodovodního potrubí DN 125 ","m",745.9,null,{"$f":"E473*F473","v":0},0,{"$f":"E473*H473","v":0},0,{"$f":"E473*J473","v":0},null,null,null,2,null,null,null,null,null,null,null,null,null,null,null,1,1,1,null,null,null,null,null,null,null,null,null,null,null,null,null,null,null,null,null,null,null,null,null,null,1,{"$f":"IF(AZ473=1,G473,0)","v":0},{"$f":"IF(AZ473=2,G473,0)","v":0},{"$f":"IF(AZ473=3,G473,0)","v":0},{"$f":"IF(AZ473=4,G473,0)","v":0},{"$f":"IF(AZ473=5,G473,0)","v":0},null,null,null,null,null,null,null,null,null,null,null,null,null,null,null,null,null,null,null,null,null,1,1]
[null,null,"V položce jsou zakalkulovány náklady na napuštění a vypuštění vody, dodání vody a desinfekčního prostředku a na bakteriologický rozbor vody.",null,null,null,null,null,null,null,null,"V položce jsou zakalkulovány náklady na napuštění a vypuštění vody, dodání vody a desinfekčního prostředku a na bakteriologický rozbor vody.",null,null,3]
[null,null,"Řad \"A\" TLT DN80 a DN100:503,50+155,30",null,658.8,null,null,null,null,null,null,null,"Řad \"A\" TLT DN80 a DN100:503,50+155,30"]
[null,null,"Řad \"D\" TLT DN80:45,40",null,45.4,null,null,null,null,null,null,null,"Řad \"D\" TLT DN80:45,40"]
[null,null,"Řad \"E\" TLT DN80:25,70",null,25.7,null,null,null,null,null,null,null,"Řad \"E\" TLT DN80:25,70"]
[null,null,"Řad \"F\" TLT DN80:9,40",null,9.4,null,null,null,null,null,null,null,"Řad \"F\" TLT DN80:9,40"]
[null,null,"Řad \"G\" TLT DN80:6,60",null,6.6,null,null,null,null,null,null,null,"Řad \"G\" TLT DN80:6,60"]
[52,"892351111R00","Tlaková zkouška vodovodního potrubí DN 200 včetně zajištění konců potrubí","m",40,null,{"$f":"E480*F480","v":0},0,{"$f":"E480*H480","v":0},0,{"$f":"E480*J480","v":0},null,null,null,2,null,null,null,null,null,null,null,null,null,null,null,1,1,1,null,null,null,null,null,null,null,null,null,null,null,null,null,null,null,null,null,null,null,null,null,null,1,{"$f":"IF(AZ480=1,G480,0)","v":0},{"$f":"IF(AZ480=2,G480,0)","v":0},{"$f":"IF(AZ480=3,G480,0)","v":0},{"$f":"IF(AZ480=4,G480,0)","v":0},{"$f":"IF(AZ480=5,G480,0)","v":0},null,null,null,null,null,null,null,null,null,null,null,null,null,null,null,null,null,null,null,null,null,1,1]
[null,null,"V položce jsou započteny náklady na přísun, montáž, demontáž a odsun zkoušecího čerpadla, napuštění tlakovou vodou a dodání vody pro tlakovou zkoušku.",null,null,null,null,null,null,null,null,"V položce jsou započteny náklady na přísun, montáž, demontáž a odsun zkoušecího čerpadla, napuštění tlakovou vodou a dodání vody pro tlakovou zkoušku.",null,null,3]
[null,null,"Řad VV TLT DN150:40,00",null,40,null,null,null,null,null,null,null,"Řad VV TLT DN150:40,00"]
[53,"892353111R00","Desinfekce vodovodního potrubí DN 200 ","m",40,null,{"$f":"E483*F483","v":0},0,{"$f":"E483*H483","v":0},0,{"$f":"E483*J483","v":0},null,null,null,2,null,null,null,null,null,null,null,null,null,null,null,1,1,1,null,null,null,null,null,null,null,null,null,null,null,null,null,null,null,null,null,null,null,null,null,null,1,{"$f":"IF(AZ483=1,G483,0)","v":0},{"$f":"IF(AZ483=2,G483,0)","v":0},{"$f":"IF(AZ483=3,G483,0)","v":0},{"$f":"IF(AZ483=4,G483,0)","v":0},{"$f":"IF(AZ483=5,G483,0)","v":0},null,null,null,null,null,null,null,null,null,null,null,null,null,null,null,null,null,null,null,null,null,1,1]
[null,null,"V položce jsou zakalkulovány náklady na napuštění a vypuštění vody, dodání vody a desinfekčního prostředku a na bakteriologický rozbor vody.",null,null,null,null,null,null,null,null,"V položce jsou zakalkulovány náklady na napuštění a vypuštění vody, dodání vody a desinfekčního prostředku a na bakteriologický rozbor vody.",null,null,3]
[null,null,"Řad VV TLT DN150:40,00",null,40,null,null,null,null,null,null,null,"Řad VV TLT DN150:40,00"]
[54,"899721112R00","Fólie výstražná z PVC bílá, šířka 30 cm ","m",785.9,null,{"$f":"E486*F486","v":0},0,{"$f":"E486*H486","v":0},0,{"$f":"E486*J486","v":0},null,null,null,2,null,null,null,null,null,null,null,null,null,null,null,1,1,1,null,null,null,null,null,null,null,null,null,null,null,null,null,null,null,null,null,null,null,null,null,null,1,{"$f":"IF(AZ486=1,G486,0)","v":0},{"$f":"IF(AZ486=2,G486,0)","v":0},{"$f":"IF(AZ486=3,G486,0)","v":0},{"$f":"IF(AZ486=4,G486,0)","v":0},{"$f":"IF(AZ486=5,G486,0)","v":0},null,null,null,null,null,null,null,null,null,null,null,null,null,null,null,null,null,null,null,null,null,1,1]
[null,null,"Řad \"A\" TLT DN80 a DN100:503,50+155,30",null,658.8,null,null,null,null,null,null,null,"Řad \"A\" TLT DN80 a DN100:503,50+155,30"]
[null,null,"Řad \"D\" TLT DN80:45,40",null,45.4,null,null,null,null,null,null,null,"Řad \"D\" TLT DN80:45,40"]
[null,null,"Řad \"E\" TLT DN80:25,70",null,25.7,null,null,null,null,null,null,null,"Řad \"E\" TLT DN80:25,70"]
[null,null,"Řad \"F\" TLT DN80:9,40",null,9.4,null,null,null,null,null,null,null,"Řad \"F\" TLT DN80:9,40"]
[null,null,"Řad \"G\" TLT DN80:6,60",null,6.6,null,null,null,null,null,null,null,"Řad \"G\" TLT DN80:6,60"]
[null,null,"Řad VV TLT DN150:40,00",null,40,null,null,null,null,null,null,null,"Řad VV TLT DN150:40,00"]
[55,"899731114R00","Vodič signalizační CYY 6 mm2 ","m",981.9,null,{"$f":"E493*F493","v":0},8.0000000000000007E-5,{"$f":"E493*H493","v":7.8552000000000011E-2},0,{"$f":"E493*J493","v":0},null,null,null,2,null,null,null,null,null,null,null,null,null,null,null,1,1,1,null,null,null,null,null,null,null,null,null,null,null,null,null,null,null,null,null,null,null,null,null,null,1,{"$f":"IF(AZ493=1,G493,0)","v":0},{"$f":"IF(AZ493=2,G493,0)","v":0},{"$f":"IF(AZ493=3,G493,0)","v":0},{"$f":"IF(AZ493=4,G493,0)","v":0},{"$f":"IF(AZ493=5,G493,0)","v":0},null,null,null,null,null,null,null,null,null,null,null,null,null,null,null,null,null,null,null,null,null,1,1]
[null,null,"Součástí položky je zajištění proměření vodiče a výchozí zevize.",null,null,null,null,null,null,null,null,"Součástí položky je zajištění proměření vodiče a výchozí zevize.",null,null,3]
[null,null,"Řad \"A\" TLT DN80 a DN100:503,50+155,30",null,658.8,null,null,null,null,null,null,null,"Řad \"A\" TLT DN80 a DN100:503,50+155,30"]
[null,null,"Řad \"D\" TLT DN80:45,40",null,45.4,null,null,null,null,null,null,null,"Řad \"D\" TLT DN80:45,40"]
[null,null,"Řad \"E\" TLT DN80:25,70",null,25.7,null,null,null,null,null,null,null,"Řad \"E\" TLT DN80:25,70"]
[null,null,"Řad \"F\" TLT DN80:9,40",null,9.4,null,null,null,null,null,null,null,"Řad \"F\" TLT DN80:9,40"]
[null,null,"Řad \"G\" TLT DN80:6,60",null,6.6,null,null,null,null,null,null,null,"Řad \"G\" TLT DN80:6,60"]
[null,null,"Řad VV TLT DN150:40,00",null,40,null,null,null,null,null,null,null,"Řad VV TLT DN150:40,00"]
[null,null,"Vyvedení pro:",null,0,null,null,null,null,null,null,null,"Vyvedení pro:"]
[null,null,"Š DN80:2,00*2*16",null,64,null,null,null,null,null,null,null,"Š DN80:2,00*2*16"]
[null,null,"Š DN100:2,00*2*5",null,20,null,null,null,null,null,null,null,"Š DN100:2,00*2*5"]
[null,null,"Hp DN80/1,5:2,00*1*2",null,4,null,null,null,null,null,null,null,"Hp DN80/1,5:2,00*1*2"]
[null,null,"VP :2,00*2*27",null,108,null,null,null,null,null,null,null,"VP :2,00*2*27"]
[56,"42202681.R","Navrtávací ISO šoupátko č. 2681 DN 2 - 6/4\"","kus",27,null,{"$f":"E506*F506","v":0},2.5999999999999999E-3,{"$f":"E506*H506","v":7.0199999999999999E-2},null,{"$f":"E506*J506","v":0},null,null,null,2,null,null,null,null,null,null,null,null,null,null,null,3,1,"42202681.R",null,null,null,null,null,null,null,null,null,null,null,null,null,null,null,null,null,null,null,null,null,null,1,{"$f":"IF(AZ506=1,G506,0)","v":0},{"$f":"IF(AZ506=2,G506,0)","v":0},{"$f":"IF(AZ506=3,G506,0)","v":0},{"$f":"IF(AZ506=4,G506,0)","v":0},{"$f":"IF(AZ506=5,G506,0)","v":0},null,null,null,null,null,null,null,null,null,null,null,null,null,null,null,null,null,null,null,null,null,3,1]
[null,null,"Řad \"A\" TLT DN80 a DN100:",null,0,null,null,null,null,null,null,null,"Řad \"A\" TLT DN80 a DN100:"]
[null,null,"Řad \"D\" TLT DN80:",null,0,null,null,null,null,null,null,null,"Řad \"D\" TLT DN80:"]
[null,null,"Řad \"E\" TLT DN80:",null,0,null,null,null,null,null,null,null,"Řad \"E\" TLT DN80:"]
[null,null,"Řad \"F\" TLT DN80:",null,0,null,null,null,null,null,null,null,"Řad \"F\" TLT DN80:"]
[null,null,"Řad \"G\" TLT DN80:",null,0,null,null,null,null,null,null,null,"Řad \"G\" TLT DN80:"]
[null,null,"VP PE D32x3,0 mm (27 kusů):27",null,27,null,null,null,null,null,null,null,"VP PE D32x3,0 mm (27 kusů):27"]
[57,"42203350.05.R","Navrtávací pas HACOM č.3350 80-2\"","kus",23,null,{"$f":"E513*F513","v":0},2.7000000000000001E-3,{"$f":"E513*H513","v":6.2100000000000002E-2},null,{"$f":"E513*J513","v":0},null,null,null,2,null,null,null,null,null,null,null,null,null,null,null,3,1,"42203350.05.R",null,null,null,null,null,null,null,null,null,null,null,null,null,null,null,null,null,null,null,null,null,null,1,{"$f":"IF(AZ513=1,G513,0)","v":0},{"$f":"IF(AZ513=2,G513,0)","v":0},{"$f":"IF(AZ513=3,G513,0)","v":0},{"$f":"IF(AZ513=4,G513,0)","v":0},{"$f":"IF(AZ513=5,G513,0)","v":0},null,null,null,null,null,null,null,null,null,null,null,null,null,null,null,null,null,null,null,null,null,3,1]
[null,null,"Řad \"A\" TLT DN80:",null,0,null,null,null,null,null,null,null,"Řad \"A\" TLT DN80:"]
[null,null,"Řad \"D\" TLT DN80:",null,0,null,null,null,null,null,null,null,"Řad \"D\" TLT DN80:"]
[null,null,"Řad \"E\" TLT DN80:",null,0,null,null,null,null,null,null,null,"Řad \"E\" TLT DN80:"]
[null,null,"Řad \"F\" TLT DN80:",null,0,null,null,null,null,null,null,null,"Řad \"F\" TLT DN80:"]
[null,null,"Řad \"G\" TLT DN80:",null,0,null,null,null,null,null,null,null,"Řad \"G\" TLT DN80:"]
[null,null,"VP PE D32x3,0 mm (23 kusů):23",null,23,null,null,null,null,null,null,null,"VP PE D32x3,0 mm (23 kusů):23"]
[58,"42203350.06.R","Navrtávací pas HACOM č.3350 100-2\"","kus",4,null,{"$f":"E520*F520","v":0},2.7000000000000001E-3,{"$f":"E520*H520","v":1.0800000000000001E-2},null,{"$f":"E520*J520","v":0},null,null,null,2,null,null,null,null,null,null,null,null,null,null,null,3,1,"42203350.06.R",null,null,null,null,null,null,null,null,null,null,null,null,null,null,null,null,null,null,null,null,null,null,1,{"$f":"IF(AZ520=1,G520,0)","v":0},{"$f":"IF(AZ520=2,G520,0)","v":0},{"$f":"IF(AZ520=3,G520,0)","v":0},{"$f":"IF(AZ520=4,G520,0)","v":0},{"$f":"IF(AZ520=5,G520,0)","v":0},null,null,null,null,null,null,null,null,null,null,null,null,null,null,null,null,null,null,null,null,null,3,1]
[null,null,"Řad \"A\" TLT DN100:",null,0,null,null,null,null,null,null,null,"Řad \"A\" TLT DN100:"]
[null,null,"VP PE D32x3,0 mm (4 kusy):4",null,4,null,null,null,null,null,null,null,"VP PE D32x3,0 mm (4 kusy):4"]
[59,"42206221.1.R","Napojovací ISO tvarovka č. 6221F - 6/4\" - 32","kus",27,null,{"$f":"E523*F523","v":0},2.5999999999999999E-3,{"$f":"E523*H523","v":7.0199999999999999E-2},null,{"$f":"E523*J523","v":0},null,null,null,2,null,null,null,null,null,null,null,null,null,null,null,3,1,"42206221.1.R",null,null,null,null,null,null,null,null,null,null,null,null,null,null,null,null,null,null,null,null,null,null,1,{"$f":"IF(AZ523=1,G523,0)","v":0},{"$f":"IF(AZ523=2,G523,0)","v":0},{"$f":"IF(AZ523=3,G523,0)","v":0},{"$f":"IF(AZ523=4,G523,0)","v":0},{"$f":"IF(AZ523=5,G523,0)","v":0},null,null,null,null,null,null,null,null,null,null,null,null,null,null,null,null,null,null,null,null,null,3,1]
[null,null,"Řad \"A\" TLT DN80 a DN100:",null,0,null,null,null,null,null,null,null,"Řad \"A\" TLT DN80 a DN100:"]
[null,null,"Řad \"D\" TLT DN80:",null,0,null,null,null,null,null,null,null,"Řad \"D\" TLT DN80:"]
[null,null,"Řad \"E\" TLT DN80:",null,0,null,null,null,null,null,null,null,"Řad \"E\" TLT DN80:"]
[null,null,"Řad \"F\" TLT DN80:",null,0,null,null,null,null,null,null,null,"Řad \"F\" TLT DN80:"]
[null,null,"Řad \"G\" TLT DN80:",null,0,null,null,null,null,null,null,null,"Řad \"G\" TLT DN80:"]
[null,null,"VP PE D32x3,0 mm (27 kusů):27",null,27,null,null,null,null,null,null,null,"VP PE D32x3,0 mm (27 kusů):27"]
[60,"42209601.R","Zemní souprava tel. (1,3 - 1,8 m) č.9601 3/4-2\"","kus",27,null,{"$f":"E530*F530","v":0},2.5000000000000001E-3,{"$f":"E530*H530","v":6.7500000000000004E-2},null,{"$f":"E530*J530","v":0},null,null,null,2,null,null,null,null,null,null,null,null,null,null,null,3,1,"42209601.R",null,null,null,null,null,null,null,null,null,null,null,null,null,null,null,null,null,null,null,null,null,null,1,{"$f":"IF(AZ530=1,G530,0)","v":0},{"$f":"IF(AZ530=2,G530,0)","v":0},{"$f":"IF(AZ530=3,G530,0)","v":0},{"$f":"IF(AZ530=4,G530,0)","v":0},{"$f":"IF(AZ530=5,G530,0)","v":0},null,null,null,null,null,null,null,null,null,null,null,null,null,null,null,null,null,null,null,null,null,3,1]
[null,null,"Řad \"A\" TLT DN80 a DN100:",null,0,null,null,null,null,null,null,null,"Řad \"A\" TLT DN80 a DN100:"]
[null,null,"Řad \"D\" TLT DN80:",null,0,null,null,null,null,null,null,null,"Řad \"D\" TLT DN80:"]
[null,null,"Řad \"E\" TLT DN80:",null,0,null,null,null,null,null,null,null,"Řad \"E\" TLT DN80:"]
[null,null,"Řad \"F\" TLT DN80:",null,0,null,null,null,null,null,null,null,"Řad \"F\" TLT DN80:"]
[null,null,"Řad \"G\" TLT DN80:",null,0,null,null,null,null,null,null,null,"Řad \"G\" TLT DN80:"]
[null,null,"VP PE D32x3,0 mm (27 kusů):27",null,27,null,null,null,null,null,null,null,"VP PE D32x3,0 mm (27 kusů):27"]
[61,"42209999.R","Drenážní obal","kus",2,null,{"$f":"E537*F537","v":0},4.7999999999999996E-3,{"$f":"E537*H537","v":9.5999999999999992E-3},null,{"$f":"E537*J537","v":0},null,null,null,2,null,null,null,null,null,null,null,null,null,null,null,3,1,"42209999.R",null,null,null,null,null,null,null,null,null,null,null,null,null,null,null,null,null,null,null,null,null,null,1,{"$f":"IF(AZ537=1,G537,0)","v":0},{"$f":"IF(AZ537=2,G537,0)","v":0},{"$f":"IF(AZ537=3,G537,0)","v":0},{"$f":"IF(AZ537=4,G537,0)","v":0},{"$f":"IF(AZ537=5,G537,0)","v":0},null,null,null,null,null,null,null,null,null,null,null,null,null,null,null,null,null,null,null,null,null,3,1]
[null,null,"Řad \"A\" TLT DN80 a DN100:",null,0,null,null,null,null,null,null,null,"Řad \"A\" TLT DN80 a DN100:"]
[null,null,"Řad \"D\" TLT DN80:",null,0,null,null,null,null,null,null,null,"Řad \"D\" TLT DN80:"]
[null,null,"Řad \"E\" TLT DN80:",null,0,null,null,null,null,null,null,null,"Řad \"E\" TLT DN80:"]
[null,null,"Řad \"F\" TLT DN80:",null,0,null,null,null,null,null,null,null,"Řad \"F\" TLT DN80:"]
[null,null,"Řad \"G\" TLT DN80:",null,0,null,null,null,null,null,null,null,"Řad \"G\" TLT DN80:"]
[null,null,"Hp DN80/1,5:2",null,2,null,null,null,null,null,null,null,"Hp DN80/1,5:2"]
[62,"42228310.R","Šoupátko 4000E2 DN 80 přírubové, voda PN16","kus",16,null,{"$f":"E544*F544","v":0},1.6500000000000001E-2,{"$f":"E544*H544","v":0.26400000000000001},null,{"$f":"E544*J544","v":0},null,null,null,2,null,null,null,null,null,null,null,null,null,null,null,3,1,"42228310.R",null,null,null,null,null,null,null,null,null,null,null,null,null,null,null,null,null,null,null,null,null,null,1,{"$f":"IF(AZ544=1,G544,0)","v":0},{"$f":"IF(AZ544=2,G544,0)","v":0},{"$f":"IF(AZ544=3,G544,0)","v":0},{"$f":"IF(AZ544=4,G544,0)","v":0},{"$f":"IF(AZ544=5,G544,0)","v":0},null,null,null,null,null,null,null,null,null,null,null,null,null,null,null,null,null,null,null,null,null,3,1]
[null,null,"Šoupátko přírubové krkové - měkcetěsnící klínové šoupátko s hladkým a volným průtokovým kanálem",null,null,null,null,null,null,null,null,"Šoupátko přírubové krkové - měkcetěsnící klínové šoupátko s hladkým a volným průtokovým kanálem",null,null,3]
[null,null,"č. 4000E2",null,null,null,null,null,null,null,null,"č. 4000E2",null,null,3]
[null,null,"PN 16",null,null,null,null,null,null,null,null,"PN 16",null,null,3]
[null,null,"DN 80",null,null,null,null,null,null,null,null,"DN 80",null,null,3]
[null,null,"těleso a víko: tvárná litina GGG 400 - DIN 1693",null,null,null,null,null,null,null,null,"těleso a víko: tvárná litina GGG 400 - DIN 1693",null,null,3]
[null,null,"medium: pitná voda, neagresivní odpadní voda",null,null,null,null,null,null,null,null,"medium: pitná voda, neagresivní odpadní voda",null,null,3]
[null,null,"Řad \"A\" TLT DN80 a DN100:",null,0,null,null,null,null,null,null,null,"Řad \"A\" TLT DN80 a DN100:"]
[null,null,"Řad \"D\" TLT DN80:",null,0,null,null,null,null,null,null,null,"Řad \"D\" TLT DN80:"]
[null,null,"Řad \"E\" TLT DN80:",null,0,null,null,null,null,null,null,null,"Řad \"E\" TLT DN80:"]
[null,null,"Řad \"F\" TLT DN80:",null,0,null,null,null,null,null,null,null,"Řad \"F\" TLT DN80:"]
[null,null,"Řad \"G\" TLT DN80:",null,0,null,null,null,null,null,null,null,"Řad \"G\" TLT DN80:"]
[null,null,"Š DN80:16",null,16,null,null,null,null,null,null,null,"Š DN80:16"]
[63,"42228312.R","Šoupátko 4000E2 DN 100 přírubové, voda PN16","kus",5,null,{"$f":"E557*F557","v":0},2.4500000000000001E-2,{"$f":"E557*H557","v":0.1225},null,{"$f":"E557*J557","v":0},null,null,null,2,null,null,null,null,null,null,null,null,null,null,null,3,1,"42228312.R",null,null,null,null,null,null,null,null,null,null,null,null,null,null,null,null,null,null,null,null,null,null,1,{"$f":"IF(AZ557=1,G557,0)","v":0},{"$f":"IF(AZ557=2,G557,0)","v":0},{"$f":"IF(AZ557=3,G557,0)","v":0},{"$f":"IF(AZ557=4,G557,0)","v":0},{"$f":"IF(AZ557=5,G557,0)","v":0},null,null,null,null,null,null,null,null,null,null,null,null,null,null,null,null,null,null,null,null,null,3,1]
[null,null,"Šoupátko přírubové krkové - měkcetěsnící klínové šoupátko s hladkým a volným průtokovým kanálem",null,null,null,null,null,null,null,null,"Šoupátko přírubové krkové - měkcetěsnící klínové šoupátko s hladkým a volným průtokovým kanálem",null,null,3]
[null,null,"č. 4000E2",null,null,null,null,null,null,null,null,"č. 4000E2",null,null,3]
[null,null,"PN 16",null,null,null,null,null,null,null,null,"PN 16",null,null,3]
[null,null,"DN 100",null,null,null,null,null,null,null,null,"DN 100",null,null,3]
[null,null,"těleso a víko: tvárná litina GGG 400 - DIN 1693",null,null,null,null,null,null,null,null,"těleso a víko: tvárná litina GGG 400 - DIN 1693",null,null,3]
[null,null,"medium: pitná voda, neagresivní odpadní voda",null,null,null,null,null,null,null,null,"medium: pitná voda, neagresivní odpadní voda",null,null,3]
[null,null,"Řad \"A\" TLT DN80 a DN100:",null,0,null,null,null,null,null,null,null,"Řad \"A\" TLT DN80 a DN100:"]
[null,null,"Š DN100:5",null,5,null,null,null,null,null,null,null,"Š DN100:5"]
[64,"422737412.R","Hydrant podzemní DUO K240, DN80,1,5 m-voda","kus",2,null,{"$f":"E566*F566","v":0},3.95E-2,{"$f":"E566*H566","v":7.9000000000000001E-2},null,{"$f":"E566*J566","v":0},null,null,null,2,null,null,null,null,null,null,null,null,null,null,null,3,1,"422737412.R",null,null,null,null,null,null,null,null,null,null,null,null,null,null,null,null,null,null,null,null,null,null,1,{"$f":"IF(AZ566=1,G566,0)","v":0},{"$f":"IF(AZ566=2,G566,0)","v":0},{"$f":"IF(AZ566=3,G566,0)","v":0},{"$f":"IF(AZ566=4,G566,0)","v":0},{"$f":"IF(AZ566=5,G566,0)","v":0},null,null,null,null,null,null,null,null,null,null,null,null,null,null,null,null,null,null,null,null,null,3,1]
[null,null,"Řad \"A\" TLT DN80 a DN100:",null,0,null,null,null,null,null,null,null,"Řad \"A\" TLT DN80 a DN100:"]
[null,null,"Řad \"D\" TLT DN80:",null,0,null,null,null,null,null,null,null,"Řad \"D\" TLT DN80:"]
[null,null,"Řad \"E\" TLT DN80:",null,0,null,null,null,null,null,null,null,"Řad \"E\" TLT DN80:"]
[null,null,"Řad \"F\" TLT DN80:",null,0,null,null,null,null,null,null,null,"Řad \"F\" TLT DN80:"]
[null,null,"Řad \"G\" TLT DN80:",null,0,null,null,null,null,null,null,null,"Řad \"G\" TLT DN80:"]
[null,null,"Hp DN80/1,5:2",null,2,null,null,null,null,null,null,null,"Hp DN80/1,5:2"]
[65,"42293250.R","Souprava zemní tel.9500E2/E3 DN50 -100, 1,3-1,8m","kus",21,null,{"$f":"E573*F573","v":0},7.3000000000000001E-3,{"$f":"E573*H573","v":0.15329999999999999},null,{"$f":"E573*J573","v":0},null,null,null,2,null,null,null,null,null,null,null,null,null,null,null,3,1,"42293250.R",null,null,null,null,null,null,null,null,null,null,null,null,null,null,null,null,null,null,null,null,null,null,1,{"$f":"IF(AZ573=1,G573,0)","v":0},{"$f":"IF(AZ573=2,G573,0)","v":0},{"$f":"IF(AZ573=3,G573,0)","v":0},{"$f":"IF(AZ573=4,G573,0)","v":0},{"$f":"IF(AZ573=5,G573,0)","v":0},null,null,null,null,null,null,null,null,null,null,null,null,null,null,null,null,null,null,null,null,null,3,1]
[null,null,"Řad \"A\" TLT DN80 a DN100:",null,0,null,null,null,null,null,null,null,"Řad \"A\" TLT DN80 a DN100:"]
[null,null,"Řad \"D\" TLT DN80:",null,0,null,null,null,null,null,null,null,"Řad \"D\" TLT DN80:"]
[null,null,"Řad \"E\" TLT DN80:",null,0,null,null,null,null,null,null,null,"Řad \"E\" TLT DN80:"]
[null,null,"Řad \"F\" TLT DN80:",null,0,null,null,null,null,null,null,null,"Řad \"F\" TLT DN80:"]
[null,null,"Řad \"G\" TLT DN80:",null,0,null,null,null,null,null,null,null,"Řad \"G\" TLT DN80:"]
[null,null,"Š DN80:16",null,16,null,null,null,null,null,null,null,"Š DN80:16"]
[null,null,"Š DN100:5",null,5,null,null,null,null,null,null,null,"Š DN100:5"]
[66,"422935303.R","Spojka Synoflex 7974, DN 80, PN 16","kus",4,null,{"$f":"E581*F581","v":0},6.8999999999999999E-3,{"$f":"E581*H581","v":2.76E-2},null,{"$f":"E581*J581","v":0},null,null,null,2,null,null,null,null,null,null,null,null,null,null,null,3,1,"422935303.R",null,null,null,null,null,null,null,null,null,null,null,null,null,null,null,null,null,null,null,null,null,null,1,{"$f":"IF(AZ581=1,G581,0)","v":0},{"$f":"IF(AZ581=2,G581,0)","v":0},{"$f":"IF(AZ581=3,G581,0)","v":0},{"$f":"IF(AZ581=4,G581,0)","v":0},{"$f":"IF(AZ581=5,G581,0)","v":0},null,null,null,null,null,null,null,null,null,null,null,null,null,null,null,null,null,null,null,null,null,3,1]
[null,null,"Řad \"A\" TLT DN80 a DN100:",null,0,null,null,null,null,null,null,null,"Řad \"A\" TLT DN80 a DN100:"]
[null,null,"Řad \"D\" TLT DN80:",null,0,null,null,null,null,null,null,null,"Řad \"D\" TLT DN80:"]
[null,null,"Řad \"E\" TLT DN80:",null,0,null,null,null,null,null,null,null,"Řad \"E\" TLT DN80:"]
[null,null,"Řad \"F\" TLT DN80:",null,0,null,null,null,null,null,null,null,"Řad \"F\" TLT DN80:"]
[null,null,"Řad \"G\" TLT DN80:",null,0,null,null,null,null,null,null,null,"Řad \"G\" TLT DN80:"]
[null,null,"Synoflex spojka DN80:4",null,4,null,null,null,null,null,null,null,"Synoflex spojka DN80:4"]
[67,"422935323.R","Spojka Synoflex s přírubou red 7994, DN100/80,PN16","kus",1,null,{"$f":"E588*F588","v":0},1.0800000000000001E-2,{"$f":"E588*H588","v":1.0800000000000001E-2},null,{"$f":"E588*J588","v":0},null,null,null,2,null,null,null,null,null,null,null,null,null,null,null,3,1,"422935323.R",null,null,null,null,null,null,null,null,null,null,null,null,null,null,null,null,null,null,null,null,null,null,1,{"$f":"IF(AZ588=1,G588,0)","v":0},{"$f":"IF(AZ588=2,G588,0)","v":0},{"$f":"IF(AZ588=3,G588,0)","v":0},{"$f":"IF(AZ588=4,G588,0)","v":0},{"$f":"IF(AZ588=5,G588,0)","v":0},null,null,null,null,null,null,null,null,null,null,null,null,null,null,null,null,null,null,null,null,null,3,1]
[null,null,"Řad \"A\" TLT DN80 a DN100:",null,0,null,null,null,null,null,null,null,"Řad \"A\" TLT DN80 a DN100:"]
[null,null,"Synoflex spojka redukovaná DN100/80:1",null,1,null,null,null,null,null,null,null,"Synoflex spojka redukovaná DN100/80:1"]
[68,"422935325.R","Spojka Synoflex s přírubou 7994, DN150,PN 16","kus",2,null,{"$f":"E591*F591","v":0},1.67E-2,{"$f":"E591*H591","v":3.3399999999999999E-2},null,{"$f":"E591*J591","v":0},null,null,null,2,null,null,null,null,null,null,null,null,null,null,null,3,1,"422935325.R",null,null,null,null,null,null,null,null,null,null,null,null,null,null,null,null,null,null,null,null,null,null,1,{"$f":"IF(AZ591=1,G591,0)","v":0},{"$f":"IF(AZ591=2,G591,0)","v":0},{"$f":"IF(AZ591=3,G591,0)","v":0},{"$f":"IF(AZ591=4,G591,0)","v":0},{"$f":"IF(AZ591=5,G591,0)","v":0},null,null,null,null,null,null,null,null,null,null,null,null,null,null,null,null,null,null,null,null,null,3,1]
[null,null,"Řad VV TLT DN150:",null,0,null,null,null,null,null,null,null,"Řad VV TLT DN150:"]
[null,null,"Synoflex s přírubou DN150:2",null,2,null,null,null,null,null,null,null,"Synoflex s přírubou DN150:2"]
[69,"422935328.R","Spojka Synoflex s přírubou 7994, DN300,PN 16","kus",2,null,{"$f":"E594*F594","v":0},5.2999999999999999E-2,{"$f":"E594*H594","v":0.106},null,{"$f":"E594*J594","v":0},null,null,null,2,null,null,null,null,null,null,null,null,null,null,null,3,1,"422935328.R",null,null,null,null,null,null,null,null,null,null,null,null,null,null,null,null,null,null,null,null,null,null,1,{"$f":"IF(AZ594=1,G594,0)","v":0},{"$f":"IF(AZ594=2,G594,0)","v":0},{"$f":"IF(AZ594=3,G594,0)","v":0},{"$f":"IF(AZ594=4,G594,0)","v":0},{"$f":"IF(AZ594=5,G594,0)","v":0},null,null,null,null,null,null,null,null,null,null,null,null,null,null,null,null,null,null,null,null,null,3,1]
[null,null,"Řad VV TLT DN150:",null,0,null,null,null,null,null,null,null,"Řad VV TLT DN150:"]
[null,null,"Synoflex s přírubou DN300:2",null,2,null,null,null,null,null,null,null,"Synoflex s přírubou DN300:2"]
[70,"55251130.R","TL vod.tlak. DN 80 mm C100 spoj TYTON","m",596.50599999999997,null,{"$f":"E597*F597","v":0},1.4500000000000001E-2,{"$f":"E597*H597","v":8.6493369999999992},null,{"$f":"E597*J597","v":0},null,null,null,2,null,null,null,null,null,null,null,null,null,null,null,3,1,"55251130.R",null,null,null,null,null,null,null,null,null,null,null,null,null,null,null,null,null,null,null,null,null,null,1,{"$f":"IF(AZ597=1,G597,0)","v":0},{"$f":"IF(AZ597=2,G597,0)","v":0},{"$f":"IF(AZ597=3,G597,0)","v":0},{"$f":"IF(AZ597=4,G597,0)","v":0},{"$f":"IF(AZ597=5,G597,0)","v":0},null,null,null,null,null,null,null,null,null,null,null,null,null,null,null,null,null,null,null,null,null,3,1]
[null,null,"Hrdlová trouba z tvárné litiny s hladkým koncem dle ČSN EN 545",null,null,null,null,null,null,null,null,"Hrdlová trouba z tvárné litiny s hladkým koncem dle ČSN EN 545",null,null,3]
[null,null,"Hrdlový spoj Tyton (pružný násuvný spoj EPDM)",null,null,null,null,null,null,null,null,"Hrdlový spoj Tyton (pružný násuvný spoj EPDM)",null,null,3]
[null,null,"Zinek Plus - vně zinko-aluminiový povlak 400 g/m2 (85Zn-15Al) s krycí modrou epoxidovou vrstvou",null,null,null,null,null,null,null,null,"Zinek Plus - vně zinko-aluminiový povlak 400 g/m2 (85Zn-15Al) s krycí modrou epoxidovou vrstvou",null,null,3]
[null,null,"uvnitř vyložení z cementové malty z vysokopecního cementu",null,null,null,null,null,null,null,null,"uvnitř vyložení z cementové malty z vysokopecního cementu",null,null,3]
[null,null,"hrdla trub jsou zevnitř pozinkována a pokryta epoxidovým povlakem",null,null,null,null,null,null,null,null,"hrdla trub jsou zevnitř pozinkována a pokryta epoxidovým povlakem",null,null,3]
[null,null,"Řad \"A\" TLT DN80:503,50*1,01",null,508.53500000000003,null,null,null,null,null,null,null,"Řad \"A\" TLT DN80:503,50*1,01"]
[null,null,"Řad \"D\" TLT DN80:45,40*1,01",null,45.853999999999999,null,null,null,null,null,null,null,"Řad \"D\" TLT DN80:45,40*1,01"]
[null,null,"Řad \"E\" TLT DN80:25,70*1,01",null,25.957000000000001,null,null,null,null,null,null,null,"Řad \"E\" TLT DN80:25,70*1,01"]
[null,null,"Řad \"F\" TLT DN80:9,40*1,01",null,9.4939999999999998,null,null,null,null,null,null,null,"Řad \"F\" TLT DN80:9,40*1,01"]
[null,null,"Řad \"G\" TLT DN80:6,60*1,01",null,6.6660000000000004,null,null,null,null,null,null,null,"Řad \"G\" TLT DN80:6,60*1,01"]
[71,"55251131.R","TL vod.tlak. DN100 mm C100 spoj TYTON","m",156.85300000000001,null,{"$f":"E608*F608","v":0},1.77E-2,{"$f":"E608*H608","v":2.7762981000000004},null,{"$f":"E608*J608","v":0},null,null,null,2,null,null,null,null,null,null,null,null,null,null,null,3,1,"55251131.R",null,null,null,null,null,null,null,null,null,null,null,null,null,null,null,null,null,null,null,null,null,null,1,{"$f":"IF(AZ608=1,G608,0)","v":0},{"$f":"IF(AZ608=2,G608,0)","v":0},{"$f":"IF(AZ608=3,G608,0)","v":0},{"$f":"IF(AZ608=4,G608,0)","v":0},{"$f":"IF(AZ608=5,G608,0)","v":0},null,null,null,null,null,null,null,null,null,null,null,null,null,null,null,null,null,null,null,null,null,3,1]
[null,null,"Hrdlová trouba z tvárné litiny s hladkým koncem dle ČSN EN 545",null,null,null,null,null,null,null,null,"Hrdlová trouba z tvárné litiny s hladkým koncem dle ČSN EN 545",null,null,3]
[null,null,"Hrdlový spoj Tyton (pružný násuvný spoj EPDM)",null,null,null,null,null,null,null,null,"Hrdlový spoj Tyton (pružný násuvný spoj EPDM)",null,null,3]
[null,null,"Zinek Plus - vně zinko-aluminiový povlak 400 g/m2 (85Zn-15Al) s krycí modrou epoxidovou vrstvou",null,null,null,null,null,null,null,null,"Zinek Plus - vně zinko-aluminiový povlak 400 g/m2 (85Zn-15Al) s krycí modrou epoxidovou vrstvou",null,null,3]
[null,null,"uvnitř vyložení z cementové malty z vysokopecního cementu",null,null,null,null,null,null,null,null,"uvnitř vyložení z cementové malty z vysokopecního cementu",null,null,3]
[null,null,"hrdla trub jsou zevnitř pozinkována a pokryta epoxidovým povlakem",null,null,null,null,null,null,null,null,"hrdla trub jsou zevnitř pozinkována a pokryta epoxidovým povlakem",null,null,3]
[null,null,"Řad \"A\" TLT DN80:155,30*1,01",null,156.85300000000001,null,null,null,null,null,null,null,"Řad \"A\" TLT DN80:155,30*1,01"]
[72,"55251133.R","TL vod.tlak. DN150 mm C64 spoj TYTON","m",40.4,null,{"$f":"E615*F615","v":0},2.8000000000000001E-2,{"$f":"E615*H615","v":1.1312},null,{"$f":"E615*J615","v":0},null,null,null,2,null,null,null,null,null,null,null,null,null,null,null,3,1,"55251133.R",null,null,null,null,null,null,null,null,null,null,null,null,null,null,null,null,null,null,null,null,null,null,1,{"$f":"IF(AZ615=1,G615,0)","v":0},{"$f":"IF(AZ615=2,G615,0)","v":0},{"$f":"IF(AZ615=3,G615,0)","v":0},{"$f":"IF(AZ615=4,G615,0)","v":0},{"$f":"IF(AZ615=5,G615,0)","v":0},null,null,null,null,null,null,null,null,null,null,null,null,null,null,null,null,null,null,null,null,null,3,1]
[null,null,"Hrdlová trouba z tvárné litiny s hladkým koncem dle ČSN EN 545",null,null,null,null,null,null,null,null,"Hrdlová trouba z tvárné litiny s hladkým koncem dle ČSN EN 545",null,null,3]
[null,null,"Hrdlový spoj Tyton (pružný násuvný spoj EPDM)",null,null,null,null,null,null,null,null,"Hrdlový spoj Tyton (pružný násuvný spoj EPDM)",null,null,3]
[null,null,"Zinek Plus - vně zinko-aluminiový povlak 400 g/m2 (85Zn-15Al) s krycí modrou epoxidovou vrstvou",null,null,null,null,null,null,null,null,"Zinek Plus - vně zinko-aluminiový povlak 400 g/m2 (85Zn-15Al) s krycí modrou epoxidovou vrstvou",null,null,3]
[null,null,"uvnitř vyložení z cementové malty z vysokopecního cementu",null,null,null,null,null,null,null,null,"uvnitř vyložení z cementové malty z vysokopecního cementu",null,null,3]
[null,null,"hrdla trub jsou zevnitř pozinkována a pokryta epoxidovým povlakem",null,null,null,null,null,null,null,null,"hrdla trub jsou zevnitř pozinkována a pokryta epoxidovým povlakem",null,null,3]
[null,null,"Řad VV TLT DN150:40,00*1,01",null,40.4,null,null,null,null,null,null,null,"Řad VV TLT DN150:40,00*1,01"]
[73,"55259410.R","Koleno hrdlové MMK DN80-11 1/4°","kus",5,null,{"$f":"E622*F622","v":0},6.4999999999999997E-3,{"$f":"E622*H622","v":3.2500000000000001E-2},null,{"$f":"E622*J622","v":0},null,null,null,2,null,null,null,null,null,null,null,null,null,null,null,3,1,"55259410.R",null,null,null,null,null,null,null,null,null,null,null,null,null,null,null,null,null,null,null,null,null,null,1,{"$f":"IF(AZ622=1,G622,0)","v":0},{"$f":"IF(AZ622=2,G622,0)","v":0},{"$f":"IF(AZ622=3,G622,0)","v":0},{"$f":"IF(AZ622=4,G622,0)","v":0},{"$f":"IF(AZ622=5,G622,0)","v":0},null,null,null,null,null,null,null,null,null,null,null,null,null,null,null,null,null,null,null,null,null,3,1]
[null,null,"Řad \"A\" TLT DN80 a DN100:",null,0,null,null,null,null,null,null,null,"Řad \"A\" TLT DN80 a DN100:"]
[null,null,"Řad \"D\" TLT DN80:",null,0,null,null,null,null,null,null,null,"Řad \"D\" TLT DN80:"]
[null,null,"Řad \"E\" TLT DN80:",null,0,null,null,null,null,null,null,null,"Řad \"E\" TLT DN80:"]
[null,null,"Řad \"F\" TLT DN80:",null,0,null,null,null,null,null,null,null,"Řad \"F\" TLT DN80:"]
[null,null,"Řad \"G\" TLT DN80:",null,0,null,null,null,null,null,null,null,"Řad \"G\" TLT DN80:"]
[null,null,"MMK DN80/11° :5",null,5,null,null,null,null,null,null,null,"MMK DN80/11° :5"]
[74,"55259412.R","Koleno hrdlové MMK DN100-11 1/4°","kus",1,null,{"$f":"E629*F629","v":0},8.8000000000000005E-3,{"$f":"E629*H629","v":8.8000000000000005E-3},null,{"$f":"E629*J629","v":0},null,null,null,2,null,null,null,null,null,null,null,null,null,null,null,3,1,"55259412.R",null,null,null,null,null,null,null,null,null,null,null,null,null,null,null,null,null,null,null,null,null,null,1,{"$f":"IF(AZ629=1,G629,0)","v":0},{"$f":"IF(AZ629=2,G629,0)","v":0},{"$f":"IF(AZ629=3,G629,0)","v":0},{"$f":"IF(AZ629=4,G629,0)","v":0},{"$f":"IF(AZ629=5,G629,0)","v":0},null,null,null,null,null,null,null,null,null,null,null,null,null,null,null,null,null,null,null,null,null,3,1]
[null,null,"Řad \"A\" TLT DN80 a DN100:",null,0,null,null,null,null,null,null,null,"Řad \"A\" TLT DN80 a DN100:"]
[null,null,"MMK DN100/11° :1",null,1,null,null,null,null,null,null,null,"MMK DN100/11° :1"]
[75,"55259414.R","Koleno hrdlové MMK DN150-11 1/4°","kus",2,null,{"$f":"E632*F632","v":0},1.44E-2,{"$f":"E632*H632","v":2.8799999999999999E-2},null,{"$f":"E632*J632","v":0},null,null,null,2,null,null,null,null,null,null,null,null,null,null,null,3,1,"55259414.R",null,null,null,null,null,null,null,null,null,null,null,null,null,null,null,null,null,null,null,null,null,null,1,{"$f":"IF(AZ632=1,G632,0)","v":0},{"$f":"IF(AZ632=2,G632,0)","v":0},{"$f":"IF(AZ632=3,G632,0)","v":0},{"$f":"IF(AZ632=4,G632,0)","v":0},{"$f":"IF(AZ632=5,G632,0)","v":0},null,null,null,null,null,null,null,null,null,null,null,null,null,null,null,null,null,null,null,null,null,3,1]
[null,null,"Řad VV TLT DN150:",null,0,null,null,null,null,null,null,null,"Řad VV TLT DN150:"]
[null,null,"MMK DN150/11° :2",null,2,null,null,null,null,null,null,null,"MMK DN150/11° :2"]
[76,"55259430.R","Koleno hrdlové MMK DN80-22 1/2°","kus",2,null,{"$f":"E635*F635","v":0},6.7000000000000002E-3,{"$f":"E635*H635","v":1.34E-2},null,{"$f":"E635*J635","v":0},null,null,null,2,null,null,null,null,null,null,null,null,null,null,null,3,1,"55259430.R",null,null,null,null,null,null,null,null,null,null,null,null,null,null,null,null,null,null,null,null,null,null,1,{"$f":"IF(AZ635=1,G635,0)","v":0},{"$f":"IF(AZ635=2,G635,0)","v":0},{"$f":"IF(AZ635=3,G635,0)","v":0},{"$f":"IF(AZ635=4,G635,0)","v":0},{"$f":"IF(AZ635=5,G635,0)","v":0},null,null,null,null,null,null,null,null,null,null,null,null,null,null,null,null,null,null,null,null,null,3,1]
[null,null,"Řad \"A\" TLT DN80 a DN100:",null,0,null,null,null,null,null,null,null,"Řad \"A\" TLT DN80 a DN100:"]
[null,null,"Řad \"D\" TLT DN80:",null,0,null,null,null,null,null,null,null,"Řad \"D\" TLT DN80:"]
[null,null,"Řad \"E\" TLT DN80:",null,0,null,null,null,null,null,null,null,"Řad \"E\" TLT DN80:"]
[null,null,"Řad \"F\" TLT DN80:",null,0,null,null,null,null,null,null,null,"Řad \"F\" TLT DN80:"]
[null,null,"Řad \"G\" TLT DN80:",null,0,null,null,null,null,null,null,null,"Řad \"G\" TLT DN80:"]
[null,null,"MMK DN80/22° :2",null,2,null,null,null,null,null,null,null,"MMK DN80/22° :2"]
[77,"55259470.R","Koleno hrdlové MMK DN80/45°","kus",3,null,{"$f":"E642*F642","v":0},8.6999999999999994E-3,{"$f":"E642*H642","v":2.6099999999999998E-2},null,{"$f":"E642*J642","v":0},null,null,null,2,null,null,null,null,null,null,null,null,null,null,null,3,1,"55259470.R",null,null,null,null,null,null,null,null,null,null,null,null,null,null,null,null,null,null,null,null,null,null,1,{"$f":"IF(AZ642=1,G642,0)","v":0},{"$f":"IF(AZ642=2,G642,0)","v":0},{"$f":"IF(AZ642=3,G642,0)","v":0},{"$f":"IF(AZ642=4,G642,0)","v":0},{"$f":"IF(AZ642=5,G642,0)","v":0},null,null,null,null,null,null,null,null,null,null,null,null,null,null,null,null,null,null,null,null,null,3,1]
[null,null,"Řad \"A\" TLT DN80 a DN100:",null,0,null,null,null,null,null,null,null,"Řad \"A\" TLT DN80 a DN100:"]
[null,null,"Řad \"D\" TLT DN80:",null,0,null,null,null,null,null,null,null,"Řad \"D\" TLT DN80:"]
[null,null,"Řad \"E\" TLT DN80:",null,0,null,null,null,null,null,null,null,"Řad \"E\" TLT DN80:"]
[null,null,"Řad \"F\" TLT DN80:",null,0,null,null,null,null,null,null,null,"Řad \"F\" TLT DN80:"]
[null,null,"Řad \"G\" TLT DN80:",null,0,null,null,null,null,null,null,null,"Řad \"G\" TLT DN80:"]
[null,null,"MMK DN80/45° :3",null,3,null,null,null,null,null,null,null,"MMK DN80/45° :3"]
[78,"55259473.R","Koleno hrdlové MMK DN150/45°","kus",2,null,{"$f":"E649*F649","v":0},1.6500000000000001E-2,{"$f":"E649*H649","v":3.3000000000000002E-2},null,{"$f":"E649*J649","v":0},null,null,null,2,null,null,null,null,null,null,null,null,null,null,null,3,1,"55259473.R",null,null,null,null,null,null,null,null,null,null,null,null,null,null,null,null,null,null,null,null,null,null,1,{"$f":"IF(AZ649=1,G649,0)","v":0},{"$f":"IF(AZ649=2,G649,0)","v":0},{"$f":"IF(AZ649=3,G649,0)","v":0},{"$f":"IF(AZ649=4,G649,0)","v":0},{"$f":"IF(AZ649=5,G649,0)","v":0},null,null,null,null,null,null,null,null,null,null,null,null,null,null,null,null,null,null,null,null,null,3,1]
[null,null,"Řad VV TLT DN150:",null,0,null,null,null,null,null,null,null,"Řad VV TLT DN150:"]
[null,null,"MMK DN150/45° :2",null,2,null,null,null,null,null,null,null,"MMK DN150/45° :2"]
[79,"55259730.R","Tvar. přír. s hrdlem EU DN 80","kus",12,null,{"$f":"E652*F652","v":0},6.8999999999999999E-3,{"$f":"E652*H652","v":8.2799999999999999E-2},null,{"$f":"E652*J652","v":0},null,null,null,2,null,null,null,null,null,null,null,null,null,null,null,3,1,"55259730.R",null,null,null,null,null,null,null,null,null,null,null,null,null,null,null,null,null,null,null,null,null,null,1,{"$f":"IF(AZ652=1,G652,0)","v":0},{"$f":"IF(AZ652=2,G652,0)","v":0},{"$f":"IF(AZ652=3,G652,0)","v":0},{"$f":"IF(AZ652=4,G652,0)","v":0},{"$f":"IF(AZ652=5,G652,0)","v":0},null,null,null,null,null,null,null,null,null,null,null,null,null,null,null,null,null,null,null,null,null,3,1]
[null,null,"Řad \"A\" TLT DN80 a DN100:",null,0,null,null,null,null,null,null,null,"Řad \"A\" TLT DN80 a DN100:"]
[null,null,"Řad \"D\" TLT DN80:",null,0,null,null,null,null,null,null,null,"Řad \"D\" TLT DN80:"]
[null,null,"Řad \"E\" TLT DN80:",null,0,null,null,null,null,null,null,null,"Řad \"E\" TLT DN80:"]
[null,null,"Řad \"F\" TLT DN80:",null,0,null,null,null,null,null,null,null,"Řad \"F\" TLT DN80:"]
[null,null,"Řad \"G\" TLT DN80:",null,0,null,null,null,null,null,null,null,"Řad \"G\" TLT DN80:"]
[null,null,"EU DN80:12",null,12,null,null,null,null,null,null,null,"EU DN80:12"]
[80,"55259731.R","Tvar. přír. s hrdlem EU DN 100","kus",5,null,{"$f":"E659*F659","v":0},8.8000000000000005E-3,{"$f":"E659*H659","v":4.4000000000000004E-2},null,{"$f":"E659*J659","v":0},null,null,null,2,null,null,null,null,null,null,null,null,null,null,null,3,1,"55259731.R",null,null,null,null,null,null,null,null,null,null,null,null,null,null,null,null,null,null,null,null,null,null,1,{"$f":"IF(AZ659=1,G659,0)","v":0},{"$f":"IF(AZ659=2,G659,0)","v":0},{"$f":"IF(AZ659=3,G659,0)","v":0},{"$f":"IF(AZ659=4,G659,0)","v":0},{"$f":"IF(AZ659=5,G659,0)","v":0},null,null,null,null,null,null,null,null,null,null,null,null,null,null,null,null,null,null,null,null,null,3,1]
[null,null,"Řad \"A\" TLT DN80 a DN100:",null,0,null,null,null,null,null,null,null,"Řad \"A\" TLT DN80 a DN100:"]
[null,null,"EU DN100:5",null,5,null,null,null,null,null,null,null,"EU DN100:5"]
[81,"55259815","Přechod přír. FFR DN 100/ 80","kus",1,null,{"$f":"E662*F662","v":0},9.7999999999999997E-3,{"$f":"E662*H662","v":9.7999999999999997E-3},null,{"$f":"E662*J662","v":0},null,null,null,2,null,null,null,null,null,null,null,null,null,null,null,3,1,55259815,null,null,null,null,null,null,null,null,null,null,null,null,null,null,null,null,null,null,null,null,null,null,1,{"$f":"IF(AZ662=1,G662,0)","v":0},{"$f":"IF(AZ662=2,G662,0)","v":0},{"$f":"IF(AZ662=3,G662,0)","v":0},{"$f":"IF(AZ662=4,G662,0)","v":0},{"$f":"IF(AZ662=5,G662,0)","v":0},null,null,null,null,null,null,null,null,null,null,null,null,null,null,null,null,null,null,null,null,null,3,1]
[null,null,"Řad \"A\" TLT DN80 a DN100:",null,0,null,null,null,null,null,null,null,"Řad \"A\" TLT DN80 a DN100:"]
[null,null,"FFR DN100/80:1",null,1,null,null,null,null,null,null,null,"FFR DN100/80:1"]
[82,"552598330.R","Přechod přír. FFR DN 300/150","kus",2,null,{"$f":"E665*F665","v":0},3.5200000000000002E-2,{"$f":"E665*H665","v":7.0400000000000004E-2},null,{"$f":"E665*J665","v":0},null,null,null,2,null,null,null,null,null,null,null,null,null,null,null,3,1,"552598330.R",null,null,null,null,null,null,null,null,null,null,null,null,null,null,null,null,null,null,null,null,null,null,1,{"$f":"IF(AZ665=1,G665,0)","v":0},{"$f":"IF(AZ665=2,G665,0)","v":0},{"$f":"IF(AZ665=3,G665,0)","v":0},{"$f":"IF(AZ665=4,G665,0)","v":0},{"$f":"IF(AZ665=5,G665,0)","v":0},null,null,null,null,null,null,null,null,null,null,null,null,null,null,null,null,null,null,null,null,null,3,1]
[null,null,"Řad VV TLT DN150:",null,0,null,null,null,null,null,null,null,"Řad VV TLT DN150:"]
[null,null,"FFR DN300/150:2",null,2,null,null,null,null,null,null,null,"FFR DN300/150:2"]
[83,"552599939.R","Tvarovka přír. s přír. odb. T DN 80/80","kus",3,null,{"$f":"E668*F668","v":0},1.49E-2,{"$f":"E668*H668","v":4.4700000000000004E-2},null,{"$f":"E668*J668","v":0},null,null,null,2,null,null,null,null,null,null,null,null,null,null,null,3,1,"552599939.R",null,null,null,null,null,null,null,null,null,null,null,null,null,null,null,null,null,null,null,null,null,null,1,{"$f":"IF(AZ668=1,G668,0)","v":0},{"$f":"IF(AZ668=2,G668,0)","v":0},{"$f":"IF(AZ668=3,G668,0)","v":0},{"$f":"IF(AZ668=4,G668,0)","v":0},{"$f":"IF(AZ668=5,G668,0)","v":0},null,null,null,null,null,null,null,null,null,null,null,null,null,null,null,null,null,null,null,null,null,3,1]
[null,null,"Řad \"A\" TLT DN80 a DN100:",null,0,null,null,null,null,null,null,null,"Řad \"A\" TLT DN80 a DN100:"]
[null,null,"Řad \"D\" TLT DN80:",null,0,null,null,null,null,null,null,null,"Řad \"D\" TLT DN80:"]
[null,null,"Řad \"E\" TLT DN80:",null,0,null,null,null,null,null,null,null,"Řad \"E\" TLT DN80:"]
[null,null,"Řad \"F\" TLT DN80:",null,0,null,null,null,null,null,null,null,"Řad \"F\" TLT DN80:"]
[null,null,"Řad \"G\" TLT DN80:",null,0,null,null,null,null,null,null,null,"Řad \"G\" TLT DN80:"]
[null,null,"T DN80/80:3",null,3,null,null,null,null,null,null,null,"T DN80/80:3"]
[84,"552599943.R","Tvarovka přír. s přír. odb. T DN 100/80","kus",3,null,{"$f":"E675*F675","v":0},1.78E-2,{"$f":"E675*H675","v":5.3400000000000003E-2},null,{"$f":"E675*J675","v":0},null,null,null,2,null,null,null,null,null,null,null,null,null,null,null,3,1,"552599943.R",null,null,null,null,null,null,null,null,null,null,null,null,null,null,null,null,null,null,null,null,null,null,1,{"$f":"IF(AZ675=1,G675,0)","v":0},{"$f":"IF(AZ675=2,G675,0)","v":0},{"$f":"IF(AZ675=3,G675,0)","v":0},{"$f":"IF(AZ675=4,G675,0)","v":0},{"$f":"IF(AZ675=5,G675,0)","v":0},null,null,null,null,null,null,null,null,null,null,null,null,null,null,null,null,null,null,null,null,null,3,1]
[null,null,"Řad \"A\" TLT DN80 a DN100:",null,0,null,null,null,null,null,null,null,"Řad \"A\" TLT DN80 a DN100:"]
[null,null,"T DN100/80:3",null,3,null,null,null,null,null,null,null,"T DN100/80:3"]
[85,"5526009705.R","Koleno prodloužené přír.s patkou PPL DN 80","kus",2,null,{"$f":"E678*F678","v":0},1.2200000000000001E-2,{"$f":"E678*H678","v":2.4400000000000002E-2},null,{"$f":"E678*J678","v":0},null,null,null,2,null,null,null,null,null,null,null,null,null,null,null,3,1,"5526009705.R",null,null,null,null,null,null,null,null,null,null,null,null,null,null,null,null,null,null,null,null,null,null,1,{"$f":"IF(AZ678=1,G678,0)","v":0},{"$f":"IF(AZ678=2,G678,0)","v":0},{"$f":"IF(AZ678=3,G678,0)","v":0},{"$f":"IF(AZ678=4,G678,0)","v":0},{"$f":"IF(AZ678=5,G678,0)","v":0},null,null,null,null,null,null,null,null,null,null,null,null,null,null,null,null,null,null,null,null,null,3,1]
[null,null,"Řad \"A\" TLT DN80 a DN100:",null,0,null,null,null,null,null,null,null,"Řad \"A\" TLT DN80 a DN100:"]
[null,null,"Řad \"D\" TLT DN80:",null,0,null,null,null,null,null,null,null,"Řad \"D\" TLT DN80:"]
[null,null,"Řad \"E\" TLT DN80:",null,0,null,null,null,null,null,null,null,"Řad \"E\" TLT DN80:"]
[null,null,"Řad \"F\" TLT DN80:",null,0,null,null,null,null,null,null,null,"Řad \"F\" TLT DN80:"]
[null,null,"Řad \"G\" TLT DN80:",null,0,null,null,null,null,null,null,null,"Řad \"G\" TLT DN80:"]
[null,null,"PPL DN80:2",null,2,null,null,null,null,null,null,null,"PPL DN80:2"]
[null,"Celkem za","8 Trubní vedení",null,null,null,{"$f":"SUM(G311:G684)","v":0},null,{"$f":"SUM(I311:I684)","v":14.236227100000002},null,{"$f":"SUM(K311:K684)","v":0},null,null,null,4,null,null,null,null,null,null,null,null,null,null,null,null,null,null,null,null,null,null,null,null,null,null,null,null,null,null,null,null,null,null,null,null,null,null,null,null,null,{"$f":"SUM(BA311:BA684)","v":0},{"$f":"SUM(BB311:BB684)","v":0},{"$f":"SUM(BC311:BC684)","v":0},{"$f":"SUM(BD311:BD684)","v":0},{"$f":"SUM(BE311:BE684)","v":0}]
["Díl:","89","Ostatní konstrukce na trubním vedení",null,null,null,null,null,null,null,null,null,null,null,1]
[86,"899 01-0001.RRX","Provizorní vodovod PE100 RC1 D 63x5,8 mm včetně příslušných tvarovek a propojů","m",680,null,{"$f":"E687*F687","v":0},0,{"$f":"E687*H687","v":0},null,{"$f":"E687*J687","v":0},null,null,null,2,null,null,null,null,null,null,null,null,null,null,null,12,0,1,null,null,null,null,null,null,null,null,null,null,null,null,null,null,null,null,null,null,null,null,null,null,1,{"$f":"IF(AZ687=1,G687,0)","v":0},{"$f":"IF(AZ687=2,G687,0)","v":0},{"$f":"IF(AZ687=3,G687,0)","v":0},{"$f":"IF(AZ687=4,G687,0)","v":0},{"$f":"IF(AZ687=5,G687,0)","v":0},null,null,null,null,null,null,null,null,null,null,null,null,null,null,null,null,null,null,null,null,null,12,0]
[null,null,"Součástí položky je ",null,null,null,null,null,null,null,null,"Součástí položky je ",null,null,3]
[null,null,"- Dodávka a montáž příslušného potrubí ",null,null,null,null,null,null,null,null,"- Dodávka a montáž příslušného potrubí ",null,null,3]
[null,null,"- Dodávka a montáž propojovacích tvarovek a armatur dle zvolené technologie zhotovitelem potřebné pro provoz provizorního vodovou",null,null,null,null,null,null,null,null,"- Dodávka a montáž propojovacích tvarovek a armatur dle zvolené technologie zhotovitelem potřebné pro provoz provizorního vodovou",null,null,3]
[null,null,"- Přerušení stávajícího potrubí pro napojení provizorního vodovodu",null,null,null,null,null,null,null,null,"- Přerušení stávajícího potrubí pro napojení provizorního vodovodu",null,null,3]
[null,null,"- Provedení tlakové zkoušky včetně proplachu a desinfekce potrubí dle ČSN",null,null,null,null,null,null,null,null,"- Provedení tlakové zkoušky včetně proplachu a desinfekce potrubí dle ČSN",null,null,3]
[null,null,"- Potředné zemní práce pro provedení propojů včetně případného odstranění konstrukcí komunikací a chodníků a provizorní úprava povrchů v prostoru vedení provizorního vodovodu",null,null,null,null,null,null,null,null,"- Potředné zemní práce pro provedení propojů včetně případného odstranění konstrukcí komunikací a chodníků a provizorní úprava povrchů v prostoru vedení provizorního vodovodu",null,null,3]
[null,null,"- Demontáž a odpojení propojů provizorního vodovodu  včetně potřebných zemních prací.",null,null,null,null,null,null,null,null,"- Demontáž a odpojení propojů provizorního vodovodu  včetně potřebných zemních prací.",null,null,3]
[null,null,"- Likvidace veškerého materiálu provizorních vodovodů ",null,null,null,null,null,null,null,null,"- Likvidace veškerého materiálu provizorních vodovodů ",null,null,3]
[null,null,"- Součástí položky jsou i náklady na přesuny materiálů - Součástí položky jsou náklady zhotovitele na poplatky za skládky materiálu",null,null,null,null,null,null,null,null,"- Součástí položky jsou i náklady na přesuny materiálů - Součástí položky jsou náklady zhotovitele na poplatky za skládky materiálu",null,null,3]
[87,"899 02-0001.RRX","Provizorní VP PE100 RC1 D32x3,0 mm - délky do 10 m vč. příslušných tvarovek a armatur","soubor",18,null,{"$f":"E697*F697","v":0},0,{"$f":"E697*H697","v":0},null,{"$f":"E697*J697","v":0},null,null,null,2,null,null,null,null,null,null,null,null,null,null,null,12,0,2,null,null,null,null,null,null,null,null,null,null,null,null,null,null,null,null,null,null,null,null,null,null,1,{"$f":"IF(AZ697=1,G697,0)","v":0},{"$f":"IF(AZ697=2,G697,0)","v":0},{"$f":"IF(AZ697=3,G697,0)","v":0},{"$f":"IF(AZ697=4,G697,0)","v":0},{"$f":"IF(AZ697=5,G697,0)","v":0},null,null,null,null,null,null,null,null,null,null,null,null,null,null,null,null,null,null,null,null,null,12,0]
[null,null,"Součástí položky je ",null,null,null,null,null,null,null,null,"Součástí položky je ",null,null,3]
[null,null,"- Dodávka a montáž příslušného potrubí dle PD ",null,null,null,null,null,null,null,null,"- Dodávka a montáž příslušného potrubí dle PD ",null,null,3]
[null,null,"- Dodávka a montáž propojovacích tvarovek a armatur dle zvolené technologie zhotovitelem potřebné pro provoz provizorního propojení VP",null,null,null,null,null,null,null,null,"- Dodávka a montáž propojovacích tvarovek a armatur dle zvolené technologie zhotovitelem potřebné pro provoz provizorního propojení VP",null,null,3]
[null,null,"- Přerušení stávajícího potrubí přípojky",null,null,null,null,null,null,null,null,"- Přerušení stávajícího potrubí přípojky",null,null,3]
[null,null,"- Provedení tlakové zkoušky včetně proplachu a desinfekce potrubí dle ČSN",null,null,null,null,null,null,null,null,"- Provedení tlakové zkoušky včetně proplachu a desinfekce potrubí dle ČSN",null,null,3]
[null,null,"- Potředné zemní práce pro provedení propoje včetně případného odstranění konstrukcí komunikací a provizorní úprava povrchů v prostoru vedení provizorního vodovodu",null,null,null,null,null,null,null,null,"- Potředné zemní práce pro provedení propoje včetně případného odstranění konstrukcí komunikací a provizorní úprava povrchů v prostoru vedení provizorního vodovodu",null,null,3]
[null,null,"- Demontáž a odpojení propojů provizorní přípojky  včetně potřebných zemních prací.",null,null,null,null,null,null,null,null,"- Demontáž a odpojení propojů provizorní přípojky  včetně potřebných zemních prací.",null,null,3]
[null,null,"- Likvidace veškerého materiálu provizorních vodovodních přípojek",null,null,null,null,null,null,null,null,"- Likvidace veškerého materiálu provizorních vodovodních přípojek",null,null,3]
[null,null,"- Součástí položky jsou i náklady na přesuny materiálů - Součástí položky jsou náklady zhotovitele na poplatky za skládky materiálu",null,null,null,null,null,null,null,null,"- Součástí položky jsou i náklady na přesuny materiálů - Součástí položky jsou náklady zhotovitele na poplatky za skládky materiálu",null,null,3]
[null,"Celkem za","89 Ostatní konstrukce na trubním vedení",null,null,null,{"$f":"SUM(G686:G706)","v":0},null,{"$f":"SUM(I686:I706)","v":0},null,{"$f":"SUM(K686:K706)","v":0},null,null,null,4,null,null,null,null,null,null,null,null,null,null,null,null,null,null,null,null,null,null,null,null,null,null,null,null,null,null,null,null,null,null,null,null,null,null,null,null,null,{"$f":"SUM(BA686:BA706)","v":0},{"$f":"SUM(BB686:BB706)","v":0},{"$f":"SUM(BC686:BC706)","v":0},{"$f":"SUM(BD686:BD706)","v":0},{"$f":"SUM(BE686:BE706)","v":0}]
["Díl:","93","Dokončovací práce inženýrských staveb",null,null,null,null,null,null,null,null,null,null,null,1]
[88,"939421121RT1","Osazení samonivelač.vodovod.poklopu za finišerem bez dodávky poklopu","kus",48,null,{"$f":"E709*F709","v":0},5.2499999999999998E-2,{"$f":"E709*H709","v":2.52},0,{"$f":"E709*J709","v":0},null,null,null,2,null,null,null,null,null,null,null,null,null,null,null,1,0,0,null,null,null,null,null,null,null,null,null,null,null,null,null,null,null,null,null,null,null,null,null,null,1,{"$f":"IF(AZ709=1,G709,0)","v":0},{"$f":"IF(AZ709=2,G709,0)","v":0},{"$f":"IF(AZ709=3,G709,0)","v":0},{"$f":"IF(AZ709=4,G709,0)","v":0},{"$f":"IF(AZ709=5,G709,0)","v":0},null,null,null,null,null,null,null,null,null,null,null,null,null,null,null,null,null,null,null,null,null,1,0]
[null,null,"Položka obsahuje:",null,null,null,null,null,null,null,null,"Položka obsahuje:",null,null,3]
[null,null,"- osazení prefabrikovaného betonového prstence do rychletuhnoucí malty (s dodávkou hmot)",null,null,null,null,null,null,null,null,"- osazení prefabrikovaného betonového prstence do rychletuhnoucí malty (s dodávkou hmot)",null,null,3]
[null,null,"- zalití prstence rychletuhnoucí zálivkou do výše prstence (s dodávkou hmoty)",null,null,null,null,null,null,null,null,"- zalití prstence rychletuhnoucí zálivkou do výše prstence (s dodávkou hmoty)",null,null,3]
[null,null,"- vložení kruhového bednění",null,null,null,null,null,null,null,null,"- vložení kruhového bednění",null,null,3]
[null,null,"- doplnění mezikruží asfaltovou směsí do výšky současné podkladní vrstvy, zhutnění",null,null,null,null,null,null,null,null,"- doplnění mezikruží asfaltovou směsí do výšky současné podkladní vrstvy, zhutnění",null,null,3]
[null,null,"- vyjmutí kruhového bednění",null,null,null,null,null,null,null,null,"- vyjmutí kruhového bednění",null,null,3]
[null,null,"- osazení poklopu a zatlačení",null,null,null,null,null,null,null,null,"- osazení poklopu a zatlačení",null,null,3]
[null,null,"  (následuje pokládka finální vrstvy vozovky - není součástí položky)",null,null,null,null,null,null,null,null,"  (následuje pokládka finální vrstvy vozovky - není součástí položky)",null,null,3]
[null,null,"- povytažení poklopu",null,null,null,null,null,null,null,null,"- povytažení poklopu",null,null,3]
[null,null,"- podsyp asfaltovou směsí, spuštění poklopu a zhutnění směsi",null,null,null,null,null,null,null,null,"- podsyp asfaltovou směsí, spuštění poklopu a zhutnění směsi",null,null,3]
[null,null,"Položka neobsahuje:",null,null,null,null,null,null,null,null,"Položka neobsahuje:",null,null,3]
[null,null,"- dodávku samonivelačního poklopu - oceňuje se ve specifikaci",null,null,null,null,null,null,null,null,"- dodávku samonivelačního poklopu - oceňuje se ve specifikaci",null,null,3]
[null,null,"- pokládku krycí vrstvy komunikace, oceňuje se samostatně",null,null,null,null,null,null,null,null,"- pokládku krycí vrstvy komunikace, oceňuje se samostatně",null,null,3]
[null,null,"Řad \"A\" TLT DN80 a DN100:",null,0,null,null,null,null,null,null,null,"Řad \"A\" TLT DN80 a DN100:"]
[null,null,"Řad \"D\" TLT DN80:",null,0,null,null,null,null,null,null,null,"Řad \"D\" TLT DN80:"]
[null,null,"Řad \"E\" TLT DN80:",null,0,null,null,null,null,null,null,null,"Řad \"E\" TLT DN80:"]
[null,null,"Řad \"F\" TLT DN80:",null,0,null,null,null,null,null,null,null,"Řad \"F\" TLT DN80:"]
[null,null,"Řad \"G\" TLT DN80:",null,0,null,null,null,null,null,null,null,"Řad \"G\" TLT DN80:"]
[null,null,"VP PE D32x3,0 mm (27 kusů):27",null,27,null,null,null,null,null,null,null,"VP PE D32x3,0 mm (27 kusů):27"]
[null,null,"Š DN80:16",null,16,null,null,null,null,null,null,null,"Š DN80:16"]
[null,null,"Š DN100:5",null,5,null,null,null,null,null,null,null,"Š DN100:5"]
[89,"939421131RT1","Osazení samonivelač.hydrant.poklopu za finišerem bez dodávky poklopu","kus",2,null,{"$f":"E731*F731","v":0},6.8250000000000005E-2,{"$f":"E731*H731","v":0.13650000000000001},0,{"$f":"E731*J731","v":0},null,null,null,2,null,null,null,null,null,null,null,null,null,null,null,1,1,1,null,null,null,null,null,null,null,null,null,null,null,null,null,null,null,null,null,null,null,null,null,null,1,{"$f":"IF(AZ731=1,G731,0)","v":0},{"$f":"IF(AZ731=2,G731,0)","v":0},{"$f":"IF(AZ731=3,G731,0)","v":0},{"$f":"IF(AZ731=4,G731,0)","v":0},{"$f":"IF(AZ731=5,G731,0)","v":0},null,null,null,null,null,null,null,null,null,null,null,null,null,null,null,null,null,null,null,null,null,1,1]
[null,null,"Položka obsahuje:",null,null,null,null,null,null,null,null,"Položka obsahuje:",null,null,3]
[null,null,"- osazení prefabrikovaného betonového prstence do rychletuhnoucí malty (s dodávkou hmot)",null,null,null,null,null,null,null,null,"- osazení prefabrikovaného betonového prstence do rychletuhnoucí malty (s dodávkou hmot)",null,null,3]
[null,null,"- zalití prstence rychletuhnoucí zálivkou do výše prstence (s dodávkou hmoty)",null,null,null,null,null,null,null,null,"- zalití prstence rychletuhnoucí zálivkou do výše prstence (s dodávkou hmoty)",null,null,3]
[null,null,"- vložení kruhového bednění",null,null,null,null,null,null,null,null,"- vložení kruhového bednění",null,null,3]
[null,null,"- doplnění mezikruží asfaltovou směsí do výšky současné podkladní vrstvy, zhutnění",null,null,null,null,null,null,null,null,"- doplnění mezikruží asfaltovou směsí do výšky současné podkladní vrstvy, zhutnění",null,null,3]
[null,null,"- vyjmutí kruhového bednění",null,null,null,null,null,null,null,null,"- vyjmutí kruhového bednění",null,null,3]
[null,null,"- osazení poklopu a zatlačení",null,null,null,null,null,null,null,null,"- osazení poklopu a zatlačení",null,null,3]
[null,null,"  (následuje pokládka finální vrstvy vozovky - není součástí položky)",null,null,null,null,null,null,null,null,"  (následuje pokládka finální vrstvy vozovky - není součástí položky)",null,null,3]
[null,null,"- povytažení poklopu",null,null,null,null,null,null,null,null,"- povytažení poklopu",null,null,3]
[null,null,"- podsyp asfaltovou směsí, spuštění poklopu a zhutnění směsi",null,null,null,null,null,null,null,null,"- podsyp asfaltovou směsí, spuštění poklopu a zhutnění směsi",null,null,3]
[null,null,"Položka neobsahuje:",null,null,null,null,null,null,null,null,"Položka neobsahuje:",null,null,3]
[null,null,"- dodávku samonivelačního poklopu - oceňuje se ve specifikaci",null,null,null,null,null,null,null,null,"- dodávku samonivelačního poklopu - oceňuje se ve specifikaci",null,null,3]
[null,null,"- pokládku krycí vrstvy komunikace, oceňuje se samostatně",null,null,null,null,null,null,null,null,"- pokládku krycí vrstvy komunikace, oceňuje se samostatně",null,null,3]
[null,null,"Řad \"A\" TLT DN80 a DN100:",null,0,null,null,null,null,null,null,null,"Řad \"A\" TLT DN80 a DN100:"]
[null,null,"Řad \"D\" TLT DN80:",null,0,null,null,null,null,null,null,null,"Řad \"D\" TLT DN80:"]
[null,null,"Řad \"E\" TLT DN80:",null,0,null,null,null,null,null,null,null,"Řad \"E\" TLT DN80:"]
[null,null,"Řad \"F\" TLT DN80:",null,0,null,null,null,null,null,null,null,"Řad \"F\" TLT DN80:"]
[null,null,"Řad \"G\" TLT DN80:",null,0,null,null,null,null,null,null,null,"Řad \"G\" TLT DN80:"]
[null,null,"Hp DN80/1,5:2",null,2,null,null,null,null,null,null,null,"Hp DN80/1,5:2"]
[90,"422913520.R","Poklop luliční samonivelační přípojkový D400","kus",27,null,{"$f":"E751*F751","v":0},1.2E-2,{"$f":"E751*H751","v":0.32400000000000001},null,{"$f":"E751*J751","v":0},null,null,null,2,null,null,null,null,null,null,null,null,null,null,null,3,1,"422913520.R",null,null,null,null,null,null,null,null,null,null,null,null,null,null,null,null,null,null,null,null,null,null,1,{"$f":"IF(AZ751=1,G751,0)","v":0},{"$f":"IF(AZ751=2,G751,0)","v":0},{"$f":"IF(AZ751=3,G751,0)","v":0},{"$f":"IF(AZ751=4,G751,0)","v":0},{"$f":"IF(AZ751=5,G751,0)","v":0},null,null,null,null,null,null,null,null,null,null,null,null,null,null,null,null,null,null,null,null,null,3,1]
[null,null,"Uliční samonivelační poklop přípojkový z tvárné litiny dle ČSN EN 124",null,null,null,null,null,null,null,null,"Uliční samonivelační poklop přípojkový z tvárné litiny dle ČSN EN 124",null,null,3]
[null,null,"Rozpětí stavební výšky 195 - 285 mm s fixací polohy",null,null,null,null,null,null,null,null,"Rozpětí stavební výšky 195 - 285 mm s fixací polohy",null,null,3]
[null,null,"Výklopové víko spojeno s rámem čepem a opatřeno ochrannou a těsnící vrstvou proti vnikání nečistot",null,null,null,null,null,null,null,null,"Výklopové víko spojeno s rámem čepem a opatřeno ochrannou a těsnící vrstvou proti vnikání nečistot",null,null,3]
[null,null,"Tlumicí vložka z elastomeru a PUR",null,null,null,null,null,null,null,null,"Tlumicí vložka z elastomeru a PUR",null,null,3]
[null,null,"Možnost vlastního loga a barevného provedení",null,null,null,null,null,null,null,null,"Možnost vlastního loga a barevného provedení",null,null,3]
[null,null,"Řad \"A\" TLT DN80 a DN100:",null,0,null,null,null,null,null,null,null,"Řad \"A\" TLT DN80 a DN100:"]
[null,null,"Řad \"D\" TLT DN80:",null,0,null,null,null,null,null,null,null,"Řad \"D\" TLT DN80:"]
[null,null,"Řad \"E\" TLT DN80:",null,0,null,null,null,null,null,null,null,"Řad \"E\" TLT DN80:"]
[null,null,"Řad \"F\" TLT DN80:",null,0,null,null,null,null,null,null,null,"Řad \"F\" TLT DN80:"]
[null,null,"Řad \"G\" TLT DN80:",null,0,null,null,null,null,null,null,null,"Řad \"G\" TLT DN80:"]
[null,null,"VP PE D32x3,0 mm (27 kusů):27",null,27,null,null,null,null,null,null,null,"VP PE D32x3,0 mm (27 kusů):27"]
[91,"422913521.R","Poklop litinový samonivelační šoupátkový D400","kus",21,null,{"$f":"E763*F763","v":0},1.2E-2,{"$f":"E763*H763","v":0.252},null,{"$f":"E763*J763","v":0},null,null,null,2,null,null,null,null,null,null,null,null,null,null,null,3,1,"422913521.R",null,null,null,null,null,null,null,null,null,null,null,null,null,null,null,null,null,null,null,null,null,null,1,{"$f":"IF(AZ763=1,G763,0)","v":0},{"$f":"IF(AZ763=2,G763,0)","v":0},{"$f":"IF(AZ763=3,G763,0)","v":0},{"$f":"IF(AZ763=4,G763,0)","v":0},{"$f":"IF(AZ763=5,G763,0)","v":0},null,null,null,null,null,null,null,null,null,null,null,null,null,null,null,null,null,null,null,null,null,3,1]
[null,null,"Uliční samonivelační šoupátkový poklop z tvárné litiny dle ČSN EN 124",null,null,null,null,null,null,null,null,"Uliční samonivelační šoupátkový poklop z tvárné litiny dle ČSN EN 124",null,null,3]
[null,null,"Rozpětí stavební výšky 195 - 285 mm s fixací polohy",null,null,null,null,null,null,null,null,"Rozpětí stavební výšky 195 - 285 mm s fixací polohy",null,null,3]
[null,null,"Výklopové víko spojeno s rámem čepem a opatřeno ochrannou a těsnící vrstvou proti vnikání nečistot",null,null,null,null,null,null,null,null,"Výklopové víko spojeno s rámem čepem a opatřeno ochrannou a těsnící vrstvou proti vnikání nečistot",null,null,3]
[null,null,"Tlumicí vložka z elastomeru a PUR",null,null,null,null,null,null,null,null,"Tlumicí vložka z elastomeru a PUR",null,null,3]
[null,null,"Možnost vlastního loga a barevného provedení",null,null,null,null,null,null,null,null,"Možnost vlastního loga a barevného provedení",null,null,3]
[null,null,"Řad \"A\" TLT DN80 a DN100:",null,0,null,null,null,null,null,null,null,"Řad \"A\" TLT DN80 a DN100:"]
[null,null,"Řad \"D\" TLT DN80:",null,0,null,null,null,null,null,null,null,"Řad \"D\" TLT DN80:"]
[null,null,"Řad \"E\" TLT DN80:",null,0,null,null,null,null,null,null,null,"Řad \"E\" TLT DN80:"]
[null,null,"Řad \"F\" TLT DN80:",null,0,null,null,null,null,null,null,null,"Řad \"F\" TLT DN80:"]
[null,null,"Řad \"G\" TLT DN80:",null,0,null,null,null,null,null,null,null,"Řad \"G\" TLT DN80:"]
[null,null,"Š DN80:16",null,16,null,null,null,null,null,null,null,"Š DN80:16"]
[null,null,"Š DN100:5",null,5,null,null,null,null,null,null,null,"Š DN100:5"]
[92,"422914522.R","Poklop litinový hydrantový samonivelační D400","kus",2,null,{"$f":"E776*F776","v":0},2.4E-2,{"$f":"E776*H776","v":4.8000000000000001E-2},null,{"$f":"E776*J776","v":0},null,null,null,2,null,null,null,null,null,null,null,null,null,null,null,3,1,"422914522.R",null,null,null,null,null,null,null,null,null,null,null,null,null,null,null,null,null,null,null,null,null,null,1,{"$f":"IF(AZ776=1,G776,0)","v":0},{"$f":"IF(AZ776=2,G776,0)","v":0},{"$f":"IF(AZ776=3,G776,0)","v":0},{"$f":"IF(AZ776=4,G776,0)","v":0},{"$f":"IF(AZ776=5,G776,0)","v":0},null,null,null,null,null,null,null,null,null,null,null,null,null,null,null,null,null,null,null,null,null,3,1]
[null,null,"Uliční samonivelační hydrantový poklop z tvárné litiny dle ČSN EN 124",null,null,null,null,null,null,null,null,"Uliční samonivelační hydrantový poklop z tvárné litiny dle ČSN EN 124",null,null,3]
[null,null,"Rozpětí stavební výšky 200 - 285 mm s fixací polohy",null,null,null,null,null,null,null,null,"Rozpětí stavební výšky 200 - 285 mm s fixací polohy",null,null,3]
[null,null,"Výklopové víko spojeno s rámem čepem a opatřeno ochrannou a těsnící vrstvou proti vnikání nečistot",null,null,null,null,null,null,null,null,"Výklopové víko spojeno s rámem čepem a opatřeno ochrannou a těsnící vrstvou proti vnikání nečistot",null,null,3]
[null,null,"Tlumicí vložka z elastomeru a PUR",null,null,null,null,null,null,null,null,"Tlumicí vložka z elastomeru a PUR",null,null,3]
[null,null,"Možnost vlastního loga a barevného provedení",null,null,null,null,null,null,null,null,"Možnost vlastního loga a barevného provedení",null,null,3]
[null,null,"Řad \"A\" TLT DN80 a DN100:",null,0,null,null,null,null,null,null,null,"Řad \"A\" TLT DN80 a DN100:"]
[null,null,"Řad \"D\" TLT DN80:",null,0,null,null,null,null,null,null,null,"Řad \"D\" TLT DN80:"]
[null,null,"Řad \"E\" TLT DN80:",null,0,null,null,null,null,null,null,null,"Řad \"E\" TLT DN80:"]
[null,null,"Řad \"F\" TLT DN80:",null,0,null,null,null,null,null,null,null,"Řad \"F\" TLT DN80:"]
[null,null,"Řad \"G\" TLT DN80:",null,0,null,null,null,null,null,null,null,"Řad \"G\" TLT DN80:"]
[null,null,"Hp DN80/1,5:2",null,2,null,null,null,null,null,null,null,"Hp DN80/1,5:2"]
[null,"Celkem za","93 Dokončovací práce inženýrských staveb",null,null,null,{"$f":"SUM(G708:G787)","v":0},null,{"$f":"SUM(I708:I787)","v":3.2805},null,{"$f":"SUM(K708:K787)","v":0},null,null,null,4,null,null,null,null,null,null,null,null,null,null,null,null,null,null,null,null,null,null,null,null,null,null,null,null,null,null,null,null,null,null,null,null,null,null,null,null,null,{"$f":"SUM(BA708:BA787)","v":0},{"$f":"SUM(BB708:BB787)","v":0},{"$f":"SUM(BC708:BC787)","v":0},{"$f":"SUM(BD708:BD787)","v":0},{"$f":"SUM(BE708:BE787)","v":0}]
["Díl:","99","Staveništní přesun hmot",null,null,null,null,null,null,null,null,null,null,null,1]
[93,"998273101R00","Přesun hmot, trubní vedení litinové, otevř. výkop ","t",2695.9525235999999,null,{"$f":"E790*F790","v":0},0,{"$f":"E790*H790","v":0},null,{"$f":"E790*J790","v":0},null,null,null,2,null,null,null,null,null,null,null,null,null,null,null,7,1,2,null,null,null,null,null,null,null,null,null,null,null,null,null,null,null,null,null,null,null,null,null,null,1,{"$f":"IF(AZ790=1,G790,0)","v":0},{"$f":"IF(AZ790=2,G790,0)","v":0},{"$f":"IF(AZ790=3,G790,0)","v":0},{"$f":"IF(AZ790=4,G790,0)","v":0},{"$f":"IF(AZ790=5,G790,0)","v":0},null,null,null,null,null,null,null,null,null,null,null,null,null,null,null,null,null,null,null,null,null,7,1]
[null,"Celkem za","99 Staveništní přesun hmot",null,null,null,{"$f":"SUM(G789:G790)","v":0},null,{"$f":"SUM(I789:I790)","v":0},null,{"$f":"SUM(K789:K790)","v":0},null,null,null,4,null,null,null,null,null,null,null,null,null,null,null,null,null,null,null,null,null,null,null,null,null,null,null,null,null,null,null,null,null,null,null,null,null,null,null,null,null,{"$f":"SUM(BA789:BA790)","v":0},{"$f":"SUM(BB789:BB790)","v":0},{"$f":"SUM(BC789:BC790)","v":0},{"$f":"SUM(BD789:BD790)","v":0},{"$f":"SUM(BE789:BE790)","v":0}]

{"sheet":"II. 03 II. 03 KL","index":22,"n_rows":45,"n_cols":8,"rows_kept":45,"cut":false,"hidden":false,"merged":[[45,1,45,6],[46,1,46,6],[47,1,47,6],[48,1,48,6],[49,1,49,6],[50,1,50,6],[29,5,29,6],[30,5,30,6],[31,5,31,6],[32,5,32,6],[33,5,33,6],[36,1,44,6],[7,2,7,4],[8,2,8,4],[9,2,9,4],[10,2,10,4],[11,2,11,4],[22,0,22,1]]}
["POLOŽKOVÝ ROZPOČET"]
["Rozpočet",null,"II. 03","Přepojení vod. a kanal. přípojek",null,"JKSO ","827"]
[]
["Objekt",null,null,null,null,"SKP "]
["II. 03",null,"Přepojení vod. a kanal. přípojek",null,null,"Měrná jednotka","m"]
["Stavba",null,null,null,null,"Počet jednotek",0]
["3334",null,"Lomnice nad Popelkou - Vodovod a kanalizace",null,null,"Náklady na m.j.",{"$f":"IF(G6=0,,ROUND((F30+F32)/G6,1))","v":0}]
["Projektant",null,"VEDU VODU s.r.o. Dobrovice",null,null,"Typ rozpočtu"]
["Zpracovatel projektu"]
["Objednatel",null,"Vodohospodářské sdružení Turnov"]
["Dodavatel",null,".",null,null,"Zakázkové číslo "]
["Rozpočtoval",null,null,null,null,"Počet listů"]
["ROZPOČTOVÉ NÁKLADY"]
["Základní rozpočtové náklady"]
[null,"HSV celkem",{"$f":"'II. 03 II. 03 Rek'!E12","v":0}]
["Z","PSV celkem",{"$f":"'II. 03 II. 03 Rek'!F12","v":0}]
["R","M práce celkem",{"$f":"'II. 03 II. 03 Rek'!H12","v":0}]
["N","M dodávky celkem",{"$f":"'II. 03 II. 03 Rek'!G12","v":0}]
["ZRN celkem",null,{"$f":"SUM(C15:C18)","v":0}]
[]
["HZS",null,{"$f":"'II. 03 II. 03 Rek'!I12","v":0}]
["ZRN+HZS",null,{"$f":"C19+C21","v":0}]
["ZRN+ost.náklady+HZS",null,{"$f":"C22+G23","v":0}]
["Vypracoval",null,null,"Za zhotovitele",null,"Za objednatele"]
["Jméno :",null,null,"Jméno :",null,"Jméno :"]
["Datum :",null,null,"Datum :",null,"Datum :"]
[]
["Podpis :",null,null,"Podpis:",null,"Podpis:"]
[]
["Základ pro DPH",null,21,"%  ",null,{"$f":"C23-F32","v":0}]
["DPH",null,{"$f":"C30","v":21},"% ",null,{"$f":"ROUND(PRODUCT(F30,C31/100),0)","v":0}]
["Základ pro DPH",null,0,"% ",null,0]
["DPH",null,{"$f":"C32","v":0},"% ",null,{"$f":"ROUND(PRODUCT(F32,C33/100),0)","v":0}]
["CENA ZA OBJEKT CELKEM",null,null,null,null,{"$f":"ROUND(SUM(F30:F33),0)","v":0}]
[]
["Poznámka :",null,null,null,null,null,null," "]
[null,null,null,null,null,null,null," "]
[null,null,null,null,null,null,null," "]
[null,null,null,null,null,null,null," "]
[null,null,null,null,null,null,null," "]
[null,null,null,null,null,null,null," "]
[null,null,null,null,null,null,null," "]
[null,null,null,null,null,null,null," "]
[null,null,null,null,null,null,null," "]
[null,null,null,null,null,null,null," "]

{"sheet":"II. 03 II. 03 Rek","index":23,"n_rows":12,"n_cols":9,"rows_kept":12,"cut":false,"hidden":false,"merged":[[0,0,0,1],[1,0,1,1],[1,6,1,8]]}
["Stavba :",null,"3334 Lomnice nad Popelkou - Vodovod a kanalizace",null,null,null,"Rozpočet :","II. 03"]
["Objekt :",null,"II. 03 Přepojení vod. a kanal. přípojek",null,null,null,"Přepojení vod. a kanal. přípojek"]
[]
["REKAPITULACE  STAVEBNÍCH  DÍLŮ"]
[]
[null,"Stavební díl",null,null,"HSV","PSV","Dodávka","Montáž","HZS"]
[{"$f":"'II. 03 II. 03 Pol'!B7","v":"1"},{"$f":"'II. 03 II. 03 Pol'!C7","v":"Zemní práce"},null,null,{"$f":"'II. 03 II. 03 Pol'!BA178","v":0},{"$f":"'II. 03 II. 03 Pol'!BB178","v":0},{"$f":"'II. 03 II. 03 Pol'!BC178","v":0},{"$f":"'II. 03 II. 03 Pol'!BD178","v":0},{"$f":"'II. 03 II. 03 Pol'!BE178","v":0}]
[{"$f":"'II. 03 II. 03 Pol'!B179","v":"45"},{"$f":"'II. 03 II. 03 Pol'!C179","v":"Podkladní a vedlejší konstrukce"},null,null,{"$f":"'II. 03 II. 03 Pol'!BA184","v":0},{"$f":"'II. 03 II. 03 Pol'!BB184","v":0},{"$f":"'II. 03 II. 03 Pol'!BC184","v":0},{"$f":"'II. 03 II. 03 Pol'!BD184","v":0},{"$f":"'II. 03 II. 03 Pol'!BE184","v":0}]
[{"$f":"'II. 03 II. 03 Pol'!B185","v":"5"},{"$f":"'II. 03 II. 03 Pol'!C185","v":"Komunikace"},null,null,{"$f":"'II. 03 II. 03 Pol'!BA194","v":0},{"$f":"'II. 03 II. 03 Pol'!BB194","v":0},{"$f":"'II. 03 II. 03 Pol'!BC194","v":0},{"$f":"'II. 03 II. 03 Pol'!BD194","v":0},{"$f":"'II. 03 II. 03 Pol'!BE194","v":0}]
[{"$f":"'II. 03 II. 03 Pol'!B195","v":"8"},{"$f":"'II. 03 II. 03 Pol'!C195","v":"Trubní vedení"},null,null,{"$f":"'II. 03 II. 03 Pol'!BA275","v":0},{"$f":"'II. 03 II. 03 Pol'!BB275","v":0},{"$f":"'II. 03 II. 03 Pol'!BC275","v":0},{"$f":"'II. 03 II. 03 Pol'!BD275","v":0},{"$f":"'II. 03 II. 03 Pol'!BE275","v":0}]
[{"$f":"'II. 03 II. 03 Pol'!B276","v":"99"},{"$f":"'II. 03 II. 03 Pol'!C276","v":"Staveništní přesun hmot"},null,null,{"$f":"'II. 03 II. 03 Pol'!BA278","v":0},{"$f":"'II. 03 II. 03 Pol'!BB278","v":0},{"$f":"'II. 03 II. 03 Pol'!BC278","v":0},{"$f":"'II. 03 II. 03 Pol'!BD278","v":0},{"$f":"'II. 03 II. 03 Pol'!BE278","v":0}]
[null,"CELKEM  OBJEKT",null,null,{"$f":"SUM(E7:E11)","v":0},{"$f":"SUM(F7:F11)","v":0},{"$f":"SUM(G7:G11)","v":0},{"$f":"SUM(H7:H11)","v":0},{"$f":"SUM(I7:I11)","v":0}]

{"sheet":"II. 03 II. 03 Pol","index":24,"n_rows":278,"n_cols":80,"rows_kept":278,"cut":false,"hidden":false,"merged":[[272,2,272,3],[265,2,265,3],[267,2,267,6],[268,2,268,6],[269,2,269,6],[270,2,270,6],[271,2,271,6],[257,2,257,6],[258,2,258,6],[259,2,259,6],[260,2,260,6],[261,2,261,3],[263,2,263,3],[249,2,249,3],[251,2,251,6],[252,2,252,3],[253,2,253,3],[255,2,255,6],[256,2,256,6],[240,2,240,6],[242,2,242,6],[244,2,244,6],[245,2,245,3],[247,2,247,3],[248,2,248,3],[233,2,233,3],[235,2,235,6],[236,2,236,6],[237,2,237,6],[238,2,238,6],[239,2,239,6],[225,2,225,3],[227,2,227,6],[228,2,228,6],[229,2,229,6],[230,2,230,6],[231,2,231,3],[217,2,217,3],[219,2,219,6],[220,2,220,3],[221,2,221,3],[223,2,223,6],[224,2,224,3],[208,2,208,6],[210,2,210,6],[211,2,211,3],[213,2,213,6],[214,2,214,3],[216,2,216,6],[196,2,196,6],[197,2,197,3],[199,2,199,6],[200,2,200,3],[202,2,202,6],[203,2,203,3],[205,2,205,6],[206,2,206,3],[186,2,186,3],[187,2,187,3],[188,2,188,3],[190,2,190,3],[191,2,191,3],[192,2,192,3],[176,2,176,3],[180,2,180,3],[181,2,181,3],[182,2,182,3],[170,2,170,3],[171,2,171,3],[172,2,172,3],[173,2,173,3],[174,2,174,3],[175,2,175,3],[163,2,163,3],[165,2,165,3],[166,2,166,3],[167,2,167,3],[168,2,168,3],[169,2,169,3],[156,2,156,6],[157,2,157,6],[158,2,158,6],[159,2,159,6],[161,2,161,3],[162,2,162,3],[148,2,148,6],[149,2,149,6],[151,2,151,6],[152,2,152,6],[153,2,153,6],[154,2,154,6],[137,2,137,3],[141,2,141,6],[143,2,143,6],[144,2,144,6],[145,2,145,6],[147,2,147,6],[129,2,129,3],[131,2,131,3],[132,2,132,3],[133,2,133,3],[135,2,135,3],[136,2,136,3],[122,2,122,3],[123,2,123,3],[124,2,124,3],[125,2,125,3],[127,2,127,3],[128,2,128,3],[116,2,116,3],[117,2,117,3],[118,2,118,3],[119,2,119,3],[120,2,120,3],[121,2,121,3],[110,2,110,3],[111,2,111,3],[112,2,112,3],[113,2,113,3],[114,2,114,3],[115,2,115,3],[105,2,105,3],[106,2,106,3],[107,2,107,3],[108,2,108,3],[109,2,109,3],[97,2,97,3],[98,2,98,3],[100,2,100,3],[101,2,101,3],[102,2,102,3],[104,2,104,6],[89,2,89,3],[90,2,90,3],[92,2,92,3],[93,2,93,3],[94,2,94,3],[96,2,96,3],[83,2,83,3],[84,2,84,3],[85,2,85,3],[86,2,86,3],[87,2,87,3],[88,2,88,3],[76,2,76,3],[77,2,77,3],[78,2,78,3],[79,2,79,3],[81,2,81,6],[82,2,82,3],[69,2,69,3],[71,2,71,3],[72,2,72,3],[73,2,73,3],[74,2,74,3],[75,2,75,3],[63,2,63,3],[64,2,64,3],[65,2,65,3],[66,2,66,3],[67,2,67,3],[68,2,68,3],[56,2,56,3],[57,2,57,3],[58,2,58,3],[60,2,60,6],[61,2,61,3],[62,2,62,3],[50,2,50,3],[51,2,51,3],[52,2,52,3],[53,2,53,3],[54,2,54,3],[55,2,55,3],[43,2,43,3],[44,2,44,3],[45,2,45,3],[46,2,46,3],[47,2,47,3],[48,2,48,3],[37,2,37,3],[39,2,39,6],[40,2,40,3],[41,2,41,3],[42,2,42,3],[31,2,31,3],[32,2,32,3],[33,2,33,3],[34,2,34,3],[35,2,35,3],[36,2,36,3],[24,2,24,3],[25,2,25,3],[26,2,26,3],[28,2,28,6],[29,2,29,3],[30,2,30,3],[13,2,13,3],[14,2,14,3],[16,2,16,6],[18,2,18,6],[19,2,19,6],[23,2,23,3],[0,0,0,6],[2,0,2,1],[3,0,3,1],[3,4,3,6],[8,2,8,3],[9,2,9,3],[10,2,10,3],[12,2,12,3]]}
["Položkový rozpočet "]
[]
["Stavba :",null,"3334 Lomnice nad Popelkou - Vodovod a kanalizace",null,"Rozpočet:",{"$f":"'II. 03 II. 03 Rek'!H1","v":"II. 03"}]
["Objekt :",null,"II. 03 Přepojení vod. a kanal. přípojek",null,{"$f":"'II. 03 II. 03 Rek'!G2","v":"Přepojení vod. a kanal. přípojek"}]
[]
["P.č.","Číslo položky","Název položky","MJ","množství","cena / MJ","celkem (Kč)","Jednotková hmotnost","Celková hmotnost","Jednotková dem.hmot.","Celková dem.hmot."]
["Díl:","1","Zemní práce",null,null,null,null,null,null,null,null,null,null,null,1]
[1,"113107625R00","Odstranění podkladu nad 50 m2,kam.drcené tl.25 cm ","m2",142.47999999999999,null,{"$f":"E8*F8","v":0},0,{"$f":"E8*H8","v":0},-0.55000000000000004,{"$f":"E8*J8","v":-78.364000000000004},null,null,null,2,null,null,null,null,null,null,null,null,null,null,null,1,1,1,null,null,null,null,null,null,null,null,null,null,null,null,null,null,null,null,null,null,null,null,null,null,1,{"$f":"IF(AZ8=1,G8,0)","v":0},{"$f":"IF(AZ8=2,G8,0)","v":0},{"$f":"IF(AZ8=3,G8,0)","v":0},{"$f":"IF(AZ8=4,G8,0)","v":0},{"$f":"IF(AZ8=5,G8,0)","v":0},null,null,null,null,null,null,null,null,null,null,null,null,null,null,null,null,null,null,null,null,null,1,1]
[null,null,"KP PVC DN150 (14 kusů) (Průměrná hloubka výkopů 2,00 m):69,90*0,80",null,55.92,null,null,null,null,null,null,null,"KP PVC DN150 (14 kusů) (Průměrná hloubka výkopů 2,00 m):69,90*0,80"]
[null,null,"VP PE D 32x3,0 mm (27 kusů) (Průměrná hloubka výkopů 1,65 m):103,10*0,80",null,82.48,null,null,null,null,null,null,null,"VP PE D 32x3,0 mm (27 kusů) (Průměrná hloubka výkopů 1,65 m):103,10*0,80"]
[null,null,"VP PE D 90x8,2 mm (1 kus) (Průměrná hloubka výkopů 1,65 m):5,10*0,80",null,4.08,null,null,null,null,null,null,null,"VP PE D 90x8,2 mm (1 kus) (Průměrná hloubka výkopů 1,65 m):5,10*0,80"]
[2,"113108415R00","Odstranění asfaltové vrstvy pl.nad 50 m2, tl.15 cm ","m2",142.47999999999999,null,{"$f":"E12*F12","v":0},0,{"$f":"E12*H12","v":0},-0.33,{"$f":"E12*J12","v":-47.0184},null,null,null,2,null,null,null,null,null,null,null,null,null,null,null,1,1,1,null,null,null,null,null,null,null,null,null,null,null,null,null,null,null,null,null,null,null,null,null,null,1,{"$f":"IF(AZ12=1,G12,0)","v":0},{"$f":"IF(AZ12=2,G12,0)","v":0},{"$f":"IF(AZ12=3,G12,0)","v":0},{"$f":"IF(AZ12=4,G12,0)","v":0},{"$f":"IF(AZ12=5,G12,0)","v":0},null,null,null,null,null,null,null,null,null,null,null,null,null,null,null,null,null,null,null,null,null,1,1]
[null,null,"KP PVC DN150 (14 kusů) (Průměrná hloubka výkopů 2,00 m):69,90*0,80",null,55.92,null,null,null,null,null,null,null,"KP PVC DN150 (14 kusů) (Průměrná hloubka výkopů 2,00 m):69,90*0,80"]
[null,null,"VP PE D 32x3,0 mm (27 kusů) (Průměrná hloubka výkopů 1,65 m):103,10*0,80",null,82.48,null,null,null,null,null,null,null,"VP PE D 32x3,0 mm (27 kusů) (Průměrná hloubka výkopů 1,65 m):103,10*0,80"]
[null,null,"VP PE D 90x8,2 mm (1 kus) (Průměrná hloubka výkopů 1,65 m):5,10*0,80",null,4.08,null,null,null,null,null,null,null,"VP PE D 90x8,2 mm (1 kus) (Průměrná hloubka výkopů 1,65 m):5,10*0,80"]
[3,"114211101R00","Odstranění betonových trub do DN 150 mm, ve výkopu ","m",90,null,{"$f":"E16*F16","v":0},0,{"$f":"E16*H16","v":0},-0.04,{"$f":"E16*J16","v":-3.6},null,null,null,2,null,null,null,null,null,null,null,null,null,null,null,1,1,1,null,null,null,null,null,null,null,null,null,null,null,null,null,null,null,null,null,null,null,null,null,null,1,{"$f":"IF(AZ16=1,G16,0)","v":0},{"$f":"IF(AZ16=2,G16,0)","v":0},{"$f":"IF(AZ16=3,G16,0)","v":0},{"$f":"IF(AZ16=4,G16,0)","v":0},{"$f":"IF(AZ16=5,G16,0)","v":0},null,null,null,null,null,null,null,null,null,null,null,null,null,null,null,null,null,null,null,null,null,1,1]
[null,null,"Položka obsahuje odstranění materiálu obklopujícího potrubí v míře nutné pro vyzvednutí, rozpojení trub, uchopení a vyzvednutí trub z výkopu a uložení na dopravní prostředek včetně odvozu na skládku zhotovitele a poplatek za skládku.",null,null,null,null,null,null,null,null,"Položka obsahuje odstranění materiálu obklopujícího potrubí v míře nutné pro vyzvednutí, rozpojení trub, uchopení a vyzvednutí trub z výkopu a uložení na dopravní prostředek včetně odvozu na skládku zhotovitele a poplatek za skládku.",null,null,3]
[4,"115101201RRX","Přečerpávání nebo převedení splašků a dešť. vod ","h",140,null,{"$f":"E18*F18","v":0},0,{"$f":"E18*H18","v":0},0,{"$f":"E18*J18","v":0},null,null,null,2,null,null,null,null,null,null,null,null,null,null,null,1,1,1,null,null,null,null,null,null,null,null,null,null,null,null,null,null,null,null,null,null,null,null,null,null,1,{"$f":"IF(AZ18=1,G18,0)","v":0},{"$f":"IF(AZ18=2,G18,0)","v":0},{"$f":"IF(AZ18=3,G18,0)","v":0},{"$f":"IF(AZ18=4,G18,0)","v":0},{"$f":"IF(AZ18=5,G18,0)","v":0},null,null,null,null,null,null,null,null,null,null,null,null,null,null,null,null,null,null,null,null,null,1,1]
[null,null,"Převedení a čerpání splašků nebo dešťových vod dle zvolené technologie zhotovitele stavby.",null,null,null,null,null,null,null,null,"Převedení a čerpání splašků nebo dešťových vod dle zvolené technologie zhotovitele stavby.",null,null,3]
[null,null,"(Množství bude určeno na stavbě dle skutečnosti)",null,null,null,null,null,null,null,null,"(Množství bude určeno na stavbě dle skutečnosti)",null,null,3]
[5,"119001401R00","Dočasné zajištění ocelového potrubí do DN 200 mm ","m",56.4,null,{"$f":"E21*F21","v":0},8.6899999999999998E-3,{"$f":"E21*H21","v":0.490116},0,{"$f":"E21*J21","v":0},null,null,null,2,null,null,null,null,null,null,null,null,null,null,null,1,1,1,null,null,null,null,null,null,null,null,null,null,null,null,null,null,null,null,null,null,null,null,null,null,1,{"$f":"IF(AZ21=1,G21,0)","v":0},{"$f":"IF(AZ21=2,G21,0)","v":0},{"$f":"IF(AZ21=3,G21,0)","v":0},{"$f":"IF(AZ21=4,G21,0)","v":0},{"$f":"IF(AZ21=5,G21,0)","v":0},null,null,null,null,null,null,null,null,null,null,null,null,null,null,null,null,null,null,null,null,null,1,1]
[6,"119001422R00","Dočasné zajištění kabelů - v počtu 3 - 6 kabelů ","m",62.9,null,{"$f":"E22*F22","v":0},3.9739999999999998E-2,{"$f":"E22*H22","v":2.4996459999999998},0,{"$f":"E22*J22","v":0},null,null,null,2,null,null,null,null,null,null,null,null,null,null,null,1,1,1,null,null,null,null,null,null,null,null,null,null,null,null,null,null,null,null,null,null,null,null,null,null,1,{"$f":"IF(AZ22=1,G22,0)","v":0},{"$f":"IF(AZ22=2,G22,0)","v":0},{"$f":"IF(AZ22=3,G22,0)","v":0},{"$f":"IF(AZ22=4,G22,0)","v":0},{"$f":"IF(AZ22=5,G22,0)","v":0},null,null,null,null,null,null,null,null,null,null,null,null,null,null,null,null,null,null,null,null,null,1,1]
[7,"121100002RAA","Sejmutí ornice a uložení na deponii zpětný přesun, rozprostření v tl. 20 cm, osetí","m3",30,null,{"$f":"E23*F23","v":0},0,{"$f":"E23*H23","v":0},0,{"$f":"E23*J23","v":0},null,null,null,2,null,null,null,null,null,null,null,null,null,null,null,1,1,1,null,null,null,null,null,null,null,null,null,null,null,null,null,null,null,null,null,null,null,null,null,null,1,{"$f":"IF(AZ23=1,G23,0)","v":0},{"$f":"IF(AZ23=2,G23,0)","v":0},{"$f":"IF(AZ23=3,G23,0)","v":0},{"$f":"IF(AZ23=4,G23,0)","v":0},{"$f":"IF(AZ23=5,G23,0)","v":0},null,null,null,null,null,null,null,null,null,null,null,null,null,null,null,null,null,null,null,null,null,1,1]
[null,null,"KP PVC DN150 (14 kusů) (Průměrná hloubka výkopů 2,00 m):",null,0,null,null,null,null,null,null,null,"KP PVC DN150 (14 kusů) (Průměrná hloubka výkopů 2,00 m):"]
[null,null,"VP PE D 32x3,0 mm (27 kusů) (Průměrná hloubka výkopů 1,65 m):",null,0,null,null,null,null,null,null,null,"VP PE D 32x3,0 mm (27 kusů) (Průměrná hloubka výkopů 1,65 m):"]
[null,null,"VP PE D 90x8,2 mm (1 kus) (Průměrná hloubka výkopů 1,65 m):",null,0,null,null,null,null,null,null,null,"VP PE D 90x8,2 mm (1 kus) (Průměrná hloubka výkopů 1,65 m):"]
[null,null,"Odpočet ornice:75,00*2,00*0,20",null,30,null,null,null,null,null,null,null,"Odpočet ornice:75,00*2,00*0,20"]
[8,"130001101RRX","Příplatek za ztížené hloubení v blízkosti vedení ","m3",68.919799999999995,null,{"$f":"E28*F28","v":0},0,{"$f":"E28*H28","v":0},0,{"$f":"E28*J28","v":0},null,null,null,2,null,null,null,null,null,null,null,null,null,null,null,1,1,1,null,null,null,null,null,null,null,null,null,null,null,null,null,null,null,null,null,null,null,null,null,null,1,{"$f":"IF(AZ28=1,G28,0)","v":0},{"$f":"IF(AZ28=2,G28,0)","v":0},{"$f":"IF(AZ28=3,G28,0)","v":0},{"$f":"IF(AZ28=4,G28,0)","v":0},{"$f":"IF(AZ28=5,G28,0)","v":0},null,null,null,null,null,null,null,null,null,null,null,null,null,null,null,null,null,null,null,null,null,1,1]
[null,null,"Včetně případných nutných dokopávem a ručního výkopu podél sousedících inženýrských sítí",null,null,null,null,null,null,null,null,"Včetně případných nutných dokopávem a ručního výkopu podél sousedících inženýrských sítí",null,null,3]
[null,null,"Začátek provozního součtu",null,0,null,null,null,null,null,null,null,"Začátek provozního součtu"]
[null,null,"KP PVC DN150 (14 kusů) (Průměrná hloubka výkopů 2,00 m):94,90*0,80*2,00",null,151.84,null,null,null,null,null,null,null,"KP PVC DN150 (14 kusů) (Průměrná hloubka výkopů 2,00 m):94,90*0,80*2,00"]
[null,null,"VP PE D 32x3,0 mm (27 kusů) (Průměrná hloubka výkopů 1,65 m):173,10*0,80*1,65",null,228.49199999999999,null,null,null,null,null,null,null,"VP PE D 32x3,0 mm (27 kusů) (Průměrná hloubka výkopů 1,65 m):173,10*0,80*1,65"]
[null,null,"VP PE D 90x8,2 mm (1 kus) (Průměrná hloubka výkopů 1,65 m):5,10*0,80*1,65",null,6.7320000000000002,null,null,null,null,null,null,null,"VP PE D 90x8,2 mm (1 kus) (Průměrná hloubka výkopů 1,65 m):5,10*0,80*1,65"]
[null,null,"Odpočet konstrukce komunikací:-(273,10-20,00-75,00)*0,80*0,40",null,-56.991999999999997,null,null,null,null,null,null,null,"Odpočet konstrukce komunikací:-(273,10-20,00-75,00)*0,80*0,40"]
[null,null,"Odpočet konstrukce chodníků:-20,00*0,80*0,30",null,-4.8,null,null,null,null,null,null,null,"Odpočet konstrukce chodníků:-20,00*0,80*0,30"]
[null,null,"Odpočet ornice:-75,00*0,80*0,20",null,-12,null,null,null,null,null,null,null,"Odpočet ornice:-75,00*0,80*0,20"]
[null,null,"Konec provozního součtu",null,313.27199999999999,null,null,null,null,null,null,null,"Konec provozního součtu"]
[null,null,"V hornině tř. 3 - 5 - 22%:313,2720*0,22",null,68.919799999999995,null,null,null,null,null,null,null,"V hornině tř. 3 - 5 - 22%:313,2720*0,22"]
[9,"132201212R00","Hloubení rýh š.do 200 cm hor.3 do 1000m3,STROJNĚ ","m3",140.97239999999999,null,{"$f":"E39*F39","v":0},0,{"$f":"E39*H39","v":0},0,{"$f":"E39*J39","v":0},null,null,null,2,null,null,null,null,null,null,null,null,null,null,null,1,1,1,null,null,null,null,null,null,null,null,null,null,null,null,null,null,null,null,null,null,null,null,null,null,1,{"$f":"IF(AZ39=1,G39,0)","v":0},{"$f":"IF(AZ39=2,G39,0)","v":0},{"$f":"IF(AZ39=3,G39,0)","v":0},{"$f":"IF(AZ39=4,G39,0)","v":0},{"$f":"IF(AZ39=5,G39,0)","v":0},null,null,null,null,null,null,null,null,null,null,null,null,null,null,null,null,null,null,null,null,null,1,1]
[null,null,"Položka obsahuje hloubení rýh traktorbagrem, naložení výkopku na dopravní prostředek pro svislé, nebo vodorovné přemístění, popř. přemístění výkopku do 3 m (po povrchu území), případné zajištění rypadel polštáři, udržování pracoviště a ochranu výkopiště proti stékání srážkové vody z okolního terénu i s jejím odvodněním, nebo odvedením, přesekání a odstranění kořenů ve výkopišti, odstranění napadávek, urovnání dna výkopu.",null,null,null,null,null,null,null,null,"Položka obsahuje hloubení rýh traktorbagrem, naložení výkopku na dopravní prostředek pro svislé, nebo vodorovné přemístění, popř. přemístění výkopku do 3 m (po povrchu území), případné zajištění rypadel polštáři, udržování pracoviště a ochranu výkopiště proti stékání srážkové vody z okolního terénu i s jejím odvodněním, nebo odvedením, přesekání a odstranění kořenů ve výkopišti, odstranění napadávek, urovnání dna výkopu.",null,null,3]
[null,null,"Začátek provozního součtu",null,0,null,null,null,null,null,null,null,"Začátek provozního součtu"]
[null,null,"KP PVC DN150 (14 kusů) (Průměrná hloubka výkopů 2,00 m):94,90*0,80*2,00",null,151.84,null,null,null,null,null,null,null,"KP PVC DN150 (14 kusů) (Průměrná hloubka výkopů 2,00 m):94,90*0,80*2,00"]
[null,null,"VP PE D 32x3,0 mm (27 kusů) (Průměrná hloubka výkopů 1,65 m):173,10*0,80*1,65",null,228.49199999999999,null,null,null,null,null,null,null,"VP PE D 32x3,0 mm (27 kusů) (Průměrná hloubka výkopů 1,65 m):173,10*0,80*1,65"]
[null,null,"VP PE D 90x8,2 mm (1 kus) (Průměrná hloubka výkopů 1,65 m):5,10*0,80*1,65",null,6.7320000000000002,null,null,null,null,null,null,null,"VP PE D 90x8,2 mm (1 kus) (Průměrná hloubka výkopů 1,65 m):5,10*0,80*1,65"]
[null,null,"Odpočet konstrukce komunikací:-(273,10-20,00-75,00)*0,80*0,40",null,-56.991999999999997,null,null,null,null,null,null,null,"Odpočet konstrukce komunikací:-(273,10-20,00-75,00)*0,80*0,40"]
[null,null,"Odpočet konstrukce chodníků:-20,00*0,80*0,30",null,-4.8,null,null,null,null,null,null,null,"Odpočet konstrukce chodníků:-20,00*0,80*0,30"]
[null,null,"Odpočet ornice:-75,00*0,80*0,20",null,-12,null,null,null,null,null,null,null,"Odpočet ornice:-75,00*0,80*0,20"]
[null,null,"Konec provozního součtu",null,313.27199999999999,null,null,null,null,null,null,null,"Konec provozního součtu"]
[null,null,"V hornině tř. 3 - 45%:313,2720*0,45",null,140.97239999999999,null,null,null,null,null,null,null,"V hornině tř. 3 - 45%:313,2720*0,45"]
[10,"132201219R00","Přípl.za lepivost,hloubení rýh 200cm,hor.3,STROJNĚ ","m3",70.486199999999997,null,{"$f":"E50*F50","v":0},0,{"$f":"E50*H50","v":0},0,{"$f":"E50*J50","v":0},null,null,null,2,null,null,null,null,null,null,null,null,null,null,null,1,1,1,null,null,null,null,null,null,null,null,null,null,null,null,null,null,null,null,null,null,null,null,null,null,1,{"$f":"IF(AZ50=1,G50,0)","v":0},{"$f":"IF(AZ50=2,G50,0)","v":0},{"$f":"IF(AZ50=3,G50,0)","v":0},{"$f":"IF(AZ50=4,G50,0)","v":0},{"$f":"IF(AZ50=5,G50,0)","v":0},null,null,null,null,null,null,null,null,null,null,null,null,null,null,null,null,null,null,null,null,null,1,1]
[null,null,"Začátek provozního součtu",null,0,null,null,null,null,null,null,null,"Začátek provozního součtu"]
[null,null,"KP PVC DN150 (14 kusů) (Průměrná hloubka výkopů 2,00 m):94,90*0,80*2,00",null,151.84,null,null,null,null,null,null,null,"KP PVC DN150 (14 kusů) (Průměrná hloubka výkopů 2,00 m):94,90*0,80*2,00"]
[null,null,"VP PE D 32x3,0 mm (27 kusů) (Průměrná hloubka výkopů 1,65 m):173,10*0,80*1,65",null,228.49199999999999,null,null,null,null,null,null,null,"VP PE D 32x3,0 mm (27 kusů) (Průměrná hloubka výkopů 1,65 m):173,10*0,80*1,65"]
[null,null,"VP PE D 90x8,2 mm (1 kus) (Průměrná hloubka výkopů 1,65 m):5,10*0,80*1,65",null,6.7320000000000002,null,null,null,null,null,null,null,"VP PE D 90x8,2 mm (1 kus) (Průměrná hloubka výkopů 1,65 m):5,10*0,80*1,65"]
[null,null,"Odpočet konstrukce komunikací:-(273,10-20,00-75,00)*0,80*0,40",null,-56.991999999999997,null,null,null,null,null,null,null,"Odpočet konstrukce komunikací:-(273,10-20,00-75,00)*0,80*0,40"]
[null,null,"Odpočet konstrukce chodníků:-20,00*0,80*0,30",null,-4.8,null,null,null,null,null,null,null,"Odpočet konstrukce chodníků:-20,00*0,80*0,30"]
[null,null,"Odpočet ornice:-75,00*0,80*0,20",null,-12,null,null,null,null,null,null,null,"Odpočet ornice:-75,00*0,80*0,20"]
[null,null,"Konec provozního součtu",null,313.27199999999999,null,null,null,null,null,null,null,"Konec provozního součtu"]
[null,null,"V hornině tř. 3 - 45%:313,2720*0,45*0,5",null,70.486199999999997,null,null,null,null,null,null,null,"V hornině tř. 3 - 45%:313,2720*0,45*0,5"]
[11,"132301212R00","Hloubení rýh š.do 200 cm hor.4 do 1000 m3, STROJNĚ ","m3",140.97239999999999,null,{"$f":"E60*F60","v":0},0,{"$f":"E60*H60","v":0},0,{"$f":"E60*J60","v":0},null,null,null,2,null,null,null,null,null,null,null,null,null,null,null,1,1,1,null,null,null,null,null,null,null,null,null,null,null,null,null,null,null,null,null,null,null,null,null,null,1,{"$f":"IF(AZ60=1,G60,0)","v":0},{"$f":"IF(AZ60=2,G60,0)","v":0},{"$f":"IF(AZ60=3,G60,0)","v":0},{"$f":"IF(AZ60=4,G60,0)","v":0},{"$f":"IF(AZ60=5,G60,0)","v":0},null,null,null,null,null,null,null,null,null,null,null,null,null,null,null,null,null,null,null,null,null,1,1]
[null,null,"Položka obsahuje hloubení rýh traktorbagrem, naložení výkopku na dopravní prostředek pro svislé, nebo vodorovné přemístění, popř. přemístění výkopku do 3 m (po povrchu území), případné zajištění rypadel polštáři, udržování pracoviště a ochranu výkopiště proti stékání srážkové vody z okolního terénu i s jejím odvodněním, nebo odvedením, přesekání a odstranění kořenů ve výkopišti, odstranění napadávek, urovnání dna výkopu.",null,null,null,null,null,null,null,null,"Položka obsahuje hloubení rýh traktorbagrem, naložení výkopku na dopravní prostředek pro svislé, nebo vodorovné přemístění, popř. přemístění výkopku do 3 m (po povrchu území), případné zajištění rypadel polštáři, udržování pracoviště a ochranu výkopiště proti stékání srážkové vody z okolního terénu i s jejím odvodněním, nebo odvedením, přesekání a odstranění kořenů ve výkopišti, odstranění napadávek, urovnání dna výkopu.",null,null,3]
[null,null,"Začátek provozního součtu",null,0,null,null,null,null,null,null,null,"Začátek provozního součtu"]
[null,null,"KP PVC DN150 (14 kusů) (Průměrná hloubka výkopů 2,00 m):94,90*0,80*2,00",null,151.84,null,null,null,null,null,null,null,"KP PVC DN150 (14 kusů) (Průměrná hloubka výkopů 2,00 m):94,90*0,80*2,00"]
[null,null,"VP PE D 32x3,0 mm (27 kusů) (Průměrná hloubka výkopů 1,65 m):173,10*0,80*1,65",null,228.49199999999999,null,null,null,null,null,null,null,"VP PE D 32x3,0 mm (27 kusů) (Průměrná hloubka výkopů 1,65 m):173,10*0,80*1,65"]
[null,null,"VP PE D 90x8,2 mm (1 kus) (Průměrná hloubka výkopů 1,65 m):5,10*0,80*1,65",null,6.7320000000000002,null,null,null,null,null,null,null,"VP PE D 90x8,2 mm (1 kus) (Průměrná hloubka výkopů 1,65 m):5,10*0,80*1,65"]
[null,null,"Odpočet konstrukce komunikací:-(273,10-20,00-75,00)*0,80*0,40",null,-56.991999999999997,null,null,null,null,null,null,null,"Odpočet konstrukce komunikací:-(273,10-20,00-75,00)*0,80*0,40"]
[null,null,"Odpočet konstrukce chodníků:-20,00*0,80*0,30",null,-4.8,null,null,null,null,null,null,null,"Odpočet konstrukce chodníků:-20,00*0,80*0,30"]
[null,null,"Odpočet ornice:-75,00*0,80*0,20",null,-12,null,null,null,null,null,null,null,"Odpočet ornice:-75,00*0,80*0,20"]
[null,null,"Konec provozního součtu",null,313.27199999999999,null,null,null,null,null,null,null,"Konec provozního součtu"]
[null,null,"V hornině tř. 4 - 45%:313,2720*0,45",null,140.97239999999999,null,null,null,null,null,null,null,"V hornině tř. 4 - 45%:313,2720*0,45"]
[12,"132301219R00","Přípl.za lepivost,hloubení rýh 200cm,hor.4,STROJNĚ ","m3",70.486199999999997,null,{"$f":"E71*F71","v":0},0,{"$f":"E71*H71","v":0},0,{"$f":"E71*J71","v":0},null,null,null,2,null,null,null,null,null,null,null,null,null,null,null,1,1,1,null,null,null,null,null,null,null,null,null,null,null,null,null,null,null,null,null,null,null,null,null,null,1,{"$f":"IF(AZ71=1,G71,0)","v":0},{"$f":"IF(AZ71=2,G71,0)","v":0},{"$f":"IF(AZ71=3,G71,0)","v":0},{"$f":"IF(AZ71=4,G71,0)","v":0},{"$f":"IF(AZ71=5,G71,0)","v":0},null,null,null,null,null,null,null,null,null,null,null,null,null,null,null,null,null,null,null,null,null,1,1]
[null,null,"Začátek provozního součtu",null,0,null,null,null,null,null,null,null,"Začátek provozního součtu"]
[null,null,"KP PVC DN150 (14 kusů) (Průměrná hloubka výkopů 2,00 m):94,90*0,80*2,00",null,151.84,null,null,null,null,null,null,null,"KP PVC DN150 (14 kusů) (Průměrná hloubka výkopů 2,00 m):94,90*0,80*2,00"]
[null,null,"VP PE D 32x3,0 mm (27 kusů) (Průměrná hloubka výkopů 1,65 m):173,10*0,80*1,65",null,228.49199999999999,null,null,null,null,null,null,null,"VP PE D 32x3,0 mm (27 kusů) (Průměrná hloubka výkopů 1,65 m):173,10*0,80*1,65"]
[null,null,"VP PE D 90x8,2 mm (1 kus) (Průměrná hloubka výkopů 1,65 m):5,10*0,80*1,65",null,6.7320000000000002,null,null,null,null,null,null,null,"VP PE D 90x8,2 mm (1 kus) (Průměrná hloubka výkopů 1,65 m):5,10*0,80*1,65"]
[null,null,"Odpočet konstrukce komunikací:-(273,10-20,00-75,00)*0,80*0,40",null,-56.991999999999997,null,null,null,null,null,null,null,"Odpočet konstrukce komunikací:-(273,10-20,00-75,00)*0,80*0,40"]
[null,null,"Odpočet konstrukce chodníků:-20,00*0,80*0,30",null,-4.8,null,null,null,null,null,null,null,"Odpočet konstrukce chodníků:-20,00*0,80*0,30"]
[null,null,"Odpočet ornice:-75,00*0,80*0,20",null,-12,null,null,null,null,null,null,null,"Odpočet ornice:-75,00*0,80*0,20"]
[null,null,"Konec provozního součtu",null,313.27199999999999,null,null,null,null,null,null,null,"Konec provozního součtu"]
[null,null,"V hornině tř. 4 - 45%:313,2720*0,45*0,5",null,70.486199999999997,null,null,null,null,null,null,null,"V hornině tř. 4 - 45%:313,2720*0,45*0,5"]
[13,"132401211R00","Hloubení rýh šířky do 200 cm v hor.5, STROJNĚ ","m3",31.327200000000001,null,{"$f":"E81*F81","v":0},0,{"$f":"E81*H81","v":0},0,{"$f":"E81*J81","v":0},null,null,null,2,null,null,null,null,null,null,null,null,null,null,null,1,1,1,null,null,null,null,null,null,null,null,null,null,null,null,null,null,null,null,null,null,null,null,null,null,1,{"$f":"IF(AZ81=1,G81,0)","v":0},{"$f":"IF(AZ81=2,G81,0)","v":0},{"$f":"IF(AZ81=3,G81,0)","v":0},{"$f":"IF(AZ81=4,G81,0)","v":0},{"$f":"IF(AZ81=5,G81,0)","v":0},null,null,null,null,null,null,null,null,null,null,null,null,null,null,null,null,null,null,null,null,null,1,1]
[null,null,"Položka obsahuje hloubení jámy kolovým rypadlem s rozrývacím zubem, naložení výkopku na dopravní prostředek pro svislé, nebo vodorovné přemístění, popř. přemístění výkopku do 3 m (po povrchu území), případné zajištění rypadel polštáři, udržování pracoviště a ochranu výkopiště proti stékání srážkové vody z okolního terénu i s jejím odvodněním, nebo odvedením, přesekání a odstranění kořenů ve výkopišti, odstranění napadávek, urovnání dna výkopu. Položka se používá bez ohledu na těžené množství.",null,null,null,null,null,null,null,null,"Položka obsahuje hloubení jámy kolovým rypadlem s rozrývacím zubem, naložení výkopku na dopravní prostředek pro svislé, nebo vodorovné přemístění, popř. přemístění výkopku do 3 m (po povrchu území), případné zajištění rypadel polštáři, udržování pracoviště a ochranu výkopiště proti stékání srážkové vody z okolního terénu i s jejím odvodněním, nebo odvedením, přesekání a odstranění kořenů ve výkopišti, odstranění napadávek, urovnání dna výkopu. Položka se používá bez ohledu na těžené množství.",null,null,3]
[null,null,"Začátek provozního součtu",null,0,null,null,null,null,null,null,null,"Začátek provozního součtu"]
[null,null,"KP PVC DN150 (14 kusů) (Průměrná hloubka výkopů 2,00 m):94,90*0,80*2,00",null,151.84,null,null,null,null,null,null,null,"KP PVC DN150 (14 kusů) (Průměrná hloubka výkopů 2,00 m):94,90*0,80*2,00"]
[null,null,"VP PE D 32x3,0 mm (27 kusů) (Průměrná hloubka výkopů 1,65 m):173,10*0,80*1,65",null,228.49199999999999,null,null,null,null,null,null,null,"VP PE D 32x3,0 mm (27 kusů) (Průměrná hloubka výkopů 1,65 m):173,10*0,80*1,65"]
[null,null,"VP PE D 90x8,2 mm (1 kus) (Průměrná hloubka výkopů 1,65 m):5,10*0,80*1,65",null,6.7320000000000002,null,null,null,null,null,null,null,"VP PE D 90x8,2 mm (1 kus) (Průměrná hloubka výkopů 1,65 m):5,10*0,80*1,65"]
[null,null,"Odpočet konstrukce komunikací:-(273,10-20,00-75,00)*0,80*0,40",null,-56.991999999999997,null,null,null,null,null,null,null,"Odpočet konstrukce komunikací:-(273,10-20,00-75,00)*0,80*0,40"]
[null,null,"Odpočet konstrukce chodníků:-20,00*0,80*0,30",null,-4.8,null,null,null,null,null,null,null,"Odpočet konstrukce chodníků:-20,00*0,80*0,30"]
[null,null,"Odpočet ornice:-75,00*0,80*0,20",null,-12,null,null,null,null,null,null,null,"Odpočet ornice:-75,00*0,80*0,20"]
[null,null,"Konec provozního součtu",null,313.27199999999999,null,null,null,null,null,null,null,"Konec provozního součtu"]
[null,null,"V hornině tř. 5 - 10%:313,2720*0,1",null,31.327200000000001,null,null,null,null,null,null,null,"V hornině tř. 5 - 10%:313,2720*0,1"]
[14,"151101101R00","Pažení a rozepření stěn rýh - příložné - hl.do 2 m ","m2",967.66,null,{"$f":"E92*F92","v":0},9.8999999999999999E-4,{"$f":"E92*H92","v":0.95798339999999993},0,{"$f":"E92*J92","v":0},null,null,null,2,null,null,null,null,null,null,null,null,null,null,null,1,1,1,null,null,null,null,null,null,null,null,null,null,null,null,null,null,null,null,null,null,null,null,null,null,1,{"$f":"IF(AZ92=1,G92,0)","v":0},{"$f":"IF(AZ92=2,G92,0)","v":0},{"$f":"IF(AZ92=3,G92,0)","v":0},{"$f":"IF(AZ92=4,G92,0)","v":0},{"$f":"IF(AZ92=5,G92,0)","v":0},null,null,null,null,null,null,null,null,null,null,null,null,null,null,null,null,null,null,null,null,null,1,1]
[null,null,"KP PVC DN150 (14 kusů) (Průměrná hloubka výkopů 2,00 m):94,90*2,00*2",null,379.6,null,null,null,null,null,null,null,"KP PVC DN150 (14 kusů) (Průměrná hloubka výkopů 2,00 m):94,90*2,00*2"]
[null,null,"VP PE D 32x3,0 mm (27 kusů) (Průměrná hloubka výkopů 1,65 m):173,10*1,65*2",null,571.23,null,null,null,null,null,null,null,"VP PE D 32x3,0 mm (27 kusů) (Průměrná hloubka výkopů 1,65 m):173,10*1,65*2"]
[null,null,"VP PE D 90x8,2 mm (1 kus) (Průměrná hloubka výkopů 1,65 m):5,10*1,65*2",null,16.829999999999998,null,null,null,null,null,null,null,"VP PE D 90x8,2 mm (1 kus) (Průměrná hloubka výkopů 1,65 m):5,10*1,65*2"]
[15,"151101111R00","Odstranění pažení stěn rýh - příložné - hl. do 2 m ","m2",967.66,null,{"$f":"E96*F96","v":0},0,{"$f":"E96*H96","v":0},0,{"$f":"E96*J96","v":0},null,null,null,2,null,null,null,null,null,null,null,null,null,null,null,1,1,1,null,null,null,null,null,null,null,null,null,null,null,null,null,null,null,null,null,null,null,null,null,null,1,{"$f":"IF(AZ96=1,G96,0)","v":0},{"$f":"IF(AZ96=2,G96,0)","v":0},{"$f":"IF(AZ96=3,G96,0)","v":0},{"$f":"IF(AZ96=4,G96,0)","v":0},{"$f":"IF(AZ96=5,G96,0)","v":0},null,null,null,null,null,null,null,null,null,null,null,null,null,null,null,null,null,null,null,null,null,1,1]
[null,null,"KP PVC DN150 (14 kusů) (Průměrná hloubka výkopů 2,00 m):94,90*2,00*2",null,379.6,null,null,null,null,null,null,null,"KP PVC DN150 (14 kusů) (Průměrná hloubka výkopů 2,00 m):94,90*2,00*2"]
[null,null,"VP PE D 32x3,0 mm (27 kusů) (Průměrná hloubka výkopů 1,65 m):173,10*1,65*2",null,571.23,null,null,null,null,null,null,null,"VP PE D 32x3,0 mm (27 kusů) (Průměrná hloubka výkopů 1,65 m):173,10*1,65*2"]
[null,null,"VP PE D 90x8,2 mm (1 kus) (Průměrná hloubka výkopů 1,65 m):5,10*1,65*2",null,16.829999999999998,null,null,null,null,null,null,null,"VP PE D 90x8,2 mm (1 kus) (Průměrná hloubka výkopů 1,65 m):5,10*1,65*2"]
[16,"162701105RSZ","Vodorovné přemístění výkopku z hor.1-4 na skládku zhotovitele","m3",249.40799999999999,null,{"$f":"E100*F100","v":0},0,{"$f":"E100*H100","v":0},0,{"$f":"E100*J100","v":0},null,null,null,2,null,null,null,null,null,null,null,null,null,null,null,1,1,1,null,null,null,null,null,null,null,null,null,null,null,null,null,null,null,null,null,null,null,null,null,null,1,{"$f":"IF(AZ100=1,G100,0)","v":0},{"$f":"IF(AZ100=2,G100,0)","v":0},{"$f":"IF(AZ100=3,G100,0)","v":0},{"$f":"IF(AZ100=4,G100,0)","v":0},{"$f":"IF(AZ100=5,G100,0)","v":0},null,null,null,null,null,null,null,null,null,null,null,null,null,null,null,null,null,null,null,null,null,1,1]
[null,null,"Výkopy:",null,0,null,null,null,null,null,null,null,"Výkopy:"]
[null,null,"V hornině tř. 3 - 5 :313,2720",null,313.27199999999999,null,null,null,null,null,null,null,"V hornině tř. 3 - 5 :313,2720"]
[null,null,"Odpočet zásypů zeminou:-63,8640",null,-63.863999999999997,null,null,null,null,null,null,null,"Odpočet zásypů zeminou:-63,8640"]
[17,"174101101R00","Zásyp jam, rýh, šachet se zhutněním ","m3",209.6934,null,{"$f":"E104*F104","v":0},0,{"$f":"E104*H104","v":0},0,{"$f":"E104*J104","v":0},null,null,null,2,null,null,null,null,null,null,null,null,null,null,null,1,1,1,null,null,null,null,null,null,null,null,null,null,null,null,null,null,null,null,null,null,null,null,null,null,1,{"$f":"IF(AZ104=1,G104,0)","v":0},{"$f":"IF(AZ104=2,G104,0)","v":0},{"$f":"IF(AZ104=3,G104,0)","v":0},{"$f":"IF(AZ104=4,G104,0)","v":0},{"$f":"IF(AZ104=5,G104,0)","v":0},null,null,null,null,null,null,null,null,null,null,null,null,null,null,null,null,null,null,null,null,null,1,1]
[null,null,"Položka obsahuje strojní přemístění materiálu pro zásyp ze vzdálenosti do 10 m od okraje zásypu.",null,null,null,null,null,null,null,null,"Položka obsahuje strojní přemístění materiálu pro zásyp ze vzdálenosti do 10 m od okraje zásypu.",null,null,3]
[null,null,"Zásypy zeminou:63,8640",null,63.863999999999997,null,null,null,null,null,null,null,"Zásypy zeminou:63,8640"]
[null,null,"Začátek provozního součtu",null,0,null,null,null,null,null,null,null,"Začátek provozního součtu"]
[null,null,"KP PVC DN150 (14 kusů) (Průměrná hloubka výkopů 2,00 m):15,00*0,80*2,00",null,24,null,null,null,null,null,null,null,"KP PVC DN150 (14 kusů) (Průměrná hloubka výkopů 2,00 m):15,00*0,80*2,00"]
[null,null,"VP PE D 32x3,0 mm (27 kusů) (Průměrná hloubka výkopů 1,65 m):60,00*0,80*1,65",null,79.2,null,null,null,null,null,null,null,"VP PE D 32x3,0 mm (27 kusů) (Průměrná hloubka výkopů 1,65 m):60,00*0,80*1,65"]
[null,null,"Odpočet ornice:-75,00*0,80*0,20",null,-12,null,null,null,null,null,null,null,"Odpočet ornice:-75,00*0,80*0,20"]
[null,null,"Odpočet lože, potrubí a obsypů:",null,0,null,null,null,null,null,null,null,"Odpočet lože, potrubí a obsypů:"]
[null,null,"KP PVC DN150 (14 kusů) (Průměrná hloubka výkopů 2,00 m):-15,00*0,80*(0,10+0,15+0,30)",null,-6.6,null,null,null,null,null,null,null,"KP PVC DN150 (14 kusů) (Průměrná hloubka výkopů 2,00 m):-15,00*0,80*(0,10+0,15+0,30)"]
[null,null,"VP PE D 32x3,0 mm (27 kusů) (Průměrná hloubka výkopů 1,65 m):-60,00*0,80*(0,10+0,032+0,30)",null,-20.736000000000001,null,null,null,null,null,null,null,"VP PE D 32x3,0 mm (27 kusů) (Průměrná hloubka výkopů 1,65 m):-60,00*0,80*(0,10+0,032+0,30)"]
[null,null,"Konec provozního součtu",null,63.864000000000004,null,null,null,null,null,null,null,"Konec provozního součtu"]
[null,null,"Zásypy štěrkodrtí fr. 0-63 mm:145,8294",null,145.82939999999999,null,null,null,null,null,null,null,"Zásypy štěrkodrtí fr. 0-63 mm:145,8294"]
[null,null,"Začátek provozního součtu",null,0,null,null,null,null,null,null,null,"Začátek provozního součtu"]
[null,null,"KP PVC DN150 (14 kusů) (Průměrná hloubka výkopů 2,00 m):79,90*0,80*2,00",null,127.84,null,null,null,null,null,null,null,"KP PVC DN150 (14 kusů) (Průměrná hloubka výkopů 2,00 m):79,90*0,80*2,00"]
[null,null,"VP PE D 32x3,0 mm (27 kusů) (Průměrná hloubka výkopů 1,65 m):113,10*0,80*1,65",null,149.292,null,null,null,null,null,null,null,"VP PE D 32x3,0 mm (27 kusů) (Průměrná hloubka výkopů 1,65 m):113,10*0,80*1,65"]
[null,null,"VP PE D 90x8,2 mm (1 kus) (Průměrná hloubka výkopů 1,65 m):5,10*0,80*1,65",null,6.7320000000000002,null,null,null,null,null,null,null,"VP PE D 90x8,2 mm (1 kus) (Průměrná hloubka výkopů 1,65 m):5,10*0,80*1,65"]
[null,null,"Odpočet konstrukce komunikací:-(198,10-20,00)*0,80*0,40",null,-56.991999999999997,null,null,null,null,null,null,null,"Odpočet konstrukce komunikací:-(198,10-20,00)*0,80*0,40"]
[null,null,"Odpočet konstrukce chodníků:-20,00*0,80*0,30",null,-4.8,null,null,null,null,null,null,null,"Odpočet konstrukce chodníků:-20,00*0,80*0,30"]
[null,null,"Odpočet lože, potrubí a obsypů:",null,0,null,null,null,null,null,null,null,"Odpočet lože, potrubí a obsypů:"]
[null,null,"KP PVC DN150 (14 kusů) (Průměrná hloubka výkopů 2,00 m):-79,90*0,80*(0,10+0,15+0,30)",null,-35.155999999999999,null,null,null,null,null,null,null,"KP PVC DN150 (14 kusů) (Průměrná hloubka výkopů 2,00 m):-79,90*0,80*(0,10+0,15+0,30)"]
[null,null,"VP PE D 32x3,0 mm (27 kusů) (Průměrná hloubka výkopů 1,65 m):-113,10*0,80*(0,10+0,032+0,30)",null,-39.087400000000002,null,null,null,null,null,null,null,"VP PE D 32x3,0 mm (27 kusů) (Průměrná hloubka výkopů 1,65 m):-113,10*0,80*(0,10+0,032+0,30)"]
[null,null,"VP PE D 90x8,2 mm (1 kus) (Průměrná hloubka výkopů 1,65 m):-5,10*0,80*(0,10+0,09+0,30)",null,-1.9992000000000001,null,null,null,null,null,null,null,"VP PE D 90x8,2 mm (1 kus) (Průměrná hloubka výkopů 1,65 m):-5,10*0,80*(0,10+0,09+0,30)"]
[null,null,"Konec provozního součtu",null,145.82940000000002,null,null,null,null,null,null,null,"Konec provozního součtu"]
[18,"175101101R00","Obsyp potrubí bez prohození sypaniny ","m3",79.881900000000002,null,{"$f":"E127*F127","v":0},0,{"$f":"E127*H127","v":0},0,{"$f":"E127*J127","v":0},null,null,null,2,null,null,null,null,null,null,null,null,null,null,null,1,1,1,null,null,null,null,null,null,null,null,null,null,null,null,null,null,null,null,null,null,null,null,null,null,1,{"$f":"IF(AZ127=1,G127,0)","v":0},{"$f":"IF(AZ127=2,G127,0)","v":0},{"$f":"IF(AZ127=3,G127,0)","v":0},{"$f":"IF(AZ127=4,G127,0)","v":0},{"$f":"IF(AZ127=5,G127,0)","v":0},null,null,null,null,null,null,null,null,null,null,null,null,null,null,null,null,null,null,null,null,null,1,1]
[null,null,"KP PVC DN150 (14 kusů) (Průměrná hloubka výkopů 2,00 m):94,90*(0,80*(0,15+0,30)-0,075^2*Pi)",null,32.487000000000002,null,null,null,null,null,null,null,"KP PVC DN150 (14 kusů) (Průměrná hloubka výkopů 2,00 m):94,90*(0,80*(0,15+0,30)-0,075^2*Pi)"]
[null,null,"VP PE D 32x3,0 mm (27 kusů) (Průměrná hloubka výkopů 1,65 m):173,10*(0,80*(0,032+0,30)-0,016^2*Pi)",null,45.836100000000002,null,null,null,null,null,null,null,"VP PE D 32x3,0 mm (27 kusů) (Průměrná hloubka výkopů 1,65 m):173,10*(0,80*(0,032+0,30)-0,016^2*Pi)"]
[null,null,"VP PE D 90x8,2 mm (1 kus) (Průměrná hloubka výkopů 1,65 m):5,10*(0,80*(0,09+0,30)-0,045^2*Pi)",null,1.5588,null,null,null,null,null,null,null,"VP PE D 90x8,2 mm (1 kus) (Průměrná hloubka výkopů 1,65 m):5,10*(0,80*(0,09+0,30)-0,045^2*Pi)"]
[19,"199000002R00","Poplatek za skládku horniny 1- 7 č. dle katal. odpadů 17 05 04","m3",249.40799999999999,null,{"$f":"E131*F131","v":0},0,{"$f":"E131*H131","v":0},0,{"$f":"E131*J131","v":0},null,null,null,2,null,null,null,null,null,null,null,null,null,null,null,1,1,1,null,null,null,null,null,null,null,null,null,null,null,null,null,null,null,null,null,null,null,null,null,null,1,{"$f":"IF(AZ131=1,G131,0)","v":0},{"$f":"IF(AZ131=2,G131,0)","v":0},{"$f":"IF(AZ131=3,G131,0)","v":0},{"$f":"IF(AZ131=4,G131,0)","v":0},{"$f":"IF(AZ131=5,G131,0)","v":0},null,null,null,null,null,null,null,null,null,null,null,null,null,null,null,null,null,null,null,null,null,1,1]
[null,null,"Výkopy:",null,0,null,null,null,null,null,null,null,"Výkopy:"]
[null,null,"V hornině tř. 3 - 5 :313,2720",null,313.27199999999999,null,null,null,null,null,null,null,"V hornině tř. 3 - 5 :313,2720"]
[null,null,"Odpočet zásypů zeminou:-63,8640",null,-63.863999999999997,null,null,null,null,null,null,null,"Odpočet zásypů zeminou:-63,8640"]
[20,"919735113R00","Řezání stávajícího živičného krytu tl. 10 - 15 cm ","m",356.2,null,{"$f":"E135*F135","v":0},0,{"$f":"E135*H135","v":0},0,{"$f":"E135*J135","v":0},null,null,null,2,null,null,null,null,null,null,null,null,null,null,null,1,1,1,null,null,null,null,null,null,null,null,null,null,null,null,null,null,null,null,null,null,null,null,null,null,1,{"$f":"IF(AZ135=1,G135,0)","v":0},{"$f":"IF(AZ135=2,G135,0)","v":0},{"$f":"IF(AZ135=3,G135,0)","v":0},{"$f":"IF(AZ135=4,G135,0)","v":0},{"$f":"IF(AZ135=5,G135,0)","v":0},null,null,null,null,null,null,null,null,null,null,null,null,null,null,null,null,null,null,null,null,null,1,1]
[null,null,"KP PVC DN150 (14 kusů) (Průměrná hloubka výkopů 2,00 m):69,90*2",null,139.80000000000001,null,null,null,null,null,null,null,"KP PVC DN150 (14 kusů) (Průměrná hloubka výkopů 2,00 m):69,90*2"]
[null,null,"VP PE D 32x3,0 mm (27 kusů) (Průměrná hloubka výkopů 1,65 m):103,10*2",null,206.2,null,null,null,null,null,null,null,"VP PE D 32x3,0 mm (27 kusů) (Průměrná hloubka výkopů 1,65 m):103,10*2"]
[null,null,"VP PE D 90x8,2 mm (1 kus) (Průměrná hloubka výkopů 1,65 m):5,10*2",null,10.199999999999999,null,null,null,null,null,null,null,"VP PE D 90x8,2 mm (1 kus) (Průměrná hloubka výkopů 1,65 m):5,10*2"]
[21,"979082113RSZ","Vodorovná doprava suti po suchu na skládku zhotovitele","t",125.3824,null,{"$f":"E139*F139","v":0},0,{"$f":"E139*H139","v":0},0,{"$f":"E139*J139","v":0},null,null,null,2,null,null,null,null,null,null,null,null,null,null,null,1,1,1,null,null,null,null,null,null,null,null,null,null,null,null,null,null,null,null,null,null,null,null,null,null,1,{"$f":"IF(AZ139=1,G139,0)","v":0},{"$f":"IF(AZ139=2,G139,0)","v":0},{"$f":"IF(AZ139=3,G139,0)","v":0},{"$f":"IF(AZ139=4,G139,0)","v":0},{"$f":"IF(AZ139=5,G139,0)","v":0},null,null,null,null,null,null,null,null,null,null,null,null,null,null,null,null,null,null,null,null,null,1,1]
[22,"979089001R00","Poplatek za skládku stavební suti štěrky z komunikací, skupina odpadu 010408","t",78.364000000000004,null,{"$f":"E140*F140","v":0},0,{"$f":"E140*H140","v":0},0,{"$f":"E140*J140","v":0},null,null,null,2,null,null,null,null,null,null,null,null,null,null,null,1,1,1,null,null,null,null,null,null,null,null,null,null,null,null,null,null,null,null,null,null,null,null,null,null,1,{"$f":"IF(AZ140=1,G140,0)","v":0},{"$f":"IF(AZ140=2,G140,0)","v":0},{"$f":"IF(AZ140=3,G140,0)","v":0},{"$f":"IF(AZ140=4,G140,0)","v":0},{"$f":"IF(AZ140=5,G140,0)","v":0},null,null,null,null,null,null,null,null,null,null,null,null,null,null,null,null,null,null,null,null,null,1,1]
[23,"979999995R00","Poplatek za reciklaci asfaltu, kusovost do 1600cm2 skupina 170302","t",47.0184,null,{"$f":"E141*F141","v":0},0,{"$f":"E141*H141","v":0},0,{"$f":"E141*J141","v":0},null,null,null,2,null,null,null,null,null,null,null,null,null,null,null,1,1,1,null,null,null,null,null,null,null,null,null,null,null,null,null,null,null,null,null,null,null,null,null,null,1,{"$f":"IF(AZ141=1,G141,0)","v":0},{"$f":"IF(AZ141=2,G141,0)","v":0},{"$f":"IF(AZ141=3,G141,0)","v":0},{"$f":"IF(AZ141=4,G141,0)","v":0},{"$f":"IF(AZ141=5,G141,0)","v":0},null,null,null,null,null,null,null,null,null,null,null,null,null,null,null,null,null,null,null,null,null,1,1]
[null,null,"Položka je určena pro suť o velikosti kusu do 30x30 cm nebo frézovaný asfalt(technologický materiál určený k recyklaci).",null,null,null,null,null,null,null,null,"Položka je určena pro suť o velikosti kusu do 30x30 cm nebo frézovaný asfalt(technologický materiál určený k recyklaci).",null,null,3]
[24,"113106000RRR","Odstranění zám.dlažby 6 cm vč.podkladu,pl.do 50 m2 včetně zpětného zadláždění - chodník","m2",15,null,{"$f":"E143*F143","v":0},0,{"$f":"E143*H143","v":0},-0.44500000000000001,{"$f":"E143*J143","v":-6.6749999999999998},null,null,null,2,null,null,null,null,null,null,null,null,null,null,null,2,1,1,null,null,null,null,null,null,null,null,null,null,null,null,null,null,null,null,null,null,null,null,null,null,1,{"$f":"IF(AZ143=1,G143,0)","v":0},{"$f":"IF(AZ143=2,G143,0)","v":0},{"$f":"IF(AZ143=3,G143,0)","v":0},{"$f":"IF(AZ143=4,G143,0)","v":0},{"$f":"IF(AZ143=5,G143,0)","v":0},null,null,null,null,null,null,null,null,null,null,null,null,null,null,null,null,null,null,null,null,null,2,1]
[null,null,"Součástí položky je i",null,null,null,null,null,null,null,null,"Součástí položky je i",null,null,3]
[null,null,"- odvoz původního nevyužitého materiálu na skládku zhotovitele a poplatku za skládku.",null,null,null,null,null,null,null,null,"- odvoz původního nevyužitého materiálu na skládku zhotovitele a poplatku za skládku.",null,null,3]
[null,null,"- dodávka nových podkladních konstrukcí",null,null,null,null,null,null,null,null,"- dodávka nových podkladních konstrukcí",null,null,3]
[25,"113107220RRR","Odstranění asfaltobet. krytu do 5 cm, pl. do 50 m2 včetně zpětného zaasfáltování - chodník","m2",20,null,{"$f":"E147*F147","v":0},0,{"$f":"E147*H147","v":0},-0.90010000000000001,{"$f":"E147*J147","v":-18.001999999999999},null,null,null,2,null,null,null,null,null,null,null,null,null,null,null,2,1,1,null,null,null,null,null,null,null,null,null,null,null,null,null,null,null,null,null,null,null,null,null,null,1,{"$f":"IF(AZ147=1,G147,0)","v":0},{"$f":"IF(AZ147=2,G147,0)","v":0},{"$f":"IF(AZ147=3,G147,0)","v":0},{"$f":"IF(AZ147=4,G147,0)","v":0},{"$f":"IF(AZ147=5,G147,0)","v":0},null,null,null,null,null,null,null,null,null,null,null,null,null,null,null,null,null,null,null,null,null,2,1]
[null,null,"Součástí položky je i",null,null,null,null,null,null,null,null,"Součástí položky je i",null,null,3]
[null,null,"- odvoz původního nevyužitého materiálu na skládku zhotovitele a poplatku za skládku.",null,null,null,null,null,null,null,null,"- odvoz původního nevyužitého materiálu na skládku zhotovitele a poplatku za skládku.",null,null,3]
[null,null,"- dodávka nových konstrukcí",null,null,null,null,null,null,null,null,"- dodávka nových konstrukcí",null,null,3]
[26,"113201011RRR","Vytrhání obrubníků silničních včetně znovuosazení původních obrubníků","m",20,null,{"$f":"E151*F151","v":0},0,{"$f":"E151*H151","v":0},-0.27,{"$f":"E151*J151","v":-5.4},null,null,null,2,null,null,null,null,null,null,null,null,null,null,null,2,1,1,null,null,null,null,null,null,null,null,null,null,null,null,null,null,null,null,null,null,null,null,null,null,1,{"$f":"IF(AZ151=1,G151,0)","v":0},{"$f":"IF(AZ151=2,G151,0)","v":0},{"$f":"IF(AZ151=3,G151,0)","v":0},{"$f":"IF(AZ151=4,G151,0)","v":0},{"$f":"IF(AZ151=5,G151,0)","v":0},null,null,null,null,null,null,null,null,null,null,null,null,null,null,null,null,null,null,null,null,null,2,1]
[null,null,"Součástí položky je i",null,null,null,null,null,null,null,null,"Součástí položky je i",null,null,3]
[null,null,"- odvoz původního nevyužitého materiálu na skládku zhotovitele a poplatku za skládku.",null,null,null,null,null,null,null,null,"- odvoz původního nevyužitého materiálu na skládku zhotovitele a poplatku za skládku.",null,null,3]
[null,null,"- očištění původních obrubníků",null,null,null,null,null,null,null,null,"- očištění původních obrubníků",null,null,3]
[null,null,"- dodávka betonové směsi pro osazení obrubníků",null,null,null,null,null,null,null,null,"- dodávka betonové směsi pro osazení obrubníků",null,null,3]
[27,"113201012RRR","Vytrhání obrubníků chodníkových a parkových včetně znovuosazení původních obrubníků","m2",20,null,{"$f":"E156*F156","v":0},0,{"$f":"E156*H156","v":0},-0.22,{"$f":"E156*J156","v":-4.4000000000000004},null,null,null,2,null,null,null,null,null,null,null,null,null,null,null,2,1,1,null,null,null,null,null,null,null,null,null,null,null,null,null,null,null,null,null,null,null,null,null,null,1,{"$f":"IF(AZ156=1,G156,0)","v":0},{"$f":"IF(AZ156=2,G156,0)","v":0},{"$f":"IF(AZ156=3,G156,0)","v":0},{"$f":"IF(AZ156=4,G156,0)","v":0},{"$f":"IF(AZ156=5,G156,0)","v":0},null,null,null,null,null,null,null,null,null,null,null,null,null,null,null,null,null,null,null,null,null,2,1]
[null,null,"Součástí položky je i",null,null,null,null,null,null,null,null,"Součástí položky je i",null,null,3]
[null,null,"- odvoz původního nevyužitého materiálu na skládku zhotovitele a poplatku za skládku.",null,null,null,null,null,null,null,null,"- odvoz původního nevyužitého materiálu na skládku zhotovitele a poplatku za skládku.",null,null,3]
[null,null,"- očištění původních obrubníků",null,null,null,null,null,null,null,null,"- očištění původních obrubníků",null,null,3]
[null,null,"- dodávka betonové směsi pro osazení obrubníků",null,null,null,null,null,null,null,null,"- dodávka betonové směsi pro osazení obrubníků",null,null,3]
[28,"58337308R","Štěrkopísek frakce 0-2 tř.B","t",157.6069,null,{"$f":"E161*F161","v":0},1,{"$f":"E161*H161","v":157.6069},null,{"$f":"E161*J161","v":0},null,null,null,2,null,null,null,null,null,null,null,null,null,null,null,3,1,"58337308R",null,null,null,null,null,null,null,null,null,null,null,null,null,null,null,null,null,null,null,null,null,null,1,{"$f":"IF(AZ161=1,G161,0)","v":0},{"$f":"IF(AZ161=2,G161,0)","v":0},{"$f":"IF(AZ161=3,G161,0)","v":0},{"$f":"IF(AZ161=4,G161,0)","v":0},{"$f":"IF(AZ161=5,G161,0)","v":0},null,null,null,null,null,null,null,null,null,null,null,null,null,null,null,null,null,null,null,null,null,3,1]
[null,null,"KP PVC DN150 (14 kusů) (Průměrná hloubka výkopů 2,00 m):94,90*(0,80*(0,15+0,30)-0,075^2*Pi)*1,973",null,64.096800000000002,null,null,null,null,null,null,null,"KP PVC DN150 (14 kusů) (Průměrná hloubka výkopů 2,00 m):94,90*(0,80*(0,15+0,30)-0,075^2*Pi)*1,973"]
[null,null,"VP PE D 32x3,0 mm (27 kusů) (Průměrná hloubka výkopů 1,65 m):173,10*(0,80*(0,032+0,30)-0,016^2*Pi)*1,973",null,90.434700000000007,null,null,null,null,null,null,null,"VP PE D 32x3,0 mm (27 kusů) (Průměrná hloubka výkopů 1,65 m):173,10*(0,80*(0,032+0,30)-0,016^2*Pi)*1,973"]
[null,null,"VP PE D 90x8,2 mm (1 kus) (Průměrná hloubka výkopů 1,65 m):5,10*(0,80*(0,09+0,30)-0,045^2*Pi)*1,973",null,3.0754000000000001,null,null,null,null,null,null,null,"VP PE D 90x8,2 mm (1 kus) (Průměrná hloubka výkopů 1,65 m):5,10*(0,80*(0,09+0,30)-0,045^2*Pi)*1,973"]
[29,"58344197R","Štěrkodrtě frakce 0-63 A","t",273.13850000000002,null,{"$f":"E165*F165","v":0},1,{"$f":"E165*H165","v":273.13850000000002},null,{"$f":"E165*J165","v":0},null,null,null,2,null,null,null,null,null,null,null,null,null,null,null,3,1,"58344197R",null,null,null,null,null,null,null,null,null,null,null,null,null,null,null,null,null,null,null,null,null,null,1,{"$f":"IF(AZ165=1,G165,0)","v":0},{"$f":"IF(AZ165=2,G165,0)","v":0},{"$f":"IF(AZ165=3,G165,0)","v":0},{"$f":"IF(AZ165=4,G165,0)","v":0},{"$f":"IF(AZ165=5,G165,0)","v":0},null,null,null,null,null,null,null,null,null,null,null,null,null,null,null,null,null,null,null,null,null,3,1]
[null,null,"Zásypy štěrkodrtí fr. 0-63 mm:145,8294*1,873",null,273.13850000000002,null,null,null,null,null,null,null,"Zásypy štěrkodrtí fr. 0-63 mm:145,8294*1,873"]
[null,null,"Začátek provozního součtu",null,0,null,null,null,null,null,null,null,"Začátek provozního součtu"]
[null,null,"KP PVC DN150 (14 kusů) (Průměrná hloubka výkopů 2,00 m):79,90*0,80*2,00",null,127.84,null,null,null,null,null,null,null,"KP PVC DN150 (14 kusů) (Průměrná hloubka výkopů 2,00 m):79,90*0,80*2,00"]
[null,null,"VP PE D 32x3,0 mm (27 kusů) (Průměrná hloubka výkopů 1,65 m):113,10*0,80*1,65",null,149.292,null,null,null,null,null,null,null,"VP PE D 32x3,0 mm (27 kusů) (Průměrná hloubka výkopů 1,65 m):113,10*0,80*1,65"]
[null,null,"VP PE D 90x8,2 mm (1 kus) (Průměrná hloubka výkopů 1,65 m):5,10*0,80*1,65",null,6.7320000000000002,null,null,null,null,null,null,null,"VP PE D 90x8,2 mm (1 kus) (Průměrná hloubka výkopů 1,65 m):5,10*0,80*1,65"]
[null,null,"Odpočet konstrukce komunikací:-(198,10-20,00)*0,80*0,40",null,-56.991999999999997,null,null,null,null,null,null,null,"Odpočet konstrukce komunikací:-(198,10-20,00)*0,80*0,40"]
[null,null,"Odpočet konstrukce chodníků:-20,00*0,80*0,30",null,-4.8,null,null,null,null,null,null,null,"Odpočet konstrukce chodníků:-20,00*0,80*0,30"]
[null,null,"Odpočet lože, potrubí a obsypů:",null,0,null,null,null,null,null,null,null,"Odpočet lože, potrubí a obsypů:"]
[null,null,"KP PVC DN150 (14 kusů) (Průměrná hloubka výkopů 2,00 m):-79,90*0,80*(0,10+0,15+0,30)",null,-35.155999999999999,null,null,null,null,null,null,null,"KP PVC DN150 (14 kusů) (Průměrná hloubka výkopů 2,00 m):-79,90*0,80*(0,10+0,15+0,30)"]
[null,null,"VP PE D 32x3,0 mm (27 kusů) (Průměrná hloubka výkopů 1,65 m):-113,10*0,80*(0,10+0,032+0,30)",null,-39.087400000000002,null,null,null,null,null,null,null,"VP PE D 32x3,0 mm (27 kusů) (Průměrná hloubka výkopů 1,65 m):-113,10*0,80*(0,10+0,032+0,30)"]
[null,null,"VP PE D 90x8,2 mm (1 kus) (Průměrná hloubka výkopů 1,65 m):-5,10*0,80*(0,10+0,09+0,30)",null,-1.9992000000000001,null,null,null,null,null,null,null,"VP PE D 90x8,2 mm (1 kus) (Průměrná hloubka výkopů 1,65 m):-5,10*0,80*(0,10+0,09+0,30)"]
[null,null,"Konec provozního součtu",null,145.82940000000002,null,null,null,null,null,null,null,"Konec provozního součtu"]
[null,"Celkem za","1 Zemní práce",null,null,null,{"$f":"SUM(G7:G177)","v":0},null,{"$f":"SUM(I7:I177)","v":434.69314540000005},null,{"$f":"SUM(K7:K177)","v":-163.45940000000004},null,null,null,4,null,null,null,null,null,null,null,null,null,null,null,null,null,null,null,null,null,null,null,null,null,null,null,null,null,null,null,null,null,null,null,null,null,null,null,null,null,{"$f":"SUM(BA7:BA177)","v":0},{"$f":"SUM(BB7:BB177)","v":0},{"$f":"SUM(BC7:BC177)","v":0},{"$f":"SUM(BD7:BD177)","v":0},{"$f":"SUM(BE7:BE177)","v":0}]
["Díl:","45","Podkladní a vedlejší konstrukce",null,null,null,null,null,null,null,null,null,null,null,1]
[30,"451572111R00","Lože pod potrubí z kameniva těženého 0 - 4 mm ","m3",21.847999999999999,null,{"$f":"E180*F180","v":0},1.873,{"$f":"E180*H180","v":40.921303999999999},0,{"$f":"E180*J180","v":0},null,null,null,2,null,null,null,null,null,null,null,null,null,null,null,1,1,1,null,null,null,null,null,null,null,null,null,null,null,null,null,null,null,null,null,null,null,null,null,null,1,{"$f":"IF(AZ180=1,G180,0)","v":0},{"$f":"IF(AZ180=2,G180,0)","v":0},{"$f":"IF(AZ180=3,G180,0)","v":0},{"$f":"IF(AZ180=4,G180,0)","v":0},{"$f":"IF(AZ180=5,G180,0)","v":0},null,null,null,null,null,null,null,null,null,null,null,null,null,null,null,null,null,null,null,null,null,1,1]
[null,null,"KP PVC DN150 (14 kusů) (Průměrná hloubka výkopů 2,00 m):94,90*0,80*0,10",null,7.5919999999999996,null,null,null,null,null,null,null,"KP PVC DN150 (14 kusů) (Průměrná hloubka výkopů 2,00 m):94,90*0,80*0,10"]
[null,null,"VP PE D 32x3,0 mm (27 kusů) (Průměrná hloubka výkopů 1,65 m):173,10*0,80*0,10",null,13.848000000000001,null,null,null,null,null,null,null,"VP PE D 32x3,0 mm (27 kusů) (Průměrná hloubka výkopů 1,65 m):173,10*0,80*0,10"]
[null,null,"VP PE D 90x8,2 mm (1 kus) (Průměrná hloubka výkopů 1,65 m):5,10*0,80*0,10",null,0.40799999999999997,null,null,null,null,null,null,null,"VP PE D 90x8,2 mm (1 kus) (Průměrná hloubka výkopů 1,65 m):5,10*0,80*0,10"]
[null,"Celkem za","45 Podkladní a vedlejší konstrukce",null,null,null,{"$f":"SUM(G179:G183)","v":0},null,{"$f":"SUM(I179:I183)","v":40.921303999999999},null,{"$f":"SUM(K179:K183)","v":0},null,null,null,4,null,null,null,null,null,null,null,null,null,null,null,null,null,null,null,null,null,null,null,null,null,null,null,null,null,null,null,null,null,null,null,null,null,null,null,null,null,{"$f":"SUM(BA179:BA183)","v":0},{"$f":"SUM(BB179:BB183)","v":0},{"$f":"SUM(BC179:BC183)","v":0},{"$f":"SUM(BD179:BD183)","v":0},{"$f":"SUM(BE179:BE183)","v":0}]
["Díl:","5","Komunikace",null,null,null,null,null,null,null,null,null,null,null,1]
[31,"566903111R00","Vyspravení podkladu po překopech kam.hrubě drceným ","t",66.716300000000004,null,{"$f":"E186*F186","v":0},1.1000000000000001,{"$f":"E186*H186","v":73.387930000000011},0,{"$f":"E186*J186","v":0},null,null,null,2,null,null,null,null,null,null,null,null,null,null,null,1,1,1,null,null,null,null,null,null,null,null,null,null,null,null,null,null,null,null,null,null,null,null,null,null,1,{"$f":"IF(AZ186=1,G186,0)","v":0},{"$f":"IF(AZ186=2,G186,0)","v":0},{"$f":"IF(AZ186=3,G186,0)","v":0},{"$f":"IF(AZ186=4,G186,0)","v":0},{"$f":"IF(AZ186=5,G186,0)","v":0},null,null,null,null,null,null,null,null,null,null,null,null,null,null,null,null,null,null,null,null,null,1,1]
[null,null,"KP PVC DN150 (14 kusů) (Průměrná hloubka výkopů 2,00 m):69,90*0,80*0,25*1,873",null,26.1845,null,null,null,null,null,null,null,"KP PVC DN150 (14 kusů) (Průměrná hloubka výkopů 2,00 m):69,90*0,80*0,25*1,873"]
[null,null,"VP PE D 32x3,0 mm (27 kusů) (Průměrná hloubka výkopů 1,65 m):103,10*0,80*0,25*1,873",null,38.621299999999998,null,null,null,null,null,null,null,"VP PE D 32x3,0 mm (27 kusů) (Průměrná hloubka výkopů 1,65 m):103,10*0,80*0,25*1,873"]
[null,null,"VP PE D 90x8,2 mm (1 kus) (Průměrná hloubka výkopů 1,65 m):5,10*0,80*0,25*1,873",null,1.9105000000000001,null,null,null,null,null,null,null,"VP PE D 90x8,2 mm (1 kus) (Průměrná hloubka výkopů 1,65 m):5,10*0,80*0,25*1,873"]
[32,"566904111R00","Vyspravení podkladu po překopech kam.obal.asfaltem ","t",53.43,null,{"$f":"E190*F190","v":0},1,{"$f":"E190*H190","v":53.43},0,{"$f":"E190*J190","v":0},null,null,null,2,null,null,null,null,null,null,null,null,null,null,null,1,1,1,null,null,null,null,null,null,null,null,null,null,null,null,null,null,null,null,null,null,null,null,null,null,1,{"$f":"IF(AZ190=1,G190,0)","v":0},{"$f":"IF(AZ190=2,G190,0)","v":0},{"$f":"IF(AZ190=3,G190,0)","v":0},{"$f":"IF(AZ190=4,G190,0)","v":0},{"$f":"IF(AZ190=5,G190,0)","v":0},null,null,null,null,null,null,null,null,null,null,null,null,null,null,null,null,null,null,null,null,null,1,1]
[null,null,"KP PVC DN150 (14 kusů) (Průměrná hloubka výkopů 2,00 m):69,90*0,80*0,15*2,5",null,20.97,null,null,null,null,null,null,null,"KP PVC DN150 (14 kusů) (Průměrná hloubka výkopů 2,00 m):69,90*0,80*0,15*2,5"]
[null,null,"VP PE D 32x3,0 mm (27 kusů) (Průměrná hloubka výkopů 1,65 m):103,10*0,80*0,15*2,5",null,30.93,null,null,null,null,null,null,null,"VP PE D 32x3,0 mm (27 kusů) (Průměrná hloubka výkopů 1,65 m):103,10*0,80*0,15*2,5"]
[null,null,"VP PE D 90x8,2 mm (1 kus) (Průměrná hloubka výkopů 1,65 m):5,10*0,80*0,15*2,5",null,1.53,null,null,null,null,null,null,null,"VP PE D 90x8,2 mm (1 kus) (Průměrná hloubka výkopů 1,65 m):5,10*0,80*0,15*2,5"]
[null,"Celkem za","5 Komunikace",null,null,null,{"$f":"SUM(G185:G193)","v":0},null,{"$f":"SUM(I185:I193)","v":126.81793000000002},null,{"$f":"SUM(K185:K193)","v":0},null,null,null,4,null,null,null,null,null,null,null,null,null,null,null,null,null,null,null,null,null,null,null,null,null,null,null,null,null,null,null,null,null,null,null,null,null,null,null,null,null,{"$f":"SUM(BA185:BA193)","v":0},{"$f":"SUM(BB185:BB193)","v":0},{"$f":"SUM(BC185:BC193)","v":0},{"$f":"SUM(BD185:BD193)","v":0},{"$f":"SUM(BE185:BE193)","v":0}]
["Díl:","8","Trubní vedení",null,null,null,null,null,null,null,null,null,null,null,1]
[33,"871161121R00","Montáž trubek polyetylenových ve výkopu d 32 mm ","m",173.1,null,{"$f":"E196*F196","v":0},0,{"$f":"E196*H196","v":0},0,{"$f":"E196*J196","v":0},null,null,null,2,null,null,null,null,null,null,null,null,null,null,null,1,1,1,null,null,null,null,null,null,null,null,null,null,null,null,null,null,null,null,null,null,null,null,null,null,1,{"$f":"IF(AZ196=1,G196,0)","v":0},{"$f":"IF(AZ196=2,G196,0)","v":0},{"$f":"IF(AZ196=3,G196,0)","v":0},{"$f":"IF(AZ196=4,G196,0)","v":0},{"$f":"IF(AZ196=5,G196,0)","v":0},null,null,null,null,null,null,null,null,null,null,null,null,null,null,null,null,null,null,null,null,null,1,1]
[null,null,"V položce je uvažováno použití svitku. ",null,null,null,null,null,null,null,null,"V položce je uvažováno použití svitku. ",null,null,3]
[null,null,"VP PE D 32x3,0 mm (27 kusů):173,10",null,173.1,null,null,null,null,null,null,null,"VP PE D 32x3,0 mm (27 kusů):173,10"]
[34,"871241121R00","Montáž potrubí polyetylenového ve výkopu d 90 mm ","m",5.0999999999999996,null,{"$f":"E199*F199","v":0},0,{"$f":"E199*H199","v":0},0,{"$f":"E199*J199","v":0},null,null,null,2,null,null,null,null,null,null,null,null,null,null,null,1,1,1,null,null,null,null,null,null,null,null,null,null,null,null,null,null,null,null,null,null,null,null,null,null,1,{"$f":"IF(AZ199=1,G199,0)","v":0},{"$f":"IF(AZ199=2,G199,0)","v":0},{"$f":"IF(AZ199=3,G199,0)","v":0},{"$f":"IF(AZ199=4,G199,0)","v":0},{"$f":"IF(AZ199=5,G199,0)","v":0},null,null,null,null,null,null,null,null,null,null,null,null,null,null,null,null,null,null,null,null,null,1,1]
[null,null,"V položce je uvažováno s jedním spojem na 6 m potrubí.",null,null,null,null,null,null,null,null,"V položce je uvažováno s jedním spojem na 6 m potrubí.",null,null,3]
[null,null,"VP PE D 90x8,2 mm (1 kus):5,10",null,5.0999999999999996,null,null,null,null,null,null,null,"VP PE D 90x8,2 mm (1 kus):5,10"]
[35,"871313121R00","Montáž trub z plastu, gumový kroužek, DN 150 ","m",94.9,null,{"$f":"E202*F202","v":0},0,{"$f":"E202*H202","v":0},0,{"$f":"E202*J202","v":0},null,null,null,2,null,null,null,null,null,null,null,null,null,null,null,1,0,0,null,null,null,null,null,null,null,null,null,null,null,null,null,null,null,null,null,null,null,null,null,null,1,{"$f":"IF(AZ202=1,G202,0)","v":0},{"$f":"IF(AZ202=2,G202,0)","v":0},{"$f":"IF(AZ202=3,G202,0)","v":0},{"$f":"IF(AZ202=4,G202,0)","v":0},{"$f":"IF(AZ202=5,G202,0)","v":0},null,null,null,null,null,null,null,null,null,null,null,null,null,null,null,null,null,null,null,null,null,1,0]
[null,null,"V položce je uvažováno s jedním spojem na 6 m potrubí. Položka je určena pro montáž potrubí z kanalizačních trub z plastu těsněných gumovým kroužkem v otevřeném výkopu ve sklonu do 20 %.",null,null,null,null,null,null,null,null,"V položce je uvažováno s jedním spojem na 6 m potrubí. Položka je určena pro montáž potrubí z kanalizačních trub z plastu těsněných gumovým kroužkem v otevřeném výkopu ve sklonu do 20 %.",null,null,3]
[null,null,"KP PVC DN150 (14 kusů):94,90",null,94.9,null,null,null,null,null,null,null,"KP PVC DN150 (14 kusů):94,90"]
[36,"877313123R00","Montáž tvarovek jednoos. plast. gum.kroužek DN 150 ","kus",28,null,{"$f":"E205*F205","v":0},1.0000000000000001E-5,{"$f":"E205*H205","v":2.8000000000000003E-4},0,{"$f":"E205*J205","v":0},null,null,null,2,null,null,null,null,null,null,null,null,null,null,null,1,1,1,null,null,null,null,null,null,null,null,null,null,null,null,null,null,null,null,null,null,null,null,null,null,1,{"$f":"IF(AZ205=1,G205,0)","v":0},{"$f":"IF(AZ205=2,G205,0)","v":0},{"$f":"IF(AZ205=3,G205,0)","v":0},{"$f":"IF(AZ205=4,G205,0)","v":0},{"$f":"IF(AZ205=5,G205,0)","v":0},null,null,null,null,null,null,null,null,null,null,null,null,null,null,null,null,null,null,null,null,null,1,1]
[null,null,"Položka je určena pro montáž tvarovek jednoosých na potrubí z kanalizačních trub z plastu těsněných gumovým kroužkem v otevřeném výkopu.",null,null,null,null,null,null,null,null,"Položka je určena pro montáž tvarovek jednoosých na potrubí z kanalizačních trub z plastu těsněných gumovým kroužkem v otevřeném výkopu.",null,null,3]
[null,null,"KP PVC DN150 (14 kusů):28",null,28,null,null,null,null,null,null,null,"KP PVC DN150 (14 kusů):28"]
[37,"891183420RX0","Přepojení stávajících UV potrubí PVC  DN 150 včetně dodávky přepojovací tvarovky a potrubí","kus",3,null,{"$f":"E208*F208","v":0},4.6000000000000001E-4,{"$f":"E208*H208","v":1.3800000000000002E-3},0,{"$f":"E208*J208","v":0},null,null,null,2,null,null,null,null,null,null,null,null,null,null,null,1,1,1,null,null,null,null,null,null,null,null,null,null,null,null,null,null,null,null,null,null,null,null,null,null,1,{"$f":"IF(AZ208=1,G208,0)","v":0},{"$f":"IF(AZ208=2,G208,0)","v":0},{"$f":"IF(AZ208=3,G208,0)","v":0},{"$f":"IF(AZ208=4,G208,0)","v":0},{"$f":"IF(AZ208=5,G208,0)","v":0},null,null,null,null,null,null,null,null,null,null,null,null,null,null,null,null,null,null,null,null,null,1,1]
[null,null,"Položka obsahuje přerušení stávajícího potrubí, montáž a dodávku příslušné tvarovky pro propojení stávajícího potrubí s novou stokou nebo RŠ včetně dodávky potrubí délky do 3 m a potřebných tvarovek",null,null,null,null,null,null,null,null,"Položka obsahuje přerušení stávajícího potrubí, montáž a dodávku příslušné tvarovky pro propojení stávajícího potrubí s novou stokou nebo RŠ včetně dodávky potrubí délky do 3 m a potřebných tvarovek",null,null,3]
[38,"891183429RX0","Přepojení potrubí PVC na přípojkách DN 150 včetně dodávky přepojovací tvarovky","kus",14,null,{"$f":"E210*F210","v":0},4.6000000000000001E-4,{"$f":"E210*H210","v":6.4400000000000004E-3},0,{"$f":"E210*J210","v":0},null,null,null,2,null,null,null,null,null,null,null,null,null,null,null,1,1,1,null,null,null,null,null,null,null,null,null,null,null,null,null,null,null,null,null,null,null,null,null,null,1,{"$f":"IF(AZ210=1,G210,0)","v":0},{"$f":"IF(AZ210=2,G210,0)","v":0},{"$f":"IF(AZ210=3,G210,0)","v":0},{"$f":"IF(AZ210=4,G210,0)","v":0},{"$f":"IF(AZ210=5,G210,0)","v":0},null,null,null,null,null,null,null,null,null,null,null,null,null,null,null,null,null,null,null,null,null,1,1]
[null,null,"Položka obsahuje přerušení stávajícího potrubí, montáž a dodávku příslušné tvarovky pro propojení stávajícího potrubí s novou přípojkou nebo RŠ DN150",null,null,null,null,null,null,null,null,"Položka obsahuje přerušení stávajícího potrubí, montáž a dodávku příslušné tvarovky pro propojení stávajícího potrubí s novou přípojkou nebo RŠ DN150",null,null,3]
[null,null,"KP PVC DN150 (14 kusů):14",null,14,null,null,null,null,null,null,null,"KP PVC DN150 (14 kusů):14"]
[39,"891183439RX0","Přepojení potrubí PE na přípojkách D 32 včetně dodávky přepojovací tvarovky","kus",27,null,{"$f":"E213*F213","v":0},4.6000000000000001E-4,{"$f":"E213*H213","v":1.242E-2},0,{"$f":"E213*J213","v":0},null,null,null,2,null,null,null,null,null,null,null,null,null,null,null,1,1,1,null,null,null,null,null,null,null,null,null,null,null,null,null,null,null,null,null,null,null,null,null,null,1,{"$f":"IF(AZ213=1,G213,0)","v":0},{"$f":"IF(AZ213=2,G213,0)","v":0},{"$f":"IF(AZ213=3,G213,0)","v":0},{"$f":"IF(AZ213=4,G213,0)","v":0},{"$f":"IF(AZ213=5,G213,0)","v":0},null,null,null,null,null,null,null,null,null,null,null,null,null,null,null,null,null,null,null,null,null,1,1]
[null,null,"Položka obsahuje přerušení stávajícího potrubí, montáž a dodávku příslušné tvarovky pro propojení stávajícího potrubí (PE, ocel a pod.)  s novým potrubím (PE D 32x3,0 mm) přípojky  D 32",null,null,null,null,null,null,null,null,"Položka obsahuje přerušení stávajícího potrubí, montáž a dodávku příslušné tvarovky pro propojení stávajícího potrubí (PE, ocel a pod.)  s novým potrubím (PE D 32x3,0 mm) přípojky  D 32",null,null,3]
[null,null,"VP PE D 32x3,0 mm (27 kusů):27",null,27,null,null,null,null,null,null,null,"VP PE D 32x3,0 mm (27 kusů):27"]
[40,"891183448RX0","Přepojení potrubí PE na přípojkách D 90 včetně dodávky přepojovací tvarovky","kus",1,null,{"$f":"E216*F216","v":0},4.6000000000000001E-4,{"$f":"E216*H216","v":4.6000000000000001E-4},0,{"$f":"E216*J216","v":0},null,null,null,2,null,null,null,null,null,null,null,null,null,null,null,1,1,1,null,null,null,null,null,null,null,null,null,null,null,null,null,null,null,null,null,null,null,null,null,null,1,{"$f":"IF(AZ216=1,G216,0)","v":0},{"$f":"IF(AZ216=2,G216,0)","v":0},{"$f":"IF(AZ216=3,G216,0)","v":0},{"$f":"IF(AZ216=4,G216,0)","v":0},{"$f":"IF(AZ216=5,G216,0)","v":0},null,null,null,null,null,null,null,null,null,null,null,null,null,null,null,null,null,null,null,null,null,1,1]
[null,null,"Položka obsahuje přerušení stávajícího potrubí, montáž a dodávku příslušné tvarovky pro propojení stávajícího potrubí (PE, ocel a pod.)  s novým potrubím (PE D 90x8,2 mm) přípojky  D 90",null,null,null,null,null,null,null,null,"Položka obsahuje přerušení stávajícího potrubí, montáž a dodávku příslušné tvarovky pro propojení stávajícího potrubí (PE, ocel a pod.)  s novým potrubím (PE D 90x8,2 mm) přípojky  D 90",null,null,3]
[null,null,"VP PE D 90x8,2 mm (1 kus):1",null,1,null,null,null,null,null,null,null,"VP PE D 90x8,2 mm (1 kus):1"]
[41,"892233111R00","Desinfekce vodovodního potrubí DN 70 ","m",178.2,null,{"$f":"E219*F219","v":0},0,{"$f":"E219*H219","v":0},0,{"$f":"E219*J219","v":0},null,null,null,2,null,null,null,null,null,null,null,null,null,null,null,1,1,1,null,null,null,null,null,null,null,null,null,null,null,null,null,null,null,null,null,null,null,null,null,null,1,{"$f":"IF(AZ219=1,G219,0)","v":0},{"$f":"IF(AZ219=2,G219,0)","v":0},{"$f":"IF(AZ219=3,G219,0)","v":0},{"$f":"IF(AZ219=4,G219,0)","v":0},{"$f":"IF(AZ219=5,G219,0)","v":0},null,null,null,null,null,null,null,null,null,null,null,null,null,null,null,null,null,null,null,null,null,1,1]
[null,null,"V položce jsou zakalkulovány náklady na napuštění a vypuštění vody, dodání vody a desinfekčního prostředku a na bakteriologický rozbor vody.",null,null,null,null,null,null,null,null,"V položce jsou zakalkulovány náklady na napuštění a vypuštění vody, dodání vody a desinfekčního prostředku a na bakteriologický rozbor vody.",null,null,3]
[null,null,"VP PE D 32x3,0 mm (27 kusů):173,10",null,173.1,null,null,null,null,null,null,null,"VP PE D 32x3,0 mm (27 kusů):173,10"]
[null,null,"VP PE D 90x8,2 mm (2 kus):5,10",null,5.0999999999999996,null,null,null,null,null,null,null,"VP PE D 90x8,2 mm (2 kus):5,10"]
[42,"892241111R00","Tlaková zkouška vodovodního potrubí DN 80 včetně zajištění konců potrubí","m",178.2,null,{"$f":"E223*F223","v":0},0,{"$f":"E223*H223","v":0},0,{"$f":"E223*J223","v":0},null,null,null,2,null,null,null,null,null,null,null,null,null,null,null,1,1,1,null,null,null,null,null,null,null,null,null,null,null,null,null,null,null,null,null,null,null,null,null,null,1,{"$f":"IF(AZ223=1,G223,0)","v":0},{"$f":"IF(AZ223=2,G223,0)","v":0},{"$f":"IF(AZ223=3,G223,0)","v":0},{"$f":"IF(AZ223=4,G223,0)","v":0},{"$f":"IF(AZ223=5,G223,0)","v":0},null,null,null,null,null,null,null,null,null,null,null,null,null,null,null,null,null,null,null,null,null,1,1]
[null,null,"V položce jsou započteny náklady na přísun, montáž, demontáž a odsun zkoušecího čerpadla, napuštění tlakovou vodou a dodání vody pro tlakovou zkoušku.",null,null,null,null,null,null,null,null,"V položce jsou započteny náklady na přísun, montáž, demontáž a odsun zkoušecího čerpadla, napuštění tlakovou vodou a dodání vody pro tlakovou zkoušku.",null,null,3]
[null,null,"VP PE D 32x3,0 mm (27 kusů):173,10",null,173.1,null,null,null,null,null,null,null,"VP PE D 32x3,0 mm (27 kusů):173,10"]
[null,null,"VP PE D 90x8,2 mm (2 kus):5,10",null,5.0999999999999996,null,null,null,null,null,null,null,"VP PE D 90x8,2 mm (2 kus):5,10"]
[43,"892601121R00","Čištění kanalizační stoky do DN 200, do 15 m ","úsek",14,null,{"$f":"E227*F227","v":0},0,{"$f":"E227*H227","v":0},0,{"$f":"E227*J227","v":0},null,null,null,2,null,null,null,null,null,null,null,null,null,null,null,1,1,1,null,null,null,null,null,null,null,null,null,null,null,null,null,null,null,null,null,null,null,null,null,null,1,{"$f":"IF(AZ227=1,G227,0)","v":0},{"$f":"IF(AZ227=2,G227,0)","v":0},{"$f":"IF(AZ227=3,G227,0)","v":0},{"$f":"IF(AZ227=4,G227,0)","v":0},{"$f":"IF(AZ227=5,G227,0)","v":0},null,null,null,null,null,null,null,null,null,null,null,null,null,null,null,null,null,null,null,null,null,1,1]
[null,null,"V položce je zakalkulováno:",null,null,null,null,null,null,null,null,"V položce je zakalkulováno:",null,null,3]
[null,null,"a) otevření a uzavření revizních šachet a čisticích kusů",null,null,null,null,null,null,null,null,"a) otevření a uzavření revizních šachet a čisticích kusů",null,null,3]
[null,null,"b) natažení vysokotlakých hadic k místu odkud se bude kanalizace čistit",null,null,null,null,null,null,null,null,"b) natažení vysokotlakých hadic k místu odkud se bude kanalizace čistit",null,null,3]
[null,null,"c) vyčištění potrubí tlakovou vodou nebo motorovým pérem.",null,null,null,null,null,null,null,null,"c) vyčištění potrubí tlakovou vodou nebo motorovým pérem.",null,null,3]
[null,null,"KP PVC DN150 (14 kusů):14",null,14,null,null,null,null,null,null,null,"KP PVC DN150 (14 kusů):14"]
[44,"892855111R00","Kontrola kanalizace TV kamerou do 15 m ","úsek",14,null,{"$f":"E233*F233","v":0},0,{"$f":"E233*H233","v":0},0,{"$f":"E233*J233","v":0},null,null,null,2,null,null,null,null,null,null,null,null,null,null,null,1,1,1,null,null,null,null,null,null,null,null,null,null,null,null,null,null,null,null,null,null,null,null,null,null,1,{"$f":"IF(AZ233=1,G233,0)","v":0},{"$f":"IF(AZ233=2,G233,0)","v":0},{"$f":"IF(AZ233=3,G233,0)","v":0},{"$f":"IF(AZ233=4,G233,0)","v":0},{"$f":"IF(AZ233=5,G233,0)","v":0},null,null,null,null,null,null,null,null,null,null,null,null,null,null,null,null,null,null,null,null,null,1,1]
[null,null,"KP PVC DN150 (14 kusů):14",null,14,null,null,null,null,null,null,null,"KP PVC DN150 (14 kusů):14"]
[45,"893151111RRX","Montáž šachty vodoměrné a revizní plastové kruhové ve volném terénu","kus",7,null,{"$f":"E235*F235","v":0},0.51066,{"$f":"E235*H235","v":3.5746199999999999},0,{"$f":"E235*J235","v":0},null,null,null,2,null,null,null,null,null,null,null,null,null,null,null,1,1,1,null,null,null,null,null,null,null,null,null,null,null,null,null,null,null,null,null,null,null,null,null,null,1,{"$f":"IF(AZ235=1,G235,0)","v":0},{"$f":"IF(AZ235=2,G235,0)","v":0},{"$f":"IF(AZ235=3,G235,0)","v":0},{"$f":"IF(AZ235=4,G235,0)","v":0},{"$f":"IF(AZ235=5,G235,0)","v":0},null,null,null,null,null,null,null,null,null,null,null,null,null,null,null,null,null,null,null,null,null,1,1]
[null,null,"Součástí položky je :",null,null,null,null,null,null,null,null,"Součástí položky je :",null,null,3]
[null,null,"- provedení kompletních zemních prací pro VŠ ve volném terénu včetně zpětného obsypů VŠ, odvozu na skládku přabytečného výkopku a poplatek za skládku zeminy",null,null,null,null,null,null,null,null,"- provedení kompletních zemních prací pro VŠ ve volném terénu včetně zpětného obsypů VŠ, odvozu na skládku přabytečného výkopku a poplatek za skládku zeminy",null,null,3]
[null,null,"- šterkové lože tl. 10 cm",null,null,null,null,null,null,null,null,"- šterkové lože tl. 10 cm",null,null,3]
[null,null,"- podkladní beton v tl. 10 cm ",null,null,null,null,null,null,null,null,"- podkladní beton v tl. 10 cm ",null,null,3]
[null,null,"- osazení samotné VŠ",null,null,null,null,null,null,null,null,"- osazení samotné VŠ",null,null,3]
[null,null,"Provedení dle projektové dokumentace",null,null,null,null,null,null,null,null,"Provedení dle projektové dokumentace",null,null,3]
[46,"893151155RR1","Montáž vodoměrné sestavy pro PE D 32x3,0 mm včetně dodávky VS","kus",7,null,{"$f":"E242*F242","v":0},0.50214999999999999,{"$f":"E242*H242","v":3.51505},0,{"$f":"E242*J242","v":0},null,null,null,2,null,null,null,null,null,null,null,null,null,null,null,1,1,1,null,null,null,null,null,null,null,null,null,null,null,null,null,null,null,null,null,null,null,null,null,null,1,{"$f":"IF(AZ242=1,G242,0)","v":0},{"$f":"IF(AZ242=2,G242,0)","v":0},{"$f":"IF(AZ242=3,G242,0)","v":0},{"$f":"IF(AZ242=4,G242,0)","v":0},{"$f":"IF(AZ242=5,G242,0)","v":0},null,null,null,null,null,null,null,null,null,null,null,null,null,null,null,null,null,null,null,null,null,1,1]
[null,null,"Provedení dle projektové dokumentace a standartů investora (VHS Turnov) a provozovatele (SčVaK)",null,null,null,null,null,null,null,null,"Provedení dle projektové dokumentace a standartů investora (VHS Turnov) a provozovatele (SčVaK)",null,null,3]
[47,"894431321RBB","Šachta, D 425 mm, dl.šach.roury 2,0 m, přímá dno KG D 160 mm, poklop šedá litina 40 t","kus",14,null,{"$f":"E244*F244","v":0},9.3259999999999996E-2,{"$f":"E244*H244","v":1.3056399999999999},0,{"$f":"E244*J244","v":0},null,null,null,2,null,null,null,null,null,null,null,null,null,null,null,1,1,1,null,null,null,null,null,null,null,null,null,null,null,null,null,null,null,null,null,null,null,null,null,null,1,{"$f":"IF(AZ244=1,G244,0)","v":0},{"$f":"IF(AZ244=2,G244,0)","v":0},{"$f":"IF(AZ244=3,G244,0)","v":0},{"$f":"IF(AZ244=4,G244,0)","v":0},{"$f":"IF(AZ244=5,G244,0)","v":0},null,null,null,null,null,null,null,null,null,null,null,null,null,null,null,null,null,null,null,null,null,1,1]
[null,null,"Plastové dno, šachta z korugované trouby, těsnění, šachtová roura teleskopická, rám do teleskopické trouby, poklop litinový.",null,null,null,null,null,null,null,null,"Plastové dno, šachta z korugované trouby, těsnění, šachtová roura teleskopická, rám do teleskopické trouby, poklop litinový.",null,null,3]
[null,null,"KP PVC DN150 (14 kusů):14",null,14,null,null,null,null,null,null,null,"KP PVC DN150 (14 kusů):14"]
[48,"899711122R00","Fólie výstražná z PVC, šířka 30 cm ","m",273.10000000000002,null,{"$f":"E247*F247","v":0},0,{"$f":"E247*H247","v":0},0,{"$f":"E247*J247","v":0},null,null,null,2,null,null,null,null,null,null,null,null,null,null,null,1,1,1,null,null,null,null,null,null,null,null,null,null,null,null,null,null,null,null,null,null,null,null,null,null,1,{"$f":"IF(AZ247=1,G247,0)","v":0},{"$f":"IF(AZ247=2,G247,0)","v":0},{"$f":"IF(AZ247=3,G247,0)","v":0},{"$f":"IF(AZ247=4,G247,0)","v":0},{"$f":"IF(AZ247=5,G247,0)","v":0},null,null,null,null,null,null,null,null,null,null,null,null,null,null,null,null,null,null,null,null,null,1,1]
[null,null,"KP PVC DN150 (14 kusů):94,90",null,94.9,null,null,null,null,null,null,null,"KP PVC DN150 (14 kusů):94,90"]
[null,null,"VP PE D 32x3,0 mm (27 kusů):173,10",null,173.1,null,null,null,null,null,null,null,"VP PE D 32x3,0 mm (27 kusů):173,10"]
[null,null,"VP PE D 90x8,2 mm (2 kus):5,10",null,5.0999999999999996,null,null,null,null,null,null,null,"VP PE D 90x8,2 mm (2 kus):5,10"]
[49,"899731114R00","Vodič signalizační CYY 6 mm2 ","m",178.2,null,{"$f":"E251*F251","v":0},8.0000000000000007E-5,{"$f":"E251*H251","v":1.4256E-2},0,{"$f":"E251*J251","v":0},null,null,null,2,null,null,null,null,null,null,null,null,null,null,null,1,1,1,null,null,null,null,null,null,null,null,null,null,null,null,null,null,null,null,null,null,null,null,null,null,1,{"$f":"IF(AZ251=1,G251,0)","v":0},{"$f":"IF(AZ251=2,G251,0)","v":0},{"$f":"IF(AZ251=3,G251,0)","v":0},{"$f":"IF(AZ251=4,G251,0)","v":0},{"$f":"IF(AZ251=5,G251,0)","v":0},null,null,null,null,null,null,null,null,null,null,null,null,null,null,null,null,null,null,null,null,null,1,1]
[null,null,"Součástí položky je zajištění proměření vodiče a výchozí zevize.",null,null,null,null,null,null,null,null,"Součástí položky je zajištění proměření vodiče a výchozí zevize.",null,null,3]
[null,null,"VP PE D 32x3,0 mm (27 kusů):173,10",null,173.1,null,null,null,null,null,null,null,"VP PE D 32x3,0 mm (27 kusů):173,10"]
[null,null,"VP PE D 90x8,2 mm (2 kus):5,10",null,5.0999999999999996,null,null,null,null,null,null,null,"VP PE D 90x8,2 mm (2 kus):5,10"]
[50,"286111903.R","Trubka kanalizační PVC SN min. 12 DN 150","m",97.747,null,{"$f":"E255*F255","v":0},8.2000000000000007E-3,{"$f":"E255*H255","v":0.80152540000000005},null,{"$f":"E255*J255","v":0},null,null,null,2,null,null,null,null,null,null,null,null,null,null,null,3,1,"286111903.R",null,null,null,null,null,null,null,null,null,null,null,null,null,null,null,null,null,null,null,null,null,null,1,{"$f":"IF(AZ255=1,G255,0)","v":0},{"$f":"IF(AZ255=2,G255,0)","v":0},{"$f":"IF(AZ255=3,G255,0)","v":0},{"$f":"IF(AZ255=4,G255,0)","v":0},{"$f":"IF(AZ255=5,G255,0)","v":0},null,null,null,null,null,null,null,null,null,null,null,null,null,null,null,null,null,null,null,null,null,3,1]
[null,null,"Jedná  se  o  plnostěnné kanalizační trubky DN 150 – DN 400 a DN 500 KOMPAKT min. SN 12 kN/m2 , zvenčí  i  zevnitř  hladké. Jsou  opatřeny hrdlem,  v  němž  je  vložen vysoce  elastický  jazýčkový  kroužek.  konce  trubek  (dříků)  jsou opatřeny  zkosením  pod  úhlem  15°.  Způsob  použití  trubek  je  „U“  dle  normy  ČSN  EN  1401-1, tj. mimo budovy. Spolehlivá  funkce  těsnění  je  jištěna  výztužným  kroužkem  z  elastomeru.  Je  tak  zamezeno  vypad-nutí nebo vytlačení kroužku při manipulaci a montáži. Tento systém zaručuje při správné montáži ",null,null,null,null,null,null,null,null,"Jedná  se  o  plnostěnné kanalizační trubky DN 150 – DN 400 a DN 500 KOMPAKT min. SN 12 kN/m2 , zvenčí  i  zevnitř  hladké. Jsou  opatřeny hrdlem,  v  němž  je  vložen vysoce  elastický  jazýčkový  kroužek.  konce  trubek  (dříků)  jsou opatřeny  zkosením  pod  úhlem  15°.  Způsob  použití  trubek  je  „U“  dle  normy  ČSN  EN  1401-1, tj. mimo budovy. Spolehlivá  funkce  těsnění  je  jištěna  výztužným  kroužkem  z  elastomeru.  Je  tak  zamezeno  vypad-nutí nebo vytlačení kroužku při manipulaci a montáži. Tento systém zaručuje při správné montáži ",null,null,3]
[null,null,"dokonalou  těsnost  do  výšky  vodního  sloupce  5  metrů.",null,null,null,null,null,null,null,null,"dokonalou  těsnost  do  výšky  vodního  sloupce  5  metrů.",null,null,3]
[null,null,"Teplota při pokládce: min. -10 °C, max. 50 °C",null,null,null,null,null,null,null,null,"Teplota při pokládce: min. -10 °C, max. 50 °C",null,null,3]
[null,null,"Max. teplota média: trvale do 40 °C, krátkodobě do 60 °C",null,null,null,null,null,null,null,null,"Max. teplota média: trvale do 40 °C, krátkodobě do 60 °C",null,null,3]
[null,null,"Orientační výška krytí: min. 0,5 m, max. 10 m",null,null,null,null,null,null,null,null,"Orientační výška krytí: min. 0,5 m, max. 10 m",null,null,3]
[null,null,"Max. rychlost média: 12 m/s",null,null,null,null,null,null,null,null,"Max. rychlost média: 12 m/s",null,null,3]
[null,null,"KP PVC DN150 (14 kusů):94,90*1,03",null,97.747,null,null,null,null,null,null,null,"KP PVC DN150 (14 kusů):94,90*1,03"]
[51,"28613576.01.R","Trubka PE100RC2 SDR11 D 32x3,0 mm L 100m","m",175.69649999999999,null,{"$f":"E263*F263","v":0},3.79E-3,{"$f":"E263*H263","v":0.66588973499999993},null,{"$f":"E263*J263","v":0},null,null,null,2,null,null,null,null,null,null,null,null,null,null,null,3,1,"28613576.01.R",null,null,null,null,null,null,null,null,null,null,null,null,null,null,null,null,null,null,null,null,null,null,1,{"$f":"IF(AZ263=1,G263,0)","v":0},{"$f":"IF(AZ263=2,G263,0)","v":0},{"$f":"IF(AZ263=3,G263,0)","v":0},{"$f":"IF(AZ263=4,G263,0)","v":0},{"$f":"IF(AZ263=5,G263,0)","v":0},null,null,null,null,null,null,null,null,null,null,null,null,null,null,null,null,null,null,null,null,null,3,1]
[null,null,"VP PE D 32x3,0 mm (27 kusů):173,10*1,015",null,175.69649999999999,null,null,null,null,null,null,null,"VP PE D 32x3,0 mm (27 kusů):173,10*1,015"]
[52,"28613576.6.R","Trubka PE100RC2 SDR11 D 90x8,6 mm L 12 m","m",5.1764999999999999,null,{"$f":"E265*F265","v":0},3.79E-3,{"$f":"E265*H265","v":1.9618935000000001E-2},null,{"$f":"E265*J265","v":0},null,null,null,2,null,null,null,null,null,null,null,null,null,null,null,3,1,"28613576.6.R",null,null,null,null,null,null,null,null,null,null,null,null,null,null,null,null,null,null,null,null,null,null,1,{"$f":"IF(AZ265=1,G265,0)","v":0},{"$f":"IF(AZ265=2,G265,0)","v":0},{"$f":"IF(AZ265=3,G265,0)","v":0},{"$f":"IF(AZ265=4,G265,0)","v":0},{"$f":"IF(AZ265=5,G265,0)","v":0},null,null,null,null,null,null,null,null,null,null,null,null,null,null,null,null,null,null,null,null,null,3,1]
[null,null,"VP PE D 90x8,2 mm (1 kus):5,10*1,015",null,5.1764999999999999,null,null,null,null,null,null,null,"VP PE D 90x8,2 mm (1 kus):5,10*1,015"]
[53,"286506003.R","Koleno kanalizační PVC SDR 34 DN 150/45°","kus",28.42,null,{"$f":"E267*F267","v":0},1.2700000000000001E-3,{"$f":"E267*H267","v":3.6093400000000005E-2},null,{"$f":"E267*J267","v":0},null,null,null,2,null,null,null,null,null,null,null,null,null,null,null,3,1,"286506003.R",null,null,null,null,null,null,null,null,null,null,null,null,null,null,null,null,null,null,null,null,null,null,1,{"$f":"IF(AZ267=1,G267,0)","v":0},{"$f":"IF(AZ267=2,G267,0)","v":0},{"$f":"IF(AZ267=3,G267,0)","v":0},{"$f":"IF(AZ267=4,G267,0)","v":0},{"$f":"IF(AZ267=5,G267,0)","v":0},null,null,null,null,null,null,null,null,null,null,null,null,null,null,null,null,null,null,null,null,null,3,1]
[null,null,"Tvarovky kanalizačního systému PVC SDR 34",null,null,null,null,null,null,null,null,"Tvarovky kanalizačního systému PVC SDR 34",null,null,3]
[null,null,"Teplota při pokládce: min. -10 °C, max. 50 °C",null,null,null,null,null,null,null,null,"Teplota při pokládce: min. -10 °C, max. 50 °C",null,null,3]
[null,null,"Max. teplota média: trvale do 40 °C, krátkodobě do 60 °C",null,null,null,null,null,null,null,null,"Max. teplota média: trvale do 40 °C, krátkodobě do 60 °C",null,null,3]
[null,null,"Orientační výška krytí: min. 0,5 m, max. 10 m",null,null,null,null,null,null,null,null,"Orientační výška krytí: min. 0,5 m, max. 10 m",null,null,3]
[null,null,"Max. rychlost média: 12 m/s",null,null,null,null,null,null,null,null,"Max. rychlost média: 12 m/s",null,null,3]
[null,null,"KP PVC DN150 (14 kusů):28*1,015",null,28.42,null,null,null,null,null,null,null,"KP PVC DN150 (14 kusů):28*1,015"]
[54,"28697267.R","Šachta vodoměrná samonosná H 120 cm, poklop DN 100 cm","kus",7,null,{"$f":"E274*F274","v":0},0.11799999999999999,{"$f":"E274*H274","v":0.82599999999999996},null,{"$f":"E274*J274","v":0},null,null,null,2,null,null,null,null,null,null,null,null,null,null,null,3,1,"28697267.R",null,null,null,null,null,null,null,null,null,null,null,null,null,null,null,null,null,null,null,null,null,null,1,{"$f":"IF(AZ274=1,G274,0)","v":0},{"$f":"IF(AZ274=2,G274,0)","v":0},{"$f":"IF(AZ274=3,G274,0)","v":0},{"$f":"IF(AZ274=4,G274,0)","v":0},{"$f":"IF(AZ274=5,G274,0)","v":0},null,null,null,null,null,null,null,null,null,null,null,null,null,null,null,null,null,null,null,null,null,3,1]
[null,"Celkem za","8 Trubní vedení",null,null,null,{"$f":"SUM(G195:G274)","v":0},null,{"$f":"SUM(I195:I274)","v":10.779673470000001},null,{"$f":"SUM(K195:K274)","v":0},null,null,null,4,null,null,null,null,null,null,null,null,null,null,null,null,null,null,null,null,null,null,null,null,null,null,null,null,null,null,null,null,null,null,null,null,null,null,null,null,null,{"$f":"SUM(BA195:BA274)","v":0},{"$f":"SUM(BB195:BB274)","v":0},{"$f":"SUM(BC195:BC274)","v":0},{"$f":"SUM(BD195:BD274)","v":0},{"$f":"SUM(BE195:BE274)","v":0}]
["Díl:","99","Staveništní přesun hmot",null,null,null,null,null,null,null,null,null,null,null,1]
[55,"998276101R00","Přesun hmot, trubní vedení plastová, otevř. výkop ","t",613.21205286999998,null,{"$f":"E277*F277","v":0},0,{"$f":"E277*H277","v":0},null,{"$f":"E277*J277","v":0},null,null,null,2,null,null,null,null,null,null,null,null,null,null,null,7,1,2,null,null,null,null,null,null,null,null,null,null,null,null,null,null,null,null,null,null,null,null,null,null,1,{"$f":"IF(AZ277=1,G277,0)","v":0},{"$f":"IF(AZ277=2,G277,0)","v":0},{"$f":"IF(AZ277=3,G277,0)","v":0},{"$f":"IF(AZ277=4,G277,0)","v":0},{"$f":"IF(AZ277=5,G277,0)","v":0},null,null,null,null,null,null,null,null,null,null,null,null,null,null,null,null,null,null,null,null,null,7,1]
[null,"Celkem za","99 Staveništní přesun hmot",null,null,null,{"$f":"SUM(G276:G277)","v":0},null,{"$f":"SUM(I276:I277)","v":0},null,{"$f":"SUM(K276:K277)","v":0},null,null,null,4,null,null,null,null,null,null,null,null,null,null,null,null,null,null,null,null,null,null,null,null,null,null,null,null,null,null,null,null,null,null,null,null,null,null,null,null,null,{"$f":"SUM(BA276:BA277)","v":0},{"$f":"SUM(BB276:BB277)","v":0},{"$f":"SUM(BC276:BC277)","v":0},{"$f":"SUM(BD276:BD277)","v":0},{"$f":"SUM(BE276:BE277)","v":0}]

{"sheet":"OaVNS","index":25,"n_rows":31,"n_cols":67,"rows_kept":31,"cut":false,"hidden":false,"merged":[[0,0,0,6],[2,0,2,1],[3,0,3,1],[3,4,3,6],[6,2,6,6]]}
["Položkový rozpočet "]
[]
["Stavba :",null,"3334 Lomnice nad Popelkou - Vodovod a kanalizace",null,"Rozpočet:","OaVNS"]
["Objekt :",null,"OaVNS - Ostatní a vedlejší náklady stavby "]
[]
["P.č.","Číslo položky","Název položky","MJ","množství","cena / MJ","celkem (Kč)","Jednotková hmotnost","Celková hmotnost","Jednotková dem.hmot.","Celková dem.hmot."]
["Díl:","950","Ostatní náklady stavby"]
[1,"950 99-0001.ONS","Zajištění prostoru a vybudování zařízení staveniště včetně potřebných staveništních komunikací","soubor",1,null,{"$f":"SUM(E8*F8)","v":0},8.6899999999999998E-3,{"$f":"E8*H8","v":8.6899999999999998E-3},0,{"$f":"E8*J8","v":0},null,null,null,null,null,null,null,null,null,null,null,null,null,null,null,null,null,null,null,null,null,null,null,null,null,null,null,null,null,null,null,null,null,null,null,null,null,null,null,null,null,null,null,null,null,null,null,null,null,null,null,null,null,null,1,1]
[2,"950 99-0003.ONS","Zajištění bezpečnosti při provádění stavby ve smyslu bezpečnosti práce i ochrany životního prostředí a zeleně","soubor",1,null,{"$f":"SUM(E9*F9)","v":0}]
[3,"950 99-0005.ONS","Vytýčení stavby a hranic pozemků při provádění stavby ","soubor",1,null,0]
[4,"950 99-0006.ONS","Zajištění včasného oznámení o zahájení prací majitelům pozemků a správců sítí dotčených stavbou","soubor",1,null,0]
[5,"950 99-0007.ONS","Spolupráce s vlastníky pozemků při případném uvolnění pozemků pro stavbu (např. skládky osobního materiálu vlastníků)","soubor",1,null,0,2.478E-2,{"$f":"E12*H12","v":2.478E-2},0,{"$f":"E12*J12","v":0},null,null,null,null,null,null,null,null,null,null,null,null,null,null,null,null,null,null,null,null,null,null,null,null,null,null,null,null,null,null,null,null,null,null,null,null,null,null,null,null,null,null,null,null,null,null,null,null,null,null,null,null,null,null,1,1]
[6,"950 99-0008.ONS","Zajištění vytýčení podzemních zařízení, a v případě jejich křížení či souběhu v otevřeném výkopu, jejich písemné předání zpět jejich správcům před zásypem","soubor",1,null,0]
[7,"950 99-0009.ONS","Vypracování a projednání návrhu dočasných dopravních opatření (případně i po etapách dle zvoleného postupu prací zhotovitelem)","soubor",1,null,0]
[8,"950 99-0010.ONS","Zajištění povolení zvláštního užívání komunikací v souladu s postupem výstavby,včetně správních poplatků a povolení k užívání dalších, stavbou dotčených pozemků   (skládky materiálu, mezideponie atd.)","soubor",1,null,0]
[9,"950 99-0011.ONS","Zřízení, údržba a likvidace dopravního opatření po dobu realizace stavby (případně i po etapách dle zvoleného postupu prací zhotovitelem)","soubor",1,null,0,0,{"$f":"E16*H16","v":0},0,{"$f":"E16*J16","v":0},null,null,null,null,null,null,null,null,null,null,null,null,null,null,null,null,null,null,null,null,null,null,null,null,null,null,null,null,null,null,null,null,null,null,null,null,null,null,null,null,null,null,null,null,null,null,null,null,null,null,null,null,null,null,1,1]
[10,"950 99-0013.ONS","Zajištění činnosti odpovědného geodeta zhotovitele","soubor",1,null,0]
[11,"950 99-0014.ONS","Zajištění činnosti odpovědného geologa zhotovitele","soubor",1,null,0]
[12,"950 99-0015.ONS","Zajištění čistoty na staveništi a v jeho okolí, zajištění každodenního čištění komunikací dotčených provozem zhotovitele","soubor",1,null,0]
[13,"950 99-0016.ONS","Fotodokumentace průběhu díla; zhotovitel zajistí a předá objednateli průběžnou fotodokumentaci realizace díla. Fotodokumentace bude dokladovat průběh díla a bude zejména dokumentovat části stavby a konstrukce před jejich zakrytím","soubor",1,null,0]
[14,"950 99-0017.ONS","Péče o nepředané objekty nebo jejich části a konstrukce stavby, jejich ošetřování a nutný rozsah pojištění","soubor",1,null,0,0,{"$f":"E21*H21","v":0},0,{"$f":"E21*J21","v":0},null,null,null,null,null,null,null,null,null,null,null,null,null,null,null,null,null,null,null,null,null,null,null,null,null,null,null,null,null,null,null,null,null,null,null,null,null,null,null,null,null,null,null,null,null,null,null,null,null,null,null,null,null,null,1,1]
[15,"950 99-0018.ONS","Zkoušky hutnění komunikací a rýh dle ČSN a EN","soubor",1,null,0]
[16,"950 99-0021.ONS","Inženýrská a kompletační činnost zhotovitele  včetně koordinace prací na VH sítí a komunikace s realizací investiční akce ČEZu.","soubor",1,null,0]
[17,"950 99-0022.ONS","Zhotovení dokumentace skutečného provedení díla ","soubor",1,null,0]
[18,"950 99-0023.ONS","Geodetické zaměření stavby","soubor",1,null,0]
[19,"950 99-0024.ONS","Pasportizace objektů a komunikací před zahájením stavby včetně předání fotokokumentace investorovi stavby v digitální a tištěné podobě.","soubor",1,null,0]
[20,"950 99-0025.ONS","Monitoring objektů během realizace stavby.","soubor",5,null,0]
[21,"950 99-0026.ONS","Provizorní zásobování vodou (cisterna) během realizace stavby nezávisle na provizorním vodovodu stavby.","soubor",1,null,0]
[22,"950 99-0028.ONS","Ostatní činnosti nutné ke zdárnému provedení díla, které jsou vymezeny zejména v technické specifikaci stavby","soubor",1,null,0]
[]
[null,"ONS Celkem",null,null,null,null,{"$f":"SUM(G8:G29)","v":0}]