{"text_format":"1","workbook":"xlsx","n_sheets":17,"sheets":["Stavba","101.1 3331101.1 KL","101.1 3331101.1 Rek","101.1 3331101.1 Pol","101.1 3331101.2 KL","101.1 3331101.2 Rek","101.1 3331101.2 Pol","301.1 3332301.1 KL","301.1 3332301.1 Rek","301.1 3332301.1 Pol","301.2 3332301.2 KL","301.2 3332301.2 Rek","301.2 3332301.2 Pol","302.1 3332302.1 KL","302.1 3332302.1 Rek","302.1 3332302.1 Pol","OaVNS"],"not_rendered":{"charts":0,"images":0,"macros":0,"external_links":0,"defined_names":73,"comments":0,"pivot_tables":0},"unopened":[],"bounds":{"document_bytes":16777216,"sheet_cells":100000,"rows_first":2000,"rows_last":500,"rows_between":2000,"halvings":0,"cell_chars":16384,"cell_head_chars":4096},"cells_cut":0,"cells_raw":0,"read":"whole","date_system":"1900"}

{"sheet":"Stavba","index":0,"n_rows":45,"n_cols":10,"rows_kept":45,"cut":false,"hidden":false,"merged":[[18,8,18,9],[19,8,19,9],[20,8,20,9],[21,8,21,9],[22,8,22,9]]}
[]
[null,null,"Položkový rozpočet stavby",null,null,null,null,"Datum: ",{"$f":"TODAY()","v":"2022-12-16"}]
[null,null,null," "]
[]
[null,null,"Stavba :","3332","Loučky - Obnova vodovodu v centrální části obce"]
[]
[null,null,"Objednatel : ","Vodohospodářské sdružení Turnov",null,null,null,"IČO :","49295934"]
[null,null,null,"Antonína Dvořáka 287",null,null,null,"DIČ :","CZ49295934"]
[null,null,"51101","Turnov"]
[]
[null,null,"Zhotovitel : ",".",null,null,null,"IČO :"]
[null,null,null,null,null,null,null,"DIČ :"]
[]
[null,null,"Za zhotovitele :",null,null,null,null,"Za objednatele :"]
[]
[null,null,"_______________",null,null,null,null,"_______________"]
[]
[null,null,null,null,null,null,null,null,null,"Rozpočtové náklady"]
[null,"Základ pro DPH",null,15,"%",null,null,null,{"$f":"ROUND(G35,0)","v":0}]
[null,"DPH ",null,{"$f":"SazbaDPH1","v":15},"%",null,null,null,{"$f":"ROUND(I19*D20/100,0)","v":0}]
[null,"Základ pro DPH",null,21,"%",null,null,null,{"$f":"ROUND(H35,0)","v":500000}]
[null,"DPH ",null,{"$f":"SazbaDPH2","v":21},"%",null,null,null,{"$f":"ROUND(I21*D21/100,0)","v":105000}]
[null,"Cena celkem za stavbu",null,null,null,null,null,null,{"$f":"SUM(I19:I22)","v":605000}]
[]
[]
[null,"Rekapitulace stavebních objektů a provozních souborů"]
[]
[null,"Číslo a název objektu / provozního souboru",null,null,null,"Cena celkem",{"$f":"CONCATENATE(\"Základ DPH \",SazbaDPH1,\" %\")","v":"Základ DPH 15 %"},{"$f":"CONCATENATE(\"Základ DPH \",SazbaDPH2,\" %\")","v":"Základ DPH 21 %"},"DPH celkem","%"]
[null,"101.1","Komunikace - 1.část",null,null,{"$f":"G29+H29+I29","v":0},0,{"$f":"SUM(H40:H41)","v":0},{"$f":"(G29*SazbaDPH1)/100+(H29*SazbaDPH2)/100","v":0},{"$f":"IF(CelkemObjekty=0,\"\",F29/CelkemObjekty*100)","v":0}]
[null,"301.1","Vodovod - 1.část",null,null,{"$f":"G30+H30+I30","v":0},0,{"$f":"SUM(H42)","v":0},0,0]
[null,"301.2","Vodovod - 2.část",null,null,0,0,{"$f":"SUM(H43)","v":0},0,0]
[null,"302.1","Dešťová kanalizace - 1.část",null,null,0,0,{"$f":"SUM(H44)","v":0},0,0]
[null,"OaVNS","Ostatní a vedlejší náklady stavby",null,null,0,0,{"$f":"SUM(OaVNS!G31)","v":0},0,0]
[null,"PR","Povinná rezerva",null,null,605000,0,500000,105000,100]
[null,"Celkem za stavbu",null,null,null,{"$f":"SUM(F29:F34)","v":605000},{"$f":"SUM(G29:G34)","v":0},{"$f":"SUM(H29:H34)","v":500000},{"$f":"SUM(I29:I34)","v":105000},{"$f":"IF(CelkemObjekty=0,\"\",F35/CelkemObjekty*100)","v":100}]
[]
[null,"Rekapitulace stavebních rozpočtů"]
[]
[null,"Číslo objektu","Číslo a název rozpočtu",null,null,"Cena celkem",{"$f":"CONCATENATE(\"Základ DPH \",SazbaDPH1,\" %\")","v":"Základ DPH 15 %"},{"$f":"CONCATENATE(\"Základ DPH \",SazbaDPH2,\" %\")","v":"Základ DPH 21 %"},"DPH celkem","%"]
[null,"101.1","3331/101.1 Komunikace - 1.část - KSSLK 28211",null,null,{"$f":"G40+H40+I40","v":0},0,{"$f":"SUM('101.1 3331101.1 KL'!C23)","v":0},{"$f":"(G40*SazbaDPH1)/100+(H40*SazbaDPH2)/100","v":0},{"$f":"IF(CelkemObjekty=0,\"\",F40/CelkemObjekty*100)","v":0}]
[null,"101.1","3331/101.2 Komunikace - 1.část - Místní komunikace",null,null,{"$f":"G41+H41+I41","v":0},0,{"$f":"SUM('101.1 3331101.2 KL'!C23)","v":0},0,0]
[null,"301.1","3332/301.1 Vodovod - 1.část",null,null,0,0,{"$f":"SUM('301.1 3332301.1 KL'!C23)","v":0},0,0]
[null,"301.2","3332/301.2 Vodovod - 2.část",null,null,0,0,{"$f":"SUM('301.2 3332301.2 KL'!C23)","v":0},0,0]
[null,"302.1","3332/302.1 Dešťová kanalizace - 1.část",null,null,0,0,{"$f":"SUM('302.1 3332302.1 KL'!C23)","v":0},0,0]
[null,"Celkem za stavbu",null,null,null,{"$f":"SUM(F40:F44)","v":0},{"$f":"SUM(G40:G44)","v":0},{"$f":"SUM(H40:H44)","v":0},{"$f":"SUM(I40:I44)","v":0},{"$f":"IF(CelkemObjekty=0,\"\",F45/CelkemObjekty*100)","v":0}]

{"sheet":"101.1 3331101.1 KL","index":1,"n_rows":45,"n_cols":8,"rows_kept":45,"cut":false,"hidden":false,"merged":[[50,1,50,6],[29,5,29,6],[30,5,30,6],[31,5,31,6],[32,5,32,6],[33,5,33,6],[36,1,44,6],[45,1,45,6],[46,1,46,6],[47,1,47,6],[48,1,48,6],[49,1,49,6],[22,0,22,1],[7,2,7,4],[8,2,8,4],[9,2,9,4],[10,2,10,4],[11,2,11,4]]}
["POLOŽKOVÝ ROZPOČET"]
["Rozpočet",null,"3331/101.1","Komunikace - 1.část - KSSLK 28211",null,"JKSO ","822.24"]
[]
["Objekt",null,null,null,null,"SKP "]
["101.1",null,"Komunikace - 1.část",null,null,"Měrná jednotka","m2"]
["Stavba",null,null,null,null,"Počet jednotek",0]
["3332",null,"Obnova vodovodu a kanalizace  v Obci Loučky",null,null,"Náklady na m.j.",{"$f":"IF(G6=0,,ROUND((F30+F32)/G6,1))","v":0}]
["Projektant",null,"LK PROJEKT s.r.o.",null,null,"Typ rozpočtu"]
["Zpracovatel projektu"]
["Objednatel",null,"Vodohospodářské sdružení Turnov"]
["Dodavatel",null,".",null,null,"Zakázkové číslo "]
["Rozpočtoval",null,null,null,null,"Počet listů"]
["ROZPOČTOVÉ NÁKLADY"]
["Základní rozpočtové náklady"]
[null,"HSV celkem",{"$f":"'101.1 3331101.1 Rek'!E14","v":0}]
["Z","PSV celkem",{"$f":"'101.1 3331101.1 Rek'!F14","v":0}]
["R","M práce celkem",{"$f":"'101.1 3331101.1 Rek'!H14","v":0}]
["N","M dodávky celkem",{"$f":"'101.1 3331101.1 Rek'!G14","v":0}]
["ZRN celkem",null,{"$f":"SUM(C15:C18)","v":0}]
[]
["HZS",null,{"$f":"'101.1 3331101.1 Rek'!I14","v":0}]
["ZRN+HZS",null,{"$f":"C19+C21","v":0}]
["ZRN+ost.náklady+HZS",null,{"$f":"C22+G23","v":0}]
["Vypracoval",null,null,"Za zhotovitele",null,"Za objednatele"]
["Jméno :",null,null,"Jméno :",null,"Jméno :"]
["Datum :",null,null,"Datum :",null,"Datum :"]
[]
["Podpis :",null,null,"Podpis:",null,"Podpis:"]
[]
["Základ pro DPH",null,21,"%  ",null,{"$f":"C23-F32","v":0}]
["DPH",null,{"$f":"C30","v":21},"% ",null,{"$f":"ROUND(PRODUCT(F30,C31/100),0)","v":0}]
["Základ pro DPH",null,0,"% ",null,0]
["DPH",null,{"$f":"C32","v":0},"% ",null,{"$f":"ROUND(PRODUCT(F32,C33/100),0)","v":0}]
["CENA ZA OBJEKT CELKEM",null,null,null,null,{"$f":"ROUND(SUM(F30:F33),0)","v":0}]
[]
["Poznámka :",null,null,null,null,null,null," "]
[null,null,null,null,null,null,null," "]
[null,null,null,null,null,null,null," "]
[null,null,null,null,null,null,null," "]
[null,null,null,null,null,null,null," "]
[null,null,null,null,null,null,null," "]
[null,null,null,null,null,null,null," "]
[null,null,null,null,null,null,null," "]
[null,null,null,null,null,null,null," "]
[null,null,null,null,null,null,null," "]

{"sheet":"101.1 3331101.1 Rek","index":2,"n_rows":14,"n_cols":9,"rows_kept":14,"cut":false,"hidden":false,"merged":[[0,0,0,1],[1,0,1,1],[1,6,1,8]]}
["Stavba :",null,"3332 Obnova vodovodu a kanalizace  v Obci Loučky",null,null,null,"Rozpočet :","3331/101.1"]
["Objekt :",null,"101.1 Komunikace - 1.část",null,null,null,"Komunikace - 1.část - KSSLK 28211"]
[]
["REKAPITULACE  STAVEBNÍCH  DÍLŮ"]
[]
[null,"Stavební díl",null,null,"HSV","PSV","Dodávka","Montáž","HZS"]
[{"$f":"'101.1 3331101.1 Pol'!B7","v":"1"},{"$f":"'101.1 3331101.1 Pol'!C7","v":"Zemní práce"},null,null,{"$f":"'101.1 3331101.1 Pol'!BA66","v":0},{"$f":"'101.1 3331101.1 Pol'!BB66","v":0},{"$f":"'101.1 3331101.1 Pol'!BC66","v":0},{"$f":"'101.1 3331101.1 Pol'!BD66","v":0},{"$f":"'101.1 3331101.1 Pol'!BE66","v":0}]
[{"$f":"'101.1 3331101.1 Pol'!B67","v":"2"},{"$f":"'101.1 3331101.1 Pol'!C67","v":"Základy a zvláštní zakládání"},null,null,{"$f":"'101.1 3331101.1 Pol'!BA74","v":0},{"$f":"'101.1 3331101.1 Pol'!BB74","v":0},{"$f":"'101.1 3331101.1 Pol'!BC74","v":0},{"$f":"'101.1 3331101.1 Pol'!BD74","v":0},{"$f":"'101.1 3331101.1 Pol'!BE74","v":0}]
[{"$f":"'101.1 3331101.1 Pol'!B75","v":"5"},{"$f":"'101.1 3331101.1 Pol'!C75","v":"Komunikace"},null,null,{"$f":"'101.1 3331101.1 Pol'!BA114","v":0},{"$f":"'101.1 3331101.1 Pol'!BB114","v":0},{"$f":"'101.1 3331101.1 Pol'!BC114","v":0},{"$f":"'101.1 3331101.1 Pol'!BD114","v":0},{"$f":"'101.1 3331101.1 Pol'!BE114","v":0}]
[{"$f":"'101.1 3331101.1 Pol'!B115","v":"91"},{"$f":"'101.1 3331101.1 Pol'!C115","v":"Doplňující práce na komunikaci"},null,null,{"$f":"'101.1 3331101.1 Pol'!BA131","v":0},{"$f":"'101.1 3331101.1 Pol'!BB131","v":0},{"$f":"'101.1 3331101.1 Pol'!BC131","v":0},{"$f":"'101.1 3331101.1 Pol'!BD131","v":0},{"$f":"'101.1 3331101.1 Pol'!BE131","v":0}]
[{"$f":"'101.1 3331101.1 Pol'!B132","v":"93"},{"$f":"'101.1 3331101.1 Pol'!C132","v":"Dokončovací práce inženýrských staveb"},null,null,{"$f":"'101.1 3331101.1 Pol'!BA140","v":0},{"$f":"'101.1 3331101.1 Pol'!BB140","v":0},{"$f":"'101.1 3331101.1 Pol'!BC140","v":0},{"$f":"'101.1 3331101.1 Pol'!BD140","v":0},{"$f":"'101.1 3331101.1 Pol'!BE140","v":0}]
[{"$f":"'101.1 3331101.1 Pol'!B141","v":"97"},{"$f":"'101.1 3331101.1 Pol'!C141","v":"Prorážení otvorů"},null,null,{"$f":"'101.1 3331101.1 Pol'!BA145","v":0},{"$f":"'101.1 3331101.1 Pol'!BB145","v":0},{"$f":"'101.1 3331101.1 Pol'!BC145","v":0},{"$f":"'101.1 3331101.1 Pol'!BD145","v":0},{"$f":"'101.1 3331101.1 Pol'!BE145","v":0}]
[{"$f":"'101.1 3331101.1 Pol'!B146","v":"99"},{"$f":"'101.1 3331101.1 Pol'!C146","v":"Staveništní přesun hmot"},null,null,{"$f":"'101.1 3331101.1 Pol'!BA148","v":0},{"$f":"'101.1 3331101.1 Pol'!BB148","v":0},{"$f":"'101.1 3331101.1 Pol'!BC148","v":0},{"$f":"'101.1 3331101.1 Pol'!BD148","v":0},{"$f":"'101.1 3331101.1 Pol'!BE148","v":0}]
[null,"CELKEM  OBJEKT",null,null,{"$f":"SUM(E7:E13)","v":0},{"$f":"SUM(F7:F13)","v":0},{"$f":"SUM(G7:G13)","v":0},{"$f":"SUM(H7:H13)","v":0},{"$f":"SUM(I7:I13)","v":0}]

{"sheet":"101.1 3331101.1 Pol","index":3,"n_rows":148,"n_cols":80,"rows_kept":148,"cut":false,"hidden":false,"merged":[[119,2,119,3],[121,2,121,3],[142,2,142,3],[143,2,143,3],[133,2,133,3],[135,2,135,3],[137,2,137,3],[138,2,138,3],[110,2,110,3],[112,2,112,3],[116,2,116,3],[117,2,117,3],[118,2,118,3],[82,2,82,3],[128,2,128,3],[129,2,129,3],[96,2,96,3],[97,2,97,3],[99,2,99,6],[100,2,100,3],[101,2,101,3],[103,2,103,3],[122,2,122,3],[123,2,123,3],[124,2,124,3],[127,2,127,3],[105,2,105,3],[107,2,107,3],[109,2,109,3],[72,2,72,3],[76,2,76,3],[78,2,78,3],[79,2,79,3],[81,2,81,3],[90,2,90,3],[91,2,91,3],[93,2,93,3],[94,2,94,3],[56,2,56,3],[57,2,57,3],[58,2,58,3],[59,2,59,3],[64,2,64,6],[84,2,84,3],[85,2,85,3],[87,2,87,3],[88,2,88,3],[68,2,68,3],[70,2,70,6],[71,2,71,3],[55,2,55,3],[40,2,40,3],[42,2,42,3],[44,2,44,3],[45,2,45,3],[46,2,46,3],[47,2,47,3],[48,2,48,3],[49,2,49,3],[51,2,51,3],[52,2,52,3],[54,2,54,3],[39,2,39,6],[23,2,23,3],[24,2,24,3],[26,2,26,3],[27,2,27,3],[29,2,29,3],[31,2,31,3],[32,2,32,3],[33,2,33,3],[35,2,35,3],[36,2,36,3],[37,2,37,3],[22,2,22,3],[0,0,0,6],[2,0,2,1],[3,0,3,1],[3,4,3,6],[8,2,8,3],[10,2,10,3],[12,2,12,3],[14,2,14,6],[15,2,15,3],[17,2,17,6],[18,2,18,6],[19,2,19,3],[21,2,21,6]]}
["Položkový rozpočet "]
[]
["Stavba :",null,"3332 Obnova vodovodu a kanalizace  v Obci Loučky",null,"Rozpočet:",{"$f":"'101.1 3331101.1 Rek'!H1","v":"3331/101.1"}]
["Objekt :",null,"101.1 Komunikace - 1.část",null,{"$f":"'101.1 3331101.1 Rek'!G2","v":"Komunikace - 1.část - KSSLK 28211"}]
[]
["P.č.","Číslo položky","Název položky","MJ","množství","cena / MJ","celkem (Kč)","Jednotková hmotnost","Celková hmotnost","Jednotková dem.hmot.","Celková dem.hmot."]
["Díl:","1","Zemní práce",null,null,null,null,null,null,null,null,null,null,null,1]
[1,"113106121R00","Rozebrání dlažeb z betonových dlaždic na sucho ","m2",68.5,null,{"$f":"E8*F8","v":0},0,{"$f":"E8*H8","v":0},-0.13800000000000001,{"$f":"E8*J8","v":-9.4530000000000012},null,null,null,2,null,null,null,null,null,null,null,null,null,null,null,1,1,1,null,null,null,null,null,null,null,null,null,null,null,null,null,null,null,null,null,null,null,null,null,null,1,{"$f":"IF(AZ8=1,G8,0)","v":0},{"$f":"IF(AZ8=2,G8,0)","v":0},{"$f":"IF(AZ8=3,G8,0)","v":0},{"$f":"IF(AZ8=4,G8,0)","v":0},{"$f":"IF(AZ8=5,G8,0)","v":0},null,null,null,null,null,null,null,null,null,null,null,null,null,null,null,null,null,null,null,null,null,1,1]
[null,null,"Stávající dlážděné chodníky - betonová dlažba:68,50",null,68.5,null,null,null,null,null,null,null,"Stávající dlážděné chodníky - betonová dlažba:68,50"]
[2,"113106231R00","Rozebrání dlažeb ze zámkové dlažby v kamenivu ","m2",125,null,{"$f":"E10*F10","v":0},0,{"$f":"E10*H10","v":0},-0.22500000000000001,{"$f":"E10*J10","v":-28.125},null,null,null,2,null,null,null,null,null,null,null,null,null,null,null,1,1,1,null,null,null,null,null,null,null,null,null,null,null,null,null,null,null,null,null,null,null,null,null,null,1,{"$f":"IF(AZ10=1,G10,0)","v":0},{"$f":"IF(AZ10=2,G10,0)","v":0},{"$f":"IF(AZ10=3,G10,0)","v":0},{"$f":"IF(AZ10=4,G10,0)","v":0},{"$f":"IF(AZ10=5,G10,0)","v":0},null,null,null,null,null,null,null,null,null,null,null,null,null,null,null,null,null,null,null,null,null,1,1]
[null,null,"Stávající dlážděné chodníky - zámková dlažba:125,00",null,125,null,null,null,null,null,null,null,"Stávající dlážděné chodníky - zámková dlažba:125,00"]
[3,"113107625R00","Odstranění podkladu nad 50 m2,kam.drcené tl.25 cm ","m2",3566,null,{"$f":"E12*F12","v":0},0,{"$f":"E12*H12","v":0},-0.55000000000000004,{"$f":"E12*J12","v":-1961.3000000000002},null,null,null,2,null,null,null,null,null,null,null,null,null,null,null,1,1,1,null,null,null,null,null,null,null,null,null,null,null,null,null,null,null,null,null,null,null,null,null,null,1,{"$f":"IF(AZ12=1,G12,0)","v":0},{"$f":"IF(AZ12=2,G12,0)","v":0},{"$f":"IF(AZ12=3,G12,0)","v":0},{"$f":"IF(AZ12=4,G12,0)","v":0},{"$f":"IF(AZ12=5,G12,0)","v":0},null,null,null,null,null,null,null,null,null,null,null,null,null,null,null,null,null,null,null,null,null,1,1]
[null,null,"Plocha komunikace KSS LK 28211:3566,00",null,3566,null,null,null,null,null,null,null,"Plocha komunikace KSS LK 28211:3566,00"]
[4,"113107640R00","Odstranění podkladu nad 50 m2,kam.drcené tl.40 cm ","m2",857.24,null,{"$f":"E14*F14","v":0},0,{"$f":"E14*H14","v":0},-0.88,{"$f":"E14*J14","v":-754.37120000000004},null,null,null,2,null,null,null,null,null,null,null,null,null,null,null,1,1,1,null,null,null,null,null,null,null,null,null,null,null,null,null,null,null,null,null,null,null,null,null,null,1,{"$f":"IF(AZ14=1,G14,0)","v":0},{"$f":"IF(AZ14=2,G14,0)","v":0},{"$f":"IF(AZ14=3,G14,0)","v":0},{"$f":"IF(AZ14=4,G14,0)","v":0},{"$f":"IF(AZ14=5,G14,0)","v":0},null,null,null,null,null,null,null,null,null,null,null,null,null,null,null,null,null,null,null,null,null,1,1]
[null,null,"Materiál pro použití do štěrkové vrstvy komunikace o objemu cca 80%. 20% odvoz na skládku.",null,null,null,null,null,null,null,null,"Materiál pro použití do štěrkové vrstvy komunikace o objemu cca 80%. 20% odvoz na skládku.",null,null,3]
[null,null,"Odstranění provizorního zásypu rýh VH sítí v komunikaci:857,24",null,857.24,null,null,null,null,null,null,null,"Odstranění provizorního zásypu rýh VH sítí v komunikaci:857,24"]
[5,"113151350R00","Fréz.živič.krytu nad 500 m2, s překážkami, tl.15cm ","m2",3566,null,{"$f":"E17*F17","v":0},0,{"$f":"E17*H17","v":0},-0.26400000000000001,{"$f":"E17*J17","v":-941.42400000000009},null,null,null,2,null,null,null,null,null,null,null,null,null,null,null,1,1,1,null,null,null,null,null,null,null,null,null,null,null,null,null,null,null,null,null,null,null,null,null,null,1,{"$f":"IF(AZ17=1,G17,0)","v":0},{"$f":"IF(AZ17=2,G17,0)","v":0},{"$f":"IF(AZ17=3,G17,0)","v":0},{"$f":"IF(AZ17=4,G17,0)","v":0},{"$f":"IF(AZ17=5,G17,0)","v":0},null,null,null,null,null,null,null,null,null,null,null,null,null,null,null,null,null,null,null,null,null,1,1]
[null,null,"Průměrná tl. asfaltové vrstvy 12 cm",null,null,null,null,null,null,null,null,"Průměrná tl. asfaltové vrstvy 12 cm",null,null,3]
[null,null,"Je počítáno nejdříve frézování pro rýhy VS sítí a následné dofrézování do celkové plochy. Záleží ale na zvolené technologii postupu výstavby zhotovitelem.",null,null,null,null,null,null,null,null,"Je počítáno nejdříve frézování pro rýhy VS sítí a následné dofrézování do celkové plochy. Záleží ale na zvolené technologii postupu výstavby zhotovitelem.",null,null,3]
[null,null,"Plocha komunikace KSS LK 28211:3566,00",null,3566,null,null,null,null,null,null,null,"Plocha komunikace KSS LK 28211:3566,00"]
[6,"113202111R00","Vytrhání obrub obrubníků silničních ","m",435,null,{"$f":"E21*F21","v":0},0,{"$f":"E21*H21","v":0},-0.27,{"$f":"E21*J21","v":-117.45},null,null,null,2,null,null,null,null,null,null,null,null,null,null,null,1,1,1,null,null,null,null,null,null,null,null,null,null,null,null,null,null,null,null,null,null,null,null,null,null,1,{"$f":"IF(AZ21=1,G21,0)","v":0},{"$f":"IF(AZ21=2,G21,0)","v":0},{"$f":"IF(AZ21=3,G21,0)","v":0},{"$f":"IF(AZ21=4,G21,0)","v":0},{"$f":"IF(AZ21=5,G21,0)","v":0},null,null,null,null,null,null,null,null,null,null,null,null,null,null,null,null,null,null,null,null,null,1,1]
[null,null,"Je uvažováno s ponecháním původních znovu osazovaných obrubníků podél komunikace a s odvozem nepoužitelných na skládku.",null,null,null,null,null,null,null,null,"Je uvažováno s ponecháním původních znovu osazovaných obrubníků podél komunikace a s odvozem nepoužitelných na skládku.",null,null,3]
[null,null,"Komunikace KSS LK 28211:",null,0,null,null,null,null,null,null,null,"Komunikace KSS LK 28211:"]
[null,null,"Původní obrubníky pro opětovné použití - 30% :870,00*0,3",null,261,null,null,null,null,null,null,null,"Původní obrubníky pro opětovné použití - 30% :870,00*0,3"]
[null,null,"Původní obrubníky - likvidace - 20%:870,00*0,20",null,174,null,null,null,null,null,null,null,"Původní obrubníky - likvidace - 20%:870,00*0,20"]
[7,"113203111R00","Vytrhání obrub z dlažebních kostek ","m",280,null,{"$f":"E26*F26","v":0},0,{"$f":"E26*H26","v":0},-0.115,{"$f":"E26*J26","v":-32.200000000000003},null,null,null,2,null,null,null,null,null,null,null,null,null,null,null,1,1,1,null,null,null,null,null,null,null,null,null,null,null,null,null,null,null,null,null,null,null,null,null,null,1,{"$f":"IF(AZ26=1,G26,0)","v":0},{"$f":"IF(AZ26=2,G26,0)","v":0},{"$f":"IF(AZ26=3,G26,0)","v":0},{"$f":"IF(AZ26=4,G26,0)","v":0},{"$f":"IF(AZ26=5,G26,0)","v":0},null,null,null,null,null,null,null,null,null,null,null,null,null,null,null,null,null,null,null,null,null,1,1]
[null,null,"Komunikace KSS LK 28211:",null,0,null,null,null,null,null,null,null,"Komunikace KSS LK 28211:"]
[null,null,"Původní obrubníky z velkých žulových kostet:280,00",null,280,null,null,null,null,null,null,null,"Původní obrubníky z velkých žulových kostet:280,00"]
[8,"121100002RAA","Sejmutí ornice a uložení na deponii zpětný přesun, rozprostření v tl. 20 cm, osetí","m3",56.55,null,{"$f":"E29*F29","v":0},0,{"$f":"E29*H29","v":0},0,{"$f":"E29*J29","v":0},null,null,null,2,null,null,null,null,null,null,null,null,null,null,null,1,1,1,null,null,null,null,null,null,null,null,null,null,null,null,null,null,null,null,null,null,null,null,null,null,1,{"$f":"IF(AZ29=1,G29,0)","v":0},{"$f":"IF(AZ29=2,G29,0)","v":0},{"$f":"IF(AZ29=3,G29,0)","v":0},{"$f":"IF(AZ29=4,G29,0)","v":0},{"$f":"IF(AZ29=5,G29,0)","v":0},null,null,null,null,null,null,null,null,null,null,null,null,null,null,null,null,null,null,null,null,null,1,1]
[null,null,"Podél komunikace u obrubníků:870,00*0,65*0,50*0,20",null,56.55,null,null,null,null,null,null,null,"Podél komunikace u obrubníků:870,00*0,65*0,50*0,20"]
[9,"122202202R00","Odkopávky pro silnice v hor. 3 do 1000 m3 ","m3",205.2,null,{"$f":"E31*F31","v":0},0,{"$f":"E31*H31","v":0},0,{"$f":"E31*J31","v":0},null,null,null,2,null,null,null,null,null,null,null,null,null,null,null,1,1,1,null,null,null,null,null,null,null,null,null,null,null,null,null,null,null,null,null,null,null,null,null,null,1,{"$f":"IF(AZ31=1,G31,0)","v":0},{"$f":"IF(AZ31=2,G31,0)","v":0},{"$f":"IF(AZ31=3,G31,0)","v":0},{"$f":"IF(AZ31=4,G31,0)","v":0},{"$f":"IF(AZ31=5,G31,0)","v":0},null,null,null,null,null,null,null,null,null,null,null,null,null,null,null,null,null,null,null,null,null,1,1]
[null,null,"Částečná sanace pláně komunikace:765,00*0,20",null,153,null,null,null,null,null,null,null,"Částečná sanace pláně komunikace:765,00*0,20"]
[null,null,"Pro osazení kamenných obrubníků:",null,0,null,null,null,null,null,null,null,"Pro osazení kamenných obrubníků:"]
[null,null,"Nové obrubníky - 50% doplnění:870,00*0,5*0,12",null,52.2,null,null,null,null,null,null,null,"Nové obrubníky - 50% doplnění:870,00*0,5*0,12"]
[10,"122202209R00","Příplatek za lepivost - odkop. pro silnice v hor.3 ","m3",102.6,null,{"$f":"E35*F35","v":0},0,{"$f":"E35*H35","v":0},0,{"$f":"E35*J35","v":0},null,null,null,2,null,null,null,null,null,null,null,null,null,null,null,1,1,1,null,null,null,null,null,null,null,null,null,null,null,null,null,null,null,null,null,null,null,null,null,null,1,{"$f":"IF(AZ35=1,G35,0)","v":0},{"$f":"IF(AZ35=2,G35,0)","v":0},{"$f":"IF(AZ35=3,G35,0)","v":0},{"$f":"IF(AZ35=4,G35,0)","v":0},{"$f":"IF(AZ35=5,G35,0)","v":0},null,null,null,null,null,null,null,null,null,null,null,null,null,null,null,null,null,null,null,null,null,1,1]
[null,null,"Částečná sanace pláně komunikace:765,00*0,20*0,5",null,76.5,null,null,null,null,null,null,null,"Částečná sanace pláně komunikace:765,00*0,20*0,5"]
[null,null,"Pro osazení kamenných obrubníků:",null,0,null,null,null,null,null,null,null,"Pro osazení kamenných obrubníků:"]
[null,null,"Nové obrubníky - 50% doplnění:870,00*0,5*0,12*0,5",null,26.1,null,null,null,null,null,null,null,"Nové obrubníky - 50% doplnění:870,00*0,5*0,12*0,5"]
[11,"132201110R00","Hloubení rýh š.do 60 cm v hor.3 do 50 m3, STROJNĚ ","m3",65.25,null,{"$f":"E39*F39","v":0},0,{"$f":"E39*H39","v":0},0,{"$f":"E39*J39","v":0},null,null,null,2,null,null,null,null,null,null,null,null,null,null,null,1,1,1,null,null,null,null,null,null,null,null,null,null,null,null,null,null,null,null,null,null,null,null,null,null,1,{"$f":"IF(AZ39=1,G39,0)","v":0},{"$f":"IF(AZ39=2,G39,0)","v":0},{"$f":"IF(AZ39=3,G39,0)","v":0},{"$f":"IF(AZ39=4,G39,0)","v":0},{"$f":"IF(AZ39=5,G39,0)","v":0},null,null,null,null,null,null,null,null,null,null,null,null,null,null,null,null,null,null,null,null,null,1,1]
[null,null,"Položka obsahuje hloubení rýh traktorbagrem, naložení výkopku na dopravní prostředek pro svislé, nebo vodorovné přemístění, popř. přemístění výkopku do 3 m (po povrchu území), případné zajištění rypadel polštáři, udržování pracoviště a ochranu výkopiště proti stékání srážkové vody z okolního terénu i s jejím odvodněním, nebo odvedením, přesekání a odstranění kořenů ve výkopišti, odstranění napadávek, urovnání dna výkopu.",null,null,null,null,null,null,null,null,"Položka obsahuje hloubení rýh traktorbagrem, naložení výkopku na dopravní prostředek pro svislé, nebo vodorovné přemístění, popř. přemístění výkopku do 3 m (po povrchu území), případné zajištění rypadel polštáři, udržování pracoviště a ochranu výkopiště proti stékání srážkové vody z okolního terénu i s jejím odvodněním, nebo odvedením, přesekání a odstranění kořenů ve výkopišti, odstranění napadávek, urovnání dna výkopu.",null,null,3]
[null,null,"Pro drenáže:870,00*0,25*0,30",null,65.25,null,null,null,null,null,null,null,"Pro drenáže:870,00*0,25*0,30"]
[12,"132201119R00","Přípl.za lepivost,hloubení rýh 60 cm,hor.3,STROJNĚ ","m3",32.625,null,{"$f":"E42*F42","v":0},0,{"$f":"E42*H42","v":0},0,{"$f":"E42*J42","v":0},null,null,null,2,null,null,null,null,null,null,null,null,null,null,null,1,1,1,null,null,null,null,null,null,null,null,null,null,null,null,null,null,null,null,null,null,null,null,null,null,1,{"$f":"IF(AZ42=1,G42,0)","v":0},{"$f":"IF(AZ42=2,G42,0)","v":0},{"$f":"IF(AZ42=3,G42,0)","v":0},{"$f":"IF(AZ42=4,G42,0)","v":0},{"$f":"IF(AZ42=5,G42,0)","v":0},null,null,null,null,null,null,null,null,null,null,null,null,null,null,null,null,null,null,null,null,null,1,1]
[null,null,"Pro drenáže:870,00*0,25*0,30*0,5",null,32.625,null,null,null,null,null,null,null,"Pro drenáže:870,00*0,25*0,30*0,5"]
[13,"162701105RSZ","Vodorovné přemístění výkopku z hor.1-4 na skládku zhotovitele","m3",270.45,null,{"$f":"E44*F44","v":0},0,{"$f":"E44*H44","v":0},0,{"$f":"E44*J44","v":0},null,null,null,2,null,null,null,null,null,null,null,null,null,null,null,1,1,1,null,null,null,null,null,null,null,null,null,null,null,null,null,null,null,null,null,null,null,null,null,null,1,{"$f":"IF(AZ44=1,G44,0)","v":0},{"$f":"IF(AZ44=2,G44,0)","v":0},{"$f":"IF(AZ44=3,G44,0)","v":0},{"$f":"IF(AZ44=4,G44,0)","v":0},{"$f":"IF(AZ44=5,G44,0)","v":0},null,null,null,null,null,null,null,null,null,null,null,null,null,null,null,null,null,null,null,null,null,1,1]
[null,null,"Z odkopávek:",null,0,null,null,null,null,null,null,null,"Z odkopávek:"]
[null,null,"Částečná sanace pláně komunikace:765,00*0,20",null,153,null,null,null,null,null,null,null,"Částečná sanace pláně komunikace:765,00*0,20"]
[null,null,"Pro osazení kamenných obrubníků:",null,0,null,null,null,null,null,null,null,"Pro osazení kamenných obrubníků:"]
[null,null,"Nové obrubníky - 50% doplnění:870,00*0,5*0,12",null,52.2,null,null,null,null,null,null,null,"Nové obrubníky - 50% doplnění:870,00*0,5*0,12"]
[null,null,"Z rýh:",null,0,null,null,null,null,null,null,null,"Z rýh:"]
[null,null,"Pro drenáže:870,00*0,25*0,30",null,65.25,null,null,null,null,null,null,null,"Pro drenáže:870,00*0,25*0,30"]
[14,"181101102R00","Úprava pláně v zářezech v hor. 1-4, se zhutněním ","m2",3827,null,{"$f":"E51*F51","v":0},0,{"$f":"E51*H51","v":0},0,{"$f":"E51*J51","v":0},null,null,null,2,null,null,null,null,null,null,null,null,null,null,null,1,1,1,null,null,null,null,null,null,null,null,null,null,null,null,null,null,null,null,null,null,null,null,null,null,1,{"$f":"IF(AZ51=1,G51,0)","v":0},{"$f":"IF(AZ51=2,G51,0)","v":0},{"$f":"IF(AZ51=3,G51,0)","v":0},{"$f":"IF(AZ51=4,G51,0)","v":0},{"$f":"IF(AZ51=5,G51,0)","v":0},null,null,null,null,null,null,null,null,null,null,null,null,null,null,null,null,null,null,null,null,null,1,1]
[null,null,"PLocha komunikace KSS LK 28211:3566,00",null,3566,null,null,null,null,null,null,null,"PLocha komunikace KSS LK 28211:3566,00"]
[null,null,"Rozšíření pod kamenné obrubníky a vjezdy:870,00*0,30",null,261,null,null,null,null,null,null,null,"Rozšíření pod kamenné obrubníky a vjezdy:870,00*0,30"]
[15,"199000002R00","Poplatek za skládku horniny 1- 4 č. dle katal. odpadů 17 05 04","m3",270.45,null,{"$f":"E54*F54","v":0},0,{"$f":"E54*H54","v":0},0,{"$f":"E54*J54","v":0},null,null,null,2,null,null,null,null,null,null,null,null,null,null,null,1,1,1,null,null,null,null,null,null,null,null,null,null,null,null,null,null,null,null,null,null,null,null,null,null,1,{"$f":"IF(AZ54=1,G54,0)","v":0},{"$f":"IF(AZ54=2,G54,0)","v":0},{"$f":"IF(AZ54=3,G54,0)","v":0},{"$f":"IF(AZ54=4,G54,0)","v":0},{"$f":"IF(AZ54=5,G54,0)","v":0},null,null,null,null,null,null,null,null,null,null,null,null,null,null,null,null,null,null,null,null,null,1,1]
[null,null,"Z odkopávek:",null,0,null,null,null,null,null,null,null,"Z odkopávek:"]
[null,null,"Částečná sanace pláně komunikace:765,00*0,20",null,153,null,null,null,null,null,null,null,"Částečná sanace pláně komunikace:765,00*0,20"]
[null,null,"Pro osazení kamenných obrubníků:",null,0,null,null,null,null,null,null,null,"Pro osazení kamenných obrubníků:"]
[null,null,"Nové obrubníky - 50% doplnění:870,00*0,5*0,12",null,52.2,null,null,null,null,null,null,null,"Nové obrubníky - 50% doplnění:870,00*0,5*0,12"]
[null,null,"Z rýh:",null,0,null,null,null,null,null,null,null,"Z rýh:"]
[null,null,"Pro drenáže:870,00*0,25*0,30",null,65.25,null,null,null,null,null,null,null,"Pro drenáže:870,00*0,25*0,30"]
[16,"979082113RSZ","Vodorovná doprava suti po suchu na skládku zhotovitele","t",3137.9562000000001,null,{"$f":"E61*F61","v":0},0,{"$f":"E61*H61","v":0},0,{"$f":"E61*J61","v":0},null,null,null,2,null,null,null,null,null,null,null,null,null,null,null,1,1,1,null,null,null,null,null,null,null,null,null,null,null,null,null,null,null,null,null,null,null,null,null,null,1,{"$f":"IF(AZ61=1,G61,0)","v":0},{"$f":"IF(AZ61=2,G61,0)","v":0},{"$f":"IF(AZ61=3,G61,0)","v":0},{"$f":"IF(AZ61=4,G61,0)","v":0},{"$f":"IF(AZ61=5,G61,0)","v":0},null,null,null,null,null,null,null,null,null,null,null,null,null,null,null,null,null,null,null,null,null,1,1]
[17,"979089001R00","Poplatek za skládku stavební suti štěrky z komunikací, skupina odpadu 010408","t",2112.1741999999999,null,{"$f":"E62*F62","v":0},0,{"$f":"E62*H62","v":0},0,{"$f":"E62*J62","v":0},null,null,null,2,null,null,null,null,null,null,null,null,null,null,null,1,1,1,null,null,null,null,null,null,null,null,null,null,null,null,null,null,null,null,null,null,null,null,null,null,1,{"$f":"IF(AZ62=1,G62,0)","v":0},{"$f":"IF(AZ62=2,G62,0)","v":0},{"$f":"IF(AZ62=3,G62,0)","v":0},{"$f":"IF(AZ62=4,G62,0)","v":0},{"$f":"IF(AZ62=5,G62,0)","v":0},null,null,null,null,null,null,null,null,null,null,null,null,null,null,null,null,null,null,null,null,null,1,1]
[18,"979990103R00","Poplatek za skládku stavební suti beton, kamenné obruby,...  skupina odpadu 170101","t",84.558000000000007,null,{"$f":"E63*F63","v":0},0,{"$f":"E63*H63","v":0},0,{"$f":"E63*J63","v":0},null,null,null,2,null,null,null,null,null,null,null,null,null,null,null,1,1,1,null,null,null,null,null,null,null,null,null,null,null,null,null,null,null,null,null,null,null,null,null,null,1,{"$f":"IF(AZ63=1,G63,0)","v":0},{"$f":"IF(AZ63=2,G63,0)","v":0},{"$f":"IF(AZ63=3,G63,0)","v":0},{"$f":"IF(AZ63=4,G63,0)","v":0},{"$f":"IF(AZ63=5,G63,0)","v":0},null,null,null,null,null,null,null,null,null,null,null,null,null,null,null,null,null,null,null,null,null,1,1]
[19,"979999995R00","Poplatek za reciklaci asfaltu, kusovost do 1600cm2 skupina 170302","t",941.42399999999998,null,{"$f":"E64*F64","v":0},0,{"$f":"E64*H64","v":0},0,{"$f":"E64*J64","v":0},null,null,null,2,null,null,null,null,null,null,null,null,null,null,null,1,1,1,null,null,null,null,null,null,null,null,null,null,null,null,null,null,null,null,null,null,null,null,null,null,1,{"$f":"IF(AZ64=1,G64,0)","v":0},{"$f":"IF(AZ64=2,G64,0)","v":0},{"$f":"IF(AZ64=3,G64,0)","v":0},{"$f":"IF(AZ64=4,G64,0)","v":0},{"$f":"IF(AZ64=5,G64,0)","v":0},null,null,null,null,null,null,null,null,null,null,null,null,null,null,null,null,null,null,null,null,null,1,1]
[null,null,"Položka je určena pro suť o velikosti kusu do 30x30 cm nebo frézovaný asfalt(technologický materiál určený k recyklaci).",null,null,null,null,null,null,null,null,"Položka je určena pro suť o velikosti kusu do 30x30 cm nebo frézovaný asfalt(technologický materiál určený k recyklaci).",null,null,3]
[null,"Celkem za","1 Zemní práce",null,null,null,{"$f":"SUM(G7:G65)","v":0},null,{"$f":"SUM(I7:I65)","v":0},null,{"$f":"SUM(K7:K65)","v":-3844.3231999999998},null,null,null,4,null,null,null,null,null,null,null,null,null,null,null,null,null,null,null,null,null,null,null,null,null,null,null,null,null,null,null,null,null,null,null,null,null,null,null,null,null,{"$f":"SUM(BA7:BA65)","v":0},{"$f":"SUM(BB7:BB65)","v":0},{"$f":"SUM(BC7:BC65)","v":0},{"$f":"SUM(BD7:BD65)","v":0},{"$f":"SUM(BE7:BE65)","v":0}]
["Díl:","2","Základy a zvláštní zakládání",null,null,null,null,null,null,null,null,null,null,null,1]
[20,"212810010RAC","Trativody z PVC drenážních flexibilních trubek lože štěrkopísek a obsyp kamenivo, trubky d 100 mm","m",1220,null,{"$f":"E68*F68","v":0},0.43651000000000001,{"$f":"E68*H68","v":532.54219999999998},0,{"$f":"E68*J68","v":0},null,null,null,2,null,null,null,null,null,null,null,null,null,null,null,1,1,1,null,null,null,null,null,null,null,null,null,null,null,null,null,null,null,null,null,null,null,null,null,null,1,{"$f":"IF(AZ68=1,G68,0)","v":0},{"$f":"IF(AZ68=2,G68,0)","v":0},{"$f":"IF(AZ68=3,G68,0)","v":0},{"$f":"IF(AZ68=4,G68,0)","v":0},{"$f":"IF(AZ68=5,G68,0)","v":0},null,null,null,null,null,null,null,null,null,null,null,null,null,null,null,null,null,null,null,null,null,1,1]
[null,null,"V komunikaci se zaústěním do UV - DN100:610,00*2",null,1220,null,null,null,null,null,null,null,"V komunikaci se zaústěním do UV - DN100:610,00*2"]
[21,"289970112R00","Vrstva geotextilie Geofiltex 500g/m2 ","m2",1503.6,null,{"$f":"E70*F70","v":0},5.0000000000000001E-4,{"$f":"E70*H70","v":0.75180000000000002},0,{"$f":"E70*J70","v":0},null,null,null,2,null,null,null,null,null,null,null,null,null,null,null,1,1,1,null,null,null,null,null,null,null,null,null,null,null,null,null,null,null,null,null,null,null,null,null,null,1,{"$f":"IF(AZ70=1,G70,0)","v":0},{"$f":"IF(AZ70=2,G70,0)","v":0},{"$f":"IF(AZ70=3,G70,0)","v":0},{"$f":"IF(AZ70=4,G70,0)","v":0},{"$f":"IF(AZ70=5,G70,0)","v":0},null,null,null,null,null,null,null,null,null,null,null,null,null,null,null,null,null,null,null,null,null,1,1]
[null,null,"Geotextílie tkaná z polyprop. s funkcí výztužnou, separační a filtrační s min. plošnou hmotností 500 g/m2. Pevnost v obou směrech min. 60kN/m2",null,null,null,null,null,null,null,null,"Geotextílie tkaná z polyprop. s funkcí výztužnou, separační a filtrační s min. plošnou hmotností 500 g/m2. Pevnost v obou směrech min. 60kN/m2",null,null,3]
[null,null,"Celá plocha sanace pláně :765,00*1,2",null,918,null,null,null,null,null,null,null,"Celá plocha sanace pláně :765,00*1,2"]
[null,null,"Plochy pro překrytí denáží:610,00*0,80*1,2",null,585.6,null,null,null,null,null,null,null,"Plochy pro překrytí denáží:610,00*0,80*1,2"]
[null,"Celkem za","2 Základy a zvláštní zakládání",null,null,null,{"$f":"SUM(G67:G73)","v":0},null,{"$f":"SUM(I67:I73)","v":533.29399999999998},null,{"$f":"SUM(K67:K73)","v":0},null,null,null,4,null,null,null,null,null,null,null,null,null,null,null,null,null,null,null,null,null,null,null,null,null,null,null,null,null,null,null,null,null,null,null,null,null,null,null,null,null,{"$f":"SUM(BA67:BA73)","v":0},{"$f":"SUM(BB67:BB73)","v":0},{"$f":"SUM(BC67:BC73)","v":0},{"$f":"SUM(BD67:BD73)","v":0},{"$f":"SUM(BE67:BE73)","v":0}]
["Díl:","5","Komunikace",null,null,null,null,null,null,null,null,null,null,null,1]
[22,"564761111R00","Podklad z kameniva drceného vel.32-63 mm,tl. 20 cm ","m2",765,null,{"$f":"E76*F76","v":0},0.43,{"$f":"E76*H76","v":328.95},0,{"$f":"E76*J76","v":0},null,null,null,2,null,null,null,null,null,null,null,null,null,null,null,1,1,1,null,null,null,null,null,null,null,null,null,null,null,null,null,null,null,null,null,null,null,null,null,null,1,{"$f":"IF(AZ76=1,G76,0)","v":0},{"$f":"IF(AZ76=2,G76,0)","v":0},{"$f":"IF(AZ76=3,G76,0)","v":0},{"$f":"IF(AZ76=4,G76,0)","v":0},{"$f":"IF(AZ76=5,G76,0)","v":0},null,null,null,null,null,null,null,null,null,null,null,null,null,null,null,null,null,null,null,null,null,1,1]
[null,null,"Částečná sanace pláně komunikace:765,00",null,765,null,null,null,null,null,null,null,"Částečná sanace pláně komunikace:765,00"]
[23,"564851111RT2","Podklad ze štěrkodrti po zhutnění tloušťky 15 cm štěrkodrť frakce 0-32 mm","m2",3759.5,null,{"$f":"E78*F78","v":0},0.378,{"$f":"E78*H78","v":1421.0910000000001},0,{"$f":"E78*J78","v":0},null,null,null,2,null,null,null,null,null,null,null,null,null,null,null,1,1,1,null,null,null,null,null,null,null,null,null,null,null,null,null,null,null,null,null,null,null,null,null,null,1,{"$f":"IF(AZ78=1,G78,0)","v":0},{"$f":"IF(AZ78=2,G78,0)","v":0},{"$f":"IF(AZ78=3,G78,0)","v":0},{"$f":"IF(AZ78=4,G78,0)","v":0},{"$f":"IF(AZ78=5,G78,0)","v":0},null,null,null,null,null,null,null,null,null,null,null,null,null,null,null,null,null,null,null,null,null,1,1]
[null,null,"PLocha komunikace KSS LK 28211:3566,00",null,3566,null,null,null,null,null,null,null,"PLocha komunikace KSS LK 28211:3566,00"]
[null,null,"Pod ZD:193,50",null,193.5,null,null,null,null,null,null,null,"Pod ZD:193,50"]
[24,"564851111RT4","Podklad ze štěrkodrti po zhutnění tloušťky 15 cm štěrkodrť frakce 0-63 mm","m2",3827,null,{"$f":"E81*F81","v":0},0.378,{"$f":"E81*H81","v":1446.606},0,{"$f":"E81*J81","v":0},null,null,null,2,null,null,null,null,null,null,null,null,null,null,null,1,1,1,null,null,null,null,null,null,null,null,null,null,null,null,null,null,null,null,null,null,null,null,null,null,1,{"$f":"IF(AZ81=1,G81,0)","v":0},{"$f":"IF(AZ81=2,G81,0)","v":0},{"$f":"IF(AZ81=3,G81,0)","v":0},{"$f":"IF(AZ81=4,G81,0)","v":0},{"$f":"IF(AZ81=5,G81,0)","v":0},null,null,null,null,null,null,null,null,null,null,null,null,null,null,null,null,null,null,null,null,null,1,1]
[null,null,"PLocha komunikace KSS LK 28211:3566,00",null,3566,null,null,null,null,null,null,null,"PLocha komunikace KSS LK 28211:3566,00"]
[null,null,"Rozšíření pod kamenné obrubníky a vjezdy:870,00*0,30",null,261,null,null,null,null,null,null,null,"Rozšíření pod kamenné obrubníky a vjezdy:870,00*0,30"]
[25,"569741111R00","Zpevnění krajnic kamenivem drceným tl. 12 cm ","m2",87.5,null,{"$f":"E84*F84","v":0},0.23480999999999999,{"$f":"E84*H84","v":20.545874999999999},0,{"$f":"E84*J84","v":0},null,null,null,2,null,null,null,null,null,null,null,null,null,null,null,1,1,1,null,null,null,null,null,null,null,null,null,null,null,null,null,null,null,null,null,null,null,null,null,null,1,{"$f":"IF(AZ84=1,G84,0)","v":0},{"$f":"IF(AZ84=2,G84,0)","v":0},{"$f":"IF(AZ84=3,G84,0)","v":0},{"$f":"IF(AZ84=4,G84,0)","v":0},{"$f":"IF(AZ84=5,G84,0)","v":0},null,null,null,null,null,null,null,null,null,null,null,null,null,null,null,null,null,null,null,null,null,1,1]
[null,null,"Komunikace KSS LK 28211:",null,0,null,null,null,null,null,null,null,"Komunikace KSS LK 28211:"]
[null,null,"Dosypání krajnic mimo vjezdy a kamenné obrubníky:350,00*0,25",null,87.5,null,null,null,null,null,null,null,"Dosypání krajnic mimo vjezdy a kamenné obrubníky:350,00*0,25"]
[26,"573111124R00","Postřik infiltrační, množství zbytkového asfaltového pojiva 1,00 kg/m2","m2",3131,null,{"$f":"E87*F87","v":0},6.0099999999999997E-3,{"$f":"E87*H87","v":18.817309999999999},0,{"$f":"E87*J87","v":0},null,null,null,2,null,null,null,null,null,null,null,null,null,null,null,1,0,0,null,null,null,null,null,null,null,null,null,null,null,null,null,null,null,null,null,null,null,null,null,null,1,{"$f":"IF(AZ87=1,G87,0)","v":0},{"$f":"IF(AZ87=2,G87,0)","v":0},{"$f":"IF(AZ87=3,G87,0)","v":0},{"$f":"IF(AZ87=4,G87,0)","v":0},{"$f":"IF(AZ87=5,G87,0)","v":0},null,null,null,null,null,null,null,null,null,null,null,null,null,null,null,null,null,null,null,null,null,1,0]
[null,null,"Komunikace KSS LK 28211:3566,00",null,3566,null,null,null,null,null,null,null,"Komunikace KSS LK 28211:3566,00"]
[null,null,"Odpočet čtyř linky podél obrubníků:-870,00*0,50",null,-435,null,null,null,null,null,null,null,"Odpočet čtyř linky podél obrubníků:-870,00*0,50"]
[27,"573231110R00","Postřik spojovací z KAE množství zbytkového asfaltu 0,3 kg/m2","m2",3131,null,{"$f":"E90*F90","v":0},5.0000000000000001E-4,{"$f":"E90*H90","v":1.5655000000000001},0,{"$f":"E90*J90","v":0},null,null,null,2,null,null,null,null,null,null,null,null,null,null,null,1,1,1,null,null,null,null,null,null,null,null,null,null,null,null,null,null,null,null,null,null,null,null,null,null,1,{"$f":"IF(AZ90=1,G90,0)","v":0},{"$f":"IF(AZ90=2,G90,0)","v":0},{"$f":"IF(AZ90=3,G90,0)","v":0},{"$f":"IF(AZ90=4,G90,0)","v":0},{"$f":"IF(AZ90=5,G90,0)","v":0},null,null,null,null,null,null,null,null,null,null,null,null,null,null,null,null,null,null,null,null,null,1,1]
[null,null,"Komunikace KSS LK 28211:3566,00",null,3566,null,null,null,null,null,null,null,"Komunikace KSS LK 28211:3566,00"]
[null,null,"Odpočet čtyř linky podél obrubníků:-870,00*0,50",null,-435,null,null,null,null,null,null,null,"Odpočet čtyř linky podél obrubníků:-870,00*0,50"]
[28,"577142112R00","Beton asfaltový  ACO 11+ obrusný nad 3 m, tl.5 cm ","m2",3131,null,{"$f":"E93*F93","v":0},0.12966,{"$f":"E93*H93","v":405.96546000000001},0,{"$f":"E93*J93","v":0},null,null,null,2,null,null,null,null,null,null,null,null,null,null,null,1,0,0,null,null,null,null,null,null,null,null,null,null,null,null,null,null,null,null,null,null,null,null,null,null,1,{"$f":"IF(AZ93=1,G93,0)","v":0},{"$f":"IF(AZ93=2,G93,0)","v":0},{"$f":"IF(AZ93=3,G93,0)","v":0},{"$f":"IF(AZ93=4,G93,0)","v":0},{"$f":"IF(AZ93=5,G93,0)","v":0},null,null,null,null,null,null,null,null,null,null,null,null,null,null,null,null,null,null,null,null,null,1,0]
[null,null,"Komunikace KSS LK 28211:3566,00",null,3566,null,null,null,null,null,null,null,"Komunikace KSS LK 28211:3566,00"]
[null,null,"Odpočet čtyř linky podél obrubníků:-870,00*0,50",null,-435,null,null,null,null,null,null,null,"Odpočet čtyř linky podél obrubníků:-870,00*0,50"]
[29,"577162124R00","Beton asfalt. ACL 16+ ložný, š. nad 3 m, tl. 7 cm ","m2",3131,null,{"$f":"E96*F96","v":0},0.18151999999999999,{"$f":"E96*H96","v":568.33911999999998},0,{"$f":"E96*J96","v":0},null,null,null,2,null,null,null,null,null,null,null,null,null,null,null,1,0,0,null,null,null,null,null,null,null,null,null,null,null,null,null,null,null,null,null,null,null,null,null,null,1,{"$f":"IF(AZ96=1,G96,0)","v":0},{"$f":"IF(AZ96=2,G96,0)","v":0},{"$f":"IF(AZ96=3,G96,0)","v":0},{"$f":"IF(AZ96=4,G96,0)","v":0},{"$f":"IF(AZ96=5,G96,0)","v":0},null,null,null,null,null,null,null,null,null,null,null,null,null,null,null,null,null,null,null,null,null,1,0]
[null,null,"Komunikace KSS LK 28211:3566,00",null,3566,null,null,null,null,null,null,null,"Komunikace KSS LK 28211:3566,00"]
[null,null,"Odpočet čtyř linky podél obrubníků:-870,00*0,50",null,-435,null,null,null,null,null,null,null,"Odpočet čtyř linky podél obrubníků:-870,00*0,50"]
[30,"591241111R00","Kladení dlažby drobné kostky, lože z MC tl. 5 cm ","m2",435,null,{"$f":"E99*F99","v":0},0.31387999999999999,{"$f":"E99*H99","v":136.5378},0,{"$f":"E99*J99","v":0},null,null,null,2,null,null,null,null,null,null,null,null,null,null,null,1,1,1,null,null,null,null,null,null,null,null,null,null,null,null,null,null,null,null,null,null,null,null,null,null,1,{"$f":"IF(AZ99=1,G99,0)","v":0},{"$f":"IF(AZ99=2,G99,0)","v":0},{"$f":"IF(AZ99=3,G99,0)","v":0},{"$f":"IF(AZ99=4,G99,0)","v":0},{"$f":"IF(AZ99=5,G99,0)","v":0},null,null,null,null,null,null,null,null,null,null,null,null,null,null,null,null,null,null,null,null,null,1,1]
[null,null,"V položce jsou zakalkulovány i náklady na dodání hmot pro lože a na dodání téhož materiálu na výplň spár.",null,null,null,null,null,null,null,null,"V položce jsou zakalkulovány i náklady na dodání hmot pro lože a na dodání téhož materiálu na výplň spár.",null,null,3]
[null,null,"Komunikace KSS LK 28211:",null,0,null,null,null,null,null,null,null,"Komunikace KSS LK 28211:"]
[null,null,"Čtyřlinka podél kamenných obrubníků z drobných žulových kostek:870,00*0,50",null,435,null,null,null,null,null,null,null,"Čtyřlinka podél kamenných obrubníků z drobných žulových kostek:870,00*0,50"]
[31,"596215021R00","Kladení zámkové dlažby tl. 6 cm do drtě tl. 4 cm ","m2",193.5,null,{"$f":"E103*F103","v":0},7.3899999999999993E-2,{"$f":"E103*H103","v":14.299649999999998},0,{"$f":"E103*J103","v":0},null,null,null,2,null,null,null,null,null,null,null,null,null,null,null,1,1,1,null,null,null,null,null,null,null,null,null,null,null,null,null,null,null,null,null,null,null,null,null,null,1,{"$f":"IF(AZ103=1,G103,0)","v":0},{"$f":"IF(AZ103=2,G103,0)","v":0},{"$f":"IF(AZ103=3,G103,0)","v":0},{"$f":"IF(AZ103=4,G103,0)","v":0},{"$f":"IF(AZ103=5,G103,0)","v":0},null,null,null,null,null,null,null,null,null,null,null,null,null,null,null,null,null,null,null,null,null,1,1]
[null,null,"Zámková dlažba podél komunikace:193,50",null,193.5,null,null,null,null,null,null,null,"Zámková dlažba podél komunikace:193,50"]
[32,"596291111R00","Řezání zámkové dlažby tl. 60 mm ","m",96.75,null,{"$f":"E105*F105","v":0},3.3E-4,{"$f":"E105*H105","v":3.1927499999999998E-2},0,{"$f":"E105*J105","v":0},null,null,null,2,null,null,null,null,null,null,null,null,null,null,null,1,1,1,null,null,null,null,null,null,null,null,null,null,null,null,null,null,null,null,null,null,null,null,null,null,1,{"$f":"IF(AZ105=1,G105,0)","v":0},{"$f":"IF(AZ105=2,G105,0)","v":0},{"$f":"IF(AZ105=3,G105,0)","v":0},{"$f":"IF(AZ105=4,G105,0)","v":0},{"$f":"IF(AZ105=5,G105,0)","v":0},null,null,null,null,null,null,null,null,null,null,null,null,null,null,null,null,null,null,null,null,null,1,1]
[null,null,"Zámková dlažba podél komunikace:193,50/2",null,96.75,null,null,null,null,null,null,null,"Zámková dlažba podél komunikace:193,50/2"]
[33,"58344197.R","Štěrkodrtě frakce 0-63 A","t",-513.79539999999997,null,{"$f":"E107*F107","v":0},0,{"$f":"E107*H107","v":0},null,{"$f":"E107*J107","v":0},null,null,null,2,null,null,null,null,null,null,null,null,null,null,null,3,1,"58344197.R",null,null,null,null,null,null,null,null,null,null,null,null,null,null,null,null,null,null,null,null,null,null,1,{"$f":"IF(AZ107=1,G107,0)","v":0},{"$f":"IF(AZ107=2,G107,0)","v":0},{"$f":"IF(AZ107=3,G107,0)","v":0},{"$f":"IF(AZ107=4,G107,0)","v":0},{"$f":"IF(AZ107=5,G107,0)","v":0},null,null,null,null,null,null,null,null,null,null,null,null,null,null,null,null,null,null,null,null,null,3,1]
[null,null,"Odpočet využití ŠD z rýh VH sítí do podkladních štěrkových vrstev z 80% původníhího množství:-857,240*0,40*0,8*1,873",null,-513.79539999999997,null,null,null,null,null,null,null,"Odpočet využití ŠD z rýh VH sítí do podkladních štěrkových vrstev z 80% původníhího množství:-857,240*0,40*0,8*1,873"]
[34,"58380129.R","Kostka dlažební drobná 10/12 štípaná Itř. 1t=4,0m2","t",110.925,null,{"$f":"E109*F109","v":0},1,{"$f":"E109*H109","v":110.925},null,{"$f":"E109*J109","v":0},null,null,null,2,null,null,null,null,null,null,null,null,null,null,null,3,1,"58380129.R",null,null,null,null,null,null,null,null,null,null,null,null,null,null,null,null,null,null,null,null,null,null,1,{"$f":"IF(AZ109=1,G109,0)","v":0},{"$f":"IF(AZ109=2,G109,0)","v":0},{"$f":"IF(AZ109=3,G109,0)","v":0},{"$f":"IF(AZ109=4,G109,0)","v":0},{"$f":"IF(AZ109=5,G109,0)","v":0},null,null,null,null,null,null,null,null,null,null,null,null,null,null,null,null,null,null,null,null,null,3,1]
[null,null,"Komunikace KSS LK 28211:",null,0,null,null,null,null,null,null,null,"Komunikace KSS LK 28211:"]
[null,null,"Čtyřlinka podél kamenných obrubníků z drobných žulových kostek:870,00*0,50/4,00*1,02",null,110.925,null,null,null,null,null,null,null,"Čtyřlinka podél kamenných obrubníků z drobných žulových kostek:870,00*0,50/4,00*1,02"]
[35,"59245267.R","Dlažba zámková - dlažba 20/10/8 cm přírodní","m2",197.37,null,{"$f":"E112*F112","v":0},0.17499999999999999,{"$f":"E112*H112","v":34.539749999999998},null,{"$f":"E112*J112","v":0},null,null,null,2,null,null,null,null,null,null,null,null,null,null,null,3,1,"59245267.R",null,null,null,null,null,null,null,null,null,null,null,null,null,null,null,null,null,null,null,null,null,null,1,{"$f":"IF(AZ112=1,G112,0)","v":0},{"$f":"IF(AZ112=2,G112,0)","v":0},{"$f":"IF(AZ112=3,G112,0)","v":0},{"$f":"IF(AZ112=4,G112,0)","v":0},{"$f":"IF(AZ112=5,G112,0)","v":0},null,null,null,null,null,null,null,null,null,null,null,null,null,null,null,null,null,null,null,null,null,3,1]
[null,null,"Zámková dlažba podél komunikace:193,50*1,02",null,197.37,null,null,null,null,null,null,null,"Zámková dlažba podél komunikace:193,50*1,02"]
[null,"Celkem za","5 Komunikace",null,null,null,{"$f":"SUM(G75:G113)","v":0},null,{"$f":"SUM(I75:I113)","v":4508.2143925},null,{"$f":"SUM(K75:K113)","v":0},null,null,null,4,null,null,null,null,null,null,null,null,null,null,null,null,null,null,null,null,null,null,null,null,null,null,null,null,null,null,null,null,null,null,null,null,null,null,null,null,null,{"$f":"SUM(BA75:BA113)","v":0},{"$f":"SUM(BB75:BB113)","v":0},{"$f":"SUM(BC75:BC113)","v":0},{"$f":"SUM(BD75:BD113)","v":0},{"$f":"SUM(BE75:BE113)","v":0}]
["Díl:","91","Doplňující práce na komunikaci",null,null,null,null,null,null,null,null,null,null,null,1]
[36,"917161111R00","Osazení lež. obrub.kamen. s opěrou, lože z C 12/15 ","m",870,null,{"$f":"E116*F116","v":0},0.18806,{"$f":"E116*H116","v":163.6122},0,{"$f":"E116*J116","v":0},null,null,null,2,null,null,null,null,null,null,null,null,null,null,null,1,1,1,null,null,null,null,null,null,null,null,null,null,null,null,null,null,null,null,null,null,null,null,null,null,1,{"$f":"IF(AZ116=1,G116,0)","v":0},{"$f":"IF(AZ116=2,G116,0)","v":0},{"$f":"IF(AZ116=3,G116,0)","v":0},{"$f":"IF(AZ116=4,G116,0)","v":0},{"$f":"IF(AZ116=5,G116,0)","v":0},null,null,null,null,null,null,null,null,null,null,null,null,null,null,null,null,null,null,null,null,null,1,1]
[null,null,"Komunikace KSS LK 28211:",null,0,null,null,null,null,null,null,null,"Komunikace KSS LK 28211:"]
[null,null,"Původní obrubníky  - 30% :870,00*0,3",null,261,null,null,null,null,null,null,null,"Původní obrubníky  - 30% :870,00*0,3"]
[null,null,"Nové obrubníky - 20% výměna původních:870,00*0,2",null,174,null,null,null,null,null,null,null,"Nové obrubníky - 20% výměna původních:870,00*0,2"]
[null,null,"Nové obrubníky - 50% doplnění:870,00*0,5",null,435,null,null,null,null,null,null,null,"Nové obrubníky - 50% doplnění:870,00*0,5"]
[37,"918101111R00","Lože pod obrubníky nebo obruby dlažeb z C 12/15 ","m3",26.1,null,{"$f":"E121*F121","v":0},2.5249999999999999,{"$f":"E121*H121","v":65.902500000000003},0,{"$f":"E121*J121","v":0},null,null,null,2,null,null,null,null,null,null,null,null,null,null,null,1,1,1,null,null,null,null,null,null,null,null,null,null,null,null,null,null,null,null,null,null,null,null,null,null,1,{"$f":"IF(AZ121=1,G121,0)","v":0},{"$f":"IF(AZ121=2,G121,0)","v":0},{"$f":"IF(AZ121=3,G121,0)","v":0},{"$f":"IF(AZ121=4,G121,0)","v":0},{"$f":"IF(AZ121=5,G121,0)","v":0},null,null,null,null,null,null,null,null,null,null,null,null,null,null,null,null,null,null,null,null,null,1,1]
[null,null,"Komunikace KSS LK 28211:",null,0,null,null,null,null,null,null,null,"Komunikace KSS LK 28211:"]
[null,null,"Původní obrubníky  - 30% :870,00*0,3*0,30*0,10",null,7.83,null,null,null,null,null,null,null,"Původní obrubníky  - 30% :870,00*0,3*0,30*0,10"]
[null,null,"Nové obrubníky - 20% výměna původních:870,00*0,2*0,30*0,10",null,5.22,null,null,null,null,null,null,null,"Nové obrubníky - 20% výměna původních:870,00*0,2*0,30*0,10"]
[null,null,"Nové obrubníky - 50% doplnění:870,00*0,5*0,30*0,10",null,13.05,null,null,null,null,null,null,null,"Nové obrubníky - 50% doplnění:870,00*0,5*0,30*0,10"]
[38,"919731123R00","Zarovnání styčné plochy živičné tl. do 20 cm ","m",18,null,{"$f":"E126*F126","v":0},0,{"$f":"E126*H126","v":0},0,{"$f":"E126*J126","v":0},null,null,null,2,null,null,null,null,null,null,null,null,null,null,null,1,1,1,null,null,null,null,null,null,null,null,null,null,null,null,null,null,null,null,null,null,null,null,null,null,1,{"$f":"IF(AZ126=1,G126,0)","v":0},{"$f":"IF(AZ126=2,G126,0)","v":0},{"$f":"IF(AZ126=3,G126,0)","v":0},{"$f":"IF(AZ126=4,G126,0)","v":0},{"$f":"IF(AZ126=5,G126,0)","v":0},null,null,null,null,null,null,null,null,null,null,null,null,null,null,null,null,null,null,null,null,null,1,1]
[39,"58380333","Obrubník kamenný přímý OP3  25x20 cm","m",615.09,null,{"$f":"E127*F127","v":0},0.125,{"$f":"E127*H127","v":76.886250000000004},null,{"$f":"E127*J127","v":0},null,null,null,2,null,null,null,null,null,null,null,null,null,null,null,3,1,58380333,null,null,null,null,null,null,null,null,null,null,null,null,null,null,null,null,null,null,null,null,null,null,1,{"$f":"IF(AZ127=1,G127,0)","v":0},{"$f":"IF(AZ127=2,G127,0)","v":0},{"$f":"IF(AZ127=3,G127,0)","v":0},{"$f":"IF(AZ127=4,G127,0)","v":0},{"$f":"IF(AZ127=5,G127,0)","v":0},null,null,null,null,null,null,null,null,null,null,null,null,null,null,null,null,null,null,null,null,null,3,1]
[null,null,"Komunikace KSS LK 28211:",null,0,null,null,null,null,null,null,null,"Komunikace KSS LK 28211:"]
[null,null,"Nové obrubníky - 20% výměna původních:870,00*0,2*1,01",null,175.74,null,null,null,null,null,null,null,"Nové obrubníky - 20% výměna původních:870,00*0,2*1,01"]
[null,null,"Nové obrubníky - 50% doplnění:870,00*0,5*1,01",null,439.35,null,null,null,null,null,null,null,"Nové obrubníky - 50% doplnění:870,00*0,5*1,01"]
[null,"Celkem za","91 Doplňující práce na komunikaci",null,null,null,{"$f":"SUM(G115:G130)","v":0},null,{"$f":"SUM(I115:I130)","v":306.40095000000002},null,{"$f":"SUM(K115:K130)","v":0},null,null,null,4,null,null,null,null,null,null,null,null,null,null,null,null,null,null,null,null,null,null,null,null,null,null,null,null,null,null,null,null,null,null,null,null,null,null,null,null,null,{"$f":"SUM(BA115:BA130)","v":0},{"$f":"SUM(BB115:BB130)","v":0},{"$f":"SUM(BC115:BC130)","v":0},{"$f":"SUM(BD115:BD130)","v":0},{"$f":"SUM(BE115:BE130)","v":0}]
["Díl:","93","Dokončovací práce inženýrských staveb",null,null,null,null,null,null,null,null,null,null,null,1]
[40,"938908411RRX","Očištění povrchu krytu vodou ","m2",3566,null,{"$f":"E133*F133","v":0},1.0000000000000001E-5,{"$f":"E133*H133","v":3.5660000000000004E-2},0,{"$f":"E133*J133","v":0},null,null,null,2,null,null,null,null,null,null,null,null,null,null,null,1,1,1,null,null,null,null,null,null,null,null,null,null,null,null,null,null,null,null,null,null,null,null,null,null,1,{"$f":"IF(AZ133=1,G133,0)","v":0},{"$f":"IF(AZ133=2,G133,0)","v":0},{"$f":"IF(AZ133=3,G133,0)","v":0},{"$f":"IF(AZ133=4,G133,0)","v":0},{"$f":"IF(AZ133=5,G133,0)","v":0},null,null,null,null,null,null,null,null,null,null,null,null,null,null,null,null,null,null,null,null,null,1,1]
[null,null,"PLocha komunikace KSS LK 28211:3566,00",null,3566,null,null,null,null,null,null,null,"PLocha komunikace KSS LK 28211:3566,00"]
[41,"938909111R00","Odstranění nánosu s povrchu podkladu štěrkového ","m2",3566,null,{"$f":"E135*F135","v":0},0,{"$f":"E135*H135","v":0},0,{"$f":"E135*J135","v":0},null,null,null,2,null,null,null,null,null,null,null,null,null,null,null,1,1,1,null,null,null,null,null,null,null,null,null,null,null,null,null,null,null,null,null,null,null,null,null,null,1,{"$f":"IF(AZ135=1,G135,0)","v":0},{"$f":"IF(AZ135=2,G135,0)","v":0},{"$f":"IF(AZ135=3,G135,0)","v":0},{"$f":"IF(AZ135=4,G135,0)","v":0},{"$f":"IF(AZ135=5,G135,0)","v":0},null,null,null,null,null,null,null,null,null,null,null,null,null,null,null,null,null,null,null,null,null,1,1]
[null,null,"PLocha komunikace KSS LK 28211:3566,00",null,3566,null,null,null,null,null,null,null,"PLocha komunikace KSS LK 28211:3566,00"]
[42,"938909311R00","Odstranění nánosu z povrchu živičného nebo beton. ","m2",6697,null,{"$f":"E137*F137","v":0},0,{"$f":"E137*H137","v":0},0,{"$f":"E137*J137","v":0},null,null,null,2,null,null,null,null,null,null,null,null,null,null,null,1,1,1,null,null,null,null,null,null,null,null,null,null,null,null,null,null,null,null,null,null,null,null,null,null,1,{"$f":"IF(AZ137=1,G137,0)","v":0},{"$f":"IF(AZ137=2,G137,0)","v":0},{"$f":"IF(AZ137=3,G137,0)","v":0},{"$f":"IF(AZ137=4,G137,0)","v":0},{"$f":"IF(AZ137=5,G137,0)","v":0},null,null,null,null,null,null,null,null,null,null,null,null,null,null,null,null,null,null,null,null,null,1,1]
[null,null,"Komunikace KSS LK 28211:3566,00*2",null,7132,null,null,null,null,null,null,null,"Komunikace KSS LK 28211:3566,00*2"]
[null,null,"Odpočet čtyř linky podél obrubníků:-870,00*0,50",null,-435,null,null,null,null,null,null,null,"Odpočet čtyř linky podél obrubníků:-870,00*0,50"]
[null,"Celkem za","93 Dokončovací práce inženýrských staveb",null,null,null,{"$f":"SUM(G132:G139)","v":0},null,{"$f":"SUM(I132:I139)","v":3.5660000000000004E-2},null,{"$f":"SUM(K132:K139)","v":0},null,null,null,4,null,null,null,null,null,null,null,null,null,null,null,null,null,null,null,null,null,null,null,null,null,null,null,null,null,null,null,null,null,null,null,null,null,null,null,null,null,{"$f":"SUM(BA132:BA139)","v":0},{"$f":"SUM(BB132:BB139)","v":0},{"$f":"SUM(BC132:BC139)","v":0},{"$f":"SUM(BD132:BD139)","v":0},{"$f":"SUM(BE132:BE139)","v":0}]
["Díl:","97","Prorážení otvorů",null,null,null,null,null,null,null,null,null,null,null,1]
[43,"979024441R00","Očištění vybour. obrubníků všech loží a výplní ","m",261,null,{"$f":"E142*F142","v":0},0,{"$f":"E142*H142","v":0},0,{"$f":"E142*J142","v":0},null,null,null,2,null,null,null,null,null,null,null,null,null,null,null,1,1,1,null,null,null,null,null,null,null,null,null,null,null,null,null,null,null,null,null,null,null,null,null,null,1,{"$f":"IF(AZ142=1,G142,0)","v":0},{"$f":"IF(AZ142=2,G142,0)","v":0},{"$f":"IF(AZ142=3,G142,0)","v":0},{"$f":"IF(AZ142=4,G142,0)","v":0},{"$f":"IF(AZ142=5,G142,0)","v":0},null,null,null,null,null,null,null,null,null,null,null,null,null,null,null,null,null,null,null,null,null,1,1]
[null,null,"Komunikace KSS LK 28211:",null,0,null,null,null,null,null,null,null,"Komunikace KSS LK 28211:"]
[null,null,"Původní obrubníky pro opětovné použití - 30% :870,00*0,3",null,261,null,null,null,null,null,null,null,"Původní obrubníky pro opětovné použití - 30% :870,00*0,3"]
[null,"Celkem za","97 Prorážení otvorů",null,null,null,{"$f":"SUM(G141:G144)","v":0},null,{"$f":"SUM(I141:I144)","v":0},null,{"$f":"SUM(K141:K144)","v":0},null,null,null,4,null,null,null,null,null,null,null,null,null,null,null,null,null,null,null,null,null,null,null,null,null,null,null,null,null,null,null,null,null,null,null,null,null,null,null,null,null,{"$f":"SUM(BA141:BA144)","v":0},{"$f":"SUM(BB141:BB144)","v":0},{"$f":"SUM(BC141:BC144)","v":0},{"$f":"SUM(BD141:BD144)","v":0},{"$f":"SUM(BE141:BE144)","v":0}]
["Díl:","99","Staveništní přesun hmot",null,null,null,null,null,null,null,null,null,null,null,1]
[44,"998225111R00","Přesun hmot, pozemní komunikace, kryt živičný ","t",5347.9450024999996,null,{"$f":"E147*F147","v":0},0,{"$f":"E147*H147","v":0},null,{"$f":"E147*J147","v":0},null,null,null,2,null,null,null,null,null,null,null,null,null,null,null,7,1,2,null,null,null,null,null,null,null,null,null,null,null,null,null,null,null,null,null,null,null,null,null,null,1,{"$f":"IF(AZ147=1,G147,0)","v":0},{"$f":"IF(AZ147=2,G147,0)","v":0},{"$f":"IF(AZ147=3,G147,0)","v":0},{"$f":"IF(AZ147=4,G147,0)","v":0},{"$f":"IF(AZ147=5,G147,0)","v":0},null,null,null,null,null,null,null,null,null,null,null,null,null,null,null,null,null,null,null,null,null,7,1]
[null,"Celkem za","99 Staveništní přesun hmot",null,null,null,{"$f":"SUM(G146:G147)","v":0},null,{"$f":"SUM(I146:I147)","v":0},null,{"$f":"SUM(K146:K147)","v":0},null,null,null,4,null,null,null,null,null,null,null,null,null,null,null,null,null,null,null,null,null,null,null,null,null,null,null,null,null,null,null,null,null,null,null,null,null,null,null,null,null,{"$f":"SUM(BA146:BA147)","v":0},{"$f":"SUM(BB146:BB147)","v":0},{"$f":"SUM(BC146:BC147)","v":0},{"$f":"SUM(BD146:BD147)","v":0},{"$f":"SUM(BE146:BE147)","v":0}]

{"sheet":"101.1 3331101.2 KL","index":4,"n_rows":45,"n_cols":8,"rows_kept":45,"cut":false,"hidden":false,"merged":[[50,1,50,6],[29,5,29,6],[30,5,30,6],[31,5,31,6],[32,5,32,6],[33,5,33,6],[36,1,44,6],[45,1,45,6],[46,1,46,6],[47,1,47,6],[48,1,48,6],[49,1,49,6],[22,0,22,1],[7,2,7,4],[8,2,8,4],[9,2,9,4],[10,2,10,4],[11,2,11,4]]}
["POLOŽKOVÝ ROZPOČET"]
["Rozpočet",null,"3331/101.2","Komunikace - 1.část - Místní komunikace",null,"JKSO ","822.24"]
[]
["Objekt",null,null,null,null,"SKP "]
["101.1",null,"Komunikace - 1.část",null,null,"Měrná jednotka","m2"]
["Stavba",null,null,null,null,"Počet jednotek",0]
["3332",null,"Obnova vodovodu a kanalizace  v Obci Loučky",null,null,"Náklady na m.j.",{"$f":"IF(G6=0,,ROUND((F30+F32)/G6,1))","v":0}]
["Projektant",null,"LK PROJEKT s.r.o.",null,null,"Typ rozpočtu"]
["Zpracovatel projektu"]
["Objednatel",null,"Vodohospodářské sdružení Turnov"]
["Dodavatel",null,".",null,null,"Zakázkové číslo "]
["Rozpočtoval",null,null,null,null,"Počet listů"]
["ROZPOČTOVÉ NÁKLADY"]
["Základní rozpočtové náklady"]
[null,"HSV celkem",{"$f":"'101.1 3331101.2 Rek'!E12","v":0}]
["Z","PSV celkem",{"$f":"'101.1 3331101.2 Rek'!F12","v":0}]
["R","M práce celkem",{"$f":"'101.1 3331101.2 Rek'!H12","v":0}]
["N","M dodávky celkem",{"$f":"'101.1 3331101.2 Rek'!G12","v":0}]
["ZRN celkem",null,{"$f":"SUM(C15:C18)","v":0}]
[]
["HZS",null,{"$f":"'101.1 3331101.2 Rek'!I12","v":0}]
["ZRN+HZS",null,{"$f":"C19+C21","v":0}]
["ZRN+ost.náklady+HZS",null,{"$f":"C22+G23","v":0}]
["Vypracoval",null,null,"Za zhotovitele",null,"Za objednatele"]
["Jméno :",null,null,"Jméno :",null,"Jméno :"]
["Datum :",null,null,"Datum :",null,"Datum :"]
[]
["Podpis :",null,null,"Podpis:",null,"Podpis:"]
[]
["Základ pro DPH",null,21,"%  ",null,{"$f":"C23-F32","v":0}]
["DPH",null,{"$f":"C30","v":21},"% ",null,{"$f":"ROUND(PRODUCT(F30,C31/100),0)","v":0}]
["Základ pro DPH",null,0,"% ",null,0]
["DPH",null,{"$f":"C32","v":0},"% ",null,{"$f":"ROUND(PRODUCT(F32,C33/100),0)","v":0}]
["CENA ZA OBJEKT CELKEM",null,null,null,null,{"$f":"ROUND(SUM(F30:F33),0)","v":0}]
[]
["Poznámka :",null,null,null,null,null,null," "]
[null,null,null,null,null,null,null," "]
[null,null,null,null,null,null,null," "]
[null,null,null,null,null,null,null," "]
[null,null,null,null,null,null,null," "]
[null,null,null,null,null,null,null," "]
[null,null,null,null,null,null,null," "]
[null,null,null,null,null,null,null," "]
[null,null,null,null,null,null,null," "]
[null,null,null,null,null,null,null," "]

{"sheet":"101.1 3331101.2 Rek","index":5,"n_rows":12,"n_cols":9,"rows_kept":12,"cut":false,"hidden":false,"merged":[[0,0,0,1],[1,0,1,1],[1,6,1,8]]}
["Stavba :",null,"3332 Obnova vodovodu a kanalizace  v Obci Loučky",null,null,null,"Rozpočet :","3331/101.2"]
["Objekt :",null,"101.1 Komunikace - 1.část",null,null,null,"Komunikace - 1.část - Místní komunikace"]
[]
["REKAPITULACE  STAVEBNÍCH  DÍLŮ"]
[]
[null,"Stavební díl",null,null,"HSV","PSV","Dodávka","Montáž","HZS"]
[{"$f":"'101.1 3331101.2 Pol'!B7","v":"1"},{"$f":"'101.1 3331101.2 Pol'!C7","v":"Zemní práce"},null,null,{"$f":"'101.1 3331101.2 Pol'!BA33","v":0},{"$f":"'101.1 3331101.2 Pol'!BB33","v":0},{"$f":"'101.1 3331101.2 Pol'!BC33","v":0},{"$f":"'101.1 3331101.2 Pol'!BD33","v":0},{"$f":"'101.1 3331101.2 Pol'!BE33","v":0}]
[{"$f":"'101.1 3331101.2 Pol'!B34","v":"2"},{"$f":"'101.1 3331101.2 Pol'!C34","v":"Základy a zvláštní zakládání"},null,null,{"$f":"'101.1 3331101.2 Pol'!BA38","v":0},{"$f":"'101.1 3331101.2 Pol'!BB38","v":0},{"$f":"'101.1 3331101.2 Pol'!BC38","v":0},{"$f":"'101.1 3331101.2 Pol'!BD38","v":0},{"$f":"'101.1 3331101.2 Pol'!BE38","v":0}]
[{"$f":"'101.1 3331101.2 Pol'!B39","v":"5"},{"$f":"'101.1 3331101.2 Pol'!C39","v":"Komunikace"},null,null,{"$f":"'101.1 3331101.2 Pol'!BA59","v":0},{"$f":"'101.1 3331101.2 Pol'!BB59","v":0},{"$f":"'101.1 3331101.2 Pol'!BC59","v":0},{"$f":"'101.1 3331101.2 Pol'!BD59","v":0},{"$f":"'101.1 3331101.2 Pol'!BE59","v":0}]
[{"$f":"'101.1 3331101.2 Pol'!B60","v":"93"},{"$f":"'101.1 3331101.2 Pol'!C60","v":"Dokončovací práce inženýrských staveb"},null,null,{"$f":"'101.1 3331101.2 Pol'!BA67","v":0},{"$f":"'101.1 3331101.2 Pol'!BB67","v":0},{"$f":"'101.1 3331101.2 Pol'!BC67","v":0},{"$f":"'101.1 3331101.2 Pol'!BD67","v":0},{"$f":"'101.1 3331101.2 Pol'!BE67","v":0}]
[{"$f":"'101.1 3331101.2 Pol'!B68","v":"99"},{"$f":"'101.1 3331101.2 Pol'!C68","v":"Staveništní přesun hmot"},null,null,{"$f":"'101.1 3331101.2 Pol'!BA70","v":0},{"$f":"'101.1 3331101.2 Pol'!BB70","v":0},{"$f":"'101.1 3331101.2 Pol'!BC70","v":0},{"$f":"'101.1 3331101.2 Pol'!BD70","v":0},{"$f":"'101.1 3331101.2 Pol'!BE70","v":0}]
[null,"CELKEM  OBJEKT",null,null,{"$f":"SUM(E7:E11)","v":0},{"$f":"SUM(F7:F11)","v":0},{"$f":"SUM(G7:G11)","v":0},{"$f":"SUM(H7:H11)","v":0},{"$f":"SUM(I7:I11)","v":0}]

{"sheet":"101.1 3331101.2 Pol","index":6,"n_rows":70,"n_cols":80,"rows_kept":70,"cut":false,"hidden":false,"merged":[[55,2,55,3],[57,2,57,3],[61,2,61,3],[63,2,63,3],[65,2,65,3],[49,2,49,3],[51,2,51,3],[53,2,53,3],[24,2,24,3],[26,2,26,3],[27,2,27,3],[31,2,31,6],[35,2,35,6],[36,2,36,3],[40,2,40,3],[42,2,42,3],[44,2,44,3],[46,2,46,3],[47,2,47,3],[22,2,22,3],[0,0,0,6],[2,0,2,1],[3,0,3,1],[3,4,3,6],[8,2,8,3],[10,2,10,6],[11,2,11,3],[13,2,13,6],[14,2,14,6],[15,2,15,3],[17,2,17,3],[19,2,19,3],[21,2,21,3]]}
["Položkový rozpočet "]
[]
["Stavba :",null,"3332 Obnova vodovodu a kanalizace  v Obci Loučky",null,"Rozpočet:",{"$f":"'101.1 3331101.2 Rek'!H1","v":"3331/101.2"}]
["Objekt :",null,"101.1 Komunikace - 1.část",null,{"$f":"'101.1 3331101.2 Rek'!G2","v":"Komunikace - 1.část - Místní komunikace"}]
[]
["P.č.","Číslo položky","Název položky","MJ","množství","cena / MJ","celkem (Kč)","Jednotková hmotnost","Celková hmotnost","Jednotková dem.hmot.","Celková dem.hmot."]
["Díl:","1","Zemní práce",null,null,null,null,null,null,null,null,null,null,null,1]
[1,"113107625R00","Odstranění podkladu nad 50 m2,kam.drcené tl.25 cm ","m2",690,null,{"$f":"E8*F8","v":0},0,{"$f":"E8*H8","v":0},-0.55000000000000004,{"$f":"E8*J8","v":-379.50000000000006},null,null,null,2,null,null,null,null,null,null,null,null,null,null,null,1,1,1,null,null,null,null,null,null,null,null,null,null,null,null,null,null,null,null,null,null,null,null,null,null,1,{"$f":"IF(AZ8=1,G8,0)","v":0},{"$f":"IF(AZ8=2,G8,0)","v":0},{"$f":"IF(AZ8=3,G8,0)","v":0},{"$f":"IF(AZ8=4,G8,0)","v":0},{"$f":"IF(AZ8=5,G8,0)","v":0},null,null,null,null,null,null,null,null,null,null,null,null,null,null,null,null,null,null,null,null,null,1,1]
[null,null,"Plocha komunikace MK:690,00",null,690,null,null,null,null,null,null,null,"Plocha komunikace MK:690,00"]
[2,"113107640R00","Odstranění podkladu nad 50 m2,kam.drcené tl.40 cm ","m2",146,null,{"$f":"E10*F10","v":0},0,{"$f":"E10*H10","v":0},-0.88,{"$f":"E10*J10","v":-128.47999999999999},null,null,null,2,null,null,null,null,null,null,null,null,null,null,null,1,1,1,null,null,null,null,null,null,null,null,null,null,null,null,null,null,null,null,null,null,null,null,null,null,1,{"$f":"IF(AZ10=1,G10,0)","v":0},{"$f":"IF(AZ10=2,G10,0)","v":0},{"$f":"IF(AZ10=3,G10,0)","v":0},{"$f":"IF(AZ10=4,G10,0)","v":0},{"$f":"IF(AZ10=5,G10,0)","v":0},null,null,null,null,null,null,null,null,null,null,null,null,null,null,null,null,null,null,null,null,null,1,1]
[null,null,"Materiál pro použití do štěrkové vrstvy komunikace o objemu cca 80%. 20% odvoz na skládku.",null,null,null,null,null,null,null,null,"Materiál pro použití do štěrkové vrstvy komunikace o objemu cca 80%. 20% odvoz na skládku.",null,null,3]
[null,null,"Odstranění provizorního zásypu rýh VH sítí v komunikaci:146,00",null,146,null,null,null,null,null,null,null,"Odstranění provizorního zásypu rýh VH sítí v komunikaci:146,00"]
[3,"113151350R00","Fréz.živič.krytu nad 500 m2, s překážkami, tl.15cm ","m2",690,null,{"$f":"E13*F13","v":0},0,{"$f":"E13*H13","v":0},-0.26400000000000001,{"$f":"E13*J13","v":-182.16},null,null,null,2,null,null,null,null,null,null,null,null,null,null,null,1,1,1,null,null,null,null,null,null,null,null,null,null,null,null,null,null,null,null,null,null,null,null,null,null,1,{"$f":"IF(AZ13=1,G13,0)","v":0},{"$f":"IF(AZ13=2,G13,0)","v":0},{"$f":"IF(AZ13=3,G13,0)","v":0},{"$f":"IF(AZ13=4,G13,0)","v":0},{"$f":"IF(AZ13=5,G13,0)","v":0},null,null,null,null,null,null,null,null,null,null,null,null,null,null,null,null,null,null,null,null,null,1,1]
[null,null,"Průměrná tl. asfaltové vrstvy 12 cm",null,null,null,null,null,null,null,null,"Průměrná tl. asfaltové vrstvy 12 cm",null,null,3]
[null,null,"Je počítáno nejdříve frézování pro rýhy VS sítí a následné dofrézování do celkové plochy. Záleží ale na zvolené technologii postupu výstavby zhotovitelem.",null,null,null,null,null,null,null,null,"Je počítáno nejdříve frézování pro rýhy VS sítí a následné dofrézování do celkové plochy. Záleží ale na zvolené technologii postupu výstavby zhotovitelem.",null,null,3]
[null,null,"Plocha komunikace MK:690,00",null,690,null,null,null,null,null,null,null,"Plocha komunikace MK:690,00"]
[4,"122202202R00","Odkopávky pro silnice v hor. 3 do 1000 m3 ","m3",20,null,{"$f":"E17*F17","v":0},0,{"$f":"E17*H17","v":0},0,{"$f":"E17*J17","v":0},null,null,null,2,null,null,null,null,null,null,null,null,null,null,null,1,1,1,null,null,null,null,null,null,null,null,null,null,null,null,null,null,null,null,null,null,null,null,null,null,1,{"$f":"IF(AZ17=1,G17,0)","v":0},{"$f":"IF(AZ17=2,G17,0)","v":0},{"$f":"IF(AZ17=3,G17,0)","v":0},{"$f":"IF(AZ17=4,G17,0)","v":0},{"$f":"IF(AZ17=5,G17,0)","v":0},null,null,null,null,null,null,null,null,null,null,null,null,null,null,null,null,null,null,null,null,null,1,1]
[null,null,"Částečná sanace pláně komunikace:100,00*0,20",null,20,null,null,null,null,null,null,null,"Částečná sanace pláně komunikace:100,00*0,20"]
[5,"122202209R00","Příplatek za lepivost - odkop. pro silnice v hor.3 ","m3",10,null,{"$f":"E19*F19","v":0},0,{"$f":"E19*H19","v":0},0,{"$f":"E19*J19","v":0},null,null,null,2,null,null,null,null,null,null,null,null,null,null,null,1,1,1,null,null,null,null,null,null,null,null,null,null,null,null,null,null,null,null,null,null,null,null,null,null,1,{"$f":"IF(AZ19=1,G19,0)","v":0},{"$f":"IF(AZ19=2,G19,0)","v":0},{"$f":"IF(AZ19=3,G19,0)","v":0},{"$f":"IF(AZ19=4,G19,0)","v":0},{"$f":"IF(AZ19=5,G19,0)","v":0},null,null,null,null,null,null,null,null,null,null,null,null,null,null,null,null,null,null,null,null,null,1,1]
[null,null,"Částečná sanace pláně komunikace:100,00*0,20*0,5",null,10,null,null,null,null,null,null,null,"Částečná sanace pláně komunikace:100,00*0,20*0,5"]
[6,"162701105RSZ","Vodorovné přemístění výkopku z hor.1-4 na skládku zhotovitele","m3",20,null,{"$f":"E21*F21","v":0},0,{"$f":"E21*H21","v":0},0,{"$f":"E21*J21","v":0},null,null,null,2,null,null,null,null,null,null,null,null,null,null,null,1,1,1,null,null,null,null,null,null,null,null,null,null,null,null,null,null,null,null,null,null,null,null,null,null,1,{"$f":"IF(AZ21=1,G21,0)","v":0},{"$f":"IF(AZ21=2,G21,0)","v":0},{"$f":"IF(AZ21=3,G21,0)","v":0},{"$f":"IF(AZ21=4,G21,0)","v":0},{"$f":"IF(AZ21=5,G21,0)","v":0},null,null,null,null,null,null,null,null,null,null,null,null,null,null,null,null,null,null,null,null,null,1,1]
[null,null,"Z odkopávek:",null,0,null,null,null,null,null,null,null,"Z odkopávek:"]
[null,null,"Částečná sanace pláně komunikace:100,00*0,20",null,20,null,null,null,null,null,null,null,"Částečná sanace pláně komunikace:100,00*0,20"]
[7,"181101102R00","Úprava pláně v zářezech v hor. 1-4, se zhutněním ","m2",690,null,{"$f":"E24*F24","v":0},0,{"$f":"E24*H24","v":0},0,{"$f":"E24*J24","v":0},null,null,null,2,null,null,null,null,null,null,null,null,null,null,null,1,1,1,null,null,null,null,null,null,null,null,null,null,null,null,null,null,null,null,null,null,null,null,null,null,1,{"$f":"IF(AZ24=1,G24,0)","v":0},{"$f":"IF(AZ24=2,G24,0)","v":0},{"$f":"IF(AZ24=3,G24,0)","v":0},{"$f":"IF(AZ24=4,G24,0)","v":0},{"$f":"IF(AZ24=5,G24,0)","v":0},null,null,null,null,null,null,null,null,null,null,null,null,null,null,null,null,null,null,null,null,null,1,1]
[null,null,"PLocha komunikace MK:690,00",null,690,null,null,null,null,null,null,null,"PLocha komunikace MK:690,00"]
[8,"199000002R00","Poplatek za skládku horniny 1- 4 č. dle katal. odpadů 17 05 04","m3",20,null,{"$f":"E26*F26","v":0},0,{"$f":"E26*H26","v":0},0,{"$f":"E26*J26","v":0},null,null,null,2,null,null,null,null,null,null,null,null,null,null,null,1,1,1,null,null,null,null,null,null,null,null,null,null,null,null,null,null,null,null,null,null,null,null,null,null,1,{"$f":"IF(AZ26=1,G26,0)","v":0},{"$f":"IF(AZ26=2,G26,0)","v":0},{"$f":"IF(AZ26=3,G26,0)","v":0},{"$f":"IF(AZ26=4,G26,0)","v":0},{"$f":"IF(AZ26=5,G26,0)","v":0},null,null,null,null,null,null,null,null,null,null,null,null,null,null,null,null,null,null,null,null,null,1,1]
[null,null,"Z odkopávek:",null,0,null,null,null,null,null,null,null,"Z odkopávek:"]
[null,null,"Částečná sanace pláně komunikace:100,00*0,20",null,20,null,null,null,null,null,null,null,"Částečná sanace pláně komunikace:100,00*0,20"]
[9,"979082113RSZ","Vodorovná doprava suti po suchu na skládku zhotovitele","t",587.35599999999999,null,{"$f":"E29*F29","v":0},0,{"$f":"E29*H29","v":0},0,{"$f":"E29*J29","v":0},null,null,null,2,null,null,null,null,null,null,null,null,null,null,null,1,1,1,null,null,null,null,null,null,null,null,null,null,null,null,null,null,null,null,null,null,null,null,null,null,1,{"$f":"IF(AZ29=1,G29,0)","v":0},{"$f":"IF(AZ29=2,G29,0)","v":0},{"$f":"IF(AZ29=3,G29,0)","v":0},{"$f":"IF(AZ29=4,G29,0)","v":0},{"$f":"IF(AZ29=5,G29,0)","v":0},null,null,null,null,null,null,null,null,null,null,null,null,null,null,null,null,null,null,null,null,null,1,1]
[10,"979089001R00","Poplatek za skládku stavební suti štěrky z komunikací, skupina odpadu 010408","t",405.19600000000003,null,{"$f":"E30*F30","v":0},0,{"$f":"E30*H30","v":0},0,{"$f":"E30*J30","v":0},null,null,null,2,null,null,null,null,null,null,null,null,null,null,null,1,1,1,null,null,null,null,null,null,null,null,null,null,null,null,null,null,null,null,null,null,null,null,null,null,1,{"$f":"IF(AZ30=1,G30,0)","v":0},{"$f":"IF(AZ30=2,G30,0)","v":0},{"$f":"IF(AZ30=3,G30,0)","v":0},{"$f":"IF(AZ30=4,G30,0)","v":0},{"$f":"IF(AZ30=5,G30,0)","v":0},null,null,null,null,null,null,null,null,null,null,null,null,null,null,null,null,null,null,null,null,null,1,1]
[11,"979999995R00","Poplatek za reciklaci asfaltu, kusovost do 1600cm2 skupina 170302","t",182.16,null,{"$f":"E31*F31","v":0},0,{"$f":"E31*H31","v":0},0,{"$f":"E31*J31","v":0},null,null,null,2,null,null,null,null,null,null,null,null,null,null,null,1,1,1,null,null,null,null,null,null,null,null,null,null,null,null,null,null,null,null,null,null,null,null,null,null,1,{"$f":"IF(AZ31=1,G31,0)","v":0},{"$f":"IF(AZ31=2,G31,0)","v":0},{"$f":"IF(AZ31=3,G31,0)","v":0},{"$f":"IF(AZ31=4,G31,0)","v":0},{"$f":"IF(AZ31=5,G31,0)","v":0},null,null,null,null,null,null,null,null,null,null,null,null,null,null,null,null,null,null,null,null,null,1,1]
[null,null,"Položka je určena pro suť o velikosti kusu do 30x30 cm nebo frézovaný asfalt(technologický materiál určený k recyklaci).",null,null,null,null,null,null,null,null,"Položka je určena pro suť o velikosti kusu do 30x30 cm nebo frézovaný asfalt(technologický materiál určený k recyklaci).",null,null,3]
[null,"Celkem za","1 Zemní práce",null,null,null,{"$f":"SUM(G7:G32)","v":0},null,{"$f":"SUM(I7:I32)","v":0},null,{"$f":"SUM(K7:K32)","v":-690.14},null,null,null,4,null,null,null,null,null,null,null,null,null,null,null,null,null,null,null,null,null,null,null,null,null,null,null,null,null,null,null,null,null,null,null,null,null,null,null,null,null,{"$f":"SUM(BA7:BA32)","v":0},{"$f":"SUM(BB7:BB32)","v":0},{"$f":"SUM(BC7:BC32)","v":0},{"$f":"SUM(BD7:BD32)","v":0},{"$f":"SUM(BE7:BE32)","v":0}]
["Díl:","2","Základy a zvláštní zakládání",null,null,null,null,null,null,null,null,null,null,null,1]
[12,"289970112R00","Vrstva geotextilie Geofiltex 500g/m2 ","m2",120,null,{"$f":"E35*F35","v":0},5.0000000000000001E-4,{"$f":"E35*H35","v":0.06},0,{"$f":"E35*J35","v":0},null,null,null,2,null,null,null,null,null,null,null,null,null,null,null,1,1,1,null,null,null,null,null,null,null,null,null,null,null,null,null,null,null,null,null,null,null,null,null,null,1,{"$f":"IF(AZ35=1,G35,0)","v":0},{"$f":"IF(AZ35=2,G35,0)","v":0},{"$f":"IF(AZ35=3,G35,0)","v":0},{"$f":"IF(AZ35=4,G35,0)","v":0},{"$f":"IF(AZ35=5,G35,0)","v":0},null,null,null,null,null,null,null,null,null,null,null,null,null,null,null,null,null,null,null,null,null,1,1]
[null,null,"Geotextílie tkaná z polyprop. s funkcí výztužnou, separační a filtrační s min. plošnou hmotností 500 g/m2. Pevnost v obou směrech min. 60kN/m2",null,null,null,null,null,null,null,null,"Geotextílie tkaná z polyprop. s funkcí výztužnou, separační a filtrační s min. plošnou hmotností 500 g/m2. Pevnost v obou směrech min. 60kN/m2",null,null,3]
[null,null,"Celá plocha sanace pláně :100,00*1,2",null,120,null,null,null,null,null,null,null,"Celá plocha sanace pláně :100,00*1,2"]
[null,"Celkem za","2 Základy a zvláštní zakládání",null,null,null,{"$f":"SUM(G34:G37)","v":0},null,{"$f":"SUM(I34:I37)","v":0.06},null,{"$f":"SUM(K34:K37)","v":0},null,null,null,4,null,null,null,null,null,null,null,null,null,null,null,null,null,null,null,null,null,null,null,null,null,null,null,null,null,null,null,null,null,null,null,null,null,null,null,null,null,{"$f":"SUM(BA34:BA37)","v":0},{"$f":"SUM(BB34:BB37)","v":0},{"$f":"SUM(BC34:BC37)","v":0},{"$f":"SUM(BD34:BD37)","v":0},{"$f":"SUM(BE34:BE37)","v":0}]
["Díl:","5","Komunikace",null,null,null,null,null,null,null,null,null,null,null,1]
[13,"564761111R00","Podklad z kameniva drceného vel.32-63 mm,tl. 20 cm ","m2",100,null,{"$f":"E40*F40","v":0},0.43,{"$f":"E40*H40","v":43},0,{"$f":"E40*J40","v":0},null,null,null,2,null,null,null,null,null,null,null,null,null,null,null,1,1,1,null,null,null,null,null,null,null,null,null,null,null,null,null,null,null,null,null,null,null,null,null,null,1,{"$f":"IF(AZ40=1,G40,0)","v":0},{"$f":"IF(AZ40=2,G40,0)","v":0},{"$f":"IF(AZ40=3,G40,0)","v":0},{"$f":"IF(AZ40=4,G40,0)","v":0},{"$f":"IF(AZ40=5,G40,0)","v":0},null,null,null,null,null,null,null,null,null,null,null,null,null,null,null,null,null,null,null,null,null,1,1]
[null,null,"Částečná sanace pláně komunikace:100,00",null,100,null,null,null,null,null,null,null,"Částečná sanace pláně komunikace:100,00"]
[14,"564851111RT2","Podklad ze štěrkodrti po zhutnění tloušťky 15 cm štěrkodrť frakce 0-32 mm","m2",690,null,{"$f":"E42*F42","v":0},0.378,{"$f":"E42*H42","v":260.82},0,{"$f":"E42*J42","v":0},null,null,null,2,null,null,null,null,null,null,null,null,null,null,null,1,1,1,null,null,null,null,null,null,null,null,null,null,null,null,null,null,null,null,null,null,null,null,null,null,1,{"$f":"IF(AZ42=1,G42,0)","v":0},{"$f":"IF(AZ42=2,G42,0)","v":0},{"$f":"IF(AZ42=3,G42,0)","v":0},{"$f":"IF(AZ42=4,G42,0)","v":0},{"$f":"IF(AZ42=5,G42,0)","v":0},null,null,null,null,null,null,null,null,null,null,null,null,null,null,null,null,null,null,null,null,null,1,1]
[null,null,"PLocha komunikace KSS LK 28211:690,00",null,690,null,null,null,null,null,null,null,"PLocha komunikace KSS LK 28211:690,00"]
[15,"564851111RT4","Podklad ze štěrkodrti po zhutnění tloušťky 15 cm štěrkodrť frakce 0-63 mm","m2",690,null,{"$f":"E44*F44","v":0},0.378,{"$f":"E44*H44","v":260.82},0,{"$f":"E44*J44","v":0},null,null,null,2,null,null,null,null,null,null,null,null,null,null,null,1,1,1,null,null,null,null,null,null,null,null,null,null,null,null,null,null,null,null,null,null,null,null,null,null,1,{"$f":"IF(AZ44=1,G44,0)","v":0},{"$f":"IF(AZ44=2,G44,0)","v":0},{"$f":"IF(AZ44=3,G44,0)","v":0},{"$f":"IF(AZ44=4,G44,0)","v":0},{"$f":"IF(AZ44=5,G44,0)","v":0},null,null,null,null,null,null,null,null,null,null,null,null,null,null,null,null,null,null,null,null,null,1,1]
[null,null,"PLocha komunikace MK:690,00",null,690,null,null,null,null,null,null,null,"PLocha komunikace MK:690,00"]
[16,"569741111R00","Zpevnění krajnic kamenivem drceným tl. 12 cm ","m2",57.5,null,{"$f":"E46*F46","v":0},0.23480999999999999,{"$f":"E46*H46","v":13.501574999999999},0,{"$f":"E46*J46","v":0},null,null,null,2,null,null,null,null,null,null,null,null,null,null,null,1,1,1,null,null,null,null,null,null,null,null,null,null,null,null,null,null,null,null,null,null,null,null,null,null,1,{"$f":"IF(AZ46=1,G46,0)","v":0},{"$f":"IF(AZ46=2,G46,0)","v":0},{"$f":"IF(AZ46=3,G46,0)","v":0},{"$f":"IF(AZ46=4,G46,0)","v":0},{"$f":"IF(AZ46=5,G46,0)","v":0},null,null,null,null,null,null,null,null,null,null,null,null,null,null,null,null,null,null,null,null,null,1,1]
[null,null,"Komunikace MK:",null,0,null,null,null,null,null,null,null,"Komunikace MK:"]
[null,null,"Dosypání krajnic:230,00*0,25",null,57.5,null,null,null,null,null,null,null,"Dosypání krajnic:230,00*0,25"]
[17,"573111124R00","Postřik infiltrační, množství zbytkového asfaltového pojiva 1,00 kg/m2","m2",690,null,{"$f":"E49*F49","v":0},6.0099999999999997E-3,{"$f":"E49*H49","v":4.1468999999999996},0,{"$f":"E49*J49","v":0},null,null,null,2,null,null,null,null,null,null,null,null,null,null,null,1,0,0,null,null,null,null,null,null,null,null,null,null,null,null,null,null,null,null,null,null,null,null,null,null,1,{"$f":"IF(AZ49=1,G49,0)","v":0},{"$f":"IF(AZ49=2,G49,0)","v":0},{"$f":"IF(AZ49=3,G49,0)","v":0},{"$f":"IF(AZ49=4,G49,0)","v":0},{"$f":"IF(AZ49=5,G49,0)","v":0},null,null,null,null,null,null,null,null,null,null,null,null,null,null,null,null,null,null,null,null,null,1,0]
[null,null,"Komunikace MK:690,00",null,690,null,null,null,null,null,null,null,"Komunikace MK:690,00"]
[18,"573231110R00","Postřik spojovací z KAE množství zbytkového asfaltu 0,3 kg/m2","m2",690,null,{"$f":"E51*F51","v":0},5.0000000000000001E-4,{"$f":"E51*H51","v":0.34500000000000003},0,{"$f":"E51*J51","v":0},null,null,null,2,null,null,null,null,null,null,null,null,null,null,null,1,1,1,null,null,null,null,null,null,null,null,null,null,null,null,null,null,null,null,null,null,null,null,null,null,1,{"$f":"IF(AZ51=1,G51,0)","v":0},{"$f":"IF(AZ51=2,G51,0)","v":0},{"$f":"IF(AZ51=3,G51,0)","v":0},{"$f":"IF(AZ51=4,G51,0)","v":0},{"$f":"IF(AZ51=5,G51,0)","v":0},null,null,null,null,null,null,null,null,null,null,null,null,null,null,null,null,null,null,null,null,null,1,1]
[null,null,"Komunikace MK:690,00",null,690,null,null,null,null,null,null,null,"Komunikace MK:690,00"]
[19,"577142112R00","Beton asfaltový  ACO 11+ obrusný nad 3 m, tl.5 cm ","m2",690,null,{"$f":"E53*F53","v":0},0.12966,{"$f":"E53*H53","v":89.465400000000002},0,{"$f":"E53*J53","v":0},null,null,null,2,null,null,null,null,null,null,null,null,null,null,null,1,0,0,null,null,null,null,null,null,null,null,null,null,null,null,null,null,null,null,null,null,null,null,null,null,1,{"$f":"IF(AZ53=1,G53,0)","v":0},{"$f":"IF(AZ53=2,G53,0)","v":0},{"$f":"IF(AZ53=3,G53,0)","v":0},{"$f":"IF(AZ53=4,G53,0)","v":0},{"$f":"IF(AZ53=5,G53,0)","v":0},null,null,null,null,null,null,null,null,null,null,null,null,null,null,null,null,null,null,null,null,null,1,0]
[null,null,"Komunikace MK:690,00",null,690,null,null,null,null,null,null,null,"Komunikace MK:690,00"]
[20,"577162124R00","Beton asfalt. ACL 16+ ložný, š. nad 3 m, tl. 7 cm ","m2",690,null,{"$f":"E55*F55","v":0},0.18151999999999999,{"$f":"E55*H55","v":125.24879999999999},0,{"$f":"E55*J55","v":0},null,null,null,2,null,null,null,null,null,null,null,null,null,null,null,1,0,0,null,null,null,null,null,null,null,null,null,null,null,null,null,null,null,null,null,null,null,null,null,null,1,{"$f":"IF(AZ55=1,G55,0)","v":0},{"$f":"IF(AZ55=2,G55,0)","v":0},{"$f":"IF(AZ55=3,G55,0)","v":0},{"$f":"IF(AZ55=4,G55,0)","v":0},{"$f":"IF(AZ55=5,G55,0)","v":0},null,null,null,null,null,null,null,null,null,null,null,null,null,null,null,null,null,null,null,null,null,1,0]
[null,null,"Komunikace MK:690,00",null,690,null,null,null,null,null,null,null,"Komunikace MK:690,00"]
[21,"58344197.R","Štěrkodrtě frakce 0-63 A","t",-87.506600000000006,null,{"$f":"E57*F57","v":0},0,{"$f":"E57*H57","v":0},null,{"$f":"E57*J57","v":0},null,null,null,2,null,null,null,null,null,null,null,null,null,null,null,3,1,"58344197.R",null,null,null,null,null,null,null,null,null,null,null,null,null,null,null,null,null,null,null,null,null,null,1,{"$f":"IF(AZ57=1,G57,0)","v":0},{"$f":"IF(AZ57=2,G57,0)","v":0},{"$f":"IF(AZ57=3,G57,0)","v":0},{"$f":"IF(AZ57=4,G57,0)","v":0},{"$f":"IF(AZ57=5,G57,0)","v":0},null,null,null,null,null,null,null,null,null,null,null,null,null,null,null,null,null,null,null,null,null,3,1]
[null,null,"Odpočet využití ŠD z rýh VH sítí do podkladních štěrkových vrstev z 80% původníhího množství:-146,00*0,40*0,8*1,873",null,-87.506600000000006,null,null,null,null,null,null,null,"Odpočet využití ŠD z rýh VH sítí do podkladních štěrkových vrstev z 80% původníhího množství:-146,00*0,40*0,8*1,873"]
[null,"Celkem za","5 Komunikace",null,null,null,{"$f":"SUM(G39:G58)","v":0},null,{"$f":"SUM(I39:I58)","v":797.34767499999998},null,{"$f":"SUM(K39:K58)","v":0},null,null,null,4,null,null,null,null,null,null,null,null,null,null,null,null,null,null,null,null,null,null,null,null,null,null,null,null,null,null,null,null,null,null,null,null,null,null,null,null,null,{"$f":"SUM(BA39:BA58)","v":0},{"$f":"SUM(BB39:BB58)","v":0},{"$f":"SUM(BC39:BC58)","v":0},{"$f":"SUM(BD39:BD58)","v":0},{"$f":"SUM(BE39:BE58)","v":0}]
["Díl:","93","Dokončovací práce inženýrských staveb",null,null,null,null,null,null,null,null,null,null,null,1]
[22,"938908411RRX","Očištění povrchu krytu vodou ","m2",690,null,{"$f":"E61*F61","v":0},1.0000000000000001E-5,{"$f":"E61*H61","v":6.9000000000000008E-3},0,{"$f":"E61*J61","v":0},null,null,null,2,null,null,null,null,null,null,null,null,null,null,null,1,1,1,null,null,null,null,null,null,null,null,null,null,null,null,null,null,null,null,null,null,null,null,null,null,1,{"$f":"IF(AZ61=1,G61,0)","v":0},{"$f":"IF(AZ61=2,G61,0)","v":0},{"$f":"IF(AZ61=3,G61,0)","v":0},{"$f":"IF(AZ61=4,G61,0)","v":0},{"$f":"IF(AZ61=5,G61,0)","v":0},null,null,null,null,null,null,null,null,null,null,null,null,null,null,null,null,null,null,null,null,null,1,1]
[null,null,"PLocha komunikace MK:690,00",null,690,null,null,null,null,null,null,null,"PLocha komunikace MK:690,00"]
[23,"938909111R00","Odstranění nánosu s povrchu podkladu štěrkového ","m2",690,null,{"$f":"E63*F63","v":0},0,{"$f":"E63*H63","v":0},0,{"$f":"E63*J63","v":0},null,null,null,2,null,null,null,null,null,null,null,null,null,null,null,1,1,1,null,null,null,null,null,null,null,null,null,null,null,null,null,null,null,null,null,null,null,null,null,null,1,{"$f":"IF(AZ63=1,G63,0)","v":0},{"$f":"IF(AZ63=2,G63,0)","v":0},{"$f":"IF(AZ63=3,G63,0)","v":0},{"$f":"IF(AZ63=4,G63,0)","v":0},{"$f":"IF(AZ63=5,G63,0)","v":0},null,null,null,null,null,null,null,null,null,null,null,null,null,null,null,null,null,null,null,null,null,1,1]
[null,null,"PLocha komunikace MK:690,00",null,690,null,null,null,null,null,null,null,"PLocha komunikace MK:690,00"]
[24,"938909311R00","Odstranění nánosu z povrchu živičného nebo beton. ","m2",1380,null,{"$f":"E65*F65","v":0},0,{"$f":"E65*H65","v":0},0,{"$f":"E65*J65","v":0},null,null,null,2,null,null,null,null,null,null,null,null,null,null,null,1,1,1,null,null,null,null,null,null,null,null,null,null,null,null,null,null,null,null,null,null,null,null,null,null,1,{"$f":"IF(AZ65=1,G65,0)","v":0},{"$f":"IF(AZ65=2,G65,0)","v":0},{"$f":"IF(AZ65=3,G65,0)","v":0},{"$f":"IF(AZ65=4,G65,0)","v":0},{"$f":"IF(AZ65=5,G65,0)","v":0},null,null,null,null,null,null,null,null,null,null,null,null,null,null,null,null,null,null,null,null,null,1,1]
[null,null,"Komunikace MK:690,00*2",null,1380,null,null,null,null,null,null,null,"Komunikace MK:690,00*2"]
[null,"Celkem za","93 Dokončovací práce inženýrských staveb",null,null,null,{"$f":"SUM(G60:G66)","v":0},null,{"$f":"SUM(I60:I66)","v":6.9000000000000008E-3},null,{"$f":"SUM(K60:K66)","v":0},null,null,null,4,null,null,null,null,null,null,null,null,null,null,null,null,null,null,null,null,null,null,null,null,null,null,null,null,null,null,null,null,null,null,null,null,null,null,null,null,null,{"$f":"SUM(BA60:BA66)","v":0},{"$f":"SUM(BB60:BB66)","v":0},{"$f":"SUM(BC60:BC66)","v":0},{"$f":"SUM(BD60:BD66)","v":0},{"$f":"SUM(BE60:BE66)","v":0}]
["Díl:","99","Staveništní přesun hmot",null,null,null,null,null,null,null,null,null,null,null,1]
[25,"998225111R00","Přesun hmot, pozemní komunikace, kryt živičný ","t",797.41457500000001,null,{"$f":"E69*F69","v":0},0,{"$f":"E69*H69","v":0},null,{"$f":"E69*J69","v":0},null,null,null,2,null,null,null,null,null,null,null,null,null,null,null,7,1,2,null,null,null,null,null,null,null,null,null,null,null,null,null,null,null,null,null,null,null,null,null,null,1,{"$f":"IF(AZ69=1,G69,0)","v":0},{"$f":"IF(AZ69=2,G69,0)","v":0},{"$f":"IF(AZ69=3,G69,0)","v":0},{"$f":"IF(AZ69=4,G69,0)","v":0},{"$f":"IF(AZ69=5,G69,0)","v":0},null,null,null,null,null,null,null,null,null,null,null,null,null,null,null,null,null,null,null,null,null,7,1]
[null,"Celkem za","99 Staveništní přesun hmot",null,null,null,{"$f":"SUM(G68:G69)","v":0},null,{"$f":"SUM(I68:I69)","v":0},null,{"$f":"SUM(K68:K69)","v":0},null,null,null,4,null,null,null,null,null,null,null,null,null,null,null,null,null,null,null,null,null,null,null,null,null,null,null,null,null,null,null,null,null,null,null,null,null,null,null,null,null,{"$f":"SUM(BA68:BA69)","v":0},{"$f":"SUM(BB68:BB69)","v":0},{"$f":"SUM(BC68:BC69)","v":0},{"$f":"SUM(BD68:BD69)","v":0},{"$f":"SUM(BE68:BE69)","v":0}]

{"sheet":"301.1 3332301.1 KL","index":7,"n_rows":45,"n_cols":8,"rows_kept":45,"cut":false,"hidden":false,"merged":[[50,1,50,6],[29,5,29,6],[30,5,30,6],[31,5,31,6],[32,5,32,6],[33,5,33,6],[36,1,44,6],[45,1,45,6],[46,1,46,6],[47,1,47,6],[48,1,48,6],[49,1,49,6],[22,0,22,1],[7,2,7,4],[8,2,8,4],[9,2,9,4],[10,2,10,4],[11,2,11,4]]}
["POLOŽKOVÝ ROZPOČET"]
["Rozpočet",null,"3332/301.1","Vodovod - 1.část",null,"JKSO ","827.11.A1"]
[]
["Objekt",null,null,null,null,"SKP "]
["301.1",null,"Vodovod - 1.část",null,null,"Měrná jednotka","m"]
["Stavba",null,null,null,null,"Počet jednotek",0]
["3332",null,"Obnova vodovodu a kanalizace  v Obci Loučky",null,null,"Náklady na m.j.",{"$f":"IF(G6=0,,ROUND((F30+F32)/G6,1))","v":0}]
["Projektant",null,"LK PROJEKT s.r.o.",null,null,"Typ rozpočtu"]
["Zpracovatel projektu"]
["Objednatel",null,"Vodohospodářské sdružení Turnov"]
["Dodavatel",null,".",null,null,"Zakázkové číslo "]
["Rozpočtoval",null,null,null,null,"Počet listů"]
["ROZPOČTOVÉ NÁKLADY"]
["Základní rozpočtové náklady"]
[null,"HSV celkem",{"$f":"'301.1 3332301.1 Rek'!E14","v":0}]
["Z","PSV celkem",{"$f":"'301.1 3332301.1 Rek'!F14","v":0}]
["R","M práce celkem",{"$f":"'301.1 3332301.1 Rek'!H14","v":0}]
["N","M dodávky celkem",{"$f":"'301.1 3332301.1 Rek'!G14","v":0}]
["ZRN celkem",null,{"$f":"SUM(C15:C18)","v":0}]
[]
["HZS",null,{"$f":"'301.1 3332301.1 Rek'!I14","v":0}]
["ZRN+HZS",null,{"$f":"C19+C21","v":0}]
["ZRN+ost.náklady+HZS",null,{"$f":"C22+G23","v":0}]
["Vypracoval",null,null,"Za zhotovitele",null,"Za objednatele"]
["Jméno :",null,null,"Jméno :",null,"Jméno :"]
["Datum :",null,null,"Datum :",null,"Datum :"]
[]
["Podpis :",null,null,"Podpis:",null,"Podpis:"]
[]
["Základ pro DPH",null,21,"%  ",null,{"$f":"C23-F32","v":0}]
["DPH",null,{"$f":"C30","v":21},"% ",null,{"$f":"ROUND(PRODUCT(F30,C31/100),0)","v":0}]
["Základ pro DPH",null,0,"% ",null,0]
["DPH",null,{"$f":"C32","v":0},"% ",null,{"$f":"ROUND(PRODUCT(F32,C33/100),0)","v":0}]
["CENA ZA OBJEKT CELKEM",null,null,null,null,{"$f":"ROUND(SUM(F30:F33),0)","v":0}]
[]
["Poznámka :",null,null,null,null,null,null," "]
[null,null,null,null,null,null,null," "]
[null,null,null,null,null,null,null," "]
[null,null,null,null,null,null,null," "]
[null,null,null,null,null,null,null," "]
[null,null,null,null,null,null,null," "]
[null,null,null,null,null,null,null," "]
[null,null,null,null,null,null,null," "]
[null,null,null,null,null,null,null," "]
[null,null,null,null,null,null,null," "]

{"sheet":"301.1 3332301.1 Rek","index":8,"n_rows":14,"n_cols":9,"rows_kept":14,"cut":false,"hidden":false,"merged":[[0,0,0,1],[1,0,1,1],[1,6,1,8]]}
["Stavba :",null,"3332 Obnova vodovodu a kanalizace  v Obci Loučky",null,null,null,"Rozpočet :","3332/301.1"]
["Objekt :",null,"301.1 Vodovod - 1.část",null,null,null,"Vodovod - 1.část"]
[]
["REKAPITULACE  STAVEBNÍCH  DÍLŮ"]
[]
[null,"Stavební díl",null,null,"HSV","PSV","Dodávka","Montáž","HZS"]
[{"$f":"'301.1 3332301.1 Pol'!B7","v":"1"},{"$f":"'301.1 3332301.1 Pol'!C7","v":"Zemní práce"},null,null,{"$f":"'301.1 3332301.1 Pol'!BA232","v":0},{"$f":"'301.1 3332301.1 Pol'!BB232","v":0},{"$f":"'301.1 3332301.1 Pol'!BC232","v":0},{"$f":"'301.1 3332301.1 Pol'!BD232","v":0},{"$f":"'301.1 3332301.1 Pol'!BE232","v":0}]
[{"$f":"'301.1 3332301.1 Pol'!B233","v":"45"},{"$f":"'301.1 3332301.1 Pol'!C233","v":"Podkladní a vedlejší konstrukce"},null,null,{"$f":"'301.1 3332301.1 Pol'!BA252","v":0},{"$f":"'301.1 3332301.1 Pol'!BB252","v":0},{"$f":"'301.1 3332301.1 Pol'!BC252","v":0},{"$f":"'301.1 3332301.1 Pol'!BD252","v":0},{"$f":"'301.1 3332301.1 Pol'!BE252","v":0}]
[{"$f":"'301.1 3332301.1 Pol'!B253","v":"5"},{"$f":"'301.1 3332301.1 Pol'!C253","v":"Komunikace"},null,null,{"$f":"'301.1 3332301.1 Pol'!BA258","v":0},{"$f":"'301.1 3332301.1 Pol'!BB258","v":0},{"$f":"'301.1 3332301.1 Pol'!BC258","v":0},{"$f":"'301.1 3332301.1 Pol'!BD258","v":0},{"$f":"'301.1 3332301.1 Pol'!BE258","v":0}]
[{"$f":"'301.1 3332301.1 Pol'!B259","v":"8"},{"$f":"'301.1 3332301.1 Pol'!C259","v":"Trubní vedení"},null,null,{"$f":"'301.1 3332301.1 Pol'!BA584","v":0},{"$f":"'301.1 3332301.1 Pol'!BB584","v":0},{"$f":"'301.1 3332301.1 Pol'!BC584","v":0},{"$f":"'301.1 3332301.1 Pol'!BD584","v":0},{"$f":"'301.1 3332301.1 Pol'!BE584","v":0}]
[{"$f":"'301.1 3332301.1 Pol'!B585","v":"89"},{"$f":"'301.1 3332301.1 Pol'!C585","v":"Ostatní konstrukce na trubním vedení"},null,null,{"$f":"'301.1 3332301.1 Pol'!BA606","v":0},{"$f":"'301.1 3332301.1 Pol'!BB606","v":0},{"$f":"'301.1 3332301.1 Pol'!BC606","v":0},{"$f":"'301.1 3332301.1 Pol'!BD606","v":0},{"$f":"'301.1 3332301.1 Pol'!BE606","v":0}]
[{"$f":"'301.1 3332301.1 Pol'!B607","v":"93"},{"$f":"'301.1 3332301.1 Pol'!C607","v":"Dokončovací práce inženýrských staveb"},null,null,{"$f":"'301.1 3332301.1 Pol'!BA665","v":0},{"$f":"'301.1 3332301.1 Pol'!BB665","v":0},{"$f":"'301.1 3332301.1 Pol'!BC665","v":0},{"$f":"'301.1 3332301.1 Pol'!BD665","v":0},{"$f":"'301.1 3332301.1 Pol'!BE665","v":0}]
[{"$f":"'301.1 3332301.1 Pol'!B666","v":"99"},{"$f":"'301.1 3332301.1 Pol'!C666","v":"Staveništní přesun hmot"},null,null,{"$f":"'301.1 3332301.1 Pol'!BA668","v":0},{"$f":"'301.1 3332301.1 Pol'!BB668","v":0},{"$f":"'301.1 3332301.1 Pol'!BC668","v":0},{"$f":"'301.1 3332301.1 Pol'!BD668","v":0},{"$f":"'301.1 3332301.1 Pol'!BE668","v":0}]
[null,"CELKEM  OBJEKT",null,null,{"$f":"SUM(E7:E13)","v":0},{"$f":"SUM(F7:F13)","v":0},{"$f":"SUM(G7:G13)","v":0},{"$f":"SUM(H7:H13)","v":0},{"$f":"SUM(I7:I13)","v":0}]

{"sheet":"301.1 3332301.1 Pol","index":9,"n_rows":668,"n_cols":80,"rows_kept":668,"cut":false,"hidden":false,"merged":[[661,2,661,6],[662,2,662,3],[663,2,663,3],[654,2,654,3],[655,2,655,3],[657,2,657,6],[658,2,658,6],[659,2,659,6],[660,2,660,6],[647,2,647,3],[649,2,649,6],[650,2,650,6],[651,2,651,6],[652,2,652,6],[653,2,653,6],[641,2,641,6],[642,2,642,6],[643,2,643,6],[644,2,644,6],[645,2,645,6],[646,2,646,3],[634,2,634,6],[635,2,635,6],[636,2,636,6],[637,2,637,6],[638,2,638,3],[639,2,639,3],[628,2,628,6],[629,2,629,6],[630,2,630,6],[631,2,631,6],[632,2,632,6],[633,2,633,6],[621,2,621,3],[622,2,622,3],[623,2,623,3],[625,2,625,6],[626,2,626,6],[627,2,627,6],[608,2,608,6],[609,2,609,6],[610,2,610,6],[611,2,611,6],[612,2,612,6],[613,2,613,6],[614,2,614,6],[615,2,615,6],[616,2,616,6],[600,2,600,6],[601,2,601,6],[602,2,602,6],[603,2,603,6],[604,2,604,6],[617,2,617,6],[618,2,618,6],[619,2,619,6],[620,2,620,6],[575,2,575,3],[576,2,576,3],[578,2,578,3],[579,2,579,3],[582,2,582,6],[596,2,596,6],[597,2,597,6],[598,2,598,6],[599,2,599,6],[586,2,586,6],[587,2,587,6],[588,2,588,6],[589,2,589,6],[590,2,590,6],[591,2,591,6],[592,2,592,6],[593,2,593,6],[594,2,594,6],[566,2,566,3],[567,2,567,3],[569,2,569,3],[570,2,570,3],[572,2,572,3],[573,2,573,3],[557,2,557,3],[558,2,558,3],[560,2,560,3],[561,2,561,3],[563,2,563,3],[564,2,564,3],[548,2,548,3],[549,2,549,3],[551,2,551,3],[552,2,552,3],[554,2,554,3],[555,2,555,3],[539,2,539,3],[540,2,540,3],[542,2,542,3],[543,2,543,3],[545,2,545,3],[546,2,546,3],[533,2,533,6],[534,2,534,3],[535,2,535,3],[536,2,536,3],[537,2,537,3],[538,2,538,3],[526,2,526,3],[527,2,527,3],[529,2,529,6],[530,2,530,6],[531,2,531,6],[532,2,532,6],[517,2,517,3],[518,2,518,3],[520,2,520,3],[521,2,521,3],[523,2,523,3],[524,2,524,3],[510,2,510,3],[511,2,511,3],[512,2,512,3],[513,2,513,3],[514,2,514,3],[515,2,515,3],[502,2,502,3],[503,2,503,3],[505,2,505,3],[506,2,506,3],[508,2,508,3],[509,2,509,3],[496,2,496,3],[497,2,497,3],[498,2,498,3],[499,2,499,3],[500,2,500,3],[501,2,501,3],[490,2,490,6],[491,2,491,6],[492,2,492,6],[493,2,493,6],[494,2,494,6],[495,2,495,6],[482,2,482,3],[483,2,483,3],[484,2,484,3],[485,2,485,3],[487,2,487,3],[488,2,488,3],[479,2,479,3],[480,2,480,3],[481,2,481,3],[472,2,472,3],[473,2,473,3],[474,2,474,3],[475,2,475,3],[476,2,476,3],[477,2,477,3],[466,2,466,3],[467,2,467,3],[468,2,468,3],[469,2,469,3],[471,2,471,3],[460,2,460,3],[462,2,462,3],[463,2,463,3],[464,2,464,3],[465,2,465,3],[454,2,454,3],[455,2,455,3],[456,2,456,3],[457,2,457,3],[458,2,458,3],[459,2,459,3],[448,2,448,3],[449,2,449,3],[450,2,450,3],[451,2,451,3],[452,2,452,3],[441,2,441,6],[442,2,442,6],[443,2,443,6],[444,2,444,6],[446,2,446,3],[447,2,447,3],[434,2,434,3],[435,2,435,3],[436,2,436,3],[437,2,437,3],[438,2,438,3],[439,2,439,3],[428,2,428,3],[429,2,429,3],[430,2,430,3],[431,2,431,3],[432,2,432,3],[433,2,433,3],[422,2,422,3],[423,2,423,3],[424,2,424,3],[425,2,425,3],[426,2,426,3],[427,2,427,3],[415,2,415,3],[416,2,416,3],[417,2,417,3],[418,2,418,3],[419,2,419,3],[421,2,421,6],[409,2,409,3],[410,2,410,3],[411,2,411,3],[412,2,412,3],[413,2,413,3],[414,2,414,3],[402,2,402,3],[403,2,403,3],[404,2,404,3],[406,2,406,3],[407,2,407,3],[408,2,408,3],[395,2,395,3],[397,2,397,6],[398,2,398,3],[399,2,399,3],[400,2,400,3],[401,2,401,3],[389,2,389,3],[390,2,390,3],[391,2,391,3],[392,2,392,3],[393,2,393,3],[394,2,394,3],[383,2,383,3],[384,2,384,3],[385,2,385,3],[386,2,386,3],[387,2,387,3],[388,2,388,3],[376,2,376,3],[377,2,377,3],[378,2,378,3],[379,2,379,3],[381,2,381,6],[382,2,382,3],[369,2,369,3],[370,2,370,3],[372,2,372,6],[373,2,373,3],[374,2,374,3],[375,2,375,3],[363,2,363,3],[364,2,364,3],[365,2,365,3],[366,2,366,3],[367,2,367,3],[368,2,368,3],[356,2,356,3],[357,2,357,3],[358,2,358,3],[359,2,359,3],[360,2,360,3],[361,2,361,3],[349,2,349,3],[350,2,350,3],[352,2,352,6],[353,2,353,6],[354,2,354,3],[355,2,355,3],[343,2,343,3],[344,2,344,3],[345,2,345,3],[346,2,346,3],[347,2,347,3],[348,2,348,3],[336,2,336,3],[337,2,337,3],[338,2,338,3],[339,2,339,3],[341,2,341,6],[342,2,342,6],[329,2,329,3],[330,2,330,3],[332,2,332,6],[333,2,333,3],[334,2,334,3],[335,2,335,3],[322,2,322,3],[324,2,324,3],[325,2,325,3],[326,2,326,3],[327,2,327,3],[328,2,328,3],[316,2,316,3],[317,2,317,3],[318,2,318,3],[319,2,319,3],[320,2,320,3],[321,2,321,3],[309,2,309,6],[310,2,310,3],[311,2,311,3],[312,2,312,3],[313,2,313,3],[315,2,315,6],[302,2,302,6],[303,2,303,3],[304,2,304,3],[305,2,305,3],[306,2,306,3],[307,2,307,3],[294,2,294,3],[295,2,295,3],[296,2,296,3],[298,2,298,6],[299,2,299,3],[300,2,300,3],[288,2,288,3],[289,2,289,3],[290,2,290,3],[291,2,291,3],[292,2,292,3],[293,2,293,3],[281,2,281,3],[282,2,282,3],[284,2,284,6],[285,2,285,3],[286,2,286,3],[287,2,287,3],[275,2,275,6],[276,2,276,3],[277,2,277,3],[278,2,278,3],[279,2,279,3],[280,2,280,3],[268,2,268,3],[269,2,269,3],[270,2,270,3],[271,2,271,3],[272,2,272,3],[273,2,273,3],[260,2,260,6],[261,2,261,6],[262,2,262,6],[263,2,263,6],[264,2,264,6],[265,2,265,6],[266,2,266,6],[267,2,267,6],[247,2,247,3],[249,2,249,3],[250,2,250,3],[254,2,254,3],[255,2,255,3],[256,2,256,3],[234,2,234,3],[235,2,235,3],[236,2,236,3],[237,2,237,3],[238,2,238,3],[239,2,239,3],[240,2,240,3],[241,2,241,3],[242,2,242,3],[226,2,226,3],[227,2,227,3],[228,2,228,3],[229,2,229,3],[230,2,230,3],[243,2,243,3],[244,2,244,3],[245,2,245,3],[246,2,246,3],[220,2,220,3],[221,2,221,3],[222,2,222,3],[223,2,223,3],[224,2,224,3],[225,2,225,3],[213,2,213,3],[214,2,214,3],[216,2,216,3],[217,2,217,3],[218,2,218,3],[219,2,219,3],[207,2,207,3],[208,2,208,3],[209,2,209,3],[210,2,210,3],[211,2,211,3],[212,2,212,3],[201,2,201,3],[202,2,202,3],[203,2,203,3],[204,2,204,3],[205,2,205,3],[206,2,206,3],[193,2,193,3],[195,2,195,3],[196,2,196,3],[198,2,198,3],[199,2,199,3],[200,2,200,3],[186,2,186,3],[187,2,187,3],[188,2,188,3],[189,2,189,3],[190,2,190,3],[192,2,192,6],[180,2,180,3],[181,2,181,3],[182,2,182,3],[183,2,183,3],[184,2,184,3],[185,2,185,3],[174,2,174,3],[175,2,175,3],[176,2,176,3],[177,2,177,3],[178,2,178,3],[179,2,179,3],[167,2,167,3],[168,2,168,3],[169,2,169,3],[170,2,170,3],[171,2,171,3],[172,2,172,3],[161,2,161,3],[162,2,162,3],[163,2,163,3],[164,2,164,3],[165,2,165,3],[166,2,166,3],[154,2,154,3],[155,2,155,3],[156,2,156,3],[157,2,157,3],[159,2,159,3],[160,2,160,3],[148,2,148,3],[149,2,149,3],[150,2,150,3],[151,2,151,3],[152,2,152,3],[153,2,153,3],[142,2,142,3],[143,2,143,3],[144,2,144,3],[145,2,145,3],[146,2,146,3],[147,2,147,3],[136,2,136,3],[137,2,137,3],[138,2,138,3],[139,2,139,3],[140,2,140,3],[141,2,141,3],[130,2,130,3],[131,2,131,3],[133,2,133,6],[134,2,134,3],[135,2,135,3],[124,2,124,3],[125,2,125,3],[126,2,126,3],[127,2,127,3],[128,2,128,3],[129,2,129,3],[118,2,118,3],[119,2,119,3],[120,2,120,3],[121,2,121,3],[122,2,122,3],[123,2,123,3],[111,2,111,3],[112,2,112,3],[113,2,113,3],[115,2,115,3],[116,2,116,3],[117,2,117,3],[105,2,105,3],[106,2,106,3],[107,2,107,3],[108,2,108,3],[109,2,109,3],[110,2,110,3],[98,2,98,3],[99,2,99,3],[100,2,100,3],[101,2,101,3],[102,2,102,3],[103,2,103,3],[91,2,91,3],[92,2,92,3],[93,2,93,3],[95,2,95,3],[96,2,96,3],[97,2,97,3],[85,2,85,3],[86,2,86,3],[87,2,87,3],[88,2,88,3],[89,2,89,3],[90,2,90,3],[78,2,78,3],[80,2,80,3],[81,2,81,3],[82,2,82,3],[83,2,83,3],[84,2,84,3],[72,2,72,3],[73,2,73,3],[74,2,74,3],[75,2,75,3],[76,2,76,3],[77,2,77,3],[66,2,66,3],[67,2,67,3],[68,2,68,3],[69,2,69,3],[70,2,70,3],[71,2,71,3],[59,2,59,3],[60,2,60,3],[61,2,61,3],[62,2,62,3],[64,2,64,6],[65,2,65,3],[53,2,53,3],[54,2,54,3],[55,2,55,3],[56,2,56,3],[57,2,57,3],[58,2,58,3],[46,2,46,3],[47,2,47,3],[49,2,49,3],[50,2,50,3],[51,2,51,3],[52,2,52,3],[40,2,40,3],[41,2,41,3],[42,2,42,3],[43,2,43,3],[44,2,44,3],[45,2,45,3],[34,2,34,3],[35,2,35,3],[36,2,36,3],[37,2,37,3],[38,2,38,3],[39,2,39,3],[27,2,27,3],[28,2,28,3],[30,2,30,6],[31,2,31,3],[33,2,33,6],[21,2,21,3],[22,2,22,3],[23,2,23,3],[24,2,24,3],[25,2,25,3],[26,2,26,3],[15,2,15,3],[16,2,16,3],[17,2,17,3],[18,2,18,3],[19,2,19,3],[20,2,20,3],[0,0,0,6],[2,0,2,1],[3,0,3,1],[3,4,3,6],[10,2,10,3],[11,2,11,3],[12,2,12,3],[14,2,14,6]]}
["Položkový rozpočet "]
[]
["Stavba :",null,"3332 Obnova vodovodu a kanalizace  v Obci Loučky",null,"Rozpočet:",{"$f":"'301.1 3332301.1 Rek'!H1","v":"3332/301.1"}]
["Objekt :",null,"301.1 Vodovod - 1.část",null,{"$f":"'301.1 3332301.1 Rek'!G2","v":"Vodovod - 1.část"}]
[]
["P.č.","Číslo položky","Název položky","MJ","množství","cena / MJ","celkem (Kč)","Jednotková hmotnost","Celková hmotnost","Jednotková dem.hmot.","Celková dem.hmot."]
["Díl:","1","Zemní práce",null,null,null,null,null,null,null,null,null,null,null,1]
[1,"119001401R00","Dočasné zajištění ocelového potrubí do DN 200 mm ","m",65,null,{"$f":"E8*F8","v":0},8.6899999999999998E-3,{"$f":"E8*H8","v":0.56484999999999996},0,{"$f":"E8*J8","v":0},null,null,null,2,null,null,null,null,null,null,null,null,null,null,null,1,1,1,null,null,null,null,null,null,null,null,null,null,null,null,null,null,null,null,null,null,null,null,null,null,1,{"$f":"IF(AZ8=1,G8,0)","v":0},{"$f":"IF(AZ8=2,G8,0)","v":0},{"$f":"IF(AZ8=3,G8,0)","v":0},{"$f":"IF(AZ8=4,G8,0)","v":0},{"$f":"IF(AZ8=5,G8,0)","v":0},null,null,null,null,null,null,null,null,null,null,null,null,null,null,null,null,null,null,null,null,null,1,1]
[2,"119001422R00","Dočasné zajištění kabelů - v počtu 3 - 6 kabelů ","m",42,null,{"$f":"E9*F9","v":0},3.9739999999999998E-2,{"$f":"E9*H9","v":1.6690799999999999},0,{"$f":"E9*J9","v":0},null,null,null,2,null,null,null,null,null,null,null,null,null,null,null,1,1,1,null,null,null,null,null,null,null,null,null,null,null,null,null,null,null,null,null,null,null,null,null,null,1,{"$f":"IF(AZ9=1,G9,0)","v":0},{"$f":"IF(AZ9=2,G9,0)","v":0},{"$f":"IF(AZ9=3,G9,0)","v":0},{"$f":"IF(AZ9=4,G9,0)","v":0},{"$f":"IF(AZ9=5,G9,0)","v":0},null,null,null,null,null,null,null,null,null,null,null,null,null,null,null,null,null,null,null,null,null,1,1]
[3,"121100002RAA","Sejmutí ornice a uložení na deponii zpětný přesun, rozprostření v tl. 20 cm, osetí","m3",43.44,null,{"$f":"E10*F10","v":0},0,{"$f":"E10*H10","v":0},0,{"$f":"E10*J10","v":0},null,null,null,2,null,null,null,null,null,null,null,null,null,null,null,1,1,1,null,null,null,null,null,null,null,null,null,null,null,null,null,null,null,null,null,null,null,null,null,null,1,{"$f":"IF(AZ10=1,G10,0)","v":0},{"$f":"IF(AZ10=2,G10,0)","v":0},{"$f":"IF(AZ10=3,G10,0)","v":0},{"$f":"IF(AZ10=4,G10,0)","v":0},{"$f":"IF(AZ10=5,G10,0)","v":0},null,null,null,null,null,null,null,null,null,null,null,null,null,null,null,null,null,null,null,null,null,1,1]
[null,null,"Vodovod TLT DN80 :",null,0,null,null,null,null,null,null,null,"Vodovod TLT DN80 :"]
[null,null,"\"VL\" :22,00*3,00*0,20",null,13.2,null,null,null,null,null,null,null,"\"VL\" :22,00*3,00*0,20"]
[null,null,"Vodovod TLT DN80 - VP PE D 32x3,0 mm:151,20*0,5*2,00*0,20",null,30.24,null,null,null,null,null,null,null,"Vodovod TLT DN80 - VP PE D 32x3,0 mm:151,20*0,5*2,00*0,20"]
[4,"130001101RRX","Příplatek za ztížené hloubení v blízkosti vedení ","m3",117.8896,null,{"$f":"E14*F14","v":0},0,{"$f":"E14*H14","v":0},0,{"$f":"E14*J14","v":0},null,null,null,2,null,null,null,null,null,null,null,null,null,null,null,1,1,1,null,null,null,null,null,null,null,null,null,null,null,null,null,null,null,null,null,null,null,null,null,null,1,{"$f":"IF(AZ14=1,G14,0)","v":0},{"$f":"IF(AZ14=2,G14,0)","v":0},{"$f":"IF(AZ14=3,G14,0)","v":0},{"$f":"IF(AZ14=4,G14,0)","v":0},{"$f":"IF(AZ14=5,G14,0)","v":0},null,null,null,null,null,null,null,null,null,null,null,null,null,null,null,null,null,null,null,null,null,1,1]
[null,null,"Včetně případných nutných dokopávem a ručního výkopu podél sousedících inženýrských sítí",null,null,null,null,null,null,null,null,"Včetně případných nutných dokopávem a ručního výkopu podél sousedících inženýrských sítí",null,null,3]
[null,null,"Začátek provozního součtu",null,0,null,null,null,null,null,null,null,"Začátek provozního součtu"]
[null,null,"Vodovod TLT DN80 :",null,0,null,null,null,null,null,null,null,"Vodovod TLT DN80 :"]
[null,null,"Průměrná hloubka výkopů 1,50 m:",null,0,null,null,null,null,null,null,null,"Průměrná hloubka výkopů 1,50 m:"]
[null,null,"\"VL\" :28,50*0,80*1,50",null,34.200000000000003,null,null,null,null,null,null,null,"\"VL\" :28,50*0,80*1,50"]
[null,null,"\"VL1\":(290,00+1,50+8,50)*0,80*1,50",null,360,null,null,null,null,null,null,null,"\"VL1\":(290,00+1,50+8,50)*0,80*1,50"]
[null,null,"\"VL1A\" - Vyvedení mimo komunikaci:6,00*0,80*1,50",null,7.2,null,null,null,null,null,null,null,"\"VL1A\" - Vyvedení mimo komunikaci:6,00*0,80*1,50"]
[null,null,"\"VL1B\":24,00*0,80*1,50",null,28.8,null,null,null,null,null,null,null,"\"VL1B\":24,00*0,80*1,50"]
[null,null,"\"VL2\" :(126,50+1,50)*0,80*1,50",null,153.6,null,null,null,null,null,null,null,"\"VL2\" :(126,50+1,50)*0,80*1,50"]
[null,null,"\"VL2A\" :35,00*0,800*1,50",null,42,null,null,null,null,null,null,null,"\"VL2A\" :35,00*0,800*1,50"]
[null,null,"Vodovod TLT DN80 - VP PE D 32x3,0 mm:151,20*0,70*1,50",null,158.76,null,null,null,null,null,null,null,"Vodovod TLT DN80 - VP PE D 32x3,0 mm:151,20*0,70*1,50"]
[null,null,"Odpočet objemu konstrukcí komunikace, chodníků a ZP:-(499,50*0,80+151,20*0,5*0,70)*0,40",null,-181.00800000000001,null,null,null,null,null,null,null,"Odpočet objemu konstrukcí komunikace, chodníků a ZP:-(499,50*0,80+151,20*0,5*0,70)*0,40"]
[null,null,"Odpočet ornice:-(22,00*0,80+151,20*0,5*0,70)*0,20",null,-14.103999999999999,null,null,null,null,null,null,null,"Odpočet ornice:-(22,00*0,80+151,20*0,5*0,70)*0,20"]
[null,null,"Konec provozního součtu",null,589.44799999999987,null,null,null,null,null,null,null,"Konec provozního součtu"]
[null,null,"V hornině tř. 3 - 4 - 20%:589,4480*0,2",null,117.8896,null,null,null,null,null,null,null,"V hornině tř. 3 - 4 - 20%:589,4480*0,2"]
[5,"130901123RT3","Bourání konstrukcí ze železobetonu ve vykopávkách bagrem s kladivem","m3",12.384,null,{"$f":"E30*F30","v":0},0,{"$f":"E30*H30","v":0},0,{"$f":"E30*J30","v":0},null,null,null,2,null,null,null,null,null,null,null,null,null,null,null,1,1,1,null,null,null,null,null,null,null,null,null,null,null,null,null,null,null,null,null,null,null,null,null,null,1,{"$f":"IF(AZ30=1,G30,0)","v":0},{"$f":"IF(AZ30=2,G30,0)","v":0},{"$f":"IF(AZ30=3,G30,0)","v":0},{"$f":"IF(AZ30=4,G30,0)","v":0},{"$f":"IF(AZ30=5,G30,0)","v":0},null,null,null,null,null,null,null,null,null,null,null,null,null,null,null,null,null,null,null,null,null,1,1]
[null,null,"Položka obsahuje odstranění materiálu obklopujícího betonové a železobetonové konstrukce v míře nutné pro vyzvednutí, rozpojení konstrukcí, uchopení a vyzvednutí konstrukce z výkopu a uložení na dopravní prostředek včetně odvozu na skládku zhotovitele a poplatek za skládku.",null,null,null,null,null,null,null,null,"Položka obsahuje odstranění materiálu obklopujícího betonové a železobetonové konstrukce v míře nutné pro vyzvednutí, rozpojení konstrukcí, uchopení a vyzvednutí konstrukce z výkopu a uložení na dopravní prostředek včetně odvozu na skládku zhotovitele a poplatek za skládku.",null,null,3]
[null,null,"Vybourání stávajících AŠ (3 kusy):4,1280*3",null,12.384,null,null,null,null,null,null,null,"Vybourání stávajících AŠ (3 kusy):4,1280*3"]
[6,"132201212R00","Hloubení rýh š.do 200 cm hor.3 do 1000m3,STROJNĚ ","m3",294.72399999999999,null,{"$f":"E33*F33","v":0},0,{"$f":"E33*H33","v":0},0,{"$f":"E33*J33","v":0},null,null,null,2,null,null,null,null,null,null,null,null,null,null,null,1,1,1,null,null,null,null,null,null,null,null,null,null,null,null,null,null,null,null,null,null,null,null,null,null,1,{"$f":"IF(AZ33=1,G33,0)","v":0},{"$f":"IF(AZ33=2,G33,0)","v":0},{"$f":"IF(AZ33=3,G33,0)","v":0},{"$f":"IF(AZ33=4,G33,0)","v":0},{"$f":"IF(AZ33=5,G33,0)","v":0},null,null,null,null,null,null,null,null,null,null,null,null,null,null,null,null,null,null,null,null,null,1,1]
[null,null,"Položka obsahuje hloubení rýh traktorbagrem, naložení výkopku na dopravní prostředek pro svislé, nebo vodorovné přemístění, popř. přemístění výkopku do 3 m (po povrchu území), případné zajištění rypadel polštáři, udržování pracoviště a ochranu výkopiště proti stékání srážkové vody z okolního terénu i s jejím odvodněním, nebo odvedením, přesekání a odstranění kořenů ve výkopišti, odstranění napadávek, urovnání dna výkopu.",null,null,null,null,null,null,null,null,"Položka obsahuje hloubení rýh traktorbagrem, naložení výkopku na dopravní prostředek pro svislé, nebo vodorovné přemístění, popř. přemístění výkopku do 3 m (po povrchu území), případné zajištění rypadel polštáři, udržování pracoviště a ochranu výkopiště proti stékání srážkové vody z okolního terénu i s jejím odvodněním, nebo odvedením, přesekání a odstranění kořenů ve výkopišti, odstranění napadávek, urovnání dna výkopu.",null,null,3]
[null,null,"Začátek provozního součtu",null,0,null,null,null,null,null,null,null,"Začátek provozního součtu"]
[null,null,"Vodovod TLT DN80 :",null,0,null,null,null,null,null,null,null,"Vodovod TLT DN80 :"]
[null,null,"Průměrná hloubka výkopů 1,50 m:",null,0,null,null,null,null,null,null,null,"Průměrná hloubka výkopů 1,50 m:"]
[null,null,"\"VL\" :28,50*0,80*1,50",null,34.200000000000003,null,null,null,null,null,null,null,"\"VL\" :28,50*0,80*1,50"]
[null,null,"\"VL1\":(290,00+1,50+8,50)*0,80*1,50",null,360,null,null,null,null,null,null,null,"\"VL1\":(290,00+1,50+8,50)*0,80*1,50"]
[null,null,"\"VL1A\" - Vyvedení mimo komunikaci:6,00*0,80*1,50",null,7.2,null,null,null,null,null,null,null,"\"VL1A\" - Vyvedení mimo komunikaci:6,00*0,80*1,50"]
[null,null,"\"VL1B\":24,00*0,80*1,50",null,28.8,null,null,null,null,null,null,null,"\"VL1B\":24,00*0,80*1,50"]
[null,null,"\"VL2\" :(126,50+1,50)*0,80*1,50",null,153.6,null,null,null,null,null,null,null,"\"VL2\" :(126,50+1,50)*0,80*1,50"]
[null,null,"\"VL2A\" :35,00*0,800*1,50",null,42,null,null,null,null,null,null,null,"\"VL2A\" :35,00*0,800*1,50"]
[null,null,"Vodovod TLT DN80 - VP PE D 32x3,0 mm:151,20*0,70*1,50",null,158.76,null,null,null,null,null,null,null,"Vodovod TLT DN80 - VP PE D 32x3,0 mm:151,20*0,70*1,50"]
[null,null,"Odpočet objemu konstrukcí komunikace, chodníků a ZP:-(499,50*0,80+151,20*0,5*0,70)*0,40",null,-181.00800000000001,null,null,null,null,null,null,null,"Odpočet objemu konstrukcí komunikace, chodníků a ZP:-(499,50*0,80+151,20*0,5*0,70)*0,40"]
[null,null,"Odpočet ornice:-(22,00*0,80+151,20*0,5*0,70)*0,20",null,-14.103999999999999,null,null,null,null,null,null,null,"Odpočet ornice:-(22,00*0,80+151,20*0,5*0,70)*0,20"]
[null,null,"Konec provozního součtu",null,589.44799999999987,null,null,null,null,null,null,null,"Konec provozního součtu"]
[null,null,"V hornině tř. 3 - 50%:589,4480*0,5",null,294.72399999999999,null,null,null,null,null,null,null,"V hornině tř. 3 - 50%:589,4480*0,5"]
[7,"132201219R00","Přípl.za lepivost,hloubení rýh 200cm,hor.3,STROJNĚ ","m3",147.36199999999999,null,{"$f":"E49*F49","v":0},0,{"$f":"E49*H49","v":0},0,{"$f":"E49*J49","v":0},null,null,null,2,null,null,null,null,null,null,null,null,null,null,null,1,1,1,null,null,null,null,null,null,null,null,null,null,null,null,null,null,null,null,null,null,null,null,null,null,1,{"$f":"IF(AZ49=1,G49,0)","v":0},{"$f":"IF(AZ49=2,G49,0)","v":0},{"$f":"IF(AZ49=3,G49,0)","v":0},{"$f":"IF(AZ49=4,G49,0)","v":0},{"$f":"IF(AZ49=5,G49,0)","v":0},null,null,null,null,null,null,null,null,null,null,null,null,null,null,null,null,null,null,null,null,null,1,1]
[null,null,"Začátek provozního součtu",null,0,null,null,null,null,null,null,null,"Začátek provozního součtu"]
[null,null,"Vodovod TLT DN80 :",null,0,null,null,null,null,null,null,null,"Vodovod TLT DN80 :"]
[null,null,"Průměrná hloubka výkopů 1,50 m:",null,0,null,null,null,null,null,null,null,"Průměrná hloubka výkopů 1,50 m:"]
[null,null,"\"VL\" :28,50*0,80*1,50",null,34.200000000000003,null,null,null,null,null,null,null,"\"VL\" :28,50*0,80*1,50"]
[null,null,"\"VL1\":(290,00+1,50+8,50)*0,80*1,50",null,360,null,null,null,null,null,null,null,"\"VL1\":(290,00+1,50+8,50)*0,80*1,50"]
[null,null,"\"VL1A\" - Vyvedení mimo komunikaci:6,00*0,80*1,50",null,7.2,null,null,null,null,null,null,null,"\"VL1A\" - Vyvedení mimo komunikaci:6,00*0,80*1,50"]
[null,null,"\"VL1B\":24,00*0,80*1,50",null,28.8,null,null,null,null,null,null,null,"\"VL1B\":24,00*0,80*1,50"]
[null,null,"\"VL2\" :(126,50+1,50)*0,80*1,50",null,153.6,null,null,null,null,null,null,null,"\"VL2\" :(126,50+1,50)*0,80*1,50"]
[null,null,"\"VL2A\" :35,00*0,800*1,50",null,42,null,null,null,null,null,null,null,"\"VL2A\" :35,00*0,800*1,50"]
[null,null,"Vodovod TLT DN80 - VP PE D 32x3,0 mm:151,20*0,70*1,50",null,158.76,null,null,null,null,null,null,null,"Vodovod TLT DN80 - VP PE D 32x3,0 mm:151,20*0,70*1,50"]
[null,null,"Odpočet objemu konstrukcí komunikace, chodníků a ZP:-(499,50*0,80+151,20*0,5*0,70)*0,40",null,-181.00800000000001,null,null,null,null,null,null,null,"Odpočet objemu konstrukcí komunikace, chodníků a ZP:-(499,50*0,80+151,20*0,5*0,70)*0,40"]
[null,null,"Odpočet ornice:-(22,00*0,80+151,20*0,5*0,70)*0,20",null,-14.103999999999999,null,null,null,null,null,null,null,"Odpočet ornice:-(22,00*0,80+151,20*0,5*0,70)*0,20"]
[null,null,"Konec provozního součtu",null,589.44799999999987,null,null,null,null,null,null,null,"Konec provozního součtu"]
[null,null,"V hornině tř. 3 - 50%:589,4480*0,5*0,5",null,147.36199999999999,null,null,null,null,null,null,null,"V hornině tř. 3 - 50%:589,4480*0,5*0,5"]
[8,"132301212R00","Hloubení rýh š.do 200 cm hor.4 do 1000 m3, STROJNĚ ","m3",294.72399999999999,null,{"$f":"E64*F64","v":0},0,{"$f":"E64*H64","v":0},0,{"$f":"E64*J64","v":0},null,null,null,2,null,null,null,null,null,null,null,null,null,null,null,1,1,1,null,null,null,null,null,null,null,null,null,null,null,null,null,null,null,null,null,null,null,null,null,null,1,{"$f":"IF(AZ64=1,G64,0)","v":0},{"$f":"IF(AZ64=2,G64,0)","v":0},{"$f":"IF(AZ64=3,G64,0)","v":0},{"$f":"IF(AZ64=4,G64,0)","v":0},{"$f":"IF(AZ64=5,G64,0)","v":0},null,null,null,null,null,null,null,null,null,null,null,null,null,null,null,null,null,null,null,null,null,1,1]
[null,null,"Položka obsahuje hloubení rýh traktorbagrem, naložení výkopku na dopravní prostředek pro svislé, nebo vodorovné přemístění, popř. přemístění výkopku do 3 m (po povrchu území), případné zajištění rypadel polštáři, udržování pracoviště a ochranu výkopiště proti stékání srážkové vody z okolního terénu i s jejím odvodněním, nebo odvedením, přesekání a odstranění kořenů ve výkopišti, odstranění napadávek, urovnání dna výkopu.",null,null,null,null,null,null,null,null,"Položka obsahuje hloubení rýh traktorbagrem, naložení výkopku na dopravní prostředek pro svislé, nebo vodorovné přemístění, popř. přemístění výkopku do 3 m (po povrchu území), případné zajištění rypadel polštáři, udržování pracoviště a ochranu výkopiště proti stékání srážkové vody z okolního terénu i s jejím odvodněním, nebo odvedením, přesekání a odstranění kořenů ve výkopišti, odstranění napadávek, urovnání dna výkopu.",null,null,3]
[null,null,"Začátek provozního součtu",null,0,null,null,null,null,null,null,null,"Začátek provozního součtu"]
[null,null,"Vodovod TLT DN80 :",null,0,null,null,null,null,null,null,null,"Vodovod TLT DN80 :"]
[null,null,"Průměrná hloubka výkopů 1,50 m:",null,0,null,null,null,null,null,null,null,"Průměrná hloubka výkopů 1,50 m:"]
[null,null,"\"VL\" :28,50*0,80*1,50",null,34.200000000000003,null,null,null,null,null,null,null,"\"VL\" :28,50*0,80*1,50"]
[null,null,"\"VL1\":(290,00+1,50+8,50)*0,80*1,50",null,360,null,null,null,null,null,null,null,"\"VL1\":(290,00+1,50+8,50)*0,80*1,50"]
[null,null,"\"VL1A\" - Vyvedení mimo komunikaci:6,00*0,80*1,50",null,7.2,null,null,null,null,null,null,null,"\"VL1A\" - Vyvedení mimo komunikaci:6,00*0,80*1,50"]
[null,null,"\"VL1B\":24,00*0,80*1,50",null,28.8,null,null,null,null,null,null,null,"\"VL1B\":24,00*0,80*1,50"]
[null,null,"\"VL2\" :(126,50+1,50)*0,80*1,50",null,153.6,null,null,null,null,null,null,null,"\"VL2\" :(126,50+1,50)*0,80*1,50"]
[null,null,"\"VL2A\" :35,00*0,800*1,50",null,42,null,null,null,null,null,null,null,"\"VL2A\" :35,00*0,800*1,50"]
[null,null,"Vodovod TLT DN80 - VP PE D 32x3,0 mm:151,20*0,70*1,50",null,158.76,null,null,null,null,null,null,null,"Vodovod TLT DN80 - VP PE D 32x3,0 mm:151,20*0,70*1,50"]
[null,null,"Odpočet objemu konstrukcí komunikace, chodníků a ZP:-(499,50*0,80+151,20*0,5*0,70)*0,40",null,-181.00800000000001,null,null,null,null,null,null,null,"Odpočet objemu konstrukcí komunikace, chodníků a ZP:-(499,50*0,80+151,20*0,5*0,70)*0,40"]
[null,null,"Odpočet ornice:-(22,00*0,80+151,20*0,5*0,70)*0,20",null,-14.103999999999999,null,null,null,null,null,null,null,"Odpočet ornice:-(22,00*0,80+151,20*0,5*0,70)*0,20"]
[null,null,"Konec provozního součtu",null,589.44799999999987,null,null,null,null,null,null,null,"Konec provozního součtu"]
[null,null,"V hornině tř. 4 - 50%:589,4480*0,5",null,294.72399999999999,null,null,null,null,null,null,null,"V hornině tř. 4 - 50%:589,4480*0,5"]
[9,"132301219R00","Přípl.za lepivost,hloubení rýh 200cm,hor.4,STROJNĚ ","m3",147.36199999999999,null,{"$f":"E80*F80","v":0},0,{"$f":"E80*H80","v":0},0,{"$f":"E80*J80","v":0},null,null,null,2,null,null,null,null,null,null,null,null,null,null,null,1,1,1,null,null,null,null,null,null,null,null,null,null,null,null,null,null,null,null,null,null,null,null,null,null,1,{"$f":"IF(AZ80=1,G80,0)","v":0},{"$f":"IF(AZ80=2,G80,0)","v":0},{"$f":"IF(AZ80=3,G80,0)","v":0},{"$f":"IF(AZ80=4,G80,0)","v":0},{"$f":"IF(AZ80=5,G80,0)","v":0},null,null,null,null,null,null,null,null,null,null,null,null,null,null,null,null,null,null,null,null,null,1,1]
[null,null,"Začátek provozního součtu",null,0,null,null,null,null,null,null,null,"Začátek provozního součtu"]
[null,null,"Vodovod TLT DN80 :",null,0,null,null,null,null,null,null,null,"Vodovod TLT DN80 :"]
[null,null,"Průměrná hloubka výkopů 1,50 m:",null,0,null,null,null,null,null,null,null,"Průměrná hloubka výkopů 1,50 m:"]
[null,null,"\"VL\" :28,50*0,80*1,50",null,34.200000000000003,null,null,null,null,null,null,null,"\"VL\" :28,50*0,80*1,50"]
[null,null,"\"VL1\":(290,00+1,50+8,50)*0,80*1,50",null,360,null,null,null,null,null,null,null,"\"VL1\":(290,00+1,50+8,50)*0,80*1,50"]
[null,null,"\"VL1A\" - Vyvedení mimo komunikaci:6,00*0,80*1,50",null,7.2,null,null,null,null,null,null,null,"\"VL1A\" - Vyvedení mimo komunikaci:6,00*0,80*1,50"]
[null,null,"\"VL1B\":24,00*0,80*1,50",null,28.8,null,null,null,null,null,null,null,"\"VL1B\":24,00*0,80*1,50"]
[null,null,"\"VL2\" :(126,50+1,50)*0,80*1,50",null,153.6,null,null,null,null,null,null,null,"\"VL2\" :(126,50+1,50)*0,80*1,50"]
[null,null,"\"VL2A\" :35,00*0,800*1,50",null,42,null,null,null,null,null,null,null,"\"VL2A\" :35,00*0,800*1,50"]
[null,null,"Vodovod TLT DN80 - VP PE D 32x3,0 mm:151,20*0,70*1,50",null,158.76,null,null,null,null,null,null,null,"Vodovod TLT DN80 - VP PE D 32x3,0 mm:151,20*0,70*1,50"]
[null,null,"Odpočet objemu konstrukcí komunikace, chodníků a ZP:-(499,50*0,80+151,20*0,5*0,70)*0,40",null,-181.00800000000001,null,null,null,null,null,null,null,"Odpočet objemu konstrukcí komunikace, chodníků a ZP:-(499,50*0,80+151,20*0,5*0,70)*0,40"]
[null,null,"Odpočet ornice:-(22,00*0,80+151,20*0,5*0,70)*0,20",null,-14.103999999999999,null,null,null,null,null,null,null,"Odpočet ornice:-(22,00*0,80+151,20*0,5*0,70)*0,20"]
[null,null,"Konec provozního součtu",null,589.44799999999987,null,null,null,null,null,null,null,"Konec provozního součtu"]
[null,null,"V hornině tř. 4 - 50%:589,4480*0,5*0,5",null,147.36199999999999,null,null,null,null,null,null,null,"V hornině tř. 4 - 50%:589,4480*0,5*0,5"]
[10,"151101101R00","Pažení a rozepření stěn rýh - příložné - hl.do 2 m ","m2",2018.1,null,{"$f":"E95*F95","v":0},9.8999999999999999E-4,{"$f":"E95*H95","v":1.997919},0,{"$f":"E95*J95","v":0},null,null,null,2,null,null,null,null,null,null,null,null,null,null,null,1,1,1,null,null,null,null,null,null,null,null,null,null,null,null,null,null,null,null,null,null,null,null,null,null,1,{"$f":"IF(AZ95=1,G95,0)","v":0},{"$f":"IF(AZ95=2,G95,0)","v":0},{"$f":"IF(AZ95=3,G95,0)","v":0},{"$f":"IF(AZ95=4,G95,0)","v":0},{"$f":"IF(AZ95=5,G95,0)","v":0},null,null,null,null,null,null,null,null,null,null,null,null,null,null,null,null,null,null,null,null,null,1,1]
[null,null,"Vodovod TLT DN80 :",null,0,null,null,null,null,null,null,null,"Vodovod TLT DN80 :"]
[null,null,"Průměrná hloubka výkopů 1,50 m:",null,0,null,null,null,null,null,null,null,"Průměrná hloubka výkopů 1,50 m:"]
[null,null,"\"VL\" :28,50*1,50*2",null,85.5,null,null,null,null,null,null,null,"\"VL\" :28,50*1,50*2"]
[null,null,"\"VL1\":(290,00+1,50+8,50)*1,50*2",null,900,null,null,null,null,null,null,null,"\"VL1\":(290,00+1,50+8,50)*1,50*2"]
[null,null,"\"VL1A\" - Vyvedení mimo komunikaci:6,00*1,50*2",null,18,null,null,null,null,null,null,null,"\"VL1A\" - Vyvedení mimo komunikaci:6,00*1,50*2"]
[null,null,"\"VL1B\":24,00*1,50*2",null,72,null,null,null,null,null,null,null,"\"VL1B\":24,00*1,50*2"]
[null,null,"\"VL2\" :(126,50+1,50)*1,50*2",null,384,null,null,null,null,null,null,null,"\"VL2\" :(126,50+1,50)*1,50*2"]
[null,null,"\"VL2A\" :35,00*1,50*2",null,105,null,null,null,null,null,null,null,"\"VL2A\" :35,00*1,50*2"]
[null,null,"Vodovod TLT DN80 - VP PE D 32x3,0 mm:151,20*1,50*2",null,453.6,null,null,null,null,null,null,null,"Vodovod TLT DN80 - VP PE D 32x3,0 mm:151,20*1,50*2"]
[11,"151101111R00","Odstranění pažení stěn rýh - příložné - hl. do 2 m ","m2",2018.1,null,{"$f":"E105*F105","v":0},0,{"$f":"E105*H105","v":0},0,{"$f":"E105*J105","v":0},null,null,null,2,null,null,null,null,null,null,null,null,null,null,null,1,1,1,null,null,null,null,null,null,null,null,null,null,null,null,null,null,null,null,null,null,null,null,null,null,1,{"$f":"IF(AZ105=1,G105,0)","v":0},{"$f":"IF(AZ105=2,G105,0)","v":0},{"$f":"IF(AZ105=3,G105,0)","v":0},{"$f":"IF(AZ105=4,G105,0)","v":0},{"$f":"IF(AZ105=5,G105,0)","v":0},null,null,null,null,null,null,null,null,null,null,null,null,null,null,null,null,null,null,null,null,null,1,1]
[null,null,"Vodovod TLT DN80 :",null,0,null,null,null,null,null,null,null,"Vodovod TLT DN80 :"]
[null,null,"Průměrná hloubka výkopů 1,50 m:",null,0,null,null,null,null,null,null,null,"Průměrná hloubka výkopů 1,50 m:"]
[null,null,"\"VL\" :28,50*1,50*2",null,85.5,null,null,null,null,null,null,null,"\"VL\" :28,50*1,50*2"]
[null,null,"\"VL1\":(290,00+1,50+8,50)*1,50*2",null,900,null,null,null,null,null,null,null,"\"VL1\":(290,00+1,50+8,50)*1,50*2"]
[null,null,"\"VL1A\" - Vyvedení mimo komunikaci:6,00*1,50*2",null,18,null,null,null,null,null,null,null,"\"VL1A\" - Vyvedení mimo komunikaci:6,00*1,50*2"]
[null,null,"\"VL1B\":24,00*1,50*2",null,72,null,null,null,null,null,null,null,"\"VL1B\":24,00*1,50*2"]
[null,null,"\"VL2\" :(126,50+1,50)*1,50*2",null,384,null,null,null,null,null,null,null,"\"VL2\" :(126,50+1,50)*1,50*2"]
[null,null,"\"VL2A\" :35,00*1,50*2",null,105,null,null,null,null,null,null,null,"\"VL2A\" :35,00*1,50*2"]
[null,null,"Vodovod TLT DN80 - VP PE D 32x3,0 mm:151,20*1,50*2",null,453.6,null,null,null,null,null,null,null,"Vodovod TLT DN80 - VP PE D 32x3,0 mm:151,20*1,50*2"]
[12,"162701105RSZ","Vodorovné přemístění výkopku z hor.1-4 na skládku zhotovitele","m3",529.08140000000003,null,{"$f":"E115*F115","v":0},0,{"$f":"E115*H115","v":0},0,{"$f":"E115*J115","v":0},null,null,null,2,null,null,null,null,null,null,null,null,null,null,null,1,1,1,null,null,null,null,null,null,null,null,null,null,null,null,null,null,null,null,null,null,null,null,null,null,1,{"$f":"IF(AZ115=1,G115,0)","v":0},{"$f":"IF(AZ115=2,G115,0)","v":0},{"$f":"IF(AZ115=3,G115,0)","v":0},{"$f":"IF(AZ115=4,G115,0)","v":0},{"$f":"IF(AZ115=5,G115,0)","v":0},null,null,null,null,null,null,null,null,null,null,null,null,null,null,null,null,null,null,null,null,null,1,1]
[null,null,"Výkopy:",null,0,null,null,null,null,null,null,null,"Výkopy:"]
[null,null,"Začátek provozního součtu",null,0,null,null,null,null,null,null,null,"Začátek provozního součtu"]
[null,null,"Vodovod TLT DN80 :",null,0,null,null,null,null,null,null,null,"Vodovod TLT DN80 :"]
[null,null,"Průměrná hloubka výkopů 1,50 m:",null,0,null,null,null,null,null,null,null,"Průměrná hloubka výkopů 1,50 m:"]
[null,null,"\"VL\" :28,50*0,80*1,50",null,34.200000000000003,null,null,null,null,null,null,null,"\"VL\" :28,50*0,80*1,50"]
[null,null,"\"VL1\":(290,00+1,50+8,50)*0,80*1,50",null,360,null,null,null,null,null,null,null,"\"VL1\":(290,00+1,50+8,50)*0,80*1,50"]
[null,null,"\"VL1A\" - Vyvedení mimo komunikaci:6,00*0,80*1,50",null,7.2,null,null,null,null,null,null,null,"\"VL1A\" - Vyvedení mimo komunikaci:6,00*0,80*1,50"]
[null,null,"\"VL1B\":24,00*0,80*1,50",null,28.8,null,null,null,null,null,null,null,"\"VL1B\":24,00*0,80*1,50"]
[null,null,"\"VL2\" :(126,50+1,50)*0,80*1,50",null,153.6,null,null,null,null,null,null,null,"\"VL2\" :(126,50+1,50)*0,80*1,50"]
[null,null,"\"VL2A\" :35,00*0,800*1,50",null,42,null,null,null,null,null,null,null,"\"VL2A\" :35,00*0,800*1,50"]
[null,null,"Vodovod TLT DN80 - VP PE D 32x3,0 mm:151,20*0,70*1,50",null,158.76,null,null,null,null,null,null,null,"Vodovod TLT DN80 - VP PE D 32x3,0 mm:151,20*0,70*1,50"]
[null,null,"Odpočet objemu konstrukcí komunikace, chodníků a ZP:-(499,50*0,80+151,20*0,5*0,70)*0,40",null,-181.00800000000001,null,null,null,null,null,null,null,"Odpočet objemu konstrukcí komunikace, chodníků a ZP:-(499,50*0,80+151,20*0,5*0,70)*0,40"]
[null,null,"Odpočet ornice:-(22,00*0,80+151,20*0,5*0,70)*0,20",null,-14.103999999999999,null,null,null,null,null,null,null,"Odpočet ornice:-(22,00*0,80+151,20*0,5*0,70)*0,20"]
[null,null,"Konec provozního součtu",null,589.44799999999987,null,null,null,null,null,null,null,"Konec provozního součtu"]
[null,null,"V hornině tř. 3 - 4:589,4480",null,589.44799999999998,null,null,null,null,null,null,null,"V hornině tř. 3 - 4:589,4480"]
[null,null,"Odpočet zásypů zeminou:",null,0,null,null,null,null,null,null,null,"Odpočet zásypů zeminou:"]
[null,null,"Zásyp zeminou:-60,3666",null,-60.366599999999998,null,null,null,null,null,null,null,"Zásyp zeminou:-60,3666"]
[13,"174101101R00","Zásyp jam, rýh, šachet se zhutněním ","m3",343.4692,null,{"$f":"E133*F133","v":0},0,{"$f":"E133*H133","v":0},0,{"$f":"E133*J133","v":0},null,null,null,2,null,null,null,null,null,null,null,null,null,null,null,1,1,1,null,null,null,null,null,null,null,null,null,null,null,null,null,null,null,null,null,null,null,null,null,null,1,{"$f":"IF(AZ133=1,G133,0)","v":0},{"$f":"IF(AZ133=2,G133,0)","v":0},{"$f":"IF(AZ133=3,G133,0)","v":0},{"$f":"IF(AZ133=4,G133,0)","v":0},{"$f":"IF(AZ133=5,G133,0)","v":0},null,null,null,null,null,null,null,null,null,null,null,null,null,null,null,null,null,null,null,null,null,1,1]
[null,null,"Položka obsahuje strojní přemístění materiálu pro zásyp ze vzdálenosti do 10 m od okraje zásypu.",null,null,null,null,null,null,null,null,"Položka obsahuje strojní přemístění materiálu pro zásyp ze vzdálenosti do 10 m od okraje zásypu.",null,null,3]
[null,null,"Zásyp zeminou:60,3666",null,60.366599999999998,null,null,null,null,null,null,null,"Zásyp zeminou:60,3666"]
[null,null,"Začátek provozního součtu",null,0,null,null,null,null,null,null,null,"Začátek provozního součtu"]
[null,null,"Vodovod TLT DN80 :",null,0,null,null,null,null,null,null,null,"Vodovod TLT DN80 :"]
[null,null,"\"VL\" :22,00*0,80*1,50",null,26.4,null,null,null,null,null,null,null,"\"VL\" :22,00*0,80*1,50"]
[null,null,"Vodovod TLT DN80 - VP PE D 32x3,0 mm:151,20*0,5*0,70*1,50",null,79.38,null,null,null,null,null,null,null,"Vodovod TLT DN80 - VP PE D 32x3,0 mm:151,20*0,5*0,70*1,50"]
[null,null,"Odpočet ornice:-(22,00*0,80+151,20*0,5*0,70)*0,20",null,-14.103999999999999,null,null,null,null,null,null,null,"Odpočet ornice:-(22,00*0,80+151,20*0,5*0,70)*0,20"]
[null,null,"Odpočet lože, potrubí a obsypů - vodovod:-22,00*0,80*(0,10+0,08+0,30)",null,-8.4480000000000004,null,null,null,null,null,null,null,"Odpočet lože, potrubí a obsypů - vodovod:-22,00*0,80*(0,10+0,08+0,30)"]
[null,null,"Odpočet lože, potrubí a obsypů - VP:-151,20*0,5*0,70*(0,10+0,032+0,30)",null,-22.8614,null,null,null,null,null,null,null,"Odpočet lože, potrubí a obsypů - VP:-151,20*0,5*0,70*(0,10+0,032+0,30)"]
[null,null,"Konec provozního součtu",null,60.366600000000005,null,null,null,null,null,null,null,"Konec provozního součtu"]
[null,null,"Zásyp štěrkodrtí fr. 0-63 mm:283,1026",null,283.1026,null,null,null,null,null,null,null,"Zásyp štěrkodrtí fr. 0-63 mm:283,1026"]
[null,null,"Začátek provozního součtu",null,0,null,null,null,null,null,null,null,"Začátek provozního součtu"]
[null,null,"Vodovod TLT DN80 :",null,0,null,null,null,null,null,null,null,"Vodovod TLT DN80 :"]
[null,null,"Průměrná hloubka výkopů 1,50 m:",null,0,null,null,null,null,null,null,null,"Průměrná hloubka výkopů 1,50 m:"]
[null,null,"\"VL\" :6,50*0,80*1,50",null,7.8,null,null,null,null,null,null,null,"\"VL\" :6,50*0,80*1,50"]
[null,null,"\"VL1\":(290,00+1,50+8,50)*0,80*1,50",null,360,null,null,null,null,null,null,null,"\"VL1\":(290,00+1,50+8,50)*0,80*1,50"]
[null,null,"\"VL1A\" - Vyvedení mimo komunikaci:6,00*0,80*1,50",null,7.2,null,null,null,null,null,null,null,"\"VL1A\" - Vyvedení mimo komunikaci:6,00*0,80*1,50"]
[null,null,"\"VL1B\":24,00*0,80*1,50",null,28.8,null,null,null,null,null,null,null,"\"VL1B\":24,00*0,80*1,50"]
[null,null,"\"VL2\" :(126,50+1,50)*0,80*1,50",null,153.6,null,null,null,null,null,null,null,"\"VL2\" :(126,50+1,50)*0,80*1,50"]
[null,null,"\"VL2A\" :35,00*0,80*1,50",null,42,null,null,null,null,null,null,null,"\"VL2A\" :35,00*0,80*1,50"]
[null,null,"Vodovod TLT DN80 - VP PE D 32x3,0 mm:151,20*0,5*0,70*1,50",null,79.38,null,null,null,null,null,null,null,"Vodovod TLT DN80 - VP PE D 32x3,0 mm:151,20*0,5*0,70*1,50"]
[null,null,"Odpočet objemu konstrukcí komunikace, chodníků a ZP:-(499,50*0,80+151,20*0,5*0,70)*0,40",null,-181.00800000000001,null,null,null,null,null,null,null,"Odpočet objemu konstrukcí komunikace, chodníků a ZP:-(499,50*0,80+151,20*0,5*0,70)*0,40"]
[null,null,"Odpočet lože, potrubí a obsypů - vodovod:-499,50*0,80*(0,10+0,08+0,30)",null,-191.80799999999999,null,null,null,null,null,null,null,"Odpočet lože, potrubí a obsypů - vodovod:-499,50*0,80*(0,10+0,08+0,30)"]
[null,null,"Odpočet lože, potrubí a obsypů - VP:-151,20*0,5*0,70*(0,10+0,032+0,30)",null,-22.8614,null,null,null,null,null,null,null,"Odpočet lože, potrubí a obsypů - VP:-151,20*0,5*0,70*(0,10+0,032+0,30)"]
[null,null,"Konec provozního součtu",null,283.10259999999994,null,null,null,null,null,null,null,"Konec provozního součtu"]
[14,"175101101R00","Obsyp potrubí bez prohození sypaniny ","m3",190.93190000000001,null,{"$f":"E159*F159","v":0},0,{"$f":"E159*H159","v":0},0,{"$f":"E159*J159","v":0},null,null,null,2,null,null,null,null,null,null,null,null,null,null,null,1,1,1,null,null,null,null,null,null,null,null,null,null,null,null,null,null,null,null,null,null,null,null,null,null,1,{"$f":"IF(AZ159=1,G159,0)","v":0},{"$f":"IF(AZ159=2,G159,0)","v":0},{"$f":"IF(AZ159=3,G159,0)","v":0},{"$f":"IF(AZ159=4,G159,0)","v":0},{"$f":"IF(AZ159=5,G159,0)","v":0},null,null,null,null,null,null,null,null,null,null,null,null,null,null,null,null,null,null,null,null,null,1,1]
[null,null,"Vodovod TLT DN80 :",null,0,null,null,null,null,null,null,null,"Vodovod TLT DN80 :"]
[null,null,"\"VL\" :28,50*(0,80*(0,08+0,30)-0,04^2*Pi)",null,8.5206999999999997,null,null,null,null,null,null,null,"\"VL\" :28,50*(0,80*(0,08+0,30)-0,04^2*Pi)"]
[null,null,"\"VL1\":(290,00+1,50+8,50)*(0,80*(0,08+0,30)-0,04^2*Pi)",null,89.691999999999993,null,null,null,null,null,null,null,"\"VL1\":(290,00+1,50+8,50)*(0,80*(0,08+0,30)-0,04^2*Pi)"]
[null,null,"\"VL1A\" - Vyvedení mimo komunikaci:6,00*(0,80*(0,08+0,30)-0,04^2*Pi)",null,1.7938000000000001,null,null,null,null,null,null,null,"\"VL1A\" - Vyvedení mimo komunikaci:6,00*(0,80*(0,08+0,30)-0,04^2*Pi)"]
[null,null,"\"VL1B\":24,00*(0,80*(0,08+0,30)-0,04^2*Pi)",null,7.1753999999999998,null,null,null,null,null,null,null,"\"VL1B\":24,00*(0,80*(0,08+0,30)-0,04^2*Pi)"]
[null,null,"\"VL2\" :(126,50+1,50)*(0,80*(0,08+0,30)-0,04^2*Pi)",null,38.268599999999999,null,null,null,null,null,null,null,"\"VL2\" :(126,50+1,50)*(0,80*(0,08+0,30)-0,04^2*Pi)"]
[null,null,"\"VL2A\" :35,00*(0,80*(0,08+0,30)-0,04^2*Pi)",null,10.4641,null,null,null,null,null,null,null,"\"VL2A\" :35,00*(0,80*(0,08+0,30)-0,04^2*Pi)"]
[null,null,"Vodovod TLT DN80 - VP PE D 32x3,0 mm:",null,0,null,null,null,null,null,null,null,"Vodovod TLT DN80 - VP PE D 32x3,0 mm:"]
[null,null,"\"VL\" :10,00*(0,70*(0,032+0,30)-0,016^2*Pi)",null,2.3159999999999998,null,null,null,null,null,null,null,"\"VL\" :10,00*(0,70*(0,032+0,30)-0,016^2*Pi)"]
[null,null,"\"VL1\":80,20*(0,70*(0,032+0,30)-0,016^2*Pi)",null,18.574000000000002,null,null,null,null,null,null,null,"\"VL1\":80,20*(0,70*(0,032+0,30)-0,016^2*Pi)"]
[null,null,"\"VL1A\" :0",null,0,null,null,null,null,null,null,null,"\"VL1A\" :0"]
[null,null,"\"VL1B\":7,00*(0,70*(0,032+0,30)-0,016^2*Pi)",null,1.6212,null,null,null,null,null,null,null,"\"VL1B\":7,00*(0,70*(0,032+0,30)-0,016^2*Pi)"]
[null,null,"\"VL2\" :36,00*(0,70*(0,032+0,30)-0,016^2*Pi)",null,8.3374000000000006,null,null,null,null,null,null,null,"\"VL2\" :36,00*(0,70*(0,032+0,30)-0,016^2*Pi)"]
[null,null,"\"VL2A\":18,00*(0,70*(0,032+0,30)-0,016^2*Pi)",null,4.1687000000000003,null,null,null,null,null,null,null,"\"VL2A\":18,00*(0,70*(0,032+0,30)-0,016^2*Pi)"]
[15,"199000002R00","Poplatek za skládku horniny 1- 4 č. dle katal. odpadů 17 05 04","m3",529.08140000000003,null,{"$f":"E174*F174","v":0},0,{"$f":"E174*H174","v":0},0,{"$f":"E174*J174","v":0},null,null,null,2,null,null,null,null,null,null,null,null,null,null,null,1,1,1,null,null,null,null,null,null,null,null,null,null,null,null,null,null,null,null,null,null,null,null,null,null,1,{"$f":"IF(AZ174=1,G174,0)","v":0},{"$f":"IF(AZ174=2,G174,0)","v":0},{"$f":"IF(AZ174=3,G174,0)","v":0},{"$f":"IF(AZ174=4,G174,0)","v":0},{"$f":"IF(AZ174=5,G174,0)","v":0},null,null,null,null,null,null,null,null,null,null,null,null,null,null,null,null,null,null,null,null,null,1,1]
[null,null,"Výkopy:",null,0,null,null,null,null,null,null,null,"Výkopy:"]
[null,null,"Začátek provozního součtu",null,0,null,null,null,null,null,null,null,"Začátek provozního součtu"]
[null,null,"Vodovod TLT DN80 :",null,0,null,null,null,null,null,null,null,"Vodovod TLT DN80 :"]
[null,null,"Průměrná hloubka výkopů 1,50 m:",null,0,null,null,null,null,null,null,null,"Průměrná hloubka výkopů 1,50 m:"]
[null,null,"\"VL\" :28,50*0,80*1,50",null,34.200000000000003,null,null,null,null,null,null,null,"\"VL\" :28,50*0,80*1,50"]
[null,null,"\"VL1\":(290,00+1,50+8,50)*0,80*1,50",null,360,null,null,null,null,null,null,null,"\"VL1\":(290,00+1,50+8,50)*0,80*1,50"]
[null,null,"\"VL1A\" - Vyvedení mimo komunikaci:6,00*0,80*1,50",null,7.2,null,null,null,null,null,null,null,"\"VL1A\" - Vyvedení mimo komunikaci:6,00*0,80*1,50"]
[null,null,"\"VL1B\":24,00*0,80*1,50",null,28.8,null,null,null,null,null,null,null,"\"VL1B\":24,00*0,80*1,50"]
[null,null,"\"VL2\" :(126,50+1,50)*0,80*1,50",null,153.6,null,null,null,null,null,null,null,"\"VL2\" :(126,50+1,50)*0,80*1,50"]
[null,null,"\"VL2A\" :35,00*0,800*1,50",null,42,null,null,null,null,null,null,null,"\"VL2A\" :35,00*0,800*1,50"]
[null,null,"Vodovod TLT DN80 - VP PE D 32x3,0 mm:151,20*0,70*1,50",null,158.76,null,null,null,null,null,null,null,"Vodovod TLT DN80 - VP PE D 32x3,0 mm:151,20*0,70*1,50"]
[null,null,"Odpočet objemu konstrukcí komunikace, chodníků a ZP:-(499,50*0,80+151,20*0,5*0,70)*0,40",null,-181.00800000000001,null,null,null,null,null,null,null,"Odpočet objemu konstrukcí komunikace, chodníků a ZP:-(499,50*0,80+151,20*0,5*0,70)*0,40"]
[null,null,"Odpočet ornice:-(22,00*0,80+151,20*0,5*0,70)*0,20",null,-14.103999999999999,null,null,null,null,null,null,null,"Odpočet ornice:-(22,00*0,80+151,20*0,5*0,70)*0,20"]
[null,null,"Konec provozního součtu",null,589.44799999999987,null,null,null,null,null,null,null,"Konec provozního součtu"]
[null,null,"V hornině tř. 3 - 4:589,4480",null,589.44799999999998,null,null,null,null,null,null,null,"V hornině tř. 3 - 4:589,4480"]
[null,null,"Odpočet zásypů zeminou:",null,0,null,null,null,null,null,null,null,"Odpočet zásypů zeminou:"]
[null,null,"Zásyp zeminou:-60,3666",null,-60.366599999999998,null,null,null,null,null,null,null,"Zásyp zeminou:-60,3666"]
[16,"969011131RRX","Vybourání vodovod., plynového vedení DN do 125 mm ","m",400,null,{"$f":"E192*F192","v":0},3.8000000000000002E-4,{"$f":"E192*H192","v":0.152},-3.6999999999999998E-2,{"$f":"E192*J192","v":-14.799999999999999},null,null,null,2,null,null,null,null,null,null,null,null,null,null,null,1,1,1,null,null,null,null,null,null,null,null,null,null,null,null,null,null,null,null,null,null,null,null,null,null,1,{"$f":"IF(AZ192=1,G192,0)","v":0},{"$f":"IF(AZ192=2,G192,0)","v":0},{"$f":"IF(AZ192=3,G192,0)","v":0},{"$f":"IF(AZ192=4,G192,0)","v":0},{"$f":"IF(AZ192=5,G192,0)","v":0},null,null,null,null,null,null,null,null,null,null,null,null,null,null,null,null,null,null,null,null,null,1,1]
[null,null,"Položka obsahuje odstranění materiálu obklopujícího potrubí v míře nutné pro vyzvednutí, rozpojení trub, uchopení a vyzvednutí trub z výkopu včetně všech znaků a armatur a uložení na dopravní prostředek včetně odvozu na skládku zhotovitele a poplatek za skládku.",null,null,null,null,null,null,null,null,"Položka obsahuje odstranění materiálu obklopujícího potrubí v míře nutné pro vyzvednutí, rozpojení trub, uchopení a vyzvednutí trub z výkopu včetně všech znaků a armatur a uložení na dopravní prostředek včetně odvozu na skládku zhotovitele a poplatek za skládku.",null,null,3]
[null,null,"Vybourání části stávajícího vodovodního potrubí včetně znaků (odhad):400,00",null,400,null,null,null,null,null,null,null,"Vybourání části stávajícího vodovodního potrubí včetně znaků (odhad):400,00"]
[17,"976085211R00","Vybourání kanal.rámů a poklopů plochy do 0,3 m2 ","kus",43,null,{"$f":"E195*F195","v":0},0,{"$f":"E195*H195","v":0},-2.4E-2,{"$f":"E195*J195","v":-1.032},null,null,null,2,null,null,null,null,null,null,null,null,null,null,null,1,0,0,null,null,null,null,null,null,null,null,null,null,null,null,null,null,null,null,null,null,null,null,null,null,1,{"$f":"IF(AZ195=1,G195,0)","v":0},{"$f":"IF(AZ195=2,G195,0)","v":0},{"$f":"IF(AZ195=3,G195,0)","v":0},{"$f":"IF(AZ195=4,G195,0)","v":0},{"$f":"IF(AZ195=5,G195,0)","v":0},null,null,null,null,null,null,null,null,null,null,null,null,null,null,null,null,null,null,null,null,null,1,0]
[null,null,"Vybourání stávajících AŠ (3 kusy) - Poklopy:3",null,3,null,null,null,null,null,null,null,"Vybourání stávajících AŠ (3 kusy) - Poklopy:3"]
[null,null,"Vybourání stávajících znaků vodovod :40,00",null,40,null,null,null,null,null,null,null,"Vybourání stávajících znaků vodovod :40,00"]
[18,"58337308R","Štěrkopísek frakce 0-2 tř.B","t",376.70859999999999,null,{"$f":"E198*F198","v":0},1,{"$f":"E198*H198","v":376.70859999999999},null,{"$f":"E198*J198","v":0},null,null,null,2,null,null,null,null,null,null,null,null,null,null,null,3,1,"58337308R",null,null,null,null,null,null,null,null,null,null,null,null,null,null,null,null,null,null,null,null,null,null,1,{"$f":"IF(AZ198=1,G198,0)","v":0},{"$f":"IF(AZ198=2,G198,0)","v":0},{"$f":"IF(AZ198=3,G198,0)","v":0},{"$f":"IF(AZ198=4,G198,0)","v":0},{"$f":"IF(AZ198=5,G198,0)","v":0},null,null,null,null,null,null,null,null,null,null,null,null,null,null,null,null,null,null,null,null,null,3,1]
[null,null,"Začátek provozního součtu",null,0,null,null,null,null,null,null,null,"Začátek provozního součtu"]
[null,null,"Vodovod TLT DN80 :",null,0,null,null,null,null,null,null,null,"Vodovod TLT DN80 :"]
[null,null,"\"VL\" :28,50*(0,80*(0,08+0,30)-0,04^2*Pi)",null,8.5206999999999997,null,null,null,null,null,null,null,"\"VL\" :28,50*(0,80*(0,08+0,30)-0,04^2*Pi)"]
[null,null,"\"VL1\":(290,00+1,50+8,50)*(0,80*(0,08+0,30)-0,04^2*Pi)",null,89.691999999999993,null,null,null,null,null,null,null,"\"VL1\":(290,00+1,50+8,50)*(0,80*(0,08+0,30)-0,04^2*Pi)"]
[null,null,"\"VL1A\" - Vyvedení mimo komunikaci:6,00*(0,80*(0,08+0,30)-0,04^2*Pi)",null,1.7938000000000001,null,null,null,null,null,null,null,"\"VL1A\" - Vyvedení mimo komunikaci:6,00*(0,80*(0,08+0,30)-0,04^2*Pi)"]
[null,null,"\"VL1B\":24,00*(0,80*(0,08+0,30)-0,04^2*Pi)",null,7.1753999999999998,null,null,null,null,null,null,null,"\"VL1B\":24,00*(0,80*(0,08+0,30)-0,04^2*Pi)"]
[null,null,"\"VL2\" :(126,50+1,50)*(0,80*(0,08+0,30)-0,04^2*Pi)",null,38.268599999999999,null,null,null,null,null,null,null,"\"VL2\" :(126,50+1,50)*(0,80*(0,08+0,30)-0,04^2*Pi)"]
[null,null,"\"VL2A\" :35,00*(0,80*(0,08+0,30)-0,04^2*Pi)",null,10.4641,null,null,null,null,null,null,null,"\"VL2A\" :35,00*(0,80*(0,08+0,30)-0,04^2*Pi)"]
[null,null,"Vodovod TLT DN80 - VP PE D 32x3,0 mm:",null,0,null,null,null,null,null,null,null,"Vodovod TLT DN80 - VP PE D 32x3,0 mm:"]
[null,null,"\"VL\" :10,00*(0,70*(0,032+0,30)-0,016^2*Pi)",null,2.3159999999999998,null,null,null,null,null,null,null,"\"VL\" :10,00*(0,70*(0,032+0,30)-0,016^2*Pi)"]
[null,null,"\"VL1\":80,20*(0,70*(0,032+0,30)-0,016^2*Pi)",null,18.574000000000002,null,null,null,null,null,null,null,"\"VL1\":80,20*(0,70*(0,032+0,30)-0,016^2*Pi)"]
[null,null,"\"VL1A\" :0",null,0,null,null,null,null,null,null,null,"\"VL1A\" :0"]
[null,null,"\"VL1B\":7,00*(0,70*(0,032+0,30)-0,016^2*Pi)",null,1.6212,null,null,null,null,null,null,null,"\"VL1B\":7,00*(0,70*(0,032+0,30)-0,016^2*Pi)"]
[null,null,"\"VL2\" :36,00*(0,70*(0,032+0,30)-0,016^2*Pi)",null,8.3374000000000006,null,null,null,null,null,null,null,"\"VL2\" :36,00*(0,70*(0,032+0,30)-0,016^2*Pi)"]
[null,null,"\"VL2A\":18,00*(0,70*(0,032+0,30)-0,016^2*Pi)",null,4.1687000000000003,null,null,null,null,null,null,null,"\"VL2A\":18,00*(0,70*(0,032+0,30)-0,016^2*Pi)"]
[null,null,"Konec provozního součtu",null,190.93190000000001,null,null,null,null,null,null,null,"Konec provozního součtu"]
[null,null,"190,9319*1,973",null,376.70859999999999,null,null,null,null,null,null,null,"190,9319*1,973"]
[19,"58344197R","Štěrkodrtě frakce 0-63 A","t",530.25120000000004,null,{"$f":"E216*F216","v":0},1,{"$f":"E216*H216","v":530.25120000000004},null,{"$f":"E216*J216","v":0},null,null,null,2,null,null,null,null,null,null,null,null,null,null,null,3,1,"58344197R",null,null,null,null,null,null,null,null,null,null,null,null,null,null,null,null,null,null,null,null,null,null,1,{"$f":"IF(AZ216=1,G216,0)","v":0},{"$f":"IF(AZ216=2,G216,0)","v":0},{"$f":"IF(AZ216=3,G216,0)","v":0},{"$f":"IF(AZ216=4,G216,0)","v":0},{"$f":"IF(AZ216=5,G216,0)","v":0},null,null,null,null,null,null,null,null,null,null,null,null,null,null,null,null,null,null,null,null,null,3,1]
[null,null,"Zásyp štěrkodrtí fr. 0-63 mm:283,1026*1,873",null,530.25120000000004,null,null,null,null,null,null,null,"Zásyp štěrkodrtí fr. 0-63 mm:283,1026*1,873"]
[null,null,"Začátek provozního součtu",null,0,null,null,null,null,null,null,null,"Začátek provozního součtu"]
[null,null,"Vodovod TLT DN80 :",null,0,null,null,null,null,null,null,null,"Vodovod TLT DN80 :"]
[null,null,"Průměrná hloubka výkopů 1,50 m:",null,0,null,null,null,null,null,null,null,"Průměrná hloubka výkopů 1,50 m:"]
[null,null,"\"VL\" :6,50*0,80*1,50",null,7.8,null,null,null,null,null,null,null,"\"VL\" :6,50*0,80*1,50"]
[null,null,"\"VL1\":(290,00+1,50+8,50)*0,80*1,50",null,360,null,null,null,null,null,null,null,"\"VL1\":(290,00+1,50+8,50)*0,80*1,50"]
[null,null,"\"VL1A\" - Vyvedení mimo komunikaci:6,00*0,80*1,50",null,7.2,null,null,null,null,null,null,null,"\"VL1A\" - Vyvedení mimo komunikaci:6,00*0,80*1,50"]
[null,null,"\"VL1B\":24,00*0,80*1,50",null,28.8,null,null,null,null,null,null,null,"\"VL1B\":24,00*0,80*1,50"]
[null,null,"\"VL2\" :(126,50+1,50)*0,80*1,50",null,153.6,null,null,null,null,null,null,null,"\"VL2\" :(126,50+1,50)*0,80*1,50"]
[null,null,"\"VL2A\" :35,00*0,80*1,50",null,42,null,null,null,null,null,null,null,"\"VL2A\" :35,00*0,80*1,50"]
[null,null,"Vodovod TLT DN80 - VP PE D 32x3,0 mm:151,20*0,5*0,70*1,50",null,79.38,null,null,null,null,null,null,null,"Vodovod TLT DN80 - VP PE D 32x3,0 mm:151,20*0,5*0,70*1,50"]
[null,null,"Odpočet objemu konstrukcí komunikace, chodníků a ZP:-(499,50*0,80+151,20*0,5*0,70)*0,40",null,-181.00800000000001,null,null,null,null,null,null,null,"Odpočet objemu konstrukcí komunikace, chodníků a ZP:-(499,50*0,80+151,20*0,5*0,70)*0,40"]
[null,null,"Odpočet lože, potrubí a obsypů - vodovod:-499,50*0,80*(0,10+0,08+0,30)",null,-191.80799999999999,null,null,null,null,null,null,null,"Odpočet lože, potrubí a obsypů - vodovod:-499,50*0,80*(0,10+0,08+0,30)"]
[null,null,"Odpočet lože, potrubí a obsypů - VP:-151,20*0,5*0,70*(0,10+0,032+0,30)",null,-22.8614,null,null,null,null,null,null,null,"Odpočet lože, potrubí a obsypů - VP:-151,20*0,5*0,70*(0,10+0,032+0,30)"]
[null,null,"Konec provozního součtu",null,283.10259999999994,null,null,null,null,null,null,null,"Konec provozního součtu"]
[null,"Celkem za","1 Zemní práce",null,null,null,{"$f":"SUM(G7:G231)","v":0},null,{"$f":"SUM(I7:I231)","v":911.34364900000003},null,{"$f":"SUM(K7:K231)","v":-15.831999999999999},null,null,null,4,null,null,null,null,null,null,null,null,null,null,null,null,null,null,null,null,null,null,null,null,null,null,null,null,null,null,null,null,null,null,null,null,null,null,null,null,null,{"$f":"SUM(BA7:BA231)","v":0},{"$f":"SUM(BB7:BB231)","v":0},{"$f":"SUM(BC7:BC231)","v":0},{"$f":"SUM(BD7:BD231)","v":0},{"$f":"SUM(BE7:BE231)","v":0}]
["Díl:","45","Podkladní a vedlejší konstrukce",null,null,null,null,null,null,null,null,null,null,null,1]
[20,"451572111R00","Lože pod potrubí z kameniva těženého 0 - 4 mm ","m3",52.304000000000002,null,{"$f":"E234*F234","v":0},1.873,{"$f":"E234*H234","v":97.965392000000008},0,{"$f":"E234*J234","v":0},null,null,null,2,null,null,null,null,null,null,null,null,null,null,null,1,1,1,null,null,null,null,null,null,null,null,null,null,null,null,null,null,null,null,null,null,null,null,null,null,1,{"$f":"IF(AZ234=1,G234,0)","v":0},{"$f":"IF(AZ234=2,G234,0)","v":0},{"$f":"IF(AZ234=3,G234,0)","v":0},{"$f":"IF(AZ234=4,G234,0)","v":0},{"$f":"IF(AZ234=5,G234,0)","v":0},null,null,null,null,null,null,null,null,null,null,null,null,null,null,null,null,null,null,null,null,null,1,1]
[null,null,"Vodovod TLT DN80 :",null,0,null,null,null,null,null,null,null,"Vodovod TLT DN80 :"]
[null,null,"\"VL\" :28,50*0,80*0,10",null,2.2799999999999998,null,null,null,null,null,null,null,"\"VL\" :28,50*0,80*0,10"]
[null,null,"\"VL1\":(290,00+1,50+8,50)*0,80*0,10",null,24,null,null,null,null,null,null,null,"\"VL1\":(290,00+1,50+8,50)*0,80*0,10"]
[null,null,"\"VL1A\" - Vyvedení mimo komunikaci:6,00*0,80*0,10",null,0.48,null,null,null,null,null,null,null,"\"VL1A\" - Vyvedení mimo komunikaci:6,00*0,80*0,10"]
[null,null,"\"VL1B\":24,00*0,80*0,10",null,1.92,null,null,null,null,null,null,null,"\"VL1B\":24,00*0,80*0,10"]
[null,null,"\"VL2\" :(126,50+1,50)*0,8000*0,10",null,10.24,null,null,null,null,null,null,null,"\"VL2\" :(126,50+1,50)*0,8000*0,10"]
[null,null,"\"VL2A\" :35,00*0,80*0,10",null,2.8,null,null,null,null,null,null,null,"\"VL2A\" :35,00*0,80*0,10"]
[null,null,"Vodovod TLT DN80 - VP PE D 32x3,0 mm:",null,0,null,null,null,null,null,null,null,"Vodovod TLT DN80 - VP PE D 32x3,0 mm:"]
[null,null,"\"VL\" :10,00*0,70*0,10",null,0.7,null,null,null,null,null,null,null,"\"VL\" :10,00*0,70*0,10"]
[null,null,"\"VL1\":80,20*0,70*0,10",null,5.6139999999999999,null,null,null,null,null,null,null,"\"VL1\":80,20*0,70*0,10"]
[null,null,"\"VL1A\" :0",null,0,null,null,null,null,null,null,null,"\"VL1A\" :0"]
[null,null,"\"VL1B\":7,00*0,70*0,10",null,0.49,null,null,null,null,null,null,null,"\"VL1B\":7,00*0,70*0,10"]
[null,null,"\"VL2\" :36,00*0,70*0,10",null,2.52,null,null,null,null,null,null,null,"\"VL2\" :36,00*0,70*0,10"]
[null,null,"\"VL2A\":18,00*0,70*0,10",null,1.26,null,null,null,null,null,null,null,"\"VL2A\":18,00*0,70*0,10"]
[21,"452313141R00","Bloky pro potrubí z betonu C 16/20 vč. bednění ","m3",3.65,null,{"$f":"E249*F249","v":0},2.5,{"$f":"E249*H249","v":9.125},0,{"$f":"E249*J249","v":0},null,null,null,2,null,null,null,null,null,null,null,null,null,null,null,1,1,1,null,null,null,null,null,null,null,null,null,null,null,null,null,null,null,null,null,null,null,null,null,null,1,{"$f":"IF(AZ249=1,G249,0)","v":0},{"$f":"IF(AZ249=2,G249,0)","v":0},{"$f":"IF(AZ249=3,G249,0)","v":0},{"$f":"IF(AZ249=4,G249,0)","v":0},{"$f":"IF(AZ249=5,G249,0)","v":0},null,null,null,null,null,null,null,null,null,null,null,null,null,null,null,null,null,null,null,null,null,1,1]
[null,null,"Vodovod TLT DN80 :",null,0,null,null,null,null,null,null,null,"Vodovod TLT DN80 :"]
[null,null,"Betonové bloky:3,65",null,3.65,null,null,null,null,null,null,null,"Betonové bloky:3,65"]
[null,"Celkem za","45 Podkladní a vedlejší konstrukce",null,null,null,{"$f":"SUM(G233:G251)","v":0},null,{"$f":"SUM(I233:I251)","v":107.09039200000001},null,{"$f":"SUM(K233:K251)","v":0},null,null,null,4,null,null,null,null,null,null,null,null,null,null,null,null,null,null,null,null,null,null,null,null,null,null,null,null,null,null,null,null,null,null,null,null,null,null,null,null,null,{"$f":"SUM(BA233:BA251)","v":0},{"$f":"SUM(BB233:BB251)","v":0},{"$f":"SUM(BC233:BC251)","v":0},{"$f":"SUM(BD233:BD251)","v":0},{"$f":"SUM(BE233:BE251)","v":0}]
["Díl:","5","Komunikace",null,null,null,null,null,null,null,null,null,null,null,1]
[22,"566903111R00","Vyspravení podkladu po překopech kam.hrubě drceným ","t",339.02800000000002,null,{"$f":"E254*F254","v":0},1.1000000000000001,{"$f":"E254*H254","v":372.93080000000003},0,{"$f":"E254*J254","v":0},null,null,null,2,null,null,null,null,null,null,null,null,null,null,null,1,1,1,null,null,null,null,null,null,null,null,null,null,null,null,null,null,null,null,null,null,null,null,null,null,1,{"$f":"IF(AZ254=1,G254,0)","v":0},{"$f":"IF(AZ254=2,G254,0)","v":0},{"$f":"IF(AZ254=3,G254,0)","v":0},{"$f":"IF(AZ254=4,G254,0)","v":0},{"$f":"IF(AZ254=5,G254,0)","v":0},null,null,null,null,null,null,null,null,null,null,null,null,null,null,null,null,null,null,null,null,null,1,1]
[null,null,"Provizorní dosypání rýhy ŠD během realizaci stavby do původní nivelety komunikace a chodníků:",null,0,null,null,null,null,null,null,null,"Provizorní dosypání rýhy ŠD během realizaci stavby do původní nivelety komunikace a chodníků:"]
[null,null,"Vodovod:499,50*0,80*0,40*1,873",null,299.38029999999998,null,null,null,null,null,null,null,"Vodovod:499,50*0,80*0,40*1,873"]
[null,null,"VP:151,20*0,50*0,70*0,40*1,873",null,39.6477,null,null,null,null,null,null,null,"VP:151,20*0,50*0,70*0,40*1,873"]
[null,"Celkem za","5 Komunikace",null,null,null,{"$f":"SUM(G253:G257)","v":0},null,{"$f":"SUM(I253:I257)","v":372.93080000000003},null,{"$f":"SUM(K253:K257)","v":0},null,null,null,4,null,null,null,null,null,null,null,null,null,null,null,null,null,null,null,null,null,null,null,null,null,null,null,null,null,null,null,null,null,null,null,null,null,null,null,null,null,{"$f":"SUM(BA253:BA257)","v":0},{"$f":"SUM(BB253:BB257)","v":0},{"$f":"SUM(BC253:BC257)","v":0},{"$f":"SUM(BD253:BD257)","v":0},{"$f":"SUM(BE253:BE257)","v":0}]
["Díl:","8","Trubní vedení",null,null,null,null,null,null,null,null,null,null,null,1]
[23,"850245121R00","Výřez nebo výsek na potrubí litinovém DN 80 ","kus",6,null,{"$f":"E260*F260","v":0},0,{"$f":"E260*H260","v":0},0,{"$f":"E260*J260","v":0},null,null,null,2,null,null,null,null,null,null,null,null,null,null,null,1,1,1,null,null,null,null,null,null,null,null,null,null,null,null,null,null,null,null,null,null,null,null,null,null,1,{"$f":"IF(AZ260=1,G260,0)","v":0},{"$f":"IF(AZ260=2,G260,0)","v":0},{"$f":"IF(AZ260=3,G260,0)","v":0},{"$f":"IF(AZ260=4,G260,0)","v":0},{"$f":"IF(AZ260=5,G260,0)","v":0},null,null,null,null,null,null,null,null,null,null,null,null,null,null,null,null,null,null,null,null,null,1,1]
[null,null,"Položky výřezu nebo výseku na potrubí z trub litinových tlakových jsou určeny pro dva řezy nebo seky prováděné na potrubí dodatečně. V položkách jsou zakalkulovány náklady na",null,null,null,null,null,null,null,null,"Položky výřezu nebo výseku na potrubí z trub litinových tlakových jsou určeny pro dva řezy nebo seky prováděné na potrubí dodatečně. V položkách jsou zakalkulovány náklady na",null,null,3]
[null,null,"- ohlášení uzavírání vody",null,null,null,null,null,null,null,null,"- ohlášení uzavírání vody",null,null,3]
[null,null,"- uzavření a otevření šoupat",null,null,null,null,null,null,null,null,"- uzavření a otevření šoupat",null,null,3]
[null,null,"- vypuštění a napuštění vody",null,null,null,null,null,null,null,null,"- vypuštění a napuštění vody",null,null,3]
[null,null,"- odvzdušnění potrubí",null,null,null,null,null,null,null,null,"- odvzdušnění potrubí",null,null,3]
[null,null,"- strojní nebo ruční výřez potrubí",null,null,null,null,null,null,null,null,"- strojní nebo ruční výřez potrubí",null,null,3]
[null,null,"- nutné úpravy výkopu v prostoru provádění",null,null,null,null,null,null,null,null,"- nutné úpravy výkopu v prostoru provádění",null,null,3]
[null,null,"- montáž tvarovky",null,null,null,null,null,null,null,null,"- montáž tvarovky",null,null,3]
[null,null,"Vodovod TLT DN80 :",null,0,null,null,null,null,null,null,null,"Vodovod TLT DN80 :"]
[null,null,"\"VL\" Propojení na stávající vodovod DN65:1",null,1,null,null,null,null,null,null,null,"\"VL\" Propojení na stávající vodovod DN65:1"]
[null,null,"\"VL1\" Propojení na stávající vodovod DN80:2",null,2,null,null,null,null,null,null,null,"\"VL1\" Propojení na stávající vodovod DN80:2"]
[null,null,"\"VL1A\" Propojení na stávající vodovod DN80:1",null,1,null,null,null,null,null,null,null,"\"VL1A\" Propojení na stávající vodovod DN80:1"]
[null,null,"\"VL2\" Propojení na stávající vodovod DN80:1",null,1,null,null,null,null,null,null,null,"\"VL2\" Propojení na stávající vodovod DN80:1"]
[null,null,"\"VL2A\" Propojení na stávající vodovod DN80:1",null,1,null,null,null,null,null,null,null,"\"VL2A\" Propojení na stávající vodovod DN80:1"]
[24,"851601101R00","Montáž potrubí tlakového tvárná litina DN 80 ","m",521.5,null,{"$f":"E275*F275","v":0},0,{"$f":"E275*H275","v":0},0,{"$f":"E275*J275","v":0},null,null,null,2,null,null,null,null,null,null,null,null,null,null,null,1,1,1,null,null,null,null,null,null,null,null,null,null,null,null,null,null,null,null,null,null,null,null,null,null,1,{"$f":"IF(AZ275=1,G275,0)","v":0},{"$f":"IF(AZ275=2,G275,0)","v":0},{"$f":"IF(AZ275=3,G275,0)","v":0},{"$f":"IF(AZ275=4,G275,0)","v":0},{"$f":"IF(AZ275=5,G275,0)","v":0},null,null,null,null,null,null,null,null,null,null,null,null,null,null,null,null,null,null,null,null,null,1,1]
[null,null,"Položka je určena pro montáž potrubí hrdlového s pružnými spoji, ve výkopu. Pro blokované spoje se cena zvýší o 15 - 20 %. V položce nejsou zakalkulovány náklady na dodávku trub; trouby a spojovací materiál se oceňuje ve specifikaci",null,null,null,null,null,null,null,null,"Položka je určena pro montáž potrubí hrdlového s pružnými spoji, ve výkopu. Pro blokované spoje se cena zvýší o 15 - 20 %. V položce nejsou zakalkulovány náklady na dodávku trub; trouby a spojovací materiál se oceňuje ve specifikaci",null,null,3]
[null,null,"Vodovod TLT DN80 :",null,0,null,null,null,null,null,null,null,"Vodovod TLT DN80 :"]
[null,null,"\"VL\" :28,50",null,28.5,null,null,null,null,null,null,null,"\"VL\" :28,50"]
[null,null,"\"VL1\":290,00+1,50+8,50",null,300,null,null,null,null,null,null,null,"\"VL1\":290,00+1,50+8,50"]
[null,null,"\"VL1A\" - Vyvedení mimo komunikaci:6,00",null,6,null,null,null,null,null,null,null,"\"VL1A\" - Vyvedení mimo komunikaci:6,00"]
[null,null,"\"VL1B\":24,00",null,24,null,null,null,null,null,null,null,"\"VL1B\":24,00"]
[null,null,"\"VL2\" :126,50+1,50",null,128,null,null,null,null,null,null,null,"\"VL2\" :126,50+1,50"]
[null,null,"\"VL2A\" :35,00",null,35,null,null,null,null,null,null,null,"\"VL2A\" :35,00"]
[25,"857242121R00","Montáž tvarovek litin. jednoos.přír. výkop DN 80 včetně nerezových spoj. prvků a obandážování spoje","kus",44,null,{"$f":"E284*F284","v":0},2.2000000000000001E-4,{"$f":"E284*H284","v":9.6800000000000011E-3},0,{"$f":"E284*J284","v":0},null,null,null,2,null,null,null,null,null,null,null,null,null,null,null,1,1,1,null,null,null,null,null,null,null,null,null,null,null,null,null,null,null,null,null,null,null,null,null,null,1,{"$f":"IF(AZ284=1,G284,0)","v":0},{"$f":"IF(AZ284=2,G284,0)","v":0},{"$f":"IF(AZ284=3,G284,0)","v":0},{"$f":"IF(AZ284=4,G284,0)","v":0},{"$f":"IF(AZ284=5,G284,0)","v":0},null,null,null,null,null,null,null,null,null,null,null,null,null,null,null,null,null,null,null,null,null,1,1]
[null,null,"Položka je určena pro montáž litinových tvarovek na potrubí litinovém tlakovém přírubovém jednoosých v otevřeném výkopu, v otevřeném kanálu nebo v šachtě.",null,null,null,null,null,null,null,null,"Položka je určena pro montáž litinových tvarovek na potrubí litinovém tlakovém přírubovém jednoosých v otevřeném výkopu, v otevřeném kanálu nebo v šachtě.",null,null,3]
[null,null,"Vodovod TLT DN80 :",null,0,null,null,null,null,null,null,null,"Vodovod TLT DN80 :"]
[null,null,"Jištěná příruba DN40:1",null,1,null,null,null,null,null,null,null,"Jištěná příruba DN40:1"]
[null,null,"Synoflex s přírubou DN65:1",null,1,null,null,null,null,null,null,null,"Synoflex s přírubou DN65:1"]
[null,null,"Synoflex spojka DN80:2",null,2,null,null,null,null,null,null,null,"Synoflex spojka DN80:2"]
[null,null,"Synoflex s přírubou DN80:4",null,4,null,null,null,null,null,null,null,"Synoflex s přírubou DN80:4"]
[null,null,"F DN80:1",null,1,null,null,null,null,null,null,null,"F DN80:1"]
[null,null,"EU DN80:25",null,25,null,null,null,null,null,null,null,"EU DN80:25"]
[null,null,"PPL DN80:6",null,6,null,null,null,null,null,null,null,"PPL DN80:6"]
[null,null,"X DN80:1",null,1,null,null,null,null,null,null,null,"X DN80:1"]
[null,null,"MMK 45° DN40:1",null,1,null,null,null,null,null,null,null,"MMK 45° DN40:1"]
[null,null,"FFR DN80/65:1",null,1,null,null,null,null,null,null,null,"FFR DN80/65:1"]
[null,null,"FFK DN40-45° :1",null,1,null,null,null,null,null,null,null,"FFK DN40-45° :1"]
[26,"857244121R00","Montáž tvarovek litin. odboč. přír. výkop DN 80 včetně nerezových spoj. prvků a obandážování spoje","kus",9,null,{"$f":"E298*F298","v":0},3.2000000000000003E-4,{"$f":"E298*H298","v":2.8800000000000002E-3},0,{"$f":"E298*J298","v":0},null,null,null,2,null,null,null,null,null,null,null,null,null,null,null,1,1,1,null,null,null,null,null,null,null,null,null,null,null,null,null,null,null,null,null,null,null,null,null,null,1,{"$f":"IF(AZ298=1,G298,0)","v":0},{"$f":"IF(AZ298=2,G298,0)","v":0},{"$f":"IF(AZ298=3,G298,0)","v":0},{"$f":"IF(AZ298=4,G298,0)","v":0},{"$f":"IF(AZ298=5,G298,0)","v":0},null,null,null,null,null,null,null,null,null,null,null,null,null,null,null,null,null,null,null,null,null,1,1]
[null,null,"Položka je určena pro montáž litinových tvarovek na potrubí litinovém tlakovém přírubovém odbočných v otevřeném výkopu, v otevřeném kanálu nebo v šachtě",null,null,null,null,null,null,null,null,"Položka je určena pro montáž litinových tvarovek na potrubí litinovém tlakovém přírubovém odbočných v otevřeném výkopu, v otevřeném kanálu nebo v šachtě",null,null,3]
[null,null,"Vodovod TLT DN80 :",null,0,null,null,null,null,null,null,null,"Vodovod TLT DN80 :"]
[null,null,"T DN80/80:9",null,9,null,null,null,null,null,null,null,"T DN80/80:9"]
[27,"857601101R00","Montáž tvarovek jednoosých, tvárná litina DN 80 ","kus",9,null,{"$f":"E302*F302","v":0},0,{"$f":"E302*H302","v":0},0,{"$f":"E302*J302","v":0},null,null,null,2,null,null,null,null,null,null,null,null,null,null,null,1,1,1,null,null,null,null,null,null,null,null,null,null,null,null,null,null,null,null,null,null,null,null,null,null,1,{"$f":"IF(AZ302=1,G302,0)","v":0},{"$f":"IF(AZ302=2,G302,0)","v":0},{"$f":"IF(AZ302=3,G302,0)","v":0},{"$f":"IF(AZ302=4,G302,0)","v":0},{"$f":"IF(AZ302=5,G302,0)","v":0},null,null,null,null,null,null,null,null,null,null,null,null,null,null,null,null,null,null,null,null,null,1,1]
[null,null,"Položka je určena pro montáž tvarovek jednoosých s pružnými spoji ve výkopu. ",null,null,null,null,null,null,null,null,"Položka je určena pro montáž tvarovek jednoosých s pružnými spoji ve výkopu. ",null,null,3]
[null,null,"Vodovod TLT DN80 :",null,0,null,null,null,null,null,null,null,"Vodovod TLT DN80 :"]
[null,null,"MMK 11° DN80:2",null,2,null,null,null,null,null,null,null,"MMK 11° DN80:2"]
[null,null,"MMK 22° DN80:3",null,3,null,null,null,null,null,null,null,"MMK 22° DN80:3"]
[null,null,"MMK 30° DN80:1",null,1,null,null,null,null,null,null,null,"MMK 30° DN80:1"]
[null,null,"MMK 45° DN80:3",null,3,null,null,null,null,null,null,null,"MMK 45° DN80:3"]
[28,"857701101R00","Montáž tvarovek odbočných, tvárná litina DN 80 včetně nerezových spoj. prvků a obandážování spoje","kus",5,null,{"$f":"E309*F309","v":0},1.1E-4,{"$f":"E309*H309","v":5.5000000000000003E-4},0,{"$f":"E309*J309","v":0},null,null,null,2,null,null,null,null,null,null,null,null,null,null,null,1,1,1,null,null,null,null,null,null,null,null,null,null,null,null,null,null,null,null,null,null,null,null,null,null,1,{"$f":"IF(AZ309=1,G309,0)","v":0},{"$f":"IF(AZ309=2,G309,0)","v":0},{"$f":"IF(AZ309=3,G309,0)","v":0},{"$f":"IF(AZ309=4,G309,0)","v":0},{"$f":"IF(AZ309=5,G309,0)","v":0},null,null,null,null,null,null,null,null,null,null,null,null,null,null,null,null,null,null,null,null,null,1,1]
[null,null,"Položka je určena pro montáž tvarovek odbočných s pružnými spoji ve výkopu.",null,null,null,null,null,null,null,null,"Položka je určena pro montáž tvarovek odbočných s pružnými spoji ve výkopu.",null,null,3]
[null,null,"Vodovod TLT DN80 :",null,0,null,null,null,null,null,null,null,"Vodovod TLT DN80 :"]
[null,null,"MMA DN80/40:1",null,1,null,null,null,null,null,null,null,"MMA DN80/40:1"]
[null,null,"MMA DN80/80:2",null,2,null,null,null,null,null,null,null,"MMA DN80/80:2"]
[null,null,"MMB DN80/80:2",null,2,null,null,null,null,null,null,null,"MMB DN80/80:2"]
[29,"871161121R00","Montáž trubek polyetylenových ve výkopu d 32 mm ","m",151.19999999999999,null,{"$f":"E315*F315","v":0},0,{"$f":"E315*H315","v":0},0,{"$f":"E315*J315","v":0},null,null,null,2,null,null,null,null,null,null,null,null,null,null,null,1,1,1,null,null,null,null,null,null,null,null,null,null,null,null,null,null,null,null,null,null,null,null,null,null,1,{"$f":"IF(AZ315=1,G315,0)","v":0},{"$f":"IF(AZ315=2,G315,0)","v":0},{"$f":"IF(AZ315=3,G315,0)","v":0},{"$f":"IF(AZ315=4,G315,0)","v":0},{"$f":"IF(AZ315=5,G315,0)","v":0},null,null,null,null,null,null,null,null,null,null,null,null,null,null,null,null,null,null,null,null,null,1,1]
[null,null,"V položce je uvažováno použití svitku. ",null,null,null,null,null,null,null,null,"V položce je uvažováno použití svitku. ",null,null,3]
[null,null,"Vodovod TLT DN80 - VP PE D 32x3,0 mm:",null,0,null,null,null,null,null,null,null,"Vodovod TLT DN80 - VP PE D 32x3,0 mm:"]
[null,null,"\"VL\" :10,00",null,10,null,null,null,null,null,null,null,"\"VL\" :10,00"]
[null,null,"\"VL1\":80,20",null,80.2,null,null,null,null,null,null,null,"\"VL1\":80,20"]
[null,null,"\"VL1A\" :0",null,0,null,null,null,null,null,null,null,"\"VL1A\" :0"]
[null,null,"\"VL1B\":7,00",null,7,null,null,null,null,null,null,null,"\"VL1B\":7,00"]
[null,null,"\"VL2\" :36,00",null,36,null,null,null,null,null,null,null,"\"VL2\" :36,00"]
[null,null,"\"VL2A\":18,00",null,18,null,null,null,null,null,null,null,"\"VL2A\":18,00"]
[30,"891163111R00","Montáž ventilů hlavních pro přípojky DN 25 ","kus",30,null,{"$f":"E324*F324","v":0},2.0000000000000002E-5,{"$f":"E324*H324","v":6.0000000000000006E-4},0,{"$f":"E324*J324","v":0},null,null,null,2,null,null,null,null,null,null,null,null,null,null,null,1,1,1,null,null,null,null,null,null,null,null,null,null,null,null,null,null,null,null,null,null,null,null,null,null,1,{"$f":"IF(AZ324=1,G324,0)","v":0},{"$f":"IF(AZ324=2,G324,0)","v":0},{"$f":"IF(AZ324=3,G324,0)","v":0},{"$f":"IF(AZ324=4,G324,0)","v":0},{"$f":"IF(AZ324=5,G324,0)","v":0},null,null,null,null,null,null,null,null,null,null,null,null,null,null,null,null,null,null,null,null,null,1,1]
[null,null,"Vodovod TLT DN80 :",null,0,null,null,null,null,null,null,null,"Vodovod TLT DN80 :"]
[null,null,"\"VL\" :1",null,1,null,null,null,null,null,null,null,"\"VL\" :1"]
[null,null,"\"VL1\":16",null,16,null,null,null,null,null,null,null,"\"VL1\":16"]
[null,null,"\"VL1A\" :0",null,0,null,null,null,null,null,null,null,"\"VL1A\" :0"]
[null,null,"\"VL1B\":2",null,2,null,null,null,null,null,null,null,"\"VL1B\":2"]
[null,null,"\"VL2\" :8",null,8,null,null,null,null,null,null,null,"\"VL2\" :8"]
[null,null,"\"VL2A\":3",null,3,null,null,null,null,null,null,null,"\"VL2A\":3"]
[31,"891183439RX0","Přepojení potrubí PE na přípojkách D 32 včetně dodávky přepojovací tvarovky","kus",30,null,{"$f":"E332*F332","v":0},4.6000000000000001E-4,{"$f":"E332*H332","v":1.38E-2},0,{"$f":"E332*J332","v":0},null,null,null,2,null,null,null,null,null,null,null,null,null,null,null,1,1,1,null,null,null,null,null,null,null,null,null,null,null,null,null,null,null,null,null,null,null,null,null,null,1,{"$f":"IF(AZ332=1,G332,0)","v":0},{"$f":"IF(AZ332=2,G332,0)","v":0},{"$f":"IF(AZ332=3,G332,0)","v":0},{"$f":"IF(AZ332=4,G332,0)","v":0},{"$f":"IF(AZ332=5,G332,0)","v":0},null,null,null,null,null,null,null,null,null,null,null,null,null,null,null,null,null,null,null,null,null,1,1]
[null,null,"Položka obsahuje přerušení stávajícího potrubí, montáž a dodávku příslušné tvarovky pro propojení stávajícího potrubí (PE, ocel a pod.)  s novým potrubím (PE D 32x3,0 mm) přípojky  D 32",null,null,null,null,null,null,null,null,"Položka obsahuje přerušení stávajícího potrubí, montáž a dodávku příslušné tvarovky pro propojení stávajícího potrubí (PE, ocel a pod.)  s novým potrubím (PE D 32x3,0 mm) přípojky  D 32",null,null,3]
[null,null,"Vodovod TLT DN80 :",null,0,null,null,null,null,null,null,null,"Vodovod TLT DN80 :"]
[null,null,"\"VL\" :1",null,1,null,null,null,null,null,null,null,"\"VL\" :1"]
[null,null,"\"VL1\":16",null,16,null,null,null,null,null,null,null,"\"VL1\":16"]
[null,null,"\"VL1A\" :0",null,0,null,null,null,null,null,null,null,"\"VL1A\" :0"]
[null,null,"\"VL1B\":2",null,2,null,null,null,null,null,null,null,"\"VL1B\":2"]
[null,null,"\"VL2\" :8",null,8,null,null,null,null,null,null,null,"\"VL2\" :8"]
[null,null,"\"VL2A\":3",null,3,null,null,null,null,null,null,null,"\"VL2A\":3"]
[32,"891241111R00","Montáž vodovodních šoupátek ve výkopu DN 80 včetně nerezových spoj. prvků a obandážování spoje","kus",23,null,{"$f":"E341*F341","v":0},2.2000000000000001E-4,{"$f":"E341*H341","v":5.0600000000000003E-3},0,{"$f":"E341*J341","v":0},null,null,null,2,null,null,null,null,null,null,null,null,null,null,null,1,1,1,null,null,null,null,null,null,null,null,null,null,null,null,null,null,null,null,null,null,null,null,null,null,1,{"$f":"IF(AZ341=1,G341,0)","v":0},{"$f":"IF(AZ341=2,G341,0)","v":0},{"$f":"IF(AZ341=3,G341,0)","v":0},{"$f":"IF(AZ341=4,G341,0)","v":0},{"$f":"IF(AZ341=5,G341,0)","v":0},null,null,null,null,null,null,null,null,null,null,null,null,null,null,null,null,null,null,null,null,null,1,1]
[null,null,"Položka je určena pro montáž vodovodních šoupátek v otevřeném výkopu nebo v šachtách s osazením zemní soupravy (bez poklopů). V položce jsou zakalkulovány i náklady na vytvoření otvorů ve stropech šachet pro prostup zemních souprav šoupátek.",null,null,null,null,null,null,null,null,"Položka je určena pro montáž vodovodních šoupátek v otevřeném výkopu nebo v šachtách s osazením zemní soupravy (bez poklopů). V položce jsou zakalkulovány i náklady na vytvoření otvorů ve stropech šachet pro prostup zemních souprav šoupátek.",null,null,3]
[null,null,"Součástí položky je i dodávka nerezových spojovacích prvků (šrouby, podložky, matky) a kompletního obandážování spojů. ",null,null,null,null,null,null,null,null,"Součástí položky je i dodávka nerezových spojovacích prvků (šrouby, podložky, matky) a kompletního obandážování spojů. ",null,null,3]
[null,null,"Vodovod TLT DN80 :",null,0,null,null,null,null,null,null,null,"Vodovod TLT DN80 :"]
[null,null,"Š DN80:",null,0,null,null,null,null,null,null,null,"Š DN80:"]
[null,null,"\"VL\" :1",null,1,null,null,null,null,null,null,null,"\"VL\" :1"]
[null,null,"\"VL1\":10",null,10,null,null,null,null,null,null,null,"\"VL1\":10"]
[null,null,"\"VL1A\" :1",null,1,null,null,null,null,null,null,null,"\"VL1A\" :1"]
[null,null,"\"VL1B\":2",null,2,null,null,null,null,null,null,null,"\"VL1B\":2"]
[null,null,"\"VL2\" :7",null,7,null,null,null,null,null,null,null,"\"VL2\" :7"]
[null,null,"\"VL2A\":2",null,2,null,null,null,null,null,null,null,"\"VL2A\":2"]
[33,"891247111R00","Montáž hydrantů podzemních DN 80 včetně nerezových spoj. prvků a obandážování spoje","kus",6,null,{"$f":"E352*F352","v":0},1.1E-4,{"$f":"E352*H352","v":6.6E-4},0,{"$f":"E352*J352","v":0},null,null,null,2,null,null,null,null,null,null,null,null,null,null,null,1,1,1,null,null,null,null,null,null,null,null,null,null,null,null,null,null,null,null,null,null,null,null,null,null,1,{"$f":"IF(AZ352=1,G352,0)","v":0},{"$f":"IF(AZ352=2,G352,0)","v":0},{"$f":"IF(AZ352=3,G352,0)","v":0},{"$f":"IF(AZ352=4,G352,0)","v":0},{"$f":"IF(AZ352=5,G352,0)","v":0},null,null,null,null,null,null,null,null,null,null,null,null,null,null,null,null,null,null,null,null,null,1,1]
[null,null,"Položka je určena pro montáž hydrantů podzemních (bez osazení poklopů) na potrubí včetně drenážního obalu.",null,null,null,null,null,null,null,null,"Položka je určena pro montáž hydrantů podzemních (bez osazení poklopů) na potrubí včetně drenážního obalu.",null,null,3]
[null,null,"Součástí položky je i dodávka nerezových spojovacích prvků (šrouby, podložky, matky) a kompletního obandážování spojů. ",null,null,null,null,null,null,null,null,"Součástí položky je i dodávka nerezových spojovacích prvků (šrouby, podložky, matky) a kompletního obandážování spojů. ",null,null,3]
[null,null,"Vodovod TLT DN80 :",null,0,null,null,null,null,null,null,null,"Vodovod TLT DN80 :"]
[null,null,"Hp DN80/1,25:",null,0,null,null,null,null,null,null,null,"Hp DN80/1,25:"]
[null,null,"\"VL\" :0",null,0,null,null,null,null,null,null,null,"\"VL\" :0"]
[null,null,"\"VL1\":1",null,1,null,null,null,null,null,null,null,"\"VL1\":1"]
[null,null,"\"VL1A\" :0",null,0,null,null,null,null,null,null,null,"\"VL1A\" :0"]
[null,null,"\"VL1B\":1",null,1,null,null,null,null,null,null,null,"\"VL1B\":1"]
[null,null,"\"VL2\" :3",null,3,null,null,null,null,null,null,null,"\"VL2\" :3"]
[null,null,"\"VL2A\":1",null,1,null,null,null,null,null,null,null,"\"VL2A\":1"]
[34,"891249111R00","Montáž navrtávacích pasů DN 80 ","kus",30,null,{"$f":"E363*F363","v":0},0,{"$f":"E363*H363","v":0},0,{"$f":"E363*J363","v":0},null,null,null,2,null,null,null,null,null,null,null,null,null,null,null,1,1,1,null,null,null,null,null,null,null,null,null,null,null,null,null,null,null,null,null,null,null,null,null,null,1,{"$f":"IF(AZ363=1,G363,0)","v":0},{"$f":"IF(AZ363=2,G363,0)","v":0},{"$f":"IF(AZ363=3,G363,0)","v":0},{"$f":"IF(AZ363=4,G363,0)","v":0},{"$f":"IF(AZ363=5,G363,0)","v":0},null,null,null,null,null,null,null,null,null,null,null,null,null,null,null,null,null,null,null,null,null,1,1]
[null,null,"Vodovod TLT DN80 :",null,0,null,null,null,null,null,null,null,"Vodovod TLT DN80 :"]
[null,null,"NP DN80:",null,0,null,null,null,null,null,null,null,"NP DN80:"]
[null,null,"\"VL\" :1",null,1,null,null,null,null,null,null,null,"\"VL\" :1"]
[null,null,"\"VL1\":16",null,16,null,null,null,null,null,null,null,"\"VL1\":16"]
[null,null,"\"VL1A\" :0",null,0,null,null,null,null,null,null,null,"\"VL1A\" :0"]
[null,null,"\"VL1B\":2",null,2,null,null,null,null,null,null,null,"\"VL1B\":2"]
[null,null,"\"VL2\" :8",null,8,null,null,null,null,null,null,null,"\"VL2\" :8"]
[null,null,"\"VL2A\":3",null,3,null,null,null,null,null,null,null,"\"VL2A\":3"]
[35,"892233111R00","Desinfekce vodovodního potrubí DN 70 ","m",151.19999999999999,null,{"$f":"E372*F372","v":0},0,{"$f":"E372*H372","v":0},0,{"$f":"E372*J372","v":0},null,null,null,2,null,null,null,null,null,null,null,null,null,null,null,1,1,1,null,null,null,null,null,null,null,null,null,null,null,null,null,null,null,null,null,null,null,null,null,null,1,{"$f":"IF(AZ372=1,G372,0)","v":0},{"$f":"IF(AZ372=2,G372,0)","v":0},{"$f":"IF(AZ372=3,G372,0)","v":0},{"$f":"IF(AZ372=4,G372,0)","v":0},{"$f":"IF(AZ372=5,G372,0)","v":0},null,null,null,null,null,null,null,null,null,null,null,null,null,null,null,null,null,null,null,null,null,1,1]
[null,null,"V položce jsou zakalkulovány náklady na napuštění a vypuštění vody, dodání vody a desinfekčního prostředku a na bakteriologický rozbor vody.",null,null,null,null,null,null,null,null,"V položce jsou zakalkulovány náklady na napuštění a vypuštění vody, dodání vody a desinfekčního prostředku a na bakteriologický rozbor vody.",null,null,3]
[null,null,"Vodovod TLT DN80 - VP PE D 32x3,0 mm:",null,0,null,null,null,null,null,null,null,"Vodovod TLT DN80 - VP PE D 32x3,0 mm:"]
[null,null,"\"VL\" :10,00",null,10,null,null,null,null,null,null,null,"\"VL\" :10,00"]
[null,null,"\"VL1\":80,20",null,80.2,null,null,null,null,null,null,null,"\"VL1\":80,20"]
[null,null,"\"VL1A\" :0",null,0,null,null,null,null,null,null,null,"\"VL1A\" :0"]
[null,null,"\"VL1B\":7,00",null,7,null,null,null,null,null,null,null,"\"VL1B\":7,00"]
[null,null,"\"VL2\" :36,00",null,36,null,null,null,null,null,null,null,"\"VL2\" :36,00"]
[null,null,"\"VL2A\":18,00",null,18,null,null,null,null,null,null,null,"\"VL2A\":18,00"]
[36,"892241111R00","Tlaková zkouška vodovodního potrubí DN 80 včetně zajištění konců potrubí","m",672.7,null,{"$f":"E381*F381","v":0},0,{"$f":"E381*H381","v":0},0,{"$f":"E381*J381","v":0},null,null,null,2,null,null,null,null,null,null,null,null,null,null,null,1,1,1,null,null,null,null,null,null,null,null,null,null,null,null,null,null,null,null,null,null,null,null,null,null,1,{"$f":"IF(AZ381=1,G381,0)","v":0},{"$f":"IF(AZ381=2,G381,0)","v":0},{"$f":"IF(AZ381=3,G381,0)","v":0},{"$f":"IF(AZ381=4,G381,0)","v":0},{"$f":"IF(AZ381=5,G381,0)","v":0},null,null,null,null,null,null,null,null,null,null,null,null,null,null,null,null,null,null,null,null,null,1,1]
[null,null,"V položce jsou započteny náklady na přísun, montáž, demontáž a odsun zkoušecího čerpadla, napuštění tlakovou vodou a dodání vody pro tlakovou zkoušku.",null,null,null,null,null,null,null,null,"V položce jsou započteny náklady na přísun, montáž, demontáž a odsun zkoušecího čerpadla, napuštění tlakovou vodou a dodání vody pro tlakovou zkoušku.",null,null,3]
[null,null,"Vodovod TLT DN80 :",null,0,null,null,null,null,null,null,null,"Vodovod TLT DN80 :"]
[null,null,"\"VL\" :28,50",null,28.5,null,null,null,null,null,null,null,"\"VL\" :28,50"]
[null,null,"\"VL1\":290,00+1,50+8,50",null,300,null,null,null,null,null,null,null,"\"VL1\":290,00+1,50+8,50"]
[null,null,"\"VL1A\" - Vyvedení mimo komunikaci:6,00",null,6,null,null,null,null,null,null,null,"\"VL1A\" - Vyvedení mimo komunikaci:6,00"]
[null,null,"\"VL1B\":24,00",null,24,null,null,null,null,null,null,null,"\"VL1B\":24,00"]
[null,null,"\"VL2\" :126,50+1,50",null,128,null,null,null,null,null,null,null,"\"VL2\" :126,50+1,50"]
[null,null,"\"VL2A\" :35,00",null,35,null,null,null,null,null,null,null,"\"VL2A\" :35,00"]
[null,null,"Vodovod TLT DN80 - VP PE D 32x3,0 mm:",null,0,null,null,null,null,null,null,null,"Vodovod TLT DN80 - VP PE D 32x3,0 mm:"]
[null,null,"\"VL\" :10,00",null,10,null,null,null,null,null,null,null,"\"VL\" :10,00"]
[null,null,"\"VL1\":80,20",null,80.2,null,null,null,null,null,null,null,"\"VL1\":80,20"]
[null,null,"\"VL1A\" :0",null,0,null,null,null,null,null,null,null,"\"VL1A\" :0"]
[null,null,"\"VL1B\":7,00",null,7,null,null,null,null,null,null,null,"\"VL1B\":7,00"]
[null,null,"\"VL2\" :36,00",null,36,null,null,null,null,null,null,null,"\"VL2\" :36,00"]
[null,null,"\"VL2A\":18,00",null,18,null,null,null,null,null,null,null,"\"VL2A\":18,00"]
[37,"892273111R00","Desinfekce vodovodního potrubí DN 125 ","m",521.5,null,{"$f":"E397*F397","v":0},0,{"$f":"E397*H397","v":0},0,{"$f":"E397*J397","v":0},null,null,null,2,null,null,null,null,null,null,null,null,null,null,null,1,1,1,null,null,null,null,null,null,null,null,null,null,null,null,null,null,null,null,null,null,null,null,null,null,1,{"$f":"IF(AZ397=1,G397,0)","v":0},{"$f":"IF(AZ397=2,G397,0)","v":0},{"$f":"IF(AZ397=3,G397,0)","v":0},{"$f":"IF(AZ397=4,G397,0)","v":0},{"$f":"IF(AZ397=5,G397,0)","v":0},null,null,null,null,null,null,null,null,null,null,null,null,null,null,null,null,null,null,null,null,null,1,1]
[null,null,"V položce jsou zakalkulovány náklady na napuštění a vypuštění vody, dodání vody a desinfekčního prostředku a na bakteriologický rozbor vody.",null,null,null,null,null,null,null,null,"V položce jsou zakalkulovány náklady na napuštění a vypuštění vody, dodání vody a desinfekčního prostředku a na bakteriologický rozbor vody.",null,null,3]
[null,null,"Vodovod TLT DN80 :",null,0,null,null,null,null,null,null,null,"Vodovod TLT DN80 :"]
[null,null,"\"VL\" :28,50",null,28.5,null,null,null,null,null,null,null,"\"VL\" :28,50"]
[null,null,"\"VL1\":290,00+1,50+8,50",null,300,null,null,null,null,null,null,null,"\"VL1\":290,00+1,50+8,50"]
[null,null,"\"VL1A\" - Vyvedení mimo komunikaci:6,00",null,6,null,null,null,null,null,null,null,"\"VL1A\" - Vyvedení mimo komunikaci:6,00"]
[null,null,"\"VL1B\":24,00",null,24,null,null,null,null,null,null,null,"\"VL1B\":24,00"]
[null,null,"\"VL2\" :126,50+1,50",null,128,null,null,null,null,null,null,null,"\"VL2\" :126,50+1,50"]
[null,null,"\"VL2A\" :35,00",null,35,null,null,null,null,null,null,null,"\"VL2A\" :35,00"]
[38,"899721112R00","Fólie výstražná z PVC bílá, šířka 30 cm ","m",672.7,null,{"$f":"E406*F406","v":0},0,{"$f":"E406*H406","v":0},0,{"$f":"E406*J406","v":0},null,null,null,2,null,null,null,null,null,null,null,null,null,null,null,1,1,1,null,null,null,null,null,null,null,null,null,null,null,null,null,null,null,null,null,null,null,null,null,null,1,{"$f":"IF(AZ406=1,G406,0)","v":0},{"$f":"IF(AZ406=2,G406,0)","v":0},{"$f":"IF(AZ406=3,G406,0)","v":0},{"$f":"IF(AZ406=4,G406,0)","v":0},{"$f":"IF(AZ406=5,G406,0)","v":0},null,null,null,null,null,null,null,null,null,null,null,null,null,null,null,null,null,null,null,null,null,1,1]
[null,null,"Vodovod TLT DN80 :",null,0,null,null,null,null,null,null,null,"Vodovod TLT DN80 :"]
[null,null,"\"VL\" :28,50",null,28.5,null,null,null,null,null,null,null,"\"VL\" :28,50"]
[null,null,"\"VL1\":290,00+1,50+8,50",null,300,null,null,null,null,null,null,null,"\"VL1\":290,00+1,50+8,50"]
[null,null,"\"VL1A\" - Vyvedení mimo komunikaci:6,00",null,6,null,null,null,null,null,null,null,"\"VL1A\" - Vyvedení mimo komunikaci:6,00"]
[null,null,"\"VL1B\":24,00",null,24,null,null,null,null,null,null,null,"\"VL1B\":24,00"]
[null,null,"\"VL2\" :126,50+1,50",null,128,null,null,null,null,null,null,null,"\"VL2\" :126,50+1,50"]
[null,null,"\"VL2A\" :35,00",null,35,null,null,null,null,null,null,null,"\"VL2A\" :35,00"]
[null,null,"Vodovod TLT DN80 - VP PE D 32x3,0 mm:",null,0,null,null,null,null,null,null,null,"Vodovod TLT DN80 - VP PE D 32x3,0 mm:"]
[null,null,"\"VL\" :10,00",null,10,null,null,null,null,null,null,null,"\"VL\" :10,00"]
[null,null,"\"VL1\":80,20",null,80.2,null,null,null,null,null,null,null,"\"VL1\":80,20"]
[null,null,"\"VL1A\" :0",null,0,null,null,null,null,null,null,null,"\"VL1A\" :0"]
[null,null,"\"VL1B\":7,00",null,7,null,null,null,null,null,null,null,"\"VL1B\":7,00"]
[null,null,"\"VL2\" :36,00",null,36,null,null,null,null,null,null,null,"\"VL2\" :36,00"]
[null,null,"\"VL2A\":18,00",null,18,null,null,null,null,null,null,null,"\"VL2A\":18,00"]
[39,"899731114R00","Vodič signalizační CYY 6 mm2 ","m",902.7,null,{"$f":"E421*F421","v":0},8.0000000000000007E-5,{"$f":"E421*H421","v":7.2216000000000016E-2},0,{"$f":"E421*J421","v":0},null,null,null,2,null,null,null,null,null,null,null,null,null,null,null,1,1,1,null,null,null,null,null,null,null,null,null,null,null,null,null,null,null,null,null,null,null,null,null,null,1,{"$f":"IF(AZ421=1,G421,0)","v":0},{"$f":"IF(AZ421=2,G421,0)","v":0},{"$f":"IF(AZ421=3,G421,0)","v":0},{"$f":"IF(AZ421=4,G421,0)","v":0},{"$f":"IF(AZ421=5,G421,0)","v":0},null,null,null,null,null,null,null,null,null,null,null,null,null,null,null,null,null,null,null,null,null,1,1]
[null,null,"Součástí položky je zajištění proměření vodiče a výchozí zevize.",null,null,null,null,null,null,null,null,"Součástí položky je zajištění proměření vodiče a výchozí zevize.",null,null,3]
[null,null,"Vodovod TLT DN80 :",null,0,null,null,null,null,null,null,null,"Vodovod TLT DN80 :"]
[null,null,"\"VL\" :28,50",null,28.5,null,null,null,null,null,null,null,"\"VL\" :28,50"]
[null,null,"\"VL1\":290,00+1,50+8,50",null,300,null,null,null,null,null,null,null,"\"VL1\":290,00+1,50+8,50"]
[null,null,"\"VL1A\" - Vyvedení mimo komunikaci:6,00",null,6,null,null,null,null,null,null,null,"\"VL1A\" - Vyvedení mimo komunikaci:6,00"]
[null,null,"\"VL1B\":24,00",null,24,null,null,null,null,null,null,null,"\"VL1B\":24,00"]
[null,null,"\"VL2\" :126,50+1,50",null,128,null,null,null,null,null,null,null,"\"VL2\" :126,50+1,50"]
[null,null,"\"VL2A\" :35,00",null,35,null,null,null,null,null,null,null,"\"VL2A\" :35,00"]
[null,null,"Vodovod TLT DN80 - VP PE D 32x3,0 mm:",null,0,null,null,null,null,null,null,null,"Vodovod TLT DN80 - VP PE D 32x3,0 mm:"]
[null,null,"\"VL\" :10,00",null,10,null,null,null,null,null,null,null,"\"VL\" :10,00"]
[null,null,"\"VL1\":80,20",null,80.2,null,null,null,null,null,null,null,"\"VL1\":80,20"]
[null,null,"\"VL1A\" :0",null,0,null,null,null,null,null,null,null,"\"VL1A\" :0"]
[null,null,"\"VL1B\":7,00",null,7,null,null,null,null,null,null,null,"\"VL1B\":7,00"]
[null,null,"\"VL2\" :36,00",null,36,null,null,null,null,null,null,null,"\"VL2\" :36,00"]
[null,null,"\"VL2A\":18,00",null,18,null,null,null,null,null,null,null,"\"VL2A\":18,00"]
[null,null,"Vyvedení pro :",null,0,null,null,null,null,null,null,null,"Vyvedení pro :"]
[null,null,"Š DN80:2,00*2*(23+1)",null,96,null,null,null,null,null,null,null,"Š DN80:2,00*2*(23+1)"]
[null,null,"Hp DN80/1,25:2,00*1*(6+1)",null,14,null,null,null,null,null,null,null,"Hp DN80/1,25:2,00*1*(6+1)"]
[null,null,"VP :2,00*2*30",null,120,null,null,null,null,null,null,null,"VP :2,00*2*30"]
[40,"899010022RRR","Denontáž a opětovná montáž stáv. setavy Hp+Ś ","soubor",1,null,{"$f":"E441*F441","v":0},0,{"$f":"E441*H441","v":0},null,{"$f":"E441*J441","v":0},null,null,null,2,null,null,null,null,null,null,null,null,null,null,null,12,0,2,null,null,null,null,null,null,null,null,null,null,null,null,null,null,null,null,null,null,null,null,null,null,1,{"$f":"IF(AZ441=1,G441,0)","v":0},{"$f":"IF(AZ441=2,G441,0)","v":0},{"$f":"IF(AZ441=3,G441,0)","v":0},{"$f":"IF(AZ441=4,G441,0)","v":0},{"$f":"IF(AZ441=5,G441,0)","v":0},null,null,null,null,null,null,null,null,null,null,null,null,null,null,null,null,null,null,null,null,null,12,0]
[null,null,"Demontáž stávající sestavy poddzemního hydrantu včetně stávajících armatur.",null,null,null,null,null,null,null,null,"Demontáž stávající sestavy poddzemního hydrantu včetně stávajících armatur.",null,null,3]
[null,null,"Očištění jednotlivých prvků a případná výměna těsnění a spojovacích nerezových prvků.",null,null,null,null,null,null,null,null,"Očištění jednotlivých prvků a případná výměna těsnění a spojovacích nerezových prvků.",null,null,3]
[null,null,"Nové obandážování spojů sestavy.",null,null,null,null,null,null,null,null,"Nové obandážování spojů sestavy.",null,null,3]
[null,null,"Montáž sestavy na nové potrubí.",null,null,null,null,null,null,null,null,"Montáž sestavy na nové potrubí.",null,null,3]
[41,"28613576.01.R","Trubka PE100RC2 SDR11 D 32x3,0 mm L 100m","m",153.46799999999999,null,{"$f":"E446*F446","v":0},3.79E-3,{"$f":"E446*H446","v":0.58164371999999998},null,{"$f":"E446*J446","v":0},null,null,null,2,null,null,null,null,null,null,null,null,null,null,null,3,1,"28613576.01.R",null,null,null,null,null,null,null,null,null,null,null,null,null,null,null,null,null,null,null,null,null,null,1,{"$f":"IF(AZ446=1,G446,0)","v":0},{"$f":"IF(AZ446=2,G446,0)","v":0},{"$f":"IF(AZ446=3,G446,0)","v":0},{"$f":"IF(AZ446=4,G446,0)","v":0},{"$f":"IF(AZ446=5,G446,0)","v":0},null,null,null,null,null,null,null,null,null,null,null,null,null,null,null,null,null,null,null,null,null,3,1]
[null,null,"Vodovod TLT DN80 - VP PE D 32x3,0 mm:",null,0,null,null,null,null,null,null,null,"Vodovod TLT DN80 - VP PE D 32x3,0 mm:"]
[null,null,"\"VL\" :10,00*1,015",null,10.15,null,null,null,null,null,null,null,"\"VL\" :10,00*1,015"]
[null,null,"\"VL1\":80,20*1,015",null,81.403000000000006,null,null,null,null,null,null,null,"\"VL1\":80,20*1,015"]
[null,null,"\"VL1A\" :0",null,0,null,null,null,null,null,null,null,"\"VL1A\" :0"]
[null,null,"\"VL1B\":7,00*1,015",null,7.1050000000000004,null,null,null,null,null,null,null,"\"VL1B\":7,00*1,015"]
[null,null,"\"VL2\" :36,00*1,015",null,36.54,null,null,null,null,null,null,null,"\"VL2\" :36,00*1,015"]
[null,null,"\"VL2A\":18,00*1,015",null,18.27,null,null,null,null,null,null,null,"\"VL2A\":18,00*1,015"]
[42,"42202681.R","Navrtávací ISO šoupátko č. 2681 DN 2 - 6/4\"","kus",30,null,{"$f":"E454*F454","v":0},2.5999999999999999E-3,{"$f":"E454*H454","v":7.8E-2},null,{"$f":"E454*J454","v":0},null,null,null,2,null,null,null,null,null,null,null,null,null,null,null,3,1,"42202681.R",null,null,null,null,null,null,null,null,null,null,null,null,null,null,null,null,null,null,null,null,null,null,1,{"$f":"IF(AZ454=1,G454,0)","v":0},{"$f":"IF(AZ454=2,G454,0)","v":0},{"$f":"IF(AZ454=3,G454,0)","v":0},{"$f":"IF(AZ454=4,G454,0)","v":0},{"$f":"IF(AZ454=5,G454,0)","v":0},null,null,null,null,null,null,null,null,null,null,null,null,null,null,null,null,null,null,null,null,null,3,1]
[null,null,"Vodovod TLT DN80 :",null,0,null,null,null,null,null,null,null,"Vodovod TLT DN80 :"]
[null,null,"\"VL\" :1",null,1,null,null,null,null,null,null,null,"\"VL\" :1"]
[null,null,"\"VL1\":16",null,16,null,null,null,null,null,null,null,"\"VL1\":16"]
[null,null,"\"VL1A\" :0",null,0,null,null,null,null,null,null,null,"\"VL1A\" :0"]
[null,null,"\"VL1B\":2",null,2,null,null,null,null,null,null,null,"\"VL1B\":2"]
[null,null,"\"VL2\" :8",null,8,null,null,null,null,null,null,null,"\"VL2\" :8"]
[null,null,"\"VL2A\":3",null,3,null,null,null,null,null,null,null,"\"VL2A\":3"]
[43,"42203350.05.R","Navrtávací pas HACOM č.3350 80-2\"","kus",30,null,{"$f":"E462*F462","v":0},2.7000000000000001E-3,{"$f":"E462*H462","v":8.1000000000000003E-2},null,{"$f":"E462*J462","v":0},null,null,null,2,null,null,null,null,null,null,null,null,null,null,null,3,1,"42203350.05.R",null,null,null,null,null,null,null,null,null,null,null,null,null,null,null,null,null,null,null,null,null,null,1,{"$f":"IF(AZ462=1,G462,0)","v":0},{"$f":"IF(AZ462=2,G462,0)","v":0},{"$f":"IF(AZ462=3,G462,0)","v":0},{"$f":"IF(AZ462=4,G462,0)","v":0},{"$f":"IF(AZ462=5,G462,0)","v":0},null,null,null,null,null,null,null,null,null,null,null,null,null,null,null,null,null,null,null,null,null,3,1]
[null,null,"Vodovod TLT DN80 :",null,0,null,null,null,null,null,null,null,"Vodovod TLT DN80 :"]
[null,null,"NP DN80:",null,0,null,null,null,null,null,null,null,"NP DN80:"]
[null,null,"\"VL\" :1",null,1,null,null,null,null,null,null,null,"\"VL\" :1"]
[null,null,"\"VL1\":16",null,16,null,null,null,null,null,null,null,"\"VL1\":16"]
[null,null,"\"VL1A\" :0",null,0,null,null,null,null,null,null,null,"\"VL1A\" :0"]
[null,null,"\"VL1B\":2",null,2,null,null,null,null,null,null,null,"\"VL1B\":2"]
[null,null,"\"VL2\" :8",null,8,null,null,null,null,null,null,null,"\"VL2\" :8"]
[null,null,"\"VL2A\":3",null,3,null,null,null,null,null,null,null,"\"VL2A\":3"]
[44,"42206221.0.R","Napojovací ISO tvarovka č. 6221F - 6/4\" - 25","kus",30,null,{"$f":"E471*F471","v":0},2.5999999999999999E-3,{"$f":"E471*H471","v":7.8E-2},null,{"$f":"E471*J471","v":0},null,null,null,2,null,null,null,null,null,null,null,null,null,null,null,3,1,"42206221.0.R",null,null,null,null,null,null,null,null,null,null,null,null,null,null,null,null,null,null,null,null,null,null,1,{"$f":"IF(AZ471=1,G471,0)","v":0},{"$f":"IF(AZ471=2,G471,0)","v":0},{"$f":"IF(AZ471=3,G471,0)","v":0},{"$f":"IF(AZ471=4,G471,0)","v":0},{"$f":"IF(AZ471=5,G471,0)","v":0},null,null,null,null,null,null,null,null,null,null,null,null,null,null,null,null,null,null,null,null,null,3,1]
[null,null,"Vodovod TLT DN80 :",null,0,null,null,null,null,null,null,null,"Vodovod TLT DN80 :"]
[null,null,"\"VL\" :1",null,1,null,null,null,null,null,null,null,"\"VL\" :1"]
[null,null,"\"VL1\":16",null,16,null,null,null,null,null,null,null,"\"VL1\":16"]
[null,null,"\"VL1A\" :0",null,0,null,null,null,null,null,null,null,"\"VL1A\" :0"]
[null,null,"\"VL1B\":2",null,2,null,null,null,null,null,null,null,"\"VL1B\":2"]
[null,null,"\"VL2\" :8",null,8,null,null,null,null,null,null,null,"\"VL2\" :8"]
[null,null,"\"VL2A\":3",null,3,null,null,null,null,null,null,null,"\"VL2A\":3"]
[45,"42209601.R","Zemní souprava tel. (1,3 - 1,8 m) č.9601 3/4-2\"","kus",30,null,{"$f":"E479*F479","v":0},2.5000000000000001E-3,{"$f":"E479*H479","v":7.4999999999999997E-2},null,{"$f":"E479*J479","v":0},null,null,null,2,null,null,null,null,null,null,null,null,null,null,null,3,1,"42209601.R",null,null,null,null,null,null,null,null,null,null,null,null,null,null,null,null,null,null,null,null,null,null,1,{"$f":"IF(AZ479=1,G479,0)","v":0},{"$f":"IF(AZ479=2,G479,0)","v":0},{"$f":"IF(AZ479=3,G479,0)","v":0},{"$f":"IF(AZ479=4,G479,0)","v":0},{"$f":"IF(AZ479=5,G479,0)","v":0},null,null,null,null,null,null,null,null,null,null,null,null,null,null,null,null,null,null,null,null,null,3,1]
[null,null,"Vodovod TLT DN80 :",null,0,null,null,null,null,null,null,null,"Vodovod TLT DN80 :"]
[null,null,"\"VL\" :1",null,1,null,null,null,null,null,null,null,"\"VL\" :1"]
[null,null,"\"VL1\":16",null,16,null,null,null,null,null,null,null,"\"VL1\":16"]
[null,null,"\"VL1A\" :0",null,0,null,null,null,null,null,null,null,"\"VL1A\" :0"]
[null,null,"\"VL1B\":2",null,2,null,null,null,null,null,null,null,"\"VL1B\":2"]
[null,null,"\"VL2\" :8",null,8,null,null,null,null,null,null,null,"\"VL2\" :8"]
[null,null,"\"VL2A\":3",null,3,null,null,null,null,null,null,null,"\"VL2A\":3"]
[46,"42209999.R","Drenážní obal","kus",6,null,{"$f":"E487*F487","v":0},4.7999999999999996E-3,{"$f":"E487*H487","v":2.8799999999999999E-2},null,{"$f":"E487*J487","v":0},null,null,null,2,null,null,null,null,null,null,null,null,null,null,null,3,1,"42209999.R",null,null,null,null,null,null,null,null,null,null,null,null,null,null,null,null,null,null,null,null,null,null,1,{"$f":"IF(AZ487=1,G487,0)","v":0},{"$f":"IF(AZ487=2,G487,0)","v":0},{"$f":"IF(AZ487=3,G487,0)","v":0},{"$f":"IF(AZ487=4,G487,0)","v":0},{"$f":"IF(AZ487=5,G487,0)","v":0},null,null,null,null,null,null,null,null,null,null,null,null,null,null,null,null,null,null,null,null,null,3,1]
[null,null,"Vodovod TLT DN80 :",null,0,null,null,null,null,null,null,null,"Vodovod TLT DN80 :"]
[null,null,"Pro Hp DN80/1,25:6",null,6,null,null,null,null,null,null,null,"Pro Hp DN80/1,25:6"]
[47,"42228310.R","Šoupátko 4000E2 DN 80 přírubové, voda PN16","kus",23,null,{"$f":"E490*F490","v":0},1.6500000000000001E-2,{"$f":"E490*H490","v":0.3795},null,{"$f":"E490*J490","v":0},null,null,null,2,null,null,null,null,null,null,null,null,null,null,null,3,1,"42228310.R",null,null,null,null,null,null,null,null,null,null,null,null,null,null,null,null,null,null,null,null,null,null,1,{"$f":"IF(AZ490=1,G490,0)","v":0},{"$f":"IF(AZ490=2,G490,0)","v":0},{"$f":"IF(AZ490=3,G490,0)","v":0},{"$f":"IF(AZ490=4,G490,0)","v":0},{"$f":"IF(AZ490=5,G490,0)","v":0},null,null,null,null,null,null,null,null,null,null,null,null,null,null,null,null,null,null,null,null,null,3,1]
[null,null,"Šoupátko přírubové krkové - měkcetěsnící klínové šoupátko s hladkým a volným průtokovým kanálem",null,null,null,null,null,null,null,null,"Šoupátko přírubové krkové - měkcetěsnící klínové šoupátko s hladkým a volným průtokovým kanálem",null,null,3]
[null,null,"č. 4000E2",null,null,null,null,null,null,null,null,"č. 4000E2",null,null,3]
[null,null,"PN 16",null,null,null,null,null,null,null,null,"PN 16",null,null,3]
[null,null,"DN 80",null,null,null,null,null,null,null,null,"DN 80",null,null,3]
[null,null,"těleso a víko: tvárná litina GGG 400 - DIN 1693",null,null,null,null,null,null,null,null,"těleso a víko: tvárná litina GGG 400 - DIN 1693",null,null,3]
[null,null,"medium: pitná voda, neagresivní odpadní voda",null,null,null,null,null,null,null,null,"medium: pitná voda, neagresivní odpadní voda",null,null,3]
[null,null,"Vodovod TLT DN80 :",null,0,null,null,null,null,null,null,null,"Vodovod TLT DN80 :"]
[null,null,"Š DN80:",null,0,null,null,null,null,null,null,null,"Š DN80:"]
[null,null,"\"VL\" :1",null,1,null,null,null,null,null,null,null,"\"VL\" :1"]
[null,null,"\"VL1\":10",null,10,null,null,null,null,null,null,null,"\"VL1\":10"]
[null,null,"\"VL1A\" :1",null,1,null,null,null,null,null,null,null,"\"VL1A\" :1"]
[null,null,"\"VL1B\":2",null,2,null,null,null,null,null,null,null,"\"VL1B\":2"]
[null,null,"\"VL2\" :7",null,7,null,null,null,null,null,null,null,"\"VL2\" :7"]
[null,null,"\"VL2A\":2",null,2,null,null,null,null,null,null,null,"\"VL2A\":2"]
[48,"422737411.R","Hydrant podzemní DUO K240, DN80,1,25 m-voda","kus",6,null,{"$f":"E505*F505","v":0},3.95E-2,{"$f":"E505*H505","v":0.23699999999999999},null,{"$f":"E505*J505","v":0},null,null,null,2,null,null,null,null,null,null,null,null,null,null,null,3,1,"422737411.R",null,null,null,null,null,null,null,null,null,null,null,null,null,null,null,null,null,null,null,null,null,null,1,{"$f":"IF(AZ505=1,G505,0)","v":0},{"$f":"IF(AZ505=2,G505,0)","v":0},{"$f":"IF(AZ505=3,G505,0)","v":0},{"$f":"IF(AZ505=4,G505,0)","v":0},{"$f":"IF(AZ505=5,G505,0)","v":0},null,null,null,null,null,null,null,null,null,null,null,null,null,null,null,null,null,null,null,null,null,3,1]
[null,null,"Vodovod TLT DN80 :",null,0,null,null,null,null,null,null,null,"Vodovod TLT DN80 :"]
[null,null,"Hp DN80/1,25:6",null,6,null,null,null,null,null,null,null,"Hp DN80/1,25:6"]
[49,"42293250.R","Souprava zemní tel.9500E2/E3 DN50 -100, 1,3-1,8m","kus",23,null,{"$f":"E508*F508","v":0},7.3000000000000001E-3,{"$f":"E508*H508","v":0.16789999999999999},null,{"$f":"E508*J508","v":0},null,null,null,2,null,null,null,null,null,null,null,null,null,null,null,3,1,"42293250.R",null,null,null,null,null,null,null,null,null,null,null,null,null,null,null,null,null,null,null,null,null,null,1,{"$f":"IF(AZ508=1,G508,0)","v":0},{"$f":"IF(AZ508=2,G508,0)","v":0},{"$f":"IF(AZ508=3,G508,0)","v":0},{"$f":"IF(AZ508=4,G508,0)","v":0},{"$f":"IF(AZ508=5,G508,0)","v":0},null,null,null,null,null,null,null,null,null,null,null,null,null,null,null,null,null,null,null,null,null,3,1]
[null,null,"Vodovod TLT DN80 :",null,0,null,null,null,null,null,null,null,"Vodovod TLT DN80 :"]
[null,null,"Pro Š DN80:",null,0,null,null,null,null,null,null,null,"Pro Š DN80:"]
[null,null,"\"VL\" :1",null,1,null,null,null,null,null,null,null,"\"VL\" :1"]
[null,null,"\"VL1\":10",null,10,null,null,null,null,null,null,null,"\"VL1\":10"]
[null,null,"\"VL1A\" :1",null,1,null,null,null,null,null,null,null,"\"VL1A\" :1"]
[null,null,"\"VL1B\":2",null,2,null,null,null,null,null,null,null,"\"VL1B\":2"]
[null,null,"\"VL2\" :7",null,7,null,null,null,null,null,null,null,"\"VL2\" :7"]
[null,null,"\"VL2A\":2",null,2,null,null,null,null,null,null,null,"\"VL2A\":2"]
[50,"422935300.R","Spojka Synoflex 7974, DN 40, PN 16","kus",1,null,{"$f":"E517*F517","v":0},3.8999999999999998E-3,{"$f":"E517*H517","v":3.8999999999999998E-3},null,{"$f":"E517*J517","v":0},null,null,null,2,null,null,null,null,null,null,null,null,null,null,null,3,1,"422935300.R",null,null,null,null,null,null,null,null,null,null,null,null,null,null,null,null,null,null,null,null,null,null,1,{"$f":"IF(AZ517=1,G517,0)","v":0},{"$f":"IF(AZ517=2,G517,0)","v":0},{"$f":"IF(AZ517=3,G517,0)","v":0},{"$f":"IF(AZ517=4,G517,0)","v":0},{"$f":"IF(AZ517=5,G517,0)","v":0},null,null,null,null,null,null,null,null,null,null,null,null,null,null,null,null,null,null,null,null,null,3,1]
[null,null,"Vodovod TLT DN80 :",null,0,null,null,null,null,null,null,null,"Vodovod TLT DN80 :"]
[null,null,"Synoflex  DN40:1",null,1,null,null,null,null,null,null,null,"Synoflex  DN40:1"]
[51,"422935303.R","Spojka Synoflex 7974, DN 80, PN 16","kus",2,null,{"$f":"E520*F520","v":0},6.8999999999999999E-3,{"$f":"E520*H520","v":1.38E-2},null,{"$f":"E520*J520","v":0},null,null,null,2,null,null,null,null,null,null,null,null,null,null,null,3,1,"422935303.R",null,null,null,null,null,null,null,null,null,null,null,null,null,null,null,null,null,null,null,null,null,null,1,{"$f":"IF(AZ520=1,G520,0)","v":0},{"$f":"IF(AZ520=2,G520,0)","v":0},{"$f":"IF(AZ520=3,G520,0)","v":0},{"$f":"IF(AZ520=4,G520,0)","v":0},{"$f":"IF(AZ520=5,G520,0)","v":0},null,null,null,null,null,null,null,null,null,null,null,null,null,null,null,null,null,null,null,null,null,3,1]
[null,null,"Vodovod TLT DN80 :",null,0,null,null,null,null,null,null,null,"Vodovod TLT DN80 :"]
[null,null,"Synoflex spojka DN80:2",null,2,null,null,null,null,null,null,null,"Synoflex spojka DN80:2"]
[52,"422935321.R","Spojka Synoflex s přírubou 7994, DN 65,PN 16","kus",1,null,{"$f":"E523*F523","v":0},6.1000000000000004E-3,{"$f":"E523*H523","v":6.1000000000000004E-3},null,{"$f":"E523*J523","v":0},null,null,null,2,null,null,null,null,null,null,null,null,null,null,null,3,1,"422935321.R",null,null,null,null,null,null,null,null,null,null,null,null,null,null,null,null,null,null,null,null,null,null,1,{"$f":"IF(AZ523=1,G523,0)","v":0},{"$f":"IF(AZ523=2,G523,0)","v":0},{"$f":"IF(AZ523=3,G523,0)","v":0},{"$f":"IF(AZ523=4,G523,0)","v":0},{"$f":"IF(AZ523=5,G523,0)","v":0},null,null,null,null,null,null,null,null,null,null,null,null,null,null,null,null,null,null,null,null,null,3,1]
[null,null,"Vodovod TLT DN80 :",null,0,null,null,null,null,null,null,null,"Vodovod TLT DN80 :"]
[null,null,"Synoflex s přírubou DN65:1",null,1,null,null,null,null,null,null,null,"Synoflex s přírubou DN65:1"]
[53,"422935322.R","Spojka Synoflex s přírubou 7994, DN 80,PN 16","kus",4,null,{"$f":"E526*F526","v":0},7.1000000000000004E-3,{"$f":"E526*H526","v":2.8400000000000002E-2},null,{"$f":"E526*J526","v":0},null,null,null,2,null,null,null,null,null,null,null,null,null,null,null,3,1,"422935322.R",null,null,null,null,null,null,null,null,null,null,null,null,null,null,null,null,null,null,null,null,null,null,1,{"$f":"IF(AZ526=1,G526,0)","v":0},{"$f":"IF(AZ526=2,G526,0)","v":0},{"$f":"IF(AZ526=3,G526,0)","v":0},{"$f":"IF(AZ526=4,G526,0)","v":0},{"$f":"IF(AZ526=5,G526,0)","v":0},null,null,null,null,null,null,null,null,null,null,null,null,null,null,null,null,null,null,null,null,null,3,1]
[null,null,"Vodovod TLT DN80 :",null,0,null,null,null,null,null,null,null,"Vodovod TLT DN80 :"]
[null,null,"Synoflex s přírubou DN80:4",null,4,null,null,null,null,null,null,null,"Synoflex s přírubou DN80:4"]
[54,"55251130.R","TL vod.tlak. DN 80 mm spoj TYTON","m",526.71500000000003,null,{"$f":"E529*F529","v":0},1.4500000000000001E-2,{"$f":"E529*H529","v":7.6373675000000008},null,{"$f":"E529*J529","v":0},null,null,null,2,null,null,null,null,null,null,null,null,null,null,null,3,1,"55251130.R",null,null,null,null,null,null,null,null,null,null,null,null,null,null,null,null,null,null,null,null,null,null,1,{"$f":"IF(AZ529=1,G529,0)","v":0},{"$f":"IF(AZ529=2,G529,0)","v":0},{"$f":"IF(AZ529=3,G529,0)","v":0},{"$f":"IF(AZ529=4,G529,0)","v":0},{"$f":"IF(AZ529=5,G529,0)","v":0},null,null,null,null,null,null,null,null,null,null,null,null,null,null,null,null,null,null,null,null,null,3,1]
[null,null,"Hrdlová trouba z tvárné litiny s hladkým koncem dle ČSN EN 545",null,null,null,null,null,null,null,null,"Hrdlová trouba z tvárné litiny s hladkým koncem dle ČSN EN 545",null,null,3]
[null,null,"Hrdlový spoj Tyton (pružný násuvný spoj EPDM)",null,null,null,null,null,null,null,null,"Hrdlový spoj Tyton (pružný násuvný spoj EPDM)",null,null,3]
[null,null,"Zinek Plus - vně zinko-aluminiový povlak 400 g/m2 (85Zn-15Al) s krycí modrou epoxidovou vrstvou",null,null,null,null,null,null,null,null,"Zinek Plus - vně zinko-aluminiový povlak 400 g/m2 (85Zn-15Al) s krycí modrou epoxidovou vrstvou",null,null,3]
[null,null,"uvnitř vyložení z cementové malty z vysokopecního cementu",null,null,null,null,null,null,null,null,"uvnitř vyložení z cementové malty z vysokopecního cementu",null,null,3]
[null,null,"hrdla trub jsou zevnitř pozinkována a pokryta epoxidovým povlakem",null,null,null,null,null,null,null,null,"hrdla trub jsou zevnitř pozinkována a pokryta epoxidovým povlakem",null,null,3]
[null,null,"Vodovod TLT DN80 :",null,0,null,null,null,null,null,null,null,"Vodovod TLT DN80 :"]
[null,null,"\"VL\" :28,50*1,01",null,28.785,null,null,null,null,null,null,null,"\"VL\" :28,50*1,01"]
[null,null,"\"VL1\":(290,00+1,50+8,50)*1,01",null,303,null,null,null,null,null,null,null,"\"VL1\":(290,00+1,50+8,50)*1,01"]
[null,null,"\"VL1A\" - Vyvedení mimo komunikaci:6,00*1,01",null,6.06,null,null,null,null,null,null,null,"\"VL1A\" - Vyvedení mimo komunikaci:6,00*1,01"]
[null,null,"\"VL1B\":24,00*1,01",null,24.24,null,null,null,null,null,null,null,"\"VL1B\":24,00*1,01"]
[null,null,"\"VL2\" :(126,50+1,50)*1,01",null,129.28,null,null,null,null,null,null,null,"\"VL2\" :(126,50+1,50)*1,01"]
[null,null,"\"VL2A\" :35,00*1,01",null,35.35,null,null,null,null,null,null,null,"\"VL2A\" :35,00*1,01"]
[55,"5525852703.R","Tvarovka přír.litin. s hlad.koncem  F DN 80","kus",1,null,{"$f":"E542*F542","v":0},7.7000000000000002E-3,{"$f":"E542*H542","v":7.7000000000000002E-3},null,{"$f":"E542*J542","v":0},null,null,null,2,null,null,null,null,null,null,null,null,null,null,null,3,1,"5525852703.R",null,null,null,null,null,null,null,null,null,null,null,null,null,null,null,null,null,null,null,null,null,null,1,{"$f":"IF(AZ542=1,G542,0)","v":0},{"$f":"IF(AZ542=2,G542,0)","v":0},{"$f":"IF(AZ542=3,G542,0)","v":0},{"$f":"IF(AZ542=4,G542,0)","v":0},{"$f":"IF(AZ542=5,G542,0)","v":0},null,null,null,null,null,null,null,null,null,null,null,null,null,null,null,null,null,null,null,null,null,3,1]
[null,null,"Vodovod TLT DN80 :",null,0,null,null,null,null,null,null,null,"Vodovod TLT DN80 :"]
[null,null,"F DN80:1",null,1,null,null,null,null,null,null,null,"F DN80:1"]
[56,"55258528.R","Tvarovka hrdl.s přír.odb.MMA DN 80/ 40","kus",1,null,{"$f":"E545*F545","v":0},9.7000000000000003E-2,{"$f":"E545*H545","v":9.7000000000000003E-2},null,{"$f":"E545*J545","v":0},null,null,null,2,null,null,null,null,null,null,null,null,null,null,null,3,1,"55258528.R",null,null,null,null,null,null,null,null,null,null,null,null,null,null,null,null,null,null,null,null,null,null,1,{"$f":"IF(AZ545=1,G545,0)","v":0},{"$f":"IF(AZ545=2,G545,0)","v":0},{"$f":"IF(AZ545=3,G545,0)","v":0},{"$f":"IF(AZ545=4,G545,0)","v":0},{"$f":"IF(AZ545=5,G545,0)","v":0},null,null,null,null,null,null,null,null,null,null,null,null,null,null,null,null,null,null,null,null,null,3,1]
[null,null,"Vodovod TLT DN80 :",null,0,null,null,null,null,null,null,null,"Vodovod TLT DN80 :"]
[null,null,"MMA DN80/40:1",null,1,null,null,null,null,null,null,null,"MMA DN80/40:1"]
[57,"55258531.R","Tvar. hrdl.s přír.odb. MMA DN 80/ 80","kus",2,null,{"$f":"E548*F548","v":0},1.2999999999999999E-2,{"$f":"E548*H548","v":2.5999999999999999E-2},null,{"$f":"E548*J548","v":0},null,null,null,2,null,null,null,null,null,null,null,null,null,null,null,3,1,"55258531.R",null,null,null,null,null,null,null,null,null,null,null,null,null,null,null,null,null,null,null,null,null,null,1,{"$f":"IF(AZ548=1,G548,0)","v":0},{"$f":"IF(AZ548=2,G548,0)","v":0},{"$f":"IF(AZ548=3,G548,0)","v":0},{"$f":"IF(AZ548=4,G548,0)","v":0},{"$f":"IF(AZ548=5,G548,0)","v":0},null,null,null,null,null,null,null,null,null,null,null,null,null,null,null,null,null,null,null,null,null,3,1]
[null,null,"Vodovod TLT DN80 :",null,0,null,null,null,null,null,null,null,"Vodovod TLT DN80 :"]
[null,null,"MMA DN80/80:2",null,2,null,null,null,null,null,null,null,"MMA DN80/80:2"]
[58,"55259203.R","Tvarovka hrdl.s hrdl.odb.MMB DN80/ 80","kus",2,null,{"$f":"E551*F551","v":0},1.15E-2,{"$f":"E551*H551","v":2.3E-2},null,{"$f":"E551*J551","v":0},null,null,null,2,null,null,null,null,null,null,null,null,null,null,null,3,1,"55259203.R",null,null,null,null,null,null,null,null,null,null,null,null,null,null,null,null,null,null,null,null,null,null,1,{"$f":"IF(AZ551=1,G551,0)","v":0},{"$f":"IF(AZ551=2,G551,0)","v":0},{"$f":"IF(AZ551=3,G551,0)","v":0},{"$f":"IF(AZ551=4,G551,0)","v":0},{"$f":"IF(AZ551=5,G551,0)","v":0},null,null,null,null,null,null,null,null,null,null,null,null,null,null,null,null,null,null,null,null,null,3,1]
[null,null,"Vodovod TLT DN80 :",null,0,null,null,null,null,null,null,null,"Vodovod TLT DN80 :"]
[null,null,"MMB DN80/80:2",null,2,null,null,null,null,null,null,null,"MMB DN80/80:2"]
[59,"55259410.R","Koleno hrdlové MMK DN80-11 1/4°","kus",2,null,{"$f":"E554*F554","v":0},6.4999999999999997E-3,{"$f":"E554*H554","v":1.2999999999999999E-2},null,{"$f":"E554*J554","v":0},null,null,null,2,null,null,null,null,null,null,null,null,null,null,null,3,1,"55259410.R",null,null,null,null,null,null,null,null,null,null,null,null,null,null,null,null,null,null,null,null,null,null,1,{"$f":"IF(AZ554=1,G554,0)","v":0},{"$f":"IF(AZ554=2,G554,0)","v":0},{"$f":"IF(AZ554=3,G554,0)","v":0},{"$f":"IF(AZ554=4,G554,0)","v":0},{"$f":"IF(AZ554=5,G554,0)","v":0},null,null,null,null,null,null,null,null,null,null,null,null,null,null,null,null,null,null,null,null,null,3,1]
[null,null,"Vodovod TLT DN80 :",null,0,null,null,null,null,null,null,null,"Vodovod TLT DN80 :"]
[null,null,"MMK 11° DN80:2",null,2,null,null,null,null,null,null,null,"MMK 11° DN80:2"]
[60,"55259430.R","Koleno hrdlové MMK DN80-22 1/2°","kus",3,null,{"$f":"E557*F557","v":0},6.7000000000000002E-3,{"$f":"E557*H557","v":2.01E-2},null,{"$f":"E557*J557","v":0},null,null,null,2,null,null,null,null,null,null,null,null,null,null,null,3,1,"55259430.R",null,null,null,null,null,null,null,null,null,null,null,null,null,null,null,null,null,null,null,null,null,null,1,{"$f":"IF(AZ557=1,G557,0)","v":0},{"$f":"IF(AZ557=2,G557,0)","v":0},{"$f":"IF(AZ557=3,G557,0)","v":0},{"$f":"IF(AZ557=4,G557,0)","v":0},{"$f":"IF(AZ557=5,G557,0)","v":0},null,null,null,null,null,null,null,null,null,null,null,null,null,null,null,null,null,null,null,null,null,3,1]
[null,null,"Vodovod TLT DN80 :",null,0,null,null,null,null,null,null,null,"Vodovod TLT DN80 :"]
[null,null,"MMK 22° DN80:3",null,3,null,null,null,null,null,null,null,"MMK 22° DN80:3"]
[61,"55259450.R","Koleno hrdlové MMK DN 80/30°","kus",1,null,{"$f":"E560*F560","v":0},6.7999999999999996E-3,{"$f":"E560*H560","v":6.7999999999999996E-3},null,{"$f":"E560*J560","v":0},null,null,null,2,null,null,null,null,null,null,null,null,null,null,null,3,1,"55259450.R",null,null,null,null,null,null,null,null,null,null,null,null,null,null,null,null,null,null,null,null,null,null,1,{"$f":"IF(AZ560=1,G560,0)","v":0},{"$f":"IF(AZ560=2,G560,0)","v":0},{"$f":"IF(AZ560=3,G560,0)","v":0},{"$f":"IF(AZ560=4,G560,0)","v":0},{"$f":"IF(AZ560=5,G560,0)","v":0},null,null,null,null,null,null,null,null,null,null,null,null,null,null,null,null,null,null,null,null,null,3,1]
[null,null,"Vodovod TLT DN80 :",null,0,null,null,null,null,null,null,null,"Vodovod TLT DN80 :"]
[null,null,"MMK 30° DN80:1",null,1,null,null,null,null,null,null,null,"MMK 30° DN80:1"]
[62,"55259470.R","Koleno hrdlové MMK DN80/45°","kus",3,null,{"$f":"E563*F563","v":0},8.6999999999999994E-3,{"$f":"E563*H563","v":2.6099999999999998E-2},null,{"$f":"E563*J563","v":0},null,null,null,2,null,null,null,null,null,null,null,null,null,null,null,3,1,"55259470.R",null,null,null,null,null,null,null,null,null,null,null,null,null,null,null,null,null,null,null,null,null,null,1,{"$f":"IF(AZ563=1,G563,0)","v":0},{"$f":"IF(AZ563=2,G563,0)","v":0},{"$f":"IF(AZ563=3,G563,0)","v":0},{"$f":"IF(AZ563=4,G563,0)","v":0},{"$f":"IF(AZ563=5,G563,0)","v":0},null,null,null,null,null,null,null,null,null,null,null,null,null,null,null,null,null,null,null,null,null,3,1]
[null,null,"Vodovod TLT DN80 :",null,0,null,null,null,null,null,null,null,"Vodovod TLT DN80 :"]
[null,null,"MMK 45° DN80:3",null,3,null,null,null,null,null,null,null,"MMK 45° DN80:3"]
[63,"55259730.R","Tvar. přír. s hrdlem EU DN 80","kus",25,null,{"$f":"E566*F566","v":0},6.8999999999999999E-3,{"$f":"E566*H566","v":0.17249999999999999},null,{"$f":"E566*J566","v":0},null,null,null,2,null,null,null,null,null,null,null,null,null,null,null,3,1,"55259730.R",null,null,null,null,null,null,null,null,null,null,null,null,null,null,null,null,null,null,null,null,null,null,1,{"$f":"IF(AZ566=1,G566,0)","v":0},{"$f":"IF(AZ566=2,G566,0)","v":0},{"$f":"IF(AZ566=3,G566,0)","v":0},{"$f":"IF(AZ566=4,G566,0)","v":0},{"$f":"IF(AZ566=5,G566,0)","v":0},null,null,null,null,null,null,null,null,null,null,null,null,null,null,null,null,null,null,null,null,null,3,1]
[null,null,"Vodovod TLT DN80 :",null,0,null,null,null,null,null,null,null,"Vodovod TLT DN80 :"]
[null,null,"EU DN80:25",null,25,null,null,null,null,null,null,null,"EU DN80:25"]
[64,"55259812.R","Přechod přír. FFR DN 80/ 65","kus",1,null,{"$f":"E569*F569","v":0},8.0000000000000002E-3,{"$f":"E569*H569","v":8.0000000000000002E-3},null,{"$f":"E569*J569","v":0},null,null,null,2,null,null,null,null,null,null,null,null,null,null,null,3,1,"55259812.R",null,null,null,null,null,null,null,null,null,null,null,null,null,null,null,null,null,null,null,null,null,null,1,{"$f":"IF(AZ569=1,G569,0)","v":0},{"$f":"IF(AZ569=2,G569,0)","v":0},{"$f":"IF(AZ569=3,G569,0)","v":0},{"$f":"IF(AZ569=4,G569,0)","v":0},{"$f":"IF(AZ569=5,G569,0)","v":0},null,null,null,null,null,null,null,null,null,null,null,null,null,null,null,null,null,null,null,null,null,3,1]
[null,null,"Vodovod TLT DN80 :",null,0,null,null,null,null,null,null,null,"Vodovod TLT DN80 :"]
[null,null,"FFR DN80/65:1",null,1,null,null,null,null,null,null,null,"FFR DN80/65:1"]
[65,"55259967.R","Koleno přírubové FFK DN 40-45°","kus",1,null,{"$f":"E572*F572","v":0},7.0000000000000001E-3,{"$f":"E572*H572","v":7.0000000000000001E-3},null,{"$f":"E572*J572","v":0},null,null,null,2,null,null,null,null,null,null,null,null,null,null,null,3,1,"55259967.R",null,null,null,null,null,null,null,null,null,null,null,null,null,null,null,null,null,null,null,null,null,null,1,{"$f":"IF(AZ572=1,G572,0)","v":0},{"$f":"IF(AZ572=2,G572,0)","v":0},{"$f":"IF(AZ572=3,G572,0)","v":0},{"$f":"IF(AZ572=4,G572,0)","v":0},{"$f":"IF(AZ572=5,G572,0)","v":0},null,null,null,null,null,null,null,null,null,null,null,null,null,null,null,null,null,null,null,null,null,3,1]
[null,null,"Vodovod TLT DN80 :",null,0,null,null,null,null,null,null,null,"Vodovod TLT DN80 :"]
[null,null,"FFK DN40 - 45° :1",null,1,null,null,null,null,null,null,null,"FFK DN40 - 45° :1"]
[66,"552599939.R","Tvarovka přír. s přír. odb. T DN 80/80","kus",9,null,{"$f":"E575*F575","v":0},1.49E-2,{"$f":"E575*H575","v":0.1341},null,{"$f":"E575*J575","v":0},null,null,null,2,null,null,null,null,null,null,null,null,null,null,null,3,1,"552599939.R",null,null,null,null,null,null,null,null,null,null,null,null,null,null,null,null,null,null,null,null,null,null,1,{"$f":"IF(AZ575=1,G575,0)","v":0},{"$f":"IF(AZ575=2,G575,0)","v":0},{"$f":"IF(AZ575=3,G575,0)","v":0},{"$f":"IF(AZ575=4,G575,0)","v":0},{"$f":"IF(AZ575=5,G575,0)","v":0},null,null,null,null,null,null,null,null,null,null,null,null,null,null,null,null,null,null,null,null,null,3,1]
[null,null,"Vodovod TLT DN80 :",null,0,null,null,null,null,null,null,null,"Vodovod TLT DN80 :"]
[null,null,"T DN80/80:9",null,9,null,null,null,null,null,null,null,"T DN80/80:9"]
[67,"5526009705.R","Koleno prodloužené přír.s patkou PPL DN 80","kus",6,null,{"$f":"E578*F578","v":0},1.2200000000000001E-2,{"$f":"E578*H578","v":7.3200000000000001E-2},null,{"$f":"E578*J578","v":0},null,null,null,2,null,null,null,null,null,null,null,null,null,null,null,3,1,"5526009705.R",null,null,null,null,null,null,null,null,null,null,null,null,null,null,null,null,null,null,null,null,null,null,1,{"$f":"IF(AZ578=1,G578,0)","v":0},{"$f":"IF(AZ578=2,G578,0)","v":0},{"$f":"IF(AZ578=3,G578,0)","v":0},{"$f":"IF(AZ578=4,G578,0)","v":0},{"$f":"IF(AZ578=5,G578,0)","v":0},null,null,null,null,null,null,null,null,null,null,null,null,null,null,null,null,null,null,null,null,null,3,1]
[null,null,"Vodovod TLT DN80 :",null,0,null,null,null,null,null,null,null,"Vodovod TLT DN80 :"]
[null,null,"PPL DN80:6",null,6,null,null,null,null,null,null,null,"PPL DN80:6"]
[68,"5526009730.R","kroužek těs.TYTON pro vod. potrubí (EPDM) DN80","kus",77,null,{"$f":"E581*F581","v":0},1E-4,{"$f":"E581*H581","v":7.7000000000000002E-3},null,{"$f":"E581*J581","v":0},null,null,null,2,null,null,null,null,null,null,null,null,null,null,null,3,1,"5526009730.R",null,null,null,null,null,null,null,null,null,null,null,null,null,null,null,null,null,null,null,null,null,null,1,{"$f":"IF(AZ581=1,G581,0)","v":0},{"$f":"IF(AZ581=2,G581,0)","v":0},{"$f":"IF(AZ581=3,G581,0)","v":0},{"$f":"IF(AZ581=4,G581,0)","v":0},{"$f":"IF(AZ581=5,G581,0)","v":0},null,null,null,null,null,null,null,null,null,null,null,null,null,null,null,null,null,null,null,null,null,3,1]
[69,"5526009770.R","kroužek těs.TYTON-SIT-PLUS pro vod.potr.EPDM 80","kus",62,null,{"$f":"E582*F582","v":0},2.0000000000000001E-4,{"$f":"E582*H582","v":1.2400000000000001E-2},null,{"$f":"E582*J582","v":0},null,null,null,2,null,null,null,null,null,null,null,null,null,null,null,3,1,"5526009770.R",null,null,null,null,null,null,null,null,null,null,null,null,null,null,null,null,null,null,null,null,null,null,1,{"$f":"IF(AZ582=1,G582,0)","v":0},{"$f":"IF(AZ582=2,G582,0)","v":0},{"$f":"IF(AZ582=3,G582,0)","v":0},{"$f":"IF(AZ582=4,G582,0)","v":0},{"$f":"IF(AZ582=5,G582,0)","v":0},null,null,null,null,null,null,null,null,null,null,null,null,null,null,null,null,null,null,null,null,null,3,1]
[null,null,"Těsnící a jistící gumový kroužek s ocelovými segmenty SIT-PLUS pro jištěný spoj BRS u vodovodního potrubí",null,null,null,null,null,null,null,null,"Těsnící a jistící gumový kroužek s ocelovými segmenty SIT-PLUS pro jištěný spoj BRS u vodovodního potrubí",null,null,3]
[null,"Celkem za","8 Trubní vedení",null,null,null,{"$f":"SUM(G259:G583)","v":0},null,{"$f":"SUM(I259:I583)","v":10.136457219999997},null,{"$f":"SUM(K259:K583)","v":0},null,null,null,4,null,null,null,null,null,null,null,null,null,null,null,null,null,null,null,null,null,null,null,null,null,null,null,null,null,null,null,null,null,null,null,null,null,null,null,null,null,{"$f":"SUM(BA259:BA583)","v":0},{"$f":"SUM(BB259:BB583)","v":0},{"$f":"SUM(BC259:BC583)","v":0},{"$f":"SUM(BD259:BD583)","v":0},{"$f":"SUM(BE259:BE583)","v":0}]
["Díl:","89","Ostatní konstrukce na trubním vedení",null,null,null,null,null,null,null,null,null,null,null,1]
[70,"899 01-0001.RRX","Provizorní vodovod PE100 RC1 D 63x5,8 mm včetně příslušných tvarovek a propojů","m",250,null,{"$f":"E586*F586","v":0},0,{"$f":"E586*H586","v":0},null,{"$f":"E586*J586","v":0},null,null,null,2,null,null,null,null,null,null,null,null,null,null,null,12,0,3,null,null,null,null,null,null,null,null,null,null,null,null,null,null,null,null,null,null,null,null,null,null,1,{"$f":"IF(AZ586=1,G586,0)","v":0},{"$f":"IF(AZ586=2,G586,0)","v":0},{"$f":"IF(AZ586=3,G586,0)","v":0},{"$f":"IF(AZ586=4,G586,0)","v":0},{"$f":"IF(AZ586=5,G586,0)","v":0},null,null,null,null,null,null,null,null,null,null,null,null,null,null,null,null,null,null,null,null,null,12,0]
[null,null,"Součástí položky je ",null,null,null,null,null,null,null,null,"Součástí položky je ",null,null,3]
[null,null,"- Dodávka a montáž příslušného potrubí ",null,null,null,null,null,null,null,null,"- Dodávka a montáž příslušného potrubí ",null,null,3]
[null,null,"- Dodávka a montáž propojovacích tvarovek a armatur dle zvolené technologie zhotovitelem potřebné pro provoz provizorního vodovou",null,null,null,null,null,null,null,null,"- Dodávka a montáž propojovacích tvarovek a armatur dle zvolené technologie zhotovitelem potřebné pro provoz provizorního vodovou",null,null,3]
[null,null,"- Přerušení stávajícího potrubí pro napojení provizorního vodovodu",null,null,null,null,null,null,null,null,"- Přerušení stávajícího potrubí pro napojení provizorního vodovodu",null,null,3]
[null,null,"- Provedení tlakové zkoušky včetně proplachu a desinfekce potrubí dle ČSN",null,null,null,null,null,null,null,null,"- Provedení tlakové zkoušky včetně proplachu a desinfekce potrubí dle ČSN",null,null,3]
[null,null,"- Potředné zemní práce pro provedení propojů včetně případného odstranění konstrukcí komunikací a chodníků a provizorní úprava povrchů v prostoru vedení provizorního vodovodu",null,null,null,null,null,null,null,null,"- Potředné zemní práce pro provedení propojů včetně případného odstranění konstrukcí komunikací a chodníků a provizorní úprava povrchů v prostoru vedení provizorního vodovodu",null,null,3]
[null,null,"- Demontáž a odpojení propojů provizorního vodovodu  včetně potřebných zemních prací.",null,null,null,null,null,null,null,null,"- Demontáž a odpojení propojů provizorního vodovodu  včetně potřebných zemních prací.",null,null,3]
[null,null,"- Likvidace veškerého materiálu provizorních vodovodů ",null,null,null,null,null,null,null,null,"- Likvidace veškerého materiálu provizorních vodovodů ",null,null,3]
[null,null,"- Součástí položky jsou i náklady na přesuny materiálů - Součástí položky jsou náklady zhotovitele na poplatky za skládky materiálu",null,null,null,null,null,null,null,null,"- Součástí položky jsou i náklady na přesuny materiálů - Součástí položky jsou náklady zhotovitele na poplatky za skládky materiálu",null,null,3]
[71,"899 02-0001.RRX","Provizorní VP PE100 RC1 D32x3,0 mm - délky do 8 m vč. příslušných tvarovek a armatur","soubor",30,null,{"$f":"E596*F596","v":0},0,{"$f":"E596*H596","v":0},null,{"$f":"E596*J596","v":0},null,null,null,2,null,null,null,null,null,null,null,null,null,null,null,12,0,4,null,null,null,null,null,null,null,null,null,null,null,null,null,null,null,null,null,null,null,null,null,null,1,{"$f":"IF(AZ596=1,G596,0)","v":0},{"$f":"IF(AZ596=2,G596,0)","v":0},{"$f":"IF(AZ596=3,G596,0)","v":0},{"$f":"IF(AZ596=4,G596,0)","v":0},{"$f":"IF(AZ596=5,G596,0)","v":0},null,null,null,null,null,null,null,null,null,null,null,null,null,null,null,null,null,null,null,null,null,12,0]
[null,null,"Součástí položky je ",null,null,null,null,null,null,null,null,"Součástí položky je ",null,null,3]
[null,null,"- Dodávka a montáž příslušného potrubí dle PD ",null,null,null,null,null,null,null,null,"- Dodávka a montáž příslušného potrubí dle PD ",null,null,3]
[null,null,"- Dodávka a montáž propojovacích tvarovek a armatur dle zvolené technologie zhotovitelem potřebné pro provoz provizorního propojení VP",null,null,null,null,null,null,null,null,"- Dodávka a montáž propojovacích tvarovek a armatur dle zvolené technologie zhotovitelem potřebné pro provoz provizorního propojení VP",null,null,3]
[null,null,"- Přerušení stávajícího potrubí přípojky",null,null,null,null,null,null,null,null,"- Přerušení stávajícího potrubí přípojky",null,null,3]
[null,null,"- Provedení tlakové zkoušky včetně proplachu a desinfekce potrubí dle ČSN",null,null,null,null,null,null,null,null,"- Provedení tlakové zkoušky včetně proplachu a desinfekce potrubí dle ČSN",null,null,3]
[null,null,"- Potředné zemní práce pro provedení propoje včetně případného odstranění konstrukcí komunikací a provizorní úprava povrchů v prostoru vedení provizorního vodovodu",null,null,null,null,null,null,null,null,"- Potředné zemní práce pro provedení propoje včetně případného odstranění konstrukcí komunikací a provizorní úprava povrchů v prostoru vedení provizorního vodovodu",null,null,3]
[null,null,"- Demontáž a odpojení propojů provizorní přípojky  včetně potřebných zemních prací.",null,null,null,null,null,null,null,null,"- Demontáž a odpojení propojů provizorní přípojky  včetně potřebných zemních prací.",null,null,3]
[null,null,"- Likvidace veškerého materiálu provizorních vodovodních přípojek",null,null,null,null,null,null,null,null,"- Likvidace veškerého materiálu provizorních vodovodních přípojek",null,null,3]
[null,null,"- Součástí položky jsou i náklady na přesuny materiálů - Součástí položky jsou náklady zhotovitele na poplatky za skládky materiálu",null,null,null,null,null,null,null,null,"- Součástí položky jsou i náklady na přesuny materiálů - Součástí položky jsou náklady zhotovitele na poplatky za skládky materiálu",null,null,3]
[null,"Celkem za","89 Ostatní konstrukce na trubním vedení",null,null,null,{"$f":"SUM(G585:G605)","v":0},null,{"$f":"SUM(I585:I605)","v":0},null,{"$f":"SUM(K585:K605)","v":0},null,null,null,4,null,null,null,null,null,null,null,null,null,null,null,null,null,null,null,null,null,null,null,null,null,null,null,null,null,null,null,null,null,null,null,null,null,null,null,null,null,{"$f":"SUM(BA585:BA605)","v":0},{"$f":"SUM(BB585:BB605)","v":0},{"$f":"SUM(BC585:BC605)","v":0},{"$f":"SUM(BD585:BD605)","v":0},{"$f":"SUM(BE585:BE605)","v":0}]
["Díl:","93","Dokončovací práce inženýrských staveb",null,null,null,null,null,null,null,null,null,null,null,1]
[72,"939421121RT1","Osazení samonivelač.vodovod.poklopu za finišerem bez dodávky poklopu","kus",54,null,{"$f":"E608*F608","v":0},5.2499999999999998E-2,{"$f":"E608*H608","v":2.835},0,{"$f":"E608*J608","v":0},null,null,null,2,null,null,null,null,null,null,null,null,null,null,null,1,0,0,null,null,null,null,null,null,null,null,null,null,null,null,null,null,null,null,null,null,null,null,null,null,1,{"$f":"IF(AZ608=1,G608,0)","v":0},{"$f":"IF(AZ608=2,G608,0)","v":0},{"$f":"IF(AZ608=3,G608,0)","v":0},{"$f":"IF(AZ608=4,G608,0)","v":0},{"$f":"IF(AZ608=5,G608,0)","v":0},null,null,null,null,null,null,null,null,null,null,null,null,null,null,null,null,null,null,null,null,null,1,0]
[null,null,"Položka obsahuje:",null,null,null,null,null,null,null,null,"Položka obsahuje:",null,null,3]
[null,null,"- osazení prefabrikovaného betonového prstence do rychletuhnoucí malty (s dodávkou hmot)",null,null,null,null,null,null,null,null,"- osazení prefabrikovaného betonového prstence do rychletuhnoucí malty (s dodávkou hmot)",null,null,3]
[null,null,"- zalití prstence rychletuhnoucí zálivkou do výše prstence (s dodávkou hmoty)",null,null,null,null,null,null,null,null,"- zalití prstence rychletuhnoucí zálivkou do výše prstence (s dodávkou hmoty)",null,null,3]
[null,null,"- vložení kruhového bednění",null,null,null,null,null,null,null,null,"- vložení kruhového bednění",null,null,3]
[null,null,"- doplnění mezikruží asfaltovou směsí do výšky současné podkladní vrstvy, zhutnění",null,null,null,null,null,null,null,null,"- doplnění mezikruží asfaltovou směsí do výšky současné podkladní vrstvy, zhutnění",null,null,3]
[null,null,"- vyjmutí kruhového bednění",null,null,null,null,null,null,null,null,"- vyjmutí kruhového bednění",null,null,3]
[null,null,"- osazení poklopu a zatlačení",null,null,null,null,null,null,null,null,"- osazení poklopu a zatlačení",null,null,3]
[null,null,"  (následuje pokládka finální vrstvy vozovky - není součástí položky)",null,null,null,null,null,null,null,null,"  (následuje pokládka finální vrstvy vozovky - není součástí položky)",null,null,3]
[null,null,"- povytažení poklopu",null,null,null,null,null,null,null,null,"- povytažení poklopu",null,null,3]
[null,null,"- podsyp asfaltovou směsí, spuštění poklopu a zhutnění směsi",null,null,null,null,null,null,null,null,"- podsyp asfaltovou směsí, spuštění poklopu a zhutnění směsi",null,null,3]
[null,null,"Položka neobsahuje:",null,null,null,null,null,null,null,null,"Položka neobsahuje:",null,null,3]
[null,null,"- dodávku samonivelačního poklopu - oceňuje se ve specifikaci",null,null,null,null,null,null,null,null,"- dodávku samonivelačního poklopu - oceňuje se ve specifikaci",null,null,3]
[null,null,"- pokládku krycí vrstvy komunikace, oceňuje se samostatně",null,null,null,null,null,null,null,null,"- pokládku krycí vrstvy komunikace, oceňuje se samostatně",null,null,3]
[null,null,"Vodovod TLT DN80 :",null,0,null,null,null,null,null,null,null,"Vodovod TLT DN80 :"]
[null,null,"Pro Šoupě DN80 v asfaltu:23+1",null,24,null,null,null,null,null,null,null,"Pro Šoupě DN80 v asfaltu:23+1"]
[null,null,"Pro Ventil VP v asfaltu:30",null,30,null,null,null,null,null,null,null,"Pro Ventil VP v asfaltu:30"]
[73,"939421131RT1","Osazení samonivelač.hydrant.poklopu za finišerem bez dodávky poklopu","kus",7,null,{"$f":"E625*F625","v":0},6.8250000000000005E-2,{"$f":"E625*H625","v":0.47775000000000001},0,{"$f":"E625*J625","v":0},null,null,null,2,null,null,null,null,null,null,null,null,null,null,null,1,1,1,null,null,null,null,null,null,null,null,null,null,null,null,null,null,null,null,null,null,null,null,null,null,1,{"$f":"IF(AZ625=1,G625,0)","v":0},{"$f":"IF(AZ625=2,G625,0)","v":0},{"$f":"IF(AZ625=3,G625,0)","v":0},{"$f":"IF(AZ625=4,G625,0)","v":0},{"$f":"IF(AZ625=5,G625,0)","v":0},null,null,null,null,null,null,null,null,null,null,null,null,null,null,null,null,null,null,null,null,null,1,1]
[null,null,"Položka obsahuje:",null,null,null,null,null,null,null,null,"Položka obsahuje:",null,null,3]
[null,null,"- osazení prefabrikovaného betonového prstence do rychletuhnoucí malty (s dodávkou hmot)",null,null,null,null,null,null,null,null,"- osazení prefabrikovaného betonového prstence do rychletuhnoucí malty (s dodávkou hmot)",null,null,3]
[null,null,"- zalití prstence rychletuhnoucí zálivkou do výše prstence (s dodávkou hmoty)",null,null,null,null,null,null,null,null,"- zalití prstence rychletuhnoucí zálivkou do výše prstence (s dodávkou hmoty)",null,null,3]
[null,null,"- vložení kruhového bednění",null,null,null,null,null,null,null,null,"- vložení kruhového bednění",null,null,3]
[null,null,"- doplnění mezikruží asfaltovou směsí do výšky současné podkladní vrstvy, zhutnění",null,null,null,null,null,null,null,null,"- doplnění mezikruží asfaltovou směsí do výšky současné podkladní vrstvy, zhutnění",null,null,3]
[null,null,"- vyjmutí kruhového bednění",null,null,null,null,null,null,null,null,"- vyjmutí kruhového bednění",null,null,3]
[null,null,"- osazení poklopu a zatlačení",null,null,null,null,null,null,null,null,"- osazení poklopu a zatlačení",null,null,3]
[null,null,"  (následuje pokládka finální vrstvy vozovky - není součástí položky)",null,null,null,null,null,null,null,null,"  (následuje pokládka finální vrstvy vozovky - není součástí položky)",null,null,3]
[null,null,"- povytažení poklopu",null,null,null,null,null,null,null,null,"- povytažení poklopu",null,null,3]
[null,null,"- podsyp asfaltovou směsí, spuštění poklopu a zhutnění směsi",null,null,null,null,null,null,null,null,"- podsyp asfaltovou směsí, spuštění poklopu a zhutnění směsi",null,null,3]
[null,null,"Položka neobsahuje:",null,null,null,null,null,null,null,null,"Položka neobsahuje:",null,null,3]
[null,null,"- dodávku samonivelačního poklopu - oceňuje se ve specifikaci",null,null,null,null,null,null,null,null,"- dodávku samonivelačního poklopu - oceňuje se ve specifikaci",null,null,3]
[null,null,"- pokládku krycí vrstvy komunikace, oceňuje se samostatně",null,null,null,null,null,null,null,null,"- pokládku krycí vrstvy komunikace, oceňuje se samostatně",null,null,3]
[null,null,"Vodovod TLT DN80 :",null,0,null,null,null,null,null,null,null,"Vodovod TLT DN80 :"]
[null,null,"Pro Hp DN80/1,5 v asfaltu:6+1",null,7,null,null,null,null,null,null,null,"Pro Hp DN80/1,5 v asfaltu:6+1"]
[74,"422913520.R","Poklop luliční samonivelační přípojkový D400","kus",30,null,{"$f":"E641*F641","v":0},1.2E-2,{"$f":"E641*H641","v":0.36},null,{"$f":"E641*J641","v":0},null,null,null,2,null,null,null,null,null,null,null,null,null,null,null,3,1,"422913520.R",null,null,null,null,null,null,null,null,null,null,null,null,null,null,null,null,null,null,null,null,null,null,1,{"$f":"IF(AZ641=1,G641,0)","v":0},{"$f":"IF(AZ641=2,G641,0)","v":0},{"$f":"IF(AZ641=3,G641,0)","v":0},{"$f":"IF(AZ641=4,G641,0)","v":0},{"$f":"IF(AZ641=5,G641,0)","v":0},null,null,null,null,null,null,null,null,null,null,null,null,null,null,null,null,null,null,null,null,null,3,1]
[null,null,"Uliční samonivelační poklop přípojkový z tvárné litiny dle ČSN EN 124",null,null,null,null,null,null,null,null,"Uliční samonivelační poklop přípojkový z tvárné litiny dle ČSN EN 124",null,null,3]
[null,null,"Rozpětí stavební výšky 195 - 285 mm s fixací polohy",null,null,null,null,null,null,null,null,"Rozpětí stavební výšky 195 - 285 mm s fixací polohy",null,null,3]
[null,null,"Výklopové víko spojeno s rámem čepem a opatřeno ochrannou a těsnící vrstvou proti vnikání nečistot",null,null,null,null,null,null,null,null,"Výklopové víko spojeno s rámem čepem a opatřeno ochrannou a těsnící vrstvou proti vnikání nečistot",null,null,3]
[null,null,"Tlumicí vložka z elastomeru a PUR",null,null,null,null,null,null,null,null,"Tlumicí vložka z elastomeru a PUR",null,null,3]
[null,null,"Možnost vlastního loga a barevného provedení",null,null,null,null,null,null,null,null,"Možnost vlastního loga a barevného provedení",null,null,3]
[null,null,"Vodovod TLT DN80 :",null,0,null,null,null,null,null,null,null,"Vodovod TLT DN80 :"]
[null,null,"Pro Ventil VP v asfaltu:30",null,30,null,null,null,null,null,null,null,"Pro Ventil VP v asfaltu:30"]
[75,"422913521.R","Poklop litinový samonivelační šoupátkový D400","kus",24,null,{"$f":"E649*F649","v":0},1.2E-2,{"$f":"E649*H649","v":0.28800000000000003},null,{"$f":"E649*J649","v":0},null,null,null,2,null,null,null,null,null,null,null,null,null,null,null,3,1,"422913521.R",null,null,null,null,null,null,null,null,null,null,null,null,null,null,null,null,null,null,null,null,null,null,1,{"$f":"IF(AZ649=1,G649,0)","v":0},{"$f":"IF(AZ649=2,G649,0)","v":0},{"$f":"IF(AZ649=3,G649,0)","v":0},{"$f":"IF(AZ649=4,G649,0)","v":0},{"$f":"IF(AZ649=5,G649,0)","v":0},null,null,null,null,null,null,null,null,null,null,null,null,null,null,null,null,null,null,null,null,null,3,1]
[null,null,"Uliční samonivelační šoupátkový poklop z tvárné litiny dle ČSN EN 124",null,null,null,null,null,null,null,null,"Uliční samonivelační šoupátkový poklop z tvárné litiny dle ČSN EN 124",null,null,3]
[null,null,"Rozpětí stavební výšky 195 - 285 mm s fixací polohy",null,null,null,null,null,null,null,null,"Rozpětí stavební výšky 195 - 285 mm s fixací polohy",null,null,3]
[null,null,"Výklopové víko spojeno s rámem čepem a opatřeno ochrannou a těsnící vrstvou proti vnikání nečistot",null,null,null,null,null,null,null,null,"Výklopové víko spojeno s rámem čepem a opatřeno ochrannou a těsnící vrstvou proti vnikání nečistot",null,null,3]
[null,null,"Tlumicí vložka z elastomeru a PUR",null,null,null,null,null,null,null,null,"Tlumicí vložka z elastomeru a PUR",null,null,3]
[null,null,"Možnost vlastního loga a barevného provedení",null,null,null,null,null,null,null,null,"Možnost vlastního loga a barevného provedení",null,null,3]
[null,null,"Vodovod TLT DN80 :",null,0,null,null,null,null,null,null,null,"Vodovod TLT DN80 :"]
[null,null,"Pro Šoupě DN80 v asfaltu:23+1",null,24,null,null,null,null,null,null,null,"Pro Šoupě DN80 v asfaltu:23+1"]
[76,"422914522.R","Poklop litinový hydrantový samonivelační D400","kus",7,null,{"$f":"E657*F657","v":0},2.4E-2,{"$f":"E657*H657","v":0.16800000000000001},null,{"$f":"E657*J657","v":0},null,null,null,2,null,null,null,null,null,null,null,null,null,null,null,3,1,"422914522.R",null,null,null,null,null,null,null,null,null,null,null,null,null,null,null,null,null,null,null,null,null,null,1,{"$f":"IF(AZ657=1,G657,0)","v":0},{"$f":"IF(AZ657=2,G657,0)","v":0},{"$f":"IF(AZ657=3,G657,0)","v":0},{"$f":"IF(AZ657=4,G657,0)","v":0},{"$f":"IF(AZ657=5,G657,0)","v":0},null,null,null,null,null,null,null,null,null,null,null,null,null,null,null,null,null,null,null,null,null,3,1]
[null,null,"Uliční samonivelační hydrantový poklop z tvárné litiny dle ČSN EN 124",null,null,null,null,null,null,null,null,"Uliční samonivelační hydrantový poklop z tvárné litiny dle ČSN EN 124",null,null,3]
[null,null,"Rozpětí stavební výšky 200 - 285 mm s fixací polohy",null,null,null,null,null,null,null,null,"Rozpětí stavební výšky 200 - 285 mm s fixací polohy",null,null,3]
[null,null,"Výklopové víko spojeno s rámem čepem a opatřeno ochrannou a těsnící vrstvou proti vnikání nečistot",null,null,null,null,null,null,null,null,"Výklopové víko spojeno s rámem čepem a opatřeno ochrannou a těsnící vrstvou proti vnikání nečistot",null,null,3]
[null,null,"Tlumicí vložka z elastomeru a PUR",null,null,null,null,null,null,null,null,"Tlumicí vložka z elastomeru a PUR",null,null,3]
[null,null,"Možnost vlastního loga a barevného provedení",null,null,null,null,null,null,null,null,"Možnost vlastního loga a barevného provedení",null,null,3]
[null,null,"Vodovod TLT DN80 :",null,0,null,null,null,null,null,null,null,"Vodovod TLT DN80 :"]
[null,null,"Pro Hp DN80/1,5 v asfaltu:6+1",null,7,null,null,null,null,null,null,null,"Pro Hp DN80/1,5 v asfaltu:6+1"]
[null,"Celkem za","93 Dokončovací práce inženýrských staveb",null,null,null,{"$f":"SUM(G607:G664)","v":0},null,{"$f":"SUM(I607:I664)","v":4.1287500000000001},null,{"$f":"SUM(K607:K664)","v":0},null,null,null,4,null,null,null,null,null,null,null,null,null,null,null,null,null,null,null,null,null,null,null,null,null,null,null,null,null,null,null,null,null,null,null,null,null,null,null,null,null,{"$f":"SUM(BA607:BA664)","v":0},{"$f":"SUM(BB607:BB664)","v":0},{"$f":"SUM(BC607:BC664)","v":0},{"$f":"SUM(BD607:BD664)","v":0},{"$f":"SUM(BE607:BE664)","v":0}]
["Díl:","99","Staveništní přesun hmot",null,null,null,null,null,null,null,null,null,null,null,1]
[77,"998273101R00","Přesun hmot, trubní vedení litinové, otevř. výkop ","t",1405.6300482199999,null,{"$f":"E667*F667","v":0},0,{"$f":"E667*H667","v":0},null,{"$f":"E667*J667","v":0},null,null,null,2,null,null,null,null,null,null,null,null,null,null,null,7,1,2,null,null,null,null,null,null,null,null,null,null,null,null,null,null,null,null,null,null,null,null,null,null,1,{"$f":"IF(AZ667=1,G667,0)","v":0},{"$f":"IF(AZ667=2,G667,0)","v":0},{"$f":"IF(AZ667=3,G667,0)","v":0},{"$f":"IF(AZ667=4,G667,0)","v":0},{"$f":"IF(AZ667=5,G667,0)","v":0},null,null,null,null,null,null,null,null,null,null,null,null,null,null,null,null,null,null,null,null,null,7,1]
[null,"Celkem za","99 Staveništní přesun hmot",null,null,null,{"$f":"SUM(G666:G667)","v":0},null,{"$f":"SUM(I666:I667)","v":0},null,{"$f":"SUM(K666:K667)","v":0},null,null,null,4,null,null,null,null,null,null,null,null,null,null,null,null,null,null,null,null,null,null,null,null,null,null,null,null,null,null,null,null,null,null,null,null,null,null,null,null,null,{"$f":"SUM(BA666:BA667)","v":0},{"$f":"SUM(BB666:BB667)","v":0},{"$f":"SUM(BC666:BC667)","v":0},{"$f":"SUM(BD666:BD667)","v":0},{"$f":"SUM(BE666:BE667)","v":0}]

{"sheet":"301.2 3332301.2 KL","index":10,"n_rows":45,"n_cols":8,"rows_kept":45,"cut":false,"hidden":false,"merged":[[50,1,50,6],[29,5,29,6],[30,5,30,6],[31,5,31,6],[32,5,32,6],[33,5,33,6],[36,1,44,6],[45,1,45,6],[46,1,46,6],[47,1,47,6],[48,1,48,6],[49,1,49,6],[22,0,22,1],[7,2,7,4],[8,2,8,4],[9,2,9,4],[10,2,10,4],[11,2,11,4]]}
["POLOŽKOVÝ ROZPOČET"]
["Rozpočet",null,"3332/301.2","Vodovod - 2.část",null,"JKSO ","827.11.A1"]
[]
["Objekt",null,null,null,null,"SKP "]
["301.2",null,"Vodovod - 2.část",null,null,"Měrná jednotka","m"]
["Stavba",null,null,null,null,"Počet jednotek",0]
["3332",null,"Obnova vodovodu a kanalizace  v Obci Loučky",null,null,"Náklady na m.j.",{"$f":"IF(G6=0,,ROUND((F30+F32)/G6,1))","v":0}]
["Projektant",null,"LK PROJEKT s.r.o.",null,null,"Typ rozpočtu"]
["Zpracovatel projektu"]
["Objednatel",null,"Vodohospodářské sdružení Turnov"]
["Dodavatel",null,".",null,null,"Zakázkové číslo "]
["Rozpočtoval",null,null,null,null,"Počet listů"]
["ROZPOČTOVÉ NÁKLADY"]
["Základní rozpočtové náklady"]
[null,"HSV celkem",{"$f":"'301.2 3332301.2 Rek'!E14","v":0}]
["Z","PSV celkem",{"$f":"'301.2 3332301.2 Rek'!F14","v":0}]
["R","M práce celkem",{"$f":"'301.2 3332301.2 Rek'!H14","v":0}]
["N","M dodávky celkem",{"$f":"'301.2 3332301.2 Rek'!G14","v":0}]
["ZRN celkem",null,{"$f":"SUM(C15:C18)","v":0}]
[]
["HZS",null,{"$f":"'301.2 3332301.2 Rek'!I14","v":0}]
["ZRN+HZS",null,{"$f":"C19+C21","v":0}]
["ZRN+ost.náklady+HZS",null,{"$f":"C22+G23","v":0}]
["Vypracoval",null,null,"Za zhotovitele",null,"Za objednatele"]
["Jméno :",null,null,"Jméno :",null,"Jméno :"]
["Datum :",null,null,"Datum :",null,"Datum :"]
[]
["Podpis :",null,null,"Podpis:",null,"Podpis:"]
[]
["Základ pro DPH",null,21,"%  ",null,{"$f":"C23-F32","v":0}]
["DPH",null,{"$f":"C30","v":21},"% ",null,{"$f":"ROUND(PRODUCT(F30,C31/100),0)","v":0}]
["Základ pro DPH",null,0,"% ",null,0]
["DPH",null,{"$f":"C32","v":0},"% ",null,{"$f":"ROUND(PRODUCT(F32,C33/100),0)","v":0}]
["CENA ZA OBJEKT CELKEM",null,null,null,null,{"$f":"ROUND(SUM(F30:F33),0)","v":0}]
[]
["Poznámka :",null,null,null,null,null,null," "]
[null,null,null,null,null,null,null," "]
[null,null,null,null,null,null,null," "]
[null,null,null,null,null,null,null," "]
[null,null,null,null,null,null,null," "]
[null,null,null,null,null,null,null," "]
[null,null,null,null,null,null,null," "]
[null,null,null,null,null,null,null," "]
[null,null,null,null,null,null,null," "]
[null,null,null,null,null,null,null," "]

{"sheet":"301.2 3332301.2 Rek","index":11,"n_rows":14,"n_cols":9,"rows_kept":14,"cut":false,"hidden":false,"merged":[[0,0,0,1],[1,0,1,1],[1,6,1,8]]}
["Stavba :",null,"3332 Obnova vodovodu a kanalizace  v Obci Loučky",null,null,null,"Rozpočet :","3332/301.2"]
["Objekt :",null,"301.2 Vodovod - 2.část",null,null,null,"Vodovod - 2.část"]
[]
["REKAPITULACE  STAVEBNÍCH  DÍLŮ"]
[]
[null,"Stavební díl",null,null,"HSV","PSV","Dodávka","Montáž","HZS"]
[{"$f":"'301.2 3332301.2 Pol'!B7","v":"1"},{"$f":"'301.2 3332301.2 Pol'!C7","v":"Zemní práce"},null,null,{"$f":"'301.2 3332301.2 Pol'!BA158","v":0},{"$f":"'301.2 3332301.2 Pol'!BB158","v":0},{"$f":"'301.2 3332301.2 Pol'!BC158","v":0},{"$f":"'301.2 3332301.2 Pol'!BD158","v":0},{"$f":"'301.2 3332301.2 Pol'!BE158","v":0}]
[{"$f":"'301.2 3332301.2 Pol'!B159","v":"45"},{"$f":"'301.2 3332301.2 Pol'!C159","v":"Podkladní a vedlejší konstrukce"},null,null,{"$f":"'301.2 3332301.2 Pol'!BA168","v":0},{"$f":"'301.2 3332301.2 Pol'!BB168","v":0},{"$f":"'301.2 3332301.2 Pol'!BC168","v":0},{"$f":"'301.2 3332301.2 Pol'!BD168","v":0},{"$f":"'301.2 3332301.2 Pol'!BE168","v":0}]
[{"$f":"'301.2 3332301.2 Pol'!B169","v":"5"},{"$f":"'301.2 3332301.2 Pol'!C169","v":"Komunikace"},null,null,{"$f":"'301.2 3332301.2 Pol'!BA178","v":0},{"$f":"'301.2 3332301.2 Pol'!BB178","v":0},{"$f":"'301.2 3332301.2 Pol'!BC178","v":0},{"$f":"'301.2 3332301.2 Pol'!BD178","v":0},{"$f":"'301.2 3332301.2 Pol'!BE178","v":0}]
[{"$f":"'301.2 3332301.2 Pol'!B179","v":"8"},{"$f":"'301.2 3332301.2 Pol'!C179","v":"Trubní vedení"},null,null,{"$f":"'301.2 3332301.2 Pol'!BA309","v":0},{"$f":"'301.2 3332301.2 Pol'!BB309","v":0},{"$f":"'301.2 3332301.2 Pol'!BC309","v":0},{"$f":"'301.2 3332301.2 Pol'!BD309","v":0},{"$f":"'301.2 3332301.2 Pol'!BE309","v":0}]
[{"$f":"'301.2 3332301.2 Pol'!B310","v":"89"},{"$f":"'301.2 3332301.2 Pol'!C310","v":"Ostatní konstrukce na trubním vedení"},null,null,{"$f":"'301.2 3332301.2 Pol'!BA331","v":0},{"$f":"'301.2 3332301.2 Pol'!BB331","v":0},{"$f":"'301.2 3332301.2 Pol'!BC331","v":0},{"$f":"'301.2 3332301.2 Pol'!BD331","v":0},{"$f":"'301.2 3332301.2 Pol'!BE331","v":0}]
[{"$f":"'301.2 3332301.2 Pol'!B332","v":"93"},{"$f":"'301.2 3332301.2 Pol'!C332","v":"Dokončovací práce inženýrských staveb"},null,null,{"$f":"'301.2 3332301.2 Pol'!BA390","v":0},{"$f":"'301.2 3332301.2 Pol'!BB390","v":0},{"$f":"'301.2 3332301.2 Pol'!BC390","v":0},{"$f":"'301.2 3332301.2 Pol'!BD390","v":0},{"$f":"'301.2 3332301.2 Pol'!BE390","v":0}]
[{"$f":"'301.2 3332301.2 Pol'!B391","v":"99"},{"$f":"'301.2 3332301.2 Pol'!C391","v":"Staveništní přesun hmot"},null,null,{"$f":"'301.2 3332301.2 Pol'!BA393","v":0},{"$f":"'301.2 3332301.2 Pol'!BB393","v":0},{"$f":"'301.2 3332301.2 Pol'!BC393","v":0},{"$f":"'301.2 3332301.2 Pol'!BD393","v":0},{"$f":"'301.2 3332301.2 Pol'!BE393","v":0}]
[null,"CELKEM  OBJEKT",null,null,{"$f":"SUM(E7:E13)","v":0},{"$f":"SUM(F7:F13)","v":0},{"$f":"SUM(G7:G13)","v":0},{"$f":"SUM(H7:H13)","v":0},{"$f":"SUM(I7:I13)","v":0}]

{"sheet":"301.2 3332301.2 Pol","index":12,"n_rows":393,"n_cols":80,"rows_kept":393,"cut":false,"hidden":false,"merged":[[386,2,386,6],[387,2,387,3],[388,2,388,3],[379,2,379,3],[380,2,380,3],[382,2,382,6],[383,2,383,6],[384,2,384,6],[385,2,385,6],[372,2,372,3],[374,2,374,6],[375,2,375,6],[376,2,376,6],[377,2,377,6],[378,2,378,6],[366,2,366,6],[367,2,367,6],[368,2,368,6],[369,2,369,6],[370,2,370,6],[371,2,371,3],[359,2,359,6],[360,2,360,6],[361,2,361,6],[362,2,362,6],[363,2,363,3],[364,2,364,3],[353,2,353,6],[354,2,354,6],[355,2,355,6],[356,2,356,6],[357,2,357,6],[358,2,358,6],[346,2,346,3],[347,2,347,3],[348,2,348,3],[350,2,350,6],[351,2,351,6],[352,2,352,6],[333,2,333,6],[334,2,334,6],[335,2,335,6],[336,2,336,6],[337,2,337,6],[338,2,338,6],[339,2,339,6],[340,2,340,6],[341,2,341,6],[325,2,325,6],[326,2,326,6],[327,2,327,6],[328,2,328,6],[329,2,329,6],[342,2,342,6],[343,2,343,6],[344,2,344,6],[345,2,345,6],[318,2,318,6],[319,2,319,6],[321,2,321,6],[322,2,322,6],[323,2,323,6],[324,2,324,6],[307,2,307,6],[311,2,311,6],[312,2,312,6],[313,2,313,6],[314,2,314,6],[315,2,315,6],[316,2,316,6],[317,2,317,6],[297,2,297,3],[298,2,298,3],[300,2,300,3],[301,2,301,3],[303,2,303,3],[304,2,304,3],[289,2,289,6],[290,2,290,6],[291,2,291,3],[292,2,292,3],[294,2,294,3],[295,2,295,3],[282,2,282,3],[283,2,283,3],[284,2,284,3],[286,2,286,6],[287,2,287,6],[288,2,288,6],[274,2,274,6],[275,2,275,3],[276,2,276,3],[277,2,277,3],[279,2,279,3],[280,2,280,3],[267,2,267,3],[269,2,269,6],[270,2,270,6],[271,2,271,6],[272,2,272,6],[273,2,273,6],[263,2,263,3],[264,2,264,3],[266,2,266,3],[256,2,256,3],[257,2,257,3],[258,2,258,3],[260,2,260,3],[261,2,261,3],[250,2,250,3],[251,2,251,3],[253,2,253,3],[254,2,254,3],[243,2,243,3],[244,2,244,3],[245,2,245,3],[246,2,246,3],[247,2,247,3],[248,2,248,3],[236,2,236,3],[237,2,237,3],[238,2,238,3],[240,2,240,6],[241,2,241,3],[242,2,242,3],[228,2,228,3],[229,2,229,3],[231,2,231,6],[232,2,232,3],[233,2,233,3],[235,2,235,3],[221,2,221,6],[222,2,222,3],[223,2,223,3],[225,2,225,6],[226,2,226,3],[227,2,227,3],[213,2,213,3],[214,2,214,3],[215,2,215,3],[217,2,217,3],[218,2,218,3],[219,2,219,3],[206,2,206,6],[207,2,207,3],[208,2,208,3],[209,2,209,3],[211,2,211,6],[212,2,212,6],[198,2,198,3],[199,2,199,3],[201,2,201,6],[202,2,202,3],[203,2,203,3],[205,2,205,6],[190,2,190,3],[191,2,191,3],[192,2,192,3],[194,2,194,6],[195,2,195,3],[196,2,196,3],[180,2,180,6],[181,2,181,3],[182,2,182,3],[184,2,184,6],[185,2,185,3],[186,2,186,3],[187,2,187,3],[189,2,189,6],[166,2,166,3],[170,2,170,3],[171,2,171,3],[172,2,172,3],[174,2,174,3],[175,2,175,3],[176,2,176,3],[154,2,154,3],[155,2,155,3],[156,2,156,3],[160,2,160,3],[161,2,161,3],[162,2,162,3],[163,2,163,3],[165,2,165,3],[148,2,148,3],[149,2,149,3],[150,2,150,3],[151,2,151,3],[152,2,152,3],[153,2,153,3],[141,2,141,3],[142,2,142,3],[143,2,143,3],[144,2,144,3],[145,2,145,3],[147,2,147,3],[132,2,132,3],[133,2,133,3],[137,2,137,6],[139,2,139,3],[140,2,140,3],[125,2,125,3],[126,2,126,3],[127,2,127,3],[128,2,128,3],[129,2,129,3],[130,2,130,3],[119,2,119,3],[120,2,120,3],[121,2,121,3],[122,2,122,3],[123,2,123,3],[124,2,124,3],[111,2,111,3],[112,2,112,3],[114,2,114,3],[115,2,115,3],[116,2,116,3],[117,2,117,3],[105,2,105,3],[106,2,106,3],[107,2,107,3],[108,2,108,3],[109,2,109,3],[110,2,110,3],[99,2,99,3],[100,2,100,3],[101,2,101,3],[102,2,102,3],[103,2,103,3],[104,2,104,3],[93,2,93,3],[94,2,94,3],[96,2,96,6],[97,2,97,3],[98,2,98,3],[87,2,87,3],[88,2,88,3],[89,2,89,3],[90,2,90,3],[91,2,91,3],[92,2,92,3],[80,2,80,3],[81,2,81,3],[83,2,83,3],[84,2,84,3],[85,2,85,3],[86,2,86,3],[73,2,73,3],[74,2,74,3],[75,2,75,3],[76,2,76,3],[78,2,78,3],[79,2,79,3],[66,2,66,3],[67,2,67,3],[68,2,68,3],[69,2,69,3],[70,2,70,3],[71,2,71,3],[59,2,59,3],[60,2,60,3],[61,2,61,3],[63,2,63,3],[64,2,64,3],[65,2,65,3],[53,2,53,3],[54,2,54,3],[55,2,55,3],[56,2,56,3],[57,2,57,3],[58,2,58,3],[46,2,46,3],[47,2,47,3],[48,2,48,3],[49,2,49,3],[50,2,50,3],[52,2,52,6],[39,2,39,3],[40,2,40,3],[42,2,42,3],[43,2,43,3],[44,2,44,3],[45,2,45,3],[33,2,33,3],[34,2,34,3],[35,2,35,3],[36,2,36,3],[37,2,37,3],[38,2,38,3],[27,2,27,3],[28,2,28,3],[29,2,29,3],[31,2,31,6],[32,2,32,3],[23,2,23,3],[24,2,24,3],[25,2,25,3],[26,2,26,3],[12,2,12,3],[13,2,13,3],[17,2,17,3],[18,2,18,3],[20,2,20,6],[0,0,0,6],[2,0,2,1],[3,0,3,1],[3,4,3,6],[8,2,8,3],[9,2,9,3],[11,2,11,6],[21,2,21,3],[22,2,22,3]]}
["Položkový rozpočet "]
[]
["Stavba :",null,"3332 Obnova vodovodu a kanalizace  v Obci Loučky",null,"Rozpočet:",{"$f":"'301.2 3332301.2 Rek'!H1","v":"3332/301.2"}]
["Objekt :",null,"301.2 Vodovod - 2.část",null,{"$f":"'301.2 3332301.2 Rek'!G2","v":"Vodovod - 2.část"}]
[]
["P.č.","Číslo položky","Název položky","MJ","množství","cena / MJ","celkem (Kč)","Jednotková hmotnost","Celková hmotnost","Jednotková dem.hmot.","Celková dem.hmot."]
["Díl:","1","Zemní práce",null,null,null,null,null,null,null,null,null,null,null,1]
[1,"113107625R00","Odstranění podkladu nad 50 m2,kam.drcené tl.25 cm ","m2",117.15,null,{"$f":"E8*F8","v":0},0,{"$f":"E8*H8","v":0},-0.55000000000000004,{"$f":"E8*J8","v":-64.432500000000005},null,null,null,2,null,null,null,null,null,null,null,null,null,null,null,1,1,1,null,null,null,null,null,null,null,null,null,null,null,null,null,null,null,null,null,null,null,null,null,null,1,{"$f":"IF(AZ8=1,G8,0)","v":0},{"$f":"IF(AZ8=2,G8,0)","v":0},{"$f":"IF(AZ8=3,G8,0)","v":0},{"$f":"IF(AZ8=4,G8,0)","v":0},{"$f":"IF(AZ8=5,G8,0)","v":0},null,null,null,null,null,null,null,null,null,null,null,null,null,null,null,null,null,null,null,null,null,1,1]
[null,null,"Vodovod:128,50*0,80",null,102.8,null,null,null,null,null,null,null,"Vodovod:128,50*0,80"]
[null,null,"VP:41,00*0,5*0,70",null,14.35,null,null,null,null,null,null,null,"VP:41,00*0,5*0,70"]
[2,"113108415R00","Odstranění asfaltové vrstvy pl.nad 50 m2, tl.15 cm ","m2",117.15,null,{"$f":"E11*F11","v":0},0,{"$f":"E11*H11","v":0},-0.33,{"$f":"E11*J11","v":-38.659500000000001},null,null,null,2,null,null,null,null,null,null,null,null,null,null,null,1,1,1,null,null,null,null,null,null,null,null,null,null,null,null,null,null,null,null,null,null,null,null,null,null,1,{"$f":"IF(AZ11=1,G11,0)","v":0},{"$f":"IF(AZ11=2,G11,0)","v":0},{"$f":"IF(AZ11=3,G11,0)","v":0},{"$f":"IF(AZ11=4,G11,0)","v":0},{"$f":"IF(AZ11=5,G11,0)","v":0},null,null,null,null,null,null,null,null,null,null,null,null,null,null,null,null,null,null,null,null,null,1,1]
[null,null,"Položka není určena pro odstranění podkladu nebo krytu frézováním.",null,null,null,null,null,null,null,null,"Položka není určena pro odstranění podkladu nebo krytu frézováním.",null,null,3]
[null,null,"Vodovod:128,50*0,80",null,102.8,null,null,null,null,null,null,null,"Vodovod:128,50*0,80"]
[null,null,"VP:41,00*0,5*0,70",null,14.35,null,null,null,null,null,null,null,"VP:41,00*0,5*0,70"]
[3,"119001401R00","Dočasné zajištění ocelového potrubí do DN 200 mm ","m",10,null,{"$f":"E15*F15","v":0},8.6899999999999998E-3,{"$f":"E15*H15","v":8.6900000000000005E-2},0,{"$f":"E15*J15","v":0},null,null,null,2,null,null,null,null,null,null,null,null,null,null,null,1,1,1,null,null,null,null,null,null,null,null,null,null,null,null,null,null,null,null,null,null,null,null,null,null,1,{"$f":"IF(AZ15=1,G15,0)","v":0},{"$f":"IF(AZ15=2,G15,0)","v":0},{"$f":"IF(AZ15=3,G15,0)","v":0},{"$f":"IF(AZ15=4,G15,0)","v":0},{"$f":"IF(AZ15=5,G15,0)","v":0},null,null,null,null,null,null,null,null,null,null,null,null,null,null,null,null,null,null,null,null,null,1,1]
[4,"119001422R00","Dočasné zajištění kabelů - v počtu 3 - 6 kabelů ","m",4,null,{"$f":"E16*F16","v":0},3.9739999999999998E-2,{"$f":"E16*H16","v":0.15895999999999999},0,{"$f":"E16*J16","v":0},null,null,null,2,null,null,null,null,null,null,null,null,null,null,null,1,1,1,null,null,null,null,null,null,null,null,null,null,null,null,null,null,null,null,null,null,null,null,null,null,1,{"$f":"IF(AZ16=1,G16,0)","v":0},{"$f":"IF(AZ16=2,G16,0)","v":0},{"$f":"IF(AZ16=3,G16,0)","v":0},{"$f":"IF(AZ16=4,G16,0)","v":0},{"$f":"IF(AZ16=5,G16,0)","v":0},null,null,null,null,null,null,null,null,null,null,null,null,null,null,null,null,null,null,null,null,null,1,1]
[5,"121100002RAA","Sejmutí ornice a uložení na deponii zpětný přesun, rozprostření v tl. 20 cm, osetí","m3",8.1999999999999993,null,{"$f":"E17*F17","v":0},0,{"$f":"E17*H17","v":0},0,{"$f":"E17*J17","v":0},null,null,null,2,null,null,null,null,null,null,null,null,null,null,null,1,1,1,null,null,null,null,null,null,null,null,null,null,null,null,null,null,null,null,null,null,null,null,null,null,1,{"$f":"IF(AZ17=1,G17,0)","v":0},{"$f":"IF(AZ17=2,G17,0)","v":0},{"$f":"IF(AZ17=3,G17,0)","v":0},{"$f":"IF(AZ17=4,G17,0)","v":0},{"$f":"IF(AZ17=5,G17,0)","v":0},null,null,null,null,null,null,null,null,null,null,null,null,null,null,null,null,null,null,null,null,null,1,1]
[null,null,"Vodovod TLT DN80 :",null,0,null,null,null,null,null,null,null,"Vodovod TLT DN80 :"]
[null,null,"Vodovod TLT DN80 - VP PE D 32x3,0 mm:41,00*0,5*2,00*0,20",null,8.1999999999999993,null,null,null,null,null,null,null,"Vodovod TLT DN80 - VP PE D 32x3,0 mm:41,00*0,5*2,00*0,20"]
[6,"130001101RRX","Příplatek za ztížené hloubení v blízkosti vedení ","m3",29.504000000000001,null,{"$f":"E20*F20","v":0},0,{"$f":"E20*H20","v":0},0,{"$f":"E20*J20","v":0},null,null,null,2,null,null,null,null,null,null,null,null,null,null,null,1,1,1,null,null,null,null,null,null,null,null,null,null,null,null,null,null,null,null,null,null,null,null,null,null,1,{"$f":"IF(AZ20=1,G20,0)","v":0},{"$f":"IF(AZ20=2,G20,0)","v":0},{"$f":"IF(AZ20=3,G20,0)","v":0},{"$f":"IF(AZ20=4,G20,0)","v":0},{"$f":"IF(AZ20=5,G20,0)","v":0},null,null,null,null,null,null,null,null,null,null,null,null,null,null,null,null,null,null,null,null,null,1,1]
[null,null,"Včetně případných nutných dokopávem a ručního výkopu podél sousedících inženýrských sítí",null,null,null,null,null,null,null,null,"Včetně případných nutných dokopávem a ručního výkopu podél sousedících inženýrských sítí",null,null,3]
[null,null,"Začátek provozního součtu",null,0,null,null,null,null,null,null,null,"Začátek provozního součtu"]
[null,null,"Vodovod TLT DN80 :",null,0,null,null,null,null,null,null,null,"Vodovod TLT DN80 :"]
[null,null,"Průměrná hloubka výkopů 1,50 m:",null,0,null,null,null,null,null,null,null,"Průměrná hloubka výkopů 1,50 m:"]
[null,null,"\"VL1A\" - Vyvedení mimo komunikaci:128,50*0,80*1,50",null,154.19999999999999,null,null,null,null,null,null,null,"\"VL1A\" - Vyvedení mimo komunikaci:128,50*0,80*1,50"]
[null,null,"Vodovod TLT DN80 - VP PE D 32x3,0 mm:41,00*0,70*1,50",null,43.05,null,null,null,null,null,null,null,"Vodovod TLT DN80 - VP PE D 32x3,0 mm:41,00*0,70*1,50"]
[null,null,"Odpočet objemu konstrukcí komunikace, chodníků a ZP:-(128,50*0,80+41,00*0,5*0,70)*0,40",null,-46.86,null,null,null,null,null,null,null,"Odpočet objemu konstrukcí komunikace, chodníků a ZP:-(128,50*0,80+41,00*0,5*0,70)*0,40"]
[null,null,"Odpočet ornice:-(41,00*0,5*0,70)*0,20",null,-2.87,null,null,null,null,null,null,null,"Odpočet ornice:-(41,00*0,5*0,70)*0,20"]
[null,null,"Konec provozního součtu",null,147.51999999999998,null,null,null,null,null,null,null,"Konec provozního součtu"]
[null,null,"V hornině tř. 3 - 4 - 20%:147,5200*0,2",null,29.504000000000001,null,null,null,null,null,null,null,"V hornině tř. 3 - 4 - 20%:147,5200*0,2"]
[7,"132201212R00","Hloubení rýh š.do 200 cm hor.3 do 1000m3,STROJNĚ ","m3",73.760000000000005,null,{"$f":"E31*F31","v":0},0,{"$f":"E31*H31","v":0},0,{"$f":"E31*J31","v":0},null,null,null,2,null,null,null,null,null,null,null,null,null,null,null,1,1,1,null,null,null,null,null,null,null,null,null,null,null,null,null,null,null,null,null,null,null,null,null,null,1,{"$f":"IF(AZ31=1,G31,0)","v":0},{"$f":"IF(AZ31=2,G31,0)","v":0},{"$f":"IF(AZ31=3,G31,0)","v":0},{"$f":"IF(AZ31=4,G31,0)","v":0},{"$f":"IF(AZ31=5,G31,0)","v":0},null,null,null,null,null,null,null,null,null,null,null,null,null,null,null,null,null,null,null,null,null,1,1]
[null,null,"Položka obsahuje hloubení rýh traktorbagrem, naložení výkopku na dopravní prostředek pro svislé, nebo vodorovné přemístění, popř. přemístění výkopku do 3 m (po povrchu území), případné zajištění rypadel polštáři, udržování pracoviště a ochranu výkopiště proti stékání srážkové vody z okolního terénu i s jejím odvodněním, nebo odvedením, přesekání a odstranění kořenů ve výkopišti, odstranění napadávek, urovnání dna výkopu.",null,null,null,null,null,null,null,null,"Položka obsahuje hloubení rýh traktorbagrem, naložení výkopku na dopravní prostředek pro svislé, nebo vodorovné přemístění, popř. přemístění výkopku do 3 m (po povrchu území), případné zajištění rypadel polštáři, udržování pracoviště a ochranu výkopiště proti stékání srážkové vody z okolního terénu i s jejím odvodněním, nebo odvedením, přesekání a odstranění kořenů ve výkopišti, odstranění napadávek, urovnání dna výkopu.",null,null,3]
[null,null,"Začátek provozního součtu",null,0,null,null,null,null,null,null,null,"Začátek provozního součtu"]
[null,null,"Vodovod TLT DN80 :",null,0,null,null,null,null,null,null,null,"Vodovod TLT DN80 :"]
[null,null,"Průměrná hloubka výkopů 1,50 m:",null,0,null,null,null,null,null,null,null,"Průměrná hloubka výkopů 1,50 m:"]
[null,null,"\"VL1A\" - Vyvedení mimo komunikaci:128,50*0,80*1,50",null,154.19999999999999,null,null,null,null,null,null,null,"\"VL1A\" - Vyvedení mimo komunikaci:128,50*0,80*1,50"]
[null,null,"Vodovod TLT DN80 - VP PE D 32x3,0 mm:41,00*0,70*1,50",null,43.05,null,null,null,null,null,null,null,"Vodovod TLT DN80 - VP PE D 32x3,0 mm:41,00*0,70*1,50"]
[null,null,"Odpočet objemu konstrukcí komunikace, chodníků a ZP:-(128,50*0,80+41,00*0,5*0,70)*0,40",null,-46.86,null,null,null,null,null,null,null,"Odpočet objemu konstrukcí komunikace, chodníků a ZP:-(128,50*0,80+41,00*0,5*0,70)*0,40"]
[null,null,"Odpočet ornice:-(41,00*0,5*0,70)*0,20",null,-2.87,null,null,null,null,null,null,null,"Odpočet ornice:-(41,00*0,5*0,70)*0,20"]
[null,null,"Konec provozního součtu",null,147.51999999999998,null,null,null,null,null,null,null,"Konec provozního součtu"]
[null,null,"V hornině tř. 3 - 50%:147,5200*0,5",null,73.760000000000005,null,null,null,null,null,null,null,"V hornině tř. 3 - 50%:147,5200*0,5"]
[8,"132201219R00","Přípl.za lepivost,hloubení rýh 200cm,hor.3,STROJNĚ ","m3",36.880000000000003,null,{"$f":"E42*F42","v":0},0,{"$f":"E42*H42","v":0},0,{"$f":"E42*J42","v":0},null,null,null,2,null,null,null,null,null,null,null,null,null,null,null,1,1,1,null,null,null,null,null,null,null,null,null,null,null,null,null,null,null,null,null,null,null,null,null,null,1,{"$f":"IF(AZ42=1,G42,0)","v":0},{"$f":"IF(AZ42=2,G42,0)","v":0},{"$f":"IF(AZ42=3,G42,0)","v":0},{"$f":"IF(AZ42=4,G42,0)","v":0},{"$f":"IF(AZ42=5,G42,0)","v":0},null,null,null,null,null,null,null,null,null,null,null,null,null,null,null,null,null,null,null,null,null,1,1]
[null,null,"Začátek provozního součtu",null,0,null,null,null,null,null,null,null,"Začátek provozního součtu"]
[null,null,"Vodovod TLT DN80 :",null,0,null,null,null,null,null,null,null,"Vodovod TLT DN80 :"]
[null,null,"Průměrná hloubka výkopů 1,50 m:",null,0,null,null,null,null,null,null,null,"Průměrná hloubka výkopů 1,50 m:"]
[null,null,"\"VL1A\" - Vyvedení mimo komunikaci:128,50*0,80*1,50",null,154.19999999999999,null,null,null,null,null,null,null,"\"VL1A\" - Vyvedení mimo komunikaci:128,50*0,80*1,50"]
[null,null,"Vodovod TLT DN80 - VP PE D 32x3,0 mm:41,00*0,70*1,50",null,43.05,null,null,null,null,null,null,null,"Vodovod TLT DN80 - VP PE D 32x3,0 mm:41,00*0,70*1,50"]
[null,null,"Odpočet objemu konstrukcí komunikace, chodníků a ZP:-(128,50*0,80+41,00*0,5*0,70)*0,40",null,-46.86,null,null,null,null,null,null,null,"Odpočet objemu konstrukcí komunikace, chodníků a ZP:-(128,50*0,80+41,00*0,5*0,70)*0,40"]
[null,null,"Odpočet ornice:-(41,00*0,5*0,70)*0,20",null,-2.87,null,null,null,null,null,null,null,"Odpočet ornice:-(41,00*0,5*0,70)*0,20"]
[null,null,"Konec provozního součtu",null,147.51999999999998,null,null,null,null,null,null,null,"Konec provozního součtu"]
[null,null,"V hornině tř. 3 - 50%:147,5200*0,5*0,5",null,36.880000000000003,null,null,null,null,null,null,null,"V hornině tř. 3 - 50%:147,5200*0,5*0,5"]
[9,"132301212R00","Hloubení rýh š.do 200 cm hor.4 do 1000 m3, STROJNĚ ","m3",73.760000000000005,null,{"$f":"E52*F52","v":0},0,{"$f":"E52*H52","v":0},0,{"$f":"E52*J52","v":0},null,null,null,2,null,null,null,null,null,null,null,null,null,null,null,1,1,1,null,null,null,null,null,null,null,null,null,null,null,null,null,null,null,null,null,null,null,null,null,null,1,{"$f":"IF(AZ52=1,G52,0)","v":0},{"$f":"IF(AZ52=2,G52,0)","v":0},{"$f":"IF(AZ52=3,G52,0)","v":0},{"$f":"IF(AZ52=4,G52,0)","v":0},{"$f":"IF(AZ52=5,G52,0)","v":0},null,null,null,null,null,null,null,null,null,null,null,null,null,null,null,null,null,null,null,null,null,1,1]
[null,null,"Položka obsahuje hloubení rýh traktorbagrem, naložení výkopku na dopravní prostředek pro svislé, nebo vodorovné přemístění, popř. přemístění výkopku do 3 m (po povrchu území), případné zajištění rypadel polštáři, udržování pracoviště a ochranu výkopiště proti stékání srážkové vody z okolního terénu i s jejím odvodněním, nebo odvedením, přesekání a odstranění kořenů ve výkopišti, odstranění napadávek, urovnání dna výkopu.",null,null,null,null,null,null,null,null,"Položka obsahuje hloubení rýh traktorbagrem, naložení výkopku na dopravní prostředek pro svislé, nebo vodorovné přemístění, popř. přemístění výkopku do 3 m (po povrchu území), případné zajištění rypadel polštáři, udržování pracoviště a ochranu výkopiště proti stékání srážkové vody z okolního terénu i s jejím odvodněním, nebo odvedením, přesekání a odstranění kořenů ve výkopišti, odstranění napadávek, urovnání dna výkopu.",null,null,3]
[null,null,"Začátek provozního součtu",null,0,null,null,null,null,null,null,null,"Začátek provozního součtu"]
[null,null,"Vodovod TLT DN80 :",null,0,null,null,null,null,null,null,null,"Vodovod TLT DN80 :"]
[null,null,"Průměrná hloubka výkopů 1,50 m:",null,0,null,null,null,null,null,null,null,"Průměrná hloubka výkopů 1,50 m:"]
[null,null,"\"VL1A\" - Vyvedení mimo komunikaci:128,50*0,80*1,50",null,154.19999999999999,null,null,null,null,null,null,null,"\"VL1A\" - Vyvedení mimo komunikaci:128,50*0,80*1,50"]
[null,null,"Vodovod TLT DN80 - VP PE D 32x3,0 mm:41,00*0,70*1,50",null,43.05,null,null,null,null,null,null,null,"Vodovod TLT DN80 - VP PE D 32x3,0 mm:41,00*0,70*1,50"]
[null,null,"Odpočet objemu konstrukcí komunikace, chodníků a ZP:-(128,50*0,80+41,00*0,5*0,70)*0,40",null,-46.86,null,null,null,null,null,null,null,"Odpočet objemu konstrukcí komunikace, chodníků a ZP:-(128,50*0,80+41,00*0,5*0,70)*0,40"]
[null,null,"Odpočet ornice:-(41,00*0,5*0,70)*0,20",null,-2.87,null,null,null,null,null,null,null,"Odpočet ornice:-(41,00*0,5*0,70)*0,20"]
[null,null,"Konec provozního součtu",null,147.51999999999998,null,null,null,null,null,null,null,"Konec provozního součtu"]
[null,null,"V hornině tř. 4 - 50%:147,5200*0,5",null,73.760000000000005,null,null,null,null,null,null,null,"V hornině tř. 4 - 50%:147,5200*0,5"]
[10,"132301219R00","Přípl.za lepivost,hloubení rýh 200cm,hor.4,STROJNĚ ","m3",36.880000000000003,null,{"$f":"E63*F63","v":0},0,{"$f":"E63*H63","v":0},0,{"$f":"E63*J63","v":0},null,null,null,2,null,null,null,null,null,null,null,null,null,null,null,1,1,1,null,null,null,null,null,null,null,null,null,null,null,null,null,null,null,null,null,null,null,null,null,null,1,{"$f":"IF(AZ63=1,G63,0)","v":0},{"$f":"IF(AZ63=2,G63,0)","v":0},{"$f":"IF(AZ63=3,G63,0)","v":0},{"$f":"IF(AZ63=4,G63,0)","v":0},{"$f":"IF(AZ63=5,G63,0)","v":0},null,null,null,null,null,null,null,null,null,null,null,null,null,null,null,null,null,null,null,null,null,1,1]
[null,null,"Začátek provozního součtu",null,0,null,null,null,null,null,null,null,"Začátek provozního součtu"]
[null,null,"Vodovod TLT DN80 :",null,0,null,null,null,null,null,null,null,"Vodovod TLT DN80 :"]
[null,null,"Průměrná hloubka výkopů 1,50 m:",null,0,null,null,null,null,null,null,null,"Průměrná hloubka výkopů 1,50 m:"]
[null,null,"\"VL1A\" - Vyvedení mimo komunikaci:128,50*0,80*1,50",null,154.19999999999999,null,null,null,null,null,null,null,"\"VL1A\" - Vyvedení mimo komunikaci:128,50*0,80*1,50"]
[null,null,"Vodovod TLT DN80 - VP PE D 32x3,0 mm:41,00*0,70*1,50",null,43.05,null,null,null,null,null,null,null,"Vodovod TLT DN80 - VP PE D 32x3,0 mm:41,00*0,70*1,50"]
[null,null,"Odpočet objemu konstrukcí komunikace, chodníků a ZP:-(128,50*0,80+41,00*0,5*0,70)*0,40",null,-46.86,null,null,null,null,null,null,null,"Odpočet objemu konstrukcí komunikace, chodníků a ZP:-(128,50*0,80+41,00*0,5*0,70)*0,40"]
[null,null,"Odpočet ornice:-(41,00*0,5*0,70)*0,20",null,-2.87,null,null,null,null,null,null,null,"Odpočet ornice:-(41,00*0,5*0,70)*0,20"]
[null,null,"Konec provozního součtu",null,147.51999999999998,null,null,null,null,null,null,null,"Konec provozního součtu"]
[null,null,"V hornině tř. 4 - 50%:147,5200*0,5*0,5",null,36.880000000000003,null,null,null,null,null,null,null,"V hornině tř. 4 - 50%:147,5200*0,5*0,5"]
[11,"151101101R00","Pažení a rozepření stěn rýh - příložné - hl.do 2 m ","m2",508.5,null,{"$f":"E73*F73","v":0},9.8999999999999999E-4,{"$f":"E73*H73","v":0.50341499999999995},0,{"$f":"E73*J73","v":0},null,null,null,2,null,null,null,null,null,null,null,null,null,null,null,1,1,1,null,null,null,null,null,null,null,null,null,null,null,null,null,null,null,null,null,null,null,null,null,null,1,{"$f":"IF(AZ73=1,G73,0)","v":0},{"$f":"IF(AZ73=2,G73,0)","v":0},{"$f":"IF(AZ73=3,G73,0)","v":0},{"$f":"IF(AZ73=4,G73,0)","v":0},{"$f":"IF(AZ73=5,G73,0)","v":0},null,null,null,null,null,null,null,null,null,null,null,null,null,null,null,null,null,null,null,null,null,1,1]
[null,null,"Vodovod TLT DN80 :",null,0,null,null,null,null,null,null,null,"Vodovod TLT DN80 :"]
[null,null,"Průměrná hloubka výkopů 1,50 m:",null,0,null,null,null,null,null,null,null,"Průměrná hloubka výkopů 1,50 m:"]
[null,null,"\"VL1A\":128,50*1,50*2",null,385.5,null,null,null,null,null,null,null,"\"VL1A\":128,50*1,50*2"]
[null,null,"Vodovod TLT DN80 - VP PE D 32x3,0 mm:41,00*1,50*2",null,123,null,null,null,null,null,null,null,"Vodovod TLT DN80 - VP PE D 32x3,0 mm:41,00*1,50*2"]
[12,"151101111R00","Odstranění pažení stěn rýh - příložné - hl. do 2 m ","m2",508.5,null,{"$f":"E78*F78","v":0},0,{"$f":"E78*H78","v":0},0,{"$f":"E78*J78","v":0},null,null,null,2,null,null,null,null,null,null,null,null,null,null,null,1,1,1,null,null,null,null,null,null,null,null,null,null,null,null,null,null,null,null,null,null,null,null,null,null,1,{"$f":"IF(AZ78=1,G78,0)","v":0},{"$f":"IF(AZ78=2,G78,0)","v":0},{"$f":"IF(AZ78=3,G78,0)","v":0},{"$f":"IF(AZ78=4,G78,0)","v":0},{"$f":"IF(AZ78=5,G78,0)","v":0},null,null,null,null,null,null,null,null,null,null,null,null,null,null,null,null,null,null,null,null,null,1,1]
[null,null,"Vodovod TLT DN80 :",null,0,null,null,null,null,null,null,null,"Vodovod TLT DN80 :"]
[null,null,"Průměrná hloubka výkopů 1,50 m:",null,0,null,null,null,null,null,null,null,"Průměrná hloubka výkopů 1,50 m:"]
[null,null,"\"VL1A\":128,50*1,50*2",null,385.5,null,null,null,null,null,null,null,"\"VL1A\":128,50*1,50*2"]
[null,null,"Vodovod TLT DN80 - VP PE D 32x3,0 mm:41,00*1,50*2",null,123,null,null,null,null,null,null,null,"Vodovod TLT DN80 - VP PE D 32x3,0 mm:41,00*1,50*2"]
[13,"162701105RSZ","Vodorovné přemístění výkopku z hor.1-4 na skládku zhotovitele","m3",135.0642,null,{"$f":"E83*F83","v":0},0,{"$f":"E83*H83","v":0},0,{"$f":"E83*J83","v":0},null,null,null,2,null,null,null,null,null,null,null,null,null,null,null,1,1,1,null,null,null,null,null,null,null,null,null,null,null,null,null,null,null,null,null,null,null,null,null,null,1,{"$f":"IF(AZ83=1,G83,0)","v":0},{"$f":"IF(AZ83=2,G83,0)","v":0},{"$f":"IF(AZ83=3,G83,0)","v":0},{"$f":"IF(AZ83=4,G83,0)","v":0},{"$f":"IF(AZ83=5,G83,0)","v":0},null,null,null,null,null,null,null,null,null,null,null,null,null,null,null,null,null,null,null,null,null,1,1]
[null,null,"Výkopy:",null,0,null,null,null,null,null,null,null,"Výkopy:"]
[null,null,"Začátek provozního součtu",null,0,null,null,null,null,null,null,null,"Začátek provozního součtu"]
[null,null,"Vodovod TLT DN80 :",null,0,null,null,null,null,null,null,null,"Vodovod TLT DN80 :"]
[null,null,"Průměrná hloubka výkopů 1,50 m:",null,0,null,null,null,null,null,null,null,"Průměrná hloubka výkopů 1,50 m:"]
[null,null,"\"VL1A\" - Vyvedení mimo komunikaci:128,50*0,80*1,50",null,154.19999999999999,null,null,null,null,null,null,null,"\"VL1A\" - Vyvedení mimo komunikaci:128,50*0,80*1,50"]
[null,null,"Vodovod TLT DN80 - VP PE D 32x3,0 mm:41,00*0,70*1,50",null,43.05,null,null,null,null,null,null,null,"Vodovod TLT DN80 - VP PE D 32x3,0 mm:41,00*0,70*1,50"]
[null,null,"Odpočet objemu konstrukcí komunikace, chodníků a ZP:-(128,50*0,80+41,00*0,5*0,70)*0,40",null,-46.86,null,null,null,null,null,null,null,"Odpočet objemu konstrukcí komunikace, chodníků a ZP:-(128,50*0,80+41,00*0,5*0,70)*0,40"]
[null,null,"Odpočet ornice:-(41,00*0,5*0,70)*0,20",null,-2.87,null,null,null,null,null,null,null,"Odpočet ornice:-(41,00*0,5*0,70)*0,20"]
[null,null,"Konec provozního součtu",null,147.51999999999998,null,null,null,null,null,null,null,"Konec provozního součtu"]
[null,null,"V hornině tř. 3 - 4:147,5200",null,147.52000000000001,null,null,null,null,null,null,null,"V hornině tř. 3 - 4:147,5200"]
[null,null,"Odpočet zásypů zeminou:",null,0,null,null,null,null,null,null,null,"Odpočet zásypů zeminou:"]
[null,null,"Zásyp zeminou:-12,4558",null,-12.4558,null,null,null,null,null,null,null,"Zásyp zeminou:-12,4558"]
[14,"174101101R00","Zásyp jam, rýh, šachet se zhutněním ","m3",85.777600000000007,null,{"$f":"E96*F96","v":0},0,{"$f":"E96*H96","v":0},0,{"$f":"E96*J96","v":0},null,null,null,2,null,null,null,null,null,null,null,null,null,null,null,1,1,1,null,null,null,null,null,null,null,null,null,null,null,null,null,null,null,null,null,null,null,null,null,null,1,{"$f":"IF(AZ96=1,G96,0)","v":0},{"$f":"IF(AZ96=2,G96,0)","v":0},{"$f":"IF(AZ96=3,G96,0)","v":0},{"$f":"IF(AZ96=4,G96,0)","v":0},{"$f":"IF(AZ96=5,G96,0)","v":0},null,null,null,null,null,null,null,null,null,null,null,null,null,null,null,null,null,null,null,null,null,1,1]
[null,null,"Položka obsahuje strojní přemístění materiálu pro zásyp ze vzdálenosti do 10 m od okraje zásypu.",null,null,null,null,null,null,null,null,"Položka obsahuje strojní přemístění materiálu pro zásyp ze vzdálenosti do 10 m od okraje zásypu.",null,null,3]
[null,null,"Zásyp zeminou:12,4558",null,12.4558,null,null,null,null,null,null,null,"Zásyp zeminou:12,4558"]
[null,null,"Začátek provozního součtu",null,0,null,null,null,null,null,null,null,"Začátek provozního součtu"]
[null,null,"Vodovod TLT DN80 - VP PE D 32x3,0 mm:41,00*0,5*0,70*1,50",null,21.524999999999999,null,null,null,null,null,null,null,"Vodovod TLT DN80 - VP PE D 32x3,0 mm:41,00*0,5*0,70*1,50"]
[null,null,"Odpočet ornice:-41,00*0,5*0,70*0,20",null,-2.87,null,null,null,null,null,null,null,"Odpočet ornice:-41,00*0,5*0,70*0,20"]
[null,null,"Odpočet lože, potrubí a obsypů - VP:-41,00*0,5*0,70*(0,10+0,032+0,30)",null,-6.1992000000000003,null,null,null,null,null,null,null,"Odpočet lože, potrubí a obsypů - VP:-41,00*0,5*0,70*(0,10+0,032+0,30)"]
[null,null,"Konec provozního součtu",null,12.455799999999996,null,null,null,null,null,null,null,"Konec provozního součtu"]
[null,null,"Zásyp štěrkodrtí fr. 0-63 mm:73,3218",null,73.321799999999996,null,null,null,null,null,null,null,"Zásyp štěrkodrtí fr. 0-63 mm:73,3218"]
[null,null,"Začátek provozního součtu",null,0,null,null,null,null,null,null,null,"Začátek provozního součtu"]
[null,null,"Vodovod TLT DN80 :",null,0,null,null,null,null,null,null,null,"Vodovod TLT DN80 :"]
[null,null,"Průměrná hloubka výkopů 1,50 m:",null,0,null,null,null,null,null,null,null,"Průměrná hloubka výkopů 1,50 m:"]
[null,null,"\"VL1A\":128,50*0,80*1,50",null,154.19999999999999,null,null,null,null,null,null,null,"\"VL1A\":128,50*0,80*1,50"]
[null,null,"Vodovod TLT DN80 - VP PE D 32x3,0 mm:41,00*0,5*0,70*1,50",null,21.524999999999999,null,null,null,null,null,null,null,"Vodovod TLT DN80 - VP PE D 32x3,0 mm:41,00*0,5*0,70*1,50"]
[null,null,"Odpočet objemu konstrukcí komunikace, chodníků a ZP:-(128,500*0,80+41,00*0,5*0,70)*0,40",null,-46.86,null,null,null,null,null,null,null,"Odpočet objemu konstrukcí komunikace, chodníků a ZP:-(128,500*0,80+41,00*0,5*0,70)*0,40"]
[null,null,"Odpočet lože, potrubí a obsypů - vodovod:-128,50*0,80*(0,10+0,08+0,30)",null,-49.344000000000001,null,null,null,null,null,null,null,"Odpočet lože, potrubí a obsypů - vodovod:-128,50*0,80*(0,10+0,08+0,30)"]
[null,null,"Odpočet lože, potrubí a obsypů - VP:-41,00*0,5*0,70*(0,10+0,032+0,30)",null,-6.1992000000000003,null,null,null,null,null,null,null,"Odpočet lože, potrubí a obsypů - VP:-41,00*0,5*0,70*(0,10+0,032+0,30)"]
[null,null,"Konec provozního součtu",null,73.32180000000001,null,null,null,null,null,null,null,"Konec provozního součtu"]
[15,"175101101R00","Obsyp potrubí bez prohození sypaniny ","m3",47.913499999999999,null,{"$f":"E114*F114","v":0},0,{"$f":"E114*H114","v":0},0,{"$f":"E114*J114","v":0},null,null,null,2,null,null,null,null,null,null,null,null,null,null,null,1,1,1,null,null,null,null,null,null,null,null,null,null,null,null,null,null,null,null,null,null,null,null,null,null,1,{"$f":"IF(AZ114=1,G114,0)","v":0},{"$f":"IF(AZ114=2,G114,0)","v":0},{"$f":"IF(AZ114=3,G114,0)","v":0},{"$f":"IF(AZ114=4,G114,0)","v":0},{"$f":"IF(AZ114=5,G114,0)","v":0},null,null,null,null,null,null,null,null,null,null,null,null,null,null,null,null,null,null,null,null,null,1,1]
[null,null,"Vodovod TLT DN80 :",null,0,null,null,null,null,null,null,null,"Vodovod TLT DN80 :"]
[null,null,"\"VL1A\" - Vyvedení mimo komunikaci:128,50*(0,80*(0,08+0,30)-0,04^2*Pi)",null,38.418100000000003,null,null,null,null,null,null,null,"\"VL1A\" - Vyvedení mimo komunikaci:128,50*(0,80*(0,08+0,30)-0,04^2*Pi)"]
[null,null,"Vodovod TLT DN80 - VP PE D 32x3,0 mm:",null,0,null,null,null,null,null,null,null,"Vodovod TLT DN80 - VP PE D 32x3,0 mm:"]
[null,null,"\"VL1A\" :41,00*(0,70*(0,032+0,30)-0,016^2*Pi)",null,9.4954000000000001,null,null,null,null,null,null,null,"\"VL1A\" :41,00*(0,70*(0,032+0,30)-0,016^2*Pi)"]
[16,"199000002R00","Poplatek za skládku horniny 1- 4 č. dle katal. odpadů 17 05 04","m3",135.0642,null,{"$f":"E119*F119","v":0},0,{"$f":"E119*H119","v":0},0,{"$f":"E119*J119","v":0},null,null,null,2,null,null,null,null,null,null,null,null,null,null,null,1,1,1,null,null,null,null,null,null,null,null,null,null,null,null,null,null,null,null,null,null,null,null,null,null,1,{"$f":"IF(AZ119=1,G119,0)","v":0},{"$f":"IF(AZ119=2,G119,0)","v":0},{"$f":"IF(AZ119=3,G119,0)","v":0},{"$f":"IF(AZ119=4,G119,0)","v":0},{"$f":"IF(AZ119=5,G119,0)","v":0},null,null,null,null,null,null,null,null,null,null,null,null,null,null,null,null,null,null,null,null,null,1,1]
[null,null,"Výkopy:",null,0,null,null,null,null,null,null,null,"Výkopy:"]
[null,null,"Začátek provozního součtu",null,0,null,null,null,null,null,null,null,"Začátek provozního součtu"]
[null,null,"Vodovod TLT DN80 :",null,0,null,null,null,null,null,null,null,"Vodovod TLT DN80 :"]
[null,null,"Průměrná hloubka výkopů 1,50 m:",null,0,null,null,null,null,null,null,null,"Průměrná hloubka výkopů 1,50 m:"]
[null,null,"\"VL1A\" - Vyvedení mimo komunikaci:128,50*0,80*1,50",null,154.19999999999999,null,null,null,null,null,null,null,"\"VL1A\" - Vyvedení mimo komunikaci:128,50*0,80*1,50"]
[null,null,"Vodovod TLT DN80 - VP PE D 32x3,0 mm:41,00*0,70*1,50",null,43.05,null,null,null,null,null,null,null,"Vodovod TLT DN80 - VP PE D 32x3,0 mm:41,00*0,70*1,50"]
[null,null,"Odpočet objemu konstrukcí komunikace, chodníků a ZP:-(128,50*0,80+41,00*0,5*0,70)*0,40",null,-46.86,null,null,null,null,null,null,null,"Odpočet objemu konstrukcí komunikace, chodníků a ZP:-(128,50*0,80+41,00*0,5*0,70)*0,40"]
[null,null,"Odpočet ornice:-(41,00*0,5*0,70)*0,20",null,-2.87,null,null,null,null,null,null,null,"Odpočet ornice:-(41,00*0,5*0,70)*0,20"]
[null,null,"Konec provozního součtu",null,147.51999999999998,null,null,null,null,null,null,null,"Konec provozního součtu"]
[null,null,"V hornině tř. 3 - 4:147,5200",null,147.52000000000001,null,null,null,null,null,null,null,"V hornině tř. 3 - 4:147,5200"]
[null,null,"Odpočet zásypů zeminou:",null,0,null,null,null,null,null,null,null,"Odpočet zásypů zeminou:"]
[null,null,"Zásyp zeminou:-12,4558",null,-12.4558,null,null,null,null,null,null,null,"Zásyp zeminou:-12,4558"]
[17,"919735113R00","Řezání stávajícího živičného krytu tl. 10 - 15 cm ","m",298.8,null,{"$f":"E132*F132","v":0},0,{"$f":"E132*H132","v":0},0,{"$f":"E132*J132","v":0},null,null,null,2,null,null,null,null,null,null,null,null,null,null,null,1,1,1,null,null,null,null,null,null,null,null,null,null,null,null,null,null,null,null,null,null,null,null,null,null,1,{"$f":"IF(AZ132=1,G132,0)","v":0},{"$f":"IF(AZ132=2,G132,0)","v":0},{"$f":"IF(AZ132=3,G132,0)","v":0},{"$f":"IF(AZ132=4,G132,0)","v":0},{"$f":"IF(AZ132=5,G132,0)","v":0},null,null,null,null,null,null,null,null,null,null,null,null,null,null,null,null,null,null,null,null,null,1,1]
[null,null,"Vodovod:128,50*2+0,80",null,257.8,null,null,null,null,null,null,null,"Vodovod:128,50*2+0,80"]
[null,null,"VP:41,00*0,5*2",null,41,null,null,null,null,null,null,null,"VP:41,00*0,5*2"]
[18,"979082113RSZ","Vodorovná doprava suti po suchu na skládku zhotovitele","t",103.092,null,{"$f":"E135*F135","v":0},0,{"$f":"E135*H135","v":0},0,{"$f":"E135*J135","v":0},null,null,null,2,null,null,null,null,null,null,null,null,null,null,null,1,1,1,null,null,null,null,null,null,null,null,null,null,null,null,null,null,null,null,null,null,null,null,null,null,1,{"$f":"IF(AZ135=1,G135,0)","v":0},{"$f":"IF(AZ135=2,G135,0)","v":0},{"$f":"IF(AZ135=3,G135,0)","v":0},{"$f":"IF(AZ135=4,G135,0)","v":0},{"$f":"IF(AZ135=5,G135,0)","v":0},null,null,null,null,null,null,null,null,null,null,null,null,null,null,null,null,null,null,null,null,null,1,1]
[19,"979089001R00","Poplatek za skládku stavební suti štěrky z komunikací, skupina odpadu 010408","t",64.432500000000005,null,{"$f":"E136*F136","v":0},0,{"$f":"E136*H136","v":0},0,{"$f":"E136*J136","v":0},null,null,null,2,null,null,null,null,null,null,null,null,null,null,null,1,1,1,null,null,null,null,null,null,null,null,null,null,null,null,null,null,null,null,null,null,null,null,null,null,1,{"$f":"IF(AZ136=1,G136,0)","v":0},{"$f":"IF(AZ136=2,G136,0)","v":0},{"$f":"IF(AZ136=3,G136,0)","v":0},{"$f":"IF(AZ136=4,G136,0)","v":0},{"$f":"IF(AZ136=5,G136,0)","v":0},null,null,null,null,null,null,null,null,null,null,null,null,null,null,null,null,null,null,null,null,null,1,1]
[20,"979999995R00","Poplatek za reciklaci asfaltu, kusovost do 1600cm2 skupina 170302","t",38.659500000000001,null,{"$f":"E137*F137","v":0},0,{"$f":"E137*H137","v":0},0,{"$f":"E137*J137","v":0},null,null,null,2,null,null,null,null,null,null,null,null,null,null,null,1,1,1,null,null,null,null,null,null,null,null,null,null,null,null,null,null,null,null,null,null,null,null,null,null,1,{"$f":"IF(AZ137=1,G137,0)","v":0},{"$f":"IF(AZ137=2,G137,0)","v":0},{"$f":"IF(AZ137=3,G137,0)","v":0},{"$f":"IF(AZ137=4,G137,0)","v":0},{"$f":"IF(AZ137=5,G137,0)","v":0},null,null,null,null,null,null,null,null,null,null,null,null,null,null,null,null,null,null,null,null,null,1,1]
[null,null,"Položka je určena pro suť o velikosti kusu do 30x30 cm nebo frézovaný asfalt(technologický materiál určený k recyklaci).",null,null,null,null,null,null,null,null,"Položka je určena pro suť o velikosti kusu do 30x30 cm nebo frézovaný asfalt(technologický materiál určený k recyklaci).",null,null,3]
[21,"58337308R","Štěrkopísek frakce 0-2 tř.B","t",94.533299999999997,null,{"$f":"E139*F139","v":0},1,{"$f":"E139*H139","v":94.533299999999997},null,{"$f":"E139*J139","v":0},null,null,null,2,null,null,null,null,null,null,null,null,null,null,null,3,1,"58337308R",null,null,null,null,null,null,null,null,null,null,null,null,null,null,null,null,null,null,null,null,null,null,1,{"$f":"IF(AZ139=1,G139,0)","v":0},{"$f":"IF(AZ139=2,G139,0)","v":0},{"$f":"IF(AZ139=3,G139,0)","v":0},{"$f":"IF(AZ139=4,G139,0)","v":0},{"$f":"IF(AZ139=5,G139,0)","v":0},null,null,null,null,null,null,null,null,null,null,null,null,null,null,null,null,null,null,null,null,null,3,1]
[null,null,"Začátek provozního součtu",null,0,null,null,null,null,null,null,null,"Začátek provozního součtu"]
[null,null,"Vodovod TLT DN80 :",null,0,null,null,null,null,null,null,null,"Vodovod TLT DN80 :"]
[null,null,"\"VL1A\" - Vyvedení mimo komunikaci:128,50*(0,80*(0,08+0,30)-0,04^2*Pi)",null,38.418100000000003,null,null,null,null,null,null,null,"\"VL1A\" - Vyvedení mimo komunikaci:128,50*(0,80*(0,08+0,30)-0,04^2*Pi)"]
[null,null,"Vodovod TLT DN80 - VP PE D 32x3,0 mm:",null,0,null,null,null,null,null,null,null,"Vodovod TLT DN80 - VP PE D 32x3,0 mm:"]
[null,null,"\"VL1A\" :41,00*(0,70*(0,032+0,30)-0,016^2*Pi)",null,9.4954000000000001,null,null,null,null,null,null,null,"\"VL1A\" :41,00*(0,70*(0,032+0,30)-0,016^2*Pi)"]
[null,null,"Konec provozního součtu",null,47.913499999999999,null,null,null,null,null,null,null,"Konec provozního součtu"]
[null,null,"47,9135*1,973",null,94.533299999999997,null,null,null,null,null,null,null,"47,9135*1,973"]
[22,"58344197R","Štěrkodrtě frakce 0-63 A","t",137.33170000000001,null,{"$f":"E147*F147","v":0},1,{"$f":"E147*H147","v":137.33170000000001},null,{"$f":"E147*J147","v":0},null,null,null,2,null,null,null,null,null,null,null,null,null,null,null,3,1,"58344197R",null,null,null,null,null,null,null,null,null,null,null,null,null,null,null,null,null,null,null,null,null,null,1,{"$f":"IF(AZ147=1,G147,0)","v":0},{"$f":"IF(AZ147=2,G147,0)","v":0},{"$f":"IF(AZ147=3,G147,0)","v":0},{"$f":"IF(AZ147=4,G147,0)","v":0},{"$f":"IF(AZ147=5,G147,0)","v":0},null,null,null,null,null,null,null,null,null,null,null,null,null,null,null,null,null,null,null,null,null,3,1]
[null,null,"Zásyp štěrkodrtí fr. 0-63 mm:73,3218*1,873",null,137.33170000000001,null,null,null,null,null,null,null,"Zásyp štěrkodrtí fr. 0-63 mm:73,3218*1,873"]
[null,null,"Začátek provozního součtu",null,0,null,null,null,null,null,null,null,"Začátek provozního součtu"]
[null,null,"Vodovod TLT DN80 :",null,0,null,null,null,null,null,null,null,"Vodovod TLT DN80 :"]
[null,null,"Průměrná hloubka výkopů 1,50 m:",null,0,null,null,null,null,null,null,null,"Průměrná hloubka výkopů 1,50 m:"]
[null,null,"\"VL1A\":128,50*0,80*1,50",null,154.19999999999999,null,null,null,null,null,null,null,"\"VL1A\":128,50*0,80*1,50"]
[null,null,"Vodovod TLT DN80 - VP PE D 32x3,0 mm:41,00*0,5*0,70*1,50",null,21.524999999999999,null,null,null,null,null,null,null,"Vodovod TLT DN80 - VP PE D 32x3,0 mm:41,00*0,5*0,70*1,50"]
[null,null,"Odpočet objemu konstrukcí komunikace, chodníků a ZP:-(128,500*0,80+41,00*0,5*0,70)*0,40",null,-46.86,null,null,null,null,null,null,null,"Odpočet objemu konstrukcí komunikace, chodníků a ZP:-(128,500*0,80+41,00*0,5*0,70)*0,40"]
[null,null,"Odpočet lože, potrubí a obsypů - vodovod:-128,50*0,80*(0,10+0,08+0,30)",null,-49.344000000000001,null,null,null,null,null,null,null,"Odpočet lože, potrubí a obsypů - vodovod:-128,50*0,80*(0,10+0,08+0,30)"]
[null,null,"Odpočet lože, potrubí a obsypů - VP:-41,00*0,5*0,70*(0,10+0,032+0,30)",null,-6.1992000000000003,null,null,null,null,null,null,null,"Odpočet lože, potrubí a obsypů - VP:-41,00*0,5*0,70*(0,10+0,032+0,30)"]
[null,null,"Konec provozního součtu",null,73.32180000000001,null,null,null,null,null,null,null,"Konec provozního součtu"]
[null,"Celkem za","1 Zemní práce",null,null,null,{"$f":"SUM(G7:G157)","v":0},null,{"$f":"SUM(I7:I157)","v":232.61427500000002},null,{"$f":"SUM(K7:K157)","v":-103.09200000000001},null,null,null,4,null,null,null,null,null,null,null,null,null,null,null,null,null,null,null,null,null,null,null,null,null,null,null,null,null,null,null,null,null,null,null,null,null,null,null,null,null,{"$f":"SUM(BA7:BA157)","v":0},{"$f":"SUM(BB7:BB157)","v":0},{"$f":"SUM(BC7:BC157)","v":0},{"$f":"SUM(BD7:BD157)","v":0},{"$f":"SUM(BE7:BE157)","v":0}]
["Díl:","45","Podkladní a vedlejší konstrukce",null,null,null,null,null,null,null,null,null,null,null,1]
[23,"451572111R00","Lože pod potrubí z kameniva těženého 0 - 4 mm ","m3",13.15,null,{"$f":"E160*F160","v":0},1.873,{"$f":"E160*H160","v":24.629950000000001},0,{"$f":"E160*J160","v":0},null,null,null,2,null,null,null,null,null,null,null,null,null,null,null,1,1,1,null,null,null,null,null,null,null,null,null,null,null,null,null,null,null,null,null,null,null,null,null,null,1,{"$f":"IF(AZ160=1,G160,0)","v":0},{"$f":"IF(AZ160=2,G160,0)","v":0},{"$f":"IF(AZ160=3,G160,0)","v":0},{"$f":"IF(AZ160=4,G160,0)","v":0},{"$f":"IF(AZ160=5,G160,0)","v":0},null,null,null,null,null,null,null,null,null,null,null,null,null,null,null,null,null,null,null,null,null,1,1]
[null,null,"Vodovod TLT DN80 :",null,0,null,null,null,null,null,null,null,"Vodovod TLT DN80 :"]
[null,null,"\"VL1A\":128,50*0,80*0,10",null,10.28,null,null,null,null,null,null,null,"\"VL1A\":128,50*0,80*0,10"]
[null,null,"Vodovod TLT DN80 - VP PE D 32x3,0 mm:",null,0,null,null,null,null,null,null,null,"Vodovod TLT DN80 - VP PE D 32x3,0 mm:"]
[null,null,"\"VL1A\" :41,00*0,70*0,10",null,2.87,null,null,null,null,null,null,null,"\"VL1A\" :41,00*0,70*0,10"]
[24,"452313141R00","Bloky pro potrubí z betonu C 16/20 vč. bednění ","m3",0.45,null,{"$f":"E165*F165","v":0},2.5,{"$f":"E165*H165","v":1.125},0,{"$f":"E165*J165","v":0},null,null,null,2,null,null,null,null,null,null,null,null,null,null,null,1,1,1,null,null,null,null,null,null,null,null,null,null,null,null,null,null,null,null,null,null,null,null,null,null,1,{"$f":"IF(AZ165=1,G165,0)","v":0},{"$f":"IF(AZ165=2,G165,0)","v":0},{"$f":"IF(AZ165=3,G165,0)","v":0},{"$f":"IF(AZ165=4,G165,0)","v":0},{"$f":"IF(AZ165=5,G165,0)","v":0},null,null,null,null,null,null,null,null,null,null,null,null,null,null,null,null,null,null,null,null,null,1,1]
[null,null,"Vodovod TLT DN80 :",null,0,null,null,null,null,null,null,null,"Vodovod TLT DN80 :"]
[null,null,"Betonové bloky:0,45",null,0.45,null,null,null,null,null,null,null,"Betonové bloky:0,45"]
[null,"Celkem za","45 Podkladní a vedlejší konstrukce",null,null,null,{"$f":"SUM(G159:G167)","v":0},null,{"$f":"SUM(I159:I167)","v":25.754950000000001},null,{"$f":"SUM(K159:K167)","v":0},null,null,null,4,null,null,null,null,null,null,null,null,null,null,null,null,null,null,null,null,null,null,null,null,null,null,null,null,null,null,null,null,null,null,null,null,null,null,null,null,null,{"$f":"SUM(BA159:BA167)","v":0},{"$f":"SUM(BB159:BB167)","v":0},{"$f":"SUM(BC159:BC167)","v":0},{"$f":"SUM(BD159:BD167)","v":0},{"$f":"SUM(BE159:BE167)","v":0}]
["Díl:","5","Komunikace",null,null,null,null,null,null,null,null,null,null,null,1]
[25,"566903111R00","Vyspravení podkladu po překopech kam.hrubě drceným ","t",54.855499999999999,null,{"$f":"E170*F170","v":0},1.1000000000000001,{"$f":"E170*H170","v":60.341050000000003},0,{"$f":"E170*J170","v":0},null,null,null,2,null,null,null,null,null,null,null,null,null,null,null,1,1,1,null,null,null,null,null,null,null,null,null,null,null,null,null,null,null,null,null,null,null,null,null,null,1,{"$f":"IF(AZ170=1,G170,0)","v":0},{"$f":"IF(AZ170=2,G170,0)","v":0},{"$f":"IF(AZ170=3,G170,0)","v":0},{"$f":"IF(AZ170=4,G170,0)","v":0},{"$f":"IF(AZ170=5,G170,0)","v":0},null,null,null,null,null,null,null,null,null,null,null,null,null,null,null,null,null,null,null,null,null,1,1]
[null,null,"Dosypání rýhy ŠD komunikace pod asfaltové vrstvy:",null,0,null,null,null,null,null,null,null,"Provizorní dosypání rýhy ŠD během realizaci stavby do původní nivelety komunikace a chodníků:"]
[null,null,"Vodovod:128,50*0,80*0,25*1,873",null,48.136099999999999,null,null,null,null,null,null,null,"Vodovod:128,50*0,80*0,25*1,873"]
[null,null,"VP:41,00*0,50*0,70*0,25*1,873",null,6.7194000000000003,null,null,null,null,null,null,null,"VP:41,00*0,50*0,70*0,25*1,873"]
[26,"566904111R00","Vyspravení podkladu po překopech kam.obal.asfaltem ","t",43.9313,null,{"$f":"E174*F174","v":0},1,{"$f":"E174*H174","v":43.9313},0,{"$f":"E174*J174","v":0},null,null,null,2,null,null,null,null,null,null,null,null,null,null,null,1,1,1,null,null,null,null,null,null,null,null,null,null,null,null,null,null,null,null,null,null,null,null,null,null,1,{"$f":"IF(AZ174=1,G174,0)","v":0},{"$f":"IF(AZ174=2,G174,0)","v":0},{"$f":"IF(AZ174=3,G174,0)","v":0},{"$f":"IF(AZ174=4,G174,0)","v":0},{"$f":"IF(AZ174=5,G174,0)","v":0},null,null,null,null,null,null,null,null,null,null,null,null,null,null,null,null,null,null,null,null,null,1,1]
[null,null,"Zaasfaltování rýhy do původní nivelety komunikace:",null,0,null,null,null,null,null,null,null,"Provizorní dosypání rýhy ŠD během realizaci stavby do původní nivelety komunikace a chodníků:"]
[null,null,"Vodovod:128,50*0,80*0,15*2,5",null,38.549999999999997,null,null,null,null,null,null,null,"Vodovod:128,50*0,80*0,15*2,5"]
[null,null,"VP:41,00*0,50*0,70*0,15*2,50",null,5.3811999999999998,null,null,null,null,null,null,null,"VP:41,00*0,50*0,70*0,15*2,50"]
[null,"Celkem za","5 Komunikace",null,null,null,{"$f":"SUM(G169:G177)","v":0},null,{"$f":"SUM(I169:I177)","v":104.27235},null,{"$f":"SUM(K169:K177)","v":0},null,null,null,4,null,null,null,null,null,null,null,null,null,null,null,null,null,null,null,null,null,null,null,null,null,null,null,null,null,null,null,null,null,null,null,null,null,null,null,null,null,{"$f":"SUM(BA169:BA177)","v":0},{"$f":"SUM(BB169:BB177)","v":0},{"$f":"SUM(BC169:BC177)","v":0},{"$f":"SUM(BD169:BD177)","v":0},{"$f":"SUM(BE169:BE177)","v":0}]
["Díl:","8","Trubní vedení",null,null,null,null,null,null,null,null,null,null,null,1]
[27,"851601101R00","Montáž potrubí tlakového tvárná litina DN 80 ","m",128.5,null,{"$f":"E180*F180","v":0},0,{"$f":"E180*H180","v":0},0,{"$f":"E180*J180","v":0},null,null,null,2,null,null,null,null,null,null,null,null,null,null,null,1,1,1,null,null,null,null,null,null,null,null,null,null,null,null,null,null,null,null,null,null,null,null,null,null,1,{"$f":"IF(AZ180=1,G180,0)","v":0},{"$f":"IF(AZ180=2,G180,0)","v":0},{"$f":"IF(AZ180=3,G180,0)","v":0},{"$f":"IF(AZ180=4,G180,0)","v":0},{"$f":"IF(AZ180=5,G180,0)","v":0},null,null,null,null,null,null,null,null,null,null,null,null,null,null,null,null,null,null,null,null,null,1,1]
[null,null,"Položka je určena pro montáž potrubí hrdlového s pružnými spoji, ve výkopu. Pro blokované spoje se cena zvýší o 15 - 20 %. V položce nejsou zakalkulovány náklady na dodávku trub; trouby a spojovací materiál se oceňuje ve specifikaci",null,null,null,null,null,null,null,null,"Položka je určena pro montáž potrubí hrdlového s pružnými spoji, ve výkopu. Pro blokované spoje se cena zvýší o 15 - 20 %. V položce nejsou zakalkulovány náklady na dodávku trub; trouby a spojovací materiál se oceňuje ve specifikaci",null,null,3]
[null,null,"Vodovod TLT DN80 :",null,0,null,null,null,null,null,null,null,"Vodovod TLT DN80 :"]
[null,null,"\"VL1A\" :128,50",null,128.5,null,null,null,null,null,null,null,"\"VL1A\" :128,50"]
[28,"857242121R00","Montáž tvarovek litin. jednoos.přír. výkop DN 80 včetně nerezových spoj. prvků a obandážování spoje","kus",3,null,{"$f":"E184*F184","v":0},2.2000000000000001E-4,{"$f":"E184*H184","v":6.6E-4},0,{"$f":"E184*J184","v":0},null,null,null,2,null,null,null,null,null,null,null,null,null,null,null,1,1,1,null,null,null,null,null,null,null,null,null,null,null,null,null,null,null,null,null,null,null,null,null,null,1,{"$f":"IF(AZ184=1,G184,0)","v":0},{"$f":"IF(AZ184=2,G184,0)","v":0},{"$f":"IF(AZ184=3,G184,0)","v":0},{"$f":"IF(AZ184=4,G184,0)","v":0},{"$f":"IF(AZ184=5,G184,0)","v":0},null,null,null,null,null,null,null,null,null,null,null,null,null,null,null,null,null,null,null,null,null,1,1]
[null,null,"Položka je určena pro montáž litinových tvarovek na potrubí litinovém tlakovém přírubovém jednoosých v otevřeném výkopu, v otevřeném kanálu nebo v šachtě.",null,null,null,null,null,null,null,null,"Položka je určena pro montáž litinových tvarovek na potrubí litinovém tlakovém přírubovém jednoosých v otevřeném výkopu, v otevřeném kanálu nebo v šachtě.",null,null,3]
[null,null,"Vodovod TLT DN80 :",null,0,null,null,null,null,null,null,null,"Vodovod TLT DN80 :"]
[null,null,"EU DN80:2",null,2,null,null,null,null,null,null,null,"EU DN80:2"]
[null,null,"PPL DN80:1",null,1,null,null,null,null,null,null,null,"PPL DN80:1"]
[29,"857601101R00","Montáž tvarovek jednoosých, tvárná litina DN 80 ","kus",2,null,{"$f":"E189*F189","v":0},0,{"$f":"E189*H189","v":0},0,{"$f":"E189*J189","v":0},null,null,null,2,null,null,null,null,null,null,null,null,null,null,null,1,1,1,null,null,null,null,null,null,null,null,null,null,null,null,null,null,null,null,null,null,null,null,null,null,1,{"$f":"IF(AZ189=1,G189,0)","v":0},{"$f":"IF(AZ189=2,G189,0)","v":0},{"$f":"IF(AZ189=3,G189,0)","v":0},{"$f":"IF(AZ189=4,G189,0)","v":0},{"$f":"IF(AZ189=5,G189,0)","v":0},null,null,null,null,null,null,null,null,null,null,null,null,null,null,null,null,null,null,null,null,null,1,1]
[null,null,"Položka je určena pro montáž tvarovek jednoosých s pružnými spoji ve výkopu. ",null,null,null,null,null,null,null,null,"Položka je určena pro montáž tvarovek jednoosých s pružnými spoji ve výkopu. ",null,null,3]
[null,null,"Vodovod TLT DN80 :",null,0,null,null,null,null,null,null,null,"Vodovod TLT DN80 :"]
[null,null,"MMK 22° DN80:1",null,1,null,null,null,null,null,null,null,"MMK 22° DN80:1"]
[null,null,"MMK 30° DN80:1",null,1,null,null,null,null,null,null,null,"MMK 30° DN80:1"]
[30,"871161121R00","Montáž trubek polyetylenových ve výkopu d 32 mm ","m",41,null,{"$f":"E194*F194","v":0},0,{"$f":"E194*H194","v":0},0,{"$f":"E194*J194","v":0},null,null,null,2,null,null,null,null,null,null,null,null,null,null,null,1,1,1,null,null,null,null,null,null,null,null,null,null,null,null,null,null,null,null,null,null,null,null,null,null,1,{"$f":"IF(AZ194=1,G194,0)","v":0},{"$f":"IF(AZ194=2,G194,0)","v":0},{"$f":"IF(AZ194=3,G194,0)","v":0},{"$f":"IF(AZ194=4,G194,0)","v":0},{"$f":"IF(AZ194=5,G194,0)","v":0},null,null,null,null,null,null,null,null,null,null,null,null,null,null,null,null,null,null,null,null,null,1,1]
[null,null,"V položce je uvažováno použití svitku. ",null,null,null,null,null,null,null,null,"V položce je uvažováno použití svitku. ",null,null,3]
[null,null,"Vodovod TLT DN80 - VP PE D 32x3,0 mm:",null,0,null,null,null,null,null,null,null,"Vodovod TLT DN80 - VP PE D 32x3,0 mm:"]
[null,null,"\"VL1A\" :41,00",null,41,null,null,null,null,null,null,null,"\"VL1A\" :41,00"]
[31,"891163111R00","Montáž ventilů hlavních pro přípojky DN 25 ","kus",9,null,{"$f":"E198*F198","v":0},2.0000000000000002E-5,{"$f":"E198*H198","v":1.8000000000000001E-4},0,{"$f":"E198*J198","v":0},null,null,null,2,null,null,null,null,null,null,null,null,null,null,null,1,1,1,null,null,null,null,null,null,null,null,null,null,null,null,null,null,null,null,null,null,null,null,null,null,1,{"$f":"IF(AZ198=1,G198,0)","v":0},{"$f":"IF(AZ198=2,G198,0)","v":0},{"$f":"IF(AZ198=3,G198,0)","v":0},{"$f":"IF(AZ198=4,G198,0)","v":0},{"$f":"IF(AZ198=5,G198,0)","v":0},null,null,null,null,null,null,null,null,null,null,null,null,null,null,null,null,null,null,null,null,null,1,1]
[null,null,"Vodovod TLT DN80 :",null,0,null,null,null,null,null,null,null,"Vodovod TLT DN80 :"]
[null,null,"\"VL1A\" :9",null,9,null,null,null,null,null,null,null,"\"VL1A\" :9"]
[32,"891183439RX0","Přepojení potrubí PE na přípojkách D 32 včetně dodávky přepojovací tvarovky","kus",9,null,{"$f":"E201*F201","v":0},4.6000000000000001E-4,{"$f":"E201*H201","v":4.1400000000000005E-3},0,{"$f":"E201*J201","v":0},null,null,null,2,null,null,null,null,null,null,null,null,null,null,null,1,1,1,null,null,null,null,null,null,null,null,null,null,null,null,null,null,null,null,null,null,null,null,null,null,1,{"$f":"IF(AZ201=1,G201,0)","v":0},{"$f":"IF(AZ201=2,G201,0)","v":0},{"$f":"IF(AZ201=3,G201,0)","v":0},{"$f":"IF(AZ201=4,G201,0)","v":0},{"$f":"IF(AZ201=5,G201,0)","v":0},null,null,null,null,null,null,null,null,null,null,null,null,null,null,null,null,null,null,null,null,null,1,1]
[null,null,"Položka obsahuje přerušení stávajícího potrubí, montáž a dodávku příslušné tvarovky pro propojení stávajícího potrubí (PE, ocel a pod.)  s novým potrubím (PE D 32x3,0 mm) přípojky  D 32",null,null,null,null,null,null,null,null,"Položka obsahuje přerušení stávajícího potrubí, montáž a dodávku příslušné tvarovky pro propojení stávajícího potrubí (PE, ocel a pod.)  s novým potrubím (PE D 32x3,0 mm) přípojky  D 32",null,null,3]
[null,null,"Vodovod TLT DN80 :",null,0,null,null,null,null,null,null,null,"Vodovod TLT DN80 :"]
[null,null,"\"VL1A\" :9",null,9,null,null,null,null,null,null,null,"\"VL1A\" :9"]
[33,"891241111R00","Montáž vodovodních šoupátek ve výkopu DN 80 včetně nerezových spoj. prvků a obandážování spoje","kus",1,null,{"$f":"E205*F205","v":0},2.2000000000000001E-4,{"$f":"E205*H205","v":2.2000000000000001E-4},0,{"$f":"E205*J205","v":0},null,null,null,2,null,null,null,null,null,null,null,null,null,null,null,1,1,1,null,null,null,null,null,null,null,null,null,null,null,null,null,null,null,null,null,null,null,null,null,null,1,{"$f":"IF(AZ205=1,G205,0)","v":0},{"$f":"IF(AZ205=2,G205,0)","v":0},{"$f":"IF(AZ205=3,G205,0)","v":0},{"$f":"IF(AZ205=4,G205,0)","v":0},{"$f":"IF(AZ205=5,G205,0)","v":0},null,null,null,null,null,null,null,null,null,null,null,null,null,null,null,null,null,null,null,null,null,1,1]
[null,null,"Položka je určena pro montáž vodovodních šoupátek v otevřeném výkopu nebo v šachtách s osazením zemní soupravy (bez poklopů). V položce jsou zakalkulovány i náklady na vytvoření otvorů ve stropech šachet pro prostup zemních souprav šoupátek.",null,null,null,null,null,null,null,null,"Položka je určena pro montáž vodovodních šoupátek v otevřeném výkopu nebo v šachtách s osazením zemní soupravy (bez poklopů). V položce jsou zakalkulovány i náklady na vytvoření otvorů ve stropech šachet pro prostup zemních souprav šoupátek.",null,null,3]
[null,null,"Součástí položky je i dodávka nerezových spojovacích prvků (šrouby, podložky, matky) a kompletního obandážování spojů. ",null,null,null,null,null,null,null,null,"Součástí položky je i dodávka nerezových spojovacích prvků (šrouby, podložky, matky) a kompletního obandážování spojů. ",null,null,3]
[null,null,"Vodovod TLT DN80 :",null,0,null,null,null,null,null,null,null,"Vodovod TLT DN80 :"]
[null,null,"Š DN80:",null,0,null,null,null,null,null,null,null,"Š DN80:"]
[null,null,"\"VL1A\" :1",null,1,null,null,null,null,null,null,null,"\"VL1A\" :1"]
[34,"891247111R00","Montáž hydrantů podzemních DN 80 včetně nerezových spoj. prvků a obandážování spoje","kus",1,null,{"$f":"E211*F211","v":0},1.1E-4,{"$f":"E211*H211","v":1.1E-4},0,{"$f":"E211*J211","v":0},null,null,null,2,null,null,null,null,null,null,null,null,null,null,null,1,1,1,null,null,null,null,null,null,null,null,null,null,null,null,null,null,null,null,null,null,null,null,null,null,1,{"$f":"IF(AZ211=1,G211,0)","v":0},{"$f":"IF(AZ211=2,G211,0)","v":0},{"$f":"IF(AZ211=3,G211,0)","v":0},{"$f":"IF(AZ211=4,G211,0)","v":0},{"$f":"IF(AZ211=5,G211,0)","v":0},null,null,null,null,null,null,null,null,null,null,null,null,null,null,null,null,null,null,null,null,null,1,1]
[null,null,"Položka je určena pro montáž hydrantů podzemních (bez osazení poklopů) na potrubí včetně drenážního obalu.",null,null,null,null,null,null,null,null,"Položka je určena pro montáž hydrantů podzemních (bez osazení poklopů) na potrubí včetně drenážního obalu.",null,null,3]
[null,null,"Součástí položky je i dodávka nerezových spojovacích prvků (šrouby, podložky, matky) a kompletního obandážování spojů. ",null,null,null,null,null,null,null,null,"Součástí položky je i dodávka nerezových spojovacích prvků (šrouby, podložky, matky) a kompletního obandážování spojů. ",null,null,3]
[null,null,"Vodovod TLT DN80 :",null,0,null,null,null,null,null,null,null,"Vodovod TLT DN80 :"]
[null,null,"Hp DN80/1,25:",null,0,null,null,null,null,null,null,null,"Hp DN80/1,25:"]
[null,null,"\"VL1A\" :1",null,1,null,null,null,null,null,null,null,"\"VL1A\" :1"]
[35,"891249111R00","Montáž navrtávacích pasů DN 80 ","kus",9,null,{"$f":"E217*F217","v":0},0,{"$f":"E217*H217","v":0},0,{"$f":"E217*J217","v":0},null,null,null,2,null,null,null,null,null,null,null,null,null,null,null,1,1,1,null,null,null,null,null,null,null,null,null,null,null,null,null,null,null,null,null,null,null,null,null,null,1,{"$f":"IF(AZ217=1,G217,0)","v":0},{"$f":"IF(AZ217=2,G217,0)","v":0},{"$f":"IF(AZ217=3,G217,0)","v":0},{"$f":"IF(AZ217=4,G217,0)","v":0},{"$f":"IF(AZ217=5,G217,0)","v":0},null,null,null,null,null,null,null,null,null,null,null,null,null,null,null,null,null,null,null,null,null,1,1]
[null,null,"Vodovod TLT DN80 :",null,0,null,null,null,null,null,null,null,"Vodovod TLT DN80 :"]
[null,null,"NP DN80:",null,0,null,null,null,null,null,null,null,"NP DN80:"]
[null,null,"\"VL1A\" :9",null,9,null,null,null,null,null,null,null,"\"VL1A\" :9"]
[36,"892233111R00","Desinfekce vodovodního potrubí DN 70 ","m",41,null,{"$f":"E221*F221","v":0},0,{"$f":"E221*H221","v":0},0,{"$f":"E221*J221","v":0},null,null,null,2,null,null,null,null,null,null,null,null,null,null,null,1,1,1,null,null,null,null,null,null,null,null,null,null,null,null,null,null,null,null,null,null,null,null,null,null,1,{"$f":"IF(AZ221=1,G221,0)","v":0},{"$f":"IF(AZ221=2,G221,0)","v":0},{"$f":"IF(AZ221=3,G221,0)","v":0},{"$f":"IF(AZ221=4,G221,0)","v":0},{"$f":"IF(AZ221=5,G221,0)","v":0},null,null,null,null,null,null,null,null,null,null,null,null,null,null,null,null,null,null,null,null,null,1,1]
[null,null,"V položce jsou zakalkulovány náklady na napuštění a vypuštění vody, dodání vody a desinfekčního prostředku a na bakteriologický rozbor vody.",null,null,null,null,null,null,null,null,"V položce jsou zakalkulovány náklady na napuštění a vypuštění vody, dodání vody a desinfekčního prostředku a na bakteriologický rozbor vody.",null,null,3]
[null,null,"Vodovod TLT DN80 - VP PE D 32x3,0 mm:",null,0,null,null,null,null,null,null,null,"Vodovod TLT DN80 - VP PE D 32x3,0 mm:"]
[null,null,"\"VL1A\" :41,00",null,41,null,null,null,null,null,null,null,"\"VL1A\" :41,00"]
[37,"892241111R00","Tlaková zkouška vodovodního potrubí DN 80 včetně zajištění konců potrubí","m",169.5,null,{"$f":"E225*F225","v":0},0,{"$f":"E225*H225","v":0},0,{"$f":"E225*J225","v":0},null,null,null,2,null,null,null,null,null,null,null,null,null,null,null,1,1,1,null,null,null,null,null,null,null,null,null,null,null,null,null,null,null,null,null,null,null,null,null,null,1,{"$f":"IF(AZ225=1,G225,0)","v":0},{"$f":"IF(AZ225=2,G225,0)","v":0},{"$f":"IF(AZ225=3,G225,0)","v":0},{"$f":"IF(AZ225=4,G225,0)","v":0},{"$f":"IF(AZ225=5,G225,0)","v":0},null,null,null,null,null,null,null,null,null,null,null,null,null,null,null,null,null,null,null,null,null,1,1]
[null,null,"V položce jsou započteny náklady na přísun, montáž, demontáž a odsun zkoušecího čerpadla, napuštění tlakovou vodou a dodání vody pro tlakovou zkoušku.",null,null,null,null,null,null,null,null,"V položce jsou započteny náklady na přísun, montáž, demontáž a odsun zkoušecího čerpadla, napuštění tlakovou vodou a dodání vody pro tlakovou zkoušku.",null,null,3]
[null,null,"Vodovod TLT DN80 :",null,0,null,null,null,null,null,null,null,"Vodovod TLT DN80 :"]
[null,null,"\"VL1A\" :128,50",null,128.5,null,null,null,null,null,null,null,"\"VL1A\" :128,50"]
[null,null,"Vodovod TLT DN80 - VP PE D 32x3,0 mm:",null,0,null,null,null,null,null,null,null,"Vodovod TLT DN80 - VP PE D 32x3,0 mm:"]
[null,null,"\"VL1A\" :41,00",null,41,null,null,null,null,null,null,null,"\"VL1A\" :41,00"]
[38,"892273111R00","Desinfekce vodovodního potrubí DN 125 ","m",128.5,null,{"$f":"E231*F231","v":0},0,{"$f":"E231*H231","v":0},0,{"$f":"E231*J231","v":0},null,null,null,2,null,null,null,null,null,null,null,null,null,null,null,1,1,1,null,null,null,null,null,null,null,null,null,null,null,null,null,null,null,null,null,null,null,null,null,null,1,{"$f":"IF(AZ231=1,G231,0)","v":0},{"$f":"IF(AZ231=2,G231,0)","v":0},{"$f":"IF(AZ231=3,G231,0)","v":0},{"$f":"IF(AZ231=4,G231,0)","v":0},{"$f":"IF(AZ231=5,G231,0)","v":0},null,null,null,null,null,null,null,null,null,null,null,null,null,null,null,null,null,null,null,null,null,1,1]
[null,null,"V položce jsou zakalkulovány náklady na napuštění a vypuštění vody, dodání vody a desinfekčního prostředku a na bakteriologický rozbor vody.",null,null,null,null,null,null,null,null,"V položce jsou zakalkulovány náklady na napuštění a vypuštění vody, dodání vody a desinfekčního prostředku a na bakteriologický rozbor vody.",null,null,3]
[null,null,"Vodovod TLT DN80 :",null,0,null,null,null,null,null,null,null,"Vodovod TLT DN80 :"]
[null,null,"\"VL1A\":128,50",null,128.5,null,null,null,null,null,null,null,"\"VL1A\":128,50"]
[39,"899721112R00","Fólie výstražná z PVC bílá, šířka 30 cm ","m",169.5,null,{"$f":"E235*F235","v":0},0,{"$f":"E235*H235","v":0},0,{"$f":"E235*J235","v":0},null,null,null,2,null,null,null,null,null,null,null,null,null,null,null,1,1,1,null,null,null,null,null,null,null,null,null,null,null,null,null,null,null,null,null,null,null,null,null,null,1,{"$f":"IF(AZ235=1,G235,0)","v":0},{"$f":"IF(AZ235=2,G235,0)","v":0},{"$f":"IF(AZ235=3,G235,0)","v":0},{"$f":"IF(AZ235=4,G235,0)","v":0},{"$f":"IF(AZ235=5,G235,0)","v":0},null,null,null,null,null,null,null,null,null,null,null,null,null,null,null,null,null,null,null,null,null,1,1]
[null,null,"Vodovod TLT DN80 :",null,0,null,null,null,null,null,null,null,"Vodovod TLT DN80 :"]
[null,null,"\"VL1A\":128,50",null,128.5,null,null,null,null,null,null,null,"\"VL1A\":128,50"]
[null,null,"Vodovod TLT DN80 - VP PE D 32x3,0 mm:",null,0,null,null,null,null,null,null,null,"Vodovod TLT DN80 - VP PE D 32x3,0 mm:"]
[null,null,"\"VL1A\" :41,00",null,41,null,null,null,null,null,null,null,"\"VL1A\" :41,00"]
[40,"899731114R00","Vodič signalizační CYY 6 mm2 ","m",211.5,null,{"$f":"E240*F240","v":0},8.0000000000000007E-5,{"$f":"E240*H240","v":1.6920000000000001E-2},0,{"$f":"E240*J240","v":0},null,null,null,2,null,null,null,null,null,null,null,null,null,null,null,1,1,1,null,null,null,null,null,null,null,null,null,null,null,null,null,null,null,null,null,null,null,null,null,null,1,{"$f":"IF(AZ240=1,G240,0)","v":0},{"$f":"IF(AZ240=2,G240,0)","v":0},{"$f":"IF(AZ240=3,G240,0)","v":0},{"$f":"IF(AZ240=4,G240,0)","v":0},{"$f":"IF(AZ240=5,G240,0)","v":0},null,null,null,null,null,null,null,null,null,null,null,null,null,null,null,null,null,null,null,null,null,1,1]
[null,null,"Součástí položky je zajištění proměření vodiče a výchozí zevize.",null,null,null,null,null,null,null,null,"Součástí položky je zajištění proměření vodiče a výchozí zevize.",null,null,3]
[null,null,"Vodovod TLT DN80 :",null,0,null,null,null,null,null,null,null,"Vodovod TLT DN80 :"]
[null,null,"\"VL1A\" - Vyvedení mimo komunikaci:128,50",null,128.5,null,null,null,null,null,null,null,"\"VL1A\" - Vyvedení mimo komunikaci:128,50"]
[null,null,"Vodovod TLT DN80 - VP PE D 32x3,0 mm:",null,0,null,null,null,null,null,null,null,"Vodovod TLT DN80 - VP PE D 32x3,0 mm:"]
[null,null,"\"VL1A\" :41,00",null,41,null,null,null,null,null,null,null,"\"VL1A\" :41,00"]
[null,null,"Vyvedení pro :",null,0,null,null,null,null,null,null,null,"Vyvedení pro :"]
[null,null,"Š DN80:2,00*2*1",null,4,null,null,null,null,null,null,null,"Š DN80:2,00*2*1"]
[null,null,"Hp DN80/1,25:2,00*1*1",null,2,null,null,null,null,null,null,null,"Hp DN80/1,25:2,00*1*1"]
[null,null,"VP :2,00*2*9",null,36,null,null,null,null,null,null,null,"VP :2,00*2*9"]
[41,"28613576.01.R","Trubka PE100RC2 SDR11 D 32x3,0 mm L 100m","m",41.615000000000002,null,{"$f":"E250*F250","v":0},3.79E-3,{"$f":"E250*H250","v":0.15772085},null,{"$f":"E250*J250","v":0},null,null,null,2,null,null,null,null,null,null,null,null,null,null,null,3,1,"28613576.01.R",null,null,null,null,null,null,null,null,null,null,null,null,null,null,null,null,null,null,null,null,null,null,1,{"$f":"IF(AZ250=1,G250,0)","v":0},{"$f":"IF(AZ250=2,G250,0)","v":0},{"$f":"IF(AZ250=3,G250,0)","v":0},{"$f":"IF(AZ250=4,G250,0)","v":0},{"$f":"IF(AZ250=5,G250,0)","v":0},null,null,null,null,null,null,null,null,null,null,null,null,null,null,null,null,null,null,null,null,null,3,1]
[null,null,"Vodovod TLT DN80 - VP PE D 32x3,0 mm:",null,0,null,null,null,null,null,null,null,"Vodovod TLT DN80 - VP PE D 32x3,0 mm:"]
[null,null,"\"VL1A\" :41,00*1,015",null,41.615000000000002,null,null,null,null,null,null,null,"\"VL1A\" :41,00*1,015"]
[42,"42202681.R","Navrtávací ISO šoupátko č. 2681 DN 2 - 6/4\"","kus",9,null,{"$f":"E253*F253","v":0},2.5999999999999999E-3,{"$f":"E253*H253","v":2.3399999999999997E-2},null,{"$f":"E253*J253","v":0},null,null,null,2,null,null,null,null,null,null,null,null,null,null,null,3,1,"42202681.R",null,null,null,null,null,null,null,null,null,null,null,null,null,null,null,null,null,null,null,null,null,null,1,{"$f":"IF(AZ253=1,G253,0)","v":0},{"$f":"IF(AZ253=2,G253,0)","v":0},{"$f":"IF(AZ253=3,G253,0)","v":0},{"$f":"IF(AZ253=4,G253,0)","v":0},{"$f":"IF(AZ253=5,G253,0)","v":0},null,null,null,null,null,null,null,null,null,null,null,null,null,null,null,null,null,null,null,null,null,3,1]
[null,null,"Vodovod TLT DN80 :",null,0,null,null,null,null,null,null,null,"Vodovod TLT DN80 :"]
[null,null,"\"VL1A\" :9",null,9,null,null,null,null,null,null,null,"\"VL1A\" :9"]
[43,"42203350.05.R","Navrtávací pas HACOM č.3350 80-2\"","kus",9,null,{"$f":"E256*F256","v":0},2.7000000000000001E-3,{"$f":"E256*H256","v":2.4300000000000002E-2},null,{"$f":"E256*J256","v":0},null,null,null,2,null,null,null,null,null,null,null,null,null,null,null,3,1,"42203350.05.R",null,null,null,null,null,null,null,null,null,null,null,null,null,null,null,null,null,null,null,null,null,null,1,{"$f":"IF(AZ256=1,G256,0)","v":0},{"$f":"IF(AZ256=2,G256,0)","v":0},{"$f":"IF(AZ256=3,G256,0)","v":0},{"$f":"IF(AZ256=4,G256,0)","v":0},{"$f":"IF(AZ256=5,G256,0)","v":0},null,null,null,null,null,null,null,null,null,null,null,null,null,null,null,null,null,null,null,null,null,3,1]
[null,null,"Vodovod TLT DN80 :",null,0,null,null,null,null,null,null,null,"Vodovod TLT DN80 :"]
[null,null,"NP DN80:",null,0,null,null,null,null,null,null,null,"NP DN80:"]
[null,null,"\"VL1A\" :9",null,9,null,null,null,null,null,null,null,"\"VL1A\" :9"]
[44,"42206221.0.R","Napojovací ISO tvarovka č. 6221F - 6/4\" - 25","kus",9,null,{"$f":"E260*F260","v":0},2.5999999999999999E-3,{"$f":"E260*H260","v":2.3399999999999997E-2},null,{"$f":"E260*J260","v":0},null,null,null,2,null,null,null,null,null,null,null,null,null,null,null,3,1,"42206221.0.R",null,null,null,null,null,null,null,null,null,null,null,null,null,null,null,null,null,null,null,null,null,null,1,{"$f":"IF(AZ260=1,G260,0)","v":0},{"$f":"IF(AZ260=2,G260,0)","v":0},{"$f":"IF(AZ260=3,G260,0)","v":0},{"$f":"IF(AZ260=4,G260,0)","v":0},{"$f":"IF(AZ260=5,G260,0)","v":0},null,null,null,null,null,null,null,null,null,null,null,null,null,null,null,null,null,null,null,null,null,3,1]
[null,null,"Vodovod TLT DN80 :",null,0,null,null,null,null,null,null,null,"Vodovod TLT DN80 :"]
[null,null,"\"VL1A\" :9",null,9,null,null,null,null,null,null,null,"\"VL1A\" :9"]
[45,"42209601.R","Zemní souprava tel. (1,3 - 1,8 m) č.9601 3/4-2\"","kus",9,null,{"$f":"E263*F263","v":0},2.5000000000000001E-3,{"$f":"E263*H263","v":2.2499999999999999E-2},null,{"$f":"E263*J263","v":0},null,null,null,2,null,null,null,null,null,null,null,null,null,null,null,3,1,"42209601.R",null,null,null,null,null,null,null,null,null,null,null,null,null,null,null,null,null,null,null,null,null,null,1,{"$f":"IF(AZ263=1,G263,0)","v":0},{"$f":"IF(AZ263=2,G263,0)","v":0},{"$f":"IF(AZ263=3,G263,0)","v":0},{"$f":"IF(AZ263=4,G263,0)","v":0},{"$f":"IF(AZ263=5,G263,0)","v":0},null,null,null,null,null,null,null,null,null,null,null,null,null,null,null,null,null,null,null,null,null,3,1]
[null,null,"Vodovod TLT DN80 :",null,0,null,null,null,null,null,null,null,"Vodovod TLT DN80 :"]
[null,null,"\"VL1A\" :9",null,9,null,null,null,null,null,null,null,"\"VL1A\" :9"]
[46,"42209999.R","Drenážní obal","kus",1,null,{"$f":"E266*F266","v":0},4.7999999999999996E-3,{"$f":"E266*H266","v":4.7999999999999996E-3},null,{"$f":"E266*J266","v":0},null,null,null,2,null,null,null,null,null,null,null,null,null,null,null,3,1,"42209999.R",null,null,null,null,null,null,null,null,null,null,null,null,null,null,null,null,null,null,null,null,null,null,1,{"$f":"IF(AZ266=1,G266,0)","v":0},{"$f":"IF(AZ266=2,G266,0)","v":0},{"$f":"IF(AZ266=3,G266,0)","v":0},{"$f":"IF(AZ266=4,G266,0)","v":0},{"$f":"IF(AZ266=5,G266,0)","v":0},null,null,null,null,null,null,null,null,null,null,null,null,null,null,null,null,null,null,null,null,null,3,1]
[null,null,"Vodovod TLT DN80 :",null,0,null,null,null,null,null,null,null,"Vodovod TLT DN80 :"]
[null,null,"Pro Hp DN80/1,25:1",null,1,null,null,null,null,null,null,null,"Pro Hp DN80/1,25:1"]
[47,"42228310.R","Šoupátko 4000E2 DN 80 přírubové, voda PN16","kus",1,null,{"$f":"E269*F269","v":0},1.6500000000000001E-2,{"$f":"E269*H269","v":1.6500000000000001E-2},null,{"$f":"E269*J269","v":0},null,null,null,2,null,null,null,null,null,null,null,null,null,null,null,3,1,"42228310.R",null,null,null,null,null,null,null,null,null,null,null,null,null,null,null,null,null,null,null,null,null,null,1,{"$f":"IF(AZ269=1,G269,0)","v":0},{"$f":"IF(AZ269=2,G269,0)","v":0},{"$f":"IF(AZ269=3,G269,0)","v":0},{"$f":"IF(AZ269=4,G269,0)","v":0},{"$f":"IF(AZ269=5,G269,0)","v":0},null,null,null,null,null,null,null,null,null,null,null,null,null,null,null,null,null,null,null,null,null,3,1]
[null,null,"Šoupátko přírubové krkové - měkcetěsnící klínové šoupátko s hladkým a volným průtokovým kanálem",null,null,null,null,null,null,null,null,"Šoupátko přírubové krkové - měkcetěsnící klínové šoupátko s hladkým a volným průtokovým kanálem",null,null,3]
[null,null,"č. 4000E2",null,null,null,null,null,null,null,null,"č. 4000E2",null,null,3]
[null,null,"PN 16",null,null,null,null,null,null,null,null,"PN 16",null,null,3]
[null,null,"DN 80",null,null,null,null,null,null,null,null,"DN 80",null,null,3]
[null,null,"těleso a víko: tvárná litina GGG 400 - DIN 1693",null,null,null,null,null,null,null,null,"těleso a víko: tvárná litina GGG 400 - DIN 1693",null,null,3]
[null,null,"medium: pitná voda, neagresivní odpadní voda",null,null,null,null,null,null,null,null,"medium: pitná voda, neagresivní odpadní voda",null,null,3]
[null,null,"Vodovod TLT DN80 :",null,0,null,null,null,null,null,null,null,"Vodovod TLT DN80 :"]
[null,null,"Š DN80:",null,0,null,null,null,null,null,null,null,"Š DN80:"]
[null,null,"\"VL1A\" :1",null,1,null,null,null,null,null,null,null,"\"VL1A\" :1"]
[48,"422737411.R","Hydrant podzemní DUO K240, DN80,1,25 m-voda","kus",1,null,{"$f":"E279*F279","v":0},3.95E-2,{"$f":"E279*H279","v":3.95E-2},null,{"$f":"E279*J279","v":0},null,null,null,2,null,null,null,null,null,null,null,null,null,null,null,3,1,"422737411.R",null,null,null,null,null,null,null,null,null,null,null,null,null,null,null,null,null,null,null,null,null,null,1,{"$f":"IF(AZ279=1,G279,0)","v":0},{"$f":"IF(AZ279=2,G279,0)","v":0},{"$f":"IF(AZ279=3,G279,0)","v":0},{"$f":"IF(AZ279=4,G279,0)","v":0},{"$f":"IF(AZ279=5,G279,0)","v":0},null,null,null,null,null,null,null,null,null,null,null,null,null,null,null,null,null,null,null,null,null,3,1]
[null,null,"Vodovod TLT DN80 :",null,0,null,null,null,null,null,null,null,"Vodovod TLT DN80 :"]
[null,null,"Hp DN80/1,25:1",null,1,null,null,null,null,null,null,null,"Hp DN80/1,25:1"]
[49,"42293250.R","Souprava zemní tel.9500E2/E3 DN50 -100, 1,3-1,8m","kus",1,null,{"$f":"E282*F282","v":0},7.3000000000000001E-3,{"$f":"E282*H282","v":7.3000000000000001E-3},null,{"$f":"E282*J282","v":0},null,null,null,2,null,null,null,null,null,null,null,null,null,null,null,3,1,"42293250.R",null,null,null,null,null,null,null,null,null,null,null,null,null,null,null,null,null,null,null,null,null,null,1,{"$f":"IF(AZ282=1,G282,0)","v":0},{"$f":"IF(AZ282=2,G282,0)","v":0},{"$f":"IF(AZ282=3,G282,0)","v":0},{"$f":"IF(AZ282=4,G282,0)","v":0},{"$f":"IF(AZ282=5,G282,0)","v":0},null,null,null,null,null,null,null,null,null,null,null,null,null,null,null,null,null,null,null,null,null,3,1]
[null,null,"Vodovod TLT DN80 :",null,0,null,null,null,null,null,null,null,"Vodovod TLT DN80 :"]
[null,null,"Pro Š DN80:",null,0,null,null,null,null,null,null,null,"Pro Š DN80:"]
[null,null,"\"VL1A\" :1",null,1,null,null,null,null,null,null,null,"\"VL1A\" :1"]
[50,"55251130.R","TL vod.tlak. DN 80 mm spoj TYTON","m",129.785,null,{"$f":"E286*F286","v":0},1.4500000000000001E-2,{"$f":"E286*H286","v":1.8818825000000001},null,{"$f":"E286*J286","v":0},null,null,null,2,null,null,null,null,null,null,null,null,null,null,null,3,1,"55251130.R",null,null,null,null,null,null,null,null,null,null,null,null,null,null,null,null,null,null,null,null,null,null,1,{"$f":"IF(AZ286=1,G286,0)","v":0},{"$f":"IF(AZ286=2,G286,0)","v":0},{"$f":"IF(AZ286=3,G286,0)","v":0},{"$f":"IF(AZ286=4,G286,0)","v":0},{"$f":"IF(AZ286=5,G286,0)","v":0},null,null,null,null,null,null,null,null,null,null,null,null,null,null,null,null,null,null,null,null,null,3,1]
[null,null,"Hrdlová trouba z tvárné litiny s hladkým koncem dle ČSN EN 545",null,null,null,null,null,null,null,null,"Hrdlová trouba z tvárné litiny s hladkým koncem dle ČSN EN 545",null,null,3]
[null,null,"Hrdlový spoj Tyton (pružný násuvný spoj EPDM)",null,null,null,null,null,null,null,null,"Hrdlový spoj Tyton (pružný násuvný spoj EPDM)",null,null,3]
[null,null,"Zinek Plus - vně zinko-aluminiový povlak 400 g/m2 (85Zn-15Al) s krycí modrou epoxidovou vrstvou",null,null,null,null,null,null,null,null,"Zinek Plus - vně zinko-aluminiový povlak 400 g/m2 (85Zn-15Al) s krycí modrou epoxidovou vrstvou",null,null,3]
[null,null,"uvnitř vyložení z cementové malty z vysokopecního cementu",null,null,null,null,null,null,null,null,"uvnitř vyložení z cementové malty z vysokopecního cementu",null,null,3]
[null,null,"hrdla trub jsou zevnitř pozinkována a pokryta epoxidovým povlakem",null,null,null,null,null,null,null,null,"hrdla trub jsou zevnitř pozinkována a pokryta epoxidovým povlakem",null,null,3]
[null,null,"Vodovod TLT DN80 :",null,0,null,null,null,null,null,null,null,"Vodovod TLT DN80 :"]
[null,null,"\"VL1A\" - Vyvedení mimo komunikaci:128,50*1,01",null,129.785,null,null,null,null,null,null,null,"\"VL1A\" - Vyvedení mimo komunikaci:128,50*1,01"]
[51,"55259430.R","Koleno hrdlové MMK DN80-22 1/2°","kus",1,null,{"$f":"E294*F294","v":0},6.7000000000000002E-3,{"$f":"E294*H294","v":6.7000000000000002E-3},null,{"$f":"E294*J294","v":0},null,null,null,2,null,null,null,null,null,null,null,null,null,null,null,3,1,"55259430.R",null,null,null,null,null,null,null,null,null,null,null,null,null,null,null,null,null,null,null,null,null,null,1,{"$f":"IF(AZ294=1,G294,0)","v":0},{"$f":"IF(AZ294=2,G294,0)","v":0},{"$f":"IF(AZ294=3,G294,0)","v":0},{"$f":"IF(AZ294=4,G294,0)","v":0},{"$f":"IF(AZ294=5,G294,0)","v":0},null,null,null,null,null,null,null,null,null,null,null,null,null,null,null,null,null,null,null,null,null,3,1]
[null,null,"Vodovod TLT DN80 :",null,0,null,null,null,null,null,null,null,"Vodovod TLT DN80 :"]
[null,null,"MMK 22° DN80:1",null,1,null,null,null,null,null,null,null,"MMK 22° DN80:1"]
[52,"55259450.R","Koleno hrdlové MMK DN 80/30°","kus",1,null,{"$f":"E297*F297","v":0},6.7999999999999996E-3,{"$f":"E297*H297","v":6.7999999999999996E-3},null,{"$f":"E297*J297","v":0},null,null,null,2,null,null,null,null,null,null,null,null,null,null,null,3,1,"55259450.R",null,null,null,null,null,null,null,null,null,null,null,null,null,null,null,null,null,null,null,null,null,null,1,{"$f":"IF(AZ297=1,G297,0)","v":0},{"$f":"IF(AZ297=2,G297,0)","v":0},{"$f":"IF(AZ297=3,G297,0)","v":0},{"$f":"IF(AZ297=4,G297,0)","v":0},{"$f":"IF(AZ297=5,G297,0)","v":0},null,null,null,null,null,null,null,null,null,null,null,null,null,null,null,null,null,null,null,null,null,3,1]
[null,null,"Vodovod TLT DN80 :",null,0,null,null,null,null,null,null,null,"Vodovod TLT DN80 :"]
[null,null,"MMK 30° DN80:1",null,1,null,null,null,null,null,null,null,"MMK 30° DN80:1"]
[53,"55259730.R","Tvar. přír. s hrdlem EU DN 80","kus",2,null,{"$f":"E300*F300","v":0},6.8999999999999999E-3,{"$f":"E300*H300","v":1.38E-2},null,{"$f":"E300*J300","v":0},null,null,null,2,null,null,null,null,null,null,null,null,null,null,null,3,1,"55259730.R",null,null,null,null,null,null,null,null,null,null,null,null,null,null,null,null,null,null,null,null,null,null,1,{"$f":"IF(AZ300=1,G300,0)","v":0},{"$f":"IF(AZ300=2,G300,0)","v":0},{"$f":"IF(AZ300=3,G300,0)","v":0},{"$f":"IF(AZ300=4,G300,0)","v":0},{"$f":"IF(AZ300=5,G300,0)","v":0},null,null,null,null,null,null,null,null,null,null,null,null,null,null,null,null,null,null,null,null,null,3,1]
[null,null,"Vodovod TLT DN80 :",null,0,null,null,null,null,null,null,null,"Vodovod TLT DN80 :"]
[null,null,"EU DN80:2",null,2,null,null,null,null,null,null,null,"EU DN80:2"]
[54,"5526009705.R","Koleno prodloužené přír.s patkou PPL DN 80","kus",1,null,{"$f":"E303*F303","v":0},1.2200000000000001E-2,{"$f":"E303*H303","v":1.2200000000000001E-2},null,{"$f":"E303*J303","v":0},null,null,null,2,null,null,null,null,null,null,null,null,null,null,null,3,1,"5526009705.R",null,null,null,null,null,null,null,null,null,null,null,null,null,null,null,null,null,null,null,null,null,null,1,{"$f":"IF(AZ303=1,G303,0)","v":0},{"$f":"IF(AZ303=2,G303,0)","v":0},{"$f":"IF(AZ303=3,G303,0)","v":0},{"$f":"IF(AZ303=4,G303,0)","v":0},{"$f":"IF(AZ303=5,G303,0)","v":0},null,null,null,null,null,null,null,null,null,null,null,null,null,null,null,null,null,null,null,null,null,3,1]
[null,null,"Vodovod TLT DN80 :",null,0,null,null,null,null,null,null,null,"Vodovod TLT DN80 :"]
[null,null,"PPL DN80:1",null,1,null,null,null,null,null,null,null,"PPL DN80:1"]
[55,"5526009730.R","kroužek těs.TYTON pro vod. potrubí (EPDM) DN80","kus",16,null,{"$f":"E306*F306","v":0},1E-4,{"$f":"E306*H306","v":1.6000000000000001E-3},null,{"$f":"E306*J306","v":0},null,null,null,2,null,null,null,null,null,null,null,null,null,null,null,3,1,"5526009730.R",null,null,null,null,null,null,null,null,null,null,null,null,null,null,null,null,null,null,null,null,null,null,1,{"$f":"IF(AZ306=1,G306,0)","v":0},{"$f":"IF(AZ306=2,G306,0)","v":0},{"$f":"IF(AZ306=3,G306,0)","v":0},{"$f":"IF(AZ306=4,G306,0)","v":0},{"$f":"IF(AZ306=5,G306,0)","v":0},null,null,null,null,null,null,null,null,null,null,null,null,null,null,null,null,null,null,null,null,null,3,1]
[56,"5526009770.R","kroužek těs.TYTON-SIT-PLUS pro vod.potr.EPDM 80","kus",16,null,{"$f":"E307*F307","v":0},2.0000000000000001E-4,{"$f":"E307*H307","v":3.2000000000000002E-3},null,{"$f":"E307*J307","v":0},null,null,null,2,null,null,null,null,null,null,null,null,null,null,null,3,1,"5526009770.R",null,null,null,null,null,null,null,null,null,null,null,null,null,null,null,null,null,null,null,null,null,null,1,{"$f":"IF(AZ307=1,G307,0)","v":0},{"$f":"IF(AZ307=2,G307,0)","v":0},{"$f":"IF(AZ307=3,G307,0)","v":0},{"$f":"IF(AZ307=4,G307,0)","v":0},{"$f":"IF(AZ307=5,G307,0)","v":0},null,null,null,null,null,null,null,null,null,null,null,null,null,null,null,null,null,null,null,null,null,3,1]
[null,null,"Těsnící a jistící gumový kroužek s ocelovými segmenty SIT-PLUS pro jištěný spoj BRS u vodovodního potrubí",null,null,null,null,null,null,null,null,"Těsnící a jistící gumový kroužek s ocelovými segmenty SIT-PLUS pro jištěný spoj BRS u vodovodního potrubí",null,null,3]
[null,"Celkem za","8 Trubní vedení",null,null,null,{"$f":"SUM(G179:G308)","v":0},null,{"$f":"SUM(I179:I308)","v":2.2678333500000001},null,{"$f":"SUM(K179:K308)","v":0},null,null,null,4,null,null,null,null,null,null,null,null,null,null,null,null,null,null,null,null,null,null,null,null,null,null,null,null,null,null,null,null,null,null,null,null,null,null,null,null,null,{"$f":"SUM(BA179:BA308)","v":0},{"$f":"SUM(BB179:BB308)","v":0},{"$f":"SUM(BC179:BC308)","v":0},{"$f":"SUM(BD179:BD308)","v":0},{"$f":"SUM(BE179:BE308)","v":0}]
["Díl:","89","Ostatní konstrukce na trubním vedení",null,null,null,null,null,null,null,null,null,null,null,1]
[57,"899 01-0001.RRX","Provizorní vodovod PE100 RC1 D 63x5,8 mm včetně příslušných tvarovek a propojů","m",70,null,{"$f":"E311*F311","v":0},0,{"$f":"E311*H311","v":0},null,{"$f":"E311*J311","v":0},null,null,null,2,null,null,null,null,null,null,null,null,null,null,null,12,0,2,null,null,null,null,null,null,null,null,null,null,null,null,null,null,null,null,null,null,null,null,null,null,1,{"$f":"IF(AZ311=1,G311,0)","v":0},{"$f":"IF(AZ311=2,G311,0)","v":0},{"$f":"IF(AZ311=3,G311,0)","v":0},{"$f":"IF(AZ311=4,G311,0)","v":0},{"$f":"IF(AZ311=5,G311,0)","v":0},null,null,null,null,null,null,null,null,null,null,null,null,null,null,null,null,null,null,null,null,null,12,0]
[null,null,"Součástí položky je ",null,null,null,null,null,null,null,null,"Součástí položky je ",null,null,3]
[null,null,"- Dodávka a montáž příslušného potrubí ",null,null,null,null,null,null,null,null,"- Dodávka a montáž příslušného potrubí ",null,null,3]
[null,null,"- Dodávka a montáž propojovacích tvarovek a armatur dle zvolené technologie zhotovitelem potřebné pro provoz provizorního vodovou",null,null,null,null,null,null,null,null,"- Dodávka a montáž propojovacích tvarovek a armatur dle zvolené technologie zhotovitelem potřebné pro provoz provizorního vodovou",null,null,3]
[null,null,"- Přerušení stávajícího potrubí pro napojení provizorního vodovodu",null,null,null,null,null,null,null,null,"- Přerušení stávajícího potrubí pro napojení provizorního vodovodu",null,null,3]
[null,null,"- Provedení tlakové zkoušky včetně proplachu a desinfekce potrubí dle ČSN",null,null,null,null,null,null,null,null,"- Provedení tlakové zkoušky včetně proplachu a desinfekce potrubí dle ČSN",null,null,3]
[null,null,"- Potředné zemní práce pro provedení propojů včetně případného odstranění konstrukcí komunikací a chodníků a provizorní úprava povrchů v prostoru vedení provizorního vodovodu",null,null,null,null,null,null,null,null,"- Potředné zemní práce pro provedení propojů včetně případného odstranění konstrukcí komunikací a chodníků a provizorní úprava povrchů v prostoru vedení provizorního vodovodu",null,null,3]
[null,null,"- Demontáž a odpojení propojů provizorního vodovodu  včetně potřebných zemních prací.",null,null,null,null,null,null,null,null,"- Demontáž a odpojení propojů provizorního vodovodu  včetně potřebných zemních prací.",null,null,3]
[null,null,"- Likvidace veškerého materiálu provizorních vodovodů ",null,null,null,null,null,null,null,null,"- Likvidace veškerého materiálu provizorních vodovodů ",null,null,3]
[null,null,"- Součástí položky jsou i náklady na přesuny materiálů - Součástí položky jsou náklady zhotovitele na poplatky za skládky materiálu",null,null,null,null,null,null,null,null,"- Součástí položky jsou i náklady na přesuny materiálů - Součástí položky jsou náklady zhotovitele na poplatky za skládky materiálu",null,null,3]
[58,"899 02-0001.RRX","Provizorní VP PE100 RC1 D32x3,0 mm - délky do 8 m vč. příslušných tvarovek a armatur","soubor",9,null,{"$f":"E321*F321","v":0},0,{"$f":"E321*H321","v":0},null,{"$f":"E321*J321","v":0},null,null,null,2,null,null,null,null,null,null,null,null,null,null,null,12,0,3,null,null,null,null,null,null,null,null,null,null,null,null,null,null,null,null,null,null,null,null,null,null,1,{"$f":"IF(AZ321=1,G321,0)","v":0},{"$f":"IF(AZ321=2,G321,0)","v":0},{"$f":"IF(AZ321=3,G321,0)","v":0},{"$f":"IF(AZ321=4,G321,0)","v":0},{"$f":"IF(AZ321=5,G321,0)","v":0},null,null,null,null,null,null,null,null,null,null,null,null,null,null,null,null,null,null,null,null,null,12,0]
[null,null,"Součástí položky je ",null,null,null,null,null,null,null,null,"Součástí položky je ",null,null,3]
[null,null,"- Dodávka a montáž příslušného potrubí dle PD ",null,null,null,null,null,null,null,null,"- Dodávka a montáž příslušného potrubí dle PD ",null,null,3]
[null,null,"- Dodávka a montáž propojovacích tvarovek a armatur dle zvolené technologie zhotovitelem potřebné pro provoz provizorního propojení VP",null,null,null,null,null,null,null,null,"- Dodávka a montáž propojovacích tvarovek a armatur dle zvolené technologie zhotovitelem potřebné pro provoz provizorního propojení VP",null,null,3]
[null,null,"- Přerušení stávajícího potrubí přípojky",null,null,null,null,null,null,null,null,"- Přerušení stávajícího potrubí přípojky",null,null,3]
[null,null,"- Provedení tlakové zkoušky včetně proplachu a desinfekce potrubí dle ČSN",null,null,null,null,null,null,null,null,"- Provedení tlakové zkoušky včetně proplachu a desinfekce potrubí dle ČSN",null,null,3]
[null,null,"- Potředné zemní práce pro provedení propoje včetně případného odstranění konstrukcí komunikací a provizorní úprava povrchů v prostoru vedení provizorního vodovodu",null,null,null,null,null,null,null,null,"- Potředné zemní práce pro provedení propoje včetně případného odstranění konstrukcí komunikací a provizorní úprava povrchů v prostoru vedení provizorního vodovodu",null,null,3]
[null,null,"- Demontáž a odpojení propojů provizorní přípojky  včetně potřebných zemních prací.",null,null,null,null,null,null,null,null,"- Demontáž a odpojení propojů provizorní přípojky  včetně potřebných zemních prací.",null,null,3]
[null,null,"- Likvidace veškerého materiálu provizorních vodovodních přípojek",null,null,null,null,null,null,null,null,"- Likvidace veškerého materiálu provizorních vodovodních přípojek",null,null,3]
[null,null,"- Součástí položky jsou i náklady na přesuny materiálů - Součástí položky jsou náklady zhotovitele na poplatky za skládky materiálu",null,null,null,null,null,null,null,null,"- Součástí položky jsou i náklady na přesuny materiálů - Součástí položky jsou náklady zhotovitele na poplatky za skládky materiálu",null,null,3]
[null,"Celkem za","89 Ostatní konstrukce na trubním vedení",null,null,null,{"$f":"SUM(G310:G330)","v":0},null,{"$f":"SUM(I310:I330)","v":0},null,{"$f":"SUM(K310:K330)","v":0},null,null,null,4,null,null,null,null,null,null,null,null,null,null,null,null,null,null,null,null,null,null,null,null,null,null,null,null,null,null,null,null,null,null,null,null,null,null,null,null,null,{"$f":"SUM(BA310:BA330)","v":0},{"$f":"SUM(BB310:BB330)","v":0},{"$f":"SUM(BC310:BC330)","v":0},{"$f":"SUM(BD310:BD330)","v":0},{"$f":"SUM(BE310:BE330)","v":0}]
["Díl:","93","Dokončovací práce inženýrských staveb",null,null,null,null,null,null,null,null,null,null,null,1]
[59,"939421121RT1","Osazení samonivelač.vodovod.poklopu za finišerem bez dodávky poklopu","kus",10,null,{"$f":"E333*F333","v":0},5.2499999999999998E-2,{"$f":"E333*H333","v":0.52500000000000002},0,{"$f":"E333*J333","v":0},null,null,null,2,null,null,null,null,null,null,null,null,null,null,null,1,0,0,null,null,null,null,null,null,null,null,null,null,null,null,null,null,null,null,null,null,null,null,null,null,1,{"$f":"IF(AZ333=1,G333,0)","v":0},{"$f":"IF(AZ333=2,G333,0)","v":0},{"$f":"IF(AZ333=3,G333,0)","v":0},{"$f":"IF(AZ333=4,G333,0)","v":0},{"$f":"IF(AZ333=5,G333,0)","v":0},null,null,null,null,null,null,null,null,null,null,null,null,null,null,null,null,null,null,null,null,null,1,0]
[null,null,"Položka obsahuje:",null,null,null,null,null,null,null,null,"Položka obsahuje:",null,null,3]
[null,null,"- osazení prefabrikovaného betonového prstence do rychletuhnoucí malty (s dodávkou hmot)",null,null,null,null,null,null,null,null,"- osazení prefabrikovaného betonového prstence do rychletuhnoucí malty (s dodávkou hmot)",null,null,3]
[null,null,"- zalití prstence rychletuhnoucí zálivkou do výše prstence (s dodávkou hmoty)",null,null,null,null,null,null,null,null,"- zalití prstence rychletuhnoucí zálivkou do výše prstence (s dodávkou hmoty)",null,null,3]
[null,null,"- vložení kruhového bednění",null,null,null,null,null,null,null,null,"- vložení kruhového bednění",null,null,3]
[null,null,"- doplnění mezikruží asfaltovou směsí do výšky současné podkladní vrstvy, zhutnění",null,null,null,null,null,null,null,null,"- doplnění mezikruží asfaltovou směsí do výšky současné podkladní vrstvy, zhutnění",null,null,3]
[null,null,"- vyjmutí kruhového bednění",null,null,null,null,null,null,null,null,"- vyjmutí kruhového bednění",null,null,3]
[null,null,"- osazení poklopu a zatlačení",null,null,null,null,null,null,null,null,"- osazení poklopu a zatlačení",null,null,3]
[null,null,"  (následuje pokládka finální vrstvy vozovky - není součástí položky)",null,null,null,null,null,null,null,null,"  (následuje pokládka finální vrstvy vozovky - není součástí položky)",null,null,3]
[null,null,"- povytažení poklopu",null,null,null,null,null,null,null,null,"- povytažení poklopu",null,null,3]
[null,null,"- podsyp asfaltovou směsí, spuštění poklopu a zhutnění směsi",null,null,null,null,null,null,null,null,"- podsyp asfaltovou směsí, spuštění poklopu a zhutnění směsi",null,null,3]
[null,null,"Položka neobsahuje:",null,null,null,null,null,null,null,null,"Položka neobsahuje:",null,null,3]
[null,null,"- dodávku samonivelačního poklopu - oceňuje se ve specifikaci",null,null,null,null,null,null,null,null,"- dodávku samonivelačního poklopu - oceňuje se ve specifikaci",null,null,3]
[null,null,"- pokládku krycí vrstvy komunikace, oceňuje se samostatně",null,null,null,null,null,null,null,null,"- pokládku krycí vrstvy komunikace, oceňuje se samostatně",null,null,3]
[null,null,"Vodovod TLT DN80 :",null,0,null,null,null,null,null,null,null,"Vodovod TLT DN80 :"]
[null,null,"Pro Šoupě DN80 v asfaltu:1",null,1,null,null,null,null,null,null,null,"Pro Šoupě DN80 v asfaltu:1"]
[null,null,"Pro Ventil VP v asfaltu:9",null,9,null,null,null,null,null,null,null,"Pro Ventil VP v asfaltu:9"]
[60,"939421131RT1","Osazení samonivelač.hydrant.poklopu za finišerem bez dodávky poklopu","kus",1,null,{"$f":"E350*F350","v":0},6.8250000000000005E-2,{"$f":"E350*H350","v":6.8250000000000005E-2},0,{"$f":"E350*J350","v":0},null,null,null,2,null,null,null,null,null,null,null,null,null,null,null,1,1,1,null,null,null,null,null,null,null,null,null,null,null,null,null,null,null,null,null,null,null,null,null,null,1,{"$f":"IF(AZ350=1,G350,0)","v":0},{"$f":"IF(AZ350=2,G350,0)","v":0},{"$f":"IF(AZ350=3,G350,0)","v":0},{"$f":"IF(AZ350=4,G350,0)","v":0},{"$f":"IF(AZ350=5,G350,0)","v":0},null,null,null,null,null,null,null,null,null,null,null,null,null,null,null,null,null,null,null,null,null,1,1]
[null,null,"Položka obsahuje:",null,null,null,null,null,null,null,null,"Položka obsahuje:",null,null,3]
[null,null,"- osazení prefabrikovaného betonového prstence do rychletuhnoucí malty (s dodávkou hmot)",null,null,null,null,null,null,null,null,"- osazení prefabrikovaného betonového prstence do rychletuhnoucí malty (s dodávkou hmot)",null,null,3]
[null,null,"- zalití prstence rychletuhnoucí zálivkou do výše prstence (s dodávkou hmoty)",null,null,null,null,null,null,null,null,"- zalití prstence rychletuhnoucí zálivkou do výše prstence (s dodávkou hmoty)",null,null,3]
[null,null,"- vložení kruhového bednění",null,null,null,null,null,null,null,null,"- vložení kruhového bednění",null,null,3]
[null,null,"- doplnění mezikruží asfaltovou směsí do výšky současné podkladní vrstvy, zhutnění",null,null,null,null,null,null,null,null,"- doplnění mezikruží asfaltovou směsí do výšky současné podkladní vrstvy, zhutnění",null,null,3]
[null,null,"- vyjmutí kruhového bednění",null,null,null,null,null,null,null,null,"- vyjmutí kruhového bednění",null,null,3]
[null,null,"- osazení poklopu a zatlačení",null,null,null,null,null,null,null,null,"- osazení poklopu a zatlačení",null,null,3]
[null,null,"  (následuje pokládka finální vrstvy vozovky - není součástí položky)",null,null,null,null,null,null,null,null,"  (následuje pokládka finální vrstvy vozovky - není součástí položky)",null,null,3]
[null,null,"- povytažení poklopu",null,null,null,null,null,null,null,null,"- povytažení poklopu",null,null,3]
[null,null,"- podsyp asfaltovou směsí, spuštění poklopu a zhutnění směsi",null,null,null,null,null,null,null,null,"- podsyp asfaltovou směsí, spuštění poklopu a zhutnění směsi",null,null,3]
[null,null,"Položka neobsahuje:",null,null,null,null,null,null,null,null,"Položka neobsahuje:",null,null,3]
[null,null,"- dodávku samonivelačního poklopu - oceňuje se ve specifikaci",null,null,null,null,null,null,null,null,"- dodávku samonivelačního poklopu - oceňuje se ve specifikaci",null,null,3]
[null,null,"- pokládku krycí vrstvy komunikace, oceňuje se samostatně",null,null,null,null,null,null,null,null,"- pokládku krycí vrstvy komunikace, oceňuje se samostatně",null,null,3]
[null,null,"Vodovod TLT DN80 :",null,0,null,null,null,null,null,null,null,"Vodovod TLT DN80 :"]
[null,null,"Pro Hp DN80/1,5 v asfaltu:1",null,1,null,null,null,null,null,null,null,"Pro Hp DN80/1,5 v asfaltu:1"]
[61,"422913520.R","Poklop luliční samonivelační přípojkový D400","kus",9,null,{"$f":"E366*F366","v":0},1.2E-2,{"$f":"E366*H366","v":0.108},null,{"$f":"E366*J366","v":0},null,null,null,2,null,null,null,null,null,null,null,null,null,null,null,3,1,"422913520.R",null,null,null,null,null,null,null,null,null,null,null,null,null,null,null,null,null,null,null,null,null,null,1,{"$f":"IF(AZ366=1,G366,0)","v":0},{"$f":"IF(AZ366=2,G366,0)","v":0},{"$f":"IF(AZ366=3,G366,0)","v":0},{"$f":"IF(AZ366=4,G366,0)","v":0},{"$f":"IF(AZ366=5,G366,0)","v":0},null,null,null,null,null,null,null,null,null,null,null,null,null,null,null,null,null,null,null,null,null,3,1]
[null,null,"Uliční samonivelační poklop přípojkový z tvárné litiny dle ČSN EN 124",null,null,null,null,null,null,null,null,"Uliční samonivelační poklop přípojkový z tvárné litiny dle ČSN EN 124",null,null,3]
[null,null,"Rozpětí stavební výšky 195 - 285 mm s fixací polohy",null,null,null,null,null,null,null,null,"Rozpětí stavební výšky 195 - 285 mm s fixací polohy",null,null,3]
[null,null,"Výklopové víko spojeno s rámem čepem a opatřeno ochrannou a těsnící vrstvou proti vnikání nečistot",null,null,null,null,null,null,null,null,"Výklopové víko spojeno s rámem čepem a opatřeno ochrannou a těsnící vrstvou proti vnikání nečistot",null,null,3]
[null,null,"Tlumicí vložka z elastomeru a PUR",null,null,null,null,null,null,null,null,"Tlumicí vložka z elastomeru a PUR",null,null,3]
[null,null,"Možnost vlastního loga a barevného provedení",null,null,null,null,null,null,null,null,"Možnost vlastního loga a barevného provedení",null,null,3]
[null,null,"Vodovod TLT DN80 :",null,0,null,null,null,null,null,null,null,"Vodovod TLT DN80 :"]
[null,null,"Pro Ventil VP v asfaltu:9",null,9,null,null,null,null,null,null,null,"Pro Ventil VP v asfaltu:9"]
[62,"422913521.R","Poklop litinový samonivelační šoupátkový D400","kus",1,null,{"$f":"E374*F374","v":0},1.2E-2,{"$f":"E374*H374","v":1.2E-2},null,{"$f":"E374*J374","v":0},null,null,null,2,null,null,null,null,null,null,null,null,null,null,null,3,1,"422913521.R",null,null,null,null,null,null,null,null,null,null,null,null,null,null,null,null,null,null,null,null,null,null,1,{"$f":"IF(AZ374=1,G374,0)","v":0},{"$f":"IF(AZ374=2,G374,0)","v":0},{"$f":"IF(AZ374=3,G374,0)","v":0},{"$f":"IF(AZ374=4,G374,0)","v":0},{"$f":"IF(AZ374=5,G374,0)","v":0},null,null,null,null,null,null,null,null,null,null,null,null,null,null,null,null,null,null,null,null,null,3,1]
[null,null,"Uliční samonivelační šoupátkový poklop z tvárné litiny dle ČSN EN 124",null,null,null,null,null,null,null,null,"Uliční samonivelační šoupátkový poklop z tvárné litiny dle ČSN EN 124",null,null,3]
[null,null,"Rozpětí stavební výšky 195 - 285 mm s fixací polohy",null,null,null,null,null,null,null,null,"Rozpětí stavební výšky 195 - 285 mm s fixací polohy",null,null,3]
[null,null,"Výklopové víko spojeno s rámem čepem a opatřeno ochrannou a těsnící vrstvou proti vnikání nečistot",null,null,null,null,null,null,null,null,"Výklopové víko spojeno s rámem čepem a opatřeno ochrannou a těsnící vrstvou proti vnikání nečistot",null,null,3]
[null,null,"Tlumicí vložka z elastomeru a PUR",null,null,null,null,null,null,null,null,"Tlumicí vložka z elastomeru a PUR",null,null,3]
[null,null,"Možnost vlastního loga a barevného provedení",null,null,null,null,null,null,null,null,"Možnost vlastního loga a barevného provedení",null,null,3]
[null,null,"Vodovod TLT DN80 :",null,0,null,null,null,null,null,null,null,"Vodovod TLT DN80 :"]
[null,null,"Pro Šoupě DN80 v asfaltu:1",null,1,null,null,null,null,null,null,null,"Pro Šoupě DN80 v asfaltu:1"]
[63,"422914522.R","Poklop litinový hydrantový samonivelační D400","kus",1,null,{"$f":"E382*F382","v":0},2.4E-2,{"$f":"E382*H382","v":2.4E-2},null,{"$f":"E382*J382","v":0},null,null,null,2,null,null,null,null,null,null,null,null,null,null,null,3,1,"422914522.R",null,null,null,null,null,null,null,null,null,null,null,null,null,null,null,null,null,null,null,null,null,null,1,{"$f":"IF(AZ382=1,G382,0)","v":0},{"$f":"IF(AZ382=2,G382,0)","v":0},{"$f":"IF(AZ382=3,G382,0)","v":0},{"$f":"IF(AZ382=4,G382,0)","v":0},{"$f":"IF(AZ382=5,G382,0)","v":0},null,null,null,null,null,null,null,null,null,null,null,null,null,null,null,null,null,null,null,null,null,3,1]
[null,null,"Uliční samonivelační hydrantový poklop z tvárné litiny dle ČSN EN 124",null,null,null,null,null,null,null,null,"Uliční samonivelační hydrantový poklop z tvárné litiny dle ČSN EN 124",null,null,3]
[null,null,"Rozpětí stavební výšky 200 - 285 mm s fixací polohy",null,null,null,null,null,null,null,null,"Rozpětí stavební výšky 200 - 285 mm s fixací polohy",null,null,3]
[null,null,"Výklopové víko spojeno s rámem čepem a opatřeno ochrannou a těsnící vrstvou proti vnikání nečistot",null,null,null,null,null,null,null,null,"Výklopové víko spojeno s rámem čepem a opatřeno ochrannou a těsnící vrstvou proti vnikání nečistot",null,null,3]
[null,null,"Tlumicí vložka z elastomeru a PUR",null,null,null,null,null,null,null,null,"Tlumicí vložka z elastomeru a PUR",null,null,3]
[null,null,"Možnost vlastního loga a barevného provedení",null,null,null,null,null,null,null,null,"Možnost vlastního loga a barevného provedení",null,null,3]
[null,null,"Vodovod TLT DN80 :",null,0,null,null,null,null,null,null,null,"Vodovod TLT DN80 :"]
[null,null,"Pro Hp DN80/1,5 v asfaltu:1",null,1,null,null,null,null,null,null,null,"Pro Hp DN80/1,5 v asfaltu:1"]
[null,"Celkem za","93 Dokončovací práce inženýrských staveb",null,null,null,{"$f":"SUM(G332:G389)","v":0},null,{"$f":"SUM(I332:I389)","v":0.73725000000000007},null,{"$f":"SUM(K332:K389)","v":0},null,null,null,4,null,null,null,null,null,null,null,null,null,null,null,null,null,null,null,null,null,null,null,null,null,null,null,null,null,null,null,null,null,null,null,null,null,null,null,null,null,{"$f":"SUM(BA332:BA389)","v":0},{"$f":"SUM(BB332:BB389)","v":0},{"$f":"SUM(BC332:BC389)","v":0},{"$f":"SUM(BD332:BD389)","v":0},{"$f":"SUM(BE332:BE389)","v":0}]
["Díl:","99","Staveništní přesun hmot",null,null,null,null,null,null,null,null,null,null,null,1]
[64,"998273101R00","Přesun hmot, trubní vedení litinové, otevř. výkop ","t",365.64665835,null,{"$f":"E392*F392","v":0},0,{"$f":"E392*H392","v":0},null,{"$f":"E392*J392","v":0},null,null,null,2,null,null,null,null,null,null,null,null,null,null,null,7,1,2,null,null,null,null,null,null,null,null,null,null,null,null,null,null,null,null,null,null,null,null,null,null,1,{"$f":"IF(AZ392=1,G392,0)","v":0},{"$f":"IF(AZ392=2,G392,0)","v":0},{"$f":"IF(AZ392=3,G392,0)","v":0},{"$f":"IF(AZ392=4,G392,0)","v":0},{"$f":"IF(AZ392=5,G392,0)","v":0},null,null,null,null,null,null,null,null,null,null,null,null,null,null,null,null,null,null,null,null,null,7,1]
[null,"Celkem za","99 Staveništní přesun hmot",null,null,null,{"$f":"SUM(G391:G392)","v":0},null,{"$f":"SUM(I391:I392)","v":0},null,{"$f":"SUM(K391:K392)","v":0},null,null,null,4,null,null,null,null,null,null,null,null,null,null,null,null,null,null,null,null,null,null,null,null,null,null,null,null,null,null,null,null,null,null,null,null,null,null,null,null,null,{"$f":"SUM(BA391:BA392)","v":0},{"$f":"SUM(BB391:BB392)","v":0},{"$f":"SUM(BC391:BC392)","v":0},{"$f":"SUM(BD391:BD392)","v":0},{"$f":"SUM(BE391:BE392)","v":0}]

{"sheet":"302.1 3332302.1 KL","index":13,"n_rows":45,"n_cols":8,"rows_kept":45,"cut":false,"hidden":false,"merged":[[50,1,50,6],[29,5,29,6],[30,5,30,6],[31,5,31,6],[32,5,32,6],[33,5,33,6],[36,1,44,6],[45,1,45,6],[46,1,46,6],[47,1,47,6],[48,1,48,6],[49,1,49,6],[22,0,22,1],[7,2,7,4],[8,2,8,4],[9,2,9,4],[10,2,10,4],[11,2,11,4]]}
["POLOŽKOVÝ ROZPOČET"]
["Rozpočet",null,"3332/302.1","Dešťová kanalizace - 1.část",null,"JKSO ","827.21.A4"]
[]
["Objekt",null,null,null,null,"SKP "]
["302.1",null,"Dešťová kanalizace - 1.část",null,null,"Měrná jednotka","m"]
["Stavba",null,null,null,null,"Počet jednotek",0]
["3332",null,"Obnova vodovodu a kanalizace  v Obci Loučky",null,null,"Náklady na m.j.",{"$f":"IF(G6=0,,ROUND((F30+F32)/G6,1))","v":0}]
["Projektant",null,"LK PROJEKT s.r.o.",null,null,"Typ rozpočtu"]
["Zpracovatel projektu"]
["Objednatel",null,"Vodohospodářské sdružení Turnov"]
["Dodavatel",null,".",null,null,"Zakázkové číslo "]
["Rozpočtoval",null,null,null,null,"Počet listů"]
["ROZPOČTOVÉ NÁKLADY"]
["Základní rozpočtové náklady"]
[null,"HSV celkem",{"$f":"'302.1 3332302.1 Rek'!E14","v":0}]
["Z","PSV celkem",{"$f":"'302.1 3332302.1 Rek'!F14","v":0}]
["R","M práce celkem",{"$f":"'302.1 3332302.1 Rek'!H14","v":0}]
["N","M dodávky celkem",{"$f":"'302.1 3332302.1 Rek'!G14","v":0}]
["ZRN celkem",null,{"$f":"SUM(C15:C18)","v":0}]
[]
["HZS",null,{"$f":"'302.1 3332302.1 Rek'!I14","v":0}]
["ZRN+HZS",null,{"$f":"C19+C21","v":0}]
["ZRN+ost.náklady+HZS",null,{"$f":"C22+G23","v":0}]
["Vypracoval",null,null,"Za zhotovitele",null,"Za objednatele"]
["Jméno :",null,null,"Jméno :",null,"Jméno :"]
["Datum :",null,null,"Datum :",null,"Datum :"]
[]
["Podpis :",null,null,"Podpis:",null,"Podpis:"]
[]
["Základ pro DPH",null,21,"%  ",null,{"$f":"C23-F32","v":0}]
["DPH",null,{"$f":"C30","v":21},"% ",null,{"$f":"ROUND(PRODUCT(F30,C31/100),0)","v":0}]
["Základ pro DPH",null,0,"% ",null,0]
["DPH",null,{"$f":"C32","v":0},"% ",null,{"$f":"ROUND(PRODUCT(F32,C33/100),0)","v":0}]
["CENA ZA OBJEKT CELKEM",null,null,null,null,{"$f":"ROUND(SUM(F30:F33),0)","v":0}]
[]
["Poznámka :",null,null,null,null,null,null," "]
[null,null,null,null,null,null,null," "]
[null,null,null,null,null,null,null," "]
[null,null,null,null,null,null,null," "]
[null,null,null,null,null,null,null," "]
[null,null,null,null,null,null,null," "]
[null,null,null,null,null,null,null," "]
[null,null,null,null,null,null,null," "]
[null,null,null,null,null,null,null," "]
[null,null,null,null,null,null,null," "]

{"sheet":"302.1 3332302.1 Rek","index":14,"n_rows":14,"n_cols":9,"rows_kept":14,"cut":false,"hidden":false,"merged":[[0,0,0,1],[1,0,1,1],[1,6,1,8]]}
["Stavba :",null,"3332 Obnova vodovodu a kanalizace  v Obci Loučky",null,null,null,"Rozpočet :","3332/302.1"]
["Objekt :",null,"302.1 Dešťová kanalizace - 1.část",null,null,null,"Dešťová kanalizace - 1.část"]
[]
["REKAPITULACE  STAVEBNÍCH  DÍLŮ"]
[]
[null,"Stavební díl",null,null,"HSV","PSV","Dodávka","Montáž","HZS"]
[{"$f":"'302.1 3332302.1 Pol'!B7","v":"1"},{"$f":"'302.1 3332302.1 Pol'!C7","v":"Zemní práce"},null,null,{"$f":"'302.1 3332302.1 Pol'!BA431","v":0},{"$f":"'302.1 3332302.1 Pol'!BB431","v":0},{"$f":"'302.1 3332302.1 Pol'!BC431","v":0},{"$f":"'302.1 3332302.1 Pol'!BD431","v":0},{"$f":"'302.1 3332302.1 Pol'!BE431","v":0}]
[{"$f":"'302.1 3332302.1 Pol'!B432","v":"2"},{"$f":"'302.1 3332302.1 Pol'!C432","v":"Základy a zvláštní zakládání"},null,null,{"$f":"'302.1 3332302.1 Pol'!BA466","v":0},{"$f":"'302.1 3332302.1 Pol'!BB466","v":0},{"$f":"'302.1 3332302.1 Pol'!BC466","v":0},{"$f":"'302.1 3332302.1 Pol'!BD466","v":0},{"$f":"'302.1 3332302.1 Pol'!BE466","v":0}]
[{"$f":"'302.1 3332302.1 Pol'!B467","v":"45"},{"$f":"'302.1 3332302.1 Pol'!C467","v":"Podkladní a vedlejší konstrukce"},null,null,{"$f":"'302.1 3332302.1 Pol'!BA521","v":0},{"$f":"'302.1 3332302.1 Pol'!BB521","v":0},{"$f":"'302.1 3332302.1 Pol'!BC521","v":0},{"$f":"'302.1 3332302.1 Pol'!BD521","v":0},{"$f":"'302.1 3332302.1 Pol'!BE521","v":0}]
[{"$f":"'302.1 3332302.1 Pol'!B522","v":"5"},{"$f":"'302.1 3332302.1 Pol'!C522","v":"Komunikace"},null,null,{"$f":"'302.1 3332302.1 Pol'!BA538","v":0},{"$f":"'302.1 3332302.1 Pol'!BB538","v":0},{"$f":"'302.1 3332302.1 Pol'!BC538","v":0},{"$f":"'302.1 3332302.1 Pol'!BD538","v":0},{"$f":"'302.1 3332302.1 Pol'!BE538","v":0}]
[{"$f":"'302.1 3332302.1 Pol'!B539","v":"8"},{"$f":"'302.1 3332302.1 Pol'!C539","v":"Trubní vedení"},null,null,{"$f":"'302.1 3332302.1 Pol'!BA1009","v":0},{"$f":"'302.1 3332302.1 Pol'!BB1009","v":0},{"$f":"'302.1 3332302.1 Pol'!BC1009","v":0},{"$f":"'302.1 3332302.1 Pol'!BD1009","v":0},{"$f":"'302.1 3332302.1 Pol'!BE1009","v":0}]
[{"$f":"'302.1 3332302.1 Pol'!B1010","v":"93"},{"$f":"'302.1 3332302.1 Pol'!C1010","v":"Dokončovací práce inženýrských staveb"},null,null,{"$f":"'302.1 3332302.1 Pol'!BA1038","v":0},{"$f":"'302.1 3332302.1 Pol'!BB1038","v":0},{"$f":"'302.1 3332302.1 Pol'!BC1038","v":0},{"$f":"'302.1 3332302.1 Pol'!BD1038","v":0},{"$f":"'302.1 3332302.1 Pol'!BE1038","v":0}]
[{"$f":"'302.1 3332302.1 Pol'!B1039","v":"99"},{"$f":"'302.1 3332302.1 Pol'!C1039","v":"Staveništní přesun hmot"},null,null,{"$f":"'302.1 3332302.1 Pol'!BA1041","v":0},{"$f":"'302.1 3332302.1 Pol'!BB1041","v":0},{"$f":"'302.1 3332302.1 Pol'!BC1041","v":0},{"$f":"'302.1 3332302.1 Pol'!BD1041","v":0},{"$f":"'302.1 3332302.1 Pol'!BE1041","v":0}]
[null,"CELKEM  OBJEKT",null,null,{"$f":"SUM(E7:E13)","v":0},{"$f":"SUM(F7:F13)","v":0},{"$f":"SUM(G7:G13)","v":0},{"$f":"SUM(H7:H13)","v":0},{"$f":"SUM(I7:I13)","v":0}]

{"sheet":"302.1 3332302.1 Pol","index":15,"n_rows":1041,"n_cols":80,"rows_kept":1041,"cut":false,"hidden":false,"merged":[[1033,2,1033,6],[1034,2,1034,6],[1035,2,1035,3],[1036,2,1036,3],[1025,2,1025,3],[1026,2,1026,3],[1028,2,1028,6],[1029,2,1029,6],[1030,2,1030,3],[1031,2,1031,3],[1019,2,1019,6],[1020,2,1020,6],[1021,2,1021,6],[1022,2,1022,6],[1023,2,1023,6],[1024,2,1024,3],[1005,2,1005,6],[1006,2,1006,3],[1007,2,1007,3],[1014,2,1014,6],[1015,2,1015,6],[1016,2,1016,6],[1017,2,1017,6],[1018,2,1018,6],[999,2,999,6],[1000,2,1000,6],[1001,2,1001,6],[1002,2,1002,6],[1003,2,1003,6],[1004,2,1004,6],[992,2,992,3],[993,2,993,3],[994,2,994,3],[996,2,996,6],[997,2,997,6],[998,2,998,6],[986,2,986,3],[987,2,987,3],[988,2,988,3],[989,2,989,3],[990,2,990,3],[991,2,991,3],[980,2,980,6],[981,2,981,3],[982,2,982,3],[983,2,983,3],[984,2,984,3],[985,2,985,3],[974,2,974,6],[975,2,975,6],[976,2,976,6],[977,2,977,6],[978,2,978,6],[979,2,979,6],[967,2,967,6],[968,2,968,6],[969,2,969,3],[970,2,970,3],[971,2,971,3],[973,2,973,6],[960,2,960,3],[961,2,961,3],[962,2,962,3],[964,2,964,6],[965,2,965,6],[966,2,966,6],[954,2,954,6],[955,2,955,6],[956,2,956,3],[957,2,957,3],[958,2,958,3],[959,2,959,3],[948,2,948,6],[949,2,949,6],[950,2,950,6],[951,2,951,6],[952,2,952,6],[953,2,953,6],[940,2,940,3],[941,2,941,3],[943,2,943,6],[944,2,944,3],[945,2,945,3],[947,2,947,6],[931,2,931,3],[933,2,933,3],[934,2,934,3],[936,2,936,3],[937,2,937,3],[939,2,939,6],[924,2,924,3],[925,2,925,3],[926,2,926,3],[927,2,927,3],[928,2,928,3],[930,2,930,3],[917,2,917,3],[918,2,918,3],[919,2,919,3],[920,2,920,3],[921,2,921,3],[923,2,923,3],[910,2,910,3],[911,2,911,3],[912,2,912,3],[913,2,913,3],[914,2,914,3],[916,2,916,3],[904,2,904,6],[905,2,905,6],[906,2,906,3],[907,2,907,3],[909,2,909,3],[897,2,897,3],[898,2,898,3],[899,2,899,3],[900,2,900,3],[901,2,901,3],[902,2,902,3],[890,2,890,3],[891,2,891,3],[892,2,892,3],[893,2,893,3],[894,2,894,3],[895,2,895,3],[883,2,883,3],[885,2,885,3],[886,2,886,3],[887,2,887,3],[888,2,888,3],[889,2,889,3],[877,2,877,3],[878,2,878,3],[879,2,879,3],[880,2,880,3],[881,2,881,3],[882,2,882,3],[870,2,870,3],[871,2,871,3],[873,2,873,3],[874,2,874,3],[875,2,875,3],[876,2,876,3],[864,2,864,6],[865,2,865,6],[866,2,866,6],[867,2,867,6],[868,2,868,6],[869,2,869,6],[857,2,857,3],[858,2,858,3],[859,2,859,3],[860,2,860,3],[861,2,861,3],[862,2,862,3],[851,2,851,3],[852,2,852,3],[853,2,853,3],[854,2,854,3],[855,2,855,3],[856,2,856,3],[845,2,845,6],[846,2,846,6],[847,2,847,6],[848,2,848,3],[849,2,849,3],[850,2,850,3],[838,2,838,6],[839,2,839,6],[840,2,840,6],[841,2,841,3],[843,2,843,6],[844,2,844,6],[832,2,832,3],[833,2,833,3],[835,2,835,6],[836,2,836,6],[837,2,837,6],[826,2,826,3],[827,2,827,3],[828,2,828,3],[829,2,829,3],[830,2,830,3],[831,2,831,3],[820,2,820,3],[821,2,821,3],[822,2,822,3],[823,2,823,3],[824,2,824,3],[825,2,825,3],[814,2,814,6],[815,2,815,6],[816,2,816,6],[817,2,817,6],[818,2,818,6],[819,2,819,6],[806,2,806,3],[807,2,807,3],[808,2,808,3],[810,2,810,6],[811,2,811,3],[812,2,812,3],[798,2,798,6],[800,2,800,3],[801,2,801,3],[803,2,803,3],[804,2,804,3],[805,2,805,3],[790,2,790,3],[791,2,791,3],[792,2,792,3],[793,2,793,3],[794,2,794,3],[796,2,796,3],[783,2,783,3],[784,2,784,3],[785,2,785,3],[787,2,787,6],[788,2,788,6],[789,2,789,3],[777,2,777,3],[778,2,778,3],[779,2,779,3],[780,2,780,3],[781,2,781,3],[782,2,782,3],[770,2,770,6],[771,2,771,6],[772,2,772,3],[773,2,773,3],[774,2,774,3],[776,2,776,6],[762,2,762,3],[763,2,763,3],[765,2,765,6],[766,2,766,6],[767,2,767,3],[768,2,768,3],[755,2,755,3],[756,2,756,3],[757,2,757,3],[759,2,759,6],[760,2,760,6],[761,2,761,3],[749,2,749,3],[750,2,750,3],[751,2,751,3],[752,2,752,3],[753,2,753,3],[754,2,754,3],[743,2,743,6],[744,2,744,3],[745,2,745,3],[746,2,746,3],[747,2,747,3],[748,2,748,3],[736,2,736,3],[737,2,737,3],[738,2,738,3],[739,2,739,3],[740,2,740,3],[741,2,741,3],[730,2,730,3],[731,2,731,3],[732,2,732,3],[733,2,733,3],[734,2,734,3],[735,2,735,3],[723,2,723,3],[724,2,724,3],[725,2,725,3],[726,2,726,3],[727,2,727,3],[729,2,729,6],[717,2,717,3],[718,2,718,3],[719,2,719,3],[720,2,720,3],[721,2,721,3],[722,2,722,3],[710,2,710,3],[711,2,711,3],[712,2,712,3],[714,2,714,3],[715,2,715,3],[716,2,716,3],[704,2,704,3],[705,2,705,3],[706,2,706,3],[707,2,707,3],[708,2,708,3],[709,2,709,3],[698,2,698,6],[699,2,699,6],[700,2,700,6],[701,2,701,3],[702,2,702,3],[703,2,703,3],[691,2,691,3],[692,2,692,3],[693,2,693,3],[694,2,694,3],[695,2,695,3],[697,2,697,6],[685,2,685,3],[686,2,686,3],[687,2,687,3],[688,2,688,3],[689,2,689,3],[690,2,690,3],[678,2,678,3],[680,2,680,6],[681,2,681,6],[682,2,682,6],[683,2,683,6],[684,2,684,3],[671,2,671,3],[672,2,672,3],[674,2,674,6],[675,2,675,3],[676,2,676,3],[677,2,677,3],[665,2,665,3],[666,2,666,3],[667,2,667,3],[668,2,668,3],[669,2,669,3],[670,2,670,3],[658,2,658,3],[659,2,659,3],[660,2,660,3],[661,2,661,3],[662,2,662,3],[664,2,664,6],[652,2,652,3],[653,2,653,3],[654,2,654,3],[655,2,655,3],[656,2,656,3],[657,2,657,3],[645,2,645,3],[646,2,646,3],[648,2,648,6],[649,2,649,3],[650,2,650,3],[651,2,651,3],[638,2,638,3],[640,2,640,6],[641,2,641,3],[642,2,642,3],[643,2,643,3],[644,2,644,3],[631,2,631,3],[632,2,632,3],[633,2,633,3],[634,2,634,3],[636,2,636,6],[637,2,637,3],[625,2,625,3],[626,2,626,3],[627,2,627,3],[628,2,628,3],[629,2,629,3],[630,2,630,3],[619,2,619,3],[620,2,620,3],[621,2,621,3],[622,2,622,3],[623,2,623,3],[624,2,624,3],[613,2,613,3],[614,2,614,3],[615,2,615,3],[616,2,616,3],[617,2,617,3],[618,2,618,3],[606,2,606,3],[608,2,608,6],[609,2,609,3],[610,2,610,3],[611,2,611,3],[612,2,612,3],[599,2,599,3],[600,2,600,3],[601,2,601,3],[602,2,602,3],[603,2,603,3],[605,2,605,6],[593,2,593,3],[594,2,594,3],[595,2,595,3],[596,2,596,3],[597,2,597,3],[598,2,598,3],[586,2,586,3],[587,2,587,3],[589,2,589,6],[590,2,590,3],[591,2,591,3],[592,2,592,3],[579,2,579,3],[580,2,580,3],[581,2,581,3],[582,2,582,3],[584,2,584,6],[585,2,585,6],[573,2,573,3],[574,2,574,3],[575,2,575,3],[576,2,576,3],[577,2,577,3],[578,2,578,3],[567,2,567,6],[568,2,568,6],[569,2,569,3],[570,2,570,3],[571,2,571,3],[572,2,572,3],[559,2,559,3],[560,2,560,3],[562,2,562,6],[563,2,563,3],[564,2,564,3],[565,2,565,3],[553,2,553,6],[554,2,554,3],[555,2,555,3],[556,2,556,3],[557,2,557,3],[558,2,558,3],[545,2,545,3],[547,2,547,6],[548,2,548,6],[549,2,549,6],[550,2,550,3],[551,2,551,3],[534,2,534,3],[535,2,535,3],[536,2,536,3],[540,2,540,6],[541,2,541,6],[542,2,542,6],[543,2,543,6],[544,2,544,6],[528,2,528,3],[529,2,529,3],[530,2,530,3],[531,2,531,3],[532,2,532,3],[533,2,533,3],[516,2,516,3],[518,2,518,3],[519,2,519,3],[523,2,523,3],[524,2,524,3],[525,2,525,3],[526,2,526,3],[527,2,527,3],[509,2,509,3],[510,2,510,3],[511,2,511,3],[512,2,512,3],[513,2,513,3],[515,2,515,3],[502,2,502,3],[503,2,503,3],[504,2,504,3],[505,2,505,3],[506,2,506,3],[508,2,508,3],[496,2,496,6],[497,2,497,3],[498,2,498,3],[499,2,499,3],[500,2,500,3],[501,2,501,3],[489,2,489,3],[490,2,490,3],[491,2,491,3],[492,2,492,3],[493,2,493,3],[494,2,494,3],[482,2,482,3],[483,2,483,3],[485,2,485,6],[486,2,486,3],[487,2,487,3],[488,2,488,3],[476,2,476,3],[477,2,477,3],[478,2,478,3],[479,2,479,3],[480,2,480,3],[481,2,481,3],[468,2,468,3],[469,2,469,3],[470,2,470,3],[471,2,471,3],[472,2,472,3],[473,2,473,3],[474,2,474,3],[475,2,475,3],[459,2,459,3],[460,2,460,3],[461,2,461,3],[462,2,462,3],[463,2,463,3],[464,2,464,3],[452,2,452,3],[454,2,454,3],[455,2,455,3],[456,2,456,3],[457,2,457,3],[458,2,458,3],[446,2,446,3],[447,2,447,3],[448,2,448,3],[449,2,449,3],[450,2,450,3],[451,2,451,3],[439,2,439,3],[440,2,440,3],[442,2,442,3],[443,2,443,3],[444,2,444,3],[445,2,445,3],[428,2,428,3],[429,2,429,3],[433,2,433,3],[434,2,434,3],[435,2,435,3],[436,2,436,3],[437,2,437,3],[438,2,438,3],[422,2,422,3],[423,2,423,3],[424,2,424,3],[425,2,425,3],[426,2,426,3],[427,2,427,3],[416,2,416,3],[417,2,417,3],[418,2,418,3],[419,2,419,3],[420,2,420,3],[421,2,421,3],[410,2,410,3],[411,2,411,3],[412,2,412,3],[413,2,413,3],[414,2,414,3],[415,2,415,3],[404,2,404,3],[405,2,405,3],[406,2,406,3],[407,2,407,3],[408,2,408,3],[409,2,409,3],[398,2,398,3],[399,2,399,3],[400,2,400,3],[401,2,401,3],[402,2,402,3],[403,2,403,3],[392,2,392,3],[393,2,393,3],[394,2,394,3],[395,2,395,3],[396,2,396,3],[397,2,397,3],[386,2,386,3],[387,2,387,3],[388,2,388,3],[389,2,389,3],[390,2,390,3],[391,2,391,3],[380,2,380,3],[381,2,381,3],[382,2,382,3],[383,2,383,3],[384,2,384,3],[385,2,385,3],[374,2,374,3],[375,2,375,3],[376,2,376,3],[377,2,377,3],[378,2,378,3],[379,2,379,3],[368,2,368,3],[369,2,369,3],[370,2,370,3],[371,2,371,3],[372,2,372,3],[373,2,373,3],[362,2,362,3],[363,2,363,3],[364,2,364,3],[365,2,365,3],[366,2,366,3],[367,2,367,3],[356,2,356,3],[357,2,357,3],[358,2,358,3],[359,2,359,3],[360,2,360,3],[361,2,361,3],[350,2,350,3],[351,2,351,3],[352,2,352,3],[353,2,353,3],[354,2,354,3],[355,2,355,3],[343,2,343,3],[344,2,344,3],[345,2,345,3],[346,2,346,3],[347,2,347,3],[348,2,348,3],[337,2,337,3],[338,2,338,3],[339,2,339,3],[340,2,340,3],[341,2,341,3],[342,2,342,3],[331,2,331,3],[332,2,332,3],[333,2,333,3],[334,2,334,3],[335,2,335,3],[336,2,336,3],[325,2,325,3],[326,2,326,3],[327,2,327,3],[328,2,328,3],[329,2,329,3],[330,2,330,3],[317,2,317,3],[319,2,319,3],[320,2,320,3],[321,2,321,3],[323,2,323,3],[324,2,324,3],[310,2,310,3],[311,2,311,3],[312,2,312,3],[313,2,313,3],[315,2,315,3],[316,2,316,3],[304,2,304,3],[305,2,305,3],[306,2,306,3],[307,2,307,3],[308,2,308,3],[309,2,309,3],[298,2,298,3],[299,2,299,3],[300,2,300,3],[301,2,301,3],[302,2,302,3],[303,2,303,3],[292,2,292,3],[293,2,293,3],[294,2,294,3],[295,2,295,3],[296,2,296,3],[297,2,297,3],[285,2,285,3],[286,2,286,3],[287,2,287,3],[288,2,288,3],[289,2,289,3],[291,2,291,3],[279,2,279,3],[280,2,280,3],[281,2,281,3],[282,2,282,3],[283,2,283,3],[284,2,284,3],[273,2,273,3],[274,2,274,3],[275,2,275,3],[276,2,276,3],[277,2,277,3],[278,2,278,3],[267,2,267,3],[268,2,268,3],[269,2,269,3],[270,2,270,3],[271,2,271,3],[272,2,272,3],[261,2,261,3],[262,2,262,3],[263,2,263,3],[264,2,264,3],[265,2,265,3],[266,2,266,3],[255,2,255,3],[256,2,256,3],[257,2,257,3],[258,2,258,3],[259,2,259,3],[260,2,260,3],[249,2,249,3],[250,2,250,3],[251,2,251,3],[252,2,252,3],[253,2,253,3],[254,2,254,3],[243,2,243,3],[244,2,244,3],[245,2,245,3],[246,2,246,3],[247,2,247,3],[248,2,248,3],[237,2,237,3],[238,2,238,3],[239,2,239,3],[240,2,240,3],[241,2,241,3],[242,2,242,3],[231,2,231,3],[232,2,232,3],[233,2,233,3],[234,2,234,3],[235,2,235,3],[236,2,236,3],[225,2,225,3],[226,2,226,3],[227,2,227,3],[228,2,228,3],[229,2,229,3],[230,2,230,3],[219,2,219,3],[220,2,220,3],[221,2,221,3],[222,2,222,3],[223,2,223,3],[224,2,224,3],[213,2,213,3],[214,2,214,3],[215,2,215,3],[216,2,216,3],[217,2,217,3],[218,2,218,3],[207,2,207,3],[208,2,208,3],[209,2,209,3],[210,2,210,3],[211,2,211,3],[212,2,212,3],[201,2,201,3],[202,2,202,3],[203,2,203,3],[204,2,204,3],[205,2,205,3],[206,2,206,3],[195,2,195,3],[196,2,196,3],[197,2,197,3],[198,2,198,3],[199,2,199,3],[200,2,200,3],[189,2,189,3],[190,2,190,3],[191,2,191,3],[192,2,192,3],[193,2,193,3],[194,2,194,3],[183,2,183,3],[184,2,184,3],[185,2,185,3],[186,2,186,3],[187,2,187,3],[188,2,188,3],[176,2,176,3],[178,2,178,3],[179,2,179,3],[180,2,180,3],[182,2,182,6],[170,2,170,3],[171,2,171,3],[172,2,172,3],[173,2,173,3],[174,2,174,3],[175,2,175,3],[164,2,164,3],[165,2,165,3],[166,2,166,3],[167,2,167,3],[168,2,168,3],[169,2,169,3],[158,2,158,3],[159,2,159,3],[160,2,160,3],[161,2,161,3],[162,2,162,3],[163,2,163,3],[152,2,152,3],[153,2,153,3],[154,2,154,3],[155,2,155,3],[156,2,156,3],[157,2,157,3],[146,2,146,3],[147,2,147,3],[148,2,148,3],[149,2,149,3],[150,2,150,3],[151,2,151,3],[139,2,139,3],[140,2,140,3],[141,2,141,3],[142,2,142,3],[143,2,143,3],[145,2,145,3],[133,2,133,3],[134,2,134,3],[135,2,135,3],[136,2,136,3],[137,2,137,3],[138,2,138,3],[127,2,127,3],[128,2,128,3],[129,2,129,3],[130,2,130,3],[131,2,131,3],[132,2,132,3],[121,2,121,3],[122,2,122,3],[123,2,123,3],[124,2,124,3],[125,2,125,3],[126,2,126,3],[115,2,115,3],[116,2,116,3],[117,2,117,3],[118,2,118,3],[119,2,119,3],[120,2,120,3],[107,2,107,3],[109,2,109,6],[110,2,110,3],[112,2,112,3],[113,2,113,3],[114,2,114,3],[98,2,98,3],[99,2,99,3],[100,2,100,3],[102,2,102,3],[104,2,104,6],[105,2,105,3],[92,2,92,3],[93,2,93,3],[94,2,94,3],[95,2,95,3],[96,2,96,3],[97,2,97,3],[86,2,86,3],[87,2,87,3],[88,2,88,3],[89,2,89,3],[90,2,90,3],[91,2,91,3],[80,2,80,3],[81,2,81,3],[82,2,82,3],[83,2,83,3],[84,2,84,3],[85,2,85,3],[74,2,74,3],[75,2,75,3],[76,2,76,3],[77,2,77,3],[78,2,78,3],[79,2,79,3],[68,2,68,3],[69,2,69,3],[70,2,70,3],[71,2,71,3],[72,2,72,3],[73,2,73,3],[62,2,62,3],[63,2,63,3],[64,2,64,3],[65,2,65,3],[66,2,66,3],[67,2,67,3],[56,2,56,3],[57,2,57,3],[58,2,58,3],[59,2,59,3],[60,2,60,3],[61,2,61,3],[50,2,50,3],[51,2,51,3],[52,2,52,3],[53,2,53,3],[54,2,54,3],[55,2,55,3],[44,2,44,3],[45,2,45,3],[46,2,46,3],[47,2,47,3],[48,2,48,3],[49,2,49,3],[38,2,38,3],[39,2,39,3],[40,2,40,3],[41,2,41,3],[42,2,42,3],[43,2,43,3],[32,2,32,3],[33,2,33,3],[34,2,34,3],[35,2,35,3],[36,2,36,3],[37,2,37,3],[27,2,27,6],[28,2,28,3],[29,2,29,3],[31,2,31,6],[18,2,18,3],[19,2,19,3],[20,2,20,3],[21,2,21,3],[22,2,22,3],[24,2,24,6],[0,0,0,6],[2,0,2,1],[3,0,3,1],[3,4,3,6],[8,2,8,6],[10,2,10,6],[12,2,12,6],[17,2,17,3],[25,2,25,3]]}
["Položkový rozpočet "]
[]
["Stavba :",null,"3332 Obnova vodovodu a kanalizace  v Obci Loučky",null,"Rozpočet:",{"$f":"'302.1 3332302.1 Rek'!H1","v":"3332/302.1"}]
["Objekt :",null,"302.1 Dešťová kanalizace - 1.část",null,{"$f":"'302.1 3332302.1 Rek'!G2","v":"Dešťová kanalizace - 1.část"}]
[]
["P.č.","Číslo položky","Název položky","MJ","množství","cena / MJ","celkem (Kč)","Jednotková hmotnost","Celková hmotnost","Jednotková dem.hmot.","Celková dem.hmot."]
["Díl:","1","Zemní práce",null,null,null,null,null,null,null,null,null,null,null,1]
[1,"114211101R00","Odstranění betonových trub do DN 150 mm, ve výkopu ","m",35,null,{"$f":"E8*F8","v":0},0,{"$f":"E8*H8","v":0},-0.04,{"$f":"E8*J8","v":-1.4000000000000001},null,null,null,2,null,null,null,null,null,null,null,null,null,null,null,1,1,1,null,null,null,null,null,null,null,null,null,null,null,null,null,null,null,null,null,null,null,null,null,null,1,{"$f":"IF(AZ8=1,G8,0)","v":0},{"$f":"IF(AZ8=2,G8,0)","v":0},{"$f":"IF(AZ8=3,G8,0)","v":0},{"$f":"IF(AZ8=4,G8,0)","v":0},{"$f":"IF(AZ8=5,G8,0)","v":0},null,null,null,null,null,null,null,null,null,null,null,null,null,null,null,null,null,null,null,null,null,1,1]
[null,null,"Položka obsahuje odstranění materiálu obklopujícího potrubí v míře nutné pro vyzvednutí, rozpojení trub, uchopení a vyzvednutí trub z výkopu a uložení na dopravní prostředek včetně odvozu na skládku zhotovitele a poplatek za skládku.",null,null,null,null,null,null,null,null,"Položka obsahuje odstranění materiálu obklopujícího potrubí v míře nutné pro vyzvednutí, rozpojení trub, uchopení a vyzvednutí trub z výkopu a uložení na dopravní prostředek včetně odvozu na skládku zhotovitele a poplatek za skládku.",null,null,3]
[2,"114211103R00","Odstranění betonových trub do DN 300 mm, ve výkopu ","m",75,null,{"$f":"E10*F10","v":0},0,{"$f":"E10*H10","v":0},-0.10150000000000001,{"$f":"E10*J10","v":-7.6125000000000007},null,null,null,2,null,null,null,null,null,null,null,null,null,null,null,1,1,1,null,null,null,null,null,null,null,null,null,null,null,null,null,null,null,null,null,null,null,null,null,null,1,{"$f":"IF(AZ10=1,G10,0)","v":0},{"$f":"IF(AZ10=2,G10,0)","v":0},{"$f":"IF(AZ10=3,G10,0)","v":0},{"$f":"IF(AZ10=4,G10,0)","v":0},{"$f":"IF(AZ10=5,G10,0)","v":0},null,null,null,null,null,null,null,null,null,null,null,null,null,null,null,null,null,null,null,null,null,1,1]
[null,null,"Položka obsahuje odstranění materiálu obklopujícího potrubí v míře nutné pro vyzvednutí, rozpojení trub, uchopení a vyzvednutí trub z výkopu a uložení na dopravní prostředek včetně odvozu na skládku zhotovitele a poplatek za skládku.",null,null,null,null,null,null,null,null,"Položka obsahuje odstranění materiálu obklopujícího potrubí v míře nutné pro vyzvednutí, rozpojení trub, uchopení a vyzvednutí trub z výkopu a uložení na dopravní prostředek včetně odvozu na skládku zhotovitele a poplatek za skládku.",null,null,3]
[3,"114211105R00","Odstranění betonových trub do DN 500 mm, ve výkopu ","m",48,null,{"$f":"E12*F12","v":0},0,{"$f":"E12*H12","v":0},-0.40799999999999997,{"$f":"E12*J12","v":-19.584},null,null,null,2,null,null,null,null,null,null,null,null,null,null,null,1,1,1,null,null,null,null,null,null,null,null,null,null,null,null,null,null,null,null,null,null,null,null,null,null,1,{"$f":"IF(AZ12=1,G12,0)","v":0},{"$f":"IF(AZ12=2,G12,0)","v":0},{"$f":"IF(AZ12=3,G12,0)","v":0},{"$f":"IF(AZ12=4,G12,0)","v":0},{"$f":"IF(AZ12=5,G12,0)","v":0},null,null,null,null,null,null,null,null,null,null,null,null,null,null,null,null,null,null,null,null,null,1,1]
[null,null,"Položka obsahuje odstranění materiálu obklopujícího potrubí v míře nutné pro vyzvednutí, rozpojení trub, uchopení a vyzvednutí trub z výkopu a uložení na dopravní prostředek včetně odvozu na skládku zhotovitele a poplatek za skládku.",null,null,null,null,null,null,null,null,"Položka obsahuje odstranění materiálu obklopujícího potrubí v míře nutné pro vyzvednutí, rozpojení trub, uchopení a vyzvednutí trub z výkopu a uložení na dopravní prostředek včetně odvozu na skládku zhotovitele a poplatek za skládku.",null,null,3]
[4,"119001401R00","Dočasné zajištění ocelového potrubí do DN 200 mm ","m",66.8,null,{"$f":"E14*F14","v":0},8.6899999999999998E-3,{"$f":"E14*H14","v":0.58049200000000001},0,{"$f":"E14*J14","v":0},null,null,null,2,null,null,null,null,null,null,null,null,null,null,null,1,1,1,null,null,null,null,null,null,null,null,null,null,null,null,null,null,null,null,null,null,null,null,null,null,1,{"$f":"IF(AZ14=1,G14,0)","v":0},{"$f":"IF(AZ14=2,G14,0)","v":0},{"$f":"IF(AZ14=3,G14,0)","v":0},{"$f":"IF(AZ14=4,G14,0)","v":0},{"$f":"IF(AZ14=5,G14,0)","v":0},null,null,null,null,null,null,null,null,null,null,null,null,null,null,null,null,null,null,null,null,null,1,1]
[5,"119001402R00","Dočasné zajištění ocelového potrubí DN 200-500 mm ","m",6.3,null,{"$f":"E15*F15","v":0},1.2710000000000001E-2,{"$f":"E15*H15","v":8.0073000000000005E-2},0,{"$f":"E15*J15","v":0},null,null,null,2,null,null,null,null,null,null,null,null,null,null,null,1,1,1,null,null,null,null,null,null,null,null,null,null,null,null,null,null,null,null,null,null,null,null,null,null,1,{"$f":"IF(AZ15=1,G15,0)","v":0},{"$f":"IF(AZ15=2,G15,0)","v":0},{"$f":"IF(AZ15=3,G15,0)","v":0},{"$f":"IF(AZ15=4,G15,0)","v":0},{"$f":"IF(AZ15=5,G15,0)","v":0},null,null,null,null,null,null,null,null,null,null,null,null,null,null,null,null,null,null,null,null,null,1,1]
[6,"119001422R00","Dočasné zajištění kabelů - v počtu 3 - 6 kabelů ","m",45.65,null,{"$f":"E16*F16","v":0},3.9739999999999998E-2,{"$f":"E16*H16","v":1.8141309999999999},0,{"$f":"E16*J16","v":0},null,null,null,2,null,null,null,null,null,null,null,null,null,null,null,1,1,1,null,null,null,null,null,null,null,null,null,null,null,null,null,null,null,null,null,null,null,null,null,null,1,{"$f":"IF(AZ16=1,G16,0)","v":0},{"$f":"IF(AZ16=2,G16,0)","v":0},{"$f":"IF(AZ16=3,G16,0)","v":0},{"$f":"IF(AZ16=4,G16,0)","v":0},{"$f":"IF(AZ16=5,G16,0)","v":0},null,null,null,null,null,null,null,null,null,null,null,null,null,null,null,null,null,null,null,null,null,1,1]
[7,"121100002RAA","Sejmutí ornice a uložení na deponii zpětný přesun, rozprostření v tl. 20 cm, osetí","m3",68.599999999999994,null,{"$f":"E17*F17","v":0},0,{"$f":"E17*H17","v":0},0,{"$f":"E17*J17","v":0},null,null,null,2,null,null,null,null,null,null,null,null,null,null,null,1,1,1,null,null,null,null,null,null,null,null,null,null,null,null,null,null,null,null,null,null,null,null,null,null,1,{"$f":"IF(AZ17=1,G17,0)","v":0},{"$f":"IF(AZ17=2,G17,0)","v":0},{"$f":"IF(AZ17=3,G17,0)","v":0},{"$f":"IF(AZ17=4,G17,0)","v":0},{"$f":"IF(AZ17=5,G17,0)","v":0},null,null,null,null,null,null,null,null,null,null,null,null,null,null,null,null,null,null,null,null,null,1,1]
[null,null,"Dešťová kanalizace:",null,0,null,null,null,null,null,null,null,"Dešťová kanalizace:"]
[null,null,"DK1:60,00*3,00*0,20",null,36,null,null,null,null,null,null,null,"DK1:60,00*3,00*0,20"]
[null,null,"DK1A:15,00*3,00*0,20",null,9,null,null,null,null,null,null,null,"DK1A:15,00*3,00*0,20"]
[null,null,"DK2:(54,00-30,00)*3,00*0,20",null,14.4,null,null,null,null,null,null,null,"DK2:(54,00-30,00)*3,00*0,20"]
[null,null,"Přípojky DK (Průměrná hloubka 2,00 m):",null,0,null,null,null,null,null,null,null,"Přípojky DK (Průměrná hloubka 2,00 m):"]
[null,null,"Odpočet ornice:23,00*2,00*0,20",null,9.1999999999999993,null,null,null,null,null,null,null,"Odpočet ornice:23,00*2,00*0,20"]
[8,"130001101RRX","Příplatek za ztížené hloubení v blízkosti vedení ","m3",230.08629999999999,null,{"$f":"E24*F24","v":0},0,{"$f":"E24*H24","v":0},0,{"$f":"E24*J24","v":0},null,null,null,2,null,null,null,null,null,null,null,null,null,null,null,1,1,1,null,null,null,null,null,null,null,null,null,null,null,null,null,null,null,null,null,null,null,null,null,null,1,{"$f":"IF(AZ24=1,G24,0)","v":0},{"$f":"IF(AZ24=2,G24,0)","v":0},{"$f":"IF(AZ24=3,G24,0)","v":0},{"$f":"IF(AZ24=4,G24,0)","v":0},{"$f":"IF(AZ24=5,G24,0)","v":0},null,null,null,null,null,null,null,null,null,null,null,null,null,null,null,null,null,null,null,null,null,1,1]
[null,null,"Včetně případných nutných dokopávem a ručního výkopu podél sousedících inženýrských sítí",null,null,null,null,null,null,null,null,"Včetně případných nutných dokopávem a ručního výkopu podél sousedících inženýrských sítí",null,null,3]
[null,null,"V hornině tř. 3 až 5 - 16%:1438,0392*0,16",null,230.08629999999999,null,null,null,null,null,null,null,"V hornině tř. 3 až 5 - 16%:1438,0392*0,16"]
[9,"130901123RT3","Bourání konstrukcí ze železobetonu ve vykopávkách bagrem s kladivem","m3",33.612900000000003,null,{"$f":"E27*F27","v":0},0,{"$f":"E27*H27","v":0},0,{"$f":"E27*J27","v":0},null,null,null,2,null,null,null,null,null,null,null,null,null,null,null,1,1,1,null,null,null,null,null,null,null,null,null,null,null,null,null,null,null,null,null,null,null,null,null,null,1,{"$f":"IF(AZ27=1,G27,0)","v":0},{"$f":"IF(AZ27=2,G27,0)","v":0},{"$f":"IF(AZ27=3,G27,0)","v":0},{"$f":"IF(AZ27=4,G27,0)","v":0},{"$f":"IF(AZ27=5,G27,0)","v":0},null,null,null,null,null,null,null,null,null,null,null,null,null,null,null,null,null,null,null,null,null,1,1]
[null,null,"Položka obsahuje odstranění materiálu obklopujícího betonové a železobetonové konstrukce v míře nutné pro vyzvednutí, rozpojení konstrukcí, uchopení a vyzvednutí konstrukce z výkopu a uložení na dopravní prostředek včetně odvozu na skládku zhotovitele a poplatek za skládku.",null,null,null,null,null,null,null,null,"Položka obsahuje odstranění materiálu obklopujícího betonové a železobetonové konstrukce v míře nutné pro vyzvednutí, rozpojení konstrukcí, uchopení a vyzvednutí konstrukce z výkopu a uložení na dopravní prostředek včetně odvozu na skládku zhotovitele a poplatek za skládku.",null,null,3]
[null,null,"Stávající RŠ nebo jejich část:30,1832",null,30.183199999999999,null,null,null,null,null,null,null,"Stávající RŠ nebo jejich část:30,1832"]
[null,null,"Stávající UV:3,4297",null,3.4297,null,null,null,null,null,null,null,"Stávající UV:3,4297"]
[10,"132201212R00","Hloubení rýh š.do 200 cm hor.3 do 1000m3,STROJNĚ ","m3",647.11760000000004,null,{"$f":"E31*F31","v":0},0,{"$f":"E31*H31","v":0},0,{"$f":"E31*J31","v":0},null,null,null,2,null,null,null,null,null,null,null,null,null,null,null,1,1,1,null,null,null,null,null,null,null,null,null,null,null,null,null,null,null,null,null,null,null,null,null,null,1,{"$f":"IF(AZ31=1,G31,0)","v":0},{"$f":"IF(AZ31=2,G31,0)","v":0},{"$f":"IF(AZ31=3,G31,0)","v":0},{"$f":"IF(AZ31=4,G31,0)","v":0},{"$f":"IF(AZ31=5,G31,0)","v":0},null,null,null,null,null,null,null,null,null,null,null,null,null,null,null,null,null,null,null,null,null,1,1]
[null,null,"Položka obsahuje hloubení rýh traktorbagrem, naložení výkopku na dopravní prostředek pro svislé, nebo vodorovné přemístění, popř. přemístění výkopku do 3 m (po povrchu území), případné zajištění rypadel polštáři, udržování pracoviště a ochranu výkopiště proti stékání srážkové vody z okolního terénu i s jejím odvodněním, nebo odvedením, přesekání a odstranění kořenů ve výkopišti, odstranění napadávek, urovnání dna výkopu.",null,null,null,null,null,null,null,null,"Položka obsahuje hloubení rýh traktorbagrem, naložení výkopku na dopravní prostředek pro svislé, nebo vodorovné přemístění, popř. přemístění výkopku do 3 m (po povrchu území), případné zajištění rypadel polštáři, udržování pracoviště a ochranu výkopiště proti stékání srážkové vody z okolního terénu i s jejím odvodněním, nebo odvedením, přesekání a odstranění kořenů ve výkopišti, odstranění napadávek, urovnání dna výkopu.",null,null,3]
[null,null,"Začátek provozního součtu",null,0,null,null,null,null,null,null,null,"Začátek provozního součtu"]
[null,null,"Dešťová kanalizace:",null,0,null,null,null,null,null,null,null,"Dešťová kanalizace:"]
[null,null,"DK1 KT DN300 a DN400:14,00*1,20*(1,03+1,50)/2",null,21.251999999999999,null,null,null,null,null,null,null,"DK1 KT DN300 a DN400:14,00*1,20*(1,03+1,50)/2"]
[null,null,"(26,30-14,00)*1,20*(1,50+1,45)/2",null,21.771000000000001,null,null,null,null,null,null,null,"(26,30-14,00)*1,20*(1,50+1,45)/2"]
[null,null,"(43,80-26,30)*1,20*(1,45+1,76)/2",null,33.704999999999998,null,null,null,null,null,null,null,"(43,80-26,30)*1,20*(1,45+1,76)/2"]
[null,null,"(62,40-43,80)*1,20*(1,45+2,10)/2",null,39.618000000000002,null,null,null,null,null,null,null,"(62,40-43,80)*1,20*(1,45+2,10)/2"]
[null,null,"(101,70-62,40)*1,20*(2,10+2,00)/2",null,96.677999999999997,null,null,null,null,null,null,null,"(101,70-62,40)*1,20*(2,10+2,00)/2"]
[null,null,"(344,00-101,70)*1,20*2,00",null,581.52,null,null,null,null,null,null,null,"(344,00-101,70)*1,20*2,00"]
[null,null,"Prohloubení pro RŠ:1,60*1,60*0,20*13",null,6.6559999999999997,null,null,null,null,null,null,null,"Prohloubení pro RŠ:1,60*1,60*0,20*13"]
[null,null,"Rozšíření pro RŠ:1,60*(1,60-1,20)*25,61",null,16.3904,null,null,null,null,null,null,null,"Rozšíření pro RŠ:1,60*(1,60-1,20)*25,61"]
[null,null,"DK1A KT DN300 a PVC DN300:15,30*1,20*(1,45+2,44)/2",null,35.7102,null,null,null,null,null,null,null,"DK1A KT DN300 a PVC DN300:15,30*1,20*(1,45+2,44)/2"]
[null,null,"(22,00-15,30)*1,20*(2,44+2,00)/2",null,17.848800000000001,null,null,null,null,null,null,null,"(22,00-15,30)*1,20*(2,44+2,00)/2"]
[null,null,"(59,70-22,00)*1,00*2,00",null,75.400000000000006,null,null,null,null,null,null,null,"(59,70-22,00)*1,00*2,00"]
[null,null,"Prohloubení pro RŠ:1,60*1,60*0,20*3",null,1.536,null,null,null,null,null,null,null,"Prohloubení pro RŠ:1,60*1,60*0,20*3"]
[null,null,"Rozšíření pro RŠ:1,60*(1,60-1,20)*2,00+1,60*(1,60-1,00)*4,00",null,5.12,null,null,null,null,null,null,null,"Rozšíření pro RŠ:1,60*(1,60-1,20)*2,00+1,60*(1,60-1,00)*4,00"]
[null,null,"DK1B KT DN400:5,00*1,20*2,10",null,12.6,null,null,null,null,null,null,null,"DK1B KT DN400:5,00*1,20*2,10"]
[null,null,"Prohloubení pro RŠ:1,60*1,60*0,20*1",null,0.51200000000000001,null,null,null,null,null,null,null,"Prohloubení pro RŠ:1,60*1,60*0,20*1"]
[null,null,"Rozšíření pro RŠ:1,60*(1,60-1,20)*2,10",null,1.3440000000000001,null,null,null,null,null,null,null,"Rozšíření pro RŠ:1,60*(1,60-1,20)*2,10"]
[null,null,"DK1C KT DN300:4,50*1,20*(2,00+1,98)/2",null,10.746,null,null,null,null,null,null,null,"DK1C KT DN300:4,50*1,20*(2,00+1,98)/2"]
[null,null,"Prohloubení pro RŠ:1,60*1,60*0,20*1",null,0.51200000000000001,null,null,null,null,null,null,null,"Prohloubení pro RŠ:1,60*1,60*0,20*1"]
[null,null,"Rozšíření pro RŠ:1,60*(1,60-1,20)*1,98",null,1.2672000000000001,null,null,null,null,null,null,null,"Rozšíření pro RŠ:1,60*(1,60-1,20)*1,98"]
[null,null,"DK1D KT DN300:18,50*1,20*2,00",null,44.4,null,null,null,null,null,null,null,"DK1D KT DN300:18,50*1,20*2,00"]
[null,null,"Prohloubení pro RŠ:1,60*1,60*0,20*2",null,1.024,null,null,null,null,null,null,null,"Prohloubení pro RŠ:1,60*1,60*0,20*2"]
[null,null,"Rozšíření pro RŠ:1,60*(1,60-1,20)*4,00",null,2.56,null,null,null,null,null,null,null,"Rozšíření pro RŠ:1,60*(1,60-1,20)*4,00"]
[null,null,"DK2 KT DN300:(53,70-30,00)*1,20*(1,70+2,35)/2",null,57.591000000000001,null,null,null,null,null,null,null,"DK2 KT DN300:(53,70-30,00)*1,20*(1,70+2,35)/2"]
[null,null,"(63,50-53,70)*1,20*(2,35+2,15)/2",null,26.46,null,null,null,null,null,null,null,"(63,50-53,70)*1,20*(2,35+2,15)/2"]
[null,null,"(77,70-63,50)*1,20*(2,15+2,00)/2",null,35.357999999999997,null,null,null,null,null,null,null,"(77,70-63,50)*1,20*(2,15+2,00)/2"]
[null,null,"Prohloubení pro RŠ:1,60*1,60*0,20*5",null,2.56,null,null,null,null,null,null,null,"Prohloubení pro RŠ:1,60*1,60*0,20*5"]
[null,null,"Rozšíření pro RŠ:2,00*2,00*3,50+1,60*(1,60-1,20)*6,49",null,18.153600000000001,null,null,null,null,null,null,null,"Rozšíření pro RŠ:2,00*2,00*3,50+1,60*(1,60-1,20)*6,49"]
[null,null,"DK2A KT DN300:11,20*1,20*(2,35+2,00)/2",null,29.231999999999999,null,null,null,null,null,null,null,"DK2A KT DN300:11,20*1,20*(2,35+2,00)/2"]
[null,null,"(91,50-11,20)*1,20*2,00",null,192.72,null,null,null,null,null,null,null,"(91,50-11,20)*1,20*2,00"]
[null,null,"Prohloubení pro RŠ:1,60*1,60*0,20*3",null,1.536,null,null,null,null,null,null,null,"Prohloubení pro RŠ:1,60*1,60*0,20*3"]
[null,null,"Rozšíření pro RŠ:1,60*(1,60-1,20)*6,00",null,3.84,null,null,null,null,null,null,null,"Rozšíření pro RŠ:1,60*(1,60-1,20)*6,00"]
[null,null,"DK2B KT DN300:5,00*1,20*(2,15+1,90)/2",null,12.15,null,null,null,null,null,null,null,"DK2B KT DN300:5,00*1,20*(2,15+1,90)/2"]
[null,null,"Prohloubení pro RŠ:1,60*1,60*0,20*1",null,0.51200000000000001,null,null,null,null,null,null,null,"Prohloubení pro RŠ:1,60*1,60*0,20*1"]
[null,null,"Rozšíření pro RŠ:1,60*(1,60-1,20)*1,90",null,1.216,null,null,null,null,null,null,null,"Rozšíření pro RŠ:1,60*(1,60-1,20)*1,90"]
[null,null,"Odpočet konstrukce komunikací a ZP:",null,0,null,null,null,null,null,null,null,"Odpočet konstrukce komunikací a ZP:"]
[null,null,"DK1:-((244,00-60,00)*1,20+1,60*(1,60-1,20)*10)*0,40",null,-90.88,null,null,null,null,null,null,null,"DK1:-((244,00-60,00)*1,20+1,60*(1,60-1,20)*10)*0,40"]
[null,null,"DK1A:-((22,00-15,00)*1,20+(59,70-22,00)*1,00+1,60*(1,60-1,00)*3)*0,40",null,-19.591999999999999,null,null,null,null,null,null,null,"DK1A:-((22,00-15,00)*1,20+(59,70-22,00)*1,00+1,60*(1,60-1,00)*3)*0,40"]
[null,null,"DK1B:-(5,00*1,20+1,60*(1,60-1,20)*1)*0,40",null,-2.6560000000000001,null,null,null,null,null,null,null,"DK1B:-(5,00*1,20+1,60*(1,60-1,20)*1)*0,40"]
[null,null,"DK1C:-(4,50*1,20+1,60*(1,60-1,20)*1)*0,40",null,-2.4159999999999999,null,null,null,null,null,null,null,"DK1C:-(4,50*1,20+1,60*(1,60-1,20)*1)*0,40"]
[null,null,"DK1D:-(18,50*1,20+1,60*(1,60-1,20)*2)*0,40",null,-9.3919999999999995,null,null,null,null,null,null,null,"DK1D:-(18,50*1,20+1,60*(1,60-1,20)*2)*0,40"]
[null,null,"DK2:-((77,70-54,00)*1,20+1,60*(1,60-1,20)*2)*0,40",null,-11.888,null,null,null,null,null,null,null,"DK2:-((77,70-54,00)*1,20+1,60*(1,60-1,20)*2)*0,40"]
[null,null,"DK2A:-(91,50*1,20+1,60*(1,60-1,20)*3)*0,40",null,-44.688000000000002,null,null,null,null,null,null,null,"DK2A:-(91,50*1,20+1,60*(1,60-1,20)*3)*0,40"]
[null,null,"DK2B:-(5,00*1,20+1,60*(1,60-1,20)*1)*0,40",null,-2.6560000000000001,null,null,null,null,null,null,null,"DK2B:-(5,00*1,20+1,60*(1,60-1,20)*1)*0,40"]
[null,null,"Odpočet ornice:",null,0,null,null,null,null,null,null,null,"Odpočet ornice:"]
[null,null,"DK1:-(60,00*1,20+1,60*(1,60-1,20)*4)*0,20",null,-14.912000000000001,null,null,null,null,null,null,null,"DK1:-(60,00*1,20+1,60*(1,60-1,20)*4)*0,20"]
[null,null,"DK1A:-15,00*1,20*0,20",null,-3.6,null,null,null,null,null,null,null,"DK1A:-15,00*1,20*0,20"]
[null,null,"DK2:-((54,00-30,00)*1,20+2,00*2,00*2)*0,20",null,-7.36,null,null,null,null,null,null,null,"DK2:-((54,00-30,00)*1,20+2,00*2,00*2)*0,20"]
[null,null,"Přípojky DK (Průměrná hloubka 2,00 m):",null,0,null,null,null,null,null,null,null,"Přípojky DK (Průměrná hloubka 2,00 m):"]
[null,null,"DK1 (11 kusů):(50,50+0,50*11)*0,80*2,00",null,89.6,null,null,null,null,null,null,null,"DK1 (11 kusů):(50,50+0,50*11)*0,80*2,00"]
[null,null,"DK1A (3 kusy):(6,00+0,50*3)*0,80*2,00",null,12,null,null,null,null,null,null,null,"DK1A (3 kusy):(6,00+0,50*3)*0,80*2,00"]
[null,null,"DK1D (1 kus):(1,50+0,50*1)*0,80*2,00",null,3.2,null,null,null,null,null,null,null,"DK1D (1 kus):(1,50+0,50*1)*0,80*2,00"]
[null,null,"DK2 (6 kusů):(7,00+0,50*6)*0,80*2,00",null,16,null,null,null,null,null,null,null,"DK2 (6 kusů):(7,00+0,50*6)*0,80*2,00"]
[null,null,"DK2A (2 kusy):(3,00+0,50*2)*0,80*2,00",null,6.4,null,null,null,null,null,null,null,"DK2A (2 kusy):(3,00+0,50*2)*0,80*2,00"]
[null,null,"Odpočet konstrukce komunikací a ZP:-56,50*0,80*0,40",null,-18.079999999999998,null,null,null,null,null,null,null,"Odpočet konstrukce komunikací a ZP:-56,50*0,80*0,40"]
[null,null,"Odpočet ornice:-23,00*0,80*0,20",null,-3.68,null,null,null,null,null,null,null,"Odpočet ornice:-23,00*0,80*0,20"]
[null,null,"Přípojky k UV (Průměrná hloubka 1,75 m):",null,0,null,null,null,null,null,null,null,"Přípojky k UV (Průměrná hloubka 1,75 m):"]
[null,null,"DK1 (15 kusů):(71,50+0,80*15)*0,80*1,75",null,116.9,null,null,null,null,null,null,null,"DK1 (15 kusů):(71,50+0,80*15)*0,80*1,75"]
[null,null,"DK1D (2 kusy):(2,00+0,80*2)*0,80*1,75",null,5.04,null,null,null,null,null,null,null,"DK1D (2 kusy):(2,00+0,80*2)*0,80*1,75"]
[null,null,"DK2 (1 kus):(1,50+0,80*1)*0,80*1,75",null,3.22,null,null,null,null,null,null,null,"DK2 (1 kus):(1,50+0,80*1)*0,80*1,75"]
[null,null,"DK2A (6 kusů):(17,50+0,80*6)*0,80*1,75",null,31.22,null,null,null,null,null,null,null,"DK2A (6 kusů):(17,50+0,80*6)*0,80*1,75"]
[null,null,"DK2B (1 kus):(1,00+0,80*1)*0,80*1,75",null,2.52,null,null,null,null,null,null,null,"DK2B (1 kus):(1,00+0,80*1)*0,80*1,75"]
[null,null,"Odpočet konstrukce komunikací a ZP:-113,50*0,80*0,40",null,-36.32,null,null,null,null,null,null,null,"Odpočet konstrukce komunikací a ZP:-113,50*0,80*0,40"]
[null,null,"Přípojky pro DS PVC DN150 (Průměrná hloubka 1,50 m):",null,0,null,null,null,null,null,null,null,"Přípojky pro DS PVC DN150 (Průměrná hloubka 1,50 m):"]
[null,null,"DK1 (2 kusy):12,00*0,80*1,50",null,14.4,null,null,null,null,null,null,null,"DK1 (2 kusy):12,00*0,80*1,50"]
[null,null,"Odpočet konstrukce komunikací a ZP:-12,00*0,80*0,40",null,-3.84,null,null,null,null,null,null,null,"Odpočet konstrukce komunikací a ZP:-12,00*0,80*0,40"]
[null,null,"Konec provozního součtu",null,1438.0392000000002,null,null,null,null,null,null,null,"Konec provozního součtu"]
[null,null,"V hornině tř. 3 - 45%:1438,0392*0,45",null,647.11760000000004,null,null,null,null,null,null,null,"V hornině tř. 3 - 45%:1438,0392*0,45"]
[11,"132201219R00","Přípl.za lepivost,hloubení rýh 200cm,hor.3,STROJNĚ ","m3",323.55880000000002,null,{"$f":"E102*F102","v":0},0,{"$f":"E102*H102","v":0},0,{"$f":"E102*J102","v":0},null,null,null,2,null,null,null,null,null,null,null,null,null,null,null,1,1,1,null,null,null,null,null,null,null,null,null,null,null,null,null,null,null,null,null,null,null,null,null,null,1,{"$f":"IF(AZ102=1,G102,0)","v":0},{"$f":"IF(AZ102=2,G102,0)","v":0},{"$f":"IF(AZ102=3,G102,0)","v":0},{"$f":"IF(AZ102=4,G102,0)","v":0},{"$f":"IF(AZ102=5,G102,0)","v":0},null,null,null,null,null,null,null,null,null,null,null,null,null,null,null,null,null,null,null,null,null,1,1]
[null,null,"V hornině tř. 3 - 45%:1438,0392*0,45*0,5",null,323.55880000000002,null,null,null,null,null,null,null,"V hornině tř. 3 - 45%:1438,0392*0,45*0,5"]
[12,"132301212R00","Hloubení rýh š.do 200 cm hor.4 do 1000 m3, STROJNĚ ","m3",647.11760000000004,null,{"$f":"E104*F104","v":0},0,{"$f":"E104*H104","v":0},0,{"$f":"E104*J104","v":0},null,null,null,2,null,null,null,null,null,null,null,null,null,null,null,1,1,1,null,null,null,null,null,null,null,null,null,null,null,null,null,null,null,null,null,null,null,null,null,null,1,{"$f":"IF(AZ104=1,G104,0)","v":0},{"$f":"IF(AZ104=2,G104,0)","v":0},{"$f":"IF(AZ104=3,G104,0)","v":0},{"$f":"IF(AZ104=4,G104,0)","v":0},{"$f":"IF(AZ104=5,G104,0)","v":0},null,null,null,null,null,null,null,null,null,null,null,null,null,null,null,null,null,null,null,null,null,1,1]
[null,null,"Položka obsahuje hloubení rýh traktorbagrem, naložení výkopku na dopravní prostředek pro svislé, nebo vodorovné přemístění, popř. přemístění výkopku do 3 m (po povrchu území), případné zajištění rypadel polštáři, udržování pracoviště a ochranu výkopiště proti stékání srážkové vody z okolního terénu i s jejím odvodněním, nebo odvedením, přesekání a odstranění kořenů ve výkopišti, odstranění napadávek, urovnání dna výkopu.",null,null,null,null,null,null,null,null,"Položka obsahuje hloubení rýh traktorbagrem, naložení výkopku na dopravní prostředek pro svislé, nebo vodorovné přemístění, popř. přemístění výkopku do 3 m (po povrchu území), případné zajištění rypadel polštáři, udržování pracoviště a ochranu výkopiště proti stékání srážkové vody z okolního terénu i s jejím odvodněním, nebo odvedením, přesekání a odstranění kořenů ve výkopišti, odstranění napadávek, urovnání dna výkopu.",null,null,3]
[null,null,"V hornině tř. 4 - 45%:1438,0392*0,45",null,647.11760000000004,null,null,null,null,null,null,null,"V hornině tř. 4 - 45%:1438,0392*0,45"]
[13,"132301219R00","Přípl.za lepivost,hloubení rýh 200cm,hor.4,STROJNĚ ","m3",323.55880000000002,null,{"$f":"E107*F107","v":0},0,{"$f":"E107*H107","v":0},0,{"$f":"E107*J107","v":0},null,null,null,2,null,null,null,null,null,null,null,null,null,null,null,1,1,1,null,null,null,null,null,null,null,null,null,null,null,null,null,null,null,null,null,null,null,null,null,null,1,{"$f":"IF(AZ107=1,G107,0)","v":0},{"$f":"IF(AZ107=2,G107,0)","v":0},{"$f":"IF(AZ107=3,G107,0)","v":0},{"$f":"IF(AZ107=4,G107,0)","v":0},{"$f":"IF(AZ107=5,G107,0)","v":0},null,null,null,null,null,null,null,null,null,null,null,null,null,null,null,null,null,null,null,null,null,1,1]
[null,null,"V hornině tř. 4 - 45%:1438,0392*0,45*0,5",null,323.55880000000002,null,null,null,null,null,null,null,"V hornině tř. 4 - 45%:1438,0392*0,45*0,5"]
[14,"132401211R00","Hloubení rýh šířky do 200 cm v hor.5, STROJNĚ ","m3",143.8039,null,{"$f":"E109*F109","v":0},0,{"$f":"E109*H109","v":0},0,{"$f":"E109*J109","v":0},null,null,null,2,null,null,null,null,null,null,null,null,null,null,null,1,1,1,null,null,null,null,null,null,null,null,null,null,null,null,null,null,null,null,null,null,null,null,null,null,1,{"$f":"IF(AZ109=1,G109,0)","v":0},{"$f":"IF(AZ109=2,G109,0)","v":0},{"$f":"IF(AZ109=3,G109,0)","v":0},{"$f":"IF(AZ109=4,G109,0)","v":0},{"$f":"IF(AZ109=5,G109,0)","v":0},null,null,null,null,null,null,null,null,null,null,null,null,null,null,null,null,null,null,null,null,null,1,1]
[null,null,"Položka obsahuje hloubení jámy kolovým rypadlem s rozrývacím zubem, naložení výkopku na dopravní prostředek pro svislé, nebo vodorovné přemístění, popř. přemístění výkopku do 3 m (po povrchu území), případné zajištění rypadel polštáři, udržování pracoviště a ochranu výkopiště proti stékání srážkové vody z okolního terénu i s jejím odvodněním, nebo odvedením, přesekání a odstranění kořenů ve výkopišti, odstranění napadávek, urovnání dna výkopu. Položka se používá bez ohledu na těžené množství.",null,null,null,null,null,null,null,null,"Položka obsahuje hloubení jámy kolovým rypadlem s rozrývacím zubem, naložení výkopku na dopravní prostředek pro svislé, nebo vodorovné přemístění, popř. přemístění výkopku do 3 m (po povrchu území), případné zajištění rypadel polštáři, udržování pracoviště a ochranu výkopiště proti stékání srážkové vody z okolního terénu i s jejím odvodněním, nebo odvedením, přesekání a odstranění kořenů ve výkopišti, odstranění napadávek, urovnání dna výkopu. Položka se používá bez ohledu na těžené množství.",null,null,3]
[null,null,"V hornině tř. 5 - 10%:1438,0392*0,1",null,143.8039,null,null,null,null,null,null,null,"V hornině tř. 5 - 10%:1438,0392*0,1"]
[15,"151101101R00","Pažení a rozepření stěn rýh - příložné - hl.do 2 m ","m2",2943.5059999999999,null,{"$f":"E112*F112","v":0},9.8999999999999999E-4,{"$f":"E112*H112","v":2.9140709399999998},0,{"$f":"E112*J112","v":0},null,null,null,2,null,null,null,null,null,null,null,null,null,null,null,1,1,1,null,null,null,null,null,null,null,null,null,null,null,null,null,null,null,null,null,null,null,null,null,null,1,{"$f":"IF(AZ112=1,G112,0)","v":0},{"$f":"IF(AZ112=2,G112,0)","v":0},{"$f":"IF(AZ112=3,G112,0)","v":0},{"$f":"IF(AZ112=4,G112,0)","v":0},{"$f":"IF(AZ112=5,G112,0)","v":0},null,null,null,null,null,null,null,null,null,null,null,null,null,null,null,null,null,null,null,null,null,1,1]
[null,null,"Dešťová kanalizace:",null,0,null,null,null,null,null,null,null,"Dešťová kanalizace:"]
[null,null,"DK1 KT DN300 a DN400:(26,30-14,00)*(1,50+1,45)/2*2",null,36.284999999999997,null,null,null,null,null,null,null,"DK1 KT DN300 a DN400:(26,30-14,00)*(1,50+1,45)/2*2"]
[null,null,"(43,80-26,30)*(1,45+1,76)/2*2",null,56.174999999999997,null,null,null,null,null,null,null,"(43,80-26,30)*(1,45+1,76)/2*2"]
[null,null,"(62,40-43,80)*(1,45+2,10)/2*2",null,66.03,null,null,null,null,null,null,null,"(62,40-43,80)*(1,45+2,10)/2*2"]
[null,null,"(101,70-62,40)*(2,10+2,00)/2*2",null,161.13,null,null,null,null,null,null,null,"(101,70-62,40)*(2,10+2,00)/2*2"]
[null,null,"(344,00-101,70)*2,00*2",null,969.2,null,null,null,null,null,null,null,"(344,00-101,70)*2,00*2"]
[null,null,"DK1A KT DN300 a PVC DN300:15,30*(1,45+2,44)/2*2",null,59.517000000000003,null,null,null,null,null,null,null,"DK1A KT DN300 a PVC DN300:15,30*(1,45+2,44)/2*2"]
[null,null,"(22,00-15,30)*(2,44+2,00)/2*2",null,29.748000000000001,null,null,null,null,null,null,null,"(22,00-15,30)*(2,44+2,00)/2*2"]
[null,null,"(59,70-22,00)*2,00*2",null,150.80000000000001,null,null,null,null,null,null,null,"(59,70-22,00)*2,00*2"]
[null,null,"DK1B KT DN400:5,00*2,10*2",null,21,null,null,null,null,null,null,null,"DK1B KT DN400:5,00*2,10*2"]
[null,null,"DK1C KT DN300:4,50*(2,00+1,98)/2*2",null,17.91,null,null,null,null,null,null,null,"DK1C KT DN300:4,50*(2,00+1,98)/2*2"]
[null,null,"DK1D KT DN300:18,50*2,00*2",null,74,null,null,null,null,null,null,null,"DK1D KT DN300:18,50*2,00*2"]
[null,null,"DK2 KT DN300:(53,70-30,00)*(1,70+2,35)/2*2",null,95.984999999999999,null,null,null,null,null,null,null,"DK2 KT DN300:(53,70-30,00)*(1,70+2,35)/2*2"]
[null,null,"(63,50-53,70)*(2,35+2,15)/2*2",null,44.1,null,null,null,null,null,null,null,"(63,50-53,70)*(2,35+2,15)/2*2"]
[null,null,"(77,70-63,50)*(2,15+2,00)/2*2",null,58.93,null,null,null,null,null,null,null,"(77,70-63,50)*(2,15+2,00)/2*2"]
[null,null,"DK2A KT DN300:11,20*(2,35+2,00)/2*2",null,48.72,null,null,null,null,null,null,null,"DK2A KT DN300:11,20*(2,35+2,00)/2*2"]
[null,null,"(91,50-11,20)*2,00*2",null,321.2,null,null,null,null,null,null,null,"(91,50-11,20)*2,00*2"]
[null,null,"Prohloubení pro RŠ:1,60*1,60*0,20*3",null,1.536,null,null,null,null,null,null,null,"Prohloubení pro RŠ:1,60*1,60*0,20*3"]
[null,null,"Rozšíření pro RŠ:1,60*(1,60-1,20)*6,00",null,3.84,null,null,null,null,null,null,null,"Rozšíření pro RŠ:1,60*(1,60-1,20)*6,00"]
[null,null,"DK2B KT DN300:5,00*1,20*(2,15+1,90)/2",null,12.15,null,null,null,null,null,null,null,"DK2B KT DN300:5,00*1,20*(2,15+1,90)/2"]
[null,null,"Přípojky DK (Průměrná hloubka 2,00 m):",null,0,null,null,null,null,null,null,null,"Přípojky DK (Průměrná hloubka 2,00 m):"]
[null,null,"DK1 (11 kusů):(50,50+0,50*11)*2,00*2",null,224,null,null,null,null,null,null,null,"DK1 (11 kusů):(50,50+0,50*11)*2,00*2"]
[null,null,"DK1A (3 kusy):(6,00+0,50*3)*2,00*2",null,30,null,null,null,null,null,null,null,"DK1A (3 kusy):(6,00+0,50*3)*2,00*2"]
[null,null,"DK1D (1 kus):(1,50+0,50*1)*2,00*2",null,8,null,null,null,null,null,null,null,"DK1D (1 kus):(1,50+0,50*1)*2,00*2"]
[null,null,"DK2 (6 kusů):(7,00+0,50*6)*2,00*2",null,40,null,null,null,null,null,null,null,"DK2 (6 kusů):(7,00+0,50*6)*2,00*2"]
[null,null,"DK2A (2 kusy):(3,00+0,50*2)*2,00*2",null,16,null,null,null,null,null,null,null,"DK2A (2 kusy):(3,00+0,50*2)*2,00*2"]
[null,null,"Přípojky k UV (Průměrná hloubka 1,75 m):",null,0,null,null,null,null,null,null,null,"Přípojky k UV (Průměrná hloubka 1,75 m):"]
[null,null,"DK1 (15 kusů):(71,50+0,80*15)*1,75*2",null,292.25,null,null,null,null,null,null,null,"DK1 (15 kusů):(71,50+0,80*15)*1,75*2"]
[null,null,"DK1D (2 kusy):(2,00+0,80*2)*1,75*2",null,12.6,null,null,null,null,null,null,null,"DK1D (2 kusy):(2,00+0,80*2)*1,75*2"]
[null,null,"DK2 (1 kus):(1,50+0,80*1)*1,75*2",null,8.0500000000000007,null,null,null,null,null,null,null,"DK2 (1 kus):(1,50+0,80*1)*1,75*2"]
[null,null,"DK2A (6 kusů):(17,50+0,80*6)*1,75*2",null,78.05,null,null,null,null,null,null,null,"DK2A (6 kusů):(17,50+0,80*6)*1,75*2"]
[null,null,"DK2B (1 kus):(1,00+0,80*1)*1,75*2",null,6.3,null,null,null,null,null,null,null,"DK2B (1 kus):(1,00+0,80*1)*1,75*2"]
[16,"151101111R00","Odstranění pažení stěn rýh - příložné - hl. do 2 m ","m2",2943.5059999999999,null,{"$f":"E145*F145","v":0},0,{"$f":"E145*H145","v":0},0,{"$f":"E145*J145","v":0},null,null,null,2,null,null,null,null,null,null,null,null,null,null,null,1,1,1,null,null,null,null,null,null,null,null,null,null,null,null,null,null,null,null,null,null,null,null,null,null,1,{"$f":"IF(AZ145=1,G145,0)","v":0},{"$f":"IF(AZ145=2,G145,0)","v":0},{"$f":"IF(AZ145=3,G145,0)","v":0},{"$f":"IF(AZ145=4,G145,0)","v":0},{"$f":"IF(AZ145=5,G145,0)","v":0},null,null,null,null,null,null,null,null,null,null,null,null,null,null,null,null,null,null,null,null,null,1,1]
[null,null,"Dešťová kanalizace:",null,0,null,null,null,null,null,null,null,"Dešťová kanalizace:"]
[null,null,"DK1 KT DN300 a DN400:(26,30-14,00)*(1,50+1,45)/2*2",null,36.284999999999997,null,null,null,null,null,null,null,"DK1 KT DN300 a DN400:(26,30-14,00)*(1,50+1,45)/2*2"]
[null,null,"(43,80-26,30)*(1,45+1,76)/2*2",null,56.174999999999997,null,null,null,null,null,null,null,"(43,80-26,30)*(1,45+1,76)/2*2"]
[null,null,"(62,40-43,80)*(1,45+2,10)/2*2",null,66.03,null,null,null,null,null,null,null,"(62,40-43,80)*(1,45+2,10)/2*2"]
[null,null,"(101,70-62,40)*(2,10+2,00)/2*2",null,161.13,null,null,null,null,null,null,null,"(101,70-62,40)*(2,10+2,00)/2*2"]
[null,null,"(344,00-101,70)*2,00*2",null,969.2,null,null,null,null,null,null,null,"(344,00-101,70)*2,00*2"]
[null,null,"DK1A KT DN300 a PVC DN300:15,30*(1,45+2,44)/2*2",null,59.517000000000003,null,null,null,null,null,null,null,"DK1A KT DN300 a PVC DN300:15,30*(1,45+2,44)/2*2"]
[null,null,"(22,00-15,30)*(2,44+2,00)/2*2",null,29.748000000000001,null,null,null,null,null,null,null,"(22,00-15,30)*(2,44+2,00)/2*2"]
[null,null,"(59,70-22,00)*2,00*2",null,150.80000000000001,null,null,null,null,null,null,null,"(59,70-22,00)*2,00*2"]
[null,null,"DK1B KT DN400:5,00*2,10*2",null,21,null,null,null,null,null,null,null,"DK1B KT DN400:5,00*2,10*2"]
[null,null,"DK1C KT DN300:4,50*(2,00+1,98)/2*2",null,17.91,null,null,null,null,null,null,null,"DK1C KT DN300:4,50*(2,00+1,98)/2*2"]
[null,null,"DK1D KT DN300:18,50*2,00*2",null,74,null,null,null,null,null,null,null,"DK1D KT DN300:18,50*2,00*2"]
[null,null,"DK2 KT DN300:(53,70-30,00)*(1,70+2,35)/2*2",null,95.984999999999999,null,null,null,null,null,null,null,"DK2 KT DN300:(53,70-30,00)*(1,70+2,35)/2*2"]
[null,null,"(63,50-53,70)*(2,35+2,15)/2*2",null,44.1,null,null,null,null,null,null,null,"(63,50-53,70)*(2,35+2,15)/2*2"]
[null,null,"(77,70-63,50)*(2,15+2,00)/2*2",null,58.93,null,null,null,null,null,null,null,"(77,70-63,50)*(2,15+2,00)/2*2"]
[null,null,"DK2A KT DN300:11,20*(2,35+2,00)/2*2",null,48.72,null,null,null,null,null,null,null,"DK2A KT DN300:11,20*(2,35+2,00)/2*2"]
[null,null,"(91,50-11,20)*2,00*2",null,321.2,null,null,null,null,null,null,null,"(91,50-11,20)*2,00*2"]
[null,null,"Prohloubení pro RŠ:1,60*1,60*0,20*3",null,1.536,null,null,null,null,null,null,null,"Prohloubení pro RŠ:1,60*1,60*0,20*3"]
[null,null,"Rozšíření pro RŠ:1,60*(1,60-1,20)*6,00",null,3.84,null,null,null,null,null,null,null,"Rozšíření pro RŠ:1,60*(1,60-1,20)*6,00"]
[null,null,"DK2B KT DN300:5,00*1,20*(2,15+1,90)/2",null,12.15,null,null,null,null,null,null,null,"DK2B KT DN300:5,00*1,20*(2,15+1,90)/2"]
[null,null,"Přípojky DK (Průměrná hloubka 2,00 m):",null,0,null,null,null,null,null,null,null,"Přípojky DK (Průměrná hloubka 2,00 m):"]
[null,null,"DK1 (11 kusů):(50,50+0,50*11)*2,00*2",null,224,null,null,null,null,null,null,null,"DK1 (11 kusů):(50,50+0,50*11)*2,00*2"]
[null,null,"DK1A (3 kusy):(6,00+0,50*3)*2,00*2",null,30,null,null,null,null,null,null,null,"DK1A (3 kusy):(6,00+0,50*3)*2,00*2"]
[null,null,"DK1D (1 kus):(1,50+0,50*1)*2,00*2",null,8,null,null,null,null,null,null,null,"DK1D (1 kus):(1,50+0,50*1)*2,00*2"]
[null,null,"DK2 (6 kusů):(7,00+0,50*6)*2,00*2",null,40,null,null,null,null,null,null,null,"DK2 (6 kusů):(7,00+0,50*6)*2,00*2"]
[null,null,"DK2A (2 kusy):(3,00+0,50*2)*2,00*2",null,16,null,null,null,null,null,null,null,"DK2A (2 kusy):(3,00+0,50*2)*2,00*2"]
[null,null,"Přípojky k UV (Průměrná hloubka 1,75 m):",null,0,null,null,null,null,null,null,null,"Přípojky k UV (Průměrná hloubka 1,75 m):"]
[null,null,"DK1 (15 kusů):(71,50+0,80*15)*1,75*2",null,292.25,null,null,null,null,null,null,null,"DK1 (15 kusů):(71,50+0,80*15)*1,75*2"]
[null,null,"DK1D (2 kusy):(2,00+0,80*2)*1,75*2",null,12.6,null,null,null,null,null,null,null,"DK1D (2 kusy):(2,00+0,80*2)*1,75*2"]
[null,null,"DK2 (1 kus):(1,50+0,80*1)*1,75*2",null,8.0500000000000007,null,null,null,null,null,null,null,"DK2 (1 kus):(1,50+0,80*1)*1,75*2"]
[null,null,"DK2A (6 kusů):(17,50+0,80*6)*1,75*2",null,78.05,null,null,null,null,null,null,null,"DK2A (6 kusů):(17,50+0,80*6)*1,75*2"]
[null,null,"DK2B (1 kus):(1,00+0,80*1)*1,75*2",null,6.3,null,null,null,null,null,null,null,"DK2B (1 kus):(1,00+0,80*1)*1,75*2"]
[17,"162701105RSZ","Vodorovné přemístění výkopku z hor.1-7 na skládku zhotovitele","m3",1295.1845000000001,null,{"$f":"E178*F178","v":0},0,{"$f":"E178*H178","v":0},0,{"$f":"E178*J178","v":0},null,null,null,2,null,null,null,null,null,null,null,null,null,null,null,1,1,1,null,null,null,null,null,null,null,null,null,null,null,null,null,null,null,null,null,null,null,null,null,null,1,{"$f":"IF(AZ178=1,G178,0)","v":0},{"$f":"IF(AZ178=2,G178,0)","v":0},{"$f":"IF(AZ178=3,G178,0)","v":0},{"$f":"IF(AZ178=4,G178,0)","v":0},{"$f":"IF(AZ178=5,G178,0)","v":0},null,null,null,null,null,null,null,null,null,null,null,null,null,null,null,null,null,null,null,null,null,1,1]
[null,null,"Výkopy:",null,0,null,null,null,null,null,null,null,"Výkopy:"]
[null,null,"V hornině tř. 3 až 5:1438,0392",null,1438.0391999999999,null,null,null,null,null,null,null,"V hornině tř. 3 až 5:1438,0392"]
[null,null,"Odpočet zásypů zeminou:-142,8547",null,-142.85470000000001,null,null,null,null,null,null,null,"Odpočet zásypů zeminou:-142,8547"]
[18,"174101101R00","Zásyp jam, rýh, šachet se zhutněním ","m3",879.09069999999997,null,{"$f":"E182*F182","v":0},0,{"$f":"E182*H182","v":0},0,{"$f":"E182*J182","v":0},null,null,null,2,null,null,null,null,null,null,null,null,null,null,null,1,1,1,null,null,null,null,null,null,null,null,null,null,null,null,null,null,null,null,null,null,null,null,null,null,1,{"$f":"IF(AZ182=1,G182,0)","v":0},{"$f":"IF(AZ182=2,G182,0)","v":0},{"$f":"IF(AZ182=3,G182,0)","v":0},{"$f":"IF(AZ182=4,G182,0)","v":0},{"$f":"IF(AZ182=5,G182,0)","v":0},null,null,null,null,null,null,null,null,null,null,null,null,null,null,null,null,null,null,null,null,null,1,1]
[null,null,"Položka obsahuje strojní přemístění materiálu pro zásyp ze vzdálenosti do 10 m od okraje zásypu.",null,null,null,null,null,null,null,null,"Položka obsahuje strojní přemístění materiálu pro zásyp ze vzdálenosti do 10 m od okraje zásypu.",null,null,3]
[null,null,"Zásyp zeminou:142,8547",null,142.85470000000001,null,null,null,null,null,null,null,"Zásyp zeminou:142,8547"]
[null,null,"Začátek provozního součtu",null,0,null,null,null,null,null,null,null,"Začátek provozního součtu"]
[null,null,"Dešťová kanalizace:",null,0,null,null,null,null,null,null,null,"Dešťová kanalizace:"]
[null,null,"DK1 KT DN300 a DN400:14,00*1,20*(1,03+1,50)/2",null,21.251999999999999,null,null,null,null,null,null,null,"DK1 KT DN300 a DN400:14,00*1,20*(1,03+1,50)/2"]
[null,null,"(26,30-14,00)*1,20*(1,50+1,45)/2",null,21.771000000000001,null,null,null,null,null,null,null,"(26,30-14,00)*1,20*(1,50+1,45)/2"]
[null,null,"(43,80-26,30)*1,20*(1,45+1,76)/2",null,33.704999999999998,null,null,null,null,null,null,null,"(43,80-26,30)*1,20*(1,45+1,76)/2"]
[null,null,"(60,00-43,80)*1,20*(1,45+2,10)/2",null,34.506,null,null,null,null,null,null,null,"(60,00-43,80)*1,20*(1,45+2,10)/2"]
[null,null,"Prohloubení pro RŠ:1,60*1,60*0,20*5",null,2.56,null,null,null,null,null,null,null,"Prohloubení pro RŠ:1,60*1,60*0,20*5"]
[null,null,"Rozšíření pro RŠ:1,60*(1,60-1,20)*5,51",null,3.5264000000000002,null,null,null,null,null,null,null,"Rozšíření pro RŠ:1,60*(1,60-1,20)*5,51"]
[null,null,"Odpočet lože, potrubí a obsypů:-60,00*0,7032",null,-42.192,null,null,null,null,null,null,null,"Odpočet lože, potrubí a obsypů:-60,00*0,7032"]
[null,null,"Odpočet objemu RŠ:-5,9832",null,-5.9832000000000001,null,null,null,null,null,null,null,"Odpočet objemu RŠ:-5,9832"]
[null,null,"DK1A KT DN300 a PVC DN300:15,00*1,20*(1,45+2,44)/2",null,35.01,null,null,null,null,null,null,null,"DK1A KT DN300 a PVC DN300:15,00*1,20*(1,45+2,44)/2"]
[null,null,"Odpočet lože, potrubí a obsypů:-15,00*0,6538",null,-9.8070000000000004,null,null,null,null,null,null,null,"Odpočet lože, potrubí a obsypů:-15,00*0,6538"]
[null,null,"DK2 KT DN300:(54,00-30,00)*1,20*(1,70+2,35)/2",null,58.32,null,null,null,null,null,null,null,"DK2 KT DN300:(54,00-30,00)*1,20*(1,70+2,35)/2"]
[null,null,"Prohloubení pro RŠ:1,60*1,60*0,20*3",null,1.536,null,null,null,null,null,null,null,"Prohloubení pro RŠ:1,60*1,60*0,20*3"]
[null,null,"Rozšíření pro RŠ:2,00*2,00*3,50+1,60*(1,60-1,20)*2,35",null,15.504,null,null,null,null,null,null,null,"Rozšíření pro RŠ:2,00*2,00*3,50+1,60*(1,60-1,20)*2,35"]
[null,null,"Odpočet lože, potrubí a obsypů:-(54,00-30,00)*0,7032",null,-16.876799999999999,null,null,null,null,null,null,null,"Odpočet lože, potrubí a obsypů:-(54,00-30,00)*0,7032"]
[null,null,"Odpočet objemu RŠ:-6,9649",null,-6.9649000000000001,null,null,null,null,null,null,null,"Odpočet objemu RŠ:-6,9649"]
[null,null,"Odpočet ornice:",null,0,null,null,null,null,null,null,null,"Odpočet ornice:"]
[null,null,"DK1:-(60,00*1,20+1,60*(1,60-1,20)*4)*0,20",null,-14.912000000000001,null,null,null,null,null,null,null,"DK1:-(60,00*1,20+1,60*(1,60-1,20)*4)*0,20"]
[null,null,"DK1A:-15,00*1,20*0,20",null,-3.6,null,null,null,null,null,null,null,"DK1A:-15,00*1,20*0,20"]
[null,null,"DK2:-((54,00-30,00)*1,20+2,00*2,00*2)*0,20",null,-7.36,null,null,null,null,null,null,null,"DK2:-((54,00-30,00)*1,20+2,00*2,00*2)*0,20"]
[null,null,"Přípojky DK (Průměrná hloubka 2,00 m):23,00*0,80*2,00",null,36.799999999999997,null,null,null,null,null,null,null,"Přípojky DK (Průměrná hloubka 2,00 m):23,00*0,80*2,00"]
[null,null,"Odpočet ornice:-23,00*0,80*0,20",null,-3.68,null,null,null,null,null,null,null,"Odpočet ornice:-23,00*0,80*0,20"]
[null,null,"Odpořet loře, potrubí a obsypů:-11,50*0,80*(0,10+0,15+0,30)",null,-5.0599999999999996,null,null,null,null,null,null,null,"Odpořet loře, potrubí a obsypů:-11,50*0,80*(0,10+0,15+0,30)"]
[null,null,"Odpočet objemu DRŠ DK:-5,1998",null,-5.1997999999999998,null,null,null,null,null,null,null,"Odpočet objemu DRŠ DK:-5,1998"]
[null,null,"Konec provozního součtu",null,142.85469999999998,null,null,null,null,null,null,null,"Konec provozního součtu"]
[null,null,"Zásyp štěrkodrtí fr. 0-63 mm:736,2360",null,736.23599999999999,null,null,null,null,null,null,null,"Zásyp štěrkodrtí fr. 0-63 mm:736,2360"]
[null,null,"Začátek provozního součtu",null,0,null,null,null,null,null,null,null,"Začátek provozního součtu"]
[null,null,"Dešťová kanalizace:",null,0,null,null,null,null,null,null,null,"Dešťová kanalizace:"]
[null,null,"DK1 KT DN300 a DN400:(62,40-60,00)*1,20*(1,45+2,10)/2",null,5.1120000000000001,null,null,null,null,null,null,null,"DK1 KT DN300 a DN400:(62,40-60,00)*1,20*(1,45+2,10)/2"]
[null,null,"(101,70-62,40)*1,20*(2,10+2,00)/2",null,96.677999999999997,null,null,null,null,null,null,null,"(101,70-62,40)*1,20*(2,10+2,00)/2"]
[null,null,"(344,00-101,70)*1,20*2,00",null,581.52,null,null,null,null,null,null,null,"(344,00-101,70)*1,20*2,00"]
[null,null,"Prohloubení pro RŠ:1,60*1,60*0,20*8",null,4.0960000000000001,null,null,null,null,null,null,null,"Prohloubení pro RŠ:1,60*1,60*0,20*8"]
[null,null,"Rozšíření pro RŠ:1,60*(1,60-1,20)*20,10",null,12.864000000000001,null,null,null,null,null,null,null,"Rozšíření pro RŠ:1,60*(1,60-1,20)*20,10"]
[null,null,"Odpočet lože, potrubí a obsypů:-(2,40*0,7032+281,60*0,6538)",null,-185.7978,null,null,null,null,null,null,null,"Odpočet lože, potrubí a obsypů:-(2,40*0,7032+281,60*0,6538)"]
[null,null,"Odpočet objemu RŠ:-22,4203",null,-22.420300000000001,null,null,null,null,null,null,null,"Odpočet objemu RŠ:-22,4203"]
[null,null,"DK1A KT DN300 a PVC DN300:0,30*1,20*(1,45+2,44)/2",null,0.70020000000000004,null,null,null,null,null,null,null,"DK1A KT DN300 a PVC DN300:0,30*1,20*(1,45+2,44)/2"]
[null,null,"(22,00-15,30)*1,20*(2,44+2,00)/2",null,17.848800000000001,null,null,null,null,null,null,null,"(22,00-15,30)*1,20*(2,44+2,00)/2"]
[null,null,"(59,70-22,00)*1,00*2,00",null,75.400000000000006,null,null,null,null,null,null,null,"(59,70-22,00)*1,00*2,00"]
[null,null,"Prohloubení pro RŠ:1,60*1,60*0,20*3",null,1.536,null,null,null,null,null,null,null,"Prohloubení pro RŠ:1,60*1,60*0,20*3"]
[null,null,"Rozšíření pro RŠ:1,60*(1,60-1,20)*2,00+1,60*(1,60-1,00)*4,00",null,5.12,null,null,null,null,null,null,null,"Rozšíření pro RŠ:1,60*(1,60-1,20)*2,00+1,60*(1,60-1,00)*4,00"]
[null,null,"Odpočet lože, potrubí a obsypů:-(7,00*0,6538+37,70*1,00*(0,10+0,30+0,30))",null,-30.9666,null,null,null,null,null,null,null,"Odpočet lože, potrubí a obsypů:-(7,00*0,6538+37,70*1,00*(0,10+0,30+0,30))"]
[null,null,"Odpočet objemu RŠ:-6,3679",null,-6.3678999999999997,null,null,null,null,null,null,null,"Odpočet objemu RŠ:-6,3679"]
[null,null,"DK1B KT DN400:5,00*1,20*2,10",null,12.6,null,null,null,null,null,null,null,"DK1B KT DN400:5,00*1,20*2,10"]
[null,null,"Prohloubení pro RŠ:1,60*1,60*0,20*1",null,0.51200000000000001,null,null,null,null,null,null,null,"Prohloubení pro RŠ:1,60*1,60*0,20*1"]
[null,null,"Rozšíření pro RŠ:1,60*(1,60-1,20)*2,10",null,1.3440000000000001,null,null,null,null,null,null,null,"Rozšíření pro RŠ:1,60*(1,60-1,20)*2,10"]
[null,null,"Odpočet lože, potrubí a obsypů:-5,00*0,7032",null,-3.516,null,null,null,null,null,null,null,"Odpočet lože, potrubí a obsypů:-5,00*0,7032"]
[null,null,"Odpočet objemu RŠ:-2,2553",null,-2.2553000000000001,null,null,null,null,null,null,null,"Odpočet objemu RŠ:-2,2553"]
[null,null,"DK1C KT DN300:4,50*1,20*(2,00+1,98)/2",null,10.746,null,null,null,null,null,null,null,"DK1C KT DN300:4,50*1,20*(2,00+1,98)/2"]
[null,null,"Prohloubení pro RŠ:1,60*1,60*0,20*1",null,0.51200000000000001,null,null,null,null,null,null,null,"Prohloubení pro RŠ:1,60*1,60*0,20*1"]
[null,null,"Rozšíření pro RŠ:1,60*(1,60-1,20)*1,98",null,1.2672000000000001,null,null,null,null,null,null,null,"Rozšíření pro RŠ:1,60*(1,60-1,20)*1,98"]
[null,null,"Odpočet lože, potrubí a obsypů:-4,50*0,6538",null,-2.9420999999999999,null,null,null,null,null,null,null,"Odpočet lože, potrubí a obsypů:-4,50*0,6538"]
[null,null,"Odpočet objemu RŠ:-2,0961",null,-2.0960999999999999,null,null,null,null,null,null,null,"Odpočet objemu RŠ:-2,0961"]
[null,null,"DK1D KT DN300:18,50*1,20*2,00",null,44.4,null,null,null,null,null,null,null,"DK1D KT DN300:18,50*1,20*2,00"]
[null,null,"Prohloubení pro RŠ:1,60*1,60*0,20*2",null,1.024,null,null,null,null,null,null,null,"Prohloubení pro RŠ:1,60*1,60*0,20*2"]
[null,null,"Rozšíření pro RŠ:1,60*(1,60-1,20)*4,00",null,2.56,null,null,null,null,null,null,null,"Rozšíření pro RŠ:1,60*(1,60-1,20)*4,00"]
[null,null,"Odpočet lože, potrubí a obsypů:-18,50*0,6538",null,-12.0953,null,null,null,null,null,null,null,"Odpočet lože, potrubí a obsypů:-18,50*0,6538"]
[null,null,"Odpočet objemu RŠ:-4,2452",null,-4.2451999999999996,null,null,null,null,null,null,null,"Odpočet objemu RŠ:-4,2452"]
[null,null,"DK2 KT DN300:(63,50-54,00)*1,20*(2,35+2,15)/2",null,25.65,null,null,null,null,null,null,null,"DK2 KT DN300:(63,50-54,00)*1,20*(2,35+2,15)/2"]
[null,null,"(77,70-63,50)*1,20*(2,15+2,00)/2",null,35.357999999999997,null,null,null,null,null,null,null,"(77,70-63,50)*1,20*(2,15+2,00)/2"]
[null,null,"Prohloubení pro RŠ:1,60*1,60*0,20*4",null,2.048,null,null,null,null,null,null,null,"Prohloubení pro RŠ:1,60*1,60*0,20*4"]
[null,null,"Rozšíření pro RŠ:1,60*(1,60-1,20)*6,49",null,4.1536,null,null,null,null,null,null,null,"Rozšíření pro RŠ:1,60*(1,60-1,20)*6,49"]
[null,null,"Odpočet lože, potrubí a obsypů:-(23,70*0,7032+24,00*0,6538)",null,-32.356999999999999,null,null,null,null,null,null,null,"Odpočet lože, potrubí a obsypů:-(23,70*0,7032+24,00*0,6538)"]
[null,null,"Odpočet objemu RŠ:-6,4873",null,-6.4873000000000003,null,null,null,null,null,null,null,"Odpočet objemu RŠ:-6,4873"]
[null,null,"DK2A KT DN300:11,20*1,20*(2,35+2,00)/2",null,29.231999999999999,null,null,null,null,null,null,null,"DK2A KT DN300:11,20*1,20*(2,35+2,00)/2"]
[null,null,"(91,50-11,20)*1,20*2,00",null,192.72,null,null,null,null,null,null,null,"(91,50-11,20)*1,20*2,00"]
[null,null,"Prohloubení pro RŠ:1,60*1,60*0,20*3",null,1.536,null,null,null,null,null,null,null,"Prohloubení pro RŠ:1,60*1,60*0,20*3"]
[null,null,"Rozšíření pro RŠ:1,60*(1,60-1,20)*3,65",null,2.3359999999999999,null,null,null,null,null,null,null,"Rozšíření pro RŠ:1,60*(1,60-1,20)*3,65"]
[null,null,"Odpočet lože, potrubí a obsypů:-94,50*0,6538",null,-61.784100000000002,null,null,null,null,null,null,null,"Odpočet lože, potrubí a obsypů:-94,50*0,6538"]
[null,null,"Odpočet objemu RŠ:-3,2503",null,-3.2503000000000002,null,null,null,null,null,null,null,"Odpočet objemu RŠ:-3,2503"]
[null,null,"DK2B KT DN300:5,00*1,20*(2,15+1,90)/2",null,12.15,null,null,null,null,null,null,null,"DK2B KT DN300:5,00*1,20*(2,15+1,90)/2"]
[null,null,"Prohloubení pro RŠ:1,60*1,60*0,20*1",null,0.51200000000000001,null,null,null,null,null,null,null,"Prohloubení pro RŠ:1,60*1,60*0,20*1"]
[null,null,"Rozšíření pro RŠ:1,60*(1,60-1,20)*1,90",null,1.216,null,null,null,null,null,null,null,"Rozšíření pro RŠ:1,60*(1,60-1,20)*1,90"]
[null,null,"Odpočet lože, potrubí a obsypů:-5,00*0,6538",null,-3.2690000000000001,null,null,null,null,null,null,null,"Odpočet lože, potrubí a obsypů:-5,00*0,6538"]
[null,null,"Odpočet objemu RŠ:-1,9900",null,-1.99,null,null,null,null,null,null,null,"Odpočet objemu RŠ:-1,9900"]
[null,null,"Odpočet konstrukce komunikací a ZP:",null,0,null,null,null,null,null,null,null,"Odpočet konstrukce komunikací a ZP:"]
[null,null,"DK1:-((244,00-60,00)*1,20+1,60*(1,60-1,20)*10)*0,40",null,-90.88,null,null,null,null,null,null,null,"DK1:-((244,00-60,00)*1,20+1,60*(1,60-1,20)*10)*0,40"]
[null,null,"DK1A:-((22,00-15,00)*1,20+(59,70-22,00)*1,00+1,60*(1,60-1,00)*3)*0,40",null,-19.591999999999999,null,null,null,null,null,null,null,"DK1A:-((22,00-15,00)*1,20+(59,70-22,00)*1,00+1,60*(1,60-1,00)*3)*0,40"]
[null,null,"DK1B:-(5,00*1,20+1,60*(1,60-1,20)*1)*0,40",null,-2.6560000000000001,null,null,null,null,null,null,null,"DK1B:-(5,00*1,20+1,60*(1,60-1,20)*1)*0,40"]
[null,null,"DK1C:-(4,50*1,20+1,60*(1,60-1,20)*1)*0,40",null,-2.4159999999999999,null,null,null,null,null,null,null,"DK1C:-(4,50*1,20+1,60*(1,60-1,20)*1)*0,40"]
[null,null,"DK1D:-(18,50*1,20+1,60*(1,60-1,20)*2)*0,40",null,-9.3919999999999995,null,null,null,null,null,null,null,"DK1D:-(18,50*1,20+1,60*(1,60-1,20)*2)*0,40"]
[null,null,"DK2:-((77,70-54,00)*1,20+1,60*(1,60-1,20)*2)*0,40",null,-11.888,null,null,null,null,null,null,null,"DK2:-((77,70-54,00)*1,20+1,60*(1,60-1,20)*2)*0,40"]
[null,null,"DK2A:-(91,50*1,20+1,60*(1,60-1,20)*3)*0,40",null,-44.688000000000002,null,null,null,null,null,null,null,"DK2A:-(91,50*1,20+1,60*(1,60-1,20)*3)*0,40"]
[null,null,"DK2B:-(5,00*1,20+1,60*(1,60-1,20)*1)*0,40",null,-2.6560000000000001,null,null,null,null,null,null,null,"DK2B:-(5,00*1,20+1,60*(1,60-1,20)*1)*0,40"]
[null,null,"Přípojky DK (Průměrná hloubka 2,00 m):",null,0,null,null,null,null,null,null,null,"Přípojky DK (Průměrná hloubka 2,00 m):"]
[null,null,"DK1 (11 kusů):45,00*0,80*2,00",null,72,null,null,null,null,null,null,null,"DK1 (11 kusů):45,00*0,80*2,00"]
[null,null,"DK1A (3 kusy):4,50*0,80*2,00",null,7.2,null,null,null,null,null,null,null,"DK1A (3 kusy):4,50*0,80*2,00"]
[null,null,"DK1D (1 kus):1,00*0,80*2,00",null,1.6,null,null,null,null,null,null,null,"DK1D (1 kus):1,00*0,80*2,00"]
[null,null,"DK2 (6 kusů):4,00*0,80*2,00",null,6.4,null,null,null,null,null,null,null,"DK2 (6 kusů):4,00*0,80*2,00"]
[null,null,"DK2A (2 kusy):2,00*0,80*2,00",null,3.2,null,null,null,null,null,null,null,"DK2A (2 kusy):2,00*0,80*2,00"]
[null,null,"Odpočet konstrukce komunikací a ZP:-56,50*0,80*0,40",null,-18.079999999999998,null,null,null,null,null,null,null,"Odpočet konstrukce komunikací a ZP:-56,50*0,80*0,40"]
[null,null,"Odpočet lože, potrubí a obsypů:-56,50*0,80*(0,10+0,15+0,30)",null,-24.86,null,null,null,null,null,null,null,"Odpočet lože, potrubí a obsypů:-56,50*0,80*(0,10+0,15+0,30)"]
[null,null,"Přípojky k UV (Průměrná hloubka 1,75 m):",null,0,null,null,null,null,null,null,null,"Přípojky k UV (Průměrná hloubka 1,75 m):"]
[null,null,"DK1 (15 kusů):(71,50+0,80*15)*0,80*1,75",null,116.9,null,null,null,null,null,null,null,"DK1 (15 kusů):(71,50+0,80*15)*0,80*1,75"]
[null,null,"DK1D (2 kusy):(2,00+0,80*2)*0,80*1,75",null,5.04,null,null,null,null,null,null,null,"DK1D (2 kusy):(2,00+0,80*2)*0,80*1,75"]
[null,null,"DK2 (1 kus):(1,50+0,80*1)*0,80*1,75",null,3.22,null,null,null,null,null,null,null,"DK2 (1 kus):(1,50+0,80*1)*0,80*1,75"]
[null,null,"DK2A (6 kusů):(17,50+0,80*6)*0,80*1,75",null,31.22,null,null,null,null,null,null,null,"DK2A (6 kusů):(17,50+0,80*6)*0,80*1,75"]
[null,null,"DK2B (1 kus):(1,00+0,80*1)*0,80*1,75",null,2.52,null,null,null,null,null,null,null,"DK2B (1 kus):(1,00+0,80*1)*0,80*1,75"]
[null,null,"Odpočet konstrukce komunikací a ZP:-113,50*0,80*0,40",null,-36.32,null,null,null,null,null,null,null,"Odpočet konstrukce komunikací a ZP:-113,50*0,80*0,40"]
[null,null,"Odpočet lože, potrubí a obsypů:-113,50*0,80*(0,10+0,15+0,30)",null,-49.94,null,null,null,null,null,null,null,"Odpočet lože, potrubí a obsypů:-113,50*0,80*(0,10+0,15+0,30)"]
[null,null,"Odpočet objemu UV:-5,8875",null,-5.8875000000000002,null,null,null,null,null,null,null,"Odpočet objemu UV:-5,8875"]
[null,null,"Přípojky pro DS PVC DN150 (Průměrná hloubka 1,50 m):",null,0,null,null,null,null,null,null,null,"Přípojky pro DS PVC DN150 (Průměrná hloubka 1,50 m):"]
[null,null,"DK1 (2 kusy):12,00*0,80*1,50",null,14.4,null,null,null,null,null,null,null,"DK1 (2 kusy):12,00*0,80*1,50"]
[null,null,"Odpočet konstrukce komunikací a ZP:-12,00*0,80*0,40",null,-3.84,null,null,null,null,null,null,null,"Odpočet konstrukce komunikací a ZP:-12,00*0,80*0,40"]
[null,null,"Odpočet lože, potrubí a obsypů:-12,00*0,80*(0,10+0,15+0,30)",null,-5.28,null,null,null,null,null,null,null,"Odpočet lože, potrubí a obsypů:-12,00*0,80*(0,10+0,15+0,30)"]
[null,null,"Konec provozního součtu",null,736.23599999999965,null,null,null,null,null,null,null,"Konec provozního součtu"]
[19,"175101101R00","Obsyp potrubí bez prohození sypaniny ","m3",435.72460000000001,null,{"$f":"E291*F291","v":0},0,{"$f":"E291*H291","v":0},0,{"$f":"E291*J291","v":0},null,null,null,2,null,null,null,null,null,null,null,null,null,null,null,1,1,1,null,null,null,null,null,null,null,null,null,null,null,null,null,null,null,null,null,null,null,null,null,null,1,{"$f":"IF(AZ291=1,G291,0)","v":0},{"$f":"IF(AZ291=2,G291,0)","v":0},{"$f":"IF(AZ291=3,G291,0)","v":0},{"$f":"IF(AZ291=4,G291,0)","v":0},{"$f":"IF(AZ291=5,G291,0)","v":0},null,null,null,null,null,null,null,null,null,null,null,null,null,null,null,null,null,null,null,null,null,1,1]
[null,null,"Dešťová kanalizace:",null,0,null,null,null,null,null,null,null,"Dešťová kanalizace:"]
[null,null,"DK1 KT DN300 a DN400:281,60*0,6538+62,40*0,7032",null,227.9898,null,null,null,null,null,null,null,"DK1 KT DN300 a DN400:281,60*0,6538+62,40*0,7032"]
[null,null,"DK1A KT DN300 a PVC 300:22,00*0,6538+37,70*(1,00*(0,30+0,30)-0,15^2*Pi)",null,34.338700000000003,null,null,null,null,null,null,null,"DK1A KT DN300 a PVC 300:22,00*0,6538+37,70*(1,00*(0,30+0,30)-0,15^2*Pi)"]
[null,null,"DK1B KT DN400:5,00*0,7032",null,3.516,null,null,null,null,null,null,null,"DK1B KT DN400:5,00*0,7032"]
[null,null,"DK1C KT DN300:4,50*0,6538",null,2.9420999999999999,null,null,null,null,null,null,null,"DK1C KT DN300:4,50*0,6538"]
[null,null,"DK1D KT DN300:18,50*0,6538",null,12.0953,null,null,null,null,null,null,null,"DK1D KT DN300:18,50*0,6538"]
[null,null,"DK2 KT DN300 a DN400:24,00*0,6538+23,70*0,7032",null,32.356999999999999,null,null,null,null,null,null,null,"DK2 KT DN300 a DN400:24,00*0,6538+23,70*0,7032"]
[null,null,"DK2A KT DN300:91,50*0,6538",null,59.822699999999998,null,null,null,null,null,null,null,"DK2A KT DN300:91,50*0,6538"]
[null,null,"DK2B KT DN300:5,00*0,6538",null,3.2690000000000001,null,null,null,null,null,null,null,"DK2B KT DN300:5,00*0,6538"]
[null,null,"Přípojky pro DKP PVC DN150:",null,0,null,null,null,null,null,null,null,"Přípojky pro DKP PVC DN150:"]
[null,null,"DK1 (11 kusů):50,50*(0,80*(0,15+0,30)-0,075^2*Pi)",null,17.287600000000001,null,null,null,null,null,null,null,"DK1 (11 kusů):50,50*(0,80*(0,15+0,30)-0,075^2*Pi)"]
[null,null,"DK1A (3 kusy):6,00*(0,80*(0,15+0,30)-0,075^2*Pi)",null,2.0539999999999998,null,null,null,null,null,null,null,"DK1A (3 kusy):6,00*(0,80*(0,15+0,30)-0,075^2*Pi)"]
[null,null,"DK1D (1 kus):1,50*(0,80*(0,15+0,30)-0,075^2*Pi)",null,0.51349999999999996,null,null,null,null,null,null,null,"DK1D (1 kus):1,50*(0,80*(0,15+0,30)-0,075^2*Pi)"]
[null,null,"DK2 (6 kusů):7,00*(0,80*(0,15+0,30)-0,075^2*Pi)",null,2.3963000000000001,null,null,null,null,null,null,null,"DK2 (6 kusů):7,00*(0,80*(0,15+0,30)-0,075^2*Pi)"]
[null,null,"DK2A (2 kusy):3,00*(0,80*(0,15+0,30)-0,075^2*Pi)",null,1.0269999999999999,null,null,null,null,null,null,null,"DK2A (2 kusy):3,00*(0,80*(0,15+0,30)-0,075^2*Pi)"]
[null,null,"Přípojky pro UV PVC DN150:",null,0,null,null,null,null,null,null,null,"Přípojky pro UV PVC DN150:"]
[null,null,"DK1 (15 kusů):71,50*(0,80*(0,15+0,30)-0,075^2*Pi)",null,24.476500000000001,null,null,null,null,null,null,null,"DK1 (15 kusů):71,50*(0,80*(0,15+0,30)-0,075^2*Pi)"]
[null,null,"DK1D (2 kusy):2,00*(0,80*(0,15+0,30)-0,075^2*Pi)",null,0.68469999999999998,null,null,null,null,null,null,null,"DK1D (2 kusy):2,00*(0,80*(0,15+0,30)-0,075^2*Pi)"]
[null,null,"DK2 (1 kus):1,50*(0,80*(0,15+0,30)-0,075^2*Pi)",null,0.51349999999999996,null,null,null,null,null,null,null,"DK2 (1 kus):1,50*(0,80*(0,15+0,30)-0,075^2*Pi)"]
[null,null,"DK2A (6 kusů):17,50*(0,80*(0,15+0,30)-0,075^2*Pi)",null,5.9907000000000004,null,null,null,null,null,null,null,"DK2A (6 kusů):17,50*(0,80*(0,15+0,30)-0,075^2*Pi)"]
[null,null,"DK2B (1 kus):1,00*(0,80*(0,15+0,30)-0,075^2*Pi)",null,0.34229999999999999,null,null,null,null,null,null,null,"DK2B (1 kus):1,00*(0,80*(0,15+0,30)-0,075^2*Pi)"]
[null,null,"Přípojky pro DS PVC DN150:",null,0,null,null,null,null,null,null,null,"Přípojky pro DS PVC DN150:"]
[null,null,"DK1 (2 kusy):12,00*(0,80*(0,15+0,30)-0,075^2*Pi)",null,4.1078999999999999,null,null,null,null,null,null,null,"DK1 (2 kusy):12,00*(0,80*(0,15+0,30)-0,075^2*Pi)"]
[20,"199000002R00","Poplatek za skládku horniny 1- 7 č. dle katal. odpadů 17 05 04","m3",1295.1845000000001,null,{"$f":"E315*F315","v":0},0,{"$f":"E315*H315","v":0},0,{"$f":"E315*J315","v":0},null,null,null,2,null,null,null,null,null,null,null,null,null,null,null,1,1,1,null,null,null,null,null,null,null,null,null,null,null,null,null,null,null,null,null,null,null,null,null,null,1,{"$f":"IF(AZ315=1,G315,0)","v":0},{"$f":"IF(AZ315=2,G315,0)","v":0},{"$f":"IF(AZ315=3,G315,0)","v":0},{"$f":"IF(AZ315=4,G315,0)","v":0},{"$f":"IF(AZ315=5,G315,0)","v":0},null,null,null,null,null,null,null,null,null,null,null,null,null,null,null,null,null,null,null,null,null,1,1]
[null,null,"Výkopy:",null,0,null,null,null,null,null,null,null,"Výkopy:"]
[null,null,"V hornině tř. 3 až 5:1438,0392",null,1438.0391999999999,null,null,null,null,null,null,null,"V hornině tř. 3 až 5:1438,0392"]
[null,null,"Odpočet zásypů zeminou:-142,8547",null,-142.85470000000001,null,null,null,null,null,null,null,"Odpočet zásypů zeminou:-142,8547"]
[21,"976085211R00","Vybourání kanal.rámů a poklopů plochy do 0,3 m2 ","kus",69,null,{"$f":"E319*F319","v":0},0,{"$f":"E319*H319","v":0},-2.4E-2,{"$f":"E319*J319","v":-1.6560000000000001},null,null,null,2,null,null,null,null,null,null,null,null,null,null,null,1,0,0,null,null,null,null,null,null,null,null,null,null,null,null,null,null,null,null,null,null,null,null,null,null,1,{"$f":"IF(AZ319=1,G319,0)","v":0},{"$f":"IF(AZ319=2,G319,0)","v":0},{"$f":"IF(AZ319=3,G319,0)","v":0},{"$f":"IF(AZ319=4,G319,0)","v":0},{"$f":"IF(AZ319=5,G319,0)","v":0},null,null,null,null,null,null,null,null,null,null,null,null,null,null,null,null,null,null,null,null,null,1,0]
[null,null,"Provizorní poklopy RŠ:24",null,24,null,null,null,null,null,null,null,"Provizorní poklopy RŠ:24"]
[null,null,"Poklopy na stávajících rušených RŠ:25",null,25,null,null,null,null,null,null,null,"Poklopy na stávajících rušených RŠ:25"]
[null,null,"Mříže stávajících UV:20",null,20,null,null,null,null,null,null,null,"Mříže stávajících UV:20"]
[22,"58337308R","Štěrkopísek frakce 0-2 tř.B","t",859.68460000000005,null,{"$f":"E323*F323","v":0},1,{"$f":"E323*H323","v":859.68460000000005},null,{"$f":"E323*J323","v":0},null,null,null,2,null,null,null,null,null,null,null,null,null,null,null,3,1,"58337308R",null,null,null,null,null,null,null,null,null,null,null,null,null,null,null,null,null,null,null,null,null,null,1,{"$f":"IF(AZ323=1,G323,0)","v":0},{"$f":"IF(AZ323=2,G323,0)","v":0},{"$f":"IF(AZ323=3,G323,0)","v":0},{"$f":"IF(AZ323=4,G323,0)","v":0},{"$f":"IF(AZ323=5,G323,0)","v":0},null,null,null,null,null,null,null,null,null,null,null,null,null,null,null,null,null,null,null,null,null,3,1]
[null,null,"Začátek provozního součtu",null,0,null,null,null,null,null,null,null,"Začátek provozního součtu"]
[null,null,"Dešťová kanalizace:",null,0,null,null,null,null,null,null,null,"Dešťová kanalizace:"]
[null,null,"DK1 KT DN300 a DN400:281,60*0,6538+62,40*0,7032",null,227.9898,null,null,null,null,null,null,null,"DK1 KT DN300 a DN400:281,60*0,6538+62,40*0,7032"]
[null,null,"DK1A KT DN300 a PVC 300:22,00*0,6538+37,70*(1,00*(0,30+0,30)-0,15^2*Pi)",null,34.338700000000003,null,null,null,null,null,null,null,"DK1A KT DN300 a PVC 300:22,00*0,6538+37,70*(1,00*(0,30+0,30)-0,15^2*Pi)"]
[null,null,"DK1B KT DN400:5,00*0,7032",null,3.516,null,null,null,null,null,null,null,"DK1B KT DN400:5,00*0,7032"]
[null,null,"DK1C KT DN300:4,50*0,6538",null,2.9420999999999999,null,null,null,null,null,null,null,"DK1C KT DN300:4,50*0,6538"]
[null,null,"DK1D KT DN300:18,50*0,6538",null,12.0953,null,null,null,null,null,null,null,"DK1D KT DN300:18,50*0,6538"]
[null,null,"DK2 KT DN300 a DN400:24,00*0,6538+23,70*0,7032",null,32.356999999999999,null,null,null,null,null,null,null,"DK2 KT DN300 a DN400:24,00*0,6538+23,70*0,7032"]
[null,null,"DK2A KT DN300:91,50*0,6538",null,59.822699999999998,null,null,null,null,null,null,null,"DK2A KT DN300:91,50*0,6538"]
[null,null,"DK2B KT DN300:5,00*0,6538",null,3.2690000000000001,null,null,null,null,null,null,null,"DK2B KT DN300:5,00*0,6538"]
[null,null,"Přípojky pro DKP PVC DN150:",null,0,null,null,null,null,null,null,null,"Přípojky pro DKP PVC DN150:"]
[null,null,"DK1 (11 kusů):50,50*(0,80*(0,15+0,30)-0,075^2*Pi)",null,17.287600000000001,null,null,null,null,null,null,null,"DK1 (11 kusů):50,50*(0,80*(0,15+0,30)-0,075^2*Pi)"]
[null,null,"DK1A (3 kusy):6,00*(0,80*(0,15+0,30)-0,075^2*Pi)",null,2.0539999999999998,null,null,null,null,null,null,null,"DK1A (3 kusy):6,00*(0,80*(0,15+0,30)-0,075^2*Pi)"]
[null,null,"DK1D (1 kus):1,50*(0,80*(0,15+0,30)-0,075^2*Pi)",null,0.51349999999999996,null,null,null,null,null,null,null,"DK1D (1 kus):1,50*(0,80*(0,15+0,30)-0,075^2*Pi)"]
[null,null,"DK2 (6 kusů):7,00*(0,80*(0,15+0,30)-0,075^2*Pi)",null,2.3963000000000001,null,null,null,null,null,null,null,"DK2 (6 kusů):7,00*(0,80*(0,15+0,30)-0,075^2*Pi)"]
[null,null,"DK2A (2 kusy):3,00*(0,80*(0,15+0,30)-0,075^2*Pi)",null,1.0269999999999999,null,null,null,null,null,null,null,"DK2A (2 kusy):3,00*(0,80*(0,15+0,30)-0,075^2*Pi)"]
[null,null,"Přípojky pro UV PVC DN150:",null,0,null,null,null,null,null,null,null,"Přípojky pro UV PVC DN150:"]
[null,null,"DK1 (15 kusů):71,50*(0,80*(0,15+0,30)-0,075^2*Pi)",null,24.476500000000001,null,null,null,null,null,null,null,"DK1 (15 kusů):71,50*(0,80*(0,15+0,30)-0,075^2*Pi)"]
[null,null,"DK1D (2 kusy):2,00*(0,80*(0,15+0,30)-0,075^2*Pi)",null,0.68469999999999998,null,null,null,null,null,null,null,"DK1D (2 kusy):2,00*(0,80*(0,15+0,30)-0,075^2*Pi)"]
[null,null,"DK2 (1 kus):1,50*(0,80*(0,15+0,30)-0,075^2*Pi)",null,0.51349999999999996,null,null,null,null,null,null,null,"DK2 (1 kus):1,50*(0,80*(0,15+0,30)-0,075^2*Pi)"]
[null,null,"DK2A (6 kusů):17,50*(0,80*(0,15+0,30)-0,075^2*Pi)",null,5.9907000000000004,null,null,null,null,null,null,null,"DK2A (6 kusů):17,50*(0,80*(0,15+0,30)-0,075^2*Pi)"]
[null,null,"DK2B (1 kus):1,00*(0,80*(0,15+0,30)-0,075^2*Pi)",null,0.34229999999999999,null,null,null,null,null,null,null,"DK2B (1 kus):1,00*(0,80*(0,15+0,30)-0,075^2*Pi)"]
[null,null,"Přípojky pro DS PVC DN150:",null,0,null,null,null,null,null,null,null,"Přípojky pro DS PVC DN150:"]
[null,null,"DK1 (2 kusy):12,00*(0,80*(0,15+0,30)-0,075^2*Pi)",null,4.1078999999999999,null,null,null,null,null,null,null,"DK1 (2 kusy):12,00*(0,80*(0,15+0,30)-0,075^2*Pi)"]
[null,null,"Konec provozního součtu",null,435.72460000000007,null,null,null,null,null,null,null,"Konec provozního součtu"]
[null,null,"435,7246*1,973",null,859.68460000000005,null,null,null,null,null,null,null,"435,7246*1,973"]
[23,"58344197R","Štěrkodrtě frakce 0-63 A","t",1378.97,null,{"$f":"E350*F350","v":0},1,{"$f":"E350*H350","v":1378.97},null,{"$f":"E350*J350","v":0},null,null,null,2,null,null,null,null,null,null,null,null,null,null,null,3,1,"58344197R",null,null,null,null,null,null,null,null,null,null,null,null,null,null,null,null,null,null,null,null,null,null,1,{"$f":"IF(AZ350=1,G350,0)","v":0},{"$f":"IF(AZ350=2,G350,0)","v":0},{"$f":"IF(AZ350=3,G350,0)","v":0},{"$f":"IF(AZ350=4,G350,0)","v":0},{"$f":"IF(AZ350=5,G350,0)","v":0},null,null,null,null,null,null,null,null,null,null,null,null,null,null,null,null,null,null,null,null,null,3,1]
[null,null,"Zásyp štěrkodrtí fr. 0-63 mm:736,2360*1,873",null,1378.97,null,null,null,null,null,null,null,"Zásyp štěrkodrtí fr. 0-63 mm:736,2360*1,873"]
[null,null,"Začátek provozního součtu",null,0,null,null,null,null,null,null,null,"Začátek provozního součtu"]
[null,null,"Dešťová kanalizace:",null,0,null,null,null,null,null,null,null,"Dešťová kanalizace:"]
[null,null,"DK1 KT DN300 a DN400:(62,40-60,00)*1,20*(1,45+2,10)/2",null,5.1120000000000001,null,null,null,null,null,null,null,"DK1 KT DN300 a DN400:(62,40-60,00)*1,20*(1,45+2,10)/2"]
[null,null,"(101,70-62,40)*1,20*(2,10+2,00)/2",null,96.677999999999997,null,null,null,null,null,null,null,"(101,70-62,40)*1,20*(2,10+2,00)/2"]
[null,null,"(344,00-101,70)*1,20*2,00",null,581.52,null,null,null,null,null,null,null,"(344,00-101,70)*1,20*2,00"]
[null,null,"Prohloubení pro RŠ:1,60*1,60*0,20*8",null,4.0960000000000001,null,null,null,null,null,null,null,"Prohloubení pro RŠ:1,60*1,60*0,20*8"]
[null,null,"Rozšíření pro RŠ:1,60*(1,60-1,20)*20,10",null,12.864000000000001,null,null,null,null,null,null,null,"Rozšíření pro RŠ:1,60*(1,60-1,20)*20,10"]
[null,null,"Odpočet lože, potrubí a obsypů:-(2,40*0,7032+281,60*0,6538)",null,-185.7978,null,null,null,null,null,null,null,"Odpočet lože, potrubí a obsypů:-(2,40*0,7032+281,60*0,6538)"]
[null,null,"Odpočet objemu RŠ:-22,4203",null,-22.420300000000001,null,null,null,null,null,null,null,"Odpočet objemu RŠ:-22,4203"]
[null,null,"DK1A KT DN300 a PVC DN300:0,30*1,20*(1,45+2,44)/2",null,0.70020000000000004,null,null,null,null,null,null,null,"DK1A KT DN300 a PVC DN300:0,30*1,20*(1,45+2,44)/2"]
[null,null,"(22,00-15,30)*1,20*(2,44+2,00)/2",null,17.848800000000001,null,null,null,null,null,null,null,"(22,00-15,30)*1,20*(2,44+2,00)/2"]
[null,null,"(59,70-22,00)*1,00*2,00",null,75.400000000000006,null,null,null,null,null,null,null,"(59,70-22,00)*1,00*2,00"]
[null,null,"Prohloubení pro RŠ:1,60*1,60*0,20*3",null,1.536,null,null,null,null,null,null,null,"Prohloubení pro RŠ:1,60*1,60*0,20*3"]
[null,null,"Rozšíření pro RŠ:1,60*(1,60-1,20)*2,00+1,60*(1,60-1,00)*4,00",null,5.12,null,null,null,null,null,null,null,"Rozšíření pro RŠ:1,60*(1,60-1,20)*2,00+1,60*(1,60-1,00)*4,00"]
[null,null,"Odpočet lože, potrubí a obsypů:-(7,00*0,6538+37,70*1,00*(0,10+0,30+0,30))",null,-30.9666,null,null,null,null,null,null,null,"Odpočet lože, potrubí a obsypů:-(7,00*0,6538+37,70*1,00*(0,10+0,30+0,30))"]
[null,null,"Odpočet objemu RŠ:-6,3679",null,-6.3678999999999997,null,null,null,null,null,null,null,"Odpočet objemu RŠ:-6,3679"]
[null,null,"DK1B KT DN400:5,00*1,20*2,10",null,12.6,null,null,null,null,null,null,null,"DK1B KT DN400:5,00*1,20*2,10"]
[null,null,"Prohloubení pro RŠ:1,60*1,60*0,20*1",null,0.51200000000000001,null,null,null,null,null,null,null,"Prohloubení pro RŠ:1,60*1,60*0,20*1"]
[null,null,"Rozšíření pro RŠ:1,60*(1,60-1,20)*2,10",null,1.3440000000000001,null,null,null,null,null,null,null,"Rozšíření pro RŠ:1,60*(1,60-1,20)*2,10"]
[null,null,"Odpočet lože, potrubí a obsypů:-5,00*0,7032",null,-3.516,null,null,null,null,null,null,null,"Odpočet lože, potrubí a obsypů:-5,00*0,7032"]
[null,null,"Odpočet objemu RŠ:-2,2553",null,-2.2553000000000001,null,null,null,null,null,null,null,"Odpočet objemu RŠ:-2,2553"]
[null,null,"DK1C KT DN300:4,50*1,20*(2,00+1,98)/2",null,10.746,null,null,null,null,null,null,null,"DK1C KT DN300:4,50*1,20*(2,00+1,98)/2"]
[null,null,"Prohloubení pro RŠ:1,60*1,60*0,20*1",null,0.51200000000000001,null,null,null,null,null,null,null,"Prohloubení pro RŠ:1,60*1,60*0,20*1"]
[null,null,"Rozšíření pro RŠ:1,60*(1,60-1,20)*1,98",null,1.2672000000000001,null,null,null,null,null,null,null,"Rozšíření pro RŠ:1,60*(1,60-1,20)*1,98"]
[null,null,"Odpočet lože, potrubí a obsypů:-4,50*0,6538",null,-2.9420999999999999,null,null,null,null,null,null,null,"Odpočet lože, potrubí a obsypů:-4,50*0,6538"]
[null,null,"Odpočet objemu RŠ:-2,0961",null,-2.0960999999999999,null,null,null,null,null,null,null,"Odpočet objemu RŠ:-2,0961"]
[null,null,"DK1D KT DN300:18,50*1,20*2,00",null,44.4,null,null,null,null,null,null,null,"DK1D KT DN300:18,50*1,20*2,00"]
[null,null,"Prohloubení pro RŠ:1,60*1,60*0,20*2",null,1.024,null,null,null,null,null,null,null,"Prohloubení pro RŠ:1,60*1,60*0,20*2"]
[null,null,"Rozšíření pro RŠ:1,60*(1,60-1,20)*4,00",null,2.56,null,null,null,null,null,null,null,"Rozšíření pro RŠ:1,60*(1,60-1,20)*4,00"]
[null,null,"Odpočet lože, potrubí a obsypů:-18,50*0,6538",null,-12.0953,null,null,null,null,null,null,null,"Odpočet lože, potrubí a obsypů:-18,50*0,6538"]
[null,null,"Odpočet objemu RŠ:-4,2452",null,-4.2451999999999996,null,null,null,null,null,null,null,"Odpočet objemu RŠ:-4,2452"]
[null,null,"DK2 KT DN300:(63,50-54,00)*1,20*(2,35+2,15)/2",null,25.65,null,null,null,null,null,null,null,"DK2 KT DN300:(63,50-54,00)*1,20*(2,35+2,15)/2"]
[null,null,"(77,70-63,50)*1,20*(2,15+2,00)/2",null,35.357999999999997,null,null,null,null,null,null,null,"(77,70-63,50)*1,20*(2,15+2,00)/2"]
[null,null,"Prohloubení pro RŠ:1,60*1,60*0,20*4",null,2.048,null,null,null,null,null,null,null,"Prohloubení pro RŠ:1,60*1,60*0,20*4"]
[null,null,"Rozšíření pro RŠ:1,60*(1,60-1,20)*6,49",null,4.1536,null,null,null,null,null,null,null,"Rozšíření pro RŠ:1,60*(1,60-1,20)*6,49"]
[null,null,"Odpočet lože, potrubí a obsypů:-(23,70*0,7032+24,00*0,6538)",null,-32.356999999999999,null,null,null,null,null,null,null,"Odpočet lože, potrubí a obsypů:-(23,70*0,7032+24,00*0,6538)"]
[null,null,"Odpočet objemu RŠ:-6,4873",null,-6.4873000000000003,null,null,null,null,null,null,null,"Odpočet objemu RŠ:-6,4873"]
[null,null,"DK2A KT DN300:11,20*1,20*(2,35+2,00)/2",null,29.231999999999999,null,null,null,null,null,null,null,"DK2A KT DN300:11,20*1,20*(2,35+2,00)/2"]
[null,null,"(91,50-11,20)*1,20*2,00",null,192.72,null,null,null,null,null,null,null,"(91,50-11,20)*1,20*2,00"]
[null,null,"Prohloubení pro RŠ:1,60*1,60*0,20*3",null,1.536,null,null,null,null,null,null,null,"Prohloubení pro RŠ:1,60*1,60*0,20*3"]
[null,null,"Rozšíření pro RŠ:1,60*(1,60-1,20)*3,65",null,2.3359999999999999,null,null,null,null,null,null,null,"Rozšíření pro RŠ:1,60*(1,60-1,20)*3,65"]
[null,null,"Odpočet lože, potrubí a obsypů:-94,50*0,6538",null,-61.784100000000002,null,null,null,null,null,null,null,"Odpočet lože, potrubí a obsypů:-94,50*0,6538"]
[null,null,"Odpočet objemu RŠ:-3,2503",null,-3.2503000000000002,null,null,null,null,null,null,null,"Odpočet objemu RŠ:-3,2503"]
[null,null,"DK2B KT DN300:5,00*1,20*(2,15+1,90)/2",null,12.15,null,null,null,null,null,null,null,"DK2B KT DN300:5,00*1,20*(2,15+1,90)/2"]
[null,null,"Prohloubení pro RŠ:1,60*1,60*0,20*1",null,0.51200000000000001,null,null,null,null,null,null,null,"Prohloubení pro RŠ:1,60*1,60*0,20*1"]
[null,null,"Rozšíření pro RŠ:1,60*(1,60-1,20)*1,90",null,1.216,null,null,null,null,null,null,null,"Rozšíření pro RŠ:1,60*(1,60-1,20)*1,90"]
[null,null,"Odpočet lože, potrubí a obsypů:-5,00*0,6538",null,-3.2690000000000001,null,null,null,null,null,null,null,"Odpočet lože, potrubí a obsypů:-5,00*0,6538"]
[null,null,"Odpočet objemu RŠ:-1,9900",null,-1.99,null,null,null,null,null,null,null,"Odpočet objemu RŠ:-1,9900"]
[null,null,"Odpočet konstrukce komunikací a ZP:",null,0,null,null,null,null,null,null,null,"Odpočet konstrukce komunikací a ZP:"]
[null,null,"DK1:-((244,00-60,00)*1,20+1,60*(1,60-1,20)*10)*0,40",null,-90.88,null,null,null,null,null,null,null,"DK1:-((244,00-60,00)*1,20+1,60*(1,60-1,20)*10)*0,40"]
[null,null,"DK1A:-((22,00-15,00)*1,20+(59,70-22,00)*1,00+1,60*(1,60-1,00)*3)*0,40",null,-19.591999999999999,null,null,null,null,null,null,null,"DK1A:-((22,00-15,00)*1,20+(59,70-22,00)*1,00+1,60*(1,60-1,00)*3)*0,40"]
[null,null,"DK1B:-(5,00*1,20+1,60*(1,60-1,20)*1)*0,40",null,-2.6560000000000001,null,null,null,null,null,null,null,"DK1B:-(5,00*1,20+1,60*(1,60-1,20)*1)*0,40"]
[null,null,"DK1C:-(4,50*1,20+1,60*(1,60-1,20)*1)*0,40",null,-2.4159999999999999,null,null,null,null,null,null,null,"DK1C:-(4,50*1,20+1,60*(1,60-1,20)*1)*0,40"]
[null,null,"DK1D:-(18,50*1,20+1,60*(1,60-1,20)*2)*0,40",null,-9.3919999999999995,null,null,null,null,null,null,null,"DK1D:-(18,50*1,20+1,60*(1,60-1,20)*2)*0,40"]
[null,null,"DK2:-((77,70-54,00)*1,20+1,60*(1,60-1,20)*2)*0,40",null,-11.888,null,null,null,null,null,null,null,"DK2:-((77,70-54,00)*1,20+1,60*(1,60-1,20)*2)*0,40"]
[null,null,"DK2A:-(91,50*1,20+1,60*(1,60-1,20)*3)*0,40",null,-44.688000000000002,null,null,null,null,null,null,null,"DK2A:-(91,50*1,20+1,60*(1,60-1,20)*3)*0,40"]
[null,null,"DK2B:-(5,00*1,20+1,60*(1,60-1,20)*1)*0,40",null,-2.6560000000000001,null,null,null,null,null,null,null,"DK2B:-(5,00*1,20+1,60*(1,60-1,20)*1)*0,40"]
[null,null,"Přípojky DK (Průměrná hloubka 2,00 m):",null,0,null,null,null,null,null,null,null,"Přípojky DK (Průměrná hloubka 2,00 m):"]
[null,null,"DK1 (11 kusů):45,00*0,80*2,00",null,72,null,null,null,null,null,null,null,"DK1 (11 kusů):45,00*0,80*2,00"]
[null,null,"DK1A (3 kusy):4,50*0,80*2,00",null,7.2,null,null,null,null,null,null,null,"DK1A (3 kusy):4,50*0,80*2,00"]
[null,null,"DK1D (1 kus):1,00*0,80*2,00",null,1.6,null,null,null,null,null,null,null,"DK1D (1 kus):1,00*0,80*2,00"]
[null,null,"DK2 (6 kusů):4,00*0,80*2,00",null,6.4,null,null,null,null,null,null,null,"DK2 (6 kusů):4,00*0,80*2,00"]
[null,null,"DK2A (2 kusy):2,00*0,80*2,00",null,3.2,null,null,null,null,null,null,null,"DK2A (2 kusy):2,00*0,80*2,00"]
[null,null,"Odpočet konstrukce komunikací a ZP:-56,50*0,80*0,40",null,-18.079999999999998,null,null,null,null,null,null,null,"Odpočet konstrukce komunikací a ZP:-56,50*0,80*0,40"]
[null,null,"Odpočet lože, potrubí a obsypů:-56,50*0,80*(0,10+0,15+0,30)",null,-24.86,null,null,null,null,null,null,null,"Odpočet lože, potrubí a obsypů:-56,50*0,80*(0,10+0,15+0,30)"]
[null,null,"Přípojky k UV (Průměrná hloubka 1,75 m):",null,0,null,null,null,null,null,null,null,"Přípojky k UV (Průměrná hloubka 1,75 m):"]
[null,null,"DK1 (15 kusů):(71,50+0,80*15)*0,80*1,75",null,116.9,null,null,null,null,null,null,null,"DK1 (15 kusů):(71,50+0,80*15)*0,80*1,75"]
[null,null,"DK1D (2 kusy):(2,00+0,80*2)*0,80*1,75",null,5.04,null,null,null,null,null,null,null,"DK1D (2 kusy):(2,00+0,80*2)*0,80*1,75"]
[null,null,"DK2 (1 kus):(1,50+0,80*1)*0,80*1,75",null,3.22,null,null,null,null,null,null,null,"DK2 (1 kus):(1,50+0,80*1)*0,80*1,75"]
[null,null,"DK2A (6 kusů):(17,50+0,80*6)*0,80*1,75",null,31.22,null,null,null,null,null,null,null,"DK2A (6 kusů):(17,50+0,80*6)*0,80*1,75"]
[null,null,"DK2B (1 kus):(1,00+0,80*1)*0,80*1,75",null,2.52,null,null,null,null,null,null,null,"DK2B (1 kus):(1,00+0,80*1)*0,80*1,75"]
[null,null,"Odpočet konstrukce komunikací a ZP:-113,50*0,80*0,40",null,-36.32,null,null,null,null,null,null,null,"Odpočet konstrukce komunikací a ZP:-113,50*0,80*0,40"]
[null,null,"Odpočet lože, potrubí a obsypů:-113,50*0,80*(0,10+0,15+0,30)",null,-49.94,null,null,null,null,null,null,null,"Odpočet lože, potrubí a obsypů:-113,50*0,80*(0,10+0,15+0,30)"]
[null,null,"Odpočet objemu UV:-5,8875",null,-5.8875000000000002,null,null,null,null,null,null,null,"Odpočet objemu UV:-5,8875"]
[null,null,"Přípojky pro DS PVC DN150 (Průměrná hloubka 1,50 m):",null,0,null,null,null,null,null,null,null,"Přípojky pro DS PVC DN150 (Průměrná hloubka 1,50 m):"]
[null,null,"DK1 (2 kusy):12,00*0,80*1,50",null,14.4,null,null,null,null,null,null,null,"DK1 (2 kusy):12,00*0,80*1,50"]
[null,null,"Odpočet konstrukce komunikací a ZP:-12,00*0,80*0,40",null,-3.84,null,null,null,null,null,null,null,"Odpočet konstrukce komunikací a ZP:-12,00*0,80*0,40"]
[null,null,"Odpočet lože, potrubí a obsypů:-12,00*0,80*(0,10+0,15+0,30)",null,-5.28,null,null,null,null,null,null,null,"Odpočet lože, potrubí a obsypů:-12,00*0,80*(0,10+0,15+0,30)"]
[null,null,"Konec provozního součtu",null,736.23599999999965,null,null,null,null,null,null,null,"Konec provozního součtu"]
[null,"Celkem za","1 Zemní práce",null,null,null,{"$f":"SUM(G7:G430)","v":0},null,{"$f":"SUM(I7:I430)","v":2244.0433669399999},null,{"$f":"SUM(K7:K430)","v":-30.252499999999998},null,null,null,4,null,null,null,null,null,null,null,null,null,null,null,null,null,null,null,null,null,null,null,null,null,null,null,null,null,null,null,null,null,null,null,null,null,null,null,null,null,{"$f":"SUM(BA7:BA430)","v":0},{"$f":"SUM(BB7:BB430)","v":0},{"$f":"SUM(BC7:BC430)","v":0},{"$f":"SUM(BD7:BD430)","v":0},{"$f":"SUM(BE7:BE430)","v":0}]
["Díl:","2","Základy a zvláštní zakládání",null,null,null,null,null,null,null,null,null,null,null,1]
[24,"212810010RAC","Trativody z PVC drenážních flexibilních trubek lože štěrkopísek a obsyp kamenivo, trubky d 100 mm","m",575.9,null,{"$f":"E433*F433","v":0},0.43651000000000001,{"$f":"E433*H433","v":251.386109},0,{"$f":"E433*J433","v":0},null,null,null,2,null,null,null,null,null,null,null,null,null,null,null,1,1,1,null,null,null,null,null,null,null,null,null,null,null,null,null,null,null,null,null,null,null,null,null,null,1,{"$f":"IF(AZ433=1,G433,0)","v":0},{"$f":"IF(AZ433=2,G433,0)","v":0},{"$f":"IF(AZ433=3,G433,0)","v":0},{"$f":"IF(AZ433=4,G433,0)","v":0},{"$f":"IF(AZ433=5,G433,0)","v":0},null,null,null,null,null,null,null,null,null,null,null,null,null,null,null,null,null,null,null,null,null,1,1]
[null,null,"DK1 KT DN300 a DN400:281,60+62,40",null,344,null,null,null,null,null,null,null,"DK1 KT DN300 a DN400:281,60+62,40"]
[null,null,"DK1A KT DN300 + PVC DN300:22,00+37,70",null,59.7,null,null,null,null,null,null,null,"DK1A KT DN300 + PVC DN300:22,00+37,70"]
[null,null,"DK1B KT DN400:5,00",null,5,null,null,null,null,null,null,null,"DK1B KT DN400:5,00"]
[null,null,"DK1C KT DN300:4,50",null,4.5,null,null,null,null,null,null,null,"DK1C KT DN300:4,50"]
[null,null,"DK1D KT DN300:18,50",null,18.5,null,null,null,null,null,null,null,"DK1D KT DN300:18,50"]
[null,null,"DK2 KT DN300 a DN400:24,00+23,70",null,47.7,null,null,null,null,null,null,null,"DK2 KT DN300 a DN400:24,00+23,70"]
[null,null,"DK2A KT DN300:91,50",null,91.5,null,null,null,null,null,null,null,"DK2A KT DN300:91,50"]
[null,null,"DK2B KT DN300:5,00",null,5,null,null,null,null,null,null,null,"DK2B KT DN300:5,00"]
[25,"212971110R00","Opláštění trativodů z geotext., do sklonu 1:2,5 ","m2",575.9,null,{"$f":"E442*F442","v":0},1.8000000000000001E-4,{"$f":"E442*H442","v":0.103662},0,{"$f":"E442*J442","v":0},null,null,null,2,null,null,null,null,null,null,null,null,null,null,null,1,1,1,null,null,null,null,null,null,null,null,null,null,null,null,null,null,null,null,null,null,null,null,null,null,1,{"$f":"IF(AZ442=1,G442,0)","v":0},{"$f":"IF(AZ442=2,G442,0)","v":0},{"$f":"IF(AZ442=3,G442,0)","v":0},{"$f":"IF(AZ442=4,G442,0)","v":0},{"$f":"IF(AZ442=5,G442,0)","v":0},null,null,null,null,null,null,null,null,null,null,null,null,null,null,null,null,null,null,null,null,null,1,1]
[null,null,"Začátek provozního součtu",null,0,null,null,null,null,null,null,null,"Začátek provozního součtu"]
[null,null,"DK1 KT DN300 a DN400:281,60+62,40",null,344,null,null,null,null,null,null,null,"DK1 KT DN300 a DN400:281,60+62,40"]
[null,null,"DK1A KT DN300 + PVC DN300:22,00+37,70",null,59.7,null,null,null,null,null,null,null,"DK1A KT DN300 + PVC DN300:22,00+37,70"]
[null,null,"DK1B KT DN400:5,00",null,5,null,null,null,null,null,null,null,"DK1B KT DN400:5,00"]
[null,null,"DK1C KT DN300:4,50",null,4.5,null,null,null,null,null,null,null,"DK1C KT DN300:4,50"]
[null,null,"DK1D KT DN300:18,50",null,18.5,null,null,null,null,null,null,null,"DK1D KT DN300:18,50"]
[null,null,"DK2 KT DN300 a DN400:24,00+23,70",null,47.7,null,null,null,null,null,null,null,"DK2 KT DN300 a DN400:24,00+23,70"]
[null,null,"DK2A KT DN300:91,50",null,91.5,null,null,null,null,null,null,null,"DK2A KT DN300:91,50"]
[null,null,"DK2B KT DN300:5,00",null,5,null,null,null,null,null,null,null,"DK2B KT DN300:5,00"]
[null,null,"Konec provozního součtu",null,575.9,null,null,null,null,null,null,null,"Konec provozního součtu"]
[null,null,"575,9000*1,00",null,575.9,null,null,null,null,null,null,null,"575,9000*1,00"]
[26,"67390503.R","Geotextilie netkaná 300 g/m2","m2",691.08,null,{"$f":"E454*F454","v":0},2.9999999999999997E-4,{"$f":"E454*H454","v":0.20732399999999998},null,{"$f":"E454*J454","v":0},null,null,null,2,null,null,null,null,null,null,null,null,null,null,null,3,1,"67390503.R",null,null,null,null,null,null,null,null,null,null,null,null,null,null,null,null,null,null,null,null,null,null,1,{"$f":"IF(AZ454=1,G454,0)","v":0},{"$f":"IF(AZ454=2,G454,0)","v":0},{"$f":"IF(AZ454=3,G454,0)","v":0},{"$f":"IF(AZ454=4,G454,0)","v":0},{"$f":"IF(AZ454=5,G454,0)","v":0},null,null,null,null,null,null,null,null,null,null,null,null,null,null,null,null,null,null,null,null,null,3,1]
[null,null,"Začátek provozního součtu",null,0,null,null,null,null,null,null,null,"Začátek provozního součtu"]
[null,null,"DK1 KT DN300 a DN400:281,60+62,40",null,344,null,null,null,null,null,null,null,"DK1 KT DN300 a DN400:281,60+62,40"]
[null,null,"DK1A KT DN300 + PVC DN300:22,00+37,70",null,59.7,null,null,null,null,null,null,null,"DK1A KT DN300 + PVC DN300:22,00+37,70"]
[null,null,"DK1B KT DN400:5,00",null,5,null,null,null,null,null,null,null,"DK1B KT DN400:5,00"]
[null,null,"DK1C KT DN300:4,50",null,4.5,null,null,null,null,null,null,null,"DK1C KT DN300:4,50"]
[null,null,"DK1D KT DN300:18,50",null,18.5,null,null,null,null,null,null,null,"DK1D KT DN300:18,50"]
[null,null,"DK2 KT DN300 a DN400:24,00+23,70",null,47.7,null,null,null,null,null,null,null,"DK2 KT DN300 a DN400:24,00+23,70"]
[null,null,"DK2A KT DN300:91,50",null,91.5,null,null,null,null,null,null,null,"DK2A KT DN300:91,50"]
[null,null,"DK2B KT DN300:5,00",null,5,null,null,null,null,null,null,null,"DK2B KT DN300:5,00"]
[null,null,"Konec provozního součtu",null,575.9,null,null,null,null,null,null,null,"Konec provozního součtu"]
[null,null,"575,9000*1,00*1,2",null,691.08,null,null,null,null,null,null,null,"575,9000*1,00*1,2"]
[null,"Celkem za","2 Základy a zvláštní zakládání",null,null,null,{"$f":"SUM(G432:G465)","v":0},null,{"$f":"SUM(I432:I465)","v":251.69709500000002},null,{"$f":"SUM(K432:K465)","v":0},null,null,null,4,null,null,null,null,null,null,null,null,null,null,null,null,null,null,null,null,null,null,null,null,null,null,null,null,null,null,null,null,null,null,null,null,null,null,null,null,null,{"$f":"SUM(BA432:BA465)","v":0},{"$f":"SUM(BB432:BB465)","v":0},{"$f":"SUM(BC432:BC465)","v":0},{"$f":"SUM(BD432:BD465)","v":0},{"$f":"SUM(BE432:BE465)","v":0}]
["Díl:","45","Podkladní a vedlejší konstrukce",null,null,null,null,null,null,null,null,null,null,null,1]
[27,"451572111R00","Lože pod potrubí z kameniva těženého 0 - 4 mm ","m3",20.170000000000002,null,{"$f":"E468*F468","v":0},1.873,{"$f":"E468*H468","v":37.778410000000001},0,{"$f":"E468*J468","v":0},null,null,null,2,null,null,null,null,null,null,null,null,null,null,null,1,1,1,null,null,null,null,null,null,null,null,null,null,null,null,null,null,null,null,null,null,null,null,null,null,1,{"$f":"IF(AZ468=1,G468,0)","v":0},{"$f":"IF(AZ468=2,G468,0)","v":0},{"$f":"IF(AZ468=3,G468,0)","v":0},{"$f":"IF(AZ468=4,G468,0)","v":0},{"$f":"IF(AZ468=5,G468,0)","v":0},null,null,null,null,null,null,null,null,null,null,null,null,null,null,null,null,null,null,null,null,null,1,1]
[null,null,"Dešťová kanalizace:",null,0,null,null,null,null,null,null,null,"Dešťová kanalizace:"]
[null,null,"DK1A PVC DN300:37,70*1,00*0,10",null,3.77,null,null,null,null,null,null,null,"DK1A PVC DN300:37,70*1,00*0,10"]
[null,null,"Přípojky DK (Průměrná hloubka 2,00 m):",null,0,null,null,null,null,null,null,null,"Přípojky DK (Průměrná hloubka 2,00 m):"]
[null,null,"DK1 (11 kusů):(50,50+0,50*11)*0,80*0,10",null,4.4800000000000004,null,null,null,null,null,null,null,"DK1 (11 kusů):(50,50+0,50*11)*0,80*0,10"]
[null,null,"DK1A (3 kusy):(6,00+0,50*3)*0,80*0,10",null,0.6,null,null,null,null,null,null,null,"DK1A (3 kusy):(6,00+0,50*3)*0,80*0,10"]
[null,null,"DK1D (1 kus):(1,50+0,50*1)*0,80*0,10",null,0.16,null,null,null,null,null,null,null,"DK1D (1 kus):(1,50+0,50*1)*0,80*0,10"]
[null,null,"DK2 (6 kusů):(7,00+0,50*6)*0,80*0,10",null,0.8,null,null,null,null,null,null,null,"DK2 (6 kusů):(7,00+0,50*6)*0,80*0,10"]
[null,null,"DK2A (2 kusy):(3,00+0,50*2)*0,80*0,10",null,0.32,null,null,null,null,null,null,null,"DK2A (2 kusy):(3,00+0,50*2)*0,80*0,10"]
[null,null,"Přípojky k UV (Průměrná hloubka 1,75 m):",null,0,null,null,null,null,null,null,null,"Přípojky k UV (Průměrná hloubka 1,75 m):"]
[null,null,"DK1 (15 kusů):(71,50+0,80*15)*0,80*0,10",null,6.68,null,null,null,null,null,null,null,"DK1 (15 kusů):(71,50+0,80*15)*0,80*0,10"]
[null,null,"DK1D (2 kusy):(2,00+0,80*2)*0,80*0,10",null,0.28799999999999998,null,null,null,null,null,null,null,"DK1D (2 kusy):(2,00+0,80*2)*0,80*0,10"]
[null,null,"DK2 (1 kus):(1,50+0,80*1)*0,80*0,10",null,0.184,null,null,null,null,null,null,null,"DK2 (1 kus):(1,50+0,80*1)*0,80*0,10"]
[null,null,"DK2A (6 kusů):(17,50+0,80*6)*0,80*0,10",null,1.784,null,null,null,null,null,null,null,"DK2A (6 kusů):(17,50+0,80*6)*0,80*0,10"]
[null,null,"DK2B (1 kus):(1,00+0,80*1)*0,80*0,10",null,0.14399999999999999,null,null,null,null,null,null,null,"DK2B (1 kus):(1,00+0,80*1)*0,80*0,10"]
[null,null,"Přípojky pro DS PVC DN150 (Průměrná hloubka 1,50 m):",null,0,null,null,null,null,null,null,null,"Přípojky pro DS PVC DN150 (Průměrná hloubka 1,50 m):"]
[null,null,"DK1 (2 kusy):12,00*0,80*0,10",null,0.96,null,null,null,null,null,null,null,"DK1 (2 kusy):12,00*0,80*0,10"]
[28,"452112111R00","Osazení beton. prstenců pod poklopy,výšky do100 mm ","kus",46,null,{"$f":"E485*F485","v":0},6.6E-3,{"$f":"E485*H485","v":0.30359999999999998},0,{"$f":"E485*J485","v":0},null,null,null,2,null,null,null,null,null,null,null,null,null,null,null,1,1,1,null,null,null,null,null,null,null,null,null,null,null,null,null,null,null,null,null,null,null,null,null,null,1,{"$f":"IF(AZ485=1,G485,0)","v":0},{"$f":"IF(AZ485=2,G485,0)","v":0},{"$f":"IF(AZ485=3,G485,0)","v":0},{"$f":"IF(AZ485=4,G485,0)","v":0},{"$f":"IF(AZ485=5,G485,0)","v":0},null,null,null,null,null,null,null,null,null,null,null,null,null,null,null,null,null,null,null,null,null,1,1]
[null,null,"Volba položky se řídí výškou prstence nebo rámu. V položkách nejsou zakalkulovány náklady na dodávku betonových výrobků;",null,null,null,null,null,null,null,null,"Volba položky se řídí výškou prstence nebo rámu. V položkách nejsou zakalkulovány náklady na dodávku betonových výrobků;",null,null,3]
[null,null,"Šachty (30 kusů):",null,0,null,null,null,null,null,null,null,"Šachty (30 kusů):"]
[null,null,"VP H80 mm:1",null,1,null,null,null,null,null,null,null,"VP H80 mm:1"]
[null,null,"VP H100 mm:20",null,20,null,null,null,null,null,null,null,"VP H100 mm:20"]
[null,null,"UV (25 kusů) VP H60 mm:",null,0,null,null,null,null,null,null,null,"UV (25 kusů) VP H60 mm:"]
[null,null,"DK1:15",null,15,null,null,null,null,null,null,null,"DK1:15"]
[null,null,"DK1D:2",null,2,null,null,null,null,null,null,null,"DK1D:2"]
[null,null,"DK2:1",null,1,null,null,null,null,null,null,null,"DK2:1"]
[null,null,"DK2A:6",null,6,null,null,null,null,null,null,null,"DK2A:6"]
[null,null,"DK2B:1",null,1,null,null,null,null,null,null,null,"DK2B:1"]
[29,"452312131R00","Sedlové lože pod potrubí z betonu C 12/15 ","m3",97.198899999999995,null,{"$f":"E496*F496","v":0},2.5,{"$f":"E496*H496","v":242.99724999999998},0,{"$f":"E496*J496","v":0},null,null,null,2,null,null,null,null,null,null,null,null,null,null,null,1,1,1,null,null,null,null,null,null,null,null,null,null,null,null,null,null,null,null,null,null,null,null,null,null,1,{"$f":"IF(AZ496=1,G496,0)","v":0},{"$f":"IF(AZ496=2,G496,0)","v":0},{"$f":"IF(AZ496=3,G496,0)","v":0},{"$f":"IF(AZ496=4,G496,0)","v":0},{"$f":"IF(AZ496=5,G496,0)","v":0},null,null,null,null,null,null,null,null,null,null,null,null,null,null,null,null,null,null,null,null,null,1,1]
[null,null,"Položka je určena pro práce v otevřeném výkopu",null,null,null,null,null,null,null,null,"Položka je určena pro práce v otevřeném výkopu",null,null,3]
[null,null,"DK1 KT DN300:281,60*0,1806",null,50.856999999999999,null,null,null,null,null,null,null,"DK1 KT DN300:281,60*0,1806"]
[null,null,"DK1 KT DN400:62,40*0,1806",null,11.269399999999999,null,null,null,null,null,null,null,"DK1 KT DN400:62,40*0,1806"]
[null,null,"DK1A KT DN300:22,00*0,1806",null,3.9731999999999998,null,null,null,null,null,null,null,"DK1A KT DN300:22,00*0,1806"]
[null,null,"DK1B KT DN400:5,00*0,1806",null,0.90300000000000002,null,null,null,null,null,null,null,"DK1B KT DN400:5,00*0,1806"]
[null,null,"DK1C KT DN300:4,50*0,1806",null,0.81269999999999998,null,null,null,null,null,null,null,"DK1C KT DN300:4,50*0,1806"]
[null,null,"DK1D KT DN300:18,50*0,1806",null,3.3411,null,null,null,null,null,null,null,"DK1D KT DN300:18,50*0,1806"]
[null,null,"DK2 KT DN300:24,00*0,1806",null,4.3343999999999996,null,null,null,null,null,null,null,"DK2 KT DN300:24,00*0,1806"]
[null,null,"DK2 KT DN400:23,70*0,1806",null,4.2801999999999998,null,null,null,null,null,null,null,"DK2 KT DN400:23,70*0,1806"]
[null,null,"DK2A KT DN300:91,50*0,1806",null,16.524899999999999,null,null,null,null,null,null,null,"DK2A KT DN300:91,50*0,1806"]
[null,null,"DK2B KT DN300:5,00*0,1806",null,0.90300000000000002,null,null,null,null,null,null,null,"DK2B KT DN300:5,00*0,1806"]
[30,"59223864.R","Vpusť uliční TBV-Q 450/60/10a vyrovnávací prstenec","kus",25.25,null,{"$f":"E508*F508","v":0},2.3E-2,{"$f":"E508*H508","v":0.58074999999999999},null,{"$f":"E508*J508","v":0},null,null,null,2,null,null,null,null,null,null,null,null,null,null,null,3,1,"59223864.R",null,null,null,null,null,null,null,null,null,null,null,null,null,null,null,null,null,null,null,null,null,null,1,{"$f":"IF(AZ508=1,G508,0)","v":0},{"$f":"IF(AZ508=2,G508,0)","v":0},{"$f":"IF(AZ508=3,G508,0)","v":0},{"$f":"IF(AZ508=4,G508,0)","v":0},{"$f":"IF(AZ508=5,G508,0)","v":0},null,null,null,null,null,null,null,null,null,null,null,null,null,null,null,null,null,null,null,null,null,3,1]
[null,null,"UV (25 kusů) VP H60 mm:",null,0,null,null,null,null,null,null,null,"UV (25 kusů) VP H60 mm:"]
[null,null,"DK1:15*1,01",null,15.15,null,null,null,null,null,null,null,"DK1:15*1,01"]
[null,null,"DK1D:2*1,01",null,2.02,null,null,null,null,null,null,null,"DK1D:2*1,01"]
[null,null,"DK2:1*1,01",null,1.01,null,null,null,null,null,null,null,"DK2:1*1,01"]
[null,null,"DK2A:6*1,01",null,6.06,null,null,null,null,null,null,null,"DK2A:6*1,01"]
[null,null,"DK2B:1*1,01",null,1.01,null,null,null,null,null,null,null,"DK2B:1*1,01"]
[31,"59224347.B.R","Prstenec vyrovn šachetní TBW-Q.1 80/600/120","kus",1.01,null,{"$f":"E515*F515","v":0},5.2999999999999999E-2,{"$f":"E515*H515","v":5.3530000000000001E-2},null,{"$f":"E515*J515","v":0},null,null,null,2,null,null,null,null,null,null,null,null,null,null,null,3,1,"59224347.B.R",null,null,null,null,null,null,null,null,null,null,null,null,null,null,null,null,null,null,null,null,null,null,1,{"$f":"IF(AZ515=1,G515,0)","v":0},{"$f":"IF(AZ515=2,G515,0)","v":0},{"$f":"IF(AZ515=3,G515,0)","v":0},{"$f":"IF(AZ515=4,G515,0)","v":0},{"$f":"IF(AZ515=5,G515,0)","v":0},null,null,null,null,null,null,null,null,null,null,null,null,null,null,null,null,null,null,null,null,null,3,1]
[null,null,"Šachty (30 kusů):",null,0,null,null,null,null,null,null,null,"Šachty (30 kusů):"]
[null,null,"VP H80 mm:1*1,01",null,1.01,null,null,null,null,null,null,null,"VP H80 mm:1*1,01"]
[32,"59224348.B.R","Prstenec vyrovn šachetní TBW-Q.1 100/600/120","kus",20.2,null,{"$f":"E518*F518","v":0},6.8000000000000005E-2,{"$f":"E518*H518","v":1.3736000000000002},null,{"$f":"E518*J518","v":0},null,null,null,2,null,null,null,null,null,null,null,null,null,null,null,3,1,"59224348.B.R",null,null,null,null,null,null,null,null,null,null,null,null,null,null,null,null,null,null,null,null,null,null,1,{"$f":"IF(AZ518=1,G518,0)","v":0},{"$f":"IF(AZ518=2,G518,0)","v":0},{"$f":"IF(AZ518=3,G518,0)","v":0},{"$f":"IF(AZ518=4,G518,0)","v":0},{"$f":"IF(AZ518=5,G518,0)","v":0},null,null,null,null,null,null,null,null,null,null,null,null,null,null,null,null,null,null,null,null,null,3,1]
[null,null,"Šachty (30 kusů):",null,0,null,null,null,null,null,null,null,"Šachty (30 kusů):"]
[null,null,"VP H100 mm:20*1,01",null,20.2,null,null,null,null,null,null,null,"VP H100 mm:20*1,01"]
[null,"Celkem za","45 Podkladní a vedlejší konstrukce",null,null,null,{"$f":"SUM(G467:G520)","v":0},null,{"$f":"SUM(I467:I520)","v":283.08714000000003},null,{"$f":"SUM(K467:K520)","v":0},null,null,null,4,null,null,null,null,null,null,null,null,null,null,null,null,null,null,null,null,null,null,null,null,null,null,null,null,null,null,null,null,null,null,null,null,null,null,null,null,null,{"$f":"SUM(BA467:BA520)","v":0},{"$f":"SUM(BB467:BB520)","v":0},{"$f":"SUM(BC467:BC520)","v":0},{"$f":"SUM(BD467:BD520)","v":0},{"$f":"SUM(BE467:BE520)","v":0}]
["Díl:","5","Komunikace",null,null,null,null,null,null,null,null,null,null,null,1]
[33,"566903111R00","Vyspravení podkladu po překopech kam.hrubě drceným ","t",446.83789999999999,null,{"$f":"E523*F523","v":0},1.1000000000000001,{"$f":"E523*H523","v":491.52169000000004},0,{"$f":"E523*J523","v":0},null,null,null,2,null,null,null,null,null,null,null,null,null,null,null,1,1,1,null,null,null,null,null,null,null,null,null,null,null,null,null,null,null,null,null,null,null,null,null,null,1,{"$f":"IF(AZ523=1,G523,0)","v":0},{"$f":"IF(AZ523=2,G523,0)","v":0},{"$f":"IF(AZ523=3,G523,0)","v":0},{"$f":"IF(AZ523=4,G523,0)","v":0},{"$f":"IF(AZ523=5,G523,0)","v":0},null,null,null,null,null,null,null,null,null,null,null,null,null,null,null,null,null,null,null,null,null,1,1]
[null,null,"Provizorní dosypání rýhy ŠD během realizaci stavby do původní nivelety komunikace a chodníků:238,5680*1,873",null,446.83789999999999,null,null,null,null,null,null,null,"Provizorní dosypání rýhy ŠD během realizaci stavby do původní nivelety komunikace a chodníků:238,5680*1,873"]
[null,null,"Začátek provozního součtu",null,0,null,null,null,null,null,null,null,"Začátek provozního součtu"]
[null,null,"Kanalizace:",null,0,null,null,null,null,null,null,null,"Kanalizace:"]
[null,null,"DK1:((244,00-60,00)*1,20+1,60*(1,60-1,20)*10)*0,40",null,90.88,null,null,null,null,null,null,null,"DK1:((244,00-60,00)*1,20+1,60*(1,60-1,20)*10)*0,40"]
[null,null,"DK1A:((22,00-15,00)*1,20+(59,70-22,00)*1,00+1,60*(1,60-1,00)*3)*0,40",null,19.591999999999999,null,null,null,null,null,null,null,"DK1A:((22,00-15,00)*1,20+(59,70-22,00)*1,00+1,60*(1,60-1,00)*3)*0,40"]
[null,null,"DK1B:(5,00*1,20+1,60*(1,60-1,20)*1)*0,40",null,2.6560000000000001,null,null,null,null,null,null,null,"DK1B:(5,00*1,20+1,60*(1,60-1,20)*1)*0,40"]
[null,null,"DK1C:(4,50*1,20+1,60*(1,60-1,20)*1)*0,40",null,2.4159999999999999,null,null,null,null,null,null,null,"DK1C:(4,50*1,20+1,60*(1,60-1,20)*1)*0,40"]
[null,null,"DK1D:(18,50*1,20+1,60*(1,60-1,20)*2)*0,40",null,9.3919999999999995,null,null,null,null,null,null,null,"DK1D:(18,50*1,20+1,60*(1,60-1,20)*2)*0,40"]
[null,null,"DK2:((77,70-54,00)*1,20+1,60*(1,60-1,20)*2)*0,40",null,11.888,null,null,null,null,null,null,null,"DK2:((77,70-54,00)*1,20+1,60*(1,60-1,20)*2)*0,40"]
[null,null,"DK2A:(91,50*1,20+1,60*(1,60-1,20)*3)*0,40",null,44.688000000000002,null,null,null,null,null,null,null,"DK2A:(91,50*1,20+1,60*(1,60-1,20)*3)*0,40"]
[null,null,"DK2B:(5,00*1,20+1,60*(1,60-1,20)*1)*0,40",null,2.6560000000000001,null,null,null,null,null,null,null,"DK2B:(5,00*1,20+1,60*(1,60-1,20)*1)*0,40"]
[null,null,"Přípojky DK:56,50*0,80*0,40",null,18.079999999999998,null,null,null,null,null,null,null,"Přípojky DK:56,50*0,80*0,40"]
[null,null,"Přípojky k UV:113,50*0,80*0,40",null,36.32,null,null,null,null,null,null,null,"Přípojky k UV:113,50*0,80*0,40"]
[null,null,"Konec provozního součtu",null,238.56799999999998,null,null,null,null,null,null,null,"Konec provozního součtu"]
[null,"Celkem za","5 Komunikace",null,null,null,{"$f":"SUM(G522:G537)","v":0},null,{"$f":"SUM(I522:I537)","v":491.52169000000004},null,{"$f":"SUM(K522:K537)","v":0},null,null,null,4,null,null,null,null,null,null,null,null,null,null,null,null,null,null,null,null,null,null,null,null,null,null,null,null,null,null,null,null,null,null,null,null,null,null,null,null,null,{"$f":"SUM(BA522:BA537)","v":0},{"$f":"SUM(BB522:BB537)","v":0},{"$f":"SUM(BC522:BC537)","v":0},{"$f":"SUM(BD522:BD537)","v":0},{"$f":"SUM(BE522:BE537)","v":0}]
["Díl:","8","Trubní vedení",null,null,null,null,null,null,null,null,null,null,null,1]
[34,"618451004RRR","Oprava stáv. potrubí pryskyřičným rukávcem DN400 ","m",30,null,{"$f":"E540*F540","v":0},6.3659999999999994E-2,{"$f":"E540*H540","v":1.9097999999999997},0,{"$f":"E540*J540","v":0},null,null,null,2,null,null,null,null,null,null,null,null,null,null,null,1,1,1,null,null,null,null,null,null,null,null,null,null,null,null,null,null,null,null,null,null,null,null,null,null,1,{"$f":"IF(AZ540=1,G540,0)","v":0},{"$f":"IF(AZ540=2,G540,0)","v":0},{"$f":"IF(AZ540=3,G540,0)","v":0},{"$f":"IF(AZ540=4,G540,0)","v":0},{"$f":"IF(AZ540=5,G540,0)","v":0},null,null,null,null,null,null,null,null,null,null,null,null,null,null,null,null,null,null,null,null,null,1,1]
[null,null,"Součástí položky je:",null,null,null,null,null,null,null,null,"Součástí položky je:",null,null,3]
[null,null,"- Tlakové čištění stávajícího potrubí",null,null,null,null,null,null,null,null,"- Tlakové čištění stávajícího potrubí",null,null,3]
[null,null,"- Frézování a přípravné práce kanalizačním rototem na stávajícím potrubí",null,null,null,null,null,null,null,null,"- Frézování a přípravné práce kanalizačním rototem na stávajícím potrubí",null,null,3]
[null,null,"- Sanace stávajícího kanalizačního potrubí zatažením sklolaminátového rukávce vytvrzovaný UV zářením, profil DN400 o min. modulu pružnosti v ohybu dle DIN EN ISO 178:6.500 MPa.",null,null,null,null,null,null,null,null,"- Sanace stávajícího kanalizačního potrubí zatažením sklolaminátového rukávce vytvrzovaný UV zářením, profil DN400 o min. modulu pružnosti v ohybu dle DIN EN ISO 178:6.500 MPa.",null,null,3]
[null,null,"- Zednického zapravení v koncové šachte a VO.",null,null,null,null,null,null,null,null,"- Zednického zapravení v koncové šachte a VO.",null,null,3]
[null,null,"DK2 Bezvýkopová technologie DN400:30,00",null,30,null,null,null,null,null,null,null,"DK2 Bezvýkopová technologie DN400:30,00"]
[35,"618451054RRR","Zhotovení přípojky na stávající potrubí DN400/150 ","kus",3,null,{"$f":"E547*F547","v":0},9.6000000000000002E-2,{"$f":"E547*H547","v":0.28800000000000003},0,{"$f":"E547*J547","v":0},null,null,null,2,null,null,null,null,null,null,null,null,null,null,null,1,1,1,null,null,null,null,null,null,null,null,null,null,null,null,null,null,null,null,null,null,null,null,null,null,1,{"$f":"IF(AZ547=1,G547,0)","v":0},{"$f":"IF(AZ547=2,G547,0)","v":0},{"$f":"IF(AZ547=3,G547,0)","v":0},{"$f":"IF(AZ547=4,G547,0)","v":0},{"$f":"IF(AZ547=5,G547,0)","v":0},null,null,null,null,null,null,null,null,null,null,null,null,null,null,null,null,null,null,null,null,null,1,1]
[null,null,"Vyvrtání odbočky do stávajícího potrubí pro přípojku DN150",null,null,null,null,null,null,null,null,"Vyvrtání odbočky do stávajícího potrubí pro přípojku DN150",null,null,3]
[null,null,"Otevření přípojek po sanaci potrubí a zapravení přípojek injektážním robotem.",null,null,null,null,null,null,null,null,"Otevření přípojek po sanaci potrubí a zapravení přípojek injektážním robotem.",null,null,3]
[null,null,"Osazení a dodávka PVC tvarovky pro napojení KP",null,null,null,null,null,null,null,null,"Osazení a dodávka PVC tvarovky pro napojení KP",null,null,3]
[null,null,"DK2 Bezvýkopová technologie DN400:",null,0,null,null,null,null,null,null,null,"DK2 Bezvýkopová technologie DN400:"]
[null,null,"Přípojka DN400/150:3",null,3,null,null,null,null,null,null,null,"Přípojka DN400/150:3"]
[36,"831372121R00","Montáž trub kameninových, pryž. kroužek, DN 300 ","m",447.1,null,{"$f":"E553*F553","v":0},4.0000000000000003E-5,{"$f":"E553*H553","v":1.7884000000000004E-2},0,{"$f":"E553*J553","v":0},null,null,null,2,null,null,null,null,null,null,null,null,null,null,null,1,1,1,null,null,null,null,null,null,null,null,null,null,null,null,null,null,null,null,null,null,null,null,null,null,1,{"$f":"IF(AZ553=1,G553,0)","v":0},{"$f":"IF(AZ553=2,G553,0)","v":0},{"$f":"IF(AZ553=3,G553,0)","v":0},{"$f":"IF(AZ553=4,G553,0)","v":0},{"$f":"IF(AZ553=5,G553,0)","v":0},null,null,null,null,null,null,null,null,null,null,null,null,null,null,null,null,null,null,null,null,null,1,1]
[null,null,"Položka je určena pro montáž potrubí z trub kameninových s polyuretanovým spojem v otevřeném výkopu ve sklonu do 20 %.",null,null,null,null,null,null,null,null,"Položka je určena pro montáž potrubí z trub kameninových s polyuretanovým spojem v otevřeném výkopu ve sklonu do 20 %.",null,null,3]
[null,null,"DK1 KT DN300:281,60",null,281.60000000000002,null,null,null,null,null,null,null,"DK1 KT DN300:281,60"]
[null,null,"DK1A KT DN300:22,00",null,22,null,null,null,null,null,null,null,"DK1A KT DN300:22,00"]
[null,null,"DK1C KT DN300:4,50",null,4.5,null,null,null,null,null,null,null,"DK1C KT DN300:4,50"]
[null,null,"DK1D KT DN300:18,50",null,18.5,null,null,null,null,null,null,null,"DK1D KT DN300:18,50"]
[null,null,"DK2 KT DN300:24,00",null,24,null,null,null,null,null,null,null,"DK2 KT DN300:24,00"]
[null,null,"DK2A KT DN300:91,50",null,91.5,null,null,null,null,null,null,null,"DK2A KT DN300:91,50"]
[null,null,"DK2B KT DN300:5,00",null,5,null,null,null,null,null,null,null,"DK2B KT DN300:5,00"]
[37,"831392121R00","Montáž trub kameninových, pryž. kroužek, DN 400 ","m",91.1,null,{"$f":"E562*F562","v":0},6.0000000000000002E-5,{"$f":"E562*H562","v":5.4659999999999995E-3},0,{"$f":"E562*J562","v":0},null,null,null,2,null,null,null,null,null,null,null,null,null,null,null,1,1,1,null,null,null,null,null,null,null,null,null,null,null,null,null,null,null,null,null,null,null,null,null,null,1,{"$f":"IF(AZ562=1,G562,0)","v":0},{"$f":"IF(AZ562=2,G562,0)","v":0},{"$f":"IF(AZ562=3,G562,0)","v":0},{"$f":"IF(AZ562=4,G562,0)","v":0},{"$f":"IF(AZ562=5,G562,0)","v":0},null,null,null,null,null,null,null,null,null,null,null,null,null,null,null,null,null,null,null,null,null,1,1]
[null,null,"Položka je určena pro montáž potrubí z trub kameninových s polyuretanovým spojem v otevřeném výkopu ve sklonu do 20 %.",null,null,null,null,null,null,null,null,"Položka je určena pro montáž potrubí z trub kameninových s polyuretanovým spojem v otevřeném výkopu ve sklonu do 20 %.",null,null,3]
[null,null,"DK1 KT DN400:62,40",null,62.4,null,null,null,null,null,null,null,"DK1 KT DN400:62,40"]
[null,null,"DK1B KT DN400:5,00",null,5,null,null,null,null,null,null,null,"DK1B KT DN400:5,00"]
[null,null,"DK2 KT DN400:23,70",null,23.7,null,null,null,null,null,null,null,"DK2 KT DN400:23,70"]
[38,"837371221R00","Montáž tvarov. kamenin. odboč. pryž. krouž. DN 300 ","kus",33,null,{"$f":"E567*F567","v":0},6.9999999999999994E-5,{"$f":"E567*H567","v":2.31E-3},0,{"$f":"E567*J567","v":0},null,null,null,2,null,null,null,null,null,null,null,null,null,null,null,1,1,1,null,null,null,null,null,null,null,null,null,null,null,null,null,null,null,null,null,null,null,null,null,null,1,{"$f":"IF(AZ567=1,G567,0)","v":0},{"$f":"IF(AZ567=2,G567,0)","v":0},{"$f":"IF(AZ567=3,G567,0)","v":0},{"$f":"IF(AZ567=4,G567,0)","v":0},{"$f":"IF(AZ567=5,G567,0)","v":0},null,null,null,null,null,null,null,null,null,null,null,null,null,null,null,null,null,null,null,null,null,1,1]
[null,null,"Položka je určena pro montáž kameninových tvarovek odbočných těsněných pryžovými kroužky na potrubí z trub kameninových v otevřeném výkopu.",null,null,null,null,null,null,null,null,"Položka je určena pro montáž kameninových tvarovek odbočných těsněných pryžovými kroužky na potrubí z trub kameninových v otevřeném výkopu.",null,null,3]
[null,null,"Pro volbu položky je rozhodující DN hlavního řadu.",null,null,null,null,null,null,null,null,"Pro volbu položky je rozhodující DN hlavního řadu.",null,null,3]
[null,null,"DK1:",null,0,null,null,null,null,null,null,null,"DK1:"]
[null,null,"Odbočka KT DN300/150 pro UV:13",null,13,null,null,null,null,null,null,null,"Odbočka KT DN300/150 pro UV:13"]
[null,null,"Odbočka KT DN300/150 pro KP:10",null,10,null,null,null,null,null,null,null,"Odbočka KT DN300/150 pro KP:10"]
[null,null,"Odbočka KT DN300/150 pro DS:1",null,1,null,null,null,null,null,null,null,"Odbočka KT DN300/150 pro DS:1"]
[null,null,"DK1D:",null,0,null,null,null,null,null,null,null,"DK1D:"]
[null,null,"Odbočka KT DN300/150 pro UV:1",null,1,null,null,null,null,null,null,null,"Odbočka KT DN300/150 pro UV:1"]
[null,null,"Odbočka KT DN300/150 pro KP:1",null,1,null,null,null,null,null,null,null,"Odbočka KT DN300/150 pro KP:1"]
[null,null,"DK2:",null,0,null,null,null,null,null,null,null,"DK2:"]
[null,null,"Odbočka KT DN300/150 pro KP:1",null,1,null,null,null,null,null,null,null,"Odbočka KT DN300/150 pro KP:1"]
[null,null,"DK1A:",null,0,null,null,null,null,null,null,null,"DK1A:"]
[null,null,"Odbočka KT DN300/150 pro UV:3",null,3,null,null,null,null,null,null,null,"Odbočka KT DN300/150 pro UV:3"]
[null,null,"Odbočka KT DN300/150 pro KP:2",null,2,null,null,null,null,null,null,null,"Odbočka KT DN300/150 pro KP:2"]
[null,null,"DK2B:",null,0,null,null,null,null,null,null,null,"DK2B:"]
[null,null,"Odbočka KT DN300/150 pro UV:1",null,1,null,null,null,null,null,null,null,"Odbočka KT DN300/150 pro UV:1"]
[39,"837391221R00","Montáž tvarov. kamenin. odboč. pryž. krouž. DN 400 ","kus",1,null,{"$f":"E584*F584","v":0},8.0000000000000007E-5,{"$f":"E584*H584","v":8.0000000000000007E-5},0,{"$f":"E584*J584","v":0},null,null,null,2,null,null,null,null,null,null,null,null,null,null,null,1,1,1,null,null,null,null,null,null,null,null,null,null,null,null,null,null,null,null,null,null,null,null,null,null,1,{"$f":"IF(AZ584=1,G584,0)","v":0},{"$f":"IF(AZ584=2,G584,0)","v":0},{"$f":"IF(AZ584=3,G584,0)","v":0},{"$f":"IF(AZ584=4,G584,0)","v":0},{"$f":"IF(AZ584=5,G584,0)","v":0},null,null,null,null,null,null,null,null,null,null,null,null,null,null,null,null,null,null,null,null,null,1,1]
[null,null,"Položka je určena pro montáž kameninových tvarovek odbočných těsněných pryžovými nebo polyuretanovými spoji na potrubí z trub kameninových v otevřeném výkopu.",null,null,null,null,null,null,null,null,"Položka je určena pro montáž kameninových tvarovek odbočných těsněných pryžovými nebo polyuretanovými spoji na potrubí z trub kameninových v otevřeném výkopu.",null,null,3]
[null,null,"Pro volbu položky je rozhodující DN hlavního řadu.",null,null,null,null,null,null,null,null,"Pro volbu položky je rozhodující DN hlavního řadu.",null,null,3]
[null,null,"KD1:",null,0,null,null,null,null,null,null,null,"KD1:"]
[null,null,"Odpočka KT DN300/150 pro KP:1",null,1,null,null,null,null,null,null,null,"Odpočka KT DN300/150 pro KP:1"]
[40,"871313121R00","Montáž trub z plastu, gumový kroužek, DN 150 ","m",173.5,null,{"$f":"E589*F589","v":0},0,{"$f":"E589*H589","v":0},0,{"$f":"E589*J589","v":0},null,null,null,2,null,null,null,null,null,null,null,null,null,null,null,1,0,0,null,null,null,null,null,null,null,null,null,null,null,null,null,null,null,null,null,null,null,null,null,null,1,{"$f":"IF(AZ589=1,G589,0)","v":0},{"$f":"IF(AZ589=2,G589,0)","v":0},{"$f":"IF(AZ589=3,G589,0)","v":0},{"$f":"IF(AZ589=4,G589,0)","v":0},{"$f":"IF(AZ589=5,G589,0)","v":0},null,null,null,null,null,null,null,null,null,null,null,null,null,null,null,null,null,null,null,null,null,1,0]
[null,null,"V položce je uvažováno s jedním spojem na 6 m potrubí. Položka je určena pro montáž potrubí z kanalizačních trub z plastu těsněných gumovým kroužkem v otevřeném výkopu ve sklonu do 20 %.",null,null,null,null,null,null,null,null,"V položce je uvažováno s jedním spojem na 6 m potrubí. Položka je určena pro montáž potrubí z kanalizačních trub z plastu těsněných gumovým kroužkem v otevřeném výkopu ve sklonu do 20 %.",null,null,3]
[null,null,"Přípojky pro DKP PVC DN150:",null,0,null,null,null,null,null,null,null,"Přípojky pro DKP PVC DN150:"]
[null,null,"DK1 (11 kusů):50,50",null,50.5,null,null,null,null,null,null,null,"DK1 (11 kusů):50,50"]
[null,null,"DK1A (3 kusy):6,00",null,6,null,null,null,null,null,null,null,"DK1A (3 kusy):6,00"]
[null,null,"DK1D (1 kus):1,50",null,1.5,null,null,null,null,null,null,null,"DK1D (1 kus):1,50"]
[null,null,"DK2 (6 kusů):7,00",null,7,null,null,null,null,null,null,null,"DK2 (6 kusů):7,00"]
[null,null,"DK2A (2 kusy):3,00",null,3,null,null,null,null,null,null,null,"DK2A (2 kusy):3,00"]
[null,null,"Přípojky pro UV PVC DN150:",null,0,null,null,null,null,null,null,null,"Přípojky pro UV PVC DN150:"]
[null,null,"DK1 (15 kusů):71,50",null,71.5,null,null,null,null,null,null,null,"DK1 (15 kusů):71,50"]
[null,null,"DK1D (2 kusy):2,00",null,2,null,null,null,null,null,null,null,"DK1D (2 kusy):2,00"]
[null,null,"DK2 (1 kus):1,50",null,1.5,null,null,null,null,null,null,null,"DK2 (1 kus):1,50"]
[null,null,"DK2A (6 kusů):17,50",null,17.5,null,null,null,null,null,null,null,"DK2A (6 kusů):17,50"]
[null,null,"DK2B (1 kus):1,00",null,1,null,null,null,null,null,null,null,"DK2B (1 kus):1,00"]
[null,null,"Přípojky pro DS PVC DN150:",null,0,null,null,null,null,null,null,null,"Přípojky pro DS PVC DN150:"]
[null,null,"DK1 (2 kusy):12,00",null,12,null,null,null,null,null,null,null,"DK1 (2 kusy):12,00"]
[41,"871373121R00","Montáž trub z plastu, gumový kroužek, DN 300 ","m",37.700000000000003,null,{"$f":"E605*F605","v":0},1.0000000000000001E-5,{"$f":"E605*H605","v":3.7700000000000006E-4},0,{"$f":"E605*J605","v":0},null,null,null,2,null,null,null,null,null,null,null,null,null,null,null,1,1,1,null,null,null,null,null,null,null,null,null,null,null,null,null,null,null,null,null,null,null,null,null,null,1,{"$f":"IF(AZ605=1,G605,0)","v":0},{"$f":"IF(AZ605=2,G605,0)","v":0},{"$f":"IF(AZ605=3,G605,0)","v":0},{"$f":"IF(AZ605=4,G605,0)","v":0},{"$f":"IF(AZ605=5,G605,0)","v":0},null,null,null,null,null,null,null,null,null,null,null,null,null,null,null,null,null,null,null,null,null,1,1]
[null,null,"V položce je uvažováno s jedním spojem na 6 m potrubí. Položka je určena pro montáž potrubí z kanalizačních trub z plastu těsněných gumovým kroužkem v otevřeném výkopu ve sklonu do 20 %.",null,null,null,null,null,null,null,null,"V položce je uvažováno s jedním spojem na 6 m potrubí. Položka je určena pro montáž potrubí z kanalizačních trub z plastu těsněných gumovým kroužkem v otevřeném výkopu ve sklonu do 20 %.",null,null,3]
[null,null,"DK1A PVC DN300:37,70",null,37.700000000000003,null,null,null,null,null,null,null,"DK1A PVC DN300:37,70"]
[42,"877313123R00","Montáž tvarovek jednoos. plast. gum.kroužek DN 150 ","kus",158,null,{"$f":"E608*F608","v":0},1.0000000000000001E-5,{"$f":"E608*H608","v":1.58E-3},0,{"$f":"E608*J608","v":0},null,null,null,2,null,null,null,null,null,null,null,null,null,null,null,1,1,1,null,null,null,null,null,null,null,null,null,null,null,null,null,null,null,null,null,null,null,null,null,null,1,{"$f":"IF(AZ608=1,G608,0)","v":0},{"$f":"IF(AZ608=2,G608,0)","v":0},{"$f":"IF(AZ608=3,G608,0)","v":0},{"$f":"IF(AZ608=4,G608,0)","v":0},{"$f":"IF(AZ608=5,G608,0)","v":0},null,null,null,null,null,null,null,null,null,null,null,null,null,null,null,null,null,null,null,null,null,1,1]
[null,null,"Položka je určena pro montáž tvarovek jednoosých na potrubí z kanalizačních trub z plastu těsněných gumovým kroužkem v otevřeném výkopu.",null,null,null,null,null,null,null,null,"Položka je určena pro montáž tvarovek jednoosých na potrubí z kanalizačních trub z plastu těsněných gumovým kroužkem v otevřeném výkopu.",null,null,3]
[null,null,"Koleno PVC DN150/45° :",null,0,null,null,null,null,null,null,null,"Koleno PVC DN150/45° :"]
[null,null,"Přípojky pro DKP PVC DN150:",null,0,null,null,null,null,null,null,null,"Přípojky pro DKP PVC DN150:"]
[null,null,"DK1 (11 kusů):22",null,22,null,null,null,null,null,null,null,"DK1 (11 kusů):22"]
[null,null,"DK1A (3 kusy):6",null,6,null,null,null,null,null,null,null,"DK1A (3 kusy):6"]
[null,null,"DK1D (1 kus):2",null,2,null,null,null,null,null,null,null,"DK1D (1 kus):2"]
[null,null,"DK2 (6 kusů):12",null,12,null,null,null,null,null,null,null,"DK2 (6 kusů):12"]
[null,null,"DK2A (2 kusy):4",null,4,null,null,null,null,null,null,null,"DK2A (2 kusy):4"]
[null,null,"Přípojky pro UV PVC DN150:",null,0,null,null,null,null,null,null,null,"Přípojky pro UV PVC DN150:"]
[null,null,"DK1 (15 kusů):45",null,45,null,null,null,null,null,null,null,"DK1 (15 kusů):45"]
[null,null,"DK1D (2 kusy):6",null,6,null,null,null,null,null,null,null,"DK1D (2 kusy):6"]
[null,null,"DK2 (1 kus):3",null,3,null,null,null,null,null,null,null,"DK2 (1 kus):3"]
[null,null,"DK2A (6 kusů):18",null,18,null,null,null,null,null,null,null,"DK2A (6 kusů):18"]
[null,null,"DK2B (1 kus):3",null,3,null,null,null,null,null,null,null,"DK2B (1 kus):3"]
[null,null,"Přípojky pro DS PVC DN150:",null,0,null,null,null,null,null,null,null,"Přípojky pro DS PVC DN150:"]
[null,null,"DK1 (2 kusy):4",null,4,null,null,null,null,null,null,null,"DK1 (2 kusy):4"]
[null,null,"Přechodka PVC x KT DN150:",null,0,null,null,null,null,null,null,null,"Přechodka PVC x KT DN150:"]
[null,null,"Přípojky pro DKP PVC DN150:",null,0,null,null,null,null,null,null,null,"Přípojky pro DKP PVC DN150:"]
[null,null,"DK1 (11 kusů):11",null,11,null,null,null,null,null,null,null,"DK1 (11 kusů):11"]
[null,null,"DK1D (1 kus):1",null,1,null,null,null,null,null,null,null,"DK1D (1 kus):1"]
[null,null,"DK2 (6 kusů):1",null,1,null,null,null,null,null,null,null,"DK2 (6 kusů):1"]
[null,null,"DK2A (2 kusy):2",null,2,null,null,null,null,null,null,null,"DK2A (2 kusy):2"]
[null,null,"Přípojky pro UV PVC DN150:",null,0,null,null,null,null,null,null,null,"Přípojky pro UV PVC DN150:"]
[null,null,"DK1 (15 kusů):13",null,13,null,null,null,null,null,null,null,"DK1 (15 kusů):13"]
[null,null,"DK1D (2 kusy):1",null,1,null,null,null,null,null,null,null,"DK1D (2 kusy):1"]
[null,null,"DK2A (6 kusů):3",null,3,null,null,null,null,null,null,null,"DK2A (6 kusů):3"]
[null,null,"DK2B (1 kus):1",null,1,null,null,null,null,null,null,null,"DK2B (1 kus):1"]
[43,"877373121R00","Montáž tvarovek odboč. plast. gum. kroužek DN 300 ","kus",2,null,{"$f":"E636*F636","v":0},5.0000000000000002E-5,{"$f":"E636*H636","v":1E-4},0,{"$f":"E636*J636","v":0},null,null,null,2,null,null,null,null,null,null,null,null,null,null,null,1,1,1,null,null,null,null,null,null,null,null,null,null,null,null,null,null,null,null,null,null,null,null,null,null,1,{"$f":"IF(AZ636=1,G636,0)","v":0},{"$f":"IF(AZ636=2,G636,0)","v":0},{"$f":"IF(AZ636=3,G636,0)","v":0},{"$f":"IF(AZ636=4,G636,0)","v":0},{"$f":"IF(AZ636=5,G636,0)","v":0},null,null,null,null,null,null,null,null,null,null,null,null,null,null,null,null,null,null,null,null,null,1,1]
[null,null,"Položka je určena pro montáž tvarovek odbočných na potrubí z kanalizačních trub z plastu těsněných gumovým kroužkem v otevřeném výkopu.",null,null,null,null,null,null,null,null,"Položka je určena pro montáž tvarovek odbočných na potrubí z kanalizačních trub z plastu těsněných gumovým kroužkem v otevřeném výkopu.",null,null,3]
[null,null,"DK1A:",null,0,null,null,null,null,null,null,null,"DK1A:"]
[null,null,"Odbočka PVC DN300/150 pro KP:2",null,2,null,null,null,null,null,null,null,"Odbočka PVC DN300/150 pro KP:2"]
[44,"891183440RX4","Propojeníí potrubí BT DN200-300 na novou RŠ včetně dodávky propojovací tvarovky","kus",6,null,{"$f":"E640*F640","v":0},6.8000000000000005E-2,{"$f":"E640*H640","v":0.40800000000000003},0,{"$f":"E640*J640","v":0},null,null,null,2,null,null,null,null,null,null,null,null,null,null,null,1,1,1,null,null,null,null,null,null,null,null,null,null,null,null,null,null,null,null,null,null,null,null,null,null,1,{"$f":"IF(AZ640=1,G640,0)","v":0},{"$f":"IF(AZ640=2,G640,0)","v":0},{"$f":"IF(AZ640=3,G640,0)","v":0},{"$f":"IF(AZ640=4,G640,0)","v":0},{"$f":"IF(AZ640=5,G640,0)","v":0},null,null,null,null,null,null,null,null,null,null,null,null,null,null,null,null,null,null,null,null,null,1,1]
[null,null,"Položka obsahuje přerušení stávajícího potrubí, montáž a dodávku příslušné tvarovky pro propojení stávajícího potrubí s novou  RŠ DN1000",null,null,null,null,null,null,null,null,"Položka obsahuje přerušení stávajícího potrubí, montáž a dodávku příslušné tvarovky pro propojení stávajícího potrubí s novou  RŠ DN1000",null,null,3]
[null,null,"Napojení stávající DK na nové RŠ:",null,0,null,null,null,null,null,null,null,"Napojení stávající DK na nové RŠ:"]
[null,null,"DK1:2",null,2,null,null,null,null,null,null,null,"DK1:2"]
[null,null,"DK1A:1",null,1,null,null,null,null,null,null,null,"DK1A:1"]
[null,null,"DK1B:1",null,1,null,null,null,null,null,null,null,"DK1B:1"]
[null,null,"DK1C:1",null,1,null,null,null,null,null,null,null,"DK1C:1"]
[null,null,"DK2A:1",null,1,null,null,null,null,null,null,null,"DK2A:1"]
[45,"892571111R00","Zkouška těsnosti kanalizace DN do 200, vodou ","m",173.5,null,{"$f":"E648*F648","v":0},0,{"$f":"E648*H648","v":0},0,{"$f":"E648*J648","v":0},null,null,null,2,null,null,null,null,null,null,null,null,null,null,null,1,1,1,null,null,null,null,null,null,null,null,null,null,null,null,null,null,null,null,null,null,null,null,null,null,1,{"$f":"IF(AZ648=1,G648,0)","v":0},{"$f":"IF(AZ648=2,G648,0)","v":0},{"$f":"IF(AZ648=3,G648,0)","v":0},{"$f":"IF(AZ648=4,G648,0)","v":0},{"$f":"IF(AZ648=5,G648,0)","v":0},null,null,null,null,null,null,null,null,null,null,null,null,null,null,null,null,null,null,null,null,null,1,1]
[null,null,"V položce jsou zakalkulovány náklady na napuštění vodou a dodání vody pro zkoušku těsnosti včetně zavakování potrubí dle zvolené technologie zhotovitele.",null,null,null,null,null,null,null,null,"V položce jsou zakalkulovány náklady na napuštění vodou a dodání vody pro zkoušku těsnosti včetně zavakování potrubí dle zvolené technologie zhotovitele.",null,null,3]
[null,null,"Přípojky pro DKP PVC DN150:",null,0,null,null,null,null,null,null,null,"Přípojky pro DKP PVC DN150:"]
[null,null,"DK1 (11 kusů):50,50",null,50.5,null,null,null,null,null,null,null,"DK1 (11 kusů):50,50"]
[null,null,"DK1A (3 kusy):6,00",null,6,null,null,null,null,null,null,null,"DK1A (3 kusy):6,00"]
[null,null,"DK1D (1 kus):1,50",null,1.5,null,null,null,null,null,null,null,"DK1D (1 kus):1,50"]
[null,null,"DK2 (6 kusů):7,00",null,7,null,null,null,null,null,null,null,"DK2 (6 kusů):7,00"]
[null,null,"DK2A (2 kusy):3,00",null,3,null,null,null,null,null,null,null,"DK2A (2 kusy):3,00"]
[null,null,"Přípojky pro UV PVC DN150:",null,0,null,null,null,null,null,null,null,"Přípojky pro UV PVC DN150:"]
[null,null,"DK1 (15 kusů):71,50",null,71.5,null,null,null,null,null,null,null,"DK1 (15 kusů):71,50"]
[null,null,"DK1D (2 kusy):2,00",null,2,null,null,null,null,null,null,null,"DK1D (2 kusy):2,00"]
[null,null,"DK2 (1 kus):1,50",null,1.5,null,null,null,null,null,null,null,"DK2 (1 kus):1,50"]
[null,null,"DK2A (6 kusů):17,50",null,17.5,null,null,null,null,null,null,null,"DK2A (6 kusů):17,50"]
[null,null,"DK2B (1 kus):1,00",null,1,null,null,null,null,null,null,null,"DK2B (1 kus):1,00"]
[null,null,"Přípojky pro DS PVC DN150:",null,0,null,null,null,null,null,null,null,"Přípojky pro DS PVC DN150:"]
[null,null,"DK1 (2 kusy):12,00",null,12,null,null,null,null,null,null,null,"DK1 (2 kusy):12,00"]
[46,"892581111R00","Zkouška těsnosti kanalizace DN do 300, vodou ","m",484.8,null,{"$f":"E664*F664","v":0},0,{"$f":"E664*H664","v":0},0,{"$f":"E664*J664","v":0},null,null,null,2,null,null,null,null,null,null,null,null,null,null,null,1,1,1,null,null,null,null,null,null,null,null,null,null,null,null,null,null,null,null,null,null,null,null,null,null,1,{"$f":"IF(AZ664=1,G664,0)","v":0},{"$f":"IF(AZ664=2,G664,0)","v":0},{"$f":"IF(AZ664=3,G664,0)","v":0},{"$f":"IF(AZ664=4,G664,0)","v":0},{"$f":"IF(AZ664=5,G664,0)","v":0},null,null,null,null,null,null,null,null,null,null,null,null,null,null,null,null,null,null,null,null,null,1,1]
[null,null,"V položce jsou zakalkulovány náklady na napuštění vodou a dodání vody pro zkoušku těsnosti včetně zavakování potrubí dle zvolené technologie zhotovitele.",null,null,null,null,null,null,null,null,"V položce jsou zakalkulovány náklady na napuštění vodou a dodání vody pro zkoušku těsnosti včetně zavakování potrubí dle zvolené technologie zhotovitele.",null,null,3]
[null,null,"DK1 KT DN300:281,60",null,281.60000000000002,null,null,null,null,null,null,null,"DK1 KT DN300:281,60"]
[null,null,"DK1A KT DN300:22,00",null,22,null,null,null,null,null,null,null,"DK1A KT DN300:22,00"]
[null,null,"DK1C KT DN300:4,50",null,4.5,null,null,null,null,null,null,null,"DK1C KT DN300:4,50"]
[null,null,"DK1D KT DN300:18,50",null,18.5,null,null,null,null,null,null,null,"DK1D KT DN300:18,50"]
[null,null,"DK2 KT DN300:24,00",null,24,null,null,null,null,null,null,null,"DK2 KT DN300:24,00"]
[null,null,"DK2A KT DN300:91,50",null,91.5,null,null,null,null,null,null,null,"DK2A KT DN300:91,50"]
[null,null,"DK2B KT DN300:5,00",null,5,null,null,null,null,null,null,null,"DK2B KT DN300:5,00"]
[null,null,"DK1A PVC DN300:37,70",null,37.700000000000003,null,null,null,null,null,null,null,"DK1A PVC DN300:37,70"]
[47,"892591111R00","Zkouška těsnosti kanalizace DN do 400, vodou ","m",121.1,null,{"$f":"E674*F674","v":0},0,{"$f":"E674*H674","v":0},0,{"$f":"E674*J674","v":0},null,null,null,2,null,null,null,null,null,null,null,null,null,null,null,1,1,1,null,null,null,null,null,null,null,null,null,null,null,null,null,null,null,null,null,null,null,null,null,null,1,{"$f":"IF(AZ674=1,G674,0)","v":0},{"$f":"IF(AZ674=2,G674,0)","v":0},{"$f":"IF(AZ674=3,G674,0)","v":0},{"$f":"IF(AZ674=4,G674,0)","v":0},{"$f":"IF(AZ674=5,G674,0)","v":0},null,null,null,null,null,null,null,null,null,null,null,null,null,null,null,null,null,null,null,null,null,1,1]
[null,null,"V položce jsou zakalkulovány náklady na napuštění vodou a dodání vody pro zkoušku těsnosti včetně zavakování potrubí dle zvolené technologie zhotovitele.",null,null,null,null,null,null,null,null,"V položce jsou zakalkulovány náklady na napuštění vodou a dodání vody pro zkoušku těsnosti včetně zavakování potrubí dle zvolené technologie zhotovitele.",null,null,3]
[null,null,"DK2 Bezvýkopová technologie DN400:30,00",null,30,null,null,null,null,null,null,null,"DK2 Bezvýkopová technologie DN400:30,00"]
[null,null,"DK1 KT DN400:62,40",null,62.4,null,null,null,null,null,null,null,"DK1 KT DN400:62,40"]
[null,null,"DK1B KT DN400:5,00",null,5,null,null,null,null,null,null,null,"DK1B KT DN400:5,00"]
[null,null,"DK2 KT DN400:23,70",null,23.7,null,null,null,null,null,null,null,"DK2 KT DN400:23,70"]
[48,"892601121R00","Čištění kanalizační stoky do DN 200, do 15 m ","úsek",48,null,{"$f":"E680*F680","v":0},0,{"$f":"E680*H680","v":0},0,{"$f":"E680*J680","v":0},null,null,null,2,null,null,null,null,null,null,null,null,null,null,null,1,1,1,null,null,null,null,null,null,null,null,null,null,null,null,null,null,null,null,null,null,null,null,null,null,1,{"$f":"IF(AZ680=1,G680,0)","v":0},{"$f":"IF(AZ680=2,G680,0)","v":0},{"$f":"IF(AZ680=3,G680,0)","v":0},{"$f":"IF(AZ680=4,G680,0)","v":0},{"$f":"IF(AZ680=5,G680,0)","v":0},null,null,null,null,null,null,null,null,null,null,null,null,null,null,null,null,null,null,null,null,null,1,1]
[null,null,"V položce je zakalkulováno:",null,null,null,null,null,null,null,null,"V položce je zakalkulováno:",null,null,3]
[null,null,"a) otevření a uzavření revizních šachet a čisticích kusů",null,null,null,null,null,null,null,null,"a) otevření a uzavření revizních šachet a čisticích kusů",null,null,3]
[null,null,"b) natažení vysokotlakých hadic k místu odkud se bude kanalizace čistit",null,null,null,null,null,null,null,null,"b) natažení vysokotlakých hadic k místu odkud se bude kanalizace čistit",null,null,3]
[null,null,"c) vyčištění potrubí tlakovou vodou nebo motorovým pérem.",null,null,null,null,null,null,null,null,"c) vyčištění potrubí tlakovou vodou nebo motorovým pérem.",null,null,3]
[null,null,"Přípojky pro DKP PVC DN150:",null,0,null,null,null,null,null,null,null,"Přípojky pro DKP PVC DN150:"]
[null,null,"DK1 (11 kusů):11",null,11,null,null,null,null,null,null,null,"DK1 (11 kusů):11"]
[null,null,"DK1A (3 kusy):3",null,3,null,null,null,null,null,null,null,"DK1A (3 kusy):3"]
[null,null,"DK1D (1 kus):1",null,1,null,null,null,null,null,null,null,"DK1D (1 kus):1"]
[null,null,"DK2 (6 kusů):6",null,6,null,null,null,null,null,null,null,"DK2 (6 kusů):6"]
[null,null,"DK2A (2 kusy):2",null,2,null,null,null,null,null,null,null,"DK2A (2 kusy):2"]
[null,null,"Přípojky pro UV PVC DN150:",null,0,null,null,null,null,null,null,null,"Přípojky pro UV PVC DN150:"]
[null,null,"DK1 (15 kusů):15",null,15,null,null,null,null,null,null,null,"DK1 (15 kusů):15"]
[null,null,"DK1D (2 kusy):2",null,2,null,null,null,null,null,null,null,"DK1D (2 kusy):2"]
[null,null,"DK2 (1 kus):1",null,1,null,null,null,null,null,null,null,"DK2 (1 kus):1"]
[null,null,"DK2A (6 kusů):6",null,6,null,null,null,null,null,null,null,"DK2A (6 kusů):6"]
[null,null,"DK2B (1 kus):1",null,1,null,null,null,null,null,null,null,"DK2B (1 kus):1"]
[49,"892601154R00","Čištění kanalizační stoky do DN 500, nad 100 m ","m",605.9,null,{"$f":"E697*F697","v":0},0,{"$f":"E697*H697","v":0},0,{"$f":"E697*J697","v":0},null,null,null,2,null,null,null,null,null,null,null,null,null,null,null,1,1,1,null,null,null,null,null,null,null,null,null,null,null,null,null,null,null,null,null,null,null,null,null,null,1,{"$f":"IF(AZ697=1,G697,0)","v":0},{"$f":"IF(AZ697=2,G697,0)","v":0},{"$f":"IF(AZ697=3,G697,0)","v":0},{"$f":"IF(AZ697=4,G697,0)","v":0},{"$f":"IF(AZ697=5,G697,0)","v":0},null,null,null,null,null,null,null,null,null,null,null,null,null,null,null,null,null,null,null,null,null,1,1]
[null,null,"V položce je zakalkulováno:",null,null,null,null,null,null,null,null,"V položce je zakalkulováno:",null,null,3]
[null,null,"a) otevření a uzavření revizních šachet a čisticích kusů",null,null,null,null,null,null,null,null,"a) otevření a uzavření revizních šachet a čisticích kusů",null,null,3]
[null,null,"b) natažení vysokotlakých hadic k místu odkud se bude kanalizace čistit",null,null,null,null,null,null,null,null,"b) natažení vysokotlakých hadic k místu odkud se bude kanalizace čistit",null,null,3]
[null,null,"c) vyčištění potrubí tlakovou vodou nebo motorovým pérem.",null,null,null,null,null,null,null,null,"c) vyčištění potrubí tlakovou vodou nebo motorovým pérem.",null,null,3]
[null,null,"DK1 KT DN300:281,60",null,281.60000000000002,null,null,null,null,null,null,null,"DK1 KT DN300:281,60"]
[null,null,"DK1A KT DN300:22,00",null,22,null,null,null,null,null,null,null,"DK1A KT DN300:22,00"]
[null,null,"DK1C KT DN300:4,50",null,4.5,null,null,null,null,null,null,null,"DK1C KT DN300:4,50"]
[null,null,"DK1D KT DN300:18,50",null,18.5,null,null,null,null,null,null,null,"DK1D KT DN300:18,50"]
[null,null,"DK2 KT DN300:24,00",null,24,null,null,null,null,null,null,null,"DK2 KT DN300:24,00"]
[null,null,"DK2A KT DN300:91,50",null,91.5,null,null,null,null,null,null,null,"DK2A KT DN300:91,50"]
[null,null,"DK2B KT DN300:5,00",null,5,null,null,null,null,null,null,null,"DK2B KT DN300:5,00"]
[null,null,"DK1A PVC DN300:37,70",null,37.700000000000003,null,null,null,null,null,null,null,"DK1A PVC DN300:37,70"]
[null,null,"DK2 Bezvýkopová technologie DN400:30,00",null,30,null,null,null,null,null,null,null,"DK2 Bezvýkopová technologie DN400:30,00"]
[null,null,"DK1 KT DN400:62,40",null,62.4,null,null,null,null,null,null,null,"DK1 KT DN400:62,40"]
[null,null,"DK1B KT DN400:5,00",null,5,null,null,null,null,null,null,null,"DK1B KT DN400:5,00"]
[null,null,"DK2 KT DN400:23,70",null,23.7,null,null,null,null,null,null,null,"DK2 KT DN400:23,70"]
[50,"892855111R00","Kontrola kanalizace TV kamerou do 15 m ","úsek",50,null,{"$f":"E714*F714","v":0},0,{"$f":"E714*H714","v":0},0,{"$f":"E714*J714","v":0},null,null,null,2,null,null,null,null,null,null,null,null,null,null,null,1,1,1,null,null,null,null,null,null,null,null,null,null,null,null,null,null,null,null,null,null,null,null,null,null,1,{"$f":"IF(AZ714=1,G714,0)","v":0},{"$f":"IF(AZ714=2,G714,0)","v":0},{"$f":"IF(AZ714=3,G714,0)","v":0},{"$f":"IF(AZ714=4,G714,0)","v":0},{"$f":"IF(AZ714=5,G714,0)","v":0},null,null,null,null,null,null,null,null,null,null,null,null,null,null,null,null,null,null,null,null,null,1,1]
[null,null,"Přípojky pro DKP PVC DN150:",null,0,null,null,null,null,null,null,null,"Přípojky pro DKP PVC DN150:"]
[null,null,"DK1 (11 kusů):11",null,11,null,null,null,null,null,null,null,"DK1 (11 kusů):11"]
[null,null,"DK1A (3 kusy):3",null,3,null,null,null,null,null,null,null,"DK1A (3 kusy):3"]
[null,null,"DK1D (1 kus):1",null,1,null,null,null,null,null,null,null,"DK1D (1 kus):1"]
[null,null,"DK2 (6 kusů):6",null,6,null,null,null,null,null,null,null,"DK2 (6 kusů):6"]
[null,null,"DK2A (2 kusy):2",null,2,null,null,null,null,null,null,null,"DK2A (2 kusy):2"]
[null,null,"Přípojky pro UV PVC DN150:",null,0,null,null,null,null,null,null,null,"Přípojky pro UV PVC DN150:"]
[null,null,"DK1 (15 kusů):15",null,15,null,null,null,null,null,null,null,"DK1 (15 kusů):15"]
[null,null,"DK1D (2 kusy):2",null,2,null,null,null,null,null,null,null,"DK1D (2 kusy):2"]
[null,null,"DK2 (1 kus):1",null,1,null,null,null,null,null,null,null,"DK2 (1 kus):1"]
[null,null,"DK2A (6 kusů):6",null,6,null,null,null,null,null,null,null,"DK2A (6 kusů):6"]
[null,null,"DK2B (1 kus):1",null,1,null,null,null,null,null,null,null,"DK2B (1 kus):1"]
[null,null,"Přípojky pro DS PVC DN150:",null,0,null,null,null,null,null,null,null,"Přípojky pro DS PVC DN150:"]
[null,null,"DK1 (2 kusy):2",null,2,null,null,null,null,null,null,null,"DK1 (2 kusy):2"]
[51,"892855115R00","Kontrola kanalizace TV kamerou do 500 m ","m",605.9,null,{"$f":"E729*F729","v":0},0,{"$f":"E729*H729","v":0},0,{"$f":"E729*J729","v":0},null,null,null,2,null,null,null,null,null,null,null,null,null,null,null,1,1,1,null,null,null,null,null,null,null,null,null,null,null,null,null,null,null,null,null,null,null,null,null,null,1,{"$f":"IF(AZ729=1,G729,0)","v":0},{"$f":"IF(AZ729=2,G729,0)","v":0},{"$f":"IF(AZ729=3,G729,0)","v":0},{"$f":"IF(AZ729=4,G729,0)","v":0},{"$f":"IF(AZ729=5,G729,0)","v":0},null,null,null,null,null,null,null,null,null,null,null,null,null,null,null,null,null,null,null,null,null,1,1]
[null,null,"Provedení kaberové prohlídky včetně dodání elektronického záznamu na CD zadavateli a tištěné dokumentace průběhu kamerové prohlídky",null,null,null,null,null,null,null,null,"Provedení kaberové prohlídky včetně dodání elektronického záznamu na CD zadavateli a tištěné dokumentace průběhu kamerové prohlídky",null,null,3]
[null,null,"DK1 KT DN300:281,60",null,281.60000000000002,null,null,null,null,null,null,null,"DK1 KT DN300:281,60"]
[null,null,"DK1A KT DN300:22,00",null,22,null,null,null,null,null,null,null,"DK1A KT DN300:22,00"]
[null,null,"DK1C KT DN300:4,50",null,4.5,null,null,null,null,null,null,null,"DK1C KT DN300:4,50"]
[null,null,"DK1D KT DN300:18,50",null,18.5,null,null,null,null,null,null,null,"DK1D KT DN300:18,50"]
[null,null,"DK2 KT DN300:24,00",null,24,null,null,null,null,null,null,null,"DK2 KT DN300:24,00"]
[null,null,"DK2A KT DN300:91,50",null,91.5,null,null,null,null,null,null,null,"DK2A KT DN300:91,50"]
[null,null,"DK2B KT DN300:5,00",null,5,null,null,null,null,null,null,null,"DK2B KT DN300:5,00"]
[null,null,"DK1A PVC DN300:37,70",null,37.700000000000003,null,null,null,null,null,null,null,"DK1A PVC DN300:37,70"]
[null,null,"DK2 Bezvýkopová technologie DN400:30,00",null,30,null,null,null,null,null,null,null,"DK2 Bezvýkopová technologie DN400:30,00"]
[null,null,"DK1 KT DN400:62,40",null,62.4,null,null,null,null,null,null,null,"DK1 KT DN400:62,40"]
[null,null,"DK1B KT DN400:5,00",null,5,null,null,null,null,null,null,null,"DK1B KT DN400:5,00"]
[null,null,"DK2 KT DN400:23,70",null,23.7,null,null,null,null,null,null,null,"DK2 KT DN400:23,70"]
[52,"892916111R00","Utěsnění přípojek do DN 200 při zkoušce kanal. ","sada",50,null,{"$f":"E743*F743","v":0},2.0000000000000002E-5,{"$f":"E743*H743","v":1E-3},0,{"$f":"E743*J743","v":0},null,null,null,2,null,null,null,null,null,null,null,null,null,null,null,1,0,0,null,null,null,null,null,null,null,null,null,null,null,null,null,null,null,null,null,null,null,null,null,null,1,{"$f":"IF(AZ743=1,G743,0)","v":0},{"$f":"IF(AZ743=2,G743,0)","v":0},{"$f":"IF(AZ743=3,G743,0)","v":0},{"$f":"IF(AZ743=4,G743,0)","v":0},{"$f":"IF(AZ743=5,G743,0)","v":0},null,null,null,null,null,null,null,null,null,null,null,null,null,null,null,null,null,null,null,null,null,1,0]
[null,null,"Položka je určena pro utěsnění přípojek z jakéholiv druhu potrubí při zkoušce těsnosti vzduchem nebo vodou. V položce jsou zakalkulovány náklady na osazení a odstranění těsnicích uzávěrů, naplnění vzduchem a po provedení zkoušky vypuštění vzduchu.",null,null,null,null,null,null,null,null,"Položka je určena pro utěsnění přípojek z jakéholiv druhu potrubí při zkoušce těsnosti vzduchem nebo vodou. V položce jsou zakalkulovány náklady na osazení a odstranění těsnicích uzávěrů, naplnění vzduchem a po provedení zkoušky vypuštění vzduchu.",null,null,3]
[null,null,"Přípojky pro DKP PVC DN150:",null,0,null,null,null,null,null,null,null,"Přípojky pro DKP PVC DN150:"]
[null,null,"DK1 (11 kusů):11",null,11,null,null,null,null,null,null,null,"DK1 (11 kusů):11"]
[null,null,"DK1A (3 kusy):3",null,3,null,null,null,null,null,null,null,"DK1A (3 kusy):3"]
[null,null,"DK1D (1 kus):1",null,1,null,null,null,null,null,null,null,"DK1D (1 kus):1"]
[null,null,"DK2 (6 kusů):6",null,6,null,null,null,null,null,null,null,"DK2 (6 kusů):6"]
[null,null,"DK2A (2 kusy):2",null,2,null,null,null,null,null,null,null,"DK2A (2 kusy):2"]
[null,null,"Přípojky pro UV PVC DN150:",null,0,null,null,null,null,null,null,null,"Přípojky pro UV PVC DN150:"]
[null,null,"DK1 (15 kusů):15",null,15,null,null,null,null,null,null,null,"DK1 (15 kusů):15"]
[null,null,"DK1D (2 kusy):2",null,2,null,null,null,null,null,null,null,"DK1D (2 kusy):2"]
[null,null,"DK2 (1 kus):1",null,1,null,null,null,null,null,null,null,"DK2 (1 kus):1"]
[null,null,"DK2A (6 kusů):6",null,6,null,null,null,null,null,null,null,"DK2A (6 kusů):6"]
[null,null,"DK2B (1 kus):1",null,1,null,null,null,null,null,null,null,"DK2B (1 kus):1"]
[null,null,"Přípojky pro DS PVC DN150:",null,0,null,null,null,null,null,null,null,"Přípojky pro DS PVC DN150:"]
[null,null,"DK1 (2 kusy):2",null,2,null,null,null,null,null,null,null,"DK1 (2 kusy):2"]
[53,"894421111RT1","Osazení betonových dílců šachet skruže rovné, na kroužek, do 0,5 t","kus",28,null,{"$f":"E759*F759","v":0},0,{"$f":"E759*H759","v":0},0,{"$f":"E759*J759","v":0},null,null,null,2,null,null,null,null,null,null,null,null,null,null,null,1,1,1,null,null,null,null,null,null,null,null,null,null,null,null,null,null,null,null,null,null,null,null,null,null,1,{"$f":"IF(AZ759=1,G759,0)","v":0},{"$f":"IF(AZ759=2,G759,0)","v":0},{"$f":"IF(AZ759=3,G759,0)","v":0},{"$f":"IF(AZ759=4,G759,0)","v":0},{"$f":"IF(AZ759=5,G759,0)","v":0},null,null,null,null,null,null,null,null,null,null,null,null,null,null,null,null,null,null,null,null,null,1,1]
[null,null,"Položka je určena pro osazení betonových dílců šachet dle DIN 4034, skruže rovné na kroužek, hmotnost do 0,5 t.",null,null,null,null,null,null,null,null,"Položka je určena pro osazení betonových dílců šachet dle DIN 4034, skruže rovné na kroužek, hmotnost do 0,5 t.",null,null,3]
[null,null,"V položce nejsou zakalkulovány náklady na dodání betonových dílců; dílce se oceňují ve specifikaci.",null,null,null,null,null,null,null,null,"V položce nejsou zakalkulovány náklady na dodání betonových dílců; dílce se oceňují ve specifikaci.",null,null,3]
[null,null,"Šachty (30 kusů):",null,0,null,null,null,null,null,null,null,"Šachty (30 kusů):"]
[null,null,"Skruž H250 mm:4",null,4,null,null,null,null,null,null,null,"Skruž H250 mm:4"]
[null,null,"Skruž H500 mm:24",null,24,null,null,null,null,null,null,null,"Skruž H500 mm:24"]
[54,"894422111RT1","Osazení betonových dílců šachet skruže přechodové, na kroužek","kus",30,null,{"$f":"E765*F765","v":0},0,{"$f":"E765*H765","v":0},0,{"$f":"E765*J765","v":0},null,null,null,2,null,null,null,null,null,null,null,null,null,null,null,1,1,1,null,null,null,null,null,null,null,null,null,null,null,null,null,null,null,null,null,null,null,null,null,null,1,{"$f":"IF(AZ765=1,G765,0)","v":0},{"$f":"IF(AZ765=2,G765,0)","v":0},{"$f":"IF(AZ765=3,G765,0)","v":0},{"$f":"IF(AZ765=4,G765,0)","v":0},{"$f":"IF(AZ765=5,G765,0)","v":0},null,null,null,null,null,null,null,null,null,null,null,null,null,null,null,null,null,null,null,null,null,1,1]
[null,null,"Položka je určena pro osazení betonových dílců šachet dle DIN 4034, skruže přechodové na kroužek.",null,null,null,null,null,null,null,null,"Položka je určena pro osazení betonových dílců šachet dle DIN 4034, skruže přechodové na kroužek.",null,null,3]
[null,null,"V položce nejsou zakalkulovány náklady na dodání betonových dílců",null,null,null,null,null,null,null,null,"V položce nejsou zakalkulovány náklady na dodání betonových dílců",null,null,3]
[null,null,"Šachty (30 kusů):",null,0,null,null,null,null,null,null,null,"Šachty (30 kusů):"]
[null,null,"Kónus H600 mm:30",null,30,null,null,null,null,null,null,null,"Kónus H600 mm:30"]
[55,"894423111RT1","Osazení betonových dílců šachet do 2,0 t šachtová dna, na kroužek, do 2,0 t","kus",30,null,{"$f":"E770*F770","v":0},0,{"$f":"E770*H770","v":0},0,{"$f":"E770*J770","v":0},null,null,null,2,null,null,null,null,null,null,null,null,null,null,null,1,1,1,null,null,null,null,null,null,null,null,null,null,null,null,null,null,null,null,null,null,null,null,null,null,1,{"$f":"IF(AZ770=1,G770,0)","v":0},{"$f":"IF(AZ770=2,G770,0)","v":0},{"$f":"IF(AZ770=3,G770,0)","v":0},{"$f":"IF(AZ770=4,G770,0)","v":0},{"$f":"IF(AZ770=5,G770,0)","v":0},null,null,null,null,null,null,null,null,null,null,null,null,null,null,null,null,null,null,null,null,null,1,1]
[null,null,"Položka je určena pro osazení betonových dílců šachet dle DIN 4034, šachtová dna na kroužek, hmotnost do 2,0 t. včetně dodávky a provedení podkladního betonového lože.",null,null,null,null,null,null,null,null,"Položka je určena pro osazení betonových dílců šachet dle DIN 4034, šachtová dna na kroužek, hmotnost do 2,0 t. včetně dodávky a provedení podkladního betonového lože.",null,null,3]
[null,null,"V položce nejsou zakalkulovány náklady na dodání betonových dílců;",null,null,null,null,null,null,null,null,"V položce nejsou zakalkulovány náklady na dodání betonových dílců;",null,null,3]
[null,null,"Šachty (30 kusů):",null,0,null,null,null,null,null,null,null,"Šachty (30 kusů):"]
[null,null,"ŠD 1000/400-800:8",null,8,null,null,null,null,null,null,null,"ŠD 1000/400-800:8"]
[null,null,"ŠD 1000/300-600:22",null,22,null,null,null,null,null,null,null,"ŠD 1000/300-600:22"]
[56,"894431321RBB","Šachta, D 425 mm, dl.šach.roury 2,0 m, přímá dno KG D 160 mm, poklop šedá litina 40 t","kus",23,null,{"$f":"E776*F776","v":0},9.3259999999999996E-2,{"$f":"E776*H776","v":2.1449799999999999},0,{"$f":"E776*J776","v":0},null,null,null,2,null,null,null,null,null,null,null,null,null,null,null,1,1,1,null,null,null,null,null,null,null,null,null,null,null,null,null,null,null,null,null,null,null,null,null,null,1,{"$f":"IF(AZ776=1,G776,0)","v":0},{"$f":"IF(AZ776=2,G776,0)","v":0},{"$f":"IF(AZ776=3,G776,0)","v":0},{"$f":"IF(AZ776=4,G776,0)","v":0},{"$f":"IF(AZ776=5,G776,0)","v":0},null,null,null,null,null,null,null,null,null,null,null,null,null,null,null,null,null,null,null,null,null,1,1]
[null,null,"Plastové dno, šachta z korugované trouby, těsnění, šachtová roura teleskopická, rám do teleskopické trouby, poklop litinový.",null,null,null,null,null,null,null,null,"Plastové dno, šachta z korugované trouby, těsnění, šachtová roura teleskopická, rám do teleskopické trouby, poklop litinový.",null,null,3]
[null,null,"DRŠ DK:",null,0,null,null,null,null,null,null,null,"DRŠ DK:"]
[null,null,"DK1:11",null,11,null,null,null,null,null,null,null,"DK1:11"]
[null,null,"DK1A:3",null,3,null,null,null,null,null,null,null,"DK1A:3"]
[null,null,"DK1B:0",null,0,null,null,null,null,null,null,null,"DK1B:0"]
[null,null,"DK1C:0",null,0,null,null,null,null,null,null,null,"DK1C:0"]
[null,null,"DK1D:1",null,1,null,null,null,null,null,null,null,"DK1D:1"]
[null,null,"DK2:6",null,6,null,null,null,null,null,null,null,"DK2:6"]
[null,null,"DK2A:2",null,2,null,null,null,null,null,null,null,"DK2A:2"]
[null,null,"DK2B:0",null,0,null,null,null,null,null,null,null,"DK2B:0"]
[57,"895941311R00","Zřízení vpusti uliční z dílců typ UVB - 50 ","kus",25,null,{"$f":"E787*F787","v":0},0.14494000000000001,{"$f":"E787*H787","v":3.6235000000000004},0,{"$f":"E787*J787","v":0},null,null,null,2,null,null,null,null,null,null,null,null,null,null,null,1,1,1,null,null,null,null,null,null,null,null,null,null,null,null,null,null,null,null,null,null,null,null,null,null,1,{"$f":"IF(AZ787=1,G787,0)","v":0},{"$f":"IF(AZ787=2,G787,0)","v":0},{"$f":"IF(AZ787=3,G787,0)","v":0},{"$f":"IF(AZ787=4,G787,0)","v":0},{"$f":"IF(AZ787=5,G787,0)","v":0},null,null,null,null,null,null,null,null,null,null,null,null,null,null,null,null,null,null,null,null,null,1,1]
[null,null,"Položka je určena pro zřízení vpusti kanalizační uliční z betonových dílců.",null,null,null,null,null,null,null,null,"Položka je určena pro zřízení vpusti kanalizační uliční z betonových dílců.",null,null,3]
[null,null,"V položce jsou započteny i náklady na zřízení loiže ze štěrkopísku.",null,null,null,null,null,null,null,null,"V položce jsou započteny i náklady na zřízení loiže ze štěrkopísku.",null,null,3]
[null,null,"UV (25 kusů):",null,0,null,null,null,null,null,null,null,"UV (25 kusů):"]
[null,null,"DK1:15",null,15,null,null,null,null,null,null,null,"DK1:15"]
[null,null,"DK1D:2",null,2,null,null,null,null,null,null,null,"DK1D:2"]
[null,null,"DK2:1",null,1,null,null,null,null,null,null,null,"DK2:1"]
[null,null,"DK2A:6",null,6,null,null,null,null,null,null,null,"DK2A:6"]
[null,null,"DK2B:1",null,1,null,null,null,null,null,null,null,"DK2B:1"]
[58,"899000098RA0","Rekonstrukce VO dle projektové dokumentace včetně zadláždění břehu a zemních prací, DN300","soubor",1,null,{"$f":"E796*F796","v":0},3.6167899999999999,{"$f":"E796*H796","v":3.6167899999999999},0,{"$f":"E796*J796","v":0},null,null,null,2,null,null,null,null,null,null,null,null,null,null,null,1,1,1,null,null,null,null,null,null,null,null,null,null,null,null,null,null,null,null,null,null,null,null,null,null,1,{"$f":"IF(AZ796=1,G796,0)","v":0},{"$f":"IF(AZ796=2,G796,0)","v":0},{"$f":"IF(AZ796=3,G796,0)","v":0},{"$f":"IF(AZ796=4,G796,0)","v":0},{"$f":"IF(AZ796=5,G796,0)","v":0},null,null,null,null,null,null,null,null,null,null,null,null,null,null,null,null,null,null,null,null,null,1,1]
[null,null,"VO na stoce DK2:1",null,1,null,null,null,null,null,null,null,"VO na stoce DK2:1"]
[59,"899102111R00","Osazení poklopu s rámem do 100 kg ","kus",30,null,{"$f":"E798*F798","v":0},7.0200000000000002E-3,{"$f":"E798*H798","v":0.21060000000000001},0,{"$f":"E798*J798","v":0},null,null,null,2,null,null,null,null,null,null,null,null,null,null,null,1,1,1,null,null,null,null,null,null,null,null,null,null,null,null,null,null,null,null,null,null,null,null,null,null,1,{"$f":"IF(AZ798=1,G798,0)","v":0},{"$f":"IF(AZ798=2,G798,0)","v":0},{"$f":"IF(AZ798=3,G798,0)","v":0},{"$f":"IF(AZ798=4,G798,0)","v":0},{"$f":"IF(AZ798=5,G798,0)","v":0},null,null,null,null,null,null,null,null,null,null,null,null,null,null,null,null,null,null,null,null,null,1,1]
[null,null,"Osazení provizorních poklopů během realizace stavby  (nefakturovaný materiál zhotovitele)",null,null,null,null,null,null,null,null,"Osazení provizorních poklopů během realizace stavby  (nefakturovaný materiál zhotovitele)",null,null,3]
[60,"899103111R00","Osazení poklopu s rámem do 150 kg ","kus",6,null,{"$f":"E800*F800","v":0},7.0200000000000002E-3,{"$f":"E800*H800","v":4.2120000000000005E-2},0,{"$f":"E800*J800","v":0},null,null,null,2,null,null,null,null,null,null,null,null,null,null,null,1,1,1,null,null,null,null,null,null,null,null,null,null,null,null,null,null,null,null,null,null,null,null,null,null,1,{"$f":"IF(AZ800=1,G800,0)","v":0},{"$f":"IF(AZ800=2,G800,0)","v":0},{"$f":"IF(AZ800=3,G800,0)","v":0},{"$f":"IF(AZ800=4,G800,0)","v":0},{"$f":"IF(AZ800=5,G800,0)","v":0},null,null,null,null,null,null,null,null,null,null,null,null,null,null,null,null,null,null,null,null,null,1,1]
[null,null,"Šachty:",null,0,null,null,null,null,null,null,null,"Šachty:"]
[null,null,"Poklop s odvětráním B125:6",null,6,null,null,null,null,null,null,null,"Poklop s odvětráním B125:6"]
[61,"899202111R00","Osazení mříží litinových s rámem do 100kg ","kus",25,null,{"$f":"E803*F803","v":0},9.3600000000000003E-3,{"$f":"E803*H803","v":0.23400000000000001},0,{"$f":"E803*J803","v":0},null,null,null,2,null,null,null,null,null,null,null,null,null,null,null,1,1,1,null,null,null,null,null,null,null,null,null,null,null,null,null,null,null,null,null,null,null,null,null,null,1,{"$f":"IF(AZ803=1,G803,0)","v":0},{"$f":"IF(AZ803=2,G803,0)","v":0},{"$f":"IF(AZ803=3,G803,0)","v":0},{"$f":"IF(AZ803=4,G803,0)","v":0},{"$f":"IF(AZ803=5,G803,0)","v":0},null,null,null,null,null,null,null,null,null,null,null,null,null,null,null,null,null,null,null,null,null,1,1]
[null,null,"Pro UV (25 kusů):",null,0,null,null,null,null,null,null,null,"Pro UV (25 kusů):"]
[null,null,"DK1:15",null,15,null,null,null,null,null,null,null,"DK1:15"]
[null,null,"DK1D:2",null,2,null,null,null,null,null,null,null,"DK1D:2"]
[null,null,"DK2:1",null,1,null,null,null,null,null,null,null,"DK2:1"]
[null,null,"DK2A:6",null,6,null,null,null,null,null,null,null,"DK2A:6"]
[null,null,"DK2B:1",null,1,null,null,null,null,null,null,null,"DK2B:1"]
[62,"899623141R00","Obetonování potrubí nebo zdiva stok betonem C12/15 ","m3",10.1736,null,{"$f":"E810*F810","v":0},2.5249999999999999,{"$f":"E810*H810","v":25.68834},0,{"$f":"E810*J810","v":0},null,null,null,2,null,null,null,null,null,null,null,null,null,null,null,1,1,1,null,null,null,null,null,null,null,null,null,null,null,null,null,null,null,null,null,null,null,null,null,null,1,{"$f":"IF(AZ810=1,G810,0)","v":0},{"$f":"IF(AZ810=2,G810,0)","v":0},{"$f":"IF(AZ810=3,G810,0)","v":0},{"$f":"IF(AZ810=4,G810,0)","v":0},{"$f":"IF(AZ810=5,G810,0)","v":0},null,null,null,null,null,null,null,null,null,null,null,null,null,null,null,null,null,null,null,null,null,1,1]
[null,null,"Položka je určena pro obetonování potrubí v otevřeném výkopu",null,null,null,null,null,null,null,null,"Položka je určena pro obetonování potrubí v otevřeném výkopu",null,null,3]
[null,null,"DK1 km 0,000 - 0,043.8:43,80*0,15072",null,6.6014999999999997,null,null,null,null,null,null,null,"DK1 km 0,000 - 0,043.8:43,80*0,15072"]
[null,null,"DK2 km 0,030 - 0,053.7:(53,70-30,00)*0,15072",null,3.5720999999999998,null,null,null,null,null,null,null,"DK2 km 0,030 - 0,053.7:(53,70-30,00)*0,15072"]
[63,"286111903.R","Trubka kanalizační PVC SN min. 12 DN 150","m",178.70500000000001,null,{"$f":"E814*F814","v":0},8.2000000000000007E-3,{"$f":"E814*H814","v":1.4653810000000003},null,{"$f":"E814*J814","v":0},null,null,null,2,null,null,null,null,null,null,null,null,null,null,null,3,1,"286111903.R",null,null,null,null,null,null,null,null,null,null,null,null,null,null,null,null,null,null,null,null,null,null,1,{"$f":"IF(AZ814=1,G814,0)","v":0},{"$f":"IF(AZ814=2,G814,0)","v":0},{"$f":"IF(AZ814=3,G814,0)","v":0},{"$f":"IF(AZ814=4,G814,0)","v":0},{"$f":"IF(AZ814=5,G814,0)","v":0},null,null,null,null,null,null,null,null,null,null,null,null,null,null,null,null,null,null,null,null,null,3,1]
[null,null,"Jedná  se  o  plnostěnné kanalizační trubky DN 150 – DN 400 a DN 500 KOMPAKT min. SN 12 kN/m2 , zvenčí  i  zevnitř  hladké. Jsou  opatřeny hrdlem,  v  němž  je  vložen vysoce  elastický  jazýčkový  kroužek.  konce  trubek  (dříků)  jsou opatřeny  zkosením  pod  úhlem  15°.  Způsob  použití  trubek  je  „U“  dle  normy  ČSN  EN  1401-1, tj. mimo budovy. Spolehlivá  funkce  těsnění  je  jištěna  výztužným  kroužkem  z  elastomeru.  Je  tak  zamezeno  vypad-nutí nebo vytlačení kroužku při manipulaci a montáži. Tento systém zaručuje při správné montáži ",null,null,null,null,null,null,null,null,"Jedná  se  o  plnostěnné kanalizační trubky DN 150 – DN 400 a DN 500 KOMPAKT min. SN 12 kN/m2 , zvenčí  i  zevnitř  hladké. Jsou  opatřeny hrdlem,  v  němž  je  vložen vysoce  elastický  jazýčkový  kroužek.  konce  trubek  (dříků)  jsou opatřeny  zkosením  pod  úhlem  15°.  Způsob  použití  trubek  je  „U“  dle  normy  ČSN  EN  1401-1, tj. mimo budovy. Spolehlivá  funkce  těsnění  je  jištěna  výztužným  kroužkem  z  elastomeru.  Je  tak  zamezeno  vypad-nutí nebo vytlačení kroužku při manipulaci a montáži. Tento systém zaručuje při správné montáži ",null,null,3]
[null,null,"dokonalou  těsnost  do  výšky  vodního  sloupce  5  metrů.",null,null,null,null,null,null,null,null,"dokonalou  těsnost  do  výšky  vodního  sloupce  5  metrů.",null,null,3]
[null,null,"Teplota při pokládce: min. -10 °C, max. 50 °C",null,null,null,null,null,null,null,null,"Teplota při pokládce: min. -10 °C, max. 50 °C",null,null,3]
[null,null,"Max. teplota média: trvale do 40 °C, krátkodobě do 60 °C",null,null,null,null,null,null,null,null,"Max. teplota média: trvale do 40 °C, krátkodobě do 60 °C",null,null,3]
[null,null,"Orientační výška krytí: min. 0,5 m, max. 10 m",null,null,null,null,null,null,null,null,"Orientační výška krytí: min. 0,5 m, max. 10 m",null,null,3]
[null,null,"Max. rychlost média: 12 m/s",null,null,null,null,null,null,null,null,"Max. rychlost média: 12 m/s",null,null,3]
[null,null,"Přípojky pro DKP PVC DN150:",null,0,null,null,null,null,null,null,null,"Přípojky pro DKP PVC DN150:"]
[null,null,"DK1 (11 kusů):50,50*1,03",null,52.015000000000001,null,null,null,null,null,null,null,"DK1 (11 kusů):50,50*1,03"]
[null,null,"DK1A (3 kusy):6,00*1,03",null,6.18,null,null,null,null,null,null,null,"DK1A (3 kusy):6,00*1,03"]
[null,null,"DK1D (1 kus):1,50*1,03",null,1.5449999999999999,null,null,null,null,null,null,null,"DK1D (1 kus):1,50*1,03"]
[null,null,"DK2 (6 kusů):7,00*1,03",null,7.21,null,null,null,null,null,null,null,"DK2 (6 kusů):7,00*1,03"]
[null,null,"DK2A (2 kusy):3,00*1,03",null,3.09,null,null,null,null,null,null,null,"DK2A (2 kusy):3,00*1,03"]
[null,null,"Přípojky pro UV PVC DN150:",null,0,null,null,null,null,null,null,null,"Přípojky pro UV PVC DN150:"]
[null,null,"DK1 (15 kusů):71,50*1,03",null,73.644999999999996,null,null,null,null,null,null,null,"DK1 (15 kusů):71,50*1,03"]
[null,null,"DK1D (2 kusy):2,00*1,03",null,2.06,null,null,null,null,null,null,null,"DK1D (2 kusy):2,00*1,03"]
[null,null,"DK2 (1 kus):1,50*1,03",null,1.5449999999999999,null,null,null,null,null,null,null,"DK2 (1 kus):1,50*1,03"]
[null,null,"DK2A (6 kusů):17,50*1,03",null,18.024999999999999,null,null,null,null,null,null,null,"DK2A (6 kusů):17,50*1,03"]
[null,null,"DK2B (1 kus):1,00*1,03",null,1.03,null,null,null,null,null,null,null,"DK2B (1 kus):1,00*1,03"]
[null,null,"Přípojky pro DS PVC DN150:",null,0,null,null,null,null,null,null,null,"Přípojky pro DS PVC DN150:"]
[null,null,"DK1 (2 kusy):12,00*1,03",null,12.36,null,null,null,null,null,null,null,"DK1 (2 kusy):12,00*1,03"]
[64,"286111934.R","Trubka kanalizační PVC SN 12 DN 300","m",38.831000000000003,null,{"$f":"E835*F835","v":0},1.0200000000000001E-3,{"$f":"E835*H835","v":3.9607620000000003E-2},null,{"$f":"E835*J835","v":0},null,null,null,2,null,null,null,null,null,null,null,null,null,null,null,3,1,"286111934.R",null,null,null,null,null,null,null,null,null,null,null,null,null,null,null,null,null,null,null,null,null,null,1,{"$f":"IF(AZ835=1,G835,0)","v":0},{"$f":"IF(AZ835=2,G835,0)","v":0},{"$f":"IF(AZ835=3,G835,0)","v":0},{"$f":"IF(AZ835=4,G835,0)","v":0},{"$f":"IF(AZ835=5,G835,0)","v":0},null,null,null,null,null,null,null,null,null,null,null,null,null,null,null,null,null,null,null,null,null,3,1]
[null,null,"Jedná  se  o  plnostěnné kanalizační trubky DN 150 – DN 400, SN 12 kN/m2 , zvenčí  i  zevnitř  hladké. Jsou  opatřeny hrdlem,  v  němž  je  vložen vysoce  elastický  jazýčkový  kroužek.  konce  trubek  (dříků)  jsou opatřeny  zkosením  pod  úhlem  15°.  Způsob  použití  trubek  je  „U“  dle  normy  ČSN  EN  1401-1, tj. mimo budovy. Spolehlivá  funkce  těsnění  je  jištěna  výztužným  kroužkem  z  elastomeru.  Je  tak  zamezeno  vypad-nutí nebo vytlačení kroužku při manipulaci a montáži. Tento systém zaručuje při správné montáži ",null,null,null,null,null,null,null,null,"Jedná  se  o  plnostěnné kanalizační trubky DN 150 – DN 400, SN 12 kN/m2 , zvenčí  i  zevnitř  hladké. Jsou  opatřeny hrdlem,  v  němž  je  vložen vysoce  elastický  jazýčkový  kroužek.  konce  trubek  (dříků)  jsou opatřeny  zkosením  pod  úhlem  15°.  Způsob  použití  trubek  je  „U“  dle  normy  ČSN  EN  1401-1, tj. mimo budovy. Spolehlivá  funkce  těsnění  je  jištěna  výztužným  kroužkem  z  elastomeru.  Je  tak  zamezeno  vypad-nutí nebo vytlačení kroužku při manipulaci a montáži. Tento systém zaručuje při správné montáži ",null,null,3]
[null,null,"dokonalou  těsnost  do  výšky  vodního  sloupce  5  metrů.",null,null,null,null,null,null,null,null,"dokonalou  těsnost  do  výšky  vodního  sloupce  5  metrů.",null,null,3]
[null,null,"Teplota při pokládce: min. -10 °C, max. 50 °C",null,null,null,null,null,null,null,null,"Teplota při pokládce: min. -10 °C, max. 50 °C",null,null,3]
[null,null,"Max. teplota média: trvale do 40 °C, krátkodobě do 60 °C",null,null,null,null,null,null,null,null,"Max. teplota média: trvale do 40 °C, krátkodobě do 60 °C",null,null,3]
[null,null,"Orientační výška krytí: min. 0,5 m, max. 10 m",null,null,null,null,null,null,null,null,"Orientační výška krytí: min. 0,5 m, max. 10 m",null,null,3]
[null,null,"Max. rychlost média: 12 m/s",null,null,null,null,null,null,null,null,"Max. rychlost média: 12 m/s",null,null,3]
[null,null,"DK1A PVC DN300:37,70*1,03",null,38.831000000000003,null,null,null,null,null,null,null,"DK1A PVC DN300:37,70*1,03"]
[65,"286506003.R","Koleno kanalizační PVC SDR 34 DN 150/45°","kus",126.875,null,{"$f":"E843*F843","v":0},1.2700000000000001E-3,{"$f":"E843*H843","v":0.16113125},null,{"$f":"E843*J843","v":0},null,null,null,2,null,null,null,null,null,null,null,null,null,null,null,3,1,"286506003.R",null,null,null,null,null,null,null,null,null,null,null,null,null,null,null,null,null,null,null,null,null,null,1,{"$f":"IF(AZ843=1,G843,0)","v":0},{"$f":"IF(AZ843=2,G843,0)","v":0},{"$f":"IF(AZ843=3,G843,0)","v":0},{"$f":"IF(AZ843=4,G843,0)","v":0},{"$f":"IF(AZ843=5,G843,0)","v":0},null,null,null,null,null,null,null,null,null,null,null,null,null,null,null,null,null,null,null,null,null,3,1]
[null,null,"Tvarovky kanalizačního systému PVC SDR 34",null,null,null,null,null,null,null,null,"Tvarovky kanalizačního systému PVC SDR 34",null,null,3]
[null,null,"Teplota při pokládce: min. -10 °C, max. 50 °C",null,null,null,null,null,null,null,null,"Teplota při pokládce: min. -10 °C, max. 50 °C",null,null,3]
[null,null,"Max. teplota média: trvale do 40 °C, krátkodobě do 60 °C",null,null,null,null,null,null,null,null,"Max. teplota média: trvale do 40 °C, krátkodobě do 60 °C",null,null,3]
[null,null,"Orientační výška krytí: min. 0,5 m, max. 10 m",null,null,null,null,null,null,null,null,"Orientační výška krytí: min. 0,5 m, max. 10 m",null,null,3]
[null,null,"Max. rychlost média: 12 m/s",null,null,null,null,null,null,null,null,"Max. rychlost média: 12 m/s",null,null,3]
[null,null,"Koleno PVC DN150/45° :",null,0,null,null,null,null,null,null,null,"Koleno PVC DN150/45° :"]
[null,null,"Přípojky pro DKP PVC DN150:",null,0,null,null,null,null,null,null,null,"Přípojky pro DKP PVC DN150:"]
[null,null,"DK1 (11 kusů):22*1,015",null,22.33,null,null,null,null,null,null,null,"DK1 (11 kusů):22*1,015"]
[null,null,"DK1A (3 kusy):6*1,015",null,6.09,null,null,null,null,null,null,null,"DK1A (3 kusy):6*1,015"]
[null,null,"DK1D (1 kus):2*1,015",null,2.0299999999999998,null,null,null,null,null,null,null,"DK1D (1 kus):2*1,015"]
[null,null,"DK2 (6 kusů):12*1,015",null,12.18,null,null,null,null,null,null,null,"DK2 (6 kusů):12*1,015"]
[null,null,"DK2A (2 kusy):4*1,015",null,4.0599999999999996,null,null,null,null,null,null,null,"DK2A (2 kusy):4*1,015"]
[null,null,"Přípojky pro UV PVC DN150:",null,0,null,null,null,null,null,null,null,"Přípojky pro UV PVC DN150:"]
[null,null,"DK1 (15 kusů):45*1,015",null,45.674999999999997,null,null,null,null,null,null,null,"DK1 (15 kusů):45*1,015"]
[null,null,"DK1D (2 kusy):6*1,015",null,6.09,null,null,null,null,null,null,null,"DK1D (2 kusy):6*1,015"]
[null,null,"DK2 (1 kus):3*1,015",null,3.0449999999999999,null,null,null,null,null,null,null,"DK2 (1 kus):3*1,015"]
[null,null,"DK2A (6 kusů):18*1,015",null,18.27,null,null,null,null,null,null,null,"DK2A (6 kusů):18*1,015"]
[null,null,"DK2B (1 kus):3*1,015",null,3.0449999999999999,null,null,null,null,null,null,null,"DK2B (1 kus):3*1,015"]
[null,null,"Přípojky pro DS PVC DN150:",null,0,null,null,null,null,null,null,null,"Přípojky pro DS PVC DN150:"]
[null,null,"DK1 (2 kusy):4*1,015",null,4.0599999999999996,null,null,null,null,null,null,null,"DK1 (2 kusy):4*1,015"]
[66,"286506140.R","Odbočka kanaliz. PVC SDR 34 DN 300/150/45°","kus",2.0299999999999998,null,{"$f":"E864*F864","v":0},1.2999999999999999E-2,{"$f":"E864*H864","v":2.6389999999999997E-2},null,{"$f":"E864*J864","v":0},null,null,null,2,null,null,null,null,null,null,null,null,null,null,null,3,1,"286506140.R",null,null,null,null,null,null,null,null,null,null,null,null,null,null,null,null,null,null,null,null,null,null,1,{"$f":"IF(AZ864=1,G864,0)","v":0},{"$f":"IF(AZ864=2,G864,0)","v":0},{"$f":"IF(AZ864=3,G864,0)","v":0},{"$f":"IF(AZ864=4,G864,0)","v":0},{"$f":"IF(AZ864=5,G864,0)","v":0},null,null,null,null,null,null,null,null,null,null,null,null,null,null,null,null,null,null,null,null,null,3,1]
[null,null,"Tvarovky kanalizačního systému PVC SDR 34",null,null,null,null,null,null,null,null,"Tvarovky kanalizačního systému PVC SDR 34",null,null,3]
[null,null,"Teplota při pokládce: min. -10 °C, max. 50 °C",null,null,null,null,null,null,null,null,"Teplota při pokládce: min. -10 °C, max. 50 °C",null,null,3]
[null,null,"Max. teplota média: trvale do 40 °C, krátkodobě do 60 °C",null,null,null,null,null,null,null,null,"Max. teplota média: trvale do 40 °C, krátkodobě do 60 °C",null,null,3]
[null,null,"Orientační výška krytí: min. 0,5 m, max. 10 m",null,null,null,null,null,null,null,null,"Orientační výška krytí: min. 0,5 m, max. 10 m",null,null,3]
[null,null,"Max. rychlost média: 12 m/s",null,null,null,null,null,null,null,null,"Max. rychlost média: 12 m/s",null,null,3]
[null,null,"Q-KGEA400/150/45",null,null,null,null,null,null,null,null,"Q-KGEA400/150/45",null,null,3]
[null,null,"DK1A:",null,0,null,null,null,null,null,null,null,"DK1A:"]
[null,null,"Odbočka PVC DN300/150 pro KP:2*1,015",null,2.0299999999999998,null,null,null,null,null,null,null,"Odbočka PVC DN300/150 pro KP:2*1,015"]
[67,"28650813.A.R","Těsnění pro přechod na kameninové hrdlo DN 150 mm","kus",33.494999999999997,null,{"$f":"E873*F873","v":0},0,{"$f":"E873*H873","v":0},null,{"$f":"E873*J873","v":0},null,null,null,2,null,null,null,null,null,null,null,null,null,null,null,3,1,"28650813.A.R",null,null,null,null,null,null,null,null,null,null,null,null,null,null,null,null,null,null,null,null,null,null,1,{"$f":"IF(AZ873=1,G873,0)","v":0},{"$f":"IF(AZ873=2,G873,0)","v":0},{"$f":"IF(AZ873=3,G873,0)","v":0},{"$f":"IF(AZ873=4,G873,0)","v":0},{"$f":"IF(AZ873=5,G873,0)","v":0},null,null,null,null,null,null,null,null,null,null,null,null,null,null,null,null,null,null,null,null,null,3,1]
[null,null,"Přechodka PVC x KT DN150:",null,0,null,null,null,null,null,null,null,"Přechodka PVC x KT DN150:"]
[null,null,"Přípojky pro DKP PVC DN150:",null,0,null,null,null,null,null,null,null,"Přípojky pro DKP PVC DN150:"]
[null,null,"DK1 (11 kusů):11*1,015",null,11.164999999999999,null,null,null,null,null,null,null,"DK1 (11 kusů):11*1,015"]
[null,null,"DK1D (1 kus):1*1,015",null,1.0149999999999999,null,null,null,null,null,null,null,"DK1D (1 kus):1*1,015"]
[null,null,"DK2 (6 kusů):1*1,015",null,1.0149999999999999,null,null,null,null,null,null,null,"DK2 (6 kusů):1*1,015"]
[null,null,"DK2A (2 kusy):2*1,015",null,2.0299999999999998,null,null,null,null,null,null,null,"DK2A (2 kusy):2*1,015"]
[null,null,"Přípojky pro UV PVC DN150:",null,0,null,null,null,null,null,null,null,"Přípojky pro UV PVC DN150:"]
[null,null,"DK1 (15 kusů):13*1,015",null,13.195,null,null,null,null,null,null,null,"DK1 (15 kusů):13*1,015"]
[null,null,"DK1D (2 kusy):1*1,015",null,1.0149999999999999,null,null,null,null,null,null,null,"DK1D (2 kusy):1*1,015"]
[null,null,"DK2A (6 kusů):3*1,015",null,3.0449999999999999,null,null,null,null,null,null,null,"DK2A (6 kusů):3*1,015"]
[null,null,"DK2B (1 kus):1*1,015",null,1.0149999999999999,null,null,null,null,null,null,null,"DK2B (1 kus):1*1,015"]
[68,"28650813.R","Přechodka kanal. PVC na kameninové hrdlo DN 150 mm","kus",33.494999999999997,null,{"$f":"E885*F885","v":0},7.7999999999999999E-4,{"$f":"E885*H885","v":2.6126099999999996E-2},null,{"$f":"E885*J885","v":0},null,null,null,2,null,null,null,null,null,null,null,null,null,null,null,3,1,"28650813.R",null,null,null,null,null,null,null,null,null,null,null,null,null,null,null,null,null,null,null,null,null,null,1,{"$f":"IF(AZ885=1,G885,0)","v":0},{"$f":"IF(AZ885=2,G885,0)","v":0},{"$f":"IF(AZ885=3,G885,0)","v":0},{"$f":"IF(AZ885=4,G885,0)","v":0},{"$f":"IF(AZ885=5,G885,0)","v":0},null,null,null,null,null,null,null,null,null,null,null,null,null,null,null,null,null,null,null,null,null,3,1]
[null,null,"Přechodka PVC x KT DN150:",null,0,null,null,null,null,null,null,null,"Přechodka PVC x KT DN150:"]
[null,null,"Přípojky pro DKP PVC DN150:",null,0,null,null,null,null,null,null,null,"Přípojky pro DKP PVC DN150:"]
[null,null,"DK1 (11 kusů):11*1,015",null,11.164999999999999,null,null,null,null,null,null,null,"DK1 (11 kusů):11*1,015"]
[null,null,"DK1D (1 kus):1*1,015",null,1.0149999999999999,null,null,null,null,null,null,null,"DK1D (1 kus):1*1,015"]
[null,null,"DK2 (6 kusů):1*1,015",null,1.0149999999999999,null,null,null,null,null,null,null,"DK2 (6 kusů):1*1,015"]
[null,null,"DK2A (2 kusy):2*1,015",null,2.0299999999999998,null,null,null,null,null,null,null,"DK2A (2 kusy):2*1,015"]
[null,null,"Přípojky pro UV PVC DN150:",null,0,null,null,null,null,null,null,null,"Přípojky pro UV PVC DN150:"]
[null,null,"DK1 (15 kusů):13*1,015",null,13.195,null,null,null,null,null,null,null,"DK1 (15 kusů):13*1,015"]
[null,null,"DK1D (2 kusy):1*1,015",null,1.0149999999999999,null,null,null,null,null,null,null,"DK1D (2 kusy):1*1,015"]
[null,null,"DK2A (6 kusů):3*1,015",null,3.0449999999999999,null,null,null,null,null,null,null,"DK2A (6 kusů):3*1,015"]
[null,null,"DK2B (1 kus):1*1,015",null,1.0149999999999999,null,null,null,null,null,null,null,"DK2B (1 kus):1*1,015"]
[69,"55242118.R","Mříž litinová KM12P včetně kalového koše H600 mm","kus",25,null,{"$f":"E897*F897","v":0},6.8000000000000005E-2,{"$f":"E897*H897","v":1.7000000000000002},null,{"$f":"E897*J897","v":0},null,null,null,2,null,null,null,null,null,null,null,null,null,null,null,3,1,"55242118.R",null,null,null,null,null,null,null,null,null,null,null,null,null,null,null,null,null,null,null,null,null,null,1,{"$f":"IF(AZ897=1,G897,0)","v":0},{"$f":"IF(AZ897=2,G897,0)","v":0},{"$f":"IF(AZ897=3,G897,0)","v":0},{"$f":"IF(AZ897=4,G897,0)","v":0},{"$f":"IF(AZ897=5,G897,0)","v":0},null,null,null,null,null,null,null,null,null,null,null,null,null,null,null,null,null,null,null,null,null,3,1]
[null,null,"Pro UV (25 kusů):",null,0,null,null,null,null,null,null,null,"Pro UV (25 kusů):"]
[null,null,"DK1:15",null,15,null,null,null,null,null,null,null,"DK1:15"]
[null,null,"DK1D:2",null,2,null,null,null,null,null,null,null,"DK1D:2"]
[null,null,"DK2:1",null,1,null,null,null,null,null,null,null,"DK2:1"]
[null,null,"DK2A:6",null,6,null,null,null,null,null,null,null,"DK2A:6"]
[null,null,"DK2B:1",null,1,null,null,null,null,null,null,null,"DK2B:1"]
[70,"55244415.R","Poklop v litino-betonovém rámu KBB03 B125 SN600","kus",6,null,{"$f":"E904*F904","v":0},9.0999999999999998E-2,{"$f":"E904*H904","v":0.54600000000000004},null,{"$f":"E904*J904","v":0},null,null,null,2,null,null,null,null,null,null,null,null,null,null,null,3,1,"55244415.R",null,null,null,null,null,null,null,null,null,null,null,null,null,null,null,null,null,null,null,null,null,null,1,{"$f":"IF(AZ904=1,G904,0)","v":0},{"$f":"IF(AZ904=2,G904,0)","v":0},{"$f":"IF(AZ904=3,G904,0)","v":0},{"$f":"IF(AZ904=4,G904,0)","v":0},{"$f":"IF(AZ904=5,G904,0)","v":0},null,null,null,null,null,null,null,null,null,null,null,null,null,null,null,null,null,null,null,null,null,3,1]
[null,null,"Kanalizační kruhový poklop s ventilací v litino-betonovém rámu, bez pantu,  bez tlumící vložky , bez pružinového zajištění víka v rámu.",null,null,null,null,null,null,null,null,"Kanalizační kruhový poklop s ventilací v litino-betonovém rámu, bez pantu,  bez tlumící vložky , bez pružinového zajištění víka v rámu.",null,null,3]
[null,null,"KBB03 s ventikací dle TS VHS Turnov",null,null,null,null,null,null,null,null,"KBB03 s ventikací dle TS VHS Turnov",null,null,3]
[null,null,"Šachty:",null,0,null,null,null,null,null,null,null,"Šachty:"]
[null,null,"Poklop s odvětráním B125:6",null,6,null,null,null,null,null,null,null,"Poklop s odvětráním B125:6"]
[71,"592238510.R","TBV-Q 450/300/2a dno bez výtoku - kalová prohlubeň","kus",25.25,null,{"$f":"E909*F909","v":0},6.9000000000000006E-2,{"$f":"E909*H909","v":1.7422500000000001},null,{"$f":"E909*J909","v":0},null,null,null,2,null,null,null,null,null,null,null,null,null,null,null,3,1,"592238510.R",null,null,null,null,null,null,null,null,null,null,null,null,null,null,null,null,null,null,null,null,null,null,1,{"$f":"IF(AZ909=1,G909,0)","v":0},{"$f":"IF(AZ909=2,G909,0)","v":0},{"$f":"IF(AZ909=3,G909,0)","v":0},{"$f":"IF(AZ909=4,G909,0)","v":0},{"$f":"IF(AZ909=5,G909,0)","v":0},null,null,null,null,null,null,null,null,null,null,null,null,null,null,null,null,null,null,null,null,null,3,1]
[null,null,"UV (25 kusů) :",null,0,null,null,null,null,null,null,null,"UV (25 kusů) :"]
[null,null,"DK1:15*1,01",null,15.15,null,null,null,null,null,null,null,"DK1:15*1,01"]
[null,null,"DK1D:2*1,01",null,2.02,null,null,null,null,null,null,null,"DK1D:2*1,01"]
[null,null,"DK2:1*1,01",null,1.01,null,null,null,null,null,null,null,"DK2:1*1,01"]
[null,null,"DK2A:6*1,01",null,6.06,null,null,null,null,null,null,null,"DK2A:6*1,01"]
[null,null,"DK2B:1*1,01",null,1.01,null,null,null,null,null,null,null,"DK2B:1*1,01"]
[72,"59223856.R","TBV-Q 450/195/5c skruž horní","kus",25.25,null,{"$f":"E916*F916","v":0},3.7999999999999999E-2,{"$f":"E916*H916","v":0.95950000000000002},null,{"$f":"E916*J916","v":0},null,null,null,2,null,null,null,null,null,null,null,null,null,null,null,3,1,"59223856.R",null,null,null,null,null,null,null,null,null,null,null,null,null,null,null,null,null,null,null,null,null,null,1,{"$f":"IF(AZ916=1,G916,0)","v":0},{"$f":"IF(AZ916=2,G916,0)","v":0},{"$f":"IF(AZ916=3,G916,0)","v":0},{"$f":"IF(AZ916=4,G916,0)","v":0},{"$f":"IF(AZ916=5,G916,0)","v":0},null,null,null,null,null,null,null,null,null,null,null,null,null,null,null,null,null,null,null,null,null,3,1]
[null,null,"UV (25 kusů) :",null,0,null,null,null,null,null,null,null,"UV (25 kusů) :"]
[null,null,"DK1:15*1,01",null,15.15,null,null,null,null,null,null,null,"DK1:15*1,01"]
[null,null,"DK1D:2*1,01",null,2.02,null,null,null,null,null,null,null,"DK1D:2*1,01"]
[null,null,"DK2:1*1,01",null,1.01,null,null,null,null,null,null,null,"DK2:1*1,01"]
[null,null,"DK2A:6*1,01",null,6.06,null,null,null,null,null,null,null,"DK2A:6*1,01"]
[null,null,"DK2B:1*1,01",null,1.01,null,null,null,null,null,null,null,"DK2B:1*1,01"]
[73,"5922386326.R","TBV-Q 450/555/3z PVC DN 150 Z","kus",25.25,null,{"$f":"E923*F923","v":0},0.17499999999999999,{"$f":"E923*H923","v":4.4187499999999993},null,{"$f":"E923*J923","v":0},null,null,null,2,null,null,null,null,null,null,null,null,null,null,null,3,1,"5922386326.R",null,null,null,null,null,null,null,null,null,null,null,null,null,null,null,null,null,null,null,null,null,null,1,{"$f":"IF(AZ923=1,G923,0)","v":0},{"$f":"IF(AZ923=2,G923,0)","v":0},{"$f":"IF(AZ923=3,G923,0)","v":0},{"$f":"IF(AZ923=4,G923,0)","v":0},{"$f":"IF(AZ923=5,G923,0)","v":0},null,null,null,null,null,null,null,null,null,null,null,null,null,null,null,null,null,null,null,null,null,3,1]
[null,null,"UV (25 kusů) VP:",null,0,null,null,null,null,null,null,null,"UV (25 kusů) VP:"]
[null,null,"DK1:15*1,01",null,15.15,null,null,null,null,null,null,null,"DK1:15*1,01"]
[null,null,"DK1D:2*1,01",null,2.02,null,null,null,null,null,null,null,"DK1D:2*1,01"]
[null,null,"DK2:1*1,01",null,1.01,null,null,null,null,null,null,null,"DK2:1*1,01"]
[null,null,"DK2A:6*1,01",null,6.06,null,null,null,null,null,null,null,"DK2A:6*1,01"]
[null,null,"DK2B:1*1,01",null,1.01,null,null,null,null,null,null,null,"DK2B:1*1,01"]
[74,"592243593.R","Konus šachetní TBR-Q.1 1000x625/600/120SKP INTEGRO","kus",30.3,null,{"$f":"E930*F930","v":0},0.54900000000000004,{"$f":"E930*H930","v":16.634700000000002},null,{"$f":"E930*J930","v":0},null,null,null,2,null,null,null,null,null,null,null,null,null,null,null,3,1,"592243593.R",null,null,null,null,null,null,null,null,null,null,null,null,null,null,null,null,null,null,null,null,null,null,1,{"$f":"IF(AZ930=1,G930,0)","v":0},{"$f":"IF(AZ930=2,G930,0)","v":0},{"$f":"IF(AZ930=3,G930,0)","v":0},{"$f":"IF(AZ930=4,G930,0)","v":0},{"$f":"IF(AZ930=5,G930,0)","v":0},null,null,null,null,null,null,null,null,null,null,null,null,null,null,null,null,null,null,null,null,null,3,1]
[null,null,"Šachty (30 kusů):",null,0,null,null,null,null,null,null,null,"Šachty (30 kusů):"]
[null,null,"Kónus H600 mm:30*1,01",null,30.3,null,null,null,null,null,null,null,"Kónus H600 mm:30*1,01"]
[75,"592243594.R","Skruž šachetní TBS-Q.1 1000/250/120 SP INTEGRO","kus",4.04,null,{"$f":"E933*F933","v":0},0.254,{"$f":"E933*H933","v":1.02616},null,{"$f":"E933*J933","v":0},null,null,null,2,null,null,null,null,null,null,null,null,null,null,null,3,1,"592243594.R",null,null,null,null,null,null,null,null,null,null,null,null,null,null,null,null,null,null,null,null,null,null,1,{"$f":"IF(AZ933=1,G933,0)","v":0},{"$f":"IF(AZ933=2,G933,0)","v":0},{"$f":"IF(AZ933=3,G933,0)","v":0},{"$f":"IF(AZ933=4,G933,0)","v":0},{"$f":"IF(AZ933=5,G933,0)","v":0},null,null,null,null,null,null,null,null,null,null,null,null,null,null,null,null,null,null,null,null,null,3,1]
[null,null,"Šachty (30 kusů):",null,0,null,null,null,null,null,null,null,"Šachty (30 kusů):"]
[null,null,"Skruž H250 mm:4*1,01",null,4.04,null,null,null,null,null,null,null,"Skruž H250 mm:4*1,01"]
[76,"592243595.R","Skruž šachetní TBS-Q.1 1000/500/120 SP INTEGRO","kus",24.24,null,{"$f":"E936*F936","v":0},0.50900000000000001,{"$f":"E936*H936","v":12.33816},null,{"$f":"E936*J936","v":0},null,null,null,2,null,null,null,null,null,null,null,null,null,null,null,3,1,"592243595.R",null,null,null,null,null,null,null,null,null,null,null,null,null,null,null,null,null,null,null,null,null,null,1,{"$f":"IF(AZ936=1,G936,0)","v":0},{"$f":"IF(AZ936=2,G936,0)","v":0},{"$f":"IF(AZ936=3,G936,0)","v":0},{"$f":"IF(AZ936=4,G936,0)","v":0},{"$f":"IF(AZ936=5,G936,0)","v":0},null,null,null,null,null,null,null,null,null,null,null,null,null,null,null,null,null,null,null,null,null,3,1]
[null,null,"Šachty (30 kusů):",null,0,null,null,null,null,null,null,null,"Šachty (30 kusů):"]
[null,null,"Skruž H500 mm:24*1,01",null,24.24,null,null,null,null,null,null,null,"Skruž H500 mm:24*1,01"]
[77,"592243710.R","Dno šachetní pro DN300 DN 1000 mm, H 600 mm","kus",22.22,null,{"$f":"E939*F939","v":0},1.405,{"$f":"E939*H939","v":31.219099999999997},null,{"$f":"E939*J939","v":0},null,null,null,2,null,null,null,null,null,null,null,null,null,null,null,3,1,"592243710.R",null,null,null,null,null,null,null,null,null,null,null,null,null,null,null,null,null,null,null,null,null,null,1,{"$f":"IF(AZ939=1,G939,0)","v":0},{"$f":"IF(AZ939=2,G939,0)","v":0},{"$f":"IF(AZ939=3,G939,0)","v":0},{"$f":"IF(AZ939=4,G939,0)","v":0},{"$f":"IF(AZ939=5,G939,0)","v":0},null,null,null,null,null,null,null,null,null,null,null,null,null,null,null,null,null,null,null,null,null,3,1]
[null,null,"Včetně kynety a vstupů dle PD",null,null,null,null,null,null,null,null,"Včetně kynety a vstupů dle PD",null,null,3]
[null,null,"Šachty (30 kusů):",null,0,null,null,null,null,null,null,null,"Šachty (30 kusů):"]
[null,null,"ŠD 1000/300-600:22*1,01",null,22.22,null,null,null,null,null,null,null,"ŠD 1000/300-600:22*1,01"]
[78,"592243711.R","Dno šachetní pro DN400 DN 1000 mm, H 800 mm","kus",8.08,null,{"$f":"E943*F943","v":0},1.948,{"$f":"E943*H943","v":15.739839999999999},null,{"$f":"E943*J943","v":0},null,null,null,2,null,null,null,null,null,null,null,null,null,null,null,3,1,"592243711.R",null,null,null,null,null,null,null,null,null,null,null,null,null,null,null,null,null,null,null,null,null,null,1,{"$f":"IF(AZ943=1,G943,0)","v":0},{"$f":"IF(AZ943=2,G943,0)","v":0},{"$f":"IF(AZ943=3,G943,0)","v":0},{"$f":"IF(AZ943=4,G943,0)","v":0},{"$f":"IF(AZ943=5,G943,0)","v":0},null,null,null,null,null,null,null,null,null,null,null,null,null,null,null,null,null,null,null,null,null,3,1]
[null,null,"Včetně kynety a vstupů dle PD",null,null,null,null,null,null,null,null,"Včetně kynety a vstupů dle PD",null,null,3]
[null,null,"Šachty (30 kusů):",null,0,null,null,null,null,null,null,null,"Šachty (30 kusů):"]
[null,null,"ŠD 1000/400-800:8*1,01",null,8.08,null,null,null,null,null,null,null,"ŠD 1000/400-800:8*1,01"]
[79,"59710699.A.R","Trouba kameninová hrdlová DN 300, l=2,50 m, FN 48","m",453.80650000000003,null,{"$f":"E947*F947","v":0},7.1999999999999995E-2,{"$f":"E947*H947","v":32.674067999999998},null,{"$f":"E947*J947","v":0},null,null,null,2,null,null,null,null,null,null,null,null,null,null,null,3,1,"59710699.A.R",null,null,null,null,null,null,null,null,null,null,null,null,null,null,null,null,null,null,null,null,null,null,1,{"$f":"IF(AZ947=1,G947,0)","v":0},{"$f":"IF(AZ947=2,G947,0)","v":0},{"$f":"IF(AZ947=3,G947,0)","v":0},{"$f":"IF(AZ947=4,G947,0)","v":0},{"$f":"IF(AZ947=5,G947,0)","v":0},null,null,null,null,null,null,null,null,null,null,null,null,null,null,null,null,null,null,null,null,null,3,1]
[null,null,"Hrdlové trouby KeraBase pro použití v komunální a průmyslové kanalizační systémy včetně případné dodávky zkrácené trouby KeraBase GZ, GA a GE dle potřeb na stavbě",null,null,null,null,null,null,null,null,"Hrdlové trouby KeraBase pro použití v komunální a průmyslové kanalizační systémy včetně případné dodávky zkrácené trouby KeraBase GZ, GA a GE dle potřeb na stavbě",null,null,3]
[null,null,"Otevřený výkop, normální zatížení.",null,null,null,null,null,null,null,null,"Otevřený výkop, normální zatížení.",null,null,3]
[null,null,"DN 300",null,null,null,null,null,null,null,null,"DN 300",null,null,3]
[null,null,"Délka 250 cm",null,null,null,null,null,null,null,null,"Délka 250 cm",null,null,3]
[null,null,"FN 40 kN/m",null,null,null,null,null,null,null,null,"FN 40 kN/m",null,null,3]
[null,null,"Hmotnost 181 kg/ks",null,null,null,null,null,null,null,null,"Hmotnost 181 kg/ks",null,null,3]
[null,null,"Hrdlo K/S",null,null,null,null,null,null,null,null,"Hrdlo K/S",null,null,3]
[null,null,"Třída pevnosti 160",null,null,null,null,null,null,null,null,"Třída pevnosti 160",null,null,3]
[null,null,"trouba oboustranně glazována",null,null,null,null,null,null,null,null,"trouba oboustranně glazována",null,null,3]
[null,null,"DK1 KT DN300:281,60*1,015",null,285.82400000000001,null,null,null,null,null,null,null,"DK1 KT DN300:281,60*1,015"]
[null,null,"DK1A KT DN300:22,00*1,015",null,22.33,null,null,null,null,null,null,null,"DK1A KT DN300:22,00*1,015"]
[null,null,"DK1C KT DN300:4,50*1,015",null,4.5674999999999999,null,null,null,null,null,null,null,"DK1C KT DN300:4,50*1,015"]
[null,null,"DK1D KT DN300:18,50*1,015",null,18.7775,null,null,null,null,null,null,null,"DK1D KT DN300:18,50*1,015"]
[null,null,"DK2 KT DN300:24,00*1,015",null,24.36,null,null,null,null,null,null,null,"DK2 KT DN300:24,00*1,015"]
[null,null,"DK2A KT DN300:91,50*1,015",null,92.872500000000002,null,null,null,null,null,null,null,"DK2A KT DN300:91,50*1,015"]
[null,null,"DK2B KT DN300:5,00*1,015",null,5.0750000000000002,null,null,null,null,null,null,null,"DK2B KT DN300:5,00*1,015"]
[80,"59710700.A.R","Trouba kameninová hrdlová DN 400, l=2,50 m, FN 64","m",92.466499999999996,null,{"$f":"E964*F964","v":0},0.13600000000000001,{"$f":"E964*H964","v":12.575444000000001},null,{"$f":"E964*J964","v":0},null,null,null,2,null,null,null,null,null,null,null,null,null,null,null,3,1,"59710700.A.R",null,null,null,null,null,null,null,null,null,null,null,null,null,null,null,null,null,null,null,null,null,null,1,{"$f":"IF(AZ964=1,G964,0)","v":0},{"$f":"IF(AZ964=2,G964,0)","v":0},{"$f":"IF(AZ964=3,G964,0)","v":0},{"$f":"IF(AZ964=4,G964,0)","v":0},{"$f":"IF(AZ964=5,G964,0)","v":0},null,null,null,null,null,null,null,null,null,null,null,null,null,null,null,null,null,null,null,null,null,3,1]
[null,null,"Hrdlové trouby KeraBase pro použití v komunální a průmyslové kanalizační systémy včetně případné dodávky zkrácené trouby KeraBase GZ, GA a GE dle potřeb na stavbě",null,null,null,null,null,null,null,null,"Hrdlové trouby KeraBase pro použití v komunální a průmyslové kanalizační systémy včetně případné dodávky zkrácené trouby KeraBase GZ, GA a GE dle potřeb na stavbě",null,null,3]
[null,null,"Otevřený výkop, normální zatížení.",null,null,null,null,null,null,null,null,"Otevřený výkop, normální zatížení.",null,null,3]
[null,null,"DN 300",null,null,null,null,null,null,null,null,"DN 300",null,null,3]
[null,null,"Délka 250 cm",null,null,null,null,null,null,null,null,"Délka 250 cm",null,null,3]
[null,null,"FN 64 kN/m",null,null,null,null,null,null,null,null,"FN 64 kN/m",null,null,3]
[null,null,"DK1 KT DN400:62,40*1,015",null,63.335999999999999,null,null,null,null,null,null,null,"DK1 KT DN400:62,40*1,015"]
[null,null,"DK1B KT DN400:5,00*1,015",null,5.0750000000000002,null,null,null,null,null,null,null,"DK1B KT DN400:5,00*1,015"]
[null,null,"DK2 KT DN400:23,70*1,015",null,24.055499999999999,null,null,null,null,null,null,null,"DK2 KT DN400:23,70*1,015"]
[81,"59711549.R","Odbočka 45° kamenina hrdlová 300/150 FN 48/34","kus",33.49,null,{"$f":"E973*F973","v":0},4.9000000000000002E-2,{"$f":"E973*H973","v":1.6410100000000001},null,{"$f":"E973*J973","v":0},null,null,null,2,null,null,null,null,null,null,null,null,null,null,null,3,1,"59711549.R",null,null,null,null,null,null,null,null,null,null,null,null,null,null,null,null,null,null,null,null,null,null,1,{"$f":"IF(AZ973=1,G973,0)","v":0},{"$f":"IF(AZ973=2,G973,0)","v":0},{"$f":"IF(AZ973=3,G973,0)","v":0},{"$f":"IF(AZ973=4,G973,0)","v":0},{"$f":"IF(AZ973=5,G973,0)","v":0},null,null,null,null,null,null,null,null,null,null,null,null,null,null,null,null,null,null,null,null,null,3,1]
[null,null,"KeraBase odbočky 45° pro normální zatížení.",null,null,null,null,null,null,null,null,"KeraBase odbočky 45° pro normální zatížení.",null,null,3]
[null,null,"Specif. 45°",null,null,null,null,null,null,null,null,"Specif. 45°",null,null,3]
[null,null,"Profil DN 300/150",null,null,null,null,null,null,null,null,"Profil DN 300/150",null,null,3]
[null,null,"Délka 50 cm",null,null,null,null,null,null,null,null,"Délka 50 cm",null,null,3]
[null,null,"Třída pevnosti 160/-",null,null,null,null,null,null,null,null,"Třída pevnosti 160/-",null,null,3]
[null,null,"Mezní únosnost FN 48/34 kN/m",null,null,null,null,null,null,null,null,"Mezní únosnost FN 48/34 kN/m",null,null,3]
[null,null,"Hmotnost 49 kg/ks",null,null,null,null,null,null,null,null,"Hmotnost 49 kg/ks",null,null,3]
[null,null,"Hrdlo KL",null,null,null,null,null,null,null,null,"Hrdlo KL",null,null,3]
[null,null,"DK1:",null,0,null,null,null,null,null,null,null,"DK1:"]
[null,null,"Odbočka KT DN300/150 pro UV:13*1,015",null,13.195,null,null,null,null,null,null,null,"Odbočka KT DN300/150 pro UV:13*1,015"]
[null,null,"Odbočka KT DN300/150 pro KP:10*1,015",null,10.15,null,null,null,null,null,null,null,"Odbočka KT DN300/150 pro KP:10*1,015"]
[null,null,"Odbočka KT DN300/150 pro DS:1*1,01",null,1.01,null,null,null,null,null,null,null,"Odbočka KT DN300/150 pro DS:1*1,01"]
[null,null,"DK1D:",null,0,null,null,null,null,null,null,null,"DK1D:"]
[null,null,"Odbočka KT DN300/150 pro UV:1*1,015",null,1.0149999999999999,null,null,null,null,null,null,null,"Odbočka KT DN300/150 pro UV:1*1,015"]
[null,null,"Odbočka KT DN300/150 pro KP:1*1,015",null,1.0149999999999999,null,null,null,null,null,null,null,"Odbočka KT DN300/150 pro KP:1*1,015"]
[null,null,"DK2:",null,0,null,null,null,null,null,null,null,"DK2:"]
[null,null,"Odbočka KT DN300/150 pro KP:1*1,015",null,1.0149999999999999,null,null,null,null,null,null,null,"Odbočka KT DN300/150 pro KP:1*1,015"]
[null,null,"DK1A:",null,0,null,null,null,null,null,null,null,"DK1A:"]
[null,null,"Odbočka KT DN300/150 pro UV:3*1,015",null,3.0449999999999999,null,null,null,null,null,null,null,"Odbočka KT DN300/150 pro UV:3*1,015"]
[null,null,"Odbočka KT DN300/150 pro KP:2*1,015",null,2.0299999999999998,null,null,null,null,null,null,null,"Odbočka KT DN300/150 pro KP:2*1,015"]
[null,null,"DK2B:",null,0,null,null,null,null,null,null,null,"DK2B:"]
[null,null,"Odbočka KT DN300/150 pro UV:1*1,015",null,1.0149999999999999,null,null,null,null,null,null,null,"Odbočka KT DN300/150 pro UV:1*1,015"]
[82,"59711560.R","Odbočka 90° kamenina hrdlová 400/150 FN 64/34","kus",1.0149999999999999,null,{"$f":"E996*F996","v":0},0.14499999999999999,{"$f":"E996*H996","v":0.14717499999999997},null,{"$f":"E996*J996","v":0},null,null,null,2,null,null,null,null,null,null,null,null,null,null,null,3,1,"59711560.R",null,null,null,null,null,null,null,null,null,null,null,null,null,null,null,null,null,null,null,null,null,null,1,{"$f":"IF(AZ996=1,G996,0)","v":0},{"$f":"IF(AZ996=2,G996,0)","v":0},{"$f":"IF(AZ996=3,G996,0)","v":0},{"$f":"IF(AZ996=4,G996,0)","v":0},{"$f":"IF(AZ996=5,G996,0)","v":0},null,null,null,null,null,null,null,null,null,null,null,null,null,null,null,null,null,null,null,null,null,3,1]
[null,null,"KeraBase odbočky 90° pro normální zatížení.",null,null,null,null,null,null,null,null,"KeraBase odbočky 90° pro normální zatížení.",null,null,3]
[null,null,"Specif. 90° pravá/levá",null,null,null,null,null,null,null,null,"Specif. 90° pravá/levá",null,null,3]
[null,null,"Profil DN 400/150",null,null,null,null,null,null,null,null,"Profil DN 400/150",null,null,3]
[null,null,"Délka 100 cm",null,null,null,null,null,null,null,null,"Délka 100 cm",null,null,3]
[null,null,"Třída pevnosti 160/-",null,null,null,null,null,null,null,null,"Třída pevnosti 160/-",null,null,3]
[null,null,"Mezní únosnost FN 64/34 kN/m",null,null,null,null,null,null,null,null,"Mezní únosnost FN 64/34 kN/m",null,null,3]
[null,null,"Hmotnost 145 kg/ks",null,null,null,null,null,null,null,null,"Hmotnost 145 kg/ks",null,null,3]
[null,null,"Hrdlo KL",null,null,null,null,null,null,null,null,"Hrdlo KL",null,null,3]
[null,null,"levá - bílé značení",null,null,null,null,null,null,null,null,"levá - bílé značení",null,null,3]
[null,null,"pravá - červené značení",null,null,null,null,null,null,null,null,"pravá - červené značení",null,null,3]
[null,null,"KD1:",null,0,null,null,null,null,null,null,null,"KD1:"]
[null,null,"Odbočka KT DN300/150 pro KP:1*1,015",null,1.0149999999999999,null,null,null,null,null,null,null,"Odbočka KT DN300/150 pro KP:1*1,015"]
[null,"Celkem za","8 Trubní vedení",null,null,null,{"$f":"SUM(G539:G1008)","v":0},null,{"$f":"SUM(I539:I1008)","v":173.27571997000001},null,{"$f":"SUM(K539:K1008)","v":0},null,null,null,4,null,null,null,null,null,null,null,null,null,null,null,null,null,null,null,null,null,null,null,null,null,null,null,null,null,null,null,null,null,null,null,null,null,null,null,null,null,{"$f":"SUM(BA539:BA1008)","v":0},{"$f":"SUM(BB539:BB1008)","v":0},{"$f":"SUM(BC539:BC1008)","v":0},{"$f":"SUM(BD539:BD1008)","v":0},{"$f":"SUM(BE539:BE1008)","v":0}]
["Díl:","93","Dokončovací práce inženýrských staveb",null,null,null,null,null,null,null,null,null,null,null,1]
[83,"936451111R00","Výplň dutin cementopopílkovou suspenzí ","m3",14.25,null,{"$f":"E1011*F1011","v":0},1.8050999999999999,{"$f":"E1011*H1011","v":25.722674999999999},0,{"$f":"E1011*J1011","v":0},null,null,null,2,null,null,null,null,null,null,null,null,null,null,null,1,0,0,null,null,null,null,null,null,null,null,null,null,null,null,null,null,null,null,null,null,null,null,null,null,1,{"$f":"IF(AZ1011=1,G1011,0)","v":0},{"$f":"IF(AZ1011=2,G1011,0)","v":0},{"$f":"IF(AZ1011=3,G1011,0)","v":0},{"$f":"IF(AZ1011=4,G1011,0)","v":0},{"$f":"IF(AZ1011=5,G1011,0)","v":0},null,null,null,null,null,null,null,null,null,null,null,null,null,null,null,null,null,null,null,null,null,1,0]
[84,"936452115R00","Výplň potrubí cementopopílkovou suspenzí DN 300 ","m",390,null,{"$f":"E1012*F1012","v":0},0.12751000000000001,{"$f":"E1012*H1012","v":49.728900000000003},0,{"$f":"E1012*J1012","v":0},null,null,null,2,null,null,null,null,null,null,null,null,null,null,null,1,1,1,null,null,null,null,null,null,null,null,null,null,null,null,null,null,null,null,null,null,null,null,null,null,1,{"$f":"IF(AZ1012=1,G1012,0)","v":0},{"$f":"IF(AZ1012=2,G1012,0)","v":0},{"$f":"IF(AZ1012=3,G1012,0)","v":0},{"$f":"IF(AZ1012=4,G1012,0)","v":0},{"$f":"IF(AZ1012=5,G1012,0)","v":0},null,null,null,null,null,null,null,null,null,null,null,null,null,null,null,null,null,null,null,null,null,1,1]
[85,"936452116R00","Výplň potrubí cementopopílkovou suspenzí DN 400 ","m",62,null,{"$f":"E1013*F1013","v":0},0.22678999999999999,{"$f":"E1013*H1013","v":14.060979999999999},0,{"$f":"E1013*J1013","v":0},null,null,null,2,null,null,null,null,null,null,null,null,null,null,null,1,1,1,null,null,null,null,null,null,null,null,null,null,null,null,null,null,null,null,null,null,null,null,null,null,1,{"$f":"IF(AZ1013=1,G1013,0)","v":0},{"$f":"IF(AZ1013=2,G1013,0)","v":0},{"$f":"IF(AZ1013=3,G1013,0)","v":0},{"$f":"IF(AZ1013=4,G1013,0)","v":0},{"$f":"IF(AZ1013=5,G1013,0)","v":0},null,null,null,null,null,null,null,null,null,null,null,null,null,null,null,null,null,null,null,null,null,1,1]
[86,"939421111RT1","Osazení samonivelač.kanalizač.poklopu za finišerem bez dodávky poklopu","kus",24,null,{"$f":"E1014*F1014","v":0},0.15425,{"$f":"E1014*H1014","v":3.702},0,{"$f":"E1014*J1014","v":0},null,null,null,2,null,null,null,null,null,null,null,null,null,null,null,1,0,0,null,null,null,null,null,null,null,null,null,null,null,null,null,null,null,null,null,null,null,null,null,null,1,{"$f":"IF(AZ1014=1,G1014,0)","v":0},{"$f":"IF(AZ1014=2,G1014,0)","v":0},{"$f":"IF(AZ1014=3,G1014,0)","v":0},{"$f":"IF(AZ1014=4,G1014,0)","v":0},{"$f":"IF(AZ1014=5,G1014,0)","v":0},null,null,null,null,null,null,null,null,null,null,null,null,null,null,null,null,null,null,null,null,null,1,0]
[null,null,"Položka obsahuje:",null,null,null,null,null,null,null,null,"Položka obsahuje:",null,null,3]
[null,null,"- osazení prefabrikovaného betonového prstence do rychletuhnoucí malty (s dodávkou hmot)",null,null,null,null,null,null,null,null,"- osazení prefabrikovaného betonového prstence do rychletuhnoucí malty (s dodávkou hmot)",null,null,3]
[null,null,"- zalití prstence rychletuhnoucí zálivkou do výše prstence (s dodávkou hmoty)",null,null,null,null,null,null,null,null,"- zalití prstence rychletuhnoucí zálivkou do výše prstence (s dodávkou hmoty)",null,null,3]
[null,null,"- vložení kruhového bednění",null,null,null,null,null,null,null,null,"- vložení kruhového bednění",null,null,3]
[null,null,"- doplnění mezikruží asfaltovou směsí do výšky současné podkladní vrstvy, zhutnění",null,null,null,null,null,null,null,null,"- doplnění mezikruží asfaltovou směsí do výšky současné podkladní vrstvy, zhutnění",null,null,3]
[null,null,"- vyjmutí kruhového bednění",null,null,null,null,null,null,null,null,"- vyjmutí kruhového bednění",null,null,3]
[null,null,"- osazení poklopu a zatlačení",null,null,null,null,null,null,null,null,"- osazení poklopu a zatlačení",null,null,3]
[null,null,"  (následuje pokládka finální vrstvy vozovky - není součástí položky)",null,null,null,null,null,null,null,null,"  (následuje pokládka finální vrstvy vozovky - není součástí položky)",null,null,3]
[null,null,"- povytažení poklopu",null,null,null,null,null,null,null,null,"- povytažení poklopu",null,null,3]
[null,null,"- podsyp asfaltovou směsí, spuštění poklopu a zhutnění směsi",null,null,null,null,null,null,null,null,"- podsyp asfaltovou směsí, spuštění poklopu a zhutnění směsi",null,null,3]
[null,null,"Šachty:",null,0,null,null,null,null,null,null,null,"Šachty:"]
[null,null,"Poklop s odvětráním:22",null,22,null,null,null,null,null,null,null,"Poklop s odvětráním:22"]
[null,null,"Mřížový poklop:2",null,2,null,null,null,null,null,null,null,"Mřížový poklop:2"]
[87,"55244413.R","Poklop celolitinový v samonivelační rámu KDM63 D400 SN600","kus",22,null,{"$f":"E1028*F1028","v":0},0.113,{"$f":"E1028*H1028","v":2.4860000000000002},null,{"$f":"E1028*J1028","v":0},null,null,null,2,null,null,null,null,null,null,null,null,null,null,null,3,1,"55244413.R",null,null,null,null,null,null,null,null,null,null,null,null,null,null,null,null,null,null,null,null,null,null,1,{"$f":"IF(AZ1028=1,G1028,0)","v":0},{"$f":"IF(AZ1028=2,G1028,0)","v":0},{"$f":"IF(AZ1028=3,G1028,0)","v":0},{"$f":"IF(AZ1028=4,G1028,0)","v":0},{"$f":"IF(AZ1028=5,G1028,0)","v":0},null,null,null,null,null,null,null,null,null,null,null,null,null,null,null,null,null,null,null,null,null,3,1]
[null,null,"Kanalizační kruhový celolitinový samonivelační poklop bez pantu, horizontální PUR tlumící vložka na rámu, horizontální a vertikální  PUR tlumící vložka na víku, bez pružinového zajištění víka v rámu ",null,null,null,null,null,null,null,null,"Kanalizační kruhový celolitinový samonivelační poklop bez pantu, horizontální PUR tlumící vložka na rámu, horizontální a vertikální  PUR tlumící vložka na víku, bez pružinového zajištění víka v rámu ",null,null,3]
[null,null,"KDM63 s odvětráním dle TS VHS Turnov",null,null,null,null,null,null,null,null,"KDM63 s odvětráním dle TS VHS Turnov",null,null,3]
[null,null,"Šachty:",null,0,null,null,null,null,null,null,null,"Šachty:"]
[null,null,"Poklop s odvětráním:22",null,22,null,null,null,null,null,null,null,"Poklop s odvětráním:22"]
[88,"55244433.R","Vtoková mříž v samonivelační rámu KDM2M D400 SN600","kus",2,null,{"$f":"E1033*F1033","v":0},0.11899999999999999,{"$f":"E1033*H1033","v":0.23799999999999999},null,{"$f":"E1033*J1033","v":0},null,null,null,2,null,null,null,null,null,null,null,null,null,null,null,3,1,"55244433.R",null,null,null,null,null,null,null,null,null,null,null,null,null,null,null,null,null,null,null,null,null,null,1,{"$f":"IF(AZ1033=1,G1033,0)","v":0},{"$f":"IF(AZ1033=2,G1033,0)","v":0},{"$f":"IF(AZ1033=3,G1033,0)","v":0},{"$f":"IF(AZ1033=4,G1033,0)","v":0},{"$f":"IF(AZ1033=5,G1033,0)","v":0},null,null,null,null,null,null,null,null,null,null,null,null,null,null,null,null,null,null,null,null,null,3,1]
[null,null,"Kanalizační kruhová celolitinová samonivelační mříž, poklop bez pantu, horizontální PUR tlumící vložka na rámu, EPDM tlumící vložka na víku, bez pružinového zajištění víka v rámu ",null,null,null,null,null,null,null,null,"Kanalizační kruhová celolitinová samonivelační mříž, poklop bez pantu, horizontální PUR tlumící vložka na rámu, EPDM tlumící vložka na víku, bez pružinového zajištění víka v rámu ",null,null,3]
[null,null,"MDM2M dle TS VHS Turnov",null,null,null,null,null,null,null,null,"MDM2M dle TS VHS Turnov",null,null,3]
[null,null,"Šachty:",null,0,null,null,null,null,null,null,null,"Šachty:"]
[null,null,"Mřížový poklop:2",null,2,null,null,null,null,null,null,null,"Mřížový poklop:2"]
[null,"Celkem za","93 Dokončovací práce inženýrských staveb",null,null,null,{"$f":"SUM(G1010:G1037)","v":0},null,{"$f":"SUM(I1010:I1037)","v":95.938555000000008},null,{"$f":"SUM(K1010:K1037)","v":0},null,null,null,4,null,null,null,null,null,null,null,null,null,null,null,null,null,null,null,null,null,null,null,null,null,null,null,null,null,null,null,null,null,null,null,null,null,null,null,null,null,{"$f":"SUM(BA1010:BA1037)","v":0},{"$f":"SUM(BB1010:BB1037)","v":0},{"$f":"SUM(BC1010:BC1037)","v":0},{"$f":"SUM(BD1010:BD1037)","v":0},{"$f":"SUM(BE1010:BE1037)","v":0}]
["Díl:","99","Staveništní přesun hmot",null,null,null,null,null,null,null,null,null,null,null,1]
[89,"998275101R00","Přesun hmot, kanalizace kameninové, otevřený výkop ","t",3539.5635669100002,null,{"$f":"E1040*F1040","v":0},0,{"$f":"E1040*H1040","v":0},null,{"$f":"E1040*J1040","v":0},null,null,null,2,null,null,null,null,null,null,null,null,null,null,null,7,1,2,null,null,null,null,null,null,null,null,null,null,null,null,null,null,null,null,null,null,null,null,null,null,1,{"$f":"IF(AZ1040=1,G1040,0)","v":0},{"$f":"IF(AZ1040=2,G1040,0)","v":0},{"$f":"IF(AZ1040=3,G1040,0)","v":0},{"$f":"IF(AZ1040=4,G1040,0)","v":0},{"$f":"IF(AZ1040=5,G1040,0)","v":0},null,null,null,null,null,null,null,null,null,null,null,null,null,null,null,null,null,null,null,null,null,7,1]
[null,"Celkem za","99 Staveništní přesun hmot",null,null,null,{"$f":"SUM(G1039:G1040)","v":0},null,{"$f":"SUM(I1039:I1040)","v":0},null,{"$f":"SUM(K1039:K1040)","v":0},null,null,null,4,null,null,null,null,null,null,null,null,null,null,null,null,null,null,null,null,null,null,null,null,null,null,null,null,null,null,null,null,null,null,null,null,null,null,null,null,null,{"$f":"SUM(BA1039:BA1040)","v":0},{"$f":"SUM(BB1039:BB1040)","v":0},{"$f":"SUM(BC1039:BC1040)","v":0},{"$f":"SUM(BD1039:BD1040)","v":0},{"$f":"SUM(BE1039:BE1040)","v":0}]

{"sheet":"OaVNS","index":16,"n_rows":31,"n_cols":67,"rows_kept":31,"cut":false,"hidden":false,"merged":[[0,0,0,6],[2,0,2,1],[3,0,3,1],[3,4,3,6],[6,2,6,6]]}
["Položkový rozpočet "]
[]
["Stavba :",null,"3332 Obnova vodovodu a kanalizace  v Obci Loučky",null,"Rozpočet:","OaVNS"]
["Objekt :",null,"OaVNS - Ostatní a vedlejší náklady stavby "]
[]
["P.č.","Číslo položky","Název položky","MJ","množství","cena / MJ","celkem (Kč)","Jednotková hmotnost","Celková hmotnost","Jednotková dem.hmot.","Celková dem.hmot."]
["Díl:","950","Ostatní náklady stavby"]
[1,"950 99-0001.ONS","Zajištění prostoru a vybudování zařízení staveniště včetně potřebných staveništních komunikací","soubor",1,null,{"$f":"SUM(E8*F8)","v":0},8.6899999999999998E-3,{"$f":"E8*H8","v":8.6899999999999998E-3},0,{"$f":"E8*J8","v":0},null,null,null,null,null,null,null,null,null,null,null,null,null,null,null,null,null,null,null,null,null,null,null,null,null,null,null,null,null,null,null,null,null,null,null,null,null,null,null,null,null,null,null,null,null,null,null,null,null,null,null,null,null,null,1,1]
[2,"950 99-0003.ONS","Zajištění bezpečnosti při provádění stavby ve smyslu bezpečnosti práce i ochrany životního prostředí a zeleně","soubor",1,null,{"$f":"SUM(E9*F9)","v":0}]
[3,"950 99-0005.ONS","Vytýčení stavby a hranic pozemků při provádění stavby ","soubor",1,null,0]
[4,"950 99-0006.ONS","Zajištění včasného oznámení o zahájení prací majitelům pozemků a správců sítí dotčených stavbou","soubor",1,null,0]
[5,"950 99-0007.ONS","Spolupráce s vlastníky pozemků při případném uvolnění pozemků pro stavbu (např. skládky osobního materiálu vlastníků)","soubor",1,null,0,2.478E-2,{"$f":"E12*H12","v":2.478E-2},0,{"$f":"E12*J12","v":0},null,null,null,null,null,null,null,null,null,null,null,null,null,null,null,null,null,null,null,null,null,null,null,null,null,null,null,null,null,null,null,null,null,null,null,null,null,null,null,null,null,null,null,null,null,null,null,null,null,null,null,null,null,null,1,1]
[6,"950 99-0008.ONS","Zajištění vytýčení podzemních zařízení, a v případě jejich křížení či souběhu v otevřeném výkopu, jejich písemné předání zpět jejich správcům před zásypem","soubor",1,null,0]
[7,"950 99-0009.ONS","Vypracování a projednání návrhu dočasných dopravních opatření (případně i po etapách dle zvoleného postupu prací zhotovitelem)","soubor",1,null,0]
[8,"950 99-0010.ONS","Zajištění povolení zvláštního užívání komunikací v souladu s postupem výstavby,včetně správních poplatků a povolení k užívání dalších, stavbou dotčených pozemků   (skládky materiálu, mezideponie atd.)","soubor",1,null,0]
[9,"950 99-0011.ONS","Zřízení, údržba a likvidace dopravního opatření po dobu realizace stavby (případně i po etapách dle zvoleného postupu prací zhotovitelem)","soubor",1,null,0,0,{"$f":"E16*H16","v":0},0,{"$f":"E16*J16","v":0},null,null,null,null,null,null,null,null,null,null,null,null,null,null,null,null,null,null,null,null,null,null,null,null,null,null,null,null,null,null,null,null,null,null,null,null,null,null,null,null,null,null,null,null,null,null,null,null,null,null,null,null,null,null,1,1]
[10,"950 99-0013.ONS","Zajištění činnosti odpovědného geodeta zhotovitele","soubor",1,null,0]
[11,"950 99-0014.ONS","Zajištění činnosti odpovědného geologa zhotovitele","soubor",1,null,0]
[12,"950 99-0015.ONS","Zajištění čistoty na staveništi a v jeho okolí, zajištění každodenního čištění komunikací dotčených provozem zhotovitele","soubor",1,null,0]
[13,"950 99-0016.ONS","Fotodokumentace průběhu díla; zhotovitel zajistí a předá objednateli průběžnou fotodokumentaci realizace díla. Fotodokumentace bude dokladovat průběh díla a bude zejména dokumentovat části stavby a konstrukce před jejich zakrytím","soubor",1,null,0]
[14,"950 99-0017.ONS","Péče o nepředané objekty nebo jejich části a konstrukce stavby, jejich ošetřování a nutný rozsah pojištění","soubor",1,null,0,0,{"$f":"E21*H21","v":0},0,{"$f":"E21*J21","v":0},null,null,null,null,null,null,null,null,null,null,null,null,null,null,null,null,null,null,null,null,null,null,null,null,null,null,null,null,null,null,null,null,null,null,null,null,null,null,null,null,null,null,null,null,null,null,null,null,null,null,null,null,null,null,1,1]
[15,"950 99-0018.ONS","Zkoušky hutnění komunikací a rýh dle ČSN a EN","soubor",1,null,0]
[16,"950 99-0021.ONS","Inženýrská a kompletační činnost zhotovitele  včetně koordinace prací na VH sítí a komunikace s realizací investiční akce ČEZu.","soubor",1,null,0]
[17,"950 99-0022.ONS","Zhotovení dokumentace skutečného provedení díla ","soubor",1,null,0]
[18,"950 99-0023.ONS","Geodetické zaměření stavby","soubor",1,null,0]
[19,"950 99-0024.ONS","Pasportizace objektů a komunikací před zahájením stavby včetně předání fotokokumentace investorovi stavby v digitální a tištěné podobě.","soubor",1,null,0]
[20,"950 99-0025.ONS","Monitoring objektů během realizace stavby.","soubor",5,null,0]
[21,"950 99-0026.ONS","Provizorní zásobování vodou (cisterna) během realizace stavby nezávisle na provizorním vodovodu stavby.","soubor",1,null,0]
[22,"950 99-0028.ONS","Ostatní činnosti nutné ke zdárnému provedení díla, které jsou vymezeny zejména v technické specifikaci stavby","soubor",1,null,0]
[]
[null,"ONS Celkem",null,null,null,null,{"$f":"SUM(G8:G29)","v":0}]