{"text_format":"1","workbook":"xlsx","n_sheets":41,"sheets":["Stavba_I. Etapa ","1.E 00 1.E 01-103 KL","1.E 00 1.E 01-103 Rek","1.E 00 1.E 01-103 Pol","1.E 00 1.E 01-104 KL","1.E 00 1.E 01-104 Rek","1.E 00 1.E 01-104 Pol","1.E 01 1.E 01.1.1 KL","1.E 01 1.E 01.1.1 Rek","1.E 01 1.E 01.1.1 Pol","1.E 01 1.E 01.1.2 KL","1.E 01 1.E 01.1.2 Rek","1.E 01 1.E 01.1.2 Pol","1.E 01 1.E 01.2 KL","1.E 01 1.E 01.2 Rek","1.E 01 1.E 01.2 Pol","1.E 01 1.E 01.3 KL","1.E 01 1.E 01.3 Rek","1.E 01 1.E 01.3 Pol","1.E 01 1.E 01.4 KL","1.E 01 1.E 01.4 Rek","1.E 01 1.E 01.4 Pol","1.E 01 1.E 01.5 KL","1.E 01 1.E 01.5 Rek","1.E 01 1.E 01.5 Pol","1.E 08 1.E 08.1 KL","1.E 08 1.E 08.1 Rek","1.E 08 1.E 08.1 Pol","1.E 08 1.E 08.2 KL","1.E 08 1.E 08.2 Rek","1.E 08 1.E 08.2 Pol","1.E 08 1.E 08.3 KL","1.E 08 1.E 08.3 Rek","1.E 08 1.E 08.3 Pol","1.E 08 1.E 08.5 KL","1.E 08 1.E 08.5 Rek","1.E 08 1.E 08.5 Pol","1.E 08 1.E 08.6 KL","1.E 08 1.E 08.6 Rek","1.E 08 1.E 08.6 Pol","OaVNS_I.Etapa"],"not_rendered":{"charts":0,"images":0,"macros":0,"external_links":0,"defined_names":153,"comments":0,"pivot_tables":0},"unopened":[],"bounds":{"document_bytes":16777216,"sheet_cells":100000,"rows_first":2000,"rows_last":500,"rows_between":2000,"halvings":0,"cell_chars":16384,"cell_head_chars":4096},"cells_cut":0,"cells_raw":0,"read":"whole","date_system":"1900"}

{"sheet":"Stavba_I. Etapa ","index":0,"n_rows":51,"n_cols":10,"rows_kept":51,"cut":false,"hidden":false,"merged":[[17,8,17,9],[18,8,18,9],[19,8,19,9],[20,8,20,9],[21,8,21,9]]}
[]
[null,null,"Položkový rozpočet stavby",null,null,null,null,"Datum: ",{"$f":"TODAY()","v":"2024-10-09"}]
[null,null,null," "]
[]
[null,null,"Stavba :","3403","Jilemnice - Optimalizace VS a komunikace I. etapa"]
[]
[null,null,"Objednatel : ","Vodohospodářské sdružení Turnov",null,null,null,"IČO :","49295934"]
[null,null,null,"Antonína Dvořáka 287",null,null,null,"DIČ :","CZ49295934"]
[null,null,"51101","Turnov"]
[]
[null,null,"Zhotovitel : ",".",null,null,null,"IČO :"]
[null,null,null,null,null,null,null,"DIČ :"]
[null,null,"Za zhotovitele :",null,null,null,null,"Za objednatele :"]
[]
[null,null,"_______________",null,null,null,null,"_______________"]
[]
[null,null,null,null,null,null,null,null,null,"Rozpočtové náklady"]
[null,"Základ pro DPH",null,12,"%",null,null,null,{"$f":"ROUND(G33,0)","v":0}]
[null,"DPH ",null,{"$f":"SazbaDPH1","v":12},"%",null,null,null,{"$f":"ROUND(I18*D19/100,0)","v":0}]
[null,"Základ pro DPH",null,21,"%",null,null,null,{"$f":"ROUND(H33,0)","v":1200000}]
[null,"DPH ",null,{"$f":"SazbaDPH2","v":21},"%",null,null,null,{"$f":"ROUND(I20*D20/100,0)","v":252000}]
[null,"Cena celkem za stavbu",null,null,null,null,null,null,{"$f":"SUM(I18:I21)","v":1452000}]
[]
[]
[null,"Rekapitulace stavebních objektů a provozních souborů"]
[]
[null,"Číslo a název objektu / provozního souboru",null,null,null,"Cena celkem",{"$f":"CONCATENATE(\"Základ DPH \",SazbaDPH1,\" %\")","v":"Základ DPH 12 %"},{"$f":"CONCATENATE(\"Základ DPH \",SazbaDPH2,\" %\")","v":"Základ DPH 21 %"},"DPH celkem","%"]
[null,"1.E 00","Komunikace",null,null,{"$f":"G28+H28+I28","v":0},0,{"$f":"SUM(H38:H39)","v":0},{"$f":"(G28*SazbaDPH1)/100+(H28*SazbaDPH2)/100","v":0},{"$f":"IF(CelkemObjekty=0,\"\",F28/CelkemObjekty*100)","v":0}]
[null,"1.E 01","Vodovody",null,null,{"$f":"G29+H29+I29","v":0},0,{"$f":"SUM(H40:H45)","v":0},0,0]
[null,"1.E 08","Kanalizace",null,null,0,0,{"$f":"SUM(H46:H50)","v":0},0,0]
[null,"OaVNS","Ostatní a vedlejší náklady stavby I.etapa",null,null,0,0,{"$f":"SUM(OaVNS_I.Etapa!G30)","v":0},0,0]
[null,"PR","Povinná rezerva I. etapa",null,null,1452000,0,1200000,252000,100]
[null,"Celkem za stavbu",null,null,null,{"$f":"SUM(F28:F32)","v":1452000},{"$f":"SUM(G28:G32)","v":0},{"$f":"SUM(H28:H32)","v":1200000},{"$f":"SUM(I28:I32)","v":252000},{"$f":"IF(CelkemObjekty=0,\"\",F33/CelkemObjekty*100)","v":100}]
[]
[null,"Rekapitulace stavebních rozpočtů"]
[]
[null,"Číslo objektu","Číslo a název rozpočtu",null,null,"Cena celkem",{"$f":"CONCATENATE(\"Základ DPH \",SazbaDPH1,\" %\")","v":"Základ DPH 12 %"},{"$f":"CONCATENATE(\"Základ DPH \",SazbaDPH2,\" %\")","v":"Základ DPH 21 %"},"DPH celkem","%"]
[null,"1.E 00","1.E 01-103 Komunikace \"ul. Spojovací\"",null,null,{"$f":"G38+H38+I38","v":0},0,{"$f":"SUM('1.E 00 1.E 01-103 KL'!C23)","v":0},{"$f":"(G38*SazbaDPH1)/100+(H38*SazbaDPH2)/100","v":0},{"$f":"IF(CelkemObjekty=0,\"\",F38/CelkemObjekty*100)","v":0}]
[null,"1.E 00","1.E 01-104 Komunikace \"ul. Za Lázněni a spojovací pěšina\"",null,null,{"$f":"G39+H39+I39","v":0},0,{"$f":"SUM('1.E 00 1.E 01-104 KL'!C23)","v":0},0,0]
[null,"1.E 01","1.E 01.1.1 Vodovodní řad \"A8-1\"",null,null,0,0,{"$f":"SUM('1.E 01 1.E 01.1.1 KL'!C23)","v":0},0,0]
[null,"1.E 01","1.E 01.1.2 Vodovodní řad \"A8-2-1\"",null,null,0,0,{"$f":"SUM('1.E 01 1.E 01.1.2 KL'!C23)","v":0},0,0]
[null,"1.E 01","1.E 01.2 Vodovodní řad \"A8-2\"",null,null,0,0,{"$f":"SUM('1.E 01 1.E 01.2 KL'!C23)","v":0},0,0]
[null,"1.E 01","1.E 01.3 Odstavení stávajícího vodovodního řadu",null,null,0,0,{"$f":"SUM('1.E 01 1.E 01.3 KL'!C23)","v":0},0,0]
[null,"1.E 01","1.E 01.4 Nové vodovodní body Hrabačov",null,null,0,0,{"$f":"SUM('1.E 01 1.E 01.4 KL'!C23)","v":0},0,0]
[null,"1.E 01","1.E 01.5 Úpravy stáv.vodovodních napojovacích bodů Hrabačov",null,null,0,0,{"$f":"SUM('1.E 01 1.E 01.5 KL'!C23)","v":0},0,0]
[null,"1.E 08","1.E 08.1 Dešťová stoka \"DS-3 po Š7a DS-3-a\"",null,null,0,0,{"$f":"SUM('1.E 08 1.E 08.1 KL'!C23)","v":0},0,0]
[null,"1.E 08","1.E 08.2 Stoka \"E1, E2, E2-1 a E2-2\"",null,null,0,0,{"$f":"SUM('1.E 08 1.E 08.2 KL'!C23)","v":0},0,0]
[null,"1.E 08","1.E 08.3 Odstavení stávající kanalizační stoky",null,null,0,0,{"$f":"SUM('1.E 08 1.E 08.3 KL'!C23)","v":0},0,0]
[null,"1.E 08","1.E 08.5 Úpravy stáv.kanalizačních napojovacích bodů",null,null,0,0,{"$f":"SUM('1.E 08 1.E 08.5 KL'!C23)","v":0},0,0]
[null,"1.E 08","1.E 08.6 Odvodnění komunikací",null,null,0,0,{"$f":"SUM('1.E 08 1.E 08.6 KL'!C23)","v":0},0,0]
[null,"Celkem za stavbu",null,null,null,{"$f":"SUM(F38:F50)","v":0},{"$f":"SUM(G38:G50)","v":0},{"$f":"SUM(H38:H50)","v":0},{"$f":"SUM(I38:I50)","v":0},{"$f":"IF(CelkemObjekty=0,\"\",F51/CelkemObjekty*100)","v":0}]

{"sheet":"1.E 00 1.E 01-103 KL","index":1,"n_rows":45,"n_cols":8,"rows_kept":45,"cut":false,"hidden":false,"merged":[[50,1,50,6],[29,5,29,6],[30,5,30,6],[31,5,31,6],[32,5,32,6],[33,5,33,6],[36,1,44,6],[45,1,45,6],[46,1,46,6],[47,1,47,6],[48,1,48,6],[49,1,49,6],[22,0,22,1],[7,2,7,4],[8,2,8,4],[9,2,9,4],[10,2,10,4],[11,2,11,4]]}
["POLOŽKOVÝ ROZPOČET"]
["Rozpočet",null,"1.E 01-103","Komunikace \"ul. Spojovací\"",null,"JKSO ","822.27"]
[]
["Objekt",null,null,null,null,"SKP "]
["1.E 00",null,"Komunikace",null,null,"Měrná jednotka","m2"]
["Stavba",null,null,null,null,"Počet jednotek",0]
["3403",null,"Jilemnice - Optimalizace VS a komunikace I.Etapa",null,null,"Náklady na m.j.",{"$f":"IF(G6=0,,ROUND((F30+F32)/G6,1))","v":0}]
["Projektant",null,"Vodohospodářsko - inženýrské služby spol. s r.o.",null,null,"Typ rozpočtu"]
["Zpracovatel projektu"]
["Objednatel",null,"Vodohospodářské sdružení Turnov"]
["Dodavatel",null,".",null,null,"Zakázkové číslo "]
["Rozpočtoval",null,null,null,null,"Počet listů"]
["ROZPOČTOVÉ NÁKLADY"]
["Základní rozpočtové náklady"]
[null,"HSV celkem",{"$f":"'1.E 00 1.E 01-103 Rek'!E15","v":0}]
["Z","PSV celkem",{"$f":"'1.E 00 1.E 01-103 Rek'!F15","v":0}]
["R","M práce celkem",{"$f":"'1.E 00 1.E 01-103 Rek'!H15","v":0}]
["N","M dodávky celkem",{"$f":"'1.E 00 1.E 01-103 Rek'!G15","v":0}]
["ZRN celkem",null,{"$f":"SUM(C15:C18)","v":0}]
[]
["HZS",null,{"$f":"'1.E 00 1.E 01-103 Rek'!I15","v":0}]
["ZRN+HZS",null,{"$f":"C19+C21","v":0}]
["ZRN+ost.náklady+HZS",null,{"$f":"C22+G23","v":0}]
["Vypracoval",null,null,"Za zhotovitele",null,"Za objednatele"]
["Jméno :",null,null,"Jméno :",null,"Jméno :"]
["Datum :",null,null,"Datum :",null,"Datum :"]
[]
["Podpis :",null,null,"Podpis:",null,"Podpis:"]
[]
["Základ pro DPH",null,21,"%  ",null,{"$f":"C23-F32","v":0}]
["DPH",null,{"$f":"C30","v":21},"% ",null,{"$f":"ROUND(PRODUCT(F30,C31/100),0)","v":0}]
["Základ pro DPH",null,0,"% ",null,0]
["DPH",null,{"$f":"C32","v":0},"% ",null,{"$f":"ROUND(PRODUCT(F32,C33/100),0)","v":0}]
["CENA ZA OBJEKT CELKEM",null,null,null,null,{"$f":"ROUND(SUM(F30:F33),0)","v":0}]
[]
["Poznámka :",null,null,null,null,null,null," "]
[null,null,null,null,null,null,null," "]
[null,null,null,null,null,null,null," "]
[null,null,null,null,null,null,null," "]
[null,null,null,null,null,null,null," "]
[null,null,null,null,null,null,null," "]
[null,null,null,null,null,null,null," "]
[null,null,null,null,null,null,null," "]
[null,null,null,null,null,null,null," "]
[null,null,null,null,null,null,null," "]

{"sheet":"1.E 00 1.E 01-103 Rek","index":2,"n_rows":15,"n_cols":9,"rows_kept":15,"cut":false,"hidden":false,"merged":[[0,0,0,1],[1,0,1,1],[1,6,1,8]]}
["Stavba :",null,"3403 Jilemnice - Optimalizace VS a komunikace",null,null,null,"Rozpočet :","1.E 01-103"]
["Objekt :",null,"1.E 00 Komunikace",null,null,null,"Komunikace \"ul. Spojovací\""]
[]
["REKAPITULACE  STAVEBNÍCH  DÍLŮ"]
[]
[null,"Stavební díl",null,null,"HSV","PSV","Dodávka","Montáž","HZS"]
[{"$f":"'1.E 00 1.E 01-103 Pol'!B7","v":"1"},{"$f":"'1.E 00 1.E 01-103 Pol'!C7","v":"Zemní práce"},null,null,{"$f":"'1.E 00 1.E 01-103 Pol'!BA46","v":0},{"$f":"'1.E 00 1.E 01-103 Pol'!BB46","v":0},{"$f":"'1.E 00 1.E 01-103 Pol'!BC46","v":0},{"$f":"'1.E 00 1.E 01-103 Pol'!BD46","v":0},{"$f":"'1.E 00 1.E 01-103 Pol'!BE46","v":0}]
[{"$f":"'1.E 00 1.E 01-103 Pol'!B47","v":"2"},{"$f":"'1.E 00 1.E 01-103 Pol'!C47","v":"Základy a zvláštní zakládání"},null,null,{"$f":"'1.E 00 1.E 01-103 Pol'!BA51","v":0},{"$f":"'1.E 00 1.E 01-103 Pol'!BB51","v":0},{"$f":"'1.E 00 1.E 01-103 Pol'!BC51","v":0},{"$f":"'1.E 00 1.E 01-103 Pol'!BD51","v":0},{"$f":"'1.E 00 1.E 01-103 Pol'!BE51","v":0}]
[{"$f":"'1.E 00 1.E 01-103 Pol'!B52","v":"5"},{"$f":"'1.E 00 1.E 01-103 Pol'!C52","v":"Komunikace"},null,null,{"$f":"'1.E 00 1.E 01-103 Pol'!BA81","v":0},{"$f":"'1.E 00 1.E 01-103 Pol'!BB81","v":0},{"$f":"'1.E 00 1.E 01-103 Pol'!BC81","v":0},{"$f":"'1.E 00 1.E 01-103 Pol'!BD81","v":0},{"$f":"'1.E 00 1.E 01-103 Pol'!BE81","v":0}]
[{"$f":"'1.E 00 1.E 01-103 Pol'!B82","v":"91"},{"$f":"'1.E 00 1.E 01-103 Pol'!C82","v":"Doplňující práce na komunikaci"},null,null,{"$f":"'1.E 00 1.E 01-103 Pol'!BA94","v":0},{"$f":"'1.E 00 1.E 01-103 Pol'!BB94","v":0},{"$f":"'1.E 00 1.E 01-103 Pol'!BC94","v":0},{"$f":"'1.E 00 1.E 01-103 Pol'!BD94","v":0},{"$f":"'1.E 00 1.E 01-103 Pol'!BE94","v":0}]
[{"$f":"'1.E 00 1.E 01-103 Pol'!B95","v":"93"},{"$f":"'1.E 00 1.E 01-103 Pol'!C95","v":"Dokončovací práce inženýrských staveb"},null,null,{"$f":"'1.E 00 1.E 01-103 Pol'!BA100","v":0},{"$f":"'1.E 00 1.E 01-103 Pol'!BB100","v":0},{"$f":"'1.E 00 1.E 01-103 Pol'!BC100","v":0},{"$f":"'1.E 00 1.E 01-103 Pol'!BD100","v":0},{"$f":"'1.E 00 1.E 01-103 Pol'!BE100","v":0}]
[{"$f":"'1.E 00 1.E 01-103 Pol'!B101","v":"97"},{"$f":"'1.E 00 1.E 01-103 Pol'!C101","v":"Prorážení otvorů"},null,null,{"$f":"'1.E 00 1.E 01-103 Pol'!BA104","v":0},{"$f":"'1.E 00 1.E 01-103 Pol'!BB104","v":0},{"$f":"'1.E 00 1.E 01-103 Pol'!BC104","v":0},{"$f":"'1.E 00 1.E 01-103 Pol'!BD104","v":0},{"$f":"'1.E 00 1.E 01-103 Pol'!BE104","v":0}]
[{"$f":"'1.E 00 1.E 01-103 Pol'!B105","v":"99"},{"$f":"'1.E 00 1.E 01-103 Pol'!C105","v":"Staveništní přesun hmot"},null,null,{"$f":"'1.E 00 1.E 01-103 Pol'!BA107","v":0},{"$f":"'1.E 00 1.E 01-103 Pol'!BB107","v":0},{"$f":"'1.E 00 1.E 01-103 Pol'!BC107","v":0},{"$f":"'1.E 00 1.E 01-103 Pol'!BD107","v":0},{"$f":"'1.E 00 1.E 01-103 Pol'!BE107","v":0}]
[{"$f":"'1.E 00 1.E 01-103 Pol'!B108","v":"M22"},{"$f":"'1.E 00 1.E 01-103 Pol'!C108","v":"Montáž sdělovací a zabezp. techniky"},null,null,{"$f":"'1.E 00 1.E 01-103 Pol'!BA114","v":0},{"$f":"'1.E 00 1.E 01-103 Pol'!BB114","v":0},{"$f":"'1.E 00 1.E 01-103 Pol'!BC114","v":0},{"$f":"'1.E 00 1.E 01-103 Pol'!BD114","v":0},{"$f":"'1.E 00 1.E 01-103 Pol'!BE114","v":0}]
[null,"CELKEM  OBJEKT",null,null,{"$f":"SUM(E7:E14)","v":0},{"$f":"SUM(F7:F14)","v":0},{"$f":"SUM(G7:G14)","v":0},{"$f":"SUM(H7:H14)","v":0},{"$f":"SUM(I7:I14)","v":0}]

{"sheet":"1.E 00 1.E 01-103 Pol","index":3,"n_rows":114,"n_cols":80,"rows_kept":114,"cut":false,"hidden":false,"merged":[[109,2,109,6],[110,2,110,6],[111,2,111,6],[112,2,112,6],[98,2,98,3],[102,2,102,3],[91,2,91,3],[68,2,68,3],[70,2,70,3],[72,2,72,3],[73,2,73,3],[75,2,75,3],[76,2,76,3],[78,2,78,6],[79,2,79,3],[85,2,85,3],[87,2,87,3],[89,2,89,3],[62,2,62,3],[64,2,64,3],[66,2,66,3],[37,2,37,3],[44,2,44,6],[48,2,48,6],[49,2,49,3],[53,2,53,3],[55,2,55,3],[57,2,57,3],[59,2,59,3],[60,2,60,3],[35,2,35,6],[14,2,14,3],[16,2,16,3],[17,2,17,3],[19,2,19,3],[21,2,21,3],[23,2,23,3],[25,2,25,3],[27,2,27,6],[28,2,28,3],[29,2,29,3],[31,2,31,3],[10,2,10,6],[11,2,11,3],[12,2,12,3],[0,0,0,6],[2,0,2,1],[3,0,3,1],[3,4,3,6],[8,2,8,3]]}
["Položkový rozpočet "]
[]
["Stavba :",null,"3403 Jilemnice - Optimalizace VS a komunikace",null,"Rozpočet:",{"$f":"'1.E 00 1.E 01-103 Rek'!H1","v":"1.E 01-103"}]
["Objekt :",null,"1.E 00 Komunikace",null,{"$f":"'1.E 00 1.E 01-103 Rek'!G2","v":"Komunikace \"ul. Spojovací\""}]
[]
["P.č.","Číslo položky","Název položky","MJ","množství","cena / MJ","celkem (Kč)","Jednotková hmotnost","Celková hmotnost","Jednotková dem.hmot.","Celková dem.hmot."]
["Díl:","1","Zemní práce",null,null,null,null,null,null,null,null,null,null,null,1]
[1,"113106231R00","Rozebrání dlažeb ze zámkové dlažby v kamenivu ","m2",6,null,{"$f":"E8*F8","v":0},0,{"$f":"E8*H8","v":0},-0.22500000000000001,{"$f":"E8*J8","v":-1.35},null,null,null,2,null,null,null,null,null,null,null,null,null,null,null,1,1,1,null,null,null,null,null,null,null,null,null,null,null,null,null,null,null,null,null,null,null,null,null,null,1,{"$f":"IF(AZ8=1,G8,0)","v":0},{"$f":"IF(AZ8=2,G8,0)","v":0},{"$f":"IF(AZ8=3,G8,0)","v":0},{"$f":"IF(AZ8=4,G8,0)","v":0},{"$f":"IF(AZ8=5,G8,0)","v":0},null,null,null,null,null,null,null,null,null,null,null,null,null,null,null,null,null,null,null,null,null,1,1]
[null,null,"Stávající ploch ze ZD:6,00",null,6,null,null,null,null,null,null,null,"Stávající ploch ze ZD:6,00"]
[2,"113107630R00","Odstranění podkladu nad 50 m2,kam.drcené tl.30 cm ","m2",923.5,null,{"$f":"E10*F10","v":0},0,{"$f":"E10*H10","v":0},-0.66,{"$f":"E10*J10","v":-609.51},null,null,null,2,null,null,null,null,null,null,null,null,null,null,null,1,1,1,null,null,null,null,null,null,null,null,null,null,null,null,null,null,null,null,null,null,null,null,null,null,1,{"$f":"IF(AZ10=1,G10,0)","v":0},{"$f":"IF(AZ10=2,G10,0)","v":0},{"$f":"IF(AZ10=3,G10,0)","v":0},{"$f":"IF(AZ10=4,G10,0)","v":0},{"$f":"IF(AZ10=5,G10,0)","v":0},null,null,null,null,null,null,null,null,null,null,null,null,null,null,null,null,null,null,null,null,null,1,1]
[null,null,"cca 40% štěrku z celkového objemu původních konstrukčních vrstev bude odvezen na skládku Města Jilemnice",null,null,null,null,null,null,null,null,"cca 40% štěrku z celkového objemu původních konstrukčních vrstev bude odvezen na skládku Města Jilemnice",null,null,3]
[null,null,"Plocha stávající komunikace včetně rýh pro VH sítě:898,00",null,898,null,null,null,null,null,null,null,"Plocha stávající komunikace včetně rýh pro VH sítě:898,00"]
[null,null,"Napojení sjezdů a sjezdy:25,50",null,25.5,null,null,null,null,null,null,null,"Napojení sjezdů a sjezdy:25,50"]
[3,"113107640R00","Odstranění podkladu nad 50 m2,kam.drcené tl.40 cm ","m2",6,null,{"$f":"E14*F14","v":0},0,{"$f":"E14*H14","v":0},-0.88,{"$f":"E14*J14","v":-5.28},null,null,null,2,null,null,null,null,null,null,null,null,null,null,null,1,1,1,null,null,null,null,null,null,null,null,null,null,null,null,null,null,null,null,null,null,null,null,null,null,1,{"$f":"IF(AZ14=1,G14,0)","v":0},{"$f":"IF(AZ14=2,G14,0)","v":0},{"$f":"IF(AZ14=3,G14,0)","v":0},{"$f":"IF(AZ14=4,G14,0)","v":0},{"$f":"IF(AZ14=5,G14,0)","v":0},null,null,null,null,null,null,null,null,null,null,null,null,null,null,null,null,null,null,null,null,null,1,1]
[null,null,"Plocha pro popelnice:6,00",null,6,null,null,null,null,null,null,null,"Plocha pro popelnice:6,00"]
[4,"113108410R00","Odstranění asfaltové vrstvy pl.nad 50 m2, tl.10 cm ","m2",923.5,null,{"$f":"E16*F16","v":0},0,{"$f":"E16*H16","v":0},-0.22,{"$f":"E16*J16","v":-203.17},null,null,null,2,null,null,null,null,null,null,null,null,null,null,null,1,1,1,null,null,null,null,null,null,null,null,null,null,null,null,null,null,null,null,null,null,null,null,null,null,1,{"$f":"IF(AZ16=1,G16,0)","v":0},{"$f":"IF(AZ16=2,G16,0)","v":0},{"$f":"IF(AZ16=3,G16,0)","v":0},{"$f":"IF(AZ16=4,G16,0)","v":0},{"$f":"IF(AZ16=5,G16,0)","v":0},null,null,null,null,null,null,null,null,null,null,null,null,null,null,null,null,null,null,null,null,null,1,1]
[null,null,"Plocha stávající komunikace včetně rýh pro VH sítě:898,00",null,898,null,null,null,null,null,null,null,"Plocha stávající komunikace včetně rýh pro VH sítě:898,00"]
[null,null,"Napojení sjezdů a sjezdy:25,50",null,25.5,null,null,null,null,null,null,null,"Napojení sjezdů a sjezdy:25,50"]
[5,"113151314R00","Fréz.živič.krytu nad 500 m2, s překážkami, tl.5 cm ","m2",942.9,null,{"$f":"E19*F19","v":0},0,{"$f":"E19*H19","v":0},-0.11,{"$f":"E19*J19","v":-103.71899999999999},null,null,null,2,null,null,null,null,null,null,null,null,null,null,null,1,1,1,null,null,null,null,null,null,null,null,null,null,null,null,null,null,null,null,null,null,null,null,null,null,1,{"$f":"IF(AZ19=1,G19,0)","v":0},{"$f":"IF(AZ19=2,G19,0)","v":0},{"$f":"IF(AZ19=3,G19,0)","v":0},{"$f":"IF(AZ19=4,G19,0)","v":0},{"$f":"IF(AZ19=5,G19,0)","v":0},null,null,null,null,null,null,null,null,null,null,null,null,null,null,null,null,null,null,null,null,null,1,1]
[null,null,"Plocha stávající komunikace:898,00*1,05",null,942.9,null,null,null,null,null,null,null,"Plocha stávající komunikace:898,00*1,05"]
[6,"113202111R00","Vytrhání obrub obrubníků silničních ","m",72,null,{"$f":"E21*F21","v":0},0,{"$f":"E21*H21","v":0},-0.27,{"$f":"E21*J21","v":-19.440000000000001},null,null,null,2,null,null,null,null,null,null,null,null,null,null,null,1,1,1,null,null,null,null,null,null,null,null,null,null,null,null,null,null,null,null,null,null,null,null,null,null,1,{"$f":"IF(AZ21=1,G21,0)","v":0},{"$f":"IF(AZ21=2,G21,0)","v":0},{"$f":"IF(AZ21=3,G21,0)","v":0},{"$f":"IF(AZ21=4,G21,0)","v":0},{"$f":"IF(AZ21=5,G21,0)","v":0},null,null,null,null,null,null,null,null,null,null,null,null,null,null,null,null,null,null,null,null,null,1,1]
[null,null,"Stávající obrubníky:72,00",null,72,null,null,null,null,null,null,null,"Stávající obrubníky:72,00"]
[7,"122202202R00","Odkopávky pro silnice v hor. 3 do 1000 m3 ","m3",105.6,null,{"$f":"E23*F23","v":0},0,{"$f":"E23*H23","v":0},0,{"$f":"E23*J23","v":0},null,null,null,2,null,null,null,null,null,null,null,null,null,null,null,1,1,1,null,null,null,null,null,null,null,null,null,null,null,null,null,null,null,null,null,null,null,null,null,null,1,{"$f":"IF(AZ23=1,G23,0)","v":0},{"$f":"IF(AZ23=2,G23,0)","v":0},{"$f":"IF(AZ23=3,G23,0)","v":0},{"$f":"IF(AZ23=4,G23,0)","v":0},{"$f":"IF(AZ23=5,G23,0)","v":0},null,null,null,null,null,null,null,null,null,null,null,null,null,null,null,null,null,null,null,null,null,1,1]
[null,null,"Odkopávky pro sanace mimo rýh VH sítí:1056,00*0,5*0,20",null,105.6,null,null,null,null,null,null,null,"Odkopávky pro sanace mimo rýh VH sítí:1056,00*0,5*0,20"]
[8,"122202209R00","Příplatek za lepivost - odkop. pro silnice v hor.3 ","m3",105.6,null,{"$f":"E25*F25","v":0},0,{"$f":"E25*H25","v":0},0,{"$f":"E25*J25","v":0},null,null,null,2,null,null,null,null,null,null,null,null,null,null,null,1,1,1,null,null,null,null,null,null,null,null,null,null,null,null,null,null,null,null,null,null,null,null,null,null,1,{"$f":"IF(AZ25=1,G25,0)","v":0},{"$f":"IF(AZ25=2,G25,0)","v":0},{"$f":"IF(AZ25=3,G25,0)","v":0},{"$f":"IF(AZ25=4,G25,0)","v":0},{"$f":"IF(AZ25=5,G25,0)","v":0},null,null,null,null,null,null,null,null,null,null,null,null,null,null,null,null,null,null,null,null,null,1,1]
[null,null,"Odkopávky pro sanace mimo rýh VH sítí:1056,00*0,5*0,20",null,105.6,null,null,null,null,null,null,null,"Odkopávky pro sanace mimo rýh VH sítí:1056,00*0,5*0,20"]
[9,"130901123RT3","Bourání konstrukcí ze železobetonu ve vykopávkách bagrem s kladivem","m3",1.96,null,{"$f":"E27*F27","v":0},0,{"$f":"E27*H27","v":0},0,{"$f":"E27*J27","v":0},null,null,null,2,null,null,null,null,null,null,null,null,null,null,null,1,1,1,null,null,null,null,null,null,null,null,null,null,null,null,null,null,null,null,null,null,null,null,null,null,1,{"$f":"IF(AZ27=1,G27,0)","v":0},{"$f":"IF(AZ27=2,G27,0)","v":0},{"$f":"IF(AZ27=3,G27,0)","v":0},{"$f":"IF(AZ27=4,G27,0)","v":0},{"$f":"IF(AZ27=5,G27,0)","v":0},null,null,null,null,null,null,null,null,null,null,null,null,null,null,null,null,null,null,null,null,null,1,1]
[null,null,"Položka obsahuje odstranění materiálu obklopujícího betonové a železobetonové konstrukce v míře nutné pro vyzvednutí, rozpojení konstrukcí, uchopení a vyzvednutí konstrukce z výkopu a uložení na dopravní prostředek včetně odvozu na skládku zhotovitele a poplatek za skládku.",null,null,null,null,null,null,null,null,"Položka obsahuje odstranění materiálu obklopujícího betonové a železobetonové konstrukce v míře nutné pro vyzvednutí, rozpojení konstrukcí, uchopení a vyzvednutí konstrukce z výkopu a uložení na dopravní prostředek včetně odvozu na skládku zhotovitele a poplatek za skládku.",null,null,3]
[null,null,"Betony:1,00",null,1,null,null,null,null,null,null,null,"Betony:1,00"]
[null,null,"Štěrbinový žlab:6,00*0,40*0,40",null,0.96,null,null,null,null,null,null,null,"Štěrbinový žlab:6,00*0,40*0,40"]
[10,"162701105RSZ","Vodorovné přemístění výkopku z hor.1-4 na skládku zhotovitele","m3",105.6,null,{"$f":"E31*F31","v":0},0,{"$f":"E31*H31","v":0},0,{"$f":"E31*J31","v":0},null,null,null,2,null,null,null,null,null,null,null,null,null,null,null,1,1,1,null,null,null,null,null,null,null,null,null,null,null,null,null,null,null,null,null,null,null,null,null,null,1,{"$f":"IF(AZ31=1,G31,0)","v":0},{"$f":"IF(AZ31=2,G31,0)","v":0},{"$f":"IF(AZ31=3,G31,0)","v":0},{"$f":"IF(AZ31=4,G31,0)","v":0},{"$f":"IF(AZ31=5,G31,0)","v":0},null,null,null,null,null,null,null,null,null,null,null,null,null,null,null,null,null,null,null,null,null,1,1]
[null,null,"Odkopávky pro sanace mimo rýh VH sítí:1056,00*0,5*0,20",null,105.6,null,null,null,null,null,null,null,"Odkopávky pro sanace mimo rýh VH sítí:1056,00*0,5*0,20"]
[11,"181101101R00","Úprava pláně v zářezech v hor. 1-4, bez zhutnění ","m2",377,null,{"$f":"E33*F33","v":0},0,{"$f":"E33*H33","v":0},0,{"$f":"E33*J33","v":0},null,null,null,2,null,null,null,null,null,null,null,null,null,null,null,1,1,1,null,null,null,null,null,null,null,null,null,null,null,null,null,null,null,null,null,null,null,null,null,null,1,{"$f":"IF(AZ33=1,G33,0)","v":0},{"$f":"IF(AZ33=2,G33,0)","v":0},{"$f":"IF(AZ33=3,G33,0)","v":0},{"$f":"IF(AZ33=4,G33,0)","v":0},{"$f":"IF(AZ33=5,G33,0)","v":0},null,null,null,null,null,null,null,null,null,null,null,null,null,null,null,null,null,null,null,null,null,1,1]
[12,"181101102R00","Úprava pláně v zářezech v hor. 1-4, se zhutněním ","m2",1056,null,{"$f":"E34*F34","v":0},0,{"$f":"E34*H34","v":0},0,{"$f":"E34*J34","v":0},null,null,null,2,null,null,null,null,null,null,null,null,null,null,null,1,1,1,null,null,null,null,null,null,null,null,null,null,null,null,null,null,null,null,null,null,null,null,null,null,1,{"$f":"IF(AZ34=1,G34,0)","v":0},{"$f":"IF(AZ34=2,G34,0)","v":0},{"$f":"IF(AZ34=3,G34,0)","v":0},{"$f":"IF(AZ34=4,G34,0)","v":0},{"$f":"IF(AZ34=5,G34,0)","v":0},null,null,null,null,null,null,null,null,null,null,null,null,null,null,null,null,null,null,null,null,null,1,1]
[13,"181300012RAC","Rozprostření ornice v rovině tloušťka 20 cm dovoz ornice ze vzdálenosti 5 km, osetí trávou","m2",377,null,{"$f":"E35*F35","v":0},3.0000000000000001E-5,{"$f":"E35*H35","v":1.1310000000000001E-2},0,{"$f":"E35*J35","v":0},null,null,null,2,null,null,null,null,null,null,null,null,null,null,null,1,1,1,null,null,null,null,null,null,null,null,null,null,null,null,null,null,null,null,null,null,null,null,null,null,1,{"$f":"IF(AZ35=1,G35,0)","v":0},{"$f":"IF(AZ35=2,G35,0)","v":0},{"$f":"IF(AZ35=3,G35,0)","v":0},{"$f":"IF(AZ35=4,G35,0)","v":0},{"$f":"IF(AZ35=5,G35,0)","v":0},null,null,null,null,null,null,null,null,null,null,null,null,null,null,null,null,null,null,null,null,null,1,1]
[null,null,"Včetně přesunu hmot.",null,null,null,null,null,null,null,null,"Včetně přesunu hmot.",null,null,3]
[14,"199000002R00","Poplatek za skládku horniny 1- 4 č. dle katal. odpadů 17 05 04","m3",105.6,null,{"$f":"E37*F37","v":0},0,{"$f":"E37*H37","v":0},0,{"$f":"E37*J37","v":0},null,null,null,2,null,null,null,null,null,null,null,null,null,null,null,1,1,1,null,null,null,null,null,null,null,null,null,null,null,null,null,null,null,null,null,null,null,null,null,null,1,{"$f":"IF(AZ37=1,G37,0)","v":0},{"$f":"IF(AZ37=2,G37,0)","v":0},{"$f":"IF(AZ37=3,G37,0)","v":0},{"$f":"IF(AZ37=4,G37,0)","v":0},{"$f":"IF(AZ37=5,G37,0)","v":0},null,null,null,null,null,null,null,null,null,null,null,null,null,null,null,null,null,null,null,null,null,1,1]
[null,null,"Odkopávky pro sanace mimo rýh VH sítí:1056,00*0,5*0,20",null,105.6,null,null,null,null,null,null,null,"Odkopávky pro sanace mimo rýh VH sítí:1056,00*0,5*0,20"]
[15,"979082112RMJ","Vodorovná doprava části štěrku z komunikací na skládku Města Jilemnice do 5 km","t",243.804,null,{"$f":"E39*F39","v":0},0,{"$f":"E39*H39","v":0},0,{"$f":"E39*J39","v":0},null,null,null,2,null,null,null,null,null,null,null,null,null,null,null,1,1,1,null,null,null,null,null,null,null,null,null,null,null,null,null,null,null,null,null,null,null,null,null,null,1,{"$f":"IF(AZ39=1,G39,0)","v":0},{"$f":"IF(AZ39=2,G39,0)","v":0},{"$f":"IF(AZ39=3,G39,0)","v":0},{"$f":"IF(AZ39=4,G39,0)","v":0},{"$f":"IF(AZ39=5,G39,0)","v":0},null,null,null,null,null,null,null,null,null,null,null,null,null,null,null,null,null,null,null,null,null,1,1]
[16,"979082113RMJ","Vodorovná doprava frézovaného asfaltu na skládku Města Jilemnice do 5 km","t",103.71899999999999,null,0,0,0,0,0,null,null,null,2,null,null,null,null,null,null,null,null,null,null,null,1,1,1,null,null,null,null,null,null,null,null,null,null,null,null,null,null,null,null,null,null,null,null,null,null,1,0,0,0,0,0,null,null,null,null,null,null,null,null,null,null,null,null,null,null,null,null,null,null,null,null,null,1,1]
[17,"979082113RSZ","Vodorovná doprava suti po suchu na skládku zhotovitele","t",592.93600000000004,null,0,0,0,0,0,null,null,null,2,null,null,null,null,null,null,null,null,null,null,null,1,1,1,null,null,null,null,null,null,null,null,null,null,null,null,null,null,null,null,null,null,null,null,null,null,1,0,0,0,0,0,null,null,null,null,null,null,null,null,null,null,null,null,null,null,null,null,null,null,null,null,null,1,1]
[18,"979089001R00","Poplatek za skládku stavební suti štěrky z komunikací, skupina odpadu 010408","t",370.32600000000002,null,0,0,0,0,0,null,null,null,2,null,null,null,null,null,null,null,null,null,null,null,1,1,1,null,null,null,null,null,null,null,null,null,null,null,null,null,null,null,null,null,null,null,null,null,null,1,0,0,0,0,0,null,null,null,null,null,null,null,null,null,null,null,null,null,null,null,null,null,null,null,null,null,1,1]
[19,"979990103R00","Poplatek za skládku stavební suti beton  skupina odpadu 170101","t",19.440000000000001,null,0,0,0,0,0,null,null,null,2,null,null,null,null,null,null,null,null,null,null,null,1,1,1,null,null,null,null,null,null,null,null,null,null,null,null,null,null,null,null,null,null,null,null,null,null,1,0,0,0,0,0,null,null,null,null,null,null,null,null,null,null,null,null,null,null,null,null,null,null,null,null,null,1,1]
[20,"979999995R00","Poplatek za reciklaci asfaltu, kusovost do 1600cm2 skupina 170302","t",203.17,null,0,0,0,0,0,null,null,null,2,null,null,null,null,null,null,null,null,null,null,null,1,1,1,null,null,null,null,null,null,null,null,null,null,null,null,null,null,null,null,null,null,null,null,null,null,1,0,0,0,0,0,null,null,null,null,null,null,null,null,null,null,null,null,null,null,null,null,null,null,null,null,null,1,1]
[null,null,"Položka je určena pro suť o velikosti kusu do 30x30 cm (technologický materiál určený k recyklaci).",null,null,null,null,null,null,null,null,"Položka je určena pro suť o velikosti kusu do 30x30 cm (technologický materiál určený k recyklaci).",null,null,3]
[null,"Celkem za","1 Zemní práce",null,null,null,{"$f":"SUM(G7:G45)","v":0},null,{"$f":"SUM(I7:I45)","v":1.1310000000000001E-2},null,{"$f":"SUM(K7:K45)","v":-942.46900000000005},null,null,null,4,null,null,null,null,null,null,null,null,null,null,null,null,null,null,null,null,null,null,null,null,null,null,null,null,null,null,null,null,null,null,null,null,null,null,null,null,null,{"$f":"SUM(BA7:BA45)","v":0},{"$f":"SUM(BB7:BB45)","v":0},{"$f":"SUM(BC7:BC45)","v":0},{"$f":"SUM(BD7:BD45)","v":0},{"$f":"SUM(BE7:BE45)","v":0}]
["Díl:","2","Základy a zvláštní zakládání",null,null,null,null,null,null,null,null,null,null,null,1]
[21,"289970111R00","Vrstva geotextilie Geofiltex 300g/m2 ","m2",1267.2,null,{"$f":"E48*F48","v":0},5.0000000000000001E-4,{"$f":"E48*H48","v":0.63360000000000005},0,{"$f":"E48*J48","v":0},null,null,null,2,null,null,null,null,null,null,null,null,null,null,null,1,1,1,null,null,null,null,null,null,null,null,null,null,null,null,null,null,null,null,null,null,null,null,null,null,1,{"$f":"IF(AZ48=1,G48,0)","v":0},{"$f":"IF(AZ48=2,G48,0)","v":0},{"$f":"IF(AZ48=3,G48,0)","v":0},{"$f":"IF(AZ48=4,G48,0)","v":0},{"$f":"IF(AZ48=5,G48,0)","v":0},null,null,null,null,null,null,null,null,null,null,null,null,null,null,null,null,null,null,null,null,null,1,1]
[null,null,"Geotextílie tkaná z polyprop. s funkcí výztužnou, separační a filtrační s min. plošnou hmotností 280 g/m2. Pevnost v obou směrech min. 60kN/m2",null,null,null,null,null,null,null,null,"Geotextílie tkaná z polyprop. s funkcí výztužnou, separační a filtrační s min. plošnou hmotností 280 g/m2. Pevnost v obou směrech min. 60kN/m2",null,null,3]
[null,null,"Celková upravovaná plocha:1056,00*1,2",null,1267.2,null,null,null,null,null,null,null,"Celková upravovaná plocha:1056,00*1,2"]
[null,"Celkem za","2 Základy a zvláštní zakládání",null,null,null,{"$f":"SUM(G47:G50)","v":0},null,{"$f":"SUM(I47:I50)","v":0.63360000000000005},null,{"$f":"SUM(K47:K50)","v":0},null,null,null,4,null,null,null,null,null,null,null,null,null,null,null,null,null,null,null,null,null,null,null,null,null,null,null,null,null,null,null,null,null,null,null,null,null,null,null,null,null,{"$f":"SUM(BA47:BA50)","v":0},{"$f":"SUM(BB47:BB50)","v":0},{"$f":"SUM(BC47:BC50)","v":0},{"$f":"SUM(BD47:BD50)","v":0},{"$f":"SUM(BE47:BE50)","v":0}]
["Díl:","5","Komunikace",null,null,null,null,null,null,null,null,null,null,null,1]
[22,"564761111R00","Podklad z kameniva drceného vel.32-63 mm,tl. 20 cm ","m2",528,null,{"$f":"E53*F53","v":0},0.43,{"$f":"E53*H53","v":227.04},0,{"$f":"E53*J53","v":0},null,null,null,2,null,null,null,null,null,null,null,null,null,null,null,1,1,1,null,null,null,null,null,null,null,null,null,null,null,null,null,null,null,null,null,null,null,null,null,null,1,{"$f":"IF(AZ53=1,G53,0)","v":0},{"$f":"IF(AZ53=2,G53,0)","v":0},{"$f":"IF(AZ53=3,G53,0)","v":0},{"$f":"IF(AZ53=4,G53,0)","v":0},{"$f":"IF(AZ53=5,G53,0)","v":0},null,null,null,null,null,null,null,null,null,null,null,null,null,null,null,null,null,null,null,null,null,1,1]
[null,null,"Sanační vrstvy mimo konstrukce rýh VH sítí:1056,00*0,5",null,528,null,null,null,null,null,null,null,"Sanační vrstvy mimo konstrukce rýh VH sítí:1056,00*0,5"]
[23,"564851111RT2","Podklad ze štěrkodrti po zhutnění tloušťky 15 cm štěrkodrť frakce 0-32 mm","m2",1037.3,null,{"$f":"E55*F55","v":0},0.378,{"$f":"E55*H55","v":392.0994},0,{"$f":"E55*J55","v":0},null,null,null,2,null,null,null,null,null,null,null,null,null,null,null,1,1,1,null,null,null,null,null,null,null,null,null,null,null,null,null,null,null,null,null,null,null,null,null,null,1,{"$f":"IF(AZ55=1,G55,0)","v":0},{"$f":"IF(AZ55=2,G55,0)","v":0},{"$f":"IF(AZ55=3,G55,0)","v":0},{"$f":"IF(AZ55=4,G55,0)","v":0},{"$f":"IF(AZ55=5,G55,0)","v":0},null,null,null,null,null,null,null,null,null,null,null,null,null,null,null,null,null,null,null,null,null,1,1]
[null,null,"Konstrukce komunikace:943,00*1,1",null,1037.3,null,null,null,null,null,null,null,"Konstrukce komunikace:943,00*1,1"]
[24,"564851114RT4","Podklad ze štěrkodrti po zhutnění tloušťky 18 cm štěrkodrť frakce 0-63 mm","m2",1151.7,null,{"$f":"E57*F57","v":0},0.4536,{"$f":"E57*H57","v":522.41111999999998},0,{"$f":"E57*J57","v":0},null,null,null,2,null,null,null,null,null,null,null,null,null,null,null,1,1,1,null,null,null,null,null,null,null,null,null,null,null,null,null,null,null,null,null,null,null,null,null,null,1,{"$f":"IF(AZ57=1,G57,0)","v":0},{"$f":"IF(AZ57=2,G57,0)","v":0},{"$f":"IF(AZ57=3,G57,0)","v":0},{"$f":"IF(AZ57=4,G57,0)","v":0},{"$f":"IF(AZ57=5,G57,0)","v":0},null,null,null,null,null,null,null,null,null,null,null,null,null,null,null,null,null,null,null,null,null,1,1]
[null,null,"Konstrukce komunikace:(943,00+104,00)*1,1",null,1151.7,null,null,null,null,null,null,null,"Konstrukce komunikace:(943,00+104,00)*1,1"]
[25,"564871111RT2","Podklad ze štěrkodrti po zhutnění tloušťky 25 cm štěrkodrť frakce 0-32 mm","m2",30.8,null,{"$f":"E59*F59","v":0},0.55125000000000002,{"$f":"E59*H59","v":16.9785},0,{"$f":"E59*J59","v":0},null,null,null,2,null,null,null,null,null,null,null,null,null,null,null,1,1,1,null,null,null,null,null,null,null,null,null,null,null,null,null,null,null,null,null,null,null,null,null,null,1,{"$f":"IF(AZ59=1,G59,0)","v":0},{"$f":"IF(AZ59=2,G59,0)","v":0},{"$f":"IF(AZ59=3,G59,0)","v":0},{"$f":"IF(AZ59=4,G59,0)","v":0},{"$f":"IF(AZ59=5,G59,0)","v":0},null,null,null,null,null,null,null,null,null,null,null,null,null,null,null,null,null,null,null,null,null,1,1]
[null,null,"Plocha pro popelnice:9,00*1,1",null,9.9,null,null,null,null,null,null,null,"Plocha pro popelnice:9,00*1,1"]
[null,null,"Úpravy napojení sjezdů:19,00*1,1",null,20.9,null,null,null,null,null,null,null,"Úpravy napojení sjezdů:19,00*1,1"]
[26,"566905111R00","Vyspravení podkladu po překopech podklad.betonem ","m3",0.5,null,{"$f":"E62*F62","v":0},2.5,{"$f":"E62*H62","v":1.25},0,{"$f":"E62*J62","v":0},null,null,null,2,null,null,null,null,null,null,null,null,null,null,null,1,1,1,null,null,null,null,null,null,null,null,null,null,null,null,null,null,null,null,null,null,null,null,null,null,1,{"$f":"IF(AZ62=1,G62,0)","v":0},{"$f":"IF(AZ62=2,G62,0)","v":0},{"$f":"IF(AZ62=3,G62,0)","v":0},{"$f":"IF(AZ62=4,G62,0)","v":0},{"$f":"IF(AZ62=5,G62,0)","v":0},null,null,null,null,null,null,null,null,null,null,null,null,null,null,null,null,null,null,null,null,null,1,1]
[null,null,"Drobné dobetonávky u sjezdů a pod.:0,50",null,0.5,null,null,null,null,null,null,null,"Drobné dobetonávky u sjezdů a pod.:0,50"]
[27,"573111124R00","Postřik infiltrační, množství zbytkového asfaltového pojiva 1,00 kg/m2","m2",990.15,null,{"$f":"E64*F64","v":0},6.0099999999999997E-3,{"$f":"E64*H64","v":5.9508014999999999},0,{"$f":"E64*J64","v":0},null,null,null,2,null,null,null,null,null,null,null,null,null,null,null,1,0,0,null,null,null,null,null,null,null,null,null,null,null,null,null,null,null,null,null,null,null,null,null,null,1,{"$f":"IF(AZ64=1,G64,0)","v":0},{"$f":"IF(AZ64=2,G64,0)","v":0},{"$f":"IF(AZ64=3,G64,0)","v":0},{"$f":"IF(AZ64=4,G64,0)","v":0},{"$f":"IF(AZ64=5,G64,0)","v":0},null,null,null,null,null,null,null,null,null,null,null,null,null,null,null,null,null,null,null,null,null,1,0]
[null,null,"Plocha komunikace:943,00*1,05",null,990.15,null,null,null,null,null,null,null,"Plocha komunikace:943,00*1,05"]
[28,"573231110R00","Postřik spojovací z KAE množství zbytkového asfaltu 0,3 kg/m2","m2",1021.65,null,{"$f":"E66*F66","v":0},5.0000000000000001E-4,{"$f":"E66*H66","v":0.51082499999999997},0,{"$f":"E66*J66","v":0},null,null,null,2,null,null,null,null,null,null,null,null,null,null,null,1,1,1,null,null,null,null,null,null,null,null,null,null,null,null,null,null,null,null,null,null,null,null,null,null,1,{"$f":"IF(AZ66=1,G66,0)","v":0},{"$f":"IF(AZ66=2,G66,0)","v":0},{"$f":"IF(AZ66=3,G66,0)","v":0},{"$f":"IF(AZ66=4,G66,0)","v":0},{"$f":"IF(AZ66=5,G66,0)","v":0},null,null,null,null,null,null,null,null,null,null,null,null,null,null,null,null,null,null,null,null,null,1,1]
[null,null,"Plocha komunikace:973,00*1,05",null,1021.65,null,null,null,null,null,null,null,"Plocha komunikace:973,00*1,05"]
[29,"577142112R00","Beton asfaltový  ACO 11+ obrusný nad 3 m, tl.5 cm ","m2",1037.3,null,{"$f":"E68*F68","v":0},0,{"$f":"E68*H68","v":0},0,{"$f":"E68*J68","v":0},null,null,null,2,null,null,null,null,null,null,null,null,null,null,null,1,0,0,null,null,null,null,null,null,null,null,null,null,null,null,null,null,null,null,null,null,null,null,null,null,1,{"$f":"IF(AZ68=1,G68,0)","v":0},{"$f":"IF(AZ68=2,G68,0)","v":0},{"$f":"IF(AZ68=3,G68,0)","v":0},{"$f":"IF(AZ68=4,G68,0)","v":0},{"$f":"IF(AZ68=5,G68,0)","v":0},null,null,null,null,null,null,null,null,null,null,null,null,null,null,null,null,null,null,null,null,null,1,0]
[null,null,"Plocha komunikace:943,00*1,1",null,1037.3,null,null,null,null,null,null,null,"Plocha komunikace:943,00*1,1"]
[30,"577162124R00","Beton asfalt. ACL 16+ ložný, š. nad 3 m, tl. 7 cm ","m2",1084.45,null,{"$f":"E70*F70","v":0},0,{"$f":"E70*H70","v":0},0,{"$f":"E70*J70","v":0},null,null,null,2,null,null,null,null,null,null,null,null,null,null,null,1,1,1,null,null,null,null,null,null,null,null,null,null,null,null,null,null,null,null,null,null,null,null,null,null,1,{"$f":"IF(AZ70=1,G70,0)","v":0},{"$f":"IF(AZ70=2,G70,0)","v":0},{"$f":"IF(AZ70=3,G70,0)","v":0},{"$f":"IF(AZ70=4,G70,0)","v":0},{"$f":"IF(AZ70=5,G70,0)","v":0},null,null,null,null,null,null,null,null,null,null,null,null,null,null,null,null,null,null,null,null,null,1,1]
[null,null,"Plocha komunikace:943,00*1,15",null,1084.45,null,null,null,null,null,null,null,"Plocha komunikace:943,00*1,15"]
[31,"596215021R00","Kladení zámkové dlažby tl. 6 cm do drtě tl. 4 cm ","m2",15.45,null,{"$f":"E72*F72","v":0},7.3899999999999993E-2,{"$f":"E72*H72","v":1.1417549999999999},0,{"$f":"E72*J72","v":0},null,null,null,2,null,null,null,null,null,null,null,null,null,null,null,1,1,1,null,null,null,null,null,null,null,null,null,null,null,null,null,null,null,null,null,null,null,null,null,null,1,{"$f":"IF(AZ72=1,G72,0)","v":0},{"$f":"IF(AZ72=2,G72,0)","v":0},{"$f":"IF(AZ72=3,G72,0)","v":0},{"$f":"IF(AZ72=4,G72,0)","v":0},{"$f":"IF(AZ72=5,G72,0)","v":0},null,null,null,null,null,null,null,null,null,null,null,null,null,null,null,null,null,null,null,null,null,1,1]
[null,null,"Stávající ploch ze ZD:6,00",null,6,null,null,null,null,null,null,null,"Stávající ploch ze ZD:6,00"]
[null,null,"Nové plochy ZD:9,00*1,05",null,9.4499999999999993,null,null,null,null,null,null,null,"Nové plochy ZD:9,00*1,05"]
[32,"596291111R00","Řezání zámkové dlažby tl. 60 mm ","m",6,null,{"$f":"E75*F75","v":0},3.3E-4,{"$f":"E75*H75","v":1.98E-3},0,{"$f":"E75*J75","v":0},null,null,null,2,null,null,null,null,null,null,null,null,null,null,null,1,1,1,null,null,null,null,null,null,null,null,null,null,null,null,null,null,null,null,null,null,null,null,null,null,1,{"$f":"IF(AZ75=1,G75,0)","v":0},{"$f":"IF(AZ75=2,G75,0)","v":0},{"$f":"IF(AZ75=3,G75,0)","v":0},{"$f":"IF(AZ75=4,G75,0)","v":0},{"$f":"IF(AZ75=5,G75,0)","v":0},null,null,null,null,null,null,null,null,null,null,null,null,null,null,null,null,null,null,null,null,null,1,1]
[null,null,"Stávající ploch ze ZD:6,00*0,25",null,1.5,null,null,null,null,null,null,null,"Stávající ploch ze ZD:6,00*0,25"]
[null,null,"Nové plochy ZD:9,00*0,5",null,4.5,null,null,null,null,null,null,null,"Nové plochy ZD:9,00*0,5"]
[33,"59245263.R","Dlažba zámková barevná tl. 60 mm skladba dle PD (20/10+20/20+30/20 cm)","m2",9.6389999999999993,null,{"$f":"E78*F78","v":0},0.13100000000000001,{"$f":"E78*H78","v":1.2627089999999999},null,{"$f":"E78*J78","v":0},null,null,null,2,null,null,null,null,null,null,null,null,null,null,null,3,1,"59245263.R",null,null,null,null,null,null,null,null,null,null,null,null,null,null,null,null,null,null,null,null,null,null,1,{"$f":"IF(AZ78=1,G78,0)","v":0},{"$f":"IF(AZ78=2,G78,0)","v":0},{"$f":"IF(AZ78=3,G78,0)","v":0},{"$f":"IF(AZ78=4,G78,0)","v":0},{"$f":"IF(AZ78=5,G78,0)","v":0},null,null,null,null,null,null,null,null,null,null,null,null,null,null,null,null,null,null,null,null,null,3,1]
[null,null,"Barevná kombinace červená a bílá",null,null,null,null,null,null,null,null,"Barevná kombinace červená a bílá",null,null,3]
[null,null,"Nové plochy ZD:9,00*1,05*1,02",null,9.6389999999999993,null,null,null,null,null,null,null,"Nové plochy ZD:9,00*1,05*1,02"]
[null,"Celkem za","5 Komunikace",null,null,null,{"$f":"SUM(G52:G80)","v":0},null,{"$f":"SUM(I52:I80)","v":1168.6470905000001},null,{"$f":"SUM(K52:K80)","v":0},null,null,null,4,null,null,null,null,null,null,null,null,null,null,null,null,null,null,null,null,null,null,null,null,null,null,null,null,null,null,null,null,null,null,null,null,null,null,null,null,null,{"$f":"SUM(BA52:BA80)","v":0},{"$f":"SUM(BB52:BB80)","v":0},{"$f":"SUM(BC52:BC80)","v":0},{"$f":"SUM(BD52:BD80)","v":0},{"$f":"SUM(BE52:BE80)","v":0}]
["Díl:","91","Doplňující práce na komunikaci",null,null,null,null,null,null,null,null,null,null,null,1]
[34,"919 90-9002.RRR","Výšková úprava stávajících vrat u vjezdů k RD ","soubor",1,null,{"$f":"E83*F83","v":0},0,{"$f":"E83*H83","v":0},null,{"$f":"E83*J83","v":0},null,null,null,2,null,null,null,null,null,null,null,null,null,null,null,11,3,1,null,null,null,null,null,null,null,null,null,null,null,null,null,null,null,null,null,null,null,null,null,null,1,{"$f":"IF(AZ83=1,G83,0)","v":0},{"$f":"IF(AZ83=2,G83,0)","v":0},{"$f":"IF(AZ83=3,G83,0)","v":0},{"$f":"IF(AZ83=4,G83,0)","v":0},{"$f":"IF(AZ83=5,G83,0)","v":0},null,null,null,null,null,null,null,null,null,null,null,null,null,null,null,null,null,null,null,null,null,11,3]
[35,"919 90-9003.RRR","Výšková úprava stávajících vrátek u RD ","soubor",1,null,{"$f":"E84*F84","v":0},0,{"$f":"E84*H84","v":0},null,{"$f":"E84*J84","v":0},null,null,null,2,null,null,null,null,null,null,null,null,null,null,null,11,3,2,null,null,null,null,null,null,null,null,null,null,null,null,null,null,null,null,null,null,null,null,null,null,1,{"$f":"IF(AZ84=1,G84,0)","v":0},{"$f":"IF(AZ84=2,G84,0)","v":0},{"$f":"IF(AZ84=3,G84,0)","v":0},{"$f":"IF(AZ84=4,G84,0)","v":0},{"$f":"IF(AZ84=5,G84,0)","v":0},null,null,null,null,null,null,null,null,null,null,null,null,null,null,null,null,null,null,null,null,null,11,3]
[36,"916561111RT4","Osazení záhon.obrubníků do lože z C 12/15 s opěrou včetně obrubníku  50/5/25 cm","m",8,null,{"$f":"E85*F85","v":0},0.15223999999999999,{"$f":"E85*H85","v":1.2179199999999999},0,{"$f":"E85*J85","v":0},null,null,null,2,null,null,null,null,null,null,null,null,null,null,null,1,0,0,null,null,null,null,null,null,null,null,null,null,null,null,null,null,null,null,null,null,null,null,null,null,1,{"$f":"IF(AZ85=1,G85,0)","v":0},{"$f":"IF(AZ85=2,G85,0)","v":0},{"$f":"IF(AZ85=3,G85,0)","v":0},{"$f":"IF(AZ85=4,G85,0)","v":0},{"$f":"IF(AZ85=5,G85,0)","v":0},null,null,null,null,null,null,null,null,null,null,null,null,null,null,null,null,null,null,null,null,null,1,0]
[null,null,"Okolo plochy pro popelnice:8,00",null,8,null,null,null,null,null,null,null,"Okolo plochy pro popelnice:8,00"]
[37,"917862114RU2","Osazení stojat. obrub.bet. s opěrou,lože z C 25/30 včetně obrubníku ABO 100/15/25","m",143.41999999999999,null,{"$f":"E87*F87","v":0},0.26980999999999999,{"$f":"E87*H87","v":38.696150199999998},0,{"$f":"E87*J87","v":0},null,null,null,2,null,null,null,null,null,null,null,null,null,null,null,1,1,1,null,null,null,null,null,null,null,null,null,null,null,null,null,null,null,null,null,null,null,null,null,null,1,{"$f":"IF(AZ87=1,G87,0)","v":0},{"$f":"IF(AZ87=2,G87,0)","v":0},{"$f":"IF(AZ87=3,G87,0)","v":0},{"$f":"IF(AZ87=4,G87,0)","v":0},{"$f":"IF(AZ87=5,G87,0)","v":0},null,null,null,null,null,null,null,null,null,null,null,null,null,null,null,null,null,null,null,null,null,1,1]
[null,null,"Obrubník silniční 100/15/25:142,00*1,01",null,143.41999999999999,null,null,null,null,null,null,null,"Obrubník silniční 100/15/25:142,00*1,01"]
[38,"917862114RV3","Osazení stojat. obrub.bet. s opěrou,lože z C 25/30 včetně obrubníku nájezdového 100/15/15","m",55.55,null,{"$f":"E89*F89","v":0},0.26980999999999999,{"$f":"E89*H89","v":14.987945499999999},0,{"$f":"E89*J89","v":0},null,null,null,2,null,null,null,null,null,null,null,null,null,null,null,1,1,1,null,null,null,null,null,null,null,null,null,null,null,null,null,null,null,null,null,null,null,null,null,null,1,{"$f":"IF(AZ89=1,G89,0)","v":0},{"$f":"IF(AZ89=2,G89,0)","v":0},{"$f":"IF(AZ89=3,G89,0)","v":0},{"$f":"IF(AZ89=4,G89,0)","v":0},{"$f":"IF(AZ89=5,G89,0)","v":0},null,null,null,null,null,null,null,null,null,null,null,null,null,null,null,null,null,null,null,null,null,1,1]
[null,null,"Obrubník silniční nájezdový 100/15/15:55,00*1,01",null,55.55,null,null,null,null,null,null,null,"Obrubník silniční nájezdový 100/15/15:55,00*1,01"]
[39,"917862114RV4","Osazení stojat. obrub.bet. s opěrou,lože z C 25/30 včetně obrubníku nájezdového náběh. 100/15/15-25","m",5.05,null,{"$f":"E91*F91","v":0},0.26980999999999999,{"$f":"E91*H91","v":1.3625404999999999},0,{"$f":"E91*J91","v":0},null,null,null,2,null,null,null,null,null,null,null,null,null,null,null,1,1,1,null,null,null,null,null,null,null,null,null,null,null,null,null,null,null,null,null,null,null,null,null,null,1,{"$f":"IF(AZ91=1,G91,0)","v":0},{"$f":"IF(AZ91=2,G91,0)","v":0},{"$f":"IF(AZ91=3,G91,0)","v":0},{"$f":"IF(AZ91=4,G91,0)","v":0},{"$f":"IF(AZ91=5,G91,0)","v":0},null,null,null,null,null,null,null,null,null,null,null,null,null,null,null,null,null,null,null,null,null,1,1]
[null,null,"Obrubník silniční nájezdový  náběhový 100/15/15-25:(2,00+3,00)*1,01",null,5.05,null,null,null,null,null,null,null,"Obrubník silniční nájezdový  náběhový 100/15/15-25:(2,00+3,00)*1,01"]
[40,"919735112R00","Řezání stávajícího živičného krytu tl. 5 - 10 cm ","m",23,null,{"$f":"E93*F93","v":0},0,{"$f":"E93*H93","v":0},0,{"$f":"E93*J93","v":0},null,null,null,2,null,null,null,null,null,null,null,null,null,null,null,1,1,1,null,null,null,null,null,null,null,null,null,null,null,null,null,null,null,null,null,null,null,null,null,null,1,{"$f":"IF(AZ93=1,G93,0)","v":0},{"$f":"IF(AZ93=2,G93,0)","v":0},{"$f":"IF(AZ93=3,G93,0)","v":0},{"$f":"IF(AZ93=4,G93,0)","v":0},{"$f":"IF(AZ93=5,G93,0)","v":0},null,null,null,null,null,null,null,null,null,null,null,null,null,null,null,null,null,null,null,null,null,1,1]
[null,"Celkem za","91 Doplňující práce na komunikaci",null,null,null,{"$f":"SUM(G82:G93)","v":0},null,{"$f":"SUM(I82:I93)","v":56.264556199999994},null,{"$f":"SUM(K82:K93)","v":0},null,null,null,4,null,null,null,null,null,null,null,null,null,null,null,null,null,null,null,null,null,null,null,null,null,null,null,null,null,null,null,null,null,null,null,null,null,null,null,null,null,{"$f":"SUM(BA82:BA93)","v":0},{"$f":"SUM(BB82:BB93)","v":0},{"$f":"SUM(BC82:BC93)","v":0},{"$f":"SUM(BD82:BD93)","v":0},{"$f":"SUM(BE82:BE93)","v":0}]
["Díl:","93","Dokončovací práce inženýrských staveb",null,null,null,null,null,null,null,null,null,null,null,1]
[41,"938908411RRX","Očištění povrchu krytu vodou ","m2",943,null,{"$f":"E96*F96","v":0},1.0000000000000001E-5,{"$f":"E96*H96","v":9.4300000000000009E-3},0,{"$f":"E96*J96","v":0},null,null,null,2,null,null,null,null,null,null,null,null,null,null,null,1,1,1,null,null,null,null,null,null,null,null,null,null,null,null,null,null,null,null,null,null,null,null,null,null,1,{"$f":"IF(AZ96=1,G96,0)","v":0},{"$f":"IF(AZ96=2,G96,0)","v":0},{"$f":"IF(AZ96=3,G96,0)","v":0},{"$f":"IF(AZ96=4,G96,0)","v":0},{"$f":"IF(AZ96=5,G96,0)","v":0},null,null,null,null,null,null,null,null,null,null,null,null,null,null,null,null,null,null,null,null,null,1,1]
[42,"938909111R00","Odstranění nánosu s povrchu podkladu štěrkového ","m2",943,null,{"$f":"E97*F97","v":0},0,{"$f":"E97*H97","v":0},0,{"$f":"E97*J97","v":0},null,null,null,2,null,null,null,null,null,null,null,null,null,null,null,1,1,1,null,null,null,null,null,null,null,null,null,null,null,null,null,null,null,null,null,null,null,null,null,null,1,{"$f":"IF(AZ97=1,G97,0)","v":0},{"$f":"IF(AZ97=2,G97,0)","v":0},{"$f":"IF(AZ97=3,G97,0)","v":0},{"$f":"IF(AZ97=4,G97,0)","v":0},{"$f":"IF(AZ97=5,G97,0)","v":0},null,null,null,null,null,null,null,null,null,null,null,null,null,null,null,null,null,null,null,null,null,1,1]
[43,"938909311R00","Odstranění nánosu z povrchu živičného nebo beton. ","m2",1500,null,{"$f":"E98*F98","v":0},0,{"$f":"E98*H98","v":0},0,{"$f":"E98*J98","v":0},null,null,null,2,null,null,null,null,null,null,null,null,null,null,null,1,1,1,null,null,null,null,null,null,null,null,null,null,null,null,null,null,null,null,null,null,null,null,null,null,1,{"$f":"IF(AZ98=1,G98,0)","v":0},{"$f":"IF(AZ98=2,G98,0)","v":0},{"$f":"IF(AZ98=3,G98,0)","v":0},{"$f":"IF(AZ98=4,G98,0)","v":0},{"$f":"IF(AZ98=5,G98,0)","v":0},null,null,null,null,null,null,null,null,null,null,null,null,null,null,null,null,null,null,null,null,null,1,1]
[null,null,"Z okolních komunikací behem realizace stavby:1500,00",null,1500,null,null,null,null,null,null,null,"Z okolních komunikací behem realizace stavby:1500,00"]
[null,"Celkem za","93 Dokončovací práce inženýrských staveb",null,null,null,{"$f":"SUM(G95:G99)","v":0},null,{"$f":"SUM(I95:I99)","v":9.4300000000000009E-3},null,{"$f":"SUM(K95:K99)","v":0},null,null,null,4,null,null,null,null,null,null,null,null,null,null,null,null,null,null,null,null,null,null,null,null,null,null,null,null,null,null,null,null,null,null,null,null,null,null,null,null,null,{"$f":"SUM(BA95:BA99)","v":0},{"$f":"SUM(BB95:BB99)","v":0},{"$f":"SUM(BC95:BC99)","v":0},{"$f":"SUM(BD95:BD99)","v":0},{"$f":"SUM(BE95:BE99)","v":0}]
["Díl:","97","Prorážení otvorů",null,null,null,null,null,null,null,null,null,null,null,1]
[44,"979054441R00","Očištění vybour. dlaždic s výplní kamen. těženým ","m2",6,null,{"$f":"E102*F102","v":0},0,{"$f":"E102*H102","v":0},0,{"$f":"E102*J102","v":0},null,null,null,2,null,null,null,null,null,null,null,null,null,null,null,1,1,1,null,null,null,null,null,null,null,null,null,null,null,null,null,null,null,null,null,null,null,null,null,null,1,{"$f":"IF(AZ102=1,G102,0)","v":0},{"$f":"IF(AZ102=2,G102,0)","v":0},{"$f":"IF(AZ102=3,G102,0)","v":0},{"$f":"IF(AZ102=4,G102,0)","v":0},{"$f":"IF(AZ102=5,G102,0)","v":0},null,null,null,null,null,null,null,null,null,null,null,null,null,null,null,null,null,null,null,null,null,1,1]
[null,null,"Stávající ploch ze ZD:6,00",null,6,null,null,null,null,null,null,null,"Stávající ploch ze ZD:6,00"]
[null,"Celkem za","97 Prorážení otvorů",null,null,null,{"$f":"SUM(G101:G103)","v":0},null,{"$f":"SUM(I101:I103)","v":0},null,{"$f":"SUM(K101:K103)","v":0},null,null,null,4,null,null,null,null,null,null,null,null,null,null,null,null,null,null,null,null,null,null,null,null,null,null,null,null,null,null,null,null,null,null,null,null,null,null,null,null,null,{"$f":"SUM(BA101:BA103)","v":0},{"$f":"SUM(BB101:BB103)","v":0},{"$f":"SUM(BC101:BC103)","v":0},{"$f":"SUM(BD101:BD103)","v":0},{"$f":"SUM(BE101:BE103)","v":0}]
["Díl:","99","Staveništní přesun hmot",null,null,null,null,null,null,null,null,null,null,null,1]
[45,"998225111R00","Přesun hmot, pozemní komunikace, kryt živičný ","t",1225.5659866999999,null,{"$f":"E106*F106","v":0},0,{"$f":"E106*H106","v":0},null,{"$f":"E106*J106","v":0},null,null,null,2,null,null,null,null,null,null,null,null,null,null,null,7,1,2,null,null,null,null,null,null,null,null,null,null,null,null,null,null,null,null,null,null,null,null,null,null,1,{"$f":"IF(AZ106=1,G106,0)","v":0},{"$f":"IF(AZ106=2,G106,0)","v":0},{"$f":"IF(AZ106=3,G106,0)","v":0},{"$f":"IF(AZ106=4,G106,0)","v":0},{"$f":"IF(AZ106=5,G106,0)","v":0},null,null,null,null,null,null,null,null,null,null,null,null,null,null,null,null,null,null,null,null,null,7,1]
[null,"Celkem za","99 Staveništní přesun hmot",null,null,null,{"$f":"SUM(G105:G106)","v":0},null,{"$f":"SUM(I105:I106)","v":0},null,{"$f":"SUM(K105:K106)","v":0},null,null,null,4,null,null,null,null,null,null,null,null,null,null,null,null,null,null,null,null,null,null,null,null,null,null,null,null,null,null,null,null,null,null,null,null,null,null,null,null,null,{"$f":"SUM(BA105:BA106)","v":0},{"$f":"SUM(BB105:BB106)","v":0},{"$f":"SUM(BC105:BC106)","v":0},{"$f":"SUM(BD105:BD106)","v":0},{"$f":"SUM(BE105:BE106)","v":0}]
["Díl:","M22","Montáž sdělovací a zabezp. techniky",null,null,null,null,null,null,null,null,null,null,null,1]
[46,"M22 05-9001.RRR","Úprava kabelů \"CETIN\" a \"ČEZ\" ","m",50,null,{"$f":"E109*F109","v":0},0,{"$f":"E109*H109","v":0},null,{"$f":"E109*J109","v":0},null,null,null,2,null,null,null,null,null,null,null,null,null,null,null,11,3,3,null,null,null,null,null,null,null,null,null,null,null,null,null,null,null,null,null,null,null,null,null,null,4,{"$f":"IF(AZ109=1,G109,0)","v":0},{"$f":"IF(AZ109=2,G109,0)","v":0},{"$f":"IF(AZ109=3,G109,0)","v":0},{"$f":"IF(AZ109=4,G109,0)","v":0},{"$f":"IF(AZ109=5,G109,0)","v":0},null,null,null,null,null,null,null,null,null,null,null,null,null,null,null,null,null,null,null,null,null,11,3]
[null,null,"Položka obsahuje:",null,null,null,null,null,null,null,null,"Položka obsahuje:",null,null,3]
[null,null,"- ruční výkop sond na kabelovém vedení (5 kusů)",null,null,null,null,null,null,null,null,"- ruční výkop sond na kabelovém vedení (5 kusů)",null,null,3]
[null,null,"-výškové a směrové posunutí kabelů včetně uložení do dělené chráničky, potřebné zemní práce, pískování, položení a dodávku fólie a pod.",null,null,null,null,null,null,null,null,"-výškové a směrové posunutí kabelů včetně uložení do dělené chráničky, potřebné zemní práce, pískování, položení a dodávku fólie a pod.",null,null,3]
[null,null,"- případné geodetické zaměření při stranovém posunutí kabelové trasy.",null,null,null,null,null,null,null,null,"- případné geodetické zaměření při stranovém posunutí kabelové trasy.",null,null,3]
[null,"Celkem za","M22 Montáž sdělovací a zabezp. techniky",null,null,null,{"$f":"SUM(G108:G113)","v":0},null,{"$f":"SUM(I108:I113)","v":0},null,{"$f":"SUM(K108:K113)","v":0},null,null,null,4,null,null,null,null,null,null,null,null,null,null,null,null,null,null,null,null,null,null,null,null,null,null,null,null,null,null,null,null,null,null,null,null,null,null,null,null,null,{"$f":"SUM(BA108:BA113)","v":0},{"$f":"SUM(BB108:BB113)","v":0},{"$f":"SUM(BC108:BC113)","v":0},{"$f":"SUM(BD108:BD113)","v":0},{"$f":"SUM(BE108:BE113)","v":0}]

{"sheet":"1.E 00 1.E 01-104 KL","index":4,"n_rows":45,"n_cols":8,"rows_kept":45,"cut":false,"hidden":false,"merged":[[50,1,50,6],[29,5,29,6],[30,5,30,6],[31,5,31,6],[32,5,32,6],[33,5,33,6],[36,1,44,6],[45,1,45,6],[46,1,46,6],[47,1,47,6],[48,1,48,6],[49,1,49,6],[22,0,22,1],[7,2,7,4],[8,2,8,4],[9,2,9,4],[10,2,10,4],[11,2,11,4]]}
["POLOŽKOVÝ ROZPOČET"]
["Rozpočet",null,"1.E 01-104","Komunikace \"ul. Za Lázněni a spojovací pěšina\"",null,"JKSO ","822.27"]
[]
["Objekt",null,null,null,null,"SKP "]
["1.E 00",null,"Komunikace",null,null,"Měrná jednotka","m2"]
["Stavba",null,null,null,null,"Počet jednotek",0]
["3403",null,"Jilemnice - Optimalizace VS a komunikace I.Etapa",null,null,"Náklady na m.j.",{"$f":"IF(G6=0,,ROUND((F30+F32)/G6,1))","v":0}]
["Projektant",null,"Vodohospodářsko - inženýrské služby spol. s r.o.",null,null,"Typ rozpočtu"]
["Zpracovatel projektu"]
["Objednatel",null,"Vodohospodářské sdružení Turnov"]
["Dodavatel",null,".",null,null,"Zakázkové číslo "]
["Rozpočtoval",null,null,null,null,"Počet listů"]
["ROZPOČTOVÉ NÁKLADY"]
["Základní rozpočtové náklady"]
[null,"HSV celkem",{"$f":"'1.E 00 1.E 01-104 Rek'!E16","v":0}]
["Z","PSV celkem",{"$f":"'1.E 00 1.E 01-104 Rek'!F16","v":0}]
["R","M práce celkem",{"$f":"'1.E 00 1.E 01-104 Rek'!H16","v":0}]
["N","M dodávky celkem",{"$f":"'1.E 00 1.E 01-104 Rek'!G16","v":0}]
["ZRN celkem",null,{"$f":"SUM(C15:C18)","v":0}]
[]
["HZS",null,{"$f":"'1.E 00 1.E 01-104 Rek'!I16","v":0}]
["ZRN+HZS",null,{"$f":"C19+C21","v":0}]
["ZRN+ost.náklady+HZS",null,{"$f":"C22+G23","v":0}]
["Vypracoval",null,null,"Za zhotovitele",null,"Za objednatele"]
["Jméno :",null,null,"Jméno :",null,"Jméno :"]
["Datum :",null,null,"Datum :",null,"Datum :"]
[]
["Podpis :",null,null,"Podpis:",null,"Podpis:"]
[]
["Základ pro DPH",null,21,"%  ",null,{"$f":"C23-F32","v":0}]
["DPH",null,{"$f":"C30","v":21},"% ",null,{"$f":"ROUND(PRODUCT(F30,C31/100),0)","v":0}]
["Základ pro DPH",null,0,"% ",null,0]
["DPH",null,{"$f":"C32","v":0},"% ",null,{"$f":"ROUND(PRODUCT(F32,C33/100),0)","v":0}]
["CENA ZA OBJEKT CELKEM",null,null,null,null,{"$f":"ROUND(SUM(F30:F33),0)","v":0}]
[]
["Poznámka :",null,null,null,null,null,null," "]
[null,null,null,null,null,null,null," "]
[null,null,null,null,null,null,null," "]
[null,null,null,null,null,null,null," "]
[null,null,null,null,null,null,null," "]
[null,null,null,null,null,null,null," "]
[null,null,null,null,null,null,null," "]
[null,null,null,null,null,null,null," "]
[null,null,null,null,null,null,null," "]
[null,null,null,null,null,null,null," "]

{"sheet":"1.E 00 1.E 01-104 Rek","index":5,"n_rows":16,"n_cols":9,"rows_kept":16,"cut":false,"hidden":false,"merged":[[0,0,0,1],[1,0,1,1],[1,6,1,8]]}
["Stavba :",null,"3403 Jilemnice - Optimalizace VS a komunikace",null,null,null,"Rozpočet :","1.E 01-104"]
["Objekt :",null,"1.E 00 Komunikace",null,null,null,"Komunikace \"ul. Za Lázněni a spojovací pěšina\""]
[]
["REKAPITULACE  STAVEBNÍCH  DÍLŮ"]
[]
[null,"Stavební díl",null,null,"HSV","PSV","Dodávka","Montáž","HZS"]
[{"$f":"'1.E 00 1.E 01-104 Pol'!B7","v":"1"},{"$f":"'1.E 00 1.E 01-104 Pol'!C7","v":"Zemní práce"},null,null,{"$f":"'1.E 00 1.E 01-104 Pol'!BA47","v":0},{"$f":"'1.E 00 1.E 01-104 Pol'!BB47","v":0},{"$f":"'1.E 00 1.E 01-104 Pol'!BC47","v":0},{"$f":"'1.E 00 1.E 01-104 Pol'!BD47","v":0},{"$f":"'1.E 00 1.E 01-104 Pol'!BE47","v":0}]
[{"$f":"'1.E 00 1.E 01-104 Pol'!B48","v":"2"},{"$f":"'1.E 00 1.E 01-104 Pol'!C48","v":"Základy a zvláštní zakládání"},null,null,{"$f":"'1.E 00 1.E 01-104 Pol'!BA52","v":0},{"$f":"'1.E 00 1.E 01-104 Pol'!BB52","v":0},{"$f":"'1.E 00 1.E 01-104 Pol'!BC52","v":0},{"$f":"'1.E 00 1.E 01-104 Pol'!BD52","v":0},{"$f":"'1.E 00 1.E 01-104 Pol'!BE52","v":0}]
[{"$f":"'1.E 00 1.E 01-104 Pol'!B53","v":"3"},{"$f":"'1.E 00 1.E 01-104 Pol'!C53","v":"Svislé a kompletní konstrukce"},null,null,{"$f":"'1.E 00 1.E 01-104 Pol'!BA56","v":0},{"$f":"'1.E 00 1.E 01-104 Pol'!BB56","v":0},{"$f":"'1.E 00 1.E 01-104 Pol'!BC56","v":0},{"$f":"'1.E 00 1.E 01-104 Pol'!BD56","v":0},{"$f":"'1.E 00 1.E 01-104 Pol'!BE56","v":0}]
[{"$f":"'1.E 00 1.E 01-104 Pol'!B57","v":"5"},{"$f":"'1.E 00 1.E 01-104 Pol'!C57","v":"Komunikace"},null,null,{"$f":"'1.E 00 1.E 01-104 Pol'!BA103","v":0},{"$f":"'1.E 00 1.E 01-104 Pol'!BB103","v":0},{"$f":"'1.E 00 1.E 01-104 Pol'!BC103","v":0},{"$f":"'1.E 00 1.E 01-104 Pol'!BD103","v":0},{"$f":"'1.E 00 1.E 01-104 Pol'!BE103","v":0}]
[{"$f":"'1.E 00 1.E 01-104 Pol'!B104","v":"91"},{"$f":"'1.E 00 1.E 01-104 Pol'!C104","v":"Doplňující práce na komunikaci"},null,null,{"$f":"'1.E 00 1.E 01-104 Pol'!BA116","v":0},{"$f":"'1.E 00 1.E 01-104 Pol'!BB116","v":0},{"$f":"'1.E 00 1.E 01-104 Pol'!BC116","v":0},{"$f":"'1.E 00 1.E 01-104 Pol'!BD116","v":0},{"$f":"'1.E 00 1.E 01-104 Pol'!BE116","v":0}]
[{"$f":"'1.E 00 1.E 01-104 Pol'!B117","v":"93"},{"$f":"'1.E 00 1.E 01-104 Pol'!C117","v":"Dokončovací práce inženýrských staveb"},null,null,{"$f":"'1.E 00 1.E 01-104 Pol'!BA122","v":0},{"$f":"'1.E 00 1.E 01-104 Pol'!BB122","v":0},{"$f":"'1.E 00 1.E 01-104 Pol'!BC122","v":0},{"$f":"'1.E 00 1.E 01-104 Pol'!BD122","v":0},{"$f":"'1.E 00 1.E 01-104 Pol'!BE122","v":0}]
[{"$f":"'1.E 00 1.E 01-104 Pol'!B123","v":"97"},{"$f":"'1.E 00 1.E 01-104 Pol'!C123","v":"Prorážení otvorů"},null,null,{"$f":"'1.E 00 1.E 01-104 Pol'!BA126","v":0},{"$f":"'1.E 00 1.E 01-104 Pol'!BB126","v":0},{"$f":"'1.E 00 1.E 01-104 Pol'!BC126","v":0},{"$f":"'1.E 00 1.E 01-104 Pol'!BD126","v":0},{"$f":"'1.E 00 1.E 01-104 Pol'!BE126","v":0}]
[{"$f":"'1.E 00 1.E 01-104 Pol'!B127","v":"99"},{"$f":"'1.E 00 1.E 01-104 Pol'!C127","v":"Staveništní přesun hmot"},null,null,{"$f":"'1.E 00 1.E 01-104 Pol'!BA129","v":0},{"$f":"'1.E 00 1.E 01-104 Pol'!BB129","v":0},{"$f":"'1.E 00 1.E 01-104 Pol'!BC129","v":0},{"$f":"'1.E 00 1.E 01-104 Pol'!BD129","v":0},{"$f":"'1.E 00 1.E 01-104 Pol'!BE129","v":0}]
[{"$f":"'1.E 00 1.E 01-104 Pol'!B130","v":"M22"},{"$f":"'1.E 00 1.E 01-104 Pol'!C130","v":"Montáž sdělovací a zabezp. techniky"},null,null,{"$f":"'1.E 00 1.E 01-104 Pol'!BA136","v":0},{"$f":"'1.E 00 1.E 01-104 Pol'!BB136","v":0},{"$f":"'1.E 00 1.E 01-104 Pol'!BC136","v":0},{"$f":"'1.E 00 1.E 01-104 Pol'!BD136","v":0},{"$f":"'1.E 00 1.E 01-104 Pol'!BE136","v":0}]
[null,"CELKEM  OBJEKT",null,null,{"$f":"SUM(E7:E15)","v":0},{"$f":"SUM(F7:F15)","v":0},{"$f":"SUM(G7:G15)","v":0},{"$f":"SUM(H7:H15)","v":0},{"$f":"SUM(I7:I15)","v":0}]

{"sheet":"1.E 00 1.E 01-104 Pol","index":6,"n_rows":136,"n_cols":80,"rows_kept":136,"cut":false,"hidden":false,"merged":[[131,2,131,6],[132,2,132,6],[133,2,133,6],[134,2,134,6],[120,2,120,3],[124,2,124,3],[101,2,101,3],[107,2,107,3],[109,2,109,3],[111,2,111,3],[113,2,113,3],[99,2,99,3],[80,2,80,3],[81,2,81,3],[83,2,83,3],[85,2,85,3],[86,2,86,3],[88,2,88,3],[90,2,90,6],[91,2,91,3],[93,2,93,3],[95,2,95,3],[97,2,97,3],[78,2,78,3],[54,2,54,3],[58,2,58,3],[60,2,60,3],[62,2,62,3],[64,2,64,3],[66,2,66,3],[68,2,68,3],[70,2,70,3],[72,2,72,3],[74,2,74,3],[76,2,76,3],[50,2,50,3],[25,2,25,3],[27,2,27,3],[28,2,28,3],[30,2,30,6],[32,2,32,3],[33,2,33,3],[35,2,35,3],[37,2,37,3],[38,2,38,3],[45,2,45,6],[49,2,49,6],[24,2,24,3],[0,0,0,6],[2,0,2,1],[3,0,3,1],[3,4,3,6],[8,2,8,3],[10,2,10,3],[12,2,12,3],[13,2,13,3],[14,2,14,3],[16,2,16,3],[18,2,18,3],[20,2,20,3],[22,2,22,3]]}
["Položkový rozpočet "]
[]
["Stavba :",null,"3403 Jilemnice - Optimalizace VS a komunikace",null,"Rozpočet:",{"$f":"'1.E 00 1.E 01-104 Rek'!H1","v":"1.E 01-104"}]
["Objekt :",null,"1.E 00 Komunikace",null,{"$f":"'1.E 00 1.E 01-104 Rek'!G2","v":"Komunikace \"ul. Za Lázněni a spojovací pěšina\""}]
[]
["P.č.","Číslo položky","Název položky","MJ","množství","cena / MJ","celkem (Kč)","Jednotková hmotnost","Celková hmotnost","Jednotková dem.hmot.","Celková dem.hmot."]
["Díl:","1","Zemní práce",null,null,null,null,null,null,null,null,null,null,null,1]
[1,"113106121R00","Rozebrání dlažeb z betonových dlaždic na sucho ","m2",671,null,{"$f":"E8*F8","v":0},0,{"$f":"E8*H8","v":0},-0.13800000000000001,{"$f":"E8*J8","v":-92.598000000000013},null,null,null,2,null,null,null,null,null,null,null,null,null,null,null,1,1,1,null,null,null,null,null,null,null,null,null,null,null,null,null,null,null,null,null,null,null,null,null,null,1,{"$f":"IF(AZ8=1,G8,0)","v":0},{"$f":"IF(AZ8=2,G8,0)","v":0},{"$f":"IF(AZ8=3,G8,0)","v":0},{"$f":"IF(AZ8=4,G8,0)","v":0},{"$f":"IF(AZ8=5,G8,0)","v":0},null,null,null,null,null,null,null,null,null,null,null,null,null,null,null,null,null,null,null,null,null,1,1]
[null,null,"Chodníky:610,00*1,1",null,671,null,null,null,null,null,null,null,"Chodníky:610,00*1,1"]
[2,"113106231R00","Rozebrání dlažeb ze zámkové dlažby v kamenivu ","m2",26,null,{"$f":"E10*F10","v":0},0,{"$f":"E10*H10","v":0},-0.22500000000000001,{"$f":"E10*J10","v":-5.8500000000000005},null,null,null,2,null,null,null,null,null,null,null,null,null,null,null,1,1,1,null,null,null,null,null,null,null,null,null,null,null,null,null,null,null,null,null,null,null,null,null,null,1,{"$f":"IF(AZ10=1,G10,0)","v":0},{"$f":"IF(AZ10=2,G10,0)","v":0},{"$f":"IF(AZ10=3,G10,0)","v":0},{"$f":"IF(AZ10=4,G10,0)","v":0},{"$f":"IF(AZ10=5,G10,0)","v":0},null,null,null,null,null,null,null,null,null,null,null,null,null,null,null,null,null,null,null,null,null,1,1]
[null,null,"Stávající ploch ze ZD:26,00",null,26,null,null,null,null,null,null,null,"Stávající ploch ze ZD:26,00"]
[3,"113107630R00","Odstranění podkladu nad 50 m2,kam.drcené tl.30 cm ","m2",2287.3000000000002,null,{"$f":"E12*F12","v":0},0,{"$f":"E12*H12","v":0},-0.66,{"$f":"E12*J12","v":-1509.6180000000002},null,null,null,2,null,null,null,null,null,null,null,null,null,null,null,1,1,1,null,null,null,null,null,null,null,null,null,null,null,null,null,null,null,null,null,null,null,null,null,null,1,{"$f":"IF(AZ12=1,G12,0)","v":0},{"$f":"IF(AZ12=2,G12,0)","v":0},{"$f":"IF(AZ12=3,G12,0)","v":0},{"$f":"IF(AZ12=4,G12,0)","v":0},{"$f":"IF(AZ12=5,G12,0)","v":0},null,null,null,null,null,null,null,null,null,null,null,null,null,null,null,null,null,null,null,null,null,1,1]
[null,null,"Plocha stávající komunikace včetně rýh pro VH sítě:1481,00",null,1481,null,null,null,null,null,null,null,"Plocha stávající komunikace včetně rýh pro VH sítě:1481,00"]
[null,null,"Chodníky:610,00*1,1",null,671,null,null,null,null,null,null,null,"Chodníky:610,00*1,1"]
[null,null,"Betonové plochy:123,00*1,1",null,135.30000000000001,null,null,null,null,null,null,null,"Betonové plochy:123,00*1,1"]
[4,"113108410R00","Odstranění asfaltové vrstvy pl.nad 50 m2, tl.10 cm ","m2",1481,null,{"$f":"E16*F16","v":0},0,{"$f":"E16*H16","v":0},-0.22,{"$f":"E16*J16","v":-325.82},null,null,null,2,null,null,null,null,null,null,null,null,null,null,null,1,1,1,null,null,null,null,null,null,null,null,null,null,null,null,null,null,null,null,null,null,null,null,null,null,1,{"$f":"IF(AZ16=1,G16,0)","v":0},{"$f":"IF(AZ16=2,G16,0)","v":0},{"$f":"IF(AZ16=3,G16,0)","v":0},{"$f":"IF(AZ16=4,G16,0)","v":0},{"$f":"IF(AZ16=5,G16,0)","v":0},null,null,null,null,null,null,null,null,null,null,null,null,null,null,null,null,null,null,null,null,null,1,1]
[null,null,"Plocha stávající komunikace včetně rýh pro VH sítě:1481,00",null,1481,null,null,null,null,null,null,null,"Plocha stávající komunikace včetně rýh pro VH sítě:1481,00"]
[5,"113109410R00","Odstranění podkladu pl.nad 50 m2, beton, tl. 10 cm ","m2",135.30000000000001,null,{"$f":"E18*F18","v":0},0,{"$f":"E18*H18","v":0},-0.24,{"$f":"E18*J18","v":-32.472000000000001},null,null,null,2,null,null,null,null,null,null,null,null,null,null,null,1,1,1,null,null,null,null,null,null,null,null,null,null,null,null,null,null,null,null,null,null,null,null,null,null,1,{"$f":"IF(AZ18=1,G18,0)","v":0},{"$f":"IF(AZ18=2,G18,0)","v":0},{"$f":"IF(AZ18=3,G18,0)","v":0},{"$f":"IF(AZ18=4,G18,0)","v":0},{"$f":"IF(AZ18=5,G18,0)","v":0},null,null,null,null,null,null,null,null,null,null,null,null,null,null,null,null,null,null,null,null,null,1,1]
[null,null,"Betonové plochy:123,00*1,1",null,135.30000000000001,null,null,null,null,null,null,null,"Betonové plochy:123,00*1,1"]
[6,"113151315R00","Fréz.živič.krytu nad 500 m2, s překážkami, tl.6 cm ","m2",1555.05,null,{"$f":"E20*F20","v":0},0,{"$f":"E20*H20","v":0},-0.13200000000000001,{"$f":"E20*J20","v":-205.26660000000001},null,null,null,2,null,null,null,null,null,null,null,null,null,null,null,1,1,1,null,null,null,null,null,null,null,null,null,null,null,null,null,null,null,null,null,null,null,null,null,null,1,{"$f":"IF(AZ20=1,G20,0)","v":0},{"$f":"IF(AZ20=2,G20,0)","v":0},{"$f":"IF(AZ20=3,G20,0)","v":0},{"$f":"IF(AZ20=4,G20,0)","v":0},{"$f":"IF(AZ20=5,G20,0)","v":0},null,null,null,null,null,null,null,null,null,null,null,null,null,null,null,null,null,null,null,null,null,1,1]
[null,null,"Plocha stávající komunikace:1481,00*1,05",null,1555.05,null,null,null,null,null,null,null,"Plocha stávající komunikace:1481,00*1,05"]
[7,"113202111R00","Vytrhání obrub obrubníků silničních ","m",464.1,null,{"$f":"E22*F22","v":0},0,{"$f":"E22*H22","v":0},-0.27,{"$f":"E22*J22","v":-125.30700000000002},null,null,null,2,null,null,null,null,null,null,null,null,null,null,null,1,1,1,null,null,null,null,null,null,null,null,null,null,null,null,null,null,null,null,null,null,null,null,null,null,1,{"$f":"IF(AZ22=1,G22,0)","v":0},{"$f":"IF(AZ22=2,G22,0)","v":0},{"$f":"IF(AZ22=3,G22,0)","v":0},{"$f":"IF(AZ22=4,G22,0)","v":0},{"$f":"IF(AZ22=5,G22,0)","v":0},null,null,null,null,null,null,null,null,null,null,null,null,null,null,null,null,null,null,null,null,null,1,1]
[null,null,"Stávající obrubníky:442,00*1,05",null,464.1,null,null,null,null,null,null,null,"Stávající obrubníky:442,00*1,05"]
[8,"122202202R00","Odkopávky pro silnice v hor. 3 do 1000 m3 ","m3",248,null,{"$f":"E24*F24","v":0},0,{"$f":"E24*H24","v":0},0,{"$f":"E24*J24","v":0},null,null,null,2,null,null,null,null,null,null,null,null,null,null,null,1,1,1,null,null,null,null,null,null,null,null,null,null,null,null,null,null,null,null,null,null,null,null,null,null,1,{"$f":"IF(AZ24=1,G24,0)","v":0},{"$f":"IF(AZ24=2,G24,0)","v":0},{"$f":"IF(AZ24=3,G24,0)","v":0},{"$f":"IF(AZ24=4,G24,0)","v":0},{"$f":"IF(AZ24=5,G24,0)","v":0},null,null,null,null,null,null,null,null,null,null,null,null,null,null,null,null,null,null,null,null,null,1,1]
[null,null,"Odkopávky pro sanace mimo rýh VH sítí:2345,00*0,5*0,2",null,234.5,null,null,null,null,null,null,null,"Odkopávky pro sanace mimo rýh VH sítí:2345,00*0,5*0,2"]
[null,null,"Ostatní odkopávky:90,00*0,15",null,13.5,null,null,null,null,null,null,null,"Ostatní odkopávky:90,00*0,15"]
[9,"122202209R00","Příplatek za lepivost - odkop. pro silnice v hor.3 ","m3",248,null,{"$f":"E27*F27","v":0},0,{"$f":"E27*H27","v":0},0,{"$f":"E27*J27","v":0},null,null,null,2,null,null,null,null,null,null,null,null,null,null,null,1,1,1,null,null,null,null,null,null,null,null,null,null,null,null,null,null,null,null,null,null,null,null,null,null,1,{"$f":"IF(AZ27=1,G27,0)","v":0},{"$f":"IF(AZ27=2,G27,0)","v":0},{"$f":"IF(AZ27=3,G27,0)","v":0},{"$f":"IF(AZ27=4,G27,0)","v":0},{"$f":"IF(AZ27=5,G27,0)","v":0},null,null,null,null,null,null,null,null,null,null,null,null,null,null,null,null,null,null,null,null,null,1,1]
[null,null,"Odkopávky pro sanace mimo rýh VH sítí:2345,00*0,5*0,2",null,234.5,null,null,null,null,null,null,null,"Odkopávky pro sanace mimo rýh VH sítí:2345,00*0,5*0,2"]
[null,null,"Ostatní odkopávky:90,00*0,15",null,13.5,null,null,null,null,null,null,null,"Ostatní odkopávky:90,00*0,15"]
[10,"130901123RT3","Bourání konstrukcí ze železobetonu ve vykopávkách bagrem s kladivem","m3",3,null,{"$f":"E30*F30","v":0},0,{"$f":"E30*H30","v":0},0,{"$f":"E30*J30","v":0},null,null,null,2,null,null,null,null,null,null,null,null,null,null,null,1,1,1,null,null,null,null,null,null,null,null,null,null,null,null,null,null,null,null,null,null,null,null,null,null,1,{"$f":"IF(AZ30=1,G30,0)","v":0},{"$f":"IF(AZ30=2,G30,0)","v":0},{"$f":"IF(AZ30=3,G30,0)","v":0},{"$f":"IF(AZ30=4,G30,0)","v":0},{"$f":"IF(AZ30=5,G30,0)","v":0},null,null,null,null,null,null,null,null,null,null,null,null,null,null,null,null,null,null,null,null,null,1,1]
[null,null,"Položka obsahuje odstranění materiálu obklopujícího betonové a železobetonové konstrukce v míře nutné pro vyzvednutí, rozpojení konstrukcí, uchopení a vyzvednutí konstrukce z výkopu a uložení na dopravní prostředek včetně odvozu na skládku zhotovitele a poplatek za skládku.",null,null,null,null,null,null,null,null,"Položka obsahuje odstranění materiálu obklopujícího betonové a železobetonové konstrukce v míře nutné pro vyzvednutí, rozpojení konstrukcí, uchopení a vyzvednutí konstrukce z výkopu a uložení na dopravní prostředek včetně odvozu na skládku zhotovitele a poplatek za skládku.",null,null,3]
[11,"162701105RSZ","Vodorovné přemístění výkopku z hor.1-4 na skládku zhotovitele","m3",248,null,{"$f":"E32*F32","v":0},0,{"$f":"E32*H32","v":0},0,{"$f":"E32*J32","v":0},null,null,null,2,null,null,null,null,null,null,null,null,null,null,null,1,1,1,null,null,null,null,null,null,null,null,null,null,null,null,null,null,null,null,null,null,null,null,null,null,1,{"$f":"IF(AZ32=1,G32,0)","v":0},{"$f":"IF(AZ32=2,G32,0)","v":0},{"$f":"IF(AZ32=3,G32,0)","v":0},{"$f":"IF(AZ32=4,G32,0)","v":0},{"$f":"IF(AZ32=5,G32,0)","v":0},null,null,null,null,null,null,null,null,null,null,null,null,null,null,null,null,null,null,null,null,null,1,1]
[null,null,"Odkopávky pro sanace mimo rýh VH sítí:2345,00*0,5*0,2",null,234.5,null,null,null,null,null,null,null,"Odkopávky pro sanace mimo rýh VH sítí:2345,00*0,5*0,2"]
[null,null,"Ostatní odkopávky:90,00*0,15",null,13.5,null,null,null,null,null,null,null,"Ostatní odkopávky:90,00*0,15"]
[12,"181101102R00","Úprava pláně v zářezech v hor. 1-4, se zhutněním ","m2",2345.1999999999998,null,{"$f":"E35*F35","v":0},0,{"$f":"E35*H35","v":0},0,{"$f":"E35*J35","v":0},null,null,null,2,null,null,null,null,null,null,null,null,null,null,null,1,1,1,null,null,null,null,null,null,null,null,null,null,null,null,null,null,null,null,null,null,null,null,null,null,1,{"$f":"IF(AZ35=1,G35,0)","v":0},{"$f":"IF(AZ35=2,G35,0)","v":0},{"$f":"IF(AZ35=3,G35,0)","v":0},{"$f":"IF(AZ35=4,G35,0)","v":0},{"$f":"IF(AZ35=5,G35,0)","v":0},null,null,null,null,null,null,null,null,null,null,null,null,null,null,null,null,null,null,null,null,null,1,1]
[null,null,"Plochy komunikací a chodníků:2132,00*1,1",null,2345.1999999999998,null,null,null,null,null,null,null,"Plochy komunikací a chodníků:2132,00*1,1"]
[13,"199000002R00","Poplatek za skládku horniny 1- 4 č. dle katal. odpadů 17 05 04","m3",248,null,{"$f":"E37*F37","v":0},0,{"$f":"E37*H37","v":0},0,{"$f":"E37*J37","v":0},null,null,null,2,null,null,null,null,null,null,null,null,null,null,null,1,1,1,null,null,null,null,null,null,null,null,null,null,null,null,null,null,null,null,null,null,null,null,null,null,1,{"$f":"IF(AZ37=1,G37,0)","v":0},{"$f":"IF(AZ37=2,G37,0)","v":0},{"$f":"IF(AZ37=3,G37,0)","v":0},{"$f":"IF(AZ37=4,G37,0)","v":0},{"$f":"IF(AZ37=5,G37,0)","v":0},null,null,null,null,null,null,null,null,null,null,null,null,null,null,null,null,null,null,null,null,null,1,1]
[null,null,"Odkopávky pro sanace mimo rýh VH sítí:2345,00*0,5*0,2",null,234.5,null,null,null,null,null,null,null,"Odkopávky pro sanace mimo rýh VH sítí:2345,00*0,5*0,2"]
[null,null,"Ostatní odkopávky:90,00*0,15",null,13.5,null,null,null,null,null,null,null,"Ostatní odkopávky:90,00*0,15"]
[14,"979082112RMJ","Vodorovná doprava části štěrku z komunikací na skládku Města Jilemnice do 5 km","t",390.98399999999998,null,{"$f":"E40*F40","v":0},0,{"$f":"E40*H40","v":0},0,{"$f":"E40*J40","v":0},null,null,null,2,null,null,null,null,null,null,null,null,null,null,null,1,1,1,null,null,null,null,null,null,null,null,null,null,null,null,null,null,null,null,null,null,null,null,null,null,1,{"$f":"IF(AZ40=1,G40,0)","v":0},{"$f":"IF(AZ40=2,G40,0)","v":0},{"$f":"IF(AZ40=3,G40,0)","v":0},{"$f":"IF(AZ40=4,G40,0)","v":0},{"$f":"IF(AZ40=5,G40,0)","v":0},null,null,null,null,null,null,null,null,null,null,null,null,null,null,null,null,null,null,null,null,null,1,1]
[15,"979082113RMJ","Vodorovná doprava frézovaného asfaltu na skládku Města Jilemnice do 5 km","t",205.26660000000001,null,0,0,0,0,0,null,null,null,2,null,null,null,null,null,null,null,null,null,null,null,1,1,1,null,null,null,null,null,null,null,null,null,null,null,null,null,null,null,null,null,null,null,null,null,null,1,0,0,0,0,0,null,null,null,null,null,null,null,null,null,null,null,null,null,null,null,null,null,null,null,null,null,1,1]
[16,"979082113RSZ","Vodorovná doprava suti po suchu na skládku zhotovitele","t",1694.8309999999999,null,0,0,0,0,0,null,null,null,2,null,null,null,null,null,null,null,null,null,null,null,1,1,1,null,null,null,null,null,null,null,null,null,null,null,null,null,null,null,null,null,null,null,null,null,null,1,0,0,0,0,0,null,null,null,null,null,null,null,null,null,null,null,null,null,null,null,null,null,null,null,null,null,1,1]
[17,"979089001R00","Poplatek za skládku stavební suti štěrky z komunikací, skupina odpadu 010408","t",1118.634,null,0,0,0,0,0,null,null,null,2,null,null,null,null,null,null,null,null,null,null,null,1,1,1,null,null,null,null,null,null,null,null,null,null,null,null,null,null,null,null,null,null,null,null,null,null,1,0,0,0,0,0,null,null,null,null,null,null,null,null,null,null,null,null,null,null,null,null,null,null,null,null,null,1,1]
[18,"979990103R00","Poplatek za skládku stavební suti beton  skupina odpadu 170101","t",250.37700000000001,null,0,0,0,0,0,null,null,null,2,null,null,null,null,null,null,null,null,null,null,null,1,1,1,null,null,null,null,null,null,null,null,null,null,null,null,null,null,null,null,null,null,null,null,null,null,1,0,0,0,0,0,null,null,null,null,null,null,null,null,null,null,null,null,null,null,null,null,null,null,null,null,null,1,1]
[19,"979999995R00","Poplatek za reciklaci asfaltu, kusovost do 1600cm2 skupina 170302","t",325.82,null,0,0,0,0,0,null,null,null,2,null,null,null,null,null,null,null,null,null,null,null,1,1,1,null,null,null,null,null,null,null,null,null,null,null,null,null,null,null,null,null,null,null,null,null,null,1,0,0,0,0,0,null,null,null,null,null,null,null,null,null,null,null,null,null,null,null,null,null,null,null,null,null,1,1]
[null,null,"Položka je určena pro suť o velikosti kusu do 30x30 cm (technologický materiál určený k recyklaci).",null,null,null,null,null,null,null,null,"Položka je určena pro suť o velikosti kusu do 30x30 cm (technologický materiál určený k recyklaci).",null,null,3]
[null,"Celkem za","1 Zemní práce",null,null,null,{"$f":"SUM(G7:G46)","v":0},null,{"$f":"SUM(I7:I46)","v":0},null,{"$f":"SUM(K7:K46)","v":-2296.9315999999999},null,null,null,4,null,null,null,null,null,null,null,null,null,null,null,null,null,null,null,null,null,null,null,null,null,null,null,null,null,null,null,null,null,null,null,null,null,null,null,null,null,{"$f":"SUM(BA7:BA46)","v":0},{"$f":"SUM(BB7:BB46)","v":0},{"$f":"SUM(BC7:BC46)","v":0},{"$f":"SUM(BD7:BD46)","v":0},{"$f":"SUM(BE7:BE46)","v":0}]
["Díl:","2","Základy a zvláštní zakládání",null,null,null,null,null,null,null,null,null,null,null,1]
[20,"289970111R00","Vrstva geotextilie Geofiltex 300g/m2 ","m2",1777.2,null,{"$f":"E49*F49","v":0},5.0000000000000001E-4,{"$f":"E49*H49","v":0.88860000000000006},0,{"$f":"E49*J49","v":0},null,null,null,2,null,null,null,null,null,null,null,null,null,null,null,1,1,1,null,null,null,null,null,null,null,null,null,null,null,null,null,null,null,null,null,null,null,null,null,null,1,{"$f":"IF(AZ49=1,G49,0)","v":0},{"$f":"IF(AZ49=2,G49,0)","v":0},{"$f":"IF(AZ49=3,G49,0)","v":0},{"$f":"IF(AZ49=4,G49,0)","v":0},{"$f":"IF(AZ49=5,G49,0)","v":0},null,null,null,null,null,null,null,null,null,null,null,null,null,null,null,null,null,null,null,null,null,1,1]
[null,null,"Geotextílie tkaná z polyprop. s funkcí výztužnou, separační a filtrační s min. plošnou hmotností 280 g/m2. Pevnost v obou směrech min. 60kN/m2",null,null,null,null,null,null,null,null,"Geotextílie tkaná z polyprop. s funkcí výztužnou, separační a filtrační s min. plošnou hmotností 280 g/m2. Pevnost v obou směrech min. 60kN/m2",null,null,3]
[null,null,"Celková upravovaná plocha:1481,00*1,2",null,1777.2,null,null,null,null,null,null,null,"Celková upravovaná plocha:1481,00*1,2"]
[null,"Celkem za","2 Základy a zvláštní zakládání",null,null,null,{"$f":"SUM(G48:G51)","v":0},null,{"$f":"SUM(I48:I51)","v":0.88860000000000006},null,{"$f":"SUM(K48:K51)","v":0},null,null,null,4,null,null,null,null,null,null,null,null,null,null,null,null,null,null,null,null,null,null,null,null,null,null,null,null,null,null,null,null,null,null,null,null,null,null,null,null,null,{"$f":"SUM(BA48:BA51)","v":0},{"$f":"SUM(BB48:BB51)","v":0},{"$f":"SUM(BC48:BC51)","v":0},{"$f":"SUM(BD48:BD51)","v":0},{"$f":"SUM(BE48:BE51)","v":0}]
["Díl:","3","Svislé a kompletní konstrukce",null,null,null,null,null,null,null,null,null,null,null,1]
[21,"711482001RZ1","Izolační systém nop.fólií jednoduchý spoj, svisle včetně dodávky fólie a spojovacích prvků","m2",50,null,{"$f":"E54*F54","v":0},8.0999999999999996E-4,{"$f":"E54*H54","v":4.0499999999999994E-2},0,{"$f":"E54*J54","v":0},null,null,null,2,null,null,null,null,null,null,null,null,null,null,null,1,7,7,null,null,null,null,null,null,null,null,null,null,null,null,null,null,null,null,null,null,null,null,null,null,1,{"$f":"IF(AZ54=1,G54,0)","v":0},{"$f":"IF(AZ54=2,G54,0)","v":0},{"$f":"IF(AZ54=3,G54,0)","v":0},{"$f":"IF(AZ54=4,G54,0)","v":0},{"$f":"IF(AZ54=5,G54,0)","v":0},null,null,null,null,null,null,null,null,null,null,null,null,null,null,null,null,null,null,null,null,null,1,7]
[null,null,"Podezdívky (odhad - upřesnění při realizaci stavby):50,00",null,50,null,null,null,null,null,null,null,"Podezdívky (odhad - upřesnění při realizaci stavby):50,00"]
[null,"Celkem za","3 Svislé a kompletní konstrukce",null,null,null,{"$f":"SUM(G53:G55)","v":0},null,{"$f":"SUM(I53:I55)","v":4.0499999999999994E-2},null,{"$f":"SUM(K53:K55)","v":0},null,null,null,4,null,null,null,null,null,null,null,null,null,null,null,null,null,null,null,null,null,null,null,null,null,null,null,null,null,null,null,null,null,null,null,null,null,null,null,null,null,{"$f":"SUM(BA53:BA55)","v":0},{"$f":"SUM(BB53:BB55)","v":0},{"$f":"SUM(BC53:BC55)","v":0},{"$f":"SUM(BD53:BD55)","v":0},{"$f":"SUM(BE53:BE55)","v":0}]
["Díl:","5","Komunikace",null,null,null,null,null,null,null,null,null,null,null,1]
[22,"564761111R00","Podklad z kameniva drceného vel.32-63 mm,tl. 20 cm ","m2",1172.5,null,{"$f":"E58*F58","v":0},0.43,{"$f":"E58*H58","v":504.17500000000001},0,{"$f":"E58*J58","v":0},null,null,null,2,null,null,null,null,null,null,null,null,null,null,null,1,1,1,null,null,null,null,null,null,null,null,null,null,null,null,null,null,null,null,null,null,null,null,null,null,1,{"$f":"IF(AZ58=1,G58,0)","v":0},{"$f":"IF(AZ58=2,G58,0)","v":0},{"$f":"IF(AZ58=3,G58,0)","v":0},{"$f":"IF(AZ58=4,G58,0)","v":0},{"$f":"IF(AZ58=5,G58,0)","v":0},null,null,null,null,null,null,null,null,null,null,null,null,null,null,null,null,null,null,null,null,null,1,1]
[null,null,"Sanační vrstvy mimo konstrukce rýh VH sítí:2345,00*0,5",null,1172.5,null,null,null,null,null,null,null,"Sanační vrstvy mimo konstrukce rýh VH sítí:2345,00*0,5"]
[23,"564851111RT2","Podklad ze štěrkodrti po zhutnění tloušťky 15 cm štěrkodrť frakce 0-32 mm","m2",1629.1,null,{"$f":"E60*F60","v":0},0.378,{"$f":"E60*H60","v":615.7998},0,{"$f":"E60*J60","v":0},null,null,null,2,null,null,null,null,null,null,null,null,null,null,null,1,1,1,null,null,null,null,null,null,null,null,null,null,null,null,null,null,null,null,null,null,null,null,null,null,1,{"$f":"IF(AZ60=1,G60,0)","v":0},{"$f":"IF(AZ60=2,G60,0)","v":0},{"$f":"IF(AZ60=3,G60,0)","v":0},{"$f":"IF(AZ60=4,G60,0)","v":0},{"$f":"IF(AZ60=5,G60,0)","v":0},null,null,null,null,null,null,null,null,null,null,null,null,null,null,null,null,null,null,null,null,null,1,1]
[null,null,"Konstrukce komunikace:1481,00*1,1",null,1629.1,null,null,null,null,null,null,null,"Konstrukce komunikace:1481,00*1,1"]
[24,"564851114RT4","Podklad ze štěrkodrti po zhutnění tloušťky 18 cm štěrkodrť frakce 0-63 mm","m2",1755.6,null,{"$f":"E62*F62","v":0},0.4536,{"$f":"E62*H62","v":796.34015999999997},0,{"$f":"E62*J62","v":0},null,null,null,2,null,null,null,null,null,null,null,null,null,null,null,1,1,1,null,null,null,null,null,null,null,null,null,null,null,null,null,null,null,null,null,null,null,null,null,null,1,{"$f":"IF(AZ62=1,G62,0)","v":0},{"$f":"IF(AZ62=2,G62,0)","v":0},{"$f":"IF(AZ62=3,G62,0)","v":0},{"$f":"IF(AZ62=4,G62,0)","v":0},{"$f":"IF(AZ62=5,G62,0)","v":0},null,null,null,null,null,null,null,null,null,null,null,null,null,null,null,null,null,null,null,null,null,1,1]
[null,null,"Konstrukce komunikace:(1481,00+115,00)*1,1",null,1755.6,null,null,null,null,null,null,null,"Konstrukce komunikace:(1481,00+115,00)*1,1"]
[25,"564871111RT2","Podklad ze štěrkodrti po zhutnění tloušťky 25 cm štěrkodrť frakce 0-32 mm","m2",589.6,null,{"$f":"E64*F64","v":0},0.55125000000000002,{"$f":"E64*H64","v":325.017},0,{"$f":"E64*J64","v":0},null,null,null,2,null,null,null,null,null,null,null,null,null,null,null,1,1,1,null,null,null,null,null,null,null,null,null,null,null,null,null,null,null,null,null,null,null,null,null,null,1,{"$f":"IF(AZ64=1,G64,0)","v":0},{"$f":"IF(AZ64=2,G64,0)","v":0},{"$f":"IF(AZ64=3,G64,0)","v":0},{"$f":"IF(AZ64=4,G64,0)","v":0},{"$f":"IF(AZ64=5,G64,0)","v":0},null,null,null,null,null,null,null,null,null,null,null,null,null,null,null,null,null,null,null,null,null,1,1]
[null,null,"Chodníky:536,00*1,1",null,589.6,null,null,null,null,null,null,null,"Chodníky:536,00*1,1"]
[26,"565310017R00","Podklad z asfalt. recyklátu po zhutnění tl.15 cm ","m2",99,null,{"$f":"E66*F66","v":0},0.25,{"$f":"E66*H66","v":24.75},0,{"$f":"E66*J66","v":0},null,null,null,2,null,null,null,null,null,null,null,null,null,null,null,1,1,1,null,null,null,null,null,null,null,null,null,null,null,null,null,null,null,null,null,null,null,null,null,null,1,{"$f":"IF(AZ66=1,G66,0)","v":0},{"$f":"IF(AZ66=2,G66,0)","v":0},{"$f":"IF(AZ66=3,G66,0)","v":0},{"$f":"IF(AZ66=4,G66,0)","v":0},{"$f":"IF(AZ66=5,G66,0)","v":0},null,null,null,null,null,null,null,null,null,null,null,null,null,null,null,null,null,null,null,null,null,1,1]
[null,null,"Spojovací pěšina :90,00*1,1",null,99,null,null,null,null,null,null,null,"Spojovací pěšina :90,00*1,1"]
[27,"566905111R00","Vyspravení podkladu po překopech podklad.betonem ","m3",2,null,{"$f":"E68*F68","v":0},2.5,{"$f":"E68*H68","v":5},0,{"$f":"E68*J68","v":0},null,null,null,2,null,null,null,null,null,null,null,null,null,null,null,1,1,1,null,null,null,null,null,null,null,null,null,null,null,null,null,null,null,null,null,null,null,null,null,null,1,{"$f":"IF(AZ68=1,G68,0)","v":0},{"$f":"IF(AZ68=2,G68,0)","v":0},{"$f":"IF(AZ68=3,G68,0)","v":0},{"$f":"IF(AZ68=4,G68,0)","v":0},{"$f":"IF(AZ68=5,G68,0)","v":0},null,null,null,null,null,null,null,null,null,null,null,null,null,null,null,null,null,null,null,null,null,1,1]
[null,null,"Drobné dobetonávky u sjezdů a pod.:2,00",null,2,null,null,null,null,null,null,null,"Drobné dobetonávky u sjezdů a pod.:2,00"]
[28,"567122111RRX","Podklad z kameniva zpev.cementem SC C8/10 tl.10 cm ","m2",313.2,null,{"$f":"E70*F70","v":0},0.30651,{"$f":"E70*H70","v":95.998931999999996},0,{"$f":"E70*J70","v":0},null,null,null,2,null,null,null,null,null,null,null,null,null,null,null,1,1,1,null,null,null,null,null,null,null,null,null,null,null,null,null,null,null,null,null,null,null,null,null,null,1,{"$f":"IF(AZ70=1,G70,0)","v":0},{"$f":"IF(AZ70=2,G70,0)","v":0},{"$f":"IF(AZ70=3,G70,0)","v":0},{"$f":"IF(AZ70=4,G70,0)","v":0},{"$f":"IF(AZ70=5,G70,0)","v":0},null,null,null,null,null,null,null,null,null,null,null,null,null,null,null,null,null,null,null,null,null,1,1]
[null,null,"Sjezdy:261,00*1,2",null,313.2,null,null,null,null,null,null,null,"Sjezdy:261,00*1,2"]
[29,"573111124R00","Postřik infiltrační, množství zbytkového asfaltového pojiva 1,00 kg/m2","m2",1555.05,null,{"$f":"E72*F72","v":0},6.0099999999999997E-3,{"$f":"E72*H72","v":9.3458504999999992},0,{"$f":"E72*J72","v":0},null,null,null,2,null,null,null,null,null,null,null,null,null,null,null,1,0,0,null,null,null,null,null,null,null,null,null,null,null,null,null,null,null,null,null,null,null,null,null,null,1,{"$f":"IF(AZ72=1,G72,0)","v":0},{"$f":"IF(AZ72=2,G72,0)","v":0},{"$f":"IF(AZ72=3,G72,0)","v":0},{"$f":"IF(AZ72=4,G72,0)","v":0},{"$f":"IF(AZ72=5,G72,0)","v":0},null,null,null,null,null,null,null,null,null,null,null,null,null,null,null,null,null,null,null,null,null,1,0]
[null,null,"Plocha komunikace:1481,00*1,05",null,1555.05,null,null,null,null,null,null,null,"Plocha komunikace:1481,00*1,05"]
[30,"573231110R00","Postřik spojovací z KAE množství zbytkového asfaltu 0,3 kg/m2","m2",1555.05,null,{"$f":"E74*F74","v":0},5.0000000000000001E-4,{"$f":"E74*H74","v":0.77752500000000002},0,{"$f":"E74*J74","v":0},null,null,null,2,null,null,null,null,null,null,null,null,null,null,null,1,1,1,null,null,null,null,null,null,null,null,null,null,null,null,null,null,null,null,null,null,null,null,null,null,1,{"$f":"IF(AZ74=1,G74,0)","v":0},{"$f":"IF(AZ74=2,G74,0)","v":0},{"$f":"IF(AZ74=3,G74,0)","v":0},{"$f":"IF(AZ74=4,G74,0)","v":0},{"$f":"IF(AZ74=5,G74,0)","v":0},null,null,null,null,null,null,null,null,null,null,null,null,null,null,null,null,null,null,null,null,null,1,1]
[null,null,"Plocha komunikace:1481,00*1,05",null,1555.05,null,null,null,null,null,null,null,"Plocha komunikace:1481,00*1,05"]
[31,"577142112R00","Beton asfaltový  ACO 11+ obrusný nad 3 m, tl.5 cm ","m2",1629.1,null,{"$f":"E76*F76","v":0},0,{"$f":"E76*H76","v":0},0,{"$f":"E76*J76","v":0},null,null,null,2,null,null,null,null,null,null,null,null,null,null,null,1,0,0,null,null,null,null,null,null,null,null,null,null,null,null,null,null,null,null,null,null,null,null,null,null,1,{"$f":"IF(AZ76=1,G76,0)","v":0},{"$f":"IF(AZ76=2,G76,0)","v":0},{"$f":"IF(AZ76=3,G76,0)","v":0},{"$f":"IF(AZ76=4,G76,0)","v":0},{"$f":"IF(AZ76=5,G76,0)","v":0},null,null,null,null,null,null,null,null,null,null,null,null,null,null,null,null,null,null,null,null,null,1,0]
[null,null,"Plocha komunikace:1481,00*1,1",null,1629.1,null,null,null,null,null,null,null,"Plocha komunikace:1481,00*1,1"]
[32,"577162124R00","Beton asfalt. ACL 16+ ložný, š. nad 3 m, tl. 7 cm ","m2",1703.15,null,{"$f":"E78*F78","v":0},0,{"$f":"E78*H78","v":0},0,{"$f":"E78*J78","v":0},null,null,null,2,null,null,null,null,null,null,null,null,null,null,null,1,1,1,null,null,null,null,null,null,null,null,null,null,null,null,null,null,null,null,null,null,null,null,null,null,1,{"$f":"IF(AZ78=1,G78,0)","v":0},{"$f":"IF(AZ78=2,G78,0)","v":0},{"$f":"IF(AZ78=3,G78,0)","v":0},{"$f":"IF(AZ78=4,G78,0)","v":0},{"$f":"IF(AZ78=5,G78,0)","v":0},null,null,null,null,null,null,null,null,null,null,null,null,null,null,null,null,null,null,null,null,null,1,1]
[null,null,"Plocha komunikace:1481,00*1,15",null,1703.15,null,null,null,null,null,null,null,"Plocha komunikace:1481,00*1,15"]
[33,"596215021R00","Kladení zámkové dlažby tl. 6 cm do drtě tl. 4 cm ","m2",314.75,null,{"$f":"E80*F80","v":0},7.3899999999999993E-2,{"$f":"E80*H80","v":23.260024999999999},0,{"$f":"E80*J80","v":0},null,null,null,2,null,null,null,null,null,null,null,null,null,null,null,1,1,1,null,null,null,null,null,null,null,null,null,null,null,null,null,null,null,null,null,null,null,null,null,null,1,{"$f":"IF(AZ80=1,G80,0)","v":0},{"$f":"IF(AZ80=2,G80,0)","v":0},{"$f":"IF(AZ80=3,G80,0)","v":0},{"$f":"IF(AZ80=4,G80,0)","v":0},{"$f":"IF(AZ80=5,G80,0)","v":0},null,null,null,null,null,null,null,null,null,null,null,null,null,null,null,null,null,null,null,null,null,1,1]
[null,null,"Stávající ploch ze ZD:26,00",null,26,null,null,null,null,null,null,null,"Stávající ploch ze ZD:26,00"]
[null,null,"Nové plochy ZD:275,00*1,05",null,288.75,null,null,null,null,null,null,null,"Nové plochy ZD:275,00*1,05"]
[34,"596215040R00","Kladení zámkové dlažby tl. 8 cm do drtě tl. 4 cm ","m2",274.05,null,{"$f":"E83*F83","v":0},7.3899999999999993E-2,{"$f":"E83*H83","v":20.252295},0,{"$f":"E83*J83","v":0},null,null,null,2,null,null,null,null,null,null,null,null,null,null,null,1,1,1,null,null,null,null,null,null,null,null,null,null,null,null,null,null,null,null,null,null,null,null,null,null,1,{"$f":"IF(AZ83=1,G83,0)","v":0},{"$f":"IF(AZ83=2,G83,0)","v":0},{"$f":"IF(AZ83=3,G83,0)","v":0},{"$f":"IF(AZ83=4,G83,0)","v":0},{"$f":"IF(AZ83=5,G83,0)","v":0},null,null,null,null,null,null,null,null,null,null,null,null,null,null,null,null,null,null,null,null,null,1,1]
[null,null,"Vjezdy:261,00*1,05",null,274.05,null,null,null,null,null,null,null,"Vjezdy:261,00*1,05"]
[35,"596291111R00","Řezání zámkové dlažby tl. 60 mm ","m",70.25,null,{"$f":"E85*F85","v":0},3.3E-4,{"$f":"E85*H85","v":2.3182499999999998E-2},0,{"$f":"E85*J85","v":0},null,null,null,2,null,null,null,null,null,null,null,null,null,null,null,1,1,1,null,null,null,null,null,null,null,null,null,null,null,null,null,null,null,null,null,null,null,null,null,null,1,{"$f":"IF(AZ85=1,G85,0)","v":0},{"$f":"IF(AZ85=2,G85,0)","v":0},{"$f":"IF(AZ85=3,G85,0)","v":0},{"$f":"IF(AZ85=4,G85,0)","v":0},{"$f":"IF(AZ85=5,G85,0)","v":0},null,null,null,null,null,null,null,null,null,null,null,null,null,null,null,null,null,null,null,null,null,1,1]
[null,null,"Stávající ploch ze ZD:6,00*0,25",null,1.5,null,null,null,null,null,null,null,"Stávající ploch ze ZD:6,00*0,25"]
[null,null,"Nové plochy ZD:275,00*0,25",null,68.75,null,null,null,null,null,null,null,"Nové plochy ZD:275,00*0,25"]
[36,"596291113R00","Řezání zámkové dlažby tl. 80 mm ","m",65.25,null,{"$f":"E88*F88","v":0},3.6000000000000002E-4,{"$f":"E88*H88","v":2.349E-2},0,{"$f":"E88*J88","v":0},null,null,null,2,null,null,null,null,null,null,null,null,null,null,null,1,1,1,null,null,null,null,null,null,null,null,null,null,null,null,null,null,null,null,null,null,null,null,null,null,1,{"$f":"IF(AZ88=1,G88,0)","v":0},{"$f":"IF(AZ88=2,G88,0)","v":0},{"$f":"IF(AZ88=3,G88,0)","v":0},{"$f":"IF(AZ88=4,G88,0)","v":0},{"$f":"IF(AZ88=5,G88,0)","v":0},null,null,null,null,null,null,null,null,null,null,null,null,null,null,null,null,null,null,null,null,null,1,1]
[null,null,"Vjezdy:261,00*0,25",null,65.25,null,null,null,null,null,null,null,"Vjezdy:261,00*0,25"]
[37,"59245263.R","Dlažba zámková barevná tl. 60 mm skladba dle PD (20/10+20/20+30/20 cm)","m2",287.45639999999997,null,{"$f":"E90*F90","v":0},0.13100000000000001,{"$f":"E90*H90","v":37.656788399999996},null,{"$f":"E90*J90","v":0},null,null,null,2,null,null,null,null,null,null,null,null,null,null,null,3,1,"59245263.R",null,null,null,null,null,null,null,null,null,null,null,null,null,null,null,null,null,null,null,null,null,null,1,{"$f":"IF(AZ90=1,G90,0)","v":0},{"$f":"IF(AZ90=2,G90,0)","v":0},{"$f":"IF(AZ90=3,G90,0)","v":0},{"$f":"IF(AZ90=4,G90,0)","v":0},{"$f":"IF(AZ90=5,G90,0)","v":0},null,null,null,null,null,null,null,null,null,null,null,null,null,null,null,null,null,null,null,null,null,3,1]
[null,null,"Barevná kombinace červená a bílá",null,null,null,null,null,null,null,null,"Barevná kombinace červená a bílá",null,null,3]
[null,null,"Nové plochy ZD:(275,00-3,40-3,20)*1,05*1,02",null,287.45639999999997,null,null,null,null,null,null,null,"Nové plochy ZD:(275,00-3,40-3,20)*1,05*1,02"]
[38,"59245264.R","Dlažba zámková pro nevidomé tl. 60 mm barva černá","m2",3.6414,null,{"$f":"E93*F93","v":0},0.13400000000000001,{"$f":"E93*H93","v":0.48794760000000004},null,{"$f":"E93*J93","v":0},null,null,null,2,null,null,null,null,null,null,null,null,null,null,null,3,1,"59245264.R",null,null,null,null,null,null,null,null,null,null,null,null,null,null,null,null,null,null,null,null,null,null,1,{"$f":"IF(AZ93=1,G93,0)","v":0},{"$f":"IF(AZ93=2,G93,0)","v":0},{"$f":"IF(AZ93=3,G93,0)","v":0},{"$f":"IF(AZ93=4,G93,0)","v":0},{"$f":"IF(AZ93=5,G93,0)","v":0},null,null,null,null,null,null,null,null,null,null,null,null,null,null,null,null,null,null,null,null,null,3,1]
[null,null,"Nové plochy ZD:3,40*1,05*1,02",null,3.6414,null,null,null,null,null,null,null,"Nové plochy ZD:3,40*1,05*1,02"]
[39,"59245265.R","Dlažba zámková pro nevidomé tl. 80 mm barva černá","m2",50.037100000000002,null,{"$f":"E95*F95","v":0},0.17499999999999999,{"$f":"E95*H95","v":8.7564925000000002},null,{"$f":"E95*J95","v":0},null,null,null,2,null,null,null,null,null,null,null,null,null,null,null,3,1,"59245265.R",null,null,null,null,null,null,null,null,null,null,null,null,null,null,null,null,null,null,null,null,null,null,1,{"$f":"IF(AZ95=1,G95,0)","v":0},{"$f":"IF(AZ95=2,G95,0)","v":0},{"$f":"IF(AZ95=3,G95,0)","v":0},{"$f":"IF(AZ95=4,G95,0)","v":0},{"$f":"IF(AZ95=5,G95,0)","v":0},null,null,null,null,null,null,null,null,null,null,null,null,null,null,null,null,null,null,null,null,null,3,1]
[null,null,"Vjezdy:46,72*1,05*1,02",null,50.037100000000002,null,null,null,null,null,null,null,"Vjezdy:46,72*1,05*1,02"]
[40,"59245266.R","Dlažba zámková - rovinný prvek š. 30 cm Dlažba bez fasety šedá - dlažba 20/10/6 cm","m2",3.4272,null,{"$f":"E97*F97","v":0},0.13400000000000001,{"$f":"E97*H97","v":0.45924480000000001},null,{"$f":"E97*J97","v":0},null,null,null,2,null,null,null,null,null,null,null,null,null,null,null,3,1,"59245266.R",null,null,null,null,null,null,null,null,null,null,null,null,null,null,null,null,null,null,null,null,null,null,1,{"$f":"IF(AZ97=1,G97,0)","v":0},{"$f":"IF(AZ97=2,G97,0)","v":0},{"$f":"IF(AZ97=3,G97,0)","v":0},{"$f":"IF(AZ97=4,G97,0)","v":0},{"$f":"IF(AZ97=5,G97,0)","v":0},null,null,null,null,null,null,null,null,null,null,null,null,null,null,null,null,null,null,null,null,null,3,1]
[null,null,"Nové plochy ZD:3,20*1,05*1,02",null,3.4272,null,null,null,null,null,null,null,"Nové plochy ZD:3,20*1,05*1,02"]
[41,"59245267.R","Dlažba zámková - rovinný prvek š. 30 cm Dlažba bez fasety šedá - dlažba 20/10/8 cm","m2",46.1601,null,{"$f":"E99*F99","v":0},0.17499999999999999,{"$f":"E99*H99","v":8.0780174999999996},null,{"$f":"E99*J99","v":0},null,null,null,2,null,null,null,null,null,null,null,null,null,null,null,3,1,"59245267.R",null,null,null,null,null,null,null,null,null,null,null,null,null,null,null,null,null,null,null,null,null,null,1,{"$f":"IF(AZ99=1,G99,0)","v":0},{"$f":"IF(AZ99=2,G99,0)","v":0},{"$f":"IF(AZ99=3,G99,0)","v":0},{"$f":"IF(AZ99=4,G99,0)","v":0},{"$f":"IF(AZ99=5,G99,0)","v":0},null,null,null,null,null,null,null,null,null,null,null,null,null,null,null,null,null,null,null,null,null,3,1]
[null,null,"Vjezdy:43,10*1,05*1,02",null,46.1601,null,null,null,null,null,null,null,"Vjezdy:43,10*1,05*1,02"]
[42,"59245268.R","Dlažba zámková - dlažba 20/10/8 cm přírodní","m2",183.3338,null,{"$f":"E101*F101","v":0},0.17499999999999999,{"$f":"E101*H101","v":32.083414999999995},null,{"$f":"E101*J101","v":0},null,null,null,2,null,null,null,null,null,null,null,null,null,null,null,3,1,"59245268.R",null,null,null,null,null,null,null,null,null,null,null,null,null,null,null,null,null,null,null,null,null,null,1,{"$f":"IF(AZ101=1,G101,0)","v":0},{"$f":"IF(AZ101=2,G101,0)","v":0},{"$f":"IF(AZ101=3,G101,0)","v":0},{"$f":"IF(AZ101=4,G101,0)","v":0},{"$f":"IF(AZ101=5,G101,0)","v":0},null,null,null,null,null,null,null,null,null,null,null,null,null,null,null,null,null,null,null,null,null,3,1]
[null,null,"Vjezdy:(261,00-46,72-43,10)*1,05*1,02",null,183.3338,null,null,null,null,null,null,null,"Vjezdy:(261,00-46,72-43,10)*1,05*1,02"]
[null,"Celkem za","5 Komunikace",null,null,null,{"$f":"SUM(G57:G102)","v":0},null,{"$f":"SUM(I57:I102)","v":2508.2851658},null,{"$f":"SUM(K57:K102)","v":0},null,null,null,4,null,null,null,null,null,null,null,null,null,null,null,null,null,null,null,null,null,null,null,null,null,null,null,null,null,null,null,null,null,null,null,null,null,null,null,null,null,{"$f":"SUM(BA57:BA102)","v":0},{"$f":"SUM(BB57:BB102)","v":0},{"$f":"SUM(BC57:BC102)","v":0},{"$f":"SUM(BD57:BD102)","v":0},{"$f":"SUM(BE57:BE102)","v":0}]
["Díl:","91","Doplňující práce na komunikaci",null,null,null,null,null,null,null,null,null,null,null,1]
[43,"919 90-9002.RRR","Výšková úprava stávajících vrat u vjezdů k RD ","soubor",3,null,{"$f":"E105*F105","v":0},0,{"$f":"E105*H105","v":0},null,{"$f":"E105*J105","v":0},null,null,null,2,null,null,null,null,null,null,null,null,null,null,null,11,3,1,null,null,null,null,null,null,null,null,null,null,null,null,null,null,null,null,null,null,null,null,null,null,1,{"$f":"IF(AZ105=1,G105,0)","v":0},{"$f":"IF(AZ105=2,G105,0)","v":0},{"$f":"IF(AZ105=3,G105,0)","v":0},{"$f":"IF(AZ105=4,G105,0)","v":0},{"$f":"IF(AZ105=5,G105,0)","v":0},null,null,null,null,null,null,null,null,null,null,null,null,null,null,null,null,null,null,null,null,null,11,3]
[44,"919 90-9003.RRR","Výšková úprava stávajících vrátek u RD ","soubor",3,null,{"$f":"E106*F106","v":0},0,{"$f":"E106*H106","v":0},null,{"$f":"E106*J106","v":0},null,null,null,2,null,null,null,null,null,null,null,null,null,null,null,11,3,2,null,null,null,null,null,null,null,null,null,null,null,null,null,null,null,null,null,null,null,null,null,null,1,{"$f":"IF(AZ106=1,G106,0)","v":0},{"$f":"IF(AZ106=2,G106,0)","v":0},{"$f":"IF(AZ106=3,G106,0)","v":0},{"$f":"IF(AZ106=4,G106,0)","v":0},{"$f":"IF(AZ106=5,G106,0)","v":0},null,null,null,null,null,null,null,null,null,null,null,null,null,null,null,null,null,null,null,null,null,11,3]
[45,"916561111RT4","Osazení záhon.obrubníků do lože z C 12/15 s opěrou včetně obrubníku  50/5/25 cm","m",22.05,null,{"$f":"E107*F107","v":0},0.15223999999999999,{"$f":"E107*H107","v":3.3568919999999998},0,{"$f":"E107*J107","v":0},null,null,null,2,null,null,null,null,null,null,null,null,null,null,null,1,0,0,null,null,null,null,null,null,null,null,null,null,null,null,null,null,null,null,null,null,null,null,null,null,1,{"$f":"IF(AZ107=1,G107,0)","v":0},{"$f":"IF(AZ107=2,G107,0)","v":0},{"$f":"IF(AZ107=3,G107,0)","v":0},{"$f":"IF(AZ107=4,G107,0)","v":0},{"$f":"IF(AZ107=5,G107,0)","v":0},null,null,null,null,null,null,null,null,null,null,null,null,null,null,null,null,null,null,null,null,null,1,0]
[null,null,"Ohraničení ploch dle PD:21,00*1,05",null,22.05,null,null,null,null,null,null,null,"Ohraničení ploch dle PD:21,00*1,05"]
[46,"917862114RU2","Osazení stojat. obrub.bet. s opěrou,lože z C 25/30 včetně obrubníku ABO 100/15/25","m",310.8,null,{"$f":"E109*F109","v":0},0.26980999999999999,{"$f":"E109*H109","v":83.856948000000003},0,{"$f":"E109*J109","v":0},null,null,null,2,null,null,null,null,null,null,null,null,null,null,null,1,1,1,null,null,null,null,null,null,null,null,null,null,null,null,null,null,null,null,null,null,null,null,null,null,1,{"$f":"IF(AZ109=1,G109,0)","v":0},{"$f":"IF(AZ109=2,G109,0)","v":0},{"$f":"IF(AZ109=3,G109,0)","v":0},{"$f":"IF(AZ109=4,G109,0)","v":0},{"$f":"IF(AZ109=5,G109,0)","v":0},null,null,null,null,null,null,null,null,null,null,null,null,null,null,null,null,null,null,null,null,null,1,1]
[null,null,"Obrubník silniční 100/15/25:296,00*1,05",null,310.8,null,null,null,null,null,null,null,"Obrubník silniční 100/15/25:296,00*1,05"]
[47,"917862114RV3","Osazení stojat. obrub.bet. s opěrou,lože z C 25/30 včetně obrubníku nájezdového 100/15/15","m",105,null,{"$f":"E111*F111","v":0},0.26980999999999999,{"$f":"E111*H111","v":28.33005},0,{"$f":"E111*J111","v":0},null,null,null,2,null,null,null,null,null,null,null,null,null,null,null,1,1,1,null,null,null,null,null,null,null,null,null,null,null,null,null,null,null,null,null,null,null,null,null,null,1,{"$f":"IF(AZ111=1,G111,0)","v":0},{"$f":"IF(AZ111=2,G111,0)","v":0},{"$f":"IF(AZ111=3,G111,0)","v":0},{"$f":"IF(AZ111=4,G111,0)","v":0},{"$f":"IF(AZ111=5,G111,0)","v":0},null,null,null,null,null,null,null,null,null,null,null,null,null,null,null,null,null,null,null,null,null,1,1]
[null,null,"Obrubník silniční nájezdový 100/15/15:100,00*1,05",null,105,null,null,null,null,null,null,null,"Obrubník silniční nájezdový 100/15/15:100,00*1,05"]
[48,"917862114RV4","Osazení stojat. obrub.bet. s opěrou,lože z C 25/30 včetně obrubníku nájezdového náběh. 100/15/15-25","m",48.3,null,{"$f":"E113*F113","v":0},0.26980999999999999,{"$f":"E113*H113","v":13.031822999999999},0,{"$f":"E113*J113","v":0},null,null,null,2,null,null,null,null,null,null,null,null,null,null,null,1,1,1,null,null,null,null,null,null,null,null,null,null,null,null,null,null,null,null,null,null,null,null,null,null,1,{"$f":"IF(AZ113=1,G113,0)","v":0},{"$f":"IF(AZ113=2,G113,0)","v":0},{"$f":"IF(AZ113=3,G113,0)","v":0},{"$f":"IF(AZ113=4,G113,0)","v":0},{"$f":"IF(AZ113=5,G113,0)","v":0},null,null,null,null,null,null,null,null,null,null,null,null,null,null,null,null,null,null,null,null,null,1,1]
[null,null,"Obrubník silniční nájezdový  náběhový 100/15/15-25:46,00*1,05",null,48.3,null,null,null,null,null,null,null,"Obrubník silniční nájezdový  náběhový 100/15/15-25:46,00*1,05"]
[49,"919735112R00","Řezání stávajícího živičného krytu tl. 5 - 10 cm ","m",42,null,{"$f":"E115*F115","v":0},0,{"$f":"E115*H115","v":0},0,{"$f":"E115*J115","v":0},null,null,null,2,null,null,null,null,null,null,null,null,null,null,null,1,1,1,null,null,null,null,null,null,null,null,null,null,null,null,null,null,null,null,null,null,null,null,null,null,1,{"$f":"IF(AZ115=1,G115,0)","v":0},{"$f":"IF(AZ115=2,G115,0)","v":0},{"$f":"IF(AZ115=3,G115,0)","v":0},{"$f":"IF(AZ115=4,G115,0)","v":0},{"$f":"IF(AZ115=5,G115,0)","v":0},null,null,null,null,null,null,null,null,null,null,null,null,null,null,null,null,null,null,null,null,null,1,1]
[null,"Celkem za","91 Doplňující práce na komunikaci",null,null,null,{"$f":"SUM(G104:G115)","v":0},null,{"$f":"SUM(I104:I115)","v":128.57571300000001},null,{"$f":"SUM(K104:K115)","v":0},null,null,null,4,null,null,null,null,null,null,null,null,null,null,null,null,null,null,null,null,null,null,null,null,null,null,null,null,null,null,null,null,null,null,null,null,null,null,null,null,null,{"$f":"SUM(BA104:BA115)","v":0},{"$f":"SUM(BB104:BB115)","v":0},{"$f":"SUM(BC104:BC115)","v":0},{"$f":"SUM(BD104:BD115)","v":0},{"$f":"SUM(BE104:BE115)","v":0}]
["Díl:","93","Dokončovací práce inženýrských staveb",null,null,null,null,null,null,null,null,null,null,null,1]
[50,"938908411RRX","Očištění povrchu krytu vodou ","m2",1500,null,{"$f":"E118*F118","v":0},1.0000000000000001E-5,{"$f":"E118*H118","v":1.5000000000000001E-2},0,{"$f":"E118*J118","v":0},null,null,null,2,null,null,null,null,null,null,null,null,null,null,null,1,1,1,null,null,null,null,null,null,null,null,null,null,null,null,null,null,null,null,null,null,null,null,null,null,1,{"$f":"IF(AZ118=1,G118,0)","v":0},{"$f":"IF(AZ118=2,G118,0)","v":0},{"$f":"IF(AZ118=3,G118,0)","v":0},{"$f":"IF(AZ118=4,G118,0)","v":0},{"$f":"IF(AZ118=5,G118,0)","v":0},null,null,null,null,null,null,null,null,null,null,null,null,null,null,null,null,null,null,null,null,null,1,1]
[51,"938909111R00","Odstranění nánosu s povrchu podkladu štěrkového ","m2",1500,null,{"$f":"E119*F119","v":0},0,{"$f":"E119*H119","v":0},0,{"$f":"E119*J119","v":0},null,null,null,2,null,null,null,null,null,null,null,null,null,null,null,1,1,1,null,null,null,null,null,null,null,null,null,null,null,null,null,null,null,null,null,null,null,null,null,null,1,{"$f":"IF(AZ119=1,G119,0)","v":0},{"$f":"IF(AZ119=2,G119,0)","v":0},{"$f":"IF(AZ119=3,G119,0)","v":0},{"$f":"IF(AZ119=4,G119,0)","v":0},{"$f":"IF(AZ119=5,G119,0)","v":0},null,null,null,null,null,null,null,null,null,null,null,null,null,null,null,null,null,null,null,null,null,1,1]
[52,"938909311R00","Odstranění nánosu z povrchu živičného nebo beton. ","m2",2500,null,{"$f":"E120*F120","v":0},0,{"$f":"E120*H120","v":0},0,{"$f":"E120*J120","v":0},null,null,null,2,null,null,null,null,null,null,null,null,null,null,null,1,1,1,null,null,null,null,null,null,null,null,null,null,null,null,null,null,null,null,null,null,null,null,null,null,1,{"$f":"IF(AZ120=1,G120,0)","v":0},{"$f":"IF(AZ120=2,G120,0)","v":0},{"$f":"IF(AZ120=3,G120,0)","v":0},{"$f":"IF(AZ120=4,G120,0)","v":0},{"$f":"IF(AZ120=5,G120,0)","v":0},null,null,null,null,null,null,null,null,null,null,null,null,null,null,null,null,null,null,null,null,null,1,1]
[null,null,"Z okolních komunikací behem realizace stavby:2500",null,2500,null,null,null,null,null,null,null,"Z okolních komunikací behem realizace stavby:2500"]
[null,"Celkem za","93 Dokončovací práce inženýrských staveb",null,null,null,{"$f":"SUM(G117:G121)","v":0},null,{"$f":"SUM(I117:I121)","v":1.5000000000000001E-2},null,{"$f":"SUM(K117:K121)","v":0},null,null,null,4,null,null,null,null,null,null,null,null,null,null,null,null,null,null,null,null,null,null,null,null,null,null,null,null,null,null,null,null,null,null,null,null,null,null,null,null,null,{"$f":"SUM(BA117:BA121)","v":0},{"$f":"SUM(BB117:BB121)","v":0},{"$f":"SUM(BC117:BC121)","v":0},{"$f":"SUM(BD117:BD121)","v":0},{"$f":"SUM(BE117:BE121)","v":0}]
["Díl:","97","Prorážení otvorů",null,null,null,null,null,null,null,null,null,null,null,1]
[53,"979054441R00","Očištění vybour. dlaždic s výplní kamen. těženým ","m2",26,null,{"$f":"E124*F124","v":0},0,{"$f":"E124*H124","v":0},0,{"$f":"E124*J124","v":0},null,null,null,2,null,null,null,null,null,null,null,null,null,null,null,1,1,1,null,null,null,null,null,null,null,null,null,null,null,null,null,null,null,null,null,null,null,null,null,null,1,{"$f":"IF(AZ124=1,G124,0)","v":0},{"$f":"IF(AZ124=2,G124,0)","v":0},{"$f":"IF(AZ124=3,G124,0)","v":0},{"$f":"IF(AZ124=4,G124,0)","v":0},{"$f":"IF(AZ124=5,G124,0)","v":0},null,null,null,null,null,null,null,null,null,null,null,null,null,null,null,null,null,null,null,null,null,1,1]
[null,null,"Stávající ploch ze ZD:26,00",null,26,null,null,null,null,null,null,null,"Stávající ploch ze ZD:26,00"]
[null,"Celkem za","97 Prorážení otvorů",null,null,null,{"$f":"SUM(G123:G125)","v":0},null,{"$f":"SUM(I123:I125)","v":0},null,{"$f":"SUM(K123:K125)","v":0},null,null,null,4,null,null,null,null,null,null,null,null,null,null,null,null,null,null,null,null,null,null,null,null,null,null,null,null,null,null,null,null,null,null,null,null,null,null,null,null,null,{"$f":"SUM(BA123:BA125)","v":0},{"$f":"SUM(BB123:BB125)","v":0},{"$f":"SUM(BC123:BC125)","v":0},{"$f":"SUM(BD123:BD125)","v":0},{"$f":"SUM(BE123:BE125)","v":0}]
["Díl:","99","Staveništní přesun hmot",null,null,null,null,null,null,null,null,null,null,null,1]
[54,"998225111R00","Přesun hmot, pozemní komunikace, kryt živičný ","t",2637.8049787999998,null,{"$f":"E128*F128","v":0},0,{"$f":"E128*H128","v":0},null,{"$f":"E128*J128","v":0},null,null,null,2,null,null,null,null,null,null,null,null,null,null,null,7,1,2,null,null,null,null,null,null,null,null,null,null,null,null,null,null,null,null,null,null,null,null,null,null,1,{"$f":"IF(AZ128=1,G128,0)","v":0},{"$f":"IF(AZ128=2,G128,0)","v":0},{"$f":"IF(AZ128=3,G128,0)","v":0},{"$f":"IF(AZ128=4,G128,0)","v":0},{"$f":"IF(AZ128=5,G128,0)","v":0},null,null,null,null,null,null,null,null,null,null,null,null,null,null,null,null,null,null,null,null,null,7,1]
[null,"Celkem za","99 Staveništní přesun hmot",null,null,null,{"$f":"SUM(G127:G128)","v":0},null,{"$f":"SUM(I127:I128)","v":0},null,{"$f":"SUM(K127:K128)","v":0},null,null,null,4,null,null,null,null,null,null,null,null,null,null,null,null,null,null,null,null,null,null,null,null,null,null,null,null,null,null,null,null,null,null,null,null,null,null,null,null,null,{"$f":"SUM(BA127:BA128)","v":0},{"$f":"SUM(BB127:BB128)","v":0},{"$f":"SUM(BC127:BC128)","v":0},{"$f":"SUM(BD127:BD128)","v":0},{"$f":"SUM(BE127:BE128)","v":0}]
["Díl:","M22","Montáž sdělovací a zabezp. techniky",null,null,null,null,null,null,null,null,null,null,null,1]
[55,"M22 05-9001.RRR","Úprava kabelů \"CETIN\" a \"ČEZ\" ","m",100,null,{"$f":"E131*F131","v":0},0,{"$f":"E131*H131","v":0},null,{"$f":"E131*J131","v":0},null,null,null,2,null,null,null,null,null,null,null,null,null,null,null,11,3,3,null,null,null,null,null,null,null,null,null,null,null,null,null,null,null,null,null,null,null,null,null,null,4,{"$f":"IF(AZ131=1,G131,0)","v":0},{"$f":"IF(AZ131=2,G131,0)","v":0},{"$f":"IF(AZ131=3,G131,0)","v":0},{"$f":"IF(AZ131=4,G131,0)","v":0},{"$f":"IF(AZ131=5,G131,0)","v":0},null,null,null,null,null,null,null,null,null,null,null,null,null,null,null,null,null,null,null,null,null,11,3]
[null,null,"Položka obsahuje:",null,null,null,null,null,null,null,null,"Položka obsahuje:",null,null,3]
[null,null,"- ruční výkop sond na kabelovém vedení (5 kusů)",null,null,null,null,null,null,null,null,"- ruční výkop sond na kabelovém vedení (5 kusů)",null,null,3]
[null,null,"-výškové a směrové posunutí kabelů včetně uložení do dělené chráničky, potřebné zemní práce, pískování, položení a dodávku fólie a pod.",null,null,null,null,null,null,null,null,"-výškové a směrové posunutí kabelů včetně uložení do dělené chráničky, potřebné zemní práce, pískování, položení a dodávku fólie a pod.",null,null,3]
[null,null,"- případné geodetické zaměření při stranovém posunutí kabelové trasy.",null,null,null,null,null,null,null,null,"- případné geodetické zaměření při stranovém posunutí kabelové trasy.",null,null,3]
[null,"Celkem za","M22 Montáž sdělovací a zabezp. techniky",null,null,null,{"$f":"SUM(G130:G135)","v":0},null,{"$f":"SUM(I130:I135)","v":0},null,{"$f":"SUM(K130:K135)","v":0},null,null,null,4,null,null,null,null,null,null,null,null,null,null,null,null,null,null,null,null,null,null,null,null,null,null,null,null,null,null,null,null,null,null,null,null,null,null,null,null,null,{"$f":"SUM(BA130:BA135)","v":0},{"$f":"SUM(BB130:BB135)","v":0},{"$f":"SUM(BC130:BC135)","v":0},{"$f":"SUM(BD130:BD135)","v":0},{"$f":"SUM(BE130:BE135)","v":0}]

{"sheet":"1.E 01 1.E 01.1.1 KL","index":7,"n_rows":45,"n_cols":8,"rows_kept":45,"cut":false,"hidden":false,"merged":[[50,1,50,6],[29,5,29,6],[30,5,30,6],[31,5,31,6],[32,5,32,6],[33,5,33,6],[36,1,44,6],[45,1,45,6],[46,1,46,6],[47,1,47,6],[48,1,48,6],[49,1,49,6],[22,0,22,1],[7,2,7,4],[8,2,8,4],[9,2,9,4],[10,2,10,4],[11,2,11,4]]}
["POLOŽKOVÝ ROZPOČET"]
["Rozpočet",null,"1.E 01.1.1","Vodovodní řad \"A8-1\"",null,"JKSO ","827.11"]
[]
["Objekt",null,null,null,null,"SKP "]
["1.E 01",null,"Vodovody",null,null,"Měrná jednotka","m"]
["Stavba",null,null,null,null,"Počet jednotek",0]
["3403",null,"Jilemnice - Optimalizace VS a komunikace I.Etapa",null,null,"Náklady na m.j.",{"$f":"IF(G6=0,,ROUND((F30+F32)/G6,1))","v":0}]
["Projektant",null,"Vodohospodářsko - inženýrské služby spol. s r.o.",null,null,"Typ rozpočtu"]
["Zpracovatel projektu"]
["Objednatel",null,"Vodohospodářské sdružení Turnov"]
["Dodavatel",null,".",null,null,"Zakázkové číslo "]
["Rozpočtoval",null,null,null,null,"Počet listů"]
["ROZPOČTOVÉ NÁKLADY"]
["Základní rozpočtové náklady"]
[null,"HSV celkem",{"$f":"'1.E 01 1.E 01.1.1 Rek'!E14","v":0}]
["Z","PSV celkem",{"$f":"'1.E 01 1.E 01.1.1 Rek'!F14","v":0}]
["R","M práce celkem",{"$f":"'1.E 01 1.E 01.1.1 Rek'!H14","v":0}]
["N","M dodávky celkem",{"$f":"'1.E 01 1.E 01.1.1 Rek'!G14","v":0}]
["ZRN celkem",null,{"$f":"SUM(C15:C18)","v":0}]
[]
["HZS",null,{"$f":"'1.E 01 1.E 01.1.1 Rek'!I14","v":0}]
["ZRN+HZS",null,{"$f":"C19+C21","v":0}]
["ZRN+ost.náklady+HZS",null,{"$f":"C22+G23","v":0}]
["Vypracoval",null,null,"Za zhotovitele",null,"Za objednatele"]
["Jméno :",null,null,"Jméno :",null,"Jméno :"]
["Datum :",null,null,"Datum :",null,"Datum :"]
[]
["Podpis :",null,null,"Podpis:",null,"Podpis:"]
[]
["Základ pro DPH",null,21,"%  ",null,{"$f":"C23-F32","v":0}]
["DPH",null,{"$f":"C30","v":21},"% ",null,{"$f":"ROUND(PRODUCT(F30,C31/100),0)","v":0}]
["Základ pro DPH",null,0,"% ",null,0]
["DPH",null,{"$f":"C32","v":0},"% ",null,{"$f":"ROUND(PRODUCT(F32,C33/100),0)","v":0}]
["CENA ZA OBJEKT CELKEM",null,null,null,null,{"$f":"ROUND(SUM(F30:F33),0)","v":0}]
[]
["Poznámka :",null,null,null,null,null,null," "]
[null,null,null,null,null,null,null," "]
[null,null,null,null,null,null,null," "]
[null,null,null,null,null,null,null," "]
[null,null,null,null,null,null,null," "]
[null,null,null,null,null,null,null," "]
[null,null,null,null,null,null,null," "]
[null,null,null,null,null,null,null," "]
[null,null,null,null,null,null,null," "]
[null,null,null,null,null,null,null," "]

{"sheet":"1.E 01 1.E 01.1.1 Rek","index":8,"n_rows":14,"n_cols":9,"rows_kept":14,"cut":false,"hidden":false,"merged":[[0,0,0,1],[1,0,1,1],[1,6,1,8]]}
["Stavba :",null,"3403 Jilemnice - Optimalizace VS a komunikace",null,null,null,"Rozpočet :","1.E 01.1.1"]
["Objekt :",null,"1.E 01 Vodovody",null,null,null,"Vodovodní řad \"A8-1\""]
[]
["REKAPITULACE  STAVEBNÍCH  DÍLŮ"]
[]
[null,"Stavební díl",null,null,"HSV","PSV","Dodávka","Montáž","HZS"]
[{"$f":"'1.E 01 1.E 01.1.1 Pol'!B7","v":"1"},{"$f":"'1.E 01 1.E 01.1.1 Pol'!C7","v":"Zemní práce"},null,null,{"$f":"'1.E 01 1.E 01.1.1 Pol'!BA91","v":0},{"$f":"'1.E 01 1.E 01.1.1 Pol'!BB91","v":0},{"$f":"'1.E 01 1.E 01.1.1 Pol'!BC91","v":0},{"$f":"'1.E 01 1.E 01.1.1 Pol'!BD91","v":0},{"$f":"'1.E 01 1.E 01.1.1 Pol'!BE91","v":0}]
[{"$f":"'1.E 01 1.E 01.1.1 Pol'!B92","v":"45"},{"$f":"'1.E 01 1.E 01.1.1 Pol'!C92","v":"Podkladní a vedlejší konstrukce"},null,null,{"$f":"'1.E 01 1.E 01.1.1 Pol'!BA96","v":0},{"$f":"'1.E 01 1.E 01.1.1 Pol'!BB96","v":0},{"$f":"'1.E 01 1.E 01.1.1 Pol'!BC96","v":0},{"$f":"'1.E 01 1.E 01.1.1 Pol'!BD96","v":0},{"$f":"'1.E 01 1.E 01.1.1 Pol'!BE96","v":0}]
[{"$f":"'1.E 01 1.E 01.1.1 Pol'!B97","v":"5"},{"$f":"'1.E 01 1.E 01.1.1 Pol'!C97","v":"Komunikace"},null,null,{"$f":"'1.E 01 1.E 01.1.1 Pol'!BA101","v":0},{"$f":"'1.E 01 1.E 01.1.1 Pol'!BB101","v":0},{"$f":"'1.E 01 1.E 01.1.1 Pol'!BC101","v":0},{"$f":"'1.E 01 1.E 01.1.1 Pol'!BD101","v":0},{"$f":"'1.E 01 1.E 01.1.1 Pol'!BE101","v":0}]
[{"$f":"'1.E 01 1.E 01.1.1 Pol'!B102","v":"8"},{"$f":"'1.E 01 1.E 01.1.1 Pol'!C102","v":"Trubní vedení"},null,null,{"$f":"'1.E 01 1.E 01.1.1 Pol'!BA285","v":0},{"$f":"'1.E 01 1.E 01.1.1 Pol'!BB285","v":0},{"$f":"'1.E 01 1.E 01.1.1 Pol'!BC285","v":0},{"$f":"'1.E 01 1.E 01.1.1 Pol'!BD285","v":0},{"$f":"'1.E 01 1.E 01.1.1 Pol'!BE285","v":0}]
[{"$f":"'1.E 01 1.E 01.1.1 Pol'!B286","v":"89"},{"$f":"'1.E 01 1.E 01.1.1 Pol'!C286","v":"Ostatní konstrukce na trubním vedení"},null,null,{"$f":"'1.E 01 1.E 01.1.1 Pol'!BA307","v":0},{"$f":"'1.E 01 1.E 01.1.1 Pol'!BB307","v":0},{"$f":"'1.E 01 1.E 01.1.1 Pol'!BC307","v":0},{"$f":"'1.E 01 1.E 01.1.1 Pol'!BD307","v":0},{"$f":"'1.E 01 1.E 01.1.1 Pol'!BE307","v":0}]
[{"$f":"'1.E 01 1.E 01.1.1 Pol'!B308","v":"93"},{"$f":"'1.E 01 1.E 01.1.1 Pol'!C308","v":"Dokončovací práce inženýrských staveb"},null,null,{"$f":"'1.E 01 1.E 01.1.1 Pol'!BA368","v":0},{"$f":"'1.E 01 1.E 01.1.1 Pol'!BB368","v":0},{"$f":"'1.E 01 1.E 01.1.1 Pol'!BC368","v":0},{"$f":"'1.E 01 1.E 01.1.1 Pol'!BD368","v":0},{"$f":"'1.E 01 1.E 01.1.1 Pol'!BE368","v":0}]
[{"$f":"'1.E 01 1.E 01.1.1 Pol'!B369","v":"99"},{"$f":"'1.E 01 1.E 01.1.1 Pol'!C369","v":"Staveništní přesun hmot"},null,null,{"$f":"'1.E 01 1.E 01.1.1 Pol'!BA372","v":0},{"$f":"'1.E 01 1.E 01.1.1 Pol'!BB372","v":0},{"$f":"'1.E 01 1.E 01.1.1 Pol'!BC372","v":0},{"$f":"'1.E 01 1.E 01.1.1 Pol'!BD372","v":0},{"$f":"'1.E 01 1.E 01.1.1 Pol'!BE372","v":0}]
[null,"CELKEM  OBJEKT",null,null,{"$f":"SUM(E7:E13)","v":0},{"$f":"SUM(F7:F13)","v":0},{"$f":"SUM(G7:G13)","v":0},{"$f":"SUM(H7:H13)","v":0},{"$f":"SUM(I7:I13)","v":0}]

{"sheet":"1.E 01 1.E 01.1.1 Pol","index":9,"n_rows":372,"n_cols":80,"rows_kept":372,"cut":false,"hidden":false,"merged":[[370,2,370,6],[362,2,362,6],[363,2,363,6],[364,2,364,6],[365,2,365,3],[366,2,366,3],[355,2,355,6],[356,2,356,3],[357,2,357,3],[358,2,358,3],[360,2,360,6],[361,2,361,6],[348,2,348,3],[349,2,349,3],[351,2,351,6],[352,2,352,6],[353,2,353,6],[354,2,354,6],[341,2,341,3],[343,2,343,6],[344,2,344,6],[345,2,345,6],[346,2,346,6],[347,2,347,6],[335,2,335,6],[336,2,336,6],[337,2,337,6],[338,2,338,6],[339,2,339,6],[340,2,340,3],[329,2,329,6],[330,2,330,6],[331,2,331,6],[332,2,332,6],[333,2,333,6],[334,2,334,6],[322,2,322,3],[323,2,323,3],[324,2,324,3],[325,2,325,3],[327,2,327,6],[328,2,328,6],[316,2,316,6],[317,2,317,6],[318,2,318,6],[319,2,319,6],[320,2,320,6],[321,2,321,6],[305,2,305,6],[309,2,309,6],[310,2,310,6],[311,2,311,6],[312,2,312,6],[313,2,313,6],[314,2,314,6],[315,2,315,6],[299,2,299,6],[300,2,300,6],[301,2,301,6],[302,2,302,6],[303,2,303,6],[304,2,304,6],[292,2,292,6],[293,2,293,6],[294,2,294,6],[295,2,295,6],[297,2,297,6],[298,2,298,6],[280,2,280,3],[282,2,282,3],[283,2,283,3],[287,2,287,6],[288,2,288,6],[289,2,289,6],[290,2,290,6],[291,2,291,6],[271,2,271,3],[273,2,273,3],[274,2,274,3],[276,2,276,3],[277,2,277,3],[279,2,279,3],[264,2,264,6],[265,2,265,6],[266,2,266,6],[267,2,267,3],[268,2,268,3],[270,2,270,3],[258,2,258,6],[259,2,259,6],[260,2,260,6],[261,2,261,6],[262,2,262,6],[263,2,263,6],[251,2,251,3],[253,2,253,6],[254,2,254,6],[255,2,255,6],[256,2,256,6],[257,2,257,6],[243,2,243,3],[244,2,244,3],[246,2,246,3],[247,2,247,3],[249,2,249,3],[250,2,250,3],[237,2,237,6],[238,2,238,6],[239,2,239,6],[240,2,240,6],[241,2,241,6],[242,2,242,6],[230,2,230,6],[231,2,231,6],[232,2,232,6],[233,2,233,6],[234,2,234,3],[235,2,235,3],[222,2,222,3],[223,2,223,3],[225,2,225,3],[226,2,226,3],[228,2,228,6],[229,2,229,6],[213,2,213,3],[214,2,214,3],[216,2,216,3],[217,2,217,3],[219,2,219,3],[220,2,220,3],[206,2,206,6],[207,2,207,6],[208,2,208,6],[209,2,209,6],[210,2,210,6],[211,2,211,3],[197,2,197,3],[198,2,198,3],[200,2,200,3],[201,2,201,3],[203,2,203,3],[204,2,204,3],[190,2,190,3],[192,2,192,6],[193,2,193,3],[194,2,194,3],[195,2,195,3],[196,2,196,3],[183,2,183,6],[184,2,184,3],[185,2,185,3],[186,2,186,3],[187,2,187,3],[188,2,188,3],[174,2,174,3],[175,2,175,3],[177,2,177,6],[178,2,178,3],[180,2,180,6],[181,2,181,3],[168,2,168,3],[169,2,169,3],[170,2,170,3],[171,2,171,3],[172,2,172,3],[173,2,173,3],[162,2,162,3],[163,2,163,3],[164,2,164,3],[165,2,165,3],[166,2,166,3],[167,2,167,3],[156,2,156,3],[157,2,157,3],[158,2,158,3],[159,2,159,3],[160,2,160,3],[161,2,161,3],[149,2,149,6],[150,2,150,6],[151,2,151,3],[152,2,152,3],[154,2,154,3],[155,2,155,3],[141,2,141,3],[142,2,142,3],[144,2,144,6],[145,2,145,6],[146,2,146,3],[147,2,147,3],[133,2,133,3],[135,2,135,3],[136,2,136,3],[137,2,137,3],[139,2,139,6],[140,2,140,6],[126,2,126,6],[127,2,127,6],[128,2,128,3],[129,2,129,3],[130,2,130,3],[132,2,132,6],[119,2,119,6],[120,2,120,3],[121,2,121,3],[122,2,122,3],[123,2,123,3],[124,2,124,3],[112,2,112,6],[113,2,113,6],[114,2,114,3],[115,2,115,3],[116,2,116,3],[118,2,118,6],[103,2,103,6],[104,2,104,6],[105,2,105,6],[106,2,106,6],[107,2,107,6],[108,2,108,6],[109,2,109,6],[110,2,110,6],[93,2,93,3],[98,2,98,3],[99,2,99,3],[85,2,85,3],[86,2,86,3],[87,2,87,3],[88,2,88,3],[89,2,89,3],[77,2,77,3],[78,2,78,3],[79,2,79,3],[81,2,81,3],[83,2,83,3],[84,2,84,3],[69,2,69,3],[70,2,70,3],[71,2,71,3],[72,2,72,3],[73,2,73,3],[75,2,75,3],[62,2,62,3],[63,2,63,3],[65,2,65,6],[66,2,66,6],[67,2,67,3],[68,2,68,3],[55,2,55,3],[56,2,56,3],[57,2,57,3],[58,2,58,3],[59,2,59,3],[61,2,61,3],[48,2,48,3],[49,2,49,3],[50,2,50,3],[52,2,52,3],[53,2,53,3],[54,2,54,3],[41,2,41,3],[43,2,43,3],[44,2,44,3],[45,2,45,3],[46,2,46,3],[47,2,47,3],[34,2,34,3],[35,2,35,3],[36,2,36,3],[38,2,38,6],[39,2,39,3],[40,2,40,3],[26,2,26,3],[27,2,27,3],[29,2,29,6],[30,2,30,3],[31,2,31,3],[32,2,32,3],[19,2,19,3],[20,2,20,3],[21,2,21,3],[22,2,22,3],[23,2,23,3],[25,2,25,3],[12,2,12,3],[14,2,14,6],[15,2,15,3],[16,2,16,3],[17,2,17,3],[18,2,18,3],[0,0,0,6],[2,0,2,1],[3,0,3,1],[3,4,3,6],[8,2,8,6],[9,2,9,6],[10,2,10,3],[11,2,11,3]]}
["Položkový rozpočet "]
[]
["Stavba :",null,"3403 Jilemnice - Optimalizace VS a komunikace",null,"Rozpočet:",{"$f":"'1.E 01 1.E 01.1.1 Rek'!H1","v":"1.E 01.1.1"}]
["Objekt :",null,"1.E 01 Vodovody",null,{"$f":"'1.E 01 1.E 01.1.1 Rek'!G2","v":"Vodovodní řad \"A8-1\""}]
[]
["P.č.","Číslo položky","Název položky","MJ","množství","cena / MJ","celkem (Kč)","Jednotková hmotnost","Celková hmotnost","Jednotková dem.hmot.","Celková dem.hmot."]
["Díl:","1","Zemní práce",null,null,null,null,null,null,null,null,null,null,null,1]
[1,"130001101RRX","Příplatek za ztížené hloubení v blízkosti vedení ","m3",52.271999999999998,null,{"$f":"E8*F8","v":0},0,{"$f":"E8*H8","v":0},0,{"$f":"E8*J8","v":0},null,null,null,2,null,null,null,null,null,null,null,null,null,null,null,1,1,1,null,null,null,null,null,null,null,null,null,null,null,null,null,null,null,null,null,null,null,null,null,null,1,{"$f":"IF(AZ8=1,G8,0)","v":0},{"$f":"IF(AZ8=2,G8,0)","v":0},{"$f":"IF(AZ8=3,G8,0)","v":0},{"$f":"IF(AZ8=4,G8,0)","v":0},{"$f":"IF(AZ8=5,G8,0)","v":0},null,null,null,null,null,null,null,null,null,null,null,null,null,null,null,null,null,null,null,null,null,1,1]
[null,null,"Včetně případných nutných dokopávem a ručního výkopu podél sousedících inženýrských sítí.",null,null,null,null,null,null,null,null,"Včetně případných nutných dokopávem a ručního výkopu podél sousedících inženýrských sítí.",null,null,3]
[null,null,"Součástí položky je i dočasné zajištění inženýrských sítí v prostoru výkopů (potrubí, kabely a pod.)",null,null,null,null,null,null,null,null,"Součástí položky je i dočasné zajištění inženýrských sítí v prostoru výkopů (potrubí, kabely a pod.)",null,null,3]
[null,null,"Řad \"A8-1\" PE D 110x10,0 mm:",null,0,null,null,null,null,null,null,null,"Řad \"A8-1\" PE D 110x10,0 mm:"]
[null,null,"Výkopy:",null,0,null,null,null,null,null,null,null,"Výkopy:"]
[null,null,"V hornině tř. 3 - 5 - 22%:237,6000*0,22",null,52.271999999999998,null,null,null,null,null,null,null,"V hornině tř. 3 - 5 - 22%:237,6000*0,22"]
[2,"132201212R00","Hloubení rýh š.do 200 cm hor.3 do 1000m3,STROJNĚ ","m3",95.04,null,{"$f":"E14*F14","v":0},0,{"$f":"E14*H14","v":0},0,{"$f":"E14*J14","v":0},null,null,null,2,null,null,null,null,null,null,null,null,null,null,null,1,1,1,null,null,null,null,null,null,null,null,null,null,null,null,null,null,null,null,null,null,null,null,null,null,1,{"$f":"IF(AZ14=1,G14,0)","v":0},{"$f":"IF(AZ14=2,G14,0)","v":0},{"$f":"IF(AZ14=3,G14,0)","v":0},{"$f":"IF(AZ14=4,G14,0)","v":0},{"$f":"IF(AZ14=5,G14,0)","v":0},null,null,null,null,null,null,null,null,null,null,null,null,null,null,null,null,null,null,null,null,null,1,1]
[null,null,"Položka obsahuje hloubení rýh traktorbagrem, naložení výkopku na dopravní prostředek pro svislé, nebo vodorovné přemístění, popř. přemístění výkopku do 3 m (po povrchu území), případné zajištění rypadel polštáři, udržování pracoviště a ochranu výkopiště proti stékání srážkové vody z okolního terénu i s jejím odvodněním, nebo odvedením, přesekání a odstranění kořenů ve výkopišti, odstranění napadávek, urovnání dna výkopu.",null,null,null,null,null,null,null,null,"Položka obsahuje hloubení rýh traktorbagrem, naložení výkopku na dopravní prostředek pro svislé, nebo vodorovné přemístění, popř. přemístění výkopku do 3 m (po povrchu území), případné zajištění rypadel polštáři, udržování pracoviště a ochranu výkopiště proti stékání srážkové vody z okolního terénu i s jejím odvodněním, nebo odvedením, přesekání a odstranění kořenů ve výkopišti, odstranění napadávek, urovnání dna výkopu.",null,null,3]
[null,null,"Řad \"A8-1\" PE D 110x10,0 mm:",null,0,null,null,null,null,null,null,null,"Řad \"A8-1\" PE D 110x10,0 mm:"]
[null,null,"Výkopy:",null,0,null,null,null,null,null,null,null,"Výkopy:"]
[null,null,"Začátek provozního součtu",null,0,null,null,null,null,null,null,null,"Začátek provozního součtu"]
[null,null,"Souběh s kanalizací:",null,0,null,null,null,null,null,null,null,"Souběh s kanalizací:"]
[null,null,"Průměrná hloubka výkopů - 1,75 m:",null,0,null,null,null,null,null,null,null,"Průměrná hloubka výkopů - 1,75 m:"]
[null,null,"Řad \"A8-1\":220,00*0,80*1,75",null,308,null,null,null,null,null,null,null,"Řad \"A8-1\":220,00*0,80*1,75"]
[null,null,"Odpočet objemu konstrukce MK:-220,00*0,80*0,40",null,-70.400000000000006,null,null,null,null,null,null,null,"Odpočet objemu konstrukce MK:-220,00*0,80*0,40"]
[null,null,"Konec provozního součtu",null,237.6,null,null,null,null,null,null,null,"Konec provozního součtu"]
[null,null,"V hornině tř. 3 - 40%:237,6000*0,4",null,95.04,null,null,null,null,null,null,null,"V hornině tř. 3 - 40%:237,6000*0,4"]
[3,"132201219R00","Přípl.za lepivost,hloubení rýh 200cm,hor.3,STROJNĚ ","m3",47.52,null,{"$f":"E25*F25","v":0},0,{"$f":"E25*H25","v":0},0,{"$f":"E25*J25","v":0},null,null,null,2,null,null,null,null,null,null,null,null,null,null,null,1,1,1,null,null,null,null,null,null,null,null,null,null,null,null,null,null,null,null,null,null,null,null,null,null,1,{"$f":"IF(AZ25=1,G25,0)","v":0},{"$f":"IF(AZ25=2,G25,0)","v":0},{"$f":"IF(AZ25=3,G25,0)","v":0},{"$f":"IF(AZ25=4,G25,0)","v":0},{"$f":"IF(AZ25=5,G25,0)","v":0},null,null,null,null,null,null,null,null,null,null,null,null,null,null,null,null,null,null,null,null,null,1,1]
[null,null,"Řad \"A8-1\" PE D 110x10,0 mm:",null,0,null,null,null,null,null,null,null,"Řad \"A8-1\" PE D 110x10,0 mm:"]
[null,null,"Výkopy:",null,0,null,null,null,null,null,null,null,"Výkopy:"]
[null,null,"V hornině tř. 3 - 40%:237,6000*0,4*0,5",null,47.52,null,null,null,null,null,null,null,"V hornině tř. 3 - 40%:237,6000*0,4*0,5"]
[4,"132301212R00","Hloubení rýh š.do 200 cm hor.4 do 1000 m3, STROJNĚ ","m3",118.8,null,{"$f":"E29*F29","v":0},0,{"$f":"E29*H29","v":0},0,{"$f":"E29*J29","v":0},null,null,null,2,null,null,null,null,null,null,null,null,null,null,null,1,1,1,null,null,null,null,null,null,null,null,null,null,null,null,null,null,null,null,null,null,null,null,null,null,1,{"$f":"IF(AZ29=1,G29,0)","v":0},{"$f":"IF(AZ29=2,G29,0)","v":0},{"$f":"IF(AZ29=3,G29,0)","v":0},{"$f":"IF(AZ29=4,G29,0)","v":0},{"$f":"IF(AZ29=5,G29,0)","v":0},null,null,null,null,null,null,null,null,null,null,null,null,null,null,null,null,null,null,null,null,null,1,1]
[null,null,"Položka obsahuje hloubení rýh traktorbagrem, naložení výkopku na dopravní prostředek pro svislé, nebo vodorovné přemístění, popř. přemístění výkopku do 3 m (po povrchu území), případné zajištění rypadel polštáři, udržování pracoviště a ochranu výkopiště proti stékání srážkové vody z okolního terénu i s jejím odvodněním, nebo odvedením, přesekání a odstranění kořenů ve výkopišti, odstranění napadávek, urovnání dna výkopu.",null,null,null,null,null,null,null,null,"Položka obsahuje hloubení rýh traktorbagrem, naložení výkopku na dopravní prostředek pro svislé, nebo vodorovné přemístění, popř. přemístění výkopku do 3 m (po povrchu území), případné zajištění rypadel polštáři, udržování pracoviště a ochranu výkopiště proti stékání srážkové vody z okolního terénu i s jejím odvodněním, nebo odvedením, přesekání a odstranění kořenů ve výkopišti, odstranění napadávek, urovnání dna výkopu.",null,null,3]
[null,null,"Řad \"A8-1\" PE D 110x10,0 mm:",null,0,null,null,null,null,null,null,null,"Řad \"A8-1\" PE D 110x10,0 mm:"]
[null,null,"Výkopy:",null,0,null,null,null,null,null,null,null,"Výkopy:"]
[null,null,"V hornině tř. 4 - 50%:237,6000*0,5",null,118.8,null,null,null,null,null,null,null,"V hornině tř. 4 - 50%:237,6000*0,5"]
[5,"132301219R00","Přípl.za lepivost,hloubení rýh 200cm,hor.4,STROJNĚ ","m3",59.4,null,{"$f":"E34*F34","v":0},0,{"$f":"E34*H34","v":0},0,{"$f":"E34*J34","v":0},null,null,null,2,null,null,null,null,null,null,null,null,null,null,null,1,1,1,null,null,null,null,null,null,null,null,null,null,null,null,null,null,null,null,null,null,null,null,null,null,1,{"$f":"IF(AZ34=1,G34,0)","v":0},{"$f":"IF(AZ34=2,G34,0)","v":0},{"$f":"IF(AZ34=3,G34,0)","v":0},{"$f":"IF(AZ34=4,G34,0)","v":0},{"$f":"IF(AZ34=5,G34,0)","v":0},null,null,null,null,null,null,null,null,null,null,null,null,null,null,null,null,null,null,null,null,null,1,1]
[null,null,"Řad \"A8-1\" PE D 110x10,0 mm:",null,0,null,null,null,null,null,null,null,"Řad \"A8-1\" PE D 110x10,0 mm:"]
[null,null,"Výkopy:",null,0,null,null,null,null,null,null,null,"Výkopy:"]
[null,null,"V hornině tř. 4 - 50%:237,6000*0,5*0,5",null,59.4,null,null,null,null,null,null,null,"V hornině tř. 4 - 50%:237,6000*0,5*0,5"]
[6,"132401211RRX","Hloubení rýh šířky do 200 cm v hor.5 STROJNĚ včetně případného dolamování ve vrstvě do 0,5 m","m3",23.76,null,{"$f":"E38*F38","v":0},1.0410000000000001E-2,{"$f":"E38*H38","v":0.24734160000000005},0,{"$f":"E38*J38","v":0},null,null,null,2,null,null,null,null,null,null,null,null,null,null,null,1,1,1,null,null,null,null,null,null,null,null,null,null,null,null,null,null,null,null,null,null,null,null,null,null,1,{"$f":"IF(AZ38=1,G38,0)","v":0},{"$f":"IF(AZ38=2,G38,0)","v":0},{"$f":"IF(AZ38=3,G38,0)","v":0},{"$f":"IF(AZ38=4,G38,0)","v":0},{"$f":"IF(AZ38=5,G38,0)","v":0},null,null,null,null,null,null,null,null,null,null,null,null,null,null,null,null,null,null,null,null,null,1,1]
[null,null,"Položka obsahuje hloubení rýh traktorbagrem, naložení výkopku na dopravní prostředek pro svislé, nebo vodorovné přemístění, popř. přemístění výkopku do 3 m (po povrchu území), případné zajištění rypadel polštáři, udržování pracoviště a ochranu výkopiště proti stékání srážkové vody z okolního terénu i s jejím odvodněním, nebo odvedením, přesekání a odstranění kořenů ve výkopišti, odstranění napadávek, urovnání dna výkopu.včetně případného dolamování ve vrstvě do 0,5 m",null,null,null,null,null,null,null,null,"Položka obsahuje hloubení rýh traktorbagrem, naložení výkopku na dopravní prostředek pro svislé, nebo vodorovné přemístění, popř. přemístění výkopku do 3 m (po povrchu území), případné zajištění rypadel polštáři, udržování pracoviště a ochranu výkopiště proti stékání srážkové vody z okolního terénu i s jejím odvodněním, nebo odvedením, přesekání a odstranění kořenů ve výkopišti, odstranění napadávek, urovnání dna výkopu.včetně případného dolamování ve vrstvě do 0,5 m",null,null,3]
[null,null,"Řad \"A8-1\" PE D 110x10,0 mm:",null,0,null,null,null,null,null,null,null,"Řad \"A8-1\" PE D 110x10,0 mm:"]
[null,null,"Výkopy:",null,0,null,null,null,null,null,null,null,"Výkopy:"]
[null,null,"V hornině tř. 5 - 10%:237,6000*0,1",null,23.76,null,null,null,null,null,null,null,"V hornině tř. 5 - 10%:237,6000*0,1"]
[7,"151101101R00","Pažení a rozepření stěn rýh - příložné - hl.do 2 m ","m2",385,null,{"$f":"E43*F43","v":0},9.8999999999999999E-4,{"$f":"E43*H43","v":0.38114999999999999},0,{"$f":"E43*J43","v":0},null,null,null,2,null,null,null,null,null,null,null,null,null,null,null,1,1,1,null,null,null,null,null,null,null,null,null,null,null,null,null,null,null,null,null,null,null,null,null,null,1,{"$f":"IF(AZ43=1,G43,0)","v":0},{"$f":"IF(AZ43=2,G43,0)","v":0},{"$f":"IF(AZ43=3,G43,0)","v":0},{"$f":"IF(AZ43=4,G43,0)","v":0},{"$f":"IF(AZ43=5,G43,0)","v":0},null,null,null,null,null,null,null,null,null,null,null,null,null,null,null,null,null,null,null,null,null,1,1]
[null,null,"Řad \"A8-1\" PE D 110x10,0 mm:",null,0,null,null,null,null,null,null,null,"Řad \"A8-1\" PE D 110x10,0 mm:"]
[null,null,"Výkopy:",null,0,null,null,null,null,null,null,null,"Výkopy:"]
[null,null,"Souběh s kanalizací:",null,0,null,null,null,null,null,null,null,"Souběh s kanalizací:"]
[null,null,"Průměrná hloubka výkopů - 1,75 m:",null,0,null,null,null,null,null,null,null,"Průměrná hloubka výkopů - 1,75 m:"]
[null,null,"Řad \"A8-1\" - 50%:220,00*1,75*2*0,5",null,385,null,null,null,null,null,null,null,"Řad \"A8-1\" - 50%:220,00*1,75*2*0,5"]
[null,null,"Začátek provozního součtu",null,0,null,null,null,null,null,null,null,"Začátek provozního součtu"]
[null,null,"0",null,0,null,null,null,null,null,null,null,0]
[null,null,"Konec provozního součtu",null,0,null,null,null,null,null,null,null,"Konec provozního součtu"]
[8,"151101111R00","Odstranění pažení stěn rýh - příložné - hl. do 2 m ","m2",385,null,{"$f":"E52*F52","v":0},0,{"$f":"E52*H52","v":0},0,{"$f":"E52*J52","v":0},null,null,null,2,null,null,null,null,null,null,null,null,null,null,null,1,1,1,null,null,null,null,null,null,null,null,null,null,null,null,null,null,null,null,null,null,null,null,null,null,1,{"$f":"IF(AZ52=1,G52,0)","v":0},{"$f":"IF(AZ52=2,G52,0)","v":0},{"$f":"IF(AZ52=3,G52,0)","v":0},{"$f":"IF(AZ52=4,G52,0)","v":0},{"$f":"IF(AZ52=5,G52,0)","v":0},null,null,null,null,null,null,null,null,null,null,null,null,null,null,null,null,null,null,null,null,null,1,1]
[null,null,"Řad \"A8-1\" PE D 110x10,0 mm:",null,0,null,null,null,null,null,null,null,"Řad \"A8-1\" PE D 110x10,0 mm:"]
[null,null,"Výkopy:",null,0,null,null,null,null,null,null,null,"Výkopy:"]
[null,null,"Souběh s kanalizací:",null,0,null,null,null,null,null,null,null,"Souběh s kanalizací:"]
[null,null,"Průměrná hloubka výkopů - 1,75 m:",null,0,null,null,null,null,null,null,null,"Průměrná hloubka výkopů - 1,75 m:"]
[null,null,"Řad \"A8-1\" - 50%:220,00*1,75*2*0,5",null,385,null,null,null,null,null,null,null,"Řad \"A8-1\" - 50%:220,00*1,75*2*0,5"]
[null,null,"Začátek provozního součtu",null,0,null,null,null,null,null,null,null,"Začátek provozního součtu"]
[null,null,"0",null,0,null,null,null,null,null,null,null,0]
[null,null,"Konec provozního součtu",null,0,null,null,null,null,null,null,null,"Konec provozního součtu"]
[9,"162701105RSZ","Vodorovné přemístění výkopku z hor.1-7 na skládku zhotovitele","m3",237.6,null,{"$f":"E61*F61","v":0},0,{"$f":"E61*H61","v":0},0,{"$f":"E61*J61","v":0},null,null,null,2,null,null,null,null,null,null,null,null,null,null,null,1,1,1,null,null,null,null,null,null,null,null,null,null,null,null,null,null,null,null,null,null,null,null,null,null,1,{"$f":"IF(AZ61=1,G61,0)","v":0},{"$f":"IF(AZ61=2,G61,0)","v":0},{"$f":"IF(AZ61=3,G61,0)","v":0},{"$f":"IF(AZ61=4,G61,0)","v":0},{"$f":"IF(AZ61=5,G61,0)","v":0},null,null,null,null,null,null,null,null,null,null,null,null,null,null,null,null,null,null,null,null,null,1,1]
[null,null,"Řad \"A8-1\" PE D 110x10,0 mm:",null,0,null,null,null,null,null,null,null,"Řad \"A8-1\" PE D 110x10,0 mm:"]
[null,null,"Výkopy:",null,0,null,null,null,null,null,null,null,"Výkopy:"]
[null,null,"V hornině tř. 3 - 5:237,6000",null,237.6,null,null,null,null,null,null,null,"V hornině tř. 3 - 5:237,6000"]
[10,"174101101R00","Zásyp jam, rýh, šachet se zhutněním ","m3",139.04,null,{"$f":"E65*F65","v":0},0,{"$f":"E65*H65","v":0},0,{"$f":"E65*J65","v":0},null,null,null,2,null,null,null,null,null,null,null,null,null,null,null,1,1,1,null,null,null,null,null,null,null,null,null,null,null,null,null,null,null,null,null,null,null,null,null,null,1,{"$f":"IF(AZ65=1,G65,0)","v":0},{"$f":"IF(AZ65=2,G65,0)","v":0},{"$f":"IF(AZ65=3,G65,0)","v":0},{"$f":"IF(AZ65=4,G65,0)","v":0},{"$f":"IF(AZ65=5,G65,0)","v":0},null,null,null,null,null,null,null,null,null,null,null,null,null,null,null,null,null,null,null,null,null,1,1]
[null,null,"Položka obsahuje strojní přemístění materiálu pro zásyp ze vzdálenosti do 10 m od okraje zásypu.",null,null,null,null,null,null,null,null,"Položka obsahuje strojní přemístění materiálu pro zásyp ze vzdálenosti do 10 m od okraje zásypu.",null,null,3]
[null,null,null,null,null,null,null,null,null,null,null,null,null,null,3]
[null,null,"Zásypy ŠD fr. 0,63 mm:139,0400",null,139.04,null,null,null,null,null,null,null,"Zásypy ŠD fr. 0,63 mm:139,0400"]
[null,null,"Začátek provozního součtu",null,0,null,null,null,null,null,null,null,"Začátek provozního součtu"]
[null,null,"Řad \"A8-1\" PE D 110x10,0 mm:",null,0,null,null,null,null,null,null,null,"Řad \"A8-1\" PE D 110x10,0 mm:"]
[null,null,"Výkopy:",null,0,null,null,null,null,null,null,null,"Výkopy:"]
[null,null,"V hornině tř. 3 - 5:237,6000",null,237.6,null,null,null,null,null,null,null,"V hornině tř. 3 - 5:237,6000"]
[null,null,"Odpočet objemu lože, potrubí a obsypů:-220,00*0,80*(0,15+0,11+0,30)",null,-98.56,null,null,null,null,null,null,null,"Odpočet objemu lože, potrubí a obsypů:-220,00*0,80*(0,15+0,11+0,30)"]
[null,null,"Konec provozního součtu",null,139.04,null,null,null,null,null,null,null,"Konec provozního součtu"]
[11,"175101101R00","Obsyp potrubí bez prohození sypaniny ","m3",70.069299999999998,null,{"$f":"E75*F75","v":0},0,{"$f":"E75*H75","v":0},0,{"$f":"E75*J75","v":0},null,null,null,2,null,null,null,null,null,null,null,null,null,null,null,1,1,1,null,null,null,null,null,null,null,null,null,null,null,null,null,null,null,null,null,null,null,null,null,null,1,{"$f":"IF(AZ75=1,G75,0)","v":0},{"$f":"IF(AZ75=2,G75,0)","v":0},{"$f":"IF(AZ75=3,G75,0)","v":0},{"$f":"IF(AZ75=4,G75,0)","v":0},{"$f":"IF(AZ75=5,G75,0)","v":0},null,null,null,null,null,null,null,null,null,null,null,null,null,null,null,null,null,null,null,null,null,1,1]
[null,null,"Řad \"A8-1\" PE D 110x10,0 mm:220,00*(0,80*(0,11+0,30)-0,055^2*Pi)",null,70.069299999999998,null,null,null,null,null,null,null,"Řad \"A8-1\" PE D 110x10,0 mm:220,00*(0,80*(0,11+0,30)-0,055^2*Pi)"]
[12,"199000002R00","Poplatek za skládku horniny 1- 7 č. dle katal. odpadů 17 05 04","m3",237.6,null,{"$f":"E77*F77","v":0},0,{"$f":"E77*H77","v":0},0,{"$f":"E77*J77","v":0},null,null,null,2,null,null,null,null,null,null,null,null,null,null,null,1,1,1,null,null,null,null,null,null,null,null,null,null,null,null,null,null,null,null,null,null,null,null,null,null,1,{"$f":"IF(AZ77=1,G77,0)","v":0},{"$f":"IF(AZ77=2,G77,0)","v":0},{"$f":"IF(AZ77=3,G77,0)","v":0},{"$f":"IF(AZ77=4,G77,0)","v":0},{"$f":"IF(AZ77=5,G77,0)","v":0},null,null,null,null,null,null,null,null,null,null,null,null,null,null,null,null,null,null,null,null,null,1,1]
[null,null,"Řad \"A8-1\" PE D 110x10,0 mm:",null,0,null,null,null,null,null,null,null,"Řad \"A8-1\" PE D 110x10,0 mm:"]
[null,null,"Výkopy:",null,0,null,null,null,null,null,null,null,"Výkopy:"]
[null,null,"V hornině tř. 3 - 5:237,6000",null,237.6,null,null,null,null,null,null,null,"V hornině tř. 3 - 5:237,6000"]
[13,"58337308.R","Štěrkopísek frakce 0-2 tř.B","t",139.62909999999999,null,{"$f":"E81*F81","v":0},1,{"$f":"E81*H81","v":139.62909999999999},null,{"$f":"E81*J81","v":0},null,null,null,2,null,null,null,null,null,null,null,null,null,null,null,3,1,"58337308.R",null,null,null,null,null,null,null,null,null,null,null,null,null,null,null,null,null,null,null,null,null,null,1,{"$f":"IF(AZ81=1,G81,0)","v":0},{"$f":"IF(AZ81=2,G81,0)","v":0},{"$f":"IF(AZ81=3,G81,0)","v":0},{"$f":"IF(AZ81=4,G81,0)","v":0},{"$f":"IF(AZ81=5,G81,0)","v":0},null,null,null,null,null,null,null,null,null,null,null,null,null,null,null,null,null,null,null,null,null,3,1]
[null,null,"Řad \"A8-1\" PE D 110x10,0 mm:220,00*(0,80*(0,11+0,30)-0,055^2*Pi)*1,973*1,01",null,139.62909999999999,null,null,null,null,null,null,null,"Řad \"A8-1\" PE D 110x10,0 mm:220,00*(0,80*(0,11+0,30)-0,055^2*Pi)*1,973*1,01"]
[14,"58344197R","Štěrkodrtě frakce 0-63 A","t",122.59569999999999,null,{"$f":"E83*F83","v":0},1,{"$f":"E83*H83","v":122.59569999999999},null,{"$f":"E83*J83","v":0},null,null,null,2,null,null,null,null,null,null,null,null,null,null,null,3,1,"58344197R",null,null,null,null,null,null,null,null,null,null,null,null,null,null,null,null,null,null,null,null,null,null,1,{"$f":"IF(AZ83=1,G83,0)","v":0},{"$f":"IF(AZ83=2,G83,0)","v":0},{"$f":"IF(AZ83=3,G83,0)","v":0},{"$f":"IF(AZ83=4,G83,0)","v":0},{"$f":"IF(AZ83=5,G83,0)","v":0},null,null,null,null,null,null,null,null,null,null,null,null,null,null,null,null,null,null,null,null,null,3,1]
[null,null,"Zásypy ŠD fr. 0,63 mm:139,0400*0,873*1,01",null,122.59569999999999,null,null,null,null,null,null,null,"Zásypy ŠD fr. 0,63 mm:139,0400*0,873*1,01"]
[null,null,"Začátek provozního součtu",null,0,null,null,null,null,null,null,null,"Začátek provozního součtu"]
[null,null,"Řad \"A8-1\" PE D 110x10,0 mm:",null,0,null,null,null,null,null,null,null,"Řad \"A8-1\" PE D 110x10,0 mm:"]
[null,null,"Výkopy:",null,0,null,null,null,null,null,null,null,"Výkopy:"]
[null,null,"V hornině tř. 3 - 5:237,6000",null,237.6,null,null,null,null,null,null,null,"V hornině tř. 3 - 5:237,6000"]
[null,null,"Odpočet objemu lože, potrubí a obsypů:-220,00*0,80*(0,15+0,11+0,30)",null,-98.56,null,null,null,null,null,null,null,"Odpočet objemu lože, potrubí a obsypů:-220,00*0,80*(0,15+0,11+0,30)"]
[null,null,"Konec provozního součtu",null,139.04,null,null,null,null,null,null,null,"Konec provozního součtu"]
[null,"Celkem za","1 Zemní práce",null,null,null,{"$f":"SUM(G7:G90)","v":0},null,{"$f":"SUM(I7:I90)","v":262.85329159999998},null,{"$f":"SUM(K7:K90)","v":0},null,null,null,4,null,null,null,null,null,null,null,null,null,null,null,null,null,null,null,null,null,null,null,null,null,null,null,null,null,null,null,null,null,null,null,null,null,null,null,null,null,{"$f":"SUM(BA7:BA90)","v":0},{"$f":"SUM(BB7:BB90)","v":0},{"$f":"SUM(BC7:BC90)","v":0},{"$f":"SUM(BD7:BD90)","v":0},{"$f":"SUM(BE7:BE90)","v":0}]
["Díl:","45","Podkladní a vedlejší konstrukce",null,null,null,null,null,null,null,null,null,null,null,1]
[15,"451572111R00","Lože pod potrubí z kameniva těženého 0 - 4 mm ","m3",26.4,null,{"$f":"E93*F93","v":0},0.43051,{"$f":"E93*H93","v":11.365463999999999},0,{"$f":"E93*J93","v":0},null,null,null,2,null,null,null,null,null,null,null,null,null,null,null,1,1,1,null,null,null,null,null,null,null,null,null,null,null,null,null,null,null,null,null,null,null,null,null,null,1,{"$f":"IF(AZ93=1,G93,0)","v":0},{"$f":"IF(AZ93=2,G93,0)","v":0},{"$f":"IF(AZ93=3,G93,0)","v":0},{"$f":"IF(AZ93=4,G93,0)","v":0},{"$f":"IF(AZ93=5,G93,0)","v":0},null,null,null,null,null,null,null,null,null,null,null,null,null,null,null,null,null,null,null,null,null,1,1]
[null,null,"Řad \"A8-1\" PE D 110x10,0 mm:220,00*0,80*0,15",null,26.4,null,null,null,null,null,null,null,"Řad \"A8-1\" PE D 110x10,0 mm:220,00*0,80*0,15"]
[16,"452313141R00","Bloky pro potrubí z betonu C 16/20 vč. bednění ","m3",0.85699999999999998,null,{"$f":"E95*F95","v":0},2.5,{"$f":"E95*H95","v":2.1425000000000001},0,{"$f":"E95*J95","v":0},null,null,null,2,null,null,null,null,null,null,null,null,null,null,null,1,1,1,null,null,null,null,null,null,null,null,null,null,null,null,null,null,null,null,null,null,null,null,null,null,1,{"$f":"IF(AZ95=1,G95,0)","v":0},{"$f":"IF(AZ95=2,G95,0)","v":0},{"$f":"IF(AZ95=3,G95,0)","v":0},{"$f":"IF(AZ95=4,G95,0)","v":0},{"$f":"IF(AZ95=5,G95,0)","v":0},null,null,null,null,null,null,null,null,null,null,null,null,null,null,null,null,null,null,null,null,null,1,1]
[null,"Celkem za","45 Podkladní a vedlejší konstrukce",null,null,null,{"$f":"SUM(G92:G95)","v":0},null,{"$f":"SUM(I92:I95)","v":13.507963999999999},null,{"$f":"SUM(K92:K95)","v":0},null,null,null,4,null,null,null,null,null,null,null,null,null,null,null,null,null,null,null,null,null,null,null,null,null,null,null,null,null,null,null,null,null,null,null,null,null,null,null,null,null,{"$f":"SUM(BA92:BA95)","v":0},{"$f":"SUM(BB92:BB95)","v":0},{"$f":"SUM(BC92:BC95)","v":0},{"$f":"SUM(BD92:BD95)","v":0},{"$f":"SUM(BE92:BE95)","v":0}]
["Díl:","5","Komunikace",null,null,null,null,null,null,null,null,null,null,null,1]
[17,"572701119RRX","Provizorní zásyp rýh kam. hrubě drceným nebo recyk s následným odstraněním a odvozem","m3",70.400000000000006,null,{"$f":"E98*F98","v":0},1.4804999999999999,{"$f":"E98*H98","v":104.2272},0,{"$f":"E98*J98","v":0},null,null,null,2,null,null,null,null,null,null,null,null,null,null,null,1,1,1,null,null,null,null,null,null,null,null,null,null,null,null,null,null,null,null,null,null,null,null,null,null,1,{"$f":"IF(AZ98=1,G98,0)","v":0},{"$f":"IF(AZ98=2,G98,0)","v":0},{"$f":"IF(AZ98=3,G98,0)","v":0},{"$f":"IF(AZ98=4,G98,0)","v":0},{"$f":"IF(AZ98=5,G98,0)","v":0},null,null,null,null,null,null,null,null,null,null,null,null,null,null,null,null,null,null,null,null,null,1,1]
[null,null,"Řad \"A8-1\" PE D 110x10,0 mm:",null,0,null,null,null,null,null,null,null,"Řad \"A8-1\" PE D 110x10,0 mm:"]
[null,null,"Předpokládaný stávající objem konstrukce MK:220,00*0,80*0,40",null,70.400000000000006,null,null,null,null,null,null,null,"Předpokládaný stávající objem konstrukce MK:220,00*0,80*0,40"]
[null,"Celkem za","5 Komunikace",null,null,null,{"$f":"SUM(G97:G100)","v":0},null,{"$f":"SUM(I97:I100)","v":104.2272},null,{"$f":"SUM(K97:K100)","v":0},null,null,null,4,null,null,null,null,null,null,null,null,null,null,null,null,null,null,null,null,null,null,null,null,null,null,null,null,null,null,null,null,null,null,null,null,null,null,null,null,null,{"$f":"SUM(BA97:BA100)","v":0},{"$f":"SUM(BB97:BB100)","v":0},{"$f":"SUM(BC97:BC100)","v":0},{"$f":"SUM(BD97:BD100)","v":0},{"$f":"SUM(BE97:BE100)","v":0}]
["Díl:","8","Trubní vedení",null,null,null,null,null,null,null,null,null,null,null,1]
[18,"850265121R00","Výřez nebo výsek na potrubí litinovém DN 100 ","kus",2,null,{"$f":"E103*F103","v":0},0,{"$f":"E103*H103","v":0},0,{"$f":"E103*J103","v":0},null,null,null,2,null,null,null,null,null,null,null,null,null,null,null,1,1,1,null,null,null,null,null,null,null,null,null,null,null,null,null,null,null,null,null,null,null,null,null,null,1,{"$f":"IF(AZ103=1,G103,0)","v":0},{"$f":"IF(AZ103=2,G103,0)","v":0},{"$f":"IF(AZ103=3,G103,0)","v":0},{"$f":"IF(AZ103=4,G103,0)","v":0},{"$f":"IF(AZ103=5,G103,0)","v":0},null,null,null,null,null,null,null,null,null,null,null,null,null,null,null,null,null,null,null,null,null,1,1]
[null,null,"Položky výřezu nebo výseku na potrubí z trub litinových tlakových jsou určeny pro dva řezy nebo seky prováděné na potrubí dodatečně. V položkách jsou zakalkulovány náklady na",null,null,null,null,null,null,null,null,"Položky výřezu nebo výseku na potrubí z trub litinových tlakových jsou určeny pro dva řezy nebo seky prováděné na potrubí dodatečně. V položkách jsou zakalkulovány náklady na",null,null,3]
[null,null,"- ohlášení uzavírání vody",null,null,null,null,null,null,null,null,"- ohlášení uzavírání vody",null,null,3]
[null,null,"- uzavření a otevření šoupat",null,null,null,null,null,null,null,null,"- uzavření a otevření šoupat",null,null,3]
[null,null,"- vypuštění a napuštění vody",null,null,null,null,null,null,null,null,"- vypuštění a napuštění vody",null,null,3]
[null,null,"- odvzdušnění potrubí",null,null,null,null,null,null,null,null,"- odvzdušnění potrubí",null,null,3]
[null,null,"- strojní nebo ruční výřez potrubí",null,null,null,null,null,null,null,null,"- strojní nebo ruční výřez potrubí",null,null,3]
[null,null,"- nutné úpravy výkopu v prostoru provádění",null,null,null,null,null,null,null,null,"- nutné úpravy výkopu v prostoru provádění",null,null,3]
[null,null,"- montáž tvarovek",null,null,null,null,null,null,null,null,"- montáž tvarovek",null,null,3]
[19,"857242121R00","Montáž tvarovek litin. jednoos.přír. výkop DN 80 včetně nerezových spoj. prvků a obandážování spoje","kus",3,null,{"$f":"E112*F112","v":0},2.2000000000000001E-4,{"$f":"E112*H112","v":6.6E-4},0,{"$f":"E112*J112","v":0},null,null,null,2,null,null,null,null,null,null,null,null,null,null,null,1,1,1,null,null,null,null,null,null,null,null,null,null,null,null,null,null,null,null,null,null,null,null,null,null,1,{"$f":"IF(AZ112=1,G112,0)","v":0},{"$f":"IF(AZ112=2,G112,0)","v":0},{"$f":"IF(AZ112=3,G112,0)","v":0},{"$f":"IF(AZ112=4,G112,0)","v":0},{"$f":"IF(AZ112=5,G112,0)","v":0},null,null,null,null,null,null,null,null,null,null,null,null,null,null,null,null,null,null,null,null,null,1,1]
[null,null,"Položka je určena pro montáž litinových tvarovek na potrubí litinovém tlakovém přírubovém jednoosých v otevřeném výkopu, v otevřeném kanálu nebo v šachtě.",null,null,null,null,null,null,null,null,"Položka je určena pro montáž litinových tvarovek na potrubí litinovém tlakovém přírubovém jednoosých v otevřeném výkopu, v otevřeném kanálu nebo v šachtě.",null,null,3]
[null,null,"Součástí položky je i dodávka nerezových spojovacích prvků (šrouby, podložky, matky) a kompletního obandážování spojů. ",null,null,null,null,null,null,null,null,"Součástí položky je i dodávka nerezových spojovacích prvků (šrouby, podložky, matky) a kompletního obandážování spojů. ",null,null,3]
[null,null,"Řad \"A8-1\" PE D 110x10,0 mm:",null,0,null,null,null,null,null,null,null,"Řad \"A8-1\" PE D 110x10,0 mm:"]
[null,null,"FFK DN80/45°:1",null,1,null,null,null,null,null,null,null,"FFK DN80/45°:1"]
[null,null,"PPL DN80:2",null,2,null,null,null,null,null,null,null,"PPL DN80:2"]
[20,"857262121R00","Montáž tvarovek litin. jednoos. přír. výkop DN 100 včetně nerezových spoj. prvků a obandážování spoje","kus",8,null,{"$f":"E118*F118","v":0},4.0999999999999999E-4,{"$f":"E118*H118","v":3.2799999999999999E-3},0,{"$f":"E118*J118","v":0},null,null,null,2,null,null,null,null,null,null,null,null,null,null,null,1,0,0,null,null,null,null,null,null,null,null,null,null,null,null,null,null,null,null,null,null,null,null,null,null,1,{"$f":"IF(AZ118=1,G118,0)","v":0},{"$f":"IF(AZ118=2,G118,0)","v":0},{"$f":"IF(AZ118=3,G118,0)","v":0},{"$f":"IF(AZ118=4,G118,0)","v":0},{"$f":"IF(AZ118=5,G118,0)","v":0},null,null,null,null,null,null,null,null,null,null,null,null,null,null,null,null,null,null,null,null,null,1,0]
[null,null,"Položka je určena pro montáž litinových tvarovek na potrubí litinovém tlakovém přírubovém jednoosých v otevřeném výkopu, v otevřeném kanálu nebo v šachtě.",null,null,null,null,null,null,null,null,"Položka je určena pro montáž litinových tvarovek na potrubí litinovém tlakovém přírubovém jednoosých v otevřeném výkopu, v otevřeném kanálu nebo v šachtě.",null,null,3]
[null,null,"Součástí položky je i dodávka nerezových spojovacích prvků (šrouby, podložky, matky) a kompletního obandážování spojů. ",null,null,null,null,null,null,null,null,"Součástí položky je i dodávka nerezových spojovacích prvků (šrouby, podložky, matky) a kompletního obandážování spojů. ",null,null,3]
[null,null,"Řad \"A8-1\" PE D 110x10,0 mm:",null,0,null,null,null,null,null,null,null,"Řad \"A8-1\" PE D 110x10,0 mm:"]
[null,null,"Synoflex s přírubou DN100:1",null,1,null,null,null,null,null,null,null,"Synoflex s přírubou DN100:1"]
[null,null,"LN+TP D110/DN100:2",null,2,null,null,null,null,null,null,null,"LN+TP D110/DN100:2"]
[null,null,"Příruba S2000 č. 0400 110/100:4",null,4,null,null,null,null,null,null,null,"Příruba S2000 č. 0400 110/100:4"]
[null,null,"Q DN100:1",null,1,null,null,null,null,null,null,null,"Q DN100:1"]
[21,"857264121R00","Montáž tvarovek litin. odboč. přír. výkop DN 100 včetně nerezových spoj. prvků a obandážování spoje","kus",3,null,{"$f":"E126*F126","v":0},6.2E-4,{"$f":"E126*H126","v":1.8600000000000001E-3},0,{"$f":"E126*J126","v":0},null,null,null,2,null,null,null,null,null,null,null,null,null,null,null,1,1,1,null,null,null,null,null,null,null,null,null,null,null,null,null,null,null,null,null,null,null,null,null,null,1,{"$f":"IF(AZ126=1,G126,0)","v":0},{"$f":"IF(AZ126=2,G126,0)","v":0},{"$f":"IF(AZ126=3,G126,0)","v":0},{"$f":"IF(AZ126=4,G126,0)","v":0},{"$f":"IF(AZ126=5,G126,0)","v":0},null,null,null,null,null,null,null,null,null,null,null,null,null,null,null,null,null,null,null,null,null,1,1]
[null,null,"Položka je určena pro montáž litinových tvarovek na potrubí litinovém tlakovém přírubovém odbočných v otevřeném výkopu, v otevřeném kanálu nebo v šachtě.",null,null,null,null,null,null,null,null,"Položka je určena pro montáž litinových tvarovek na potrubí litinovém tlakovém přírubovém odbočných v otevřeném výkopu, v otevřeném kanálu nebo v šachtě.",null,null,3]
[null,null,"Součástí položky je i dodávka nerezových spojovacích prvků (šrouby, podložky, matky) a kompletního obandážování spojů. ",null,null,null,null,null,null,null,null,"Součástí položky je i dodávka nerezových spojovacích prvků (šrouby, podložky, matky) a kompletního obandážování spojů. ",null,null,3]
[null,null,"Řad \"A8-1\" PE D 110x10,0 mm:",null,0,null,null,null,null,null,null,null,"Řad \"A8-1\" PE D 110x10,0 mm:"]
[null,null,"T DN100/80:2",null,2,null,null,null,null,null,null,null,"T DN100/80:2"]
[null,null,"T DN100/100:1",null,1,null,null,null,null,null,null,null,"T DN100/100:1"]
[22,"871251121R00","Montáž trubek polyetylenových ve výkopu d 110 mm ","m",220,null,{"$f":"E132*F132","v":0},0,{"$f":"E132*H132","v":0},0,{"$f":"E132*J132","v":0},null,null,null,2,null,null,null,null,null,null,null,null,null,null,null,1,1,1,null,null,null,null,null,null,null,null,null,null,null,null,null,null,null,null,null,null,null,null,null,null,1,{"$f":"IF(AZ132=1,G132,0)","v":0},{"$f":"IF(AZ132=2,G132,0)","v":0},{"$f":"IF(AZ132=3,G132,0)","v":0},{"$f":"IF(AZ132=4,G132,0)","v":0},{"$f":"IF(AZ132=5,G132,0)","v":0},null,null,null,null,null,null,null,null,null,null,null,null,null,null,null,null,null,null,null,null,null,1,1]
[null,null,"V položce je uvažováno s jedním spojem na 6 m potrubí.",null,null,null,null,null,null,null,null,"V položce je uvažováno s jedním spojem na 6 m potrubí.",null,null,3]
[null,null,"Řad \"A8-1\" PE D 110x10,0 mm:220,00",null,220,null,null,null,null,null,null,null,"Řad \"A8-1\" PE D 110x10,0 mm:220,00"]
[23,"877252121R00","Přirážka za 1 spoj elektrotvarovky d 110 mm ","kus",33,null,{"$f":"E135*F135","v":0},0,{"$f":"E135*H135","v":0},0,{"$f":"E135*J135","v":0},null,null,null,2,null,null,null,null,null,null,null,null,null,null,null,1,1,1,null,null,null,null,null,null,null,null,null,null,null,null,null,null,null,null,null,null,null,null,null,null,1,{"$f":"IF(AZ135=1,G135,0)","v":0},{"$f":"IF(AZ135=2,G135,0)","v":0},{"$f":"IF(AZ135=3,G135,0)","v":0},{"$f":"IF(AZ135=4,G135,0)","v":0},{"$f":"IF(AZ135=5,G135,0)","v":0},null,null,null,null,null,null,null,null,null,null,null,null,null,null,null,null,null,null,null,null,null,1,1]
[null,null,"Řad \"A8-1\" PE D 110x10,0 mm:",null,0,null,null,null,null,null,null,null,"Řad \"A8-1\" PE D 110x10,0 mm:"]
[null,null,"Elektrospojka PE D110:30",null,30,null,null,null,null,null,null,null,"Elektrospojka PE D110:30"]
[null,null,"Oblouk PE D110/11°:3",null,3,null,null,null,null,null,null,null,"Oblouk PE D110/11°:3"]
[24,"891241111R00","Montáž vodovodních šoupátek ve výkopu DN 80 včetně nerezových spoj. prvků a obandážování spoje","kus",2,null,{"$f":"E139*F139","v":0},2.2000000000000001E-4,{"$f":"E139*H139","v":4.4000000000000002E-4},0,{"$f":"E139*J139","v":0},null,null,null,2,null,null,null,null,null,null,null,null,null,null,null,1,1,1,null,null,null,null,null,null,null,null,null,null,null,null,null,null,null,null,null,null,null,null,null,null,1,{"$f":"IF(AZ139=1,G139,0)","v":0},{"$f":"IF(AZ139=2,G139,0)","v":0},{"$f":"IF(AZ139=3,G139,0)","v":0},{"$f":"IF(AZ139=4,G139,0)","v":0},{"$f":"IF(AZ139=5,G139,0)","v":0},null,null,null,null,null,null,null,null,null,null,null,null,null,null,null,null,null,null,null,null,null,1,1]
[null,null,"Položka je určena pro montáž vodovodních šoupátek v otevřeném výkopu nebo v šachtách s osazením zemní soupravy (bez poklopů). V položce jsou zakalkulovány i náklady na vytvoření otvorů ve stropech šachet pro prostup zemních souprav šoupátek.",null,null,null,null,null,null,null,null,"Položka je určena pro montáž vodovodních šoupátek v otevřeném výkopu nebo v šachtách s osazením zemní soupravy (bez poklopů). V položce jsou zakalkulovány i náklady na vytvoření otvorů ve stropech šachet pro prostup zemních souprav šoupátek.",null,null,3]
[null,null,"Součástí položky je i dodávka nerezových spojovacích prvků (šrouby, podložky, matky) a kompletního obandážování spojů. ",null,null,null,null,null,null,null,null,"Součástí položky je i dodávka nerezových spojovacích prvků (šrouby, podložky, matky) a kompletního obandážování spojů. ",null,null,3]
[null,null,"Řad \"A8-1\" PE D 110x10,0 mm:",null,0,null,null,null,null,null,null,null,"Řad \"A8-1\" PE D 110x10,0 mm:"]
[null,null,"Šoupě DN80:2",null,2,null,null,null,null,null,null,null,"Šoupě DN80:2"]
[25,"891247111R00","Montáž hydrantů podzemních DN 80 včetně nerezových spoj. prvků a obandážování spoje","kus",2,null,{"$f":"E144*F144","v":0},1.1E-4,{"$f":"E144*H144","v":2.2000000000000001E-4},0,{"$f":"E144*J144","v":0},null,null,null,2,null,null,null,null,null,null,null,null,null,null,null,1,1,1,null,null,null,null,null,null,null,null,null,null,null,null,null,null,null,null,null,null,null,null,null,null,1,{"$f":"IF(AZ144=1,G144,0)","v":0},{"$f":"IF(AZ144=2,G144,0)","v":0},{"$f":"IF(AZ144=3,G144,0)","v":0},{"$f":"IF(AZ144=4,G144,0)","v":0},{"$f":"IF(AZ144=5,G144,0)","v":0},null,null,null,null,null,null,null,null,null,null,null,null,null,null,null,null,null,null,null,null,null,1,1]
[null,null,"Položka je určena pro montáž hydrantů podzemních (bez osazení poklopů) na potrubí včetně drenážního obalu.",null,null,null,null,null,null,null,null,"Položka je určena pro montáž hydrantů podzemních (bez osazení poklopů) na potrubí včetně drenážního obalu.",null,null,3]
[null,null,"Součástí položky je i dodávka nerezových spojovacích prvků (šrouby, podložky, matky) a kompletního obandážování spojů. ",null,null,null,null,null,null,null,null,"Součástí položky je i dodávka nerezových spojovacích prvků (šrouby, podložky, matky) a kompletního obandážování spojů. ",null,null,3]
[null,null,"Řad \"A8-1\" PE D 110x10,0 mm:",null,0,null,null,null,null,null,null,null,"Řad \"A8-1\" PE D 110x10,0 mm:"]
[null,null,"Hp DN80/1,5:2",null,2,null,null,null,null,null,null,null,"Hp DN80/1,5:2"]
[26,"891261111R00","Montáž vodovodních šoupátek ve výkopu DN 100 včetně nerezových spoj. prvků a obandážování spoje","kus",2,null,{"$f":"E149*F149","v":0},4.0999999999999999E-4,{"$f":"E149*H149","v":8.1999999999999998E-4},0,{"$f":"E149*J149","v":0},null,null,null,2,null,null,null,null,null,null,null,null,null,null,null,1,1,1,null,null,null,null,null,null,null,null,null,null,null,null,null,null,null,null,null,null,null,null,null,null,1,{"$f":"IF(AZ149=1,G149,0)","v":0},{"$f":"IF(AZ149=2,G149,0)","v":0},{"$f":"IF(AZ149=3,G149,0)","v":0},{"$f":"IF(AZ149=4,G149,0)","v":0},{"$f":"IF(AZ149=5,G149,0)","v":0},null,null,null,null,null,null,null,null,null,null,null,null,null,null,null,null,null,null,null,null,null,1,1]
[null,null,"Položka je určena pro montáž vodovodních šoupátek v otevřeném výkopu nebo v šachtách s osazením zemní soupravy (bez poklopů). V položce jsou zakalkulovány i náklady na vytvoření otvorů ve stropech šachet pro prostup zemních souprav šoupátek.",null,null,null,null,null,null,null,null,"Položka je určena pro montáž vodovodních šoupátek v otevřeném výkopu nebo v šachtách s osazením zemní soupravy (bez poklopů). V položce jsou zakalkulovány i náklady na vytvoření otvorů ve stropech šachet pro prostup zemních souprav šoupátek.",null,null,3]
[null,null,"Součástí položky je i dodávka nerezových spojovacích prvků (šrouby, podložky, matky) a kompletního obandážování spojů. ",null,null,null,null,null,null,null,null,"Součástí položky je i dodávka nerezových spojovacích prvků (šrouby, podložky, matky) a kompletního obandážování spojů. ",null,null,3]
[null,null,"Řad \"A8-1\" PE D 110x10,0 mm:",null,0,null,null,null,null,null,null,null,"Řad \"A8-1\" PE D 110x10,0 mm:"]
[null,null,"Šoupě DN100:2",null,2,null,null,null,null,null,null,null,"Šoupě DN100:2"]
[27,"891269111R00","Montáž navrtávacích pasů DN 100 s ventilem ","kus",17,null,{"$f":"E154*F154","v":0},0,{"$f":"E154*H154","v":0},0,{"$f":"E154*J154","v":0},null,null,null,2,null,null,null,null,null,null,null,null,null,null,null,1,1,1,null,null,null,null,null,null,null,null,null,null,null,null,null,null,null,null,null,null,null,null,null,null,1,{"$f":"IF(AZ154=1,G154,0)","v":0},{"$f":"IF(AZ154=2,G154,0)","v":0},{"$f":"IF(AZ154=3,G154,0)","v":0},{"$f":"IF(AZ154=4,G154,0)","v":0},{"$f":"IF(AZ154=5,G154,0)","v":0},null,null,null,null,null,null,null,null,null,null,null,null,null,null,null,null,null,null,null,null,null,1,1]
[null,null,"Řad \"A8-1\" PE D 110x10,0 mm:",null,0,null,null,null,null,null,null,null,"Řad \"A8-1\" PE D 110x10,0 mm:"]
[null,null,"NP DAV (KIT) PE D110/32:17",null,17,null,null,null,null,null,null,null,"NP DAV (KIT) PE D110/32:17"]
[null,null,"Začátek provozního součtu",null,0,null,null,null,null,null,null,null,"Začátek provozního součtu"]
[null,null,"Pro čp. 858:1",null,1,null,null,null,null,null,null,null,"Pro čp. 858:1"]
[null,null,"Pro čp. 859:1",null,1,null,null,null,null,null,null,null,"Pro čp. 859:1"]
[null,null,"Pro čp. 874:1",null,1,null,null,null,null,null,null,null,"Pro čp. 874:1"]
[null,null,"Pro čp. 860:1",null,1,null,null,null,null,null,null,null,"Pro čp. 860:1"]
[null,null,"Pro čp. 873:1",null,1,null,null,null,null,null,null,null,"Pro čp. 873:1"]
[null,null,"Pro čp. 861:1",null,1,null,null,null,null,null,null,null,"Pro čp. 861:1"]
[null,null,"Pro čp. 862:1",null,1,null,null,null,null,null,null,null,"Pro čp. 862:1"]
[null,null,"Pro čp. 863:1",null,1,null,null,null,null,null,null,null,"Pro čp. 863:1"]
[null,null,"Pro čp. 872:1",null,1,null,null,null,null,null,null,null,"Pro čp. 872:1"]
[null,null,"Pro čp. 871:1",null,1,null,null,null,null,null,null,null,"Pro čp. 871:1"]
[null,null,"Pro čp. 864:1",null,1,null,null,null,null,null,null,null,"Pro čp. 864:1"]
[null,null,"Pro čp. 870:1",null,1,null,null,null,null,null,null,null,"Pro čp. 870:1"]
[null,null,"Pro čp. 865:1",null,1,null,null,null,null,null,null,null,"Pro čp. 865:1"]
[null,null,"Pro čp. 869:1",null,1,null,null,null,null,null,null,null,"Pro čp. 869:1"]
[null,null,"Pro čp. 866:1",null,1,null,null,null,null,null,null,null,"Pro čp. 866:1"]
[null,null,"Pro čp. 867:1",null,1,null,null,null,null,null,null,null,"Pro čp. 867:1"]
[null,null,"Pro čp. 868:1",null,1,null,null,null,null,null,null,null,"Pro čp. 868:1"]
[null,null,"0",null,0,null,null,null,null,null,null,null,0]
[null,null,"Konec provozního součtu",null,17,null,null,null,null,null,null,null,"Konec provozního součtu"]
[28,"892271111R00","Tlaková zkouška vodovodního potrubí DN 125 včetně zajištění konců potrubí","m",220,null,{"$f":"E177*F177","v":0},0,{"$f":"E177*H177","v":0},0,{"$f":"E177*J177","v":0},null,null,null,2,null,null,null,null,null,null,null,null,null,null,null,1,1,1,null,null,null,null,null,null,null,null,null,null,null,null,null,null,null,null,null,null,null,null,null,null,1,{"$f":"IF(AZ177=1,G177,0)","v":0},{"$f":"IF(AZ177=2,G177,0)","v":0},{"$f":"IF(AZ177=3,G177,0)","v":0},{"$f":"IF(AZ177=4,G177,0)","v":0},{"$f":"IF(AZ177=5,G177,0)","v":0},null,null,null,null,null,null,null,null,null,null,null,null,null,null,null,null,null,null,null,null,null,1,1]
[null,null,"V položce jsou započteny náklady na přísun, montáž, demontáž a odsun zkoušecího čerpadla, napuštění tlakovou vodou a dodání vody pro tlakovou zkoušku",null,null,null,null,null,null,null,null,"V položce jsou započteny náklady na přísun, montáž, demontáž a odsun zkoušecího čerpadla, napuštění tlakovou vodou a dodání vody pro tlakovou zkoušku",null,null,3]
[null,null,"Řad \"A8-1\" PE D 110x10,0 mm:220,00",null,220,null,null,null,null,null,null,null,"Řad \"A8-1\" PE D 110x10,0 mm:220,00"]
[29,"892273111R00","Desinfekce vodovodního potrubí DN 125 ","m",220,null,{"$f":"E180*F180","v":0},0,{"$f":"E180*H180","v":0},0,{"$f":"E180*J180","v":0},null,null,null,2,null,null,null,null,null,null,null,null,null,null,null,1,1,1,null,null,null,null,null,null,null,null,null,null,null,null,null,null,null,null,null,null,null,null,null,null,1,{"$f":"IF(AZ180=1,G180,0)","v":0},{"$f":"IF(AZ180=2,G180,0)","v":0},{"$f":"IF(AZ180=3,G180,0)","v":0},{"$f":"IF(AZ180=4,G180,0)","v":0},{"$f":"IF(AZ180=5,G180,0)","v":0},null,null,null,null,null,null,null,null,null,null,null,null,null,null,null,null,null,null,null,null,null,1,1]
[null,null,"V položce jsou zakalkulovány náklady na napuštění a vypuštění vody, dodání vody a desinfekčního prostředku a na bakteriologický rozbor vody.",null,null,null,null,null,null,null,null,"V položce jsou zakalkulovány náklady na napuštění a vypuštění vody, dodání vody a desinfekčního prostředku a na bakteriologický rozbor vody.",null,null,3]
[null,null,"Řad \"A8-1\" PE D 110x10,0 mm:220,00",null,220,null,null,null,null,null,null,null,"Řad \"A8-1\" PE D 110x10,0 mm:220,00"]
[30,"899713111RRX","Orientační tabulky na sloupku ocelovém, betonovém ","kus",23,null,{"$f":"E183*F183","v":0},2.4000000000000001E-4,{"$f":"E183*H183","v":5.5199999999999997E-3},0,{"$f":"E183*J183","v":0},null,null,null,2,null,null,null,null,null,null,null,null,null,null,null,1,1,1,null,null,null,null,null,null,null,null,null,null,null,null,null,null,null,null,null,null,null,null,null,null,1,{"$f":"IF(AZ183=1,G183,0)","v":0},{"$f":"IF(AZ183=2,G183,0)","v":0},{"$f":"IF(AZ183=3,G183,0)","v":0},{"$f":"IF(AZ183=4,G183,0)","v":0},{"$f":"IF(AZ183=5,G183,0)","v":0},null,null,null,null,null,null,null,null,null,null,null,null,null,null,null,null,null,null,null,null,null,1,1]
[null,null,"Položka platí pro orientační tabulky na vodovodních a kanalizačních řadech. V položce jsou zakalkulovány náklady na dodání a připevnění tabulky a na osazení sloupku. V položce jsou zakalkulovány náklady na zemní práce a na dodání sloupků (betonových nebo ocelových s betonovými patkami)",null,null,null,null,null,null,null,null,"Položka platí pro orientační tabulky na vodovodních a kanalizačních řadech. V položce jsou zakalkulovány náklady na dodání a připevnění tabulky a na osazení sloupku. V položce jsou zakalkulovány náklady na zemní práce a na dodání sloupků (betonových nebo ocelových s betonovými patkami)",null,null,3]
[null,null,"Řad \"A8-1\" PE D 110x10,0 mm:",null,0,null,null,null,null,null,null,null,"Řad \"A8-1\" PE D 110x10,0 mm:"]
[null,null,"Pro NP DAV (KIT) PE D110/32:17",null,17,null,null,null,null,null,null,null,"Pro NP DAV (KIT) PE D110/32:17"]
[null,null,"Pro Šoupě DN80:2",null,2,null,null,null,null,null,null,null,"Pro Šoupě DN80:2"]
[null,null,"Pro Šoupě DN100:2",null,2,null,null,null,null,null,null,null,"Pro Šoupě DN100:2"]
[null,null,"Pro Hp DN80/1,5:2",null,2,null,null,null,null,null,null,null,"Pro Hp DN80/1,5:2"]
[31,"899721112R00","Fólie výstražná z PVC bílá, šířka 30 cm ","m",220,null,{"$f":"E190*F190","v":0},0,{"$f":"E190*H190","v":0},0,{"$f":"E190*J190","v":0},null,null,null,2,null,null,null,null,null,null,null,null,null,null,null,1,1,1,null,null,null,null,null,null,null,null,null,null,null,null,null,null,null,null,null,null,null,null,null,null,1,{"$f":"IF(AZ190=1,G190,0)","v":0},{"$f":"IF(AZ190=2,G190,0)","v":0},{"$f":"IF(AZ190=3,G190,0)","v":0},{"$f":"IF(AZ190=4,G190,0)","v":0},{"$f":"IF(AZ190=5,G190,0)","v":0},null,null,null,null,null,null,null,null,null,null,null,null,null,null,null,null,null,null,null,null,null,1,1]
[null,null,"Řad \"A8-1\" PE D 110x10,0 mm:220,00",null,220,null,null,null,null,null,null,null,"Řad \"A8-1\" PE D 110x10,0 mm:220,00"]
[32,"899731114R00","Vodič signalizační CYY 6 mm2 ","m",308,null,{"$f":"E192*F192","v":0},8.0000000000000007E-5,{"$f":"E192*H192","v":2.4640000000000002E-2},0,{"$f":"E192*J192","v":0},null,null,null,2,null,null,null,null,null,null,null,null,null,null,null,1,1,1,null,null,null,null,null,null,null,null,null,null,null,null,null,null,null,null,null,null,null,null,null,null,1,{"$f":"IF(AZ192=1,G192,0)","v":0},{"$f":"IF(AZ192=2,G192,0)","v":0},{"$f":"IF(AZ192=3,G192,0)","v":0},{"$f":"IF(AZ192=4,G192,0)","v":0},{"$f":"IF(AZ192=5,G192,0)","v":0},null,null,null,null,null,null,null,null,null,null,null,null,null,null,null,null,null,null,null,null,null,1,1]
[null,null,"Součástí položky je zajištění proměření vodiče a výchozí zevize.",null,null,null,null,null,null,null,null,"Součástí položky je zajištění proměření vodiče a výchozí zevize.",null,null,3]
[null,null,"Řad \"A8-1\" PE D 110x10,0 mm:220,00",null,220,null,null,null,null,null,null,null,"Řad \"A8-1\" PE D 110x10,0 mm:220,00"]
[null,null,"Vyvedení:",null,0,null,null,null,null,null,null,null,"Vyvedení:"]
[null,null,"Pro NP DAV (KIT) PE D110/32:17*2,00*2",null,68,null,null,null,null,null,null,null,"Pro NP DAV (KIT) PE D110/32:17*2,00*2"]
[null,null,"Pro Šoupě DN80:2*2,00*2",null,8,null,null,null,null,null,null,null,"Pro Šoupě DN80:2*2,00*2"]
[null,null,"Pro Šoupě DN100:2*2,00*2",null,8,null,null,null,null,null,null,null,"Pro Šoupě DN100:2*2,00*2"]
[null,null,"Pro Hp DN80/1,5:2*2,00*1",null,4,null,null,null,null,null,null,null,"Pro Hp DN80/1,5:2*2,00*1"]
[33,"28613076.DAV.R","T-kus odbočkový navrtávací DAV (KIT) D110/32","kus",17,null,{"$f":"E200*F200","v":0},0,{"$f":"E200*H200","v":0},null,{"$f":"E200*J200","v":0},null,null,null,2,null,null,null,null,null,null,null,null,null,null,null,3,1,"28613076.DAV.R",null,null,null,null,null,null,null,null,null,null,null,null,null,null,null,null,null,null,null,null,null,null,1,{"$f":"IF(AZ200=1,G200,0)","v":0},{"$f":"IF(AZ200=2,G200,0)","v":0},{"$f":"IF(AZ200=3,G200,0)","v":0},{"$f":"IF(AZ200=4,G200,0)","v":0},{"$f":"IF(AZ200=5,G200,0)","v":0},null,null,null,null,null,null,null,null,null,null,null,null,null,null,null,null,null,null,null,null,null,3,1]
[null,null,"Řad \"A8-1\" PE D 110x10,0 mm:",null,0,null,null,null,null,null,null,null,"Řad \"A8-1\" PE D 110x10,0 mm:"]
[null,null,"NP DAV (KIT) PE D110/32:17",null,17,null,null,null,null,null,null,null,"NP DAV (KIT) PE D110/32:17"]
[34,"28613090.EBS.R","Zemní souprava EBS 1,1-1,8 pro DAV (KIT)","kus",17,null,{"$f":"E203*F203","v":0},0,{"$f":"E203*H203","v":0},null,{"$f":"E203*J203","v":0},null,null,null,2,null,null,null,null,null,null,null,null,null,null,null,3,1,"28613090.EBS.R",null,null,null,null,null,null,null,null,null,null,null,null,null,null,null,null,null,null,null,null,null,null,1,{"$f":"IF(AZ203=1,G203,0)","v":0},{"$f":"IF(AZ203=2,G203,0)","v":0},{"$f":"IF(AZ203=3,G203,0)","v":0},{"$f":"IF(AZ203=4,G203,0)","v":0},{"$f":"IF(AZ203=5,G203,0)","v":0},null,null,null,null,null,null,null,null,null,null,null,null,null,null,null,null,null,null,null,null,null,3,1]
[null,null,"Řad \"A8-1\" PE D 110x10,0 mm:",null,0,null,null,null,null,null,null,null,"Řad \"A8-1\" PE D 110x10,0 mm:"]
[null,null,"Pro NP DAV (KIT) PE D110/32:17",null,17,null,null,null,null,null,null,null,"Pro NP DAV (KIT) PE D110/32:17"]
[35,"286134215.R","Trubka tlaková AQUALINE RC2 PE100 110x10,0 mm PN16 tyče L=12 m","m",223.3,null,{"$f":"E206*F206","v":0},2.1199999999999999E-3,{"$f":"E206*H206","v":0.47339599999999998},null,{"$f":"E206*J206","v":0},null,null,null,2,null,null,null,null,null,null,null,null,null,null,null,3,1,"286134215.R",null,null,null,null,null,null,null,null,null,null,null,null,null,null,null,null,null,null,null,null,null,null,1,{"$f":"IF(AZ206=1,G206,0)","v":0},{"$f":"IF(AZ206=2,G206,0)","v":0},{"$f":"IF(AZ206=3,G206,0)","v":0},{"$f":"IF(AZ206=4,G206,0)","v":0},{"$f":"IF(AZ206=5,G206,0)","v":0},null,null,null,null,null,null,null,null,null,null,null,null,null,null,null,null,null,null,null,null,null,3,1]
[null,null,"Vodovodní PE tlaková trubka AQUALINE RC2 dle normy EN 12 201-2",null,null,null,null,null,null,null,null,"Vodovodní PE tlaková trubka AQUALINE RC2 dle normy EN 12 201-2",null,null,3]
[null,null,"(doprava pitné a užitkové vody)",null,null,null,null,null,null,null,null,"(doprava pitné a užitkové vody)",null,null,3]
[null,null,"Dvouvrstvá - vnější vrstva PE 100RC modrá (10 % tloušťky)",null,null,null,null,null,null,null,null,"Dvouvrstvá - vnější vrstva PE 100RC modrá (10 % tloušťky)",null,null,3]
[null,null,"                       vnitřní vrstva PE 100RC černá (90 % tloušťky)",null,null,null,null,null,null,null,null,"                       vnitřní vrstva PE 100RC černá (90 % tloušťky)",null,null,3]
[null,null,"Lepší detekce poškození oproti typu RC1",null,null,null,null,null,null,null,null,"Lepší detekce poškození oproti typu RC1",null,null,3]
[null,null,"Řad \"A8-1\" PE D 110x10,0 mm:220,00*1,015",null,223.3,null,null,null,null,null,null,null,"Řad \"A8-1\" PE D 110x10,0 mm:220,00*1,015"]
[36,"28653080.11.R","Elektrospojka d 110 mm PE 100 SDR11","kus",30.45,null,{"$f":"E213*F213","v":0},1.2999999999999999E-3,{"$f":"E213*H213","v":3.9584999999999995E-2},null,{"$f":"E213*J213","v":0},null,null,null,2,null,null,null,null,null,null,null,null,null,null,null,3,1,"28653080.11.R",null,null,null,null,null,null,null,null,null,null,null,null,null,null,null,null,null,null,null,null,null,null,1,{"$f":"IF(AZ213=1,G213,0)","v":0},{"$f":"IF(AZ213=2,G213,0)","v":0},{"$f":"IF(AZ213=3,G213,0)","v":0},{"$f":"IF(AZ213=4,G213,0)","v":0},{"$f":"IF(AZ213=5,G213,0)","v":0},null,null,null,null,null,null,null,null,null,null,null,null,null,null,null,null,null,null,null,null,null,3,1]
[null,null,"Řad \"A8-1\" PE D 110x10,0 mm:",null,0,null,null,null,null,null,null,null,"Řad \"A8-1\" PE D 110x10,0 mm:"]
[null,null,"Elektrospojka PE D110:30*1,015",null,30.45,null,null,null,null,null,null,null,"Elektrospojka PE D110:30*1,015"]
[37,"28653450.A.R","Oblouk 11° PE d 110 mm PE100 SDR11","kus",3.0449999999999999,null,{"$f":"E216*F216","v":0},1.0499999999999999E-3,{"$f":"E216*H216","v":3.1972499999999996E-3},null,{"$f":"E216*J216","v":0},null,null,null,2,null,null,null,null,null,null,null,null,null,null,null,3,1,"28653450.A.R",null,null,null,null,null,null,null,null,null,null,null,null,null,null,null,null,null,null,null,null,null,null,1,{"$f":"IF(AZ216=1,G216,0)","v":0},{"$f":"IF(AZ216=2,G216,0)","v":0},{"$f":"IF(AZ216=3,G216,0)","v":0},{"$f":"IF(AZ216=4,G216,0)","v":0},{"$f":"IF(AZ216=5,G216,0)","v":0},null,null,null,null,null,null,null,null,null,null,null,null,null,null,null,null,null,null,null,null,null,3,1]
[null,null,"Řad \"A8-1\" PE D 110x10,0 mm:",null,0,null,null,null,null,null,null,null,"Řad \"A8-1\" PE D 110x10,0 mm:"]
[null,null,"Oblouk PE D110/11°:3*1,015",null,3.0449999999999999,null,null,null,null,null,null,null,"Oblouk PE D110/11°:3*1,015"]
[38,"28653766.R","LN + TP D110/DN100 PE100 SDR11","kus",2,null,{"$f":"E219*F219","v":0},3.5E-4,{"$f":"E219*H219","v":6.9999999999999999E-4},null,{"$f":"E219*J219","v":0},null,null,null,2,null,null,null,null,null,null,null,null,null,null,null,3,1,"28653766.R",null,null,null,null,null,null,null,null,null,null,null,null,null,null,null,null,null,null,null,null,null,null,1,{"$f":"IF(AZ219=1,G219,0)","v":0},{"$f":"IF(AZ219=2,G219,0)","v":0},{"$f":"IF(AZ219=3,G219,0)","v":0},{"$f":"IF(AZ219=4,G219,0)","v":0},{"$f":"IF(AZ219=5,G219,0)","v":0},null,null,null,null,null,null,null,null,null,null,null,null,null,null,null,null,null,null,null,null,null,3,1]
[null,null,"Řad \"A8-1\" PE D 110x10,0 mm:",null,0,null,null,null,null,null,null,null,"Řad \"A8-1\" PE D 110x10,0 mm:"]
[null,null,"LN+TP D110/DN100:2",null,2,null,null,null,null,null,null,null,"LN+TP D110/DN100:2"]
[39,"42200400.08.R","Jistící příruba \"Systém 2000\" 100/110 č.0400","kus",4,null,{"$f":"E222*F222","v":0},1.8499999999999999E-2,{"$f":"E222*H222","v":7.3999999999999996E-2},null,{"$f":"E222*J222","v":0},null,null,null,2,null,null,null,null,null,null,null,null,null,null,null,3,1,"42200400.08.R",null,null,null,null,null,null,null,null,null,null,null,null,null,null,null,null,null,null,null,null,null,null,1,{"$f":"IF(AZ222=1,G222,0)","v":0},{"$f":"IF(AZ222=2,G222,0)","v":0},{"$f":"IF(AZ222=3,G222,0)","v":0},{"$f":"IF(AZ222=4,G222,0)","v":0},{"$f":"IF(AZ222=5,G222,0)","v":0},null,null,null,null,null,null,null,null,null,null,null,null,null,null,null,null,null,null,null,null,null,3,1]
[null,null,"Řad \"A8-1\" PE D 110x10,0 mm:",null,0,null,null,null,null,null,null,null,"Řad \"A8-1\" PE D 110x10,0 mm:"]
[null,null,"Příruba S2000 č. 0400 110/100:4",null,4,null,null,null,null,null,null,null,"Příruba S2000 č. 0400 110/100:4"]
[40,"42209999.R","Drenážní obal","kus",2,null,{"$f":"E225*F225","v":0},4.7999999999999996E-3,{"$f":"E225*H225","v":9.5999999999999992E-3},null,{"$f":"E225*J225","v":0},null,null,null,2,null,null,null,null,null,null,null,null,null,null,null,3,1,"42209999.R",null,null,null,null,null,null,null,null,null,null,null,null,null,null,null,null,null,null,null,null,null,null,1,{"$f":"IF(AZ225=1,G225,0)","v":0},{"$f":"IF(AZ225=2,G225,0)","v":0},{"$f":"IF(AZ225=3,G225,0)","v":0},{"$f":"IF(AZ225=4,G225,0)","v":0},{"$f":"IF(AZ225=5,G225,0)","v":0},null,null,null,null,null,null,null,null,null,null,null,null,null,null,null,null,null,null,null,null,null,3,1]
[null,null,"Řad \"A8-1\" PE D 110x10,0 mm:",null,0,null,null,null,null,null,null,null,"Řad \"A8-1\" PE D 110x10,0 mm:"]
[null,null,"Pro Hp DN80/1,5:2",null,2,null,null,null,null,null,null,null,"Pro Hp DN80/1,5:2"]
[41,"42228310.R","Šoupátko 4000E3 DN 80 přírubové, voda PN16","kus",2,null,{"$f":"E228*F228","v":0},1.6500000000000001E-2,{"$f":"E228*H228","v":3.3000000000000002E-2},null,{"$f":"E228*J228","v":0},null,null,null,2,null,null,null,null,null,null,null,null,null,null,null,3,1,"42228310.R",null,null,null,null,null,null,null,null,null,null,null,null,null,null,null,null,null,null,null,null,null,null,1,{"$f":"IF(AZ228=1,G228,0)","v":0},{"$f":"IF(AZ228=2,G228,0)","v":0},{"$f":"IF(AZ228=3,G228,0)","v":0},{"$f":"IF(AZ228=4,G228,0)","v":0},{"$f":"IF(AZ228=5,G228,0)","v":0},null,null,null,null,null,null,null,null,null,null,null,null,null,null,null,null,null,null,null,null,null,3,1]
[null,null,"Šoupátko přírubové krkové - měkcetěsnící klínové šoupátko s hladkým a volným průtokovým kanálem",null,null,null,null,null,null,null,null,"Šoupátko přírubové krkové - měkcetěsnící klínové šoupátko s hladkým a volným průtokovým kanálem",null,null,3]
[null,null,"č. 4000E3",null,null,null,null,null,null,null,null,"č. 4000E3",null,null,3]
[null,null,"PN 16",null,null,null,null,null,null,null,null,"PN 16",null,null,3]
[null,null,"DN 80",null,null,null,null,null,null,null,null,"DN 80",null,null,3]
[null,null,"těleso a víko: tvárná litina GGG 400 - DIN 1693",null,null,null,null,null,null,null,null,"těleso a víko: tvárná litina GGG 400 - DIN 1693",null,null,3]
[null,null,"medium: pitná voda, neagresivní odpadní voda",null,null,null,null,null,null,null,null,"medium: pitná voda, neagresivní odpadní voda",null,null,3]
[null,null,"Řad \"A8-1\" PE D 110x10,0 mm:",null,0,null,null,null,null,null,null,null,"Řad \"A8-1\" PE D 110x10,0 mm:"]
[null,null,"Šoupě DN80:2",null,2,null,null,null,null,null,null,null,"Šoupě DN80:2"]
[42,"42228312.R","Šoupátko 4000E3 DN 100 přírubové, voda PN16","kus",2,null,{"$f":"E237*F237","v":0},2.4500000000000001E-2,{"$f":"E237*H237","v":4.9000000000000002E-2},null,{"$f":"E237*J237","v":0},null,null,null,2,null,null,null,null,null,null,null,null,null,null,null,3,1,"42228312.R",null,null,null,null,null,null,null,null,null,null,null,null,null,null,null,null,null,null,null,null,null,null,1,{"$f":"IF(AZ237=1,G237,0)","v":0},{"$f":"IF(AZ237=2,G237,0)","v":0},{"$f":"IF(AZ237=3,G237,0)","v":0},{"$f":"IF(AZ237=4,G237,0)","v":0},{"$f":"IF(AZ237=5,G237,0)","v":0},null,null,null,null,null,null,null,null,null,null,null,null,null,null,null,null,null,null,null,null,null,3,1]
[null,null,"Šoupátko přírubové krkové - měkcetěsnící klínové šoupátko s hladkým a volným průtokovým kanálem",null,null,null,null,null,null,null,null,"Šoupátko přírubové krkové - měkcetěsnící klínové šoupátko s hladkým a volným průtokovým kanálem",null,null,3]
[null,null,"č. 4000E3",null,null,null,null,null,null,null,null,"č. 4000E3",null,null,3]
[null,null,"PN 16",null,null,null,null,null,null,null,null,"PN 16",null,null,3]
[null,null,"DN 100",null,null,null,null,null,null,null,null,"DN 100",null,null,3]
[null,null,"těleso a víko: tvárná litina GGG 400 - DIN 1693",null,null,null,null,null,null,null,null,"těleso a víko: tvárná litina GGG 400 - DIN 1693",null,null,3]
[null,null,"medium: pitná voda, neagresivní odpadní voda",null,null,null,null,null,null,null,null,"medium: pitná voda, neagresivní odpadní voda",null,null,3]
[null,null,"Řad \"A8-1\" PE D 110x10,0 mm:",null,0,null,null,null,null,null,null,null,"Řad \"A8-1\" PE D 110x10,0 mm:"]
[null,null,"Šoupě DN100:2",null,2,null,null,null,null,null,null,null,"Šoupě DN100:2"]
[43,"422737412.R","Hydrant podzemní DUO K240, DN80/1,5 m","kus",2,null,{"$f":"E246*F246","v":0},3.95E-2,{"$f":"E246*H246","v":7.9000000000000001E-2},null,{"$f":"E246*J246","v":0},null,null,null,2,null,null,null,null,null,null,null,null,null,null,null,3,1,"422737412.R",null,null,null,null,null,null,null,null,null,null,null,null,null,null,null,null,null,null,null,null,null,null,1,{"$f":"IF(AZ246=1,G246,0)","v":0},{"$f":"IF(AZ246=2,G246,0)","v":0},{"$f":"IF(AZ246=3,G246,0)","v":0},{"$f":"IF(AZ246=4,G246,0)","v":0},{"$f":"IF(AZ246=5,G246,0)","v":0},null,null,null,null,null,null,null,null,null,null,null,null,null,null,null,null,null,null,null,null,null,3,1]
[null,null,"Řad \"A8-1\" PE D 110x10,0 mm:",null,0,null,null,null,null,null,null,null,"Řad \"A8-1\" PE D 110x10,0 mm:"]
[null,null,"Hp DN80/1,5:2",null,2,null,null,null,null,null,null,null,"Hp DN80/1,5:2"]
[44,"42293250.R","Souprava zemní tel.9502E2/E3 DN50 -100, 1,3-1,8m","kus",4,null,{"$f":"E249*F249","v":0},7.3000000000000001E-3,{"$f":"E249*H249","v":2.92E-2},null,{"$f":"E249*J249","v":0},null,null,null,2,null,null,null,null,null,null,null,null,null,null,null,3,1,"42293250.R",null,null,null,null,null,null,null,null,null,null,null,null,null,null,null,null,null,null,null,null,null,null,1,{"$f":"IF(AZ249=1,G249,0)","v":0},{"$f":"IF(AZ249=2,G249,0)","v":0},{"$f":"IF(AZ249=3,G249,0)","v":0},{"$f":"IF(AZ249=4,G249,0)","v":0},{"$f":"IF(AZ249=5,G249,0)","v":0},null,null,null,null,null,null,null,null,null,null,null,null,null,null,null,null,null,null,null,null,null,3,1]
[null,null,"Řad \"A8-1\" PE D 110x10,0 mm:",null,0,null,null,null,null,null,null,null,"Řad \"A8-1\" PE D 110x10,0 mm:"]
[null,null,"Pro Šoupě DN80:2",null,2,null,null,null,null,null,null,null,"Pro Šoupě DN80:2"]
[null,null,"Pro Šoupě DN100:2",null,2,null,null,null,null,null,null,null,"Pro Šoupě DN100:2"]
[45,"422935323.R","Spojka Synoflex s přírubou 7994, DN100,PN 16","kus",1,null,{"$f":"E253*F253","v":0},1.0800000000000001E-2,{"$f":"E253*H253","v":1.0800000000000001E-2},null,{"$f":"E253*J253","v":0},null,null,null,2,null,null,null,null,null,null,null,null,null,null,null,3,1,"422935323.R",null,null,null,null,null,null,null,null,null,null,null,null,null,null,null,null,null,null,null,null,null,null,1,{"$f":"IF(AZ253=1,G253,0)","v":0},{"$f":"IF(AZ253=2,G253,0)","v":0},{"$f":"IF(AZ253=3,G253,0)","v":0},{"$f":"IF(AZ253=4,G253,0)","v":0},{"$f":"IF(AZ253=5,G253,0)","v":0},null,null,null,null,null,null,null,null,null,null,null,null,null,null,null,null,null,null,null,null,null,3,1]
[null,null,"Spojka s přírubou jištěná proti posunu pro všechny standardní materiály potrubí s velkým rozsahem vnějších průměrů potrubí a úhlovým vychýlením",null,null,null,null,null,null,null,null,"Spojka s přírubou jištěná proti posunu pro všechny standardní materiály potrubí s velkým rozsahem vnějších průměrů potrubí a úhlovým vychýlením",null,null,3]
[null,null,"PROVEDENÍ: hrdlo - příruba",null,null,null,null,null,null,null,null,"PROVEDENÍ: hrdlo - příruba",null,null,3]
[null,null,"dle EN 14 525",null,null,null,null,null,null,null,null,"dle EN 14 525",null,null,3]
[null,null,"příruba a opěrný kroužek: dle EN 1092-2 PN10 (případně PN16)",null,null,null,null,null,null,null,null,"příruba a opěrný kroužek: dle EN 1092-2 PN10 (případně PN16)",null,null,3]
[null,null,"tělo a přítlačný kroužek: z tvárné litny EN-GJS-400 s povrchovou úpravou vířivým slinováním",null,null,null,null,null,null,null,null,"tělo a přítlačný kroužek: z tvárné litny EN-GJS-400 s povrchovou úpravou vířivým slinováním",null,null,3]
[null,null,"flexibilní těsnění: z elastomeru dle EN 681-1 (vhodné pro pitnou vodu)",null,null,null,null,null,null,null,null,"flexibilní těsnění: z elastomeru dle EN 681-1 (vhodné pro pitnou vodu)",null,null,3]
[null,null,"flexibilní Synoflex kroužek: z POM sestaven z jednotlivých segmentů",null,null,null,null,null,null,null,null,"flexibilní Synoflex kroužek: z POM sestaven z jednotlivých segmentů",null,null,3]
[null,null,"jistící prvky: z nekorodující oceli na každém segmentu kroužku",null,null,null,null,null,null,null,null,"jistící prvky: z nekorodující oceli na každém segmentu kroužku",null,null,3]
[null,null,"šrouby a matice: z nerezové oceli s povrchovou úpravou proti zadírání",null,null,null,null,null,null,null,null,"šrouby a matice: z nerezové oceli s povrchovou úpravou proti zadírání",null,null,3]
[null,null,"podložky: z nerezové oceli s ochrannou krytkou z elastomeru",null,null,null,null,null,null,null,null,"podložky: z nerezové oceli s ochrannou krytkou z elastomeru",null,null,3]
[null,null,"šrbouby: lze použít i otočené o 180°",null,null,null,null,null,null,null,null,"šrbouby: lze použít i otočené o 180°",null,null,3]
[null,null,"distanční objímky: z plastu",null,null,null,null,null,null,null,null,"distanční objímky: z plastu",null,null,3]
[null,null,"úhlové vychýlení (ČSN EN 14 525)",null,null,null,null,null,null,null,null,"úhlové vychýlení (ČSN EN 14 525)",null,null,3]
[null,null,"pro jištění tahových sil na PE potrubí doporučujeme instalaci rozpěrných pouzder (č. 6035, 6036)",null,null,null,null,null,null,null,null,"pro jištění tahových sil na PE potrubí doporučujeme instalaci rozpěrných pouzder (č. 6035, 6036)",null,null,3]
[null,null,"Řad \"A8-1\" PE D 110x10,0 mm:",null,0,null,null,null,null,null,null,null,"Řad \"A8-1\" PE D 110x10,0 mm:"]
[null,null,"Synoflex s přírubou DN100:1",null,1,null,null,null,null,null,null,null,"Synoflex s přírubou DN100:1"]
[46,"55259970.R","Koleno přírubové FFK DN 80-45°","kus",1,null,{"$f":"E270*F270","v":0},1.11E-2,{"$f":"E270*H270","v":1.11E-2},null,{"$f":"E270*J270","v":0},null,null,null,2,null,null,null,null,null,null,null,null,null,null,null,3,1,"55259970.R",null,null,null,null,null,null,null,null,null,null,null,null,null,null,null,null,null,null,null,null,null,null,1,{"$f":"IF(AZ270=1,G270,0)","v":0},{"$f":"IF(AZ270=2,G270,0)","v":0},{"$f":"IF(AZ270=3,G270,0)","v":0},{"$f":"IF(AZ270=4,G270,0)","v":0},{"$f":"IF(AZ270=5,G270,0)","v":0},null,null,null,null,null,null,null,null,null,null,null,null,null,null,null,null,null,null,null,null,null,3,1]
[null,null,"Řad \"A8-1\" PE D 110x10,0 mm:",null,0,null,null,null,null,null,null,null,"Řad \"A8-1\" PE D 110x10,0 mm:"]
[null,null,"FFK DN80/45°:1",null,1,null,null,null,null,null,null,null,"FFK DN80/45°:1"]
[47,"55259983.R","Koleno přírubové Q DN 100-90° EWS","kus",1,null,{"$f":"E273*F273","v":0},1.21E-2,{"$f":"E273*H273","v":1.21E-2},null,{"$f":"E273*J273","v":0},null,null,null,2,null,null,null,null,null,null,null,null,null,null,null,3,1,"55259983.R",null,null,null,null,null,null,null,null,null,null,null,null,null,null,null,null,null,null,null,null,null,null,1,{"$f":"IF(AZ273=1,G273,0)","v":0},{"$f":"IF(AZ273=2,G273,0)","v":0},{"$f":"IF(AZ273=3,G273,0)","v":0},{"$f":"IF(AZ273=4,G273,0)","v":0},{"$f":"IF(AZ273=5,G273,0)","v":0},null,null,null,null,null,null,null,null,null,null,null,null,null,null,null,null,null,null,null,null,null,3,1]
[null,null,"Řad \"A8-1\" PE D 110x10,0 mm:",null,0,null,null,null,null,null,null,null,"Řad \"A8-1\" PE D 110x10,0 mm:"]
[null,null,"Q DN100:1",null,1,null,null,null,null,null,null,null,"Q DN100:1"]
[48,"552599943.R","Tvarovka přír. s přír. odb. T DN 100/80","kus",2,null,{"$f":"E276*F276","v":0},1.78E-2,{"$f":"E276*H276","v":3.56E-2},null,{"$f":"E276*J276","v":0},null,null,null,2,null,null,null,null,null,null,null,null,null,null,null,3,1,"552599943.R",null,null,null,null,null,null,null,null,null,null,null,null,null,null,null,null,null,null,null,null,null,null,1,{"$f":"IF(AZ276=1,G276,0)","v":0},{"$f":"IF(AZ276=2,G276,0)","v":0},{"$f":"IF(AZ276=3,G276,0)","v":0},{"$f":"IF(AZ276=4,G276,0)","v":0},{"$f":"IF(AZ276=5,G276,0)","v":0},null,null,null,null,null,null,null,null,null,null,null,null,null,null,null,null,null,null,null,null,null,3,1]
[null,null,"Řad \"A8-1\" PE D 110x10,0 mm:",null,0,null,null,null,null,null,null,null,"Řad \"A8-1\" PE D 110x10,0 mm:"]
[null,null,"T DN100/80:2",null,2,null,null,null,null,null,null,null,"T DN100/80:2"]
[49,"552599944.R","Tvarovka přír. s přír. odb. T DN 100/100","kus",1,null,{"$f":"E279*F279","v":0},1.9699999999999999E-2,{"$f":"E279*H279","v":1.9699999999999999E-2},null,{"$f":"E279*J279","v":0},null,null,null,2,null,null,null,null,null,null,null,null,null,null,null,3,1,"552599944.R",null,null,null,null,null,null,null,null,null,null,null,null,null,null,null,null,null,null,null,null,null,null,1,{"$f":"IF(AZ279=1,G279,0)","v":0},{"$f":"IF(AZ279=2,G279,0)","v":0},{"$f":"IF(AZ279=3,G279,0)","v":0},{"$f":"IF(AZ279=4,G279,0)","v":0},{"$f":"IF(AZ279=5,G279,0)","v":0},null,null,null,null,null,null,null,null,null,null,null,null,null,null,null,null,null,null,null,null,null,3,1]
[null,null,"Řad \"A8-1\" PE D 110x10,0 mm:",null,0,null,null,null,null,null,null,null,"Řad \"A8-1\" PE D 110x10,0 mm:"]
[null,null,"T DN100/100:1",null,1,null,null,null,null,null,null,null,"T DN100/100:1"]
[50,"5526009705.R","Koleno prodloužené přír.s patkou PPL DN 80","kus",2,null,{"$f":"E282*F282","v":0},1.2200000000000001E-2,{"$f":"E282*H282","v":2.4400000000000002E-2},null,{"$f":"E282*J282","v":0},null,null,null,2,null,null,null,null,null,null,null,null,null,null,null,3,1,"5526009705.R",null,null,null,null,null,null,null,null,null,null,null,null,null,null,null,null,null,null,null,null,null,null,1,{"$f":"IF(AZ282=1,G282,0)","v":0},{"$f":"IF(AZ282=2,G282,0)","v":0},{"$f":"IF(AZ282=3,G282,0)","v":0},{"$f":"IF(AZ282=4,G282,0)","v":0},{"$f":"IF(AZ282=5,G282,0)","v":0},null,null,null,null,null,null,null,null,null,null,null,null,null,null,null,null,null,null,null,null,null,3,1]
[null,null,"Řad \"A8-1\" PE D 110x10,0 mm:",null,0,null,null,null,null,null,null,null,"Řad \"A8-1\" PE D 110x10,0 mm:"]
[null,null,"PPL DN80:2",null,2,null,null,null,null,null,null,null,"PPL DN80:2"]
[null,"Celkem za","8 Trubní vedení",null,null,null,{"$f":"SUM(G102:G284)","v":0},null,{"$f":"SUM(I102:I284)","v":0.94181825000000008},null,{"$f":"SUM(K102:K284)","v":0},null,null,null,4,null,null,null,null,null,null,null,null,null,null,null,null,null,null,null,null,null,null,null,null,null,null,null,null,null,null,null,null,null,null,null,null,null,null,null,null,null,{"$f":"SUM(BA102:BA284)","v":0},{"$f":"SUM(BB102:BB284)","v":0},{"$f":"SUM(BC102:BC284)","v":0},{"$f":"SUM(BD102:BD284)","v":0},{"$f":"SUM(BE102:BE284)","v":0}]
["Díl:","89","Ostatní konstrukce na trubním vedení",null,null,null,null,null,null,null,null,null,null,null,1]
[51,"899 01-0001.RRX","Provizorní vodovod PE100 RC1 D 90x5,4 mm včetně příslušných tvarovek a propojů","m",220,null,{"$f":"E287*F287","v":0},0,{"$f":"E287*H287","v":0},null,{"$f":"E287*J287","v":0},null,null,null,2,null,null,null,null,null,null,null,null,null,null,null,12,0,67,null,null,null,null,null,null,null,null,null,null,null,null,null,null,null,null,null,null,null,null,null,null,1,{"$f":"IF(AZ287=1,G287,0)","v":0},{"$f":"IF(AZ287=2,G287,0)","v":0},{"$f":"IF(AZ287=3,G287,0)","v":0},{"$f":"IF(AZ287=4,G287,0)","v":0},{"$f":"IF(AZ287=5,G287,0)","v":0},null,null,null,null,null,null,null,null,null,null,null,null,null,null,null,null,null,null,null,null,null,12,0]
[null,null,"Součástí položky je ",null,null,null,null,null,null,null,null,"Součástí položky je ",null,null,3]
[null,null,"- Dodávka a montáž příslušného potrubí ",null,null,null,null,null,null,null,null,"- Dodávka a montáž příslušného potrubí ",null,null,3]
[null,null,"- Dodávka a montáž propojovacích tvarovek a armatur dle zvolené technologie zhotovitelem potřebné pro provoz provizorního vodovou",null,null,null,null,null,null,null,null,"- Dodávka a montáž propojovacích tvarovek a armatur dle zvolené technologie zhotovitelem potřebné pro provoz provizorního vodovou",null,null,3]
[null,null,"- Přerušení stávajícího potrubí pro napojení provizorního vodovodu",null,null,null,null,null,null,null,null,"- Přerušení stávajícího potrubí pro napojení provizorního vodovodu",null,null,3]
[null,null,"- Provedení tlakové zkoušky včetně proplachu a desinfekce potrubí dle ČSN",null,null,null,null,null,null,null,null,"- Provedení tlakové zkoušky včetně proplachu a desinfekce potrubí dle ČSN",null,null,3]
[null,null,"- Potředné zemní práce pro provedení propojů včetně případného odstranění konstrukcí komunikací a chodníků a provizorní úprava povrchů v prostoru vedení provizorního vodovodu",null,null,null,null,null,null,null,null,"- Potředné zemní práce pro provedení propojů včetně případného odstranění konstrukcí komunikací a chodníků a provizorní úprava povrchů v prostoru vedení provizorního vodovodu",null,null,3]
[null,null,"- Demontáž a odpojení propojů provizorního vodovodu  včetně potřebných zemních prací.",null,null,null,null,null,null,null,null,"- Demontáž a odpojení propojů provizorního vodovodu  včetně potřebných zemních prací.",null,null,3]
[null,null,"- Likvidace veškerého materiálu provizorních vodovodů ",null,null,null,null,null,null,null,null,"- Likvidace veškerého materiálu provizorních vodovodů ",null,null,3]
[null,null,"- Součástí položky jsou i náklady na přesuny materiálů - Součástí položky jsou náklady zhotovitele na poplatky za skládky materiálu",null,null,null,null,null,null,null,null,"- Součástí položky jsou i náklady na přesuny materiálů - Součástí položky jsou náklady zhotovitele na poplatky za skládky materiálu",null,null,3]
[52,"899 02-0001.RRX","Provizorní VP PE100 RC1 D32x3,0 mm - délky do 10 m vč. příslušných tvarovek a armatur","soubor",17,null,{"$f":"E297*F297","v":0},0,{"$f":"E297*H297","v":0},null,{"$f":"E297*J297","v":0},null,null,null,2,null,null,null,null,null,null,null,null,null,null,null,12,0,68,null,null,null,null,null,null,null,null,null,null,null,null,null,null,null,null,null,null,null,null,null,null,1,{"$f":"IF(AZ297=1,G297,0)","v":0},{"$f":"IF(AZ297=2,G297,0)","v":0},{"$f":"IF(AZ297=3,G297,0)","v":0},{"$f":"IF(AZ297=4,G297,0)","v":0},{"$f":"IF(AZ297=5,G297,0)","v":0},null,null,null,null,null,null,null,null,null,null,null,null,null,null,null,null,null,null,null,null,null,12,0]
[null,null,"Součástí položky je ",null,null,null,null,null,null,null,null,"Součástí položky je ",null,null,3]
[null,null,"- Dodávka a montáž příslušného potrubí dle PD ",null,null,null,null,null,null,null,null,"- Dodávka a montáž příslušného potrubí dle PD ",null,null,3]
[null,null,"- Dodávka a montáž propojovacích tvarovek a armatur dle zvolené technologie zhotovitelem potřebné pro provoz provizorního propojení VP",null,null,null,null,null,null,null,null,"- Dodávka a montáž propojovacích tvarovek a armatur dle zvolené technologie zhotovitelem potřebné pro provoz provizorního propojení VP",null,null,3]
[null,null,"- Přerušení stávajícího potrubí přípojky",null,null,null,null,null,null,null,null,"- Přerušení stávajícího potrubí přípojky",null,null,3]
[null,null,"- Provedení tlakové zkoušky včetně proplachu a desinfekce potrubí dle ČSN",null,null,null,null,null,null,null,null,"- Provedení tlakové zkoušky včetně proplachu a desinfekce potrubí dle ČSN",null,null,3]
[null,null,"- Potředné zemní práce pro provedení propoje včetně případného odstranění konstrukcí komunikací a provizorní úprava povrchů v prostoru vedení provizorního vodovodu",null,null,null,null,null,null,null,null,"- Potředné zemní práce pro provedení propoje včetně případného odstranění konstrukcí komunikací a provizorní úprava povrchů v prostoru vedení provizorního vodovodu",null,null,3]
[null,null,"- Demontáž a odpojení propojů provizorní přípojky  včetně potřebných zemních prací.",null,null,null,null,null,null,null,null,"- Demontáž a odpojení propojů provizorní přípojky  včetně potřebných zemních prací.",null,null,3]
[null,null,"- Likvidace veškerého materiálu provizorních vodovodních přípojek",null,null,null,null,null,null,null,null,"- Likvidace veškerého materiálu provizorních vodovodních přípojek",null,null,3]
[null,null,"- Součástí položky jsou i náklady na přesuny materiálů - Součástí položky jsou náklady zhotovitele na poplatky za skládky materiálu",null,null,null,null,null,null,null,null,"- Součástí položky jsou i náklady na přesuny materiálů - Součástí položky jsou náklady zhotovitele na poplatky za skládky materiálu",null,null,3]
[null,"Celkem za","89 Ostatní konstrukce na trubním vedení",null,null,null,{"$f":"SUM(G286:G306)","v":0},null,{"$f":"SUM(I286:I306)","v":0},null,{"$f":"SUM(K286:K306)","v":0},null,null,null,4,null,null,null,null,null,null,null,null,null,null,null,null,null,null,null,null,null,null,null,null,null,null,null,null,null,null,null,null,null,null,null,null,null,null,null,null,null,{"$f":"SUM(BA286:BA306)","v":0},{"$f":"SUM(BB286:BB306)","v":0},{"$f":"SUM(BC286:BC306)","v":0},{"$f":"SUM(BD286:BD306)","v":0},{"$f":"SUM(BE286:BE306)","v":0}]
["Díl:","93","Dokončovací práce inženýrských staveb",null,null,null,null,null,null,null,null,null,null,null,1]
[53,"939421121RT1","Osazení samonivelač.vodovod.poklopu za finišerem bez dodávky poklopu","kus",21,null,{"$f":"E309*F309","v":0},5.2499999999999998E-2,{"$f":"E309*H309","v":1.1025},0,{"$f":"E309*J309","v":0},null,null,null,2,null,null,null,null,null,null,null,null,null,null,null,1,0,0,null,null,null,null,null,null,null,null,null,null,null,null,null,null,null,null,null,null,null,null,null,null,1,{"$f":"IF(AZ309=1,G309,0)","v":0},{"$f":"IF(AZ309=2,G309,0)","v":0},{"$f":"IF(AZ309=3,G309,0)","v":0},{"$f":"IF(AZ309=4,G309,0)","v":0},{"$f":"IF(AZ309=5,G309,0)","v":0},null,null,null,null,null,null,null,null,null,null,null,null,null,null,null,null,null,null,null,null,null,1,0]
[null,null,"Položka obsahuje:",null,null,null,null,null,null,null,null,"Položka obsahuje:",null,null,3]
[null,null,"- osazení prefabrikovaného betonového prstence do rychletuhnoucí malty (s dodávkou hmot)",null,null,null,null,null,null,null,null,"- osazení prefabrikovaného betonového prstence do rychletuhnoucí malty (s dodávkou hmot)",null,null,3]
[null,null,"- zalití prstence rychletuhnoucí zálivkou do výše prstence (s dodávkou hmoty)",null,null,null,null,null,null,null,null,"- zalití prstence rychletuhnoucí zálivkou do výše prstence (s dodávkou hmoty)",null,null,3]
[null,null,"- vložení kruhového bednění",null,null,null,null,null,null,null,null,"- vložení kruhového bednění",null,null,3]
[null,null,"- doplnění mezikruží asfaltovou směsí do výšky současné podkladní vrstvy, zhutnění",null,null,null,null,null,null,null,null,"- doplnění mezikruží asfaltovou směsí do výšky současné podkladní vrstvy, zhutnění",null,null,3]
[null,null,"- vyjmutí kruhového bednění",null,null,null,null,null,null,null,null,"- vyjmutí kruhového bednění",null,null,3]
[null,null,"- osazení poklopu a zatlačení",null,null,null,null,null,null,null,null,"- osazení poklopu a zatlačení",null,null,3]
[null,null,"  (následuje pokládka finální vrstvy vozovky - není součástí položky)",null,null,null,null,null,null,null,null,"  (následuje pokládka finální vrstvy vozovky - není součástí položky)",null,null,3]
[null,null,"- povytažení poklopu",null,null,null,null,null,null,null,null,"- povytažení poklopu",null,null,3]
[null,null,"- podsyp asfaltovou směsí, spuštění poklopu a zhutnění směsi",null,null,null,null,null,null,null,null,"- podsyp asfaltovou směsí, spuštění poklopu a zhutnění směsi",null,null,3]
[null,null,"Položka neobsahuje:",null,null,null,null,null,null,null,null,"Položka neobsahuje:",null,null,3]
[null,null,"- dodávku samonivelačního poklopu - oceňuje se ve specifikaci",null,null,null,null,null,null,null,null,"- dodávku samonivelačního poklopu - oceňuje se ve specifikaci",null,null,3]
[null,null,"- pokládku krycí vrstvy komunikace, oceňuje se samostatně",null,null,null,null,null,null,null,null,"- pokládku krycí vrstvy komunikace, oceňuje se samostatně",null,null,3]
[null,null,"Řad \"A8-1\" PE D 110x10,0 mm:",null,0,null,null,null,null,null,null,null,"Řad \"A8-1\" PE D 110x10,0 mm:"]
[null,null,"Pro NP DAV (KIT) PE D110/32:17",null,17,null,null,null,null,null,null,null,"Pro NP DAV (KIT) PE D110/32:17"]
[null,null,"Pro Šoupě DN80:2",null,2,null,null,null,null,null,null,null,"Pro Šoupě DN80:2"]
[null,null,"Pro Šoupě DN100:2",null,2,null,null,null,null,null,null,null,"Pro Šoupě DN100:2"]
[54,"939421131RT1","Osazení samonivelač.hydrant.poklopu za finišerem bez dodávky poklopu","kus",2,null,{"$f":"E327*F327","v":0},6.8250000000000005E-2,{"$f":"E327*H327","v":0.13650000000000001},0,{"$f":"E327*J327","v":0},null,null,null,2,null,null,null,null,null,null,null,null,null,null,null,1,1,1,null,null,null,null,null,null,null,null,null,null,null,null,null,null,null,null,null,null,null,null,null,null,1,{"$f":"IF(AZ327=1,G327,0)","v":0},{"$f":"IF(AZ327=2,G327,0)","v":0},{"$f":"IF(AZ327=3,G327,0)","v":0},{"$f":"IF(AZ327=4,G327,0)","v":0},{"$f":"IF(AZ327=5,G327,0)","v":0},null,null,null,null,null,null,null,null,null,null,null,null,null,null,null,null,null,null,null,null,null,1,1]
[null,null,"Položka obsahuje:",null,null,null,null,null,null,null,null,"Položka obsahuje:",null,null,3]
[null,null,"- osazení prefabrikovaného betonového prstence do rychletuhnoucí malty (s dodávkou hmot)",null,null,null,null,null,null,null,null,"- osazení prefabrikovaného betonového prstence do rychletuhnoucí malty (s dodávkou hmot)",null,null,3]
[null,null,"- zalití prstence rychletuhnoucí zálivkou do výše prstence (s dodávkou hmoty)",null,null,null,null,null,null,null,null,"- zalití prstence rychletuhnoucí zálivkou do výše prstence (s dodávkou hmoty)",null,null,3]
[null,null,"- vložení kruhového bednění",null,null,null,null,null,null,null,null,"- vložení kruhového bednění",null,null,3]
[null,null,"- doplnění mezikruží asfaltovou směsí do výšky současné podkladní vrstvy, zhutnění",null,null,null,null,null,null,null,null,"- doplnění mezikruží asfaltovou směsí do výšky současné podkladní vrstvy, zhutnění",null,null,3]
[null,null,"- vyjmutí kruhového bednění",null,null,null,null,null,null,null,null,"- vyjmutí kruhového bednění",null,null,3]
[null,null,"- osazení poklopu a zatlačení",null,null,null,null,null,null,null,null,"- osazení poklopu a zatlačení",null,null,3]
[null,null,"  (následuje pokládka finální vrstvy vozovky - není součástí položky)",null,null,null,null,null,null,null,null,"  (následuje pokládka finální vrstvy vozovky - není součástí položky)",null,null,3]
[null,null,"- povytažení poklopu",null,null,null,null,null,null,null,null,"- povytažení poklopu",null,null,3]
[null,null,"- podsyp asfaltovou směsí, spuštění poklopu a zhutnění směsi",null,null,null,null,null,null,null,null,"- podsyp asfaltovou směsí, spuštění poklopu a zhutnění směsi",null,null,3]
[null,null,"Položka neobsahuje:",null,null,null,null,null,null,null,null,"Položka neobsahuje:",null,null,3]
[null,null,"- dodávku samonivelačního poklopu - oceňuje se ve specifikaci",null,null,null,null,null,null,null,null,"- dodávku samonivelačního poklopu - oceňuje se ve specifikaci",null,null,3]
[null,null,"- pokládku krycí vrstvy komunikace, oceňuje se samostatně",null,null,null,null,null,null,null,null,"- pokládku krycí vrstvy komunikace, oceňuje se samostatně",null,null,3]
[null,null,"Řad \"A8-1\" PE D 110x10,0 mm:",null,0,null,null,null,null,null,null,null,"Řad \"A8-1\" PE D 110x10,0 mm:"]
[null,null,"Pro Hp DN80/1,5:2",null,2,null,null,null,null,null,null,null,"Pro Hp DN80/1,5:2"]
[55,"422913520.R","Poklop luliční samonivelační přípojkový D400","kus",17,null,{"$f":"E343*F343","v":0},1.2E-2,{"$f":"E343*H343","v":0.20400000000000001},null,{"$f":"E343*J343","v":0},null,null,null,2,null,null,null,null,null,null,null,null,null,null,null,3,1,"422913520.R",null,null,null,null,null,null,null,null,null,null,null,null,null,null,null,null,null,null,null,null,null,null,1,{"$f":"IF(AZ343=1,G343,0)","v":0},{"$f":"IF(AZ343=2,G343,0)","v":0},{"$f":"IF(AZ343=3,G343,0)","v":0},{"$f":"IF(AZ343=4,G343,0)","v":0},{"$f":"IF(AZ343=5,G343,0)","v":0},null,null,null,null,null,null,null,null,null,null,null,null,null,null,null,null,null,null,null,null,null,3,1]
[null,null,"Uliční samonivelační poklop přípojkový z tvárné litiny dle ČSN EN 124",null,null,null,null,null,null,null,null,"Uliční samonivelační poklop přípojkový z tvárné litiny dle ČSN EN 124",null,null,3]
[null,null,"Rozpětí stavební výšky 195 - 285 mm s fixací polohy",null,null,null,null,null,null,null,null,"Rozpětí stavební výšky 195 - 285 mm s fixací polohy",null,null,3]
[null,null,"Výklopové víko spojeno s rámem čepem a opatřeno ochrannou a těsnící vrstvou proti vnikání nečistot",null,null,null,null,null,null,null,null,"Výklopové víko spojeno s rámem čepem a opatřeno ochrannou a těsnící vrstvou proti vnikání nečistot",null,null,3]
[null,null,"Tlumicí vložka z elastomeru a PUR",null,null,null,null,null,null,null,null,"Tlumicí vložka z elastomeru a PUR",null,null,3]
[null,null,"Možnost vlastního loga a barevného provedení",null,null,null,null,null,null,null,null,"Možnost vlastního loga a barevného provedení",null,null,3]
[null,null,"Řad \"A8-1\" PE D 110x10,0 mm:",null,0,null,null,null,null,null,null,null,"Řad \"A8-1\" PE D 110x10,0 mm:"]
[null,null,"Pro NP DAV (KIT) PE D110/32:17",null,17,null,null,null,null,null,null,null,"Pro NP DAV (KIT) PE D110/32:17"]
[56,"422913521.R","Poklop litinový samonivelační šoupátkový D400","kus",4,null,{"$f":"E351*F351","v":0},1.2E-2,{"$f":"E351*H351","v":4.8000000000000001E-2},null,{"$f":"E351*J351","v":0},null,null,null,2,null,null,null,null,null,null,null,null,null,null,null,3,1,"422913521.R",null,null,null,null,null,null,null,null,null,null,null,null,null,null,null,null,null,null,null,null,null,null,1,{"$f":"IF(AZ351=1,G351,0)","v":0},{"$f":"IF(AZ351=2,G351,0)","v":0},{"$f":"IF(AZ351=3,G351,0)","v":0},{"$f":"IF(AZ351=4,G351,0)","v":0},{"$f":"IF(AZ351=5,G351,0)","v":0},null,null,null,null,null,null,null,null,null,null,null,null,null,null,null,null,null,null,null,null,null,3,1]
[null,null,"Uliční samonivelační šoupátkový poklop z tvárné litiny dle ČSN EN 124",null,null,null,null,null,null,null,null,"Uliční samonivelační šoupátkový poklop z tvárné litiny dle ČSN EN 124",null,null,3]
[null,null,"Rozpětí stavební výšky 195 - 285 mm s fixací polohy",null,null,null,null,null,null,null,null,"Rozpětí stavební výšky 195 - 285 mm s fixací polohy",null,null,3]
[null,null,"Výklopové víko spojeno s rámem čepem a opatřeno ochrannou a těsnící vrstvou proti vnikání nečistot",null,null,null,null,null,null,null,null,"Výklopové víko spojeno s rámem čepem a opatřeno ochrannou a těsnící vrstvou proti vnikání nečistot",null,null,3]
[null,null,"Tlumicí vložka z elastomeru a PUR",null,null,null,null,null,null,null,null,"Tlumicí vložka z elastomeru a PUR",null,null,3]
[null,null,"Možnost vlastního loga a barevného provedení",null,null,null,null,null,null,null,null,"Možnost vlastního loga a barevného provedení",null,null,3]
[null,null,"Řad \"A8-1\" PE D 110x10,0 mm:",null,0,null,null,null,null,null,null,null,"Řad \"A8-1\" PE D 110x10,0 mm:"]
[null,null,"Pro Šoupě DN80:2",null,2,null,null,null,null,null,null,null,"Pro Šoupě DN80:2"]
[null,null,"Pro Šoupě DN100:2",null,2,null,null,null,null,null,null,null,"Pro Šoupě DN100:2"]
[57,"422914522.R","Poklop litinový hydrantový samonivelační D400","kus",2,null,{"$f":"E360*F360","v":0},2.4E-2,{"$f":"E360*H360","v":4.8000000000000001E-2},null,{"$f":"E360*J360","v":0},null,null,null,2,null,null,null,null,null,null,null,null,null,null,null,3,1,"422914522.R",null,null,null,null,null,null,null,null,null,null,null,null,null,null,null,null,null,null,null,null,null,null,1,{"$f":"IF(AZ360=1,G360,0)","v":0},{"$f":"IF(AZ360=2,G360,0)","v":0},{"$f":"IF(AZ360=3,G360,0)","v":0},{"$f":"IF(AZ360=4,G360,0)","v":0},{"$f":"IF(AZ360=5,G360,0)","v":0},null,null,null,null,null,null,null,null,null,null,null,null,null,null,null,null,null,null,null,null,null,3,1]
[null,null,"Uliční samonivelační hydrantový poklop z tvárné litiny dle ČSN EN 124",null,null,null,null,null,null,null,null,"Uliční samonivelační hydrantový poklop z tvárné litiny dle ČSN EN 124",null,null,3]
[null,null,"Rozpětí stavební výšky 200 - 285 mm s fixací polohy",null,null,null,null,null,null,null,null,"Rozpětí stavební výšky 200 - 285 mm s fixací polohy",null,null,3]
[null,null,"Výklopové víko spojeno s rámem čepem a opatřeno ochrannou a těsnící vrstvou proti vnikání nečistot",null,null,null,null,null,null,null,null,"Výklopové víko spojeno s rámem čepem a opatřeno ochrannou a těsnící vrstvou proti vnikání nečistot",null,null,3]
[null,null,"Tlumicí vložka z elastomeru a PUR",null,null,null,null,null,null,null,null,"Tlumicí vložka z elastomeru a PUR",null,null,3]
[null,null,"Možnost vlastního loga a barevného provedení",null,null,null,null,null,null,null,null,"Možnost vlastního loga a barevného provedení",null,null,3]
[null,null,"Řad \"A8-1\" PE D 110x10,0 mm:",null,0,null,null,null,null,null,null,null,"Řad \"A8-1\" PE D 110x10,0 mm:"]
[null,null,"Pro Hp DN80/1,5:2",null,2,null,null,null,null,null,null,null,"Pro Hp DN80/1,5:2"]
[null,"Celkem za","93 Dokončovací práce inženýrských staveb",null,null,null,{"$f":"SUM(G308:G367)","v":0},null,{"$f":"SUM(I308:I367)","v":1.5390000000000001},null,{"$f":"SUM(K308:K367)","v":0},null,null,null,4,null,null,null,null,null,null,null,null,null,null,null,null,null,null,null,null,null,null,null,null,null,null,null,null,null,null,null,null,null,null,null,null,null,null,null,null,null,{"$f":"SUM(BA308:BA367)","v":0},{"$f":"SUM(BB308:BB367)","v":0},{"$f":"SUM(BC308:BC367)","v":0},{"$f":"SUM(BD308:BD367)","v":0},{"$f":"SUM(BE308:BE367)","v":0}]
["Díl:","99","Staveništní přesun hmot",null,null,null,null,null,null,null,null,null,null,null,1]
[58,"998276101RXX","Přesun hmot, trubní vedení plastová, otevř. výkop pro celý rozsah objektu","t",383.06927385,null,{"$f":"E370*F370","v":0},0,{"$f":"E370*H370","v":0},null,{"$f":"E370*J370","v":0},null,null,null,2,null,null,null,null,null,null,null,null,null,null,null,7,1,2,null,null,null,null,null,null,null,null,null,null,null,null,null,null,null,null,null,null,null,null,null,null,1,{"$f":"IF(AZ370=1,G370,0)","v":0},{"$f":"IF(AZ370=2,G370,0)","v":0},{"$f":"IF(AZ370=3,G370,0)","v":0},{"$f":"IF(AZ370=4,G370,0)","v":0},{"$f":"IF(AZ370=5,G370,0)","v":0},null,null,null,null,null,null,null,null,null,null,null,null,null,null,null,null,null,null,null,null,null,7,1]
[null,null,"Staveništní doprava pro celý rozsah objektu - doprava zmeziskládek vybudovaného zařízení staveniště zhotovitele na jednotlivé části staveniště.",null,null,null,null,null,null,null,null,"Staveništní doprava pro celý rozsah objektu - doprava zmeziskládek vybudovaného zařízení staveniště zhotovitele na jednotlivé části staveniště.",null,null,3]
[null,"Celkem za","99 Staveništní přesun hmot",null,null,null,{"$f":"SUM(G369:G371)","v":0},null,{"$f":"SUM(I369:I371)","v":0},null,{"$f":"SUM(K369:K371)","v":0},null,null,null,4,null,null,null,null,null,null,null,null,null,null,null,null,null,null,null,null,null,null,null,null,null,null,null,null,null,null,null,null,null,null,null,null,null,null,null,null,null,{"$f":"SUM(BA369:BA371)","v":0},{"$f":"SUM(BB369:BB371)","v":0},{"$f":"SUM(BC369:BC371)","v":0},{"$f":"SUM(BD369:BD371)","v":0},{"$f":"SUM(BE369:BE371)","v":0}]

{"sheet":"1.E 01 1.E 01.1.2 KL","index":10,"n_rows":45,"n_cols":8,"rows_kept":45,"cut":false,"hidden":false,"merged":[[50,1,50,6],[29,5,29,6],[30,5,30,6],[31,5,31,6],[32,5,32,6],[33,5,33,6],[36,1,44,6],[45,1,45,6],[46,1,46,6],[47,1,47,6],[48,1,48,6],[49,1,49,6],[22,0,22,1],[7,2,7,4],[8,2,8,4],[9,2,9,4],[10,2,10,4],[11,2,11,4]]}
["POLOŽKOVÝ ROZPOČET"]
["Rozpočet",null,"1.E 01.1.2","Vodovodní řad \"A8-2-1\"",null,"JKSO ","827.11"]
[]
["Objekt",null,null,null,null,"SKP "]
["1.E 01",null,"Vodovody",null,null,"Měrná jednotka","m"]
["Stavba",null,null,null,null,"Počet jednotek",0]
["3403",null,"Jilemnice - Optimalizace VS a komunikace I.Etapa",null,null,"Náklady na m.j.",{"$f":"IF(G6=0,,ROUND((F30+F32)/G6,1))","v":0}]
["Projektant",null,"Vodohospodářsko - inženýrské služby spol. s r.o.",null,null,"Typ rozpočtu"]
["Zpracovatel projektu"]
["Objednatel",null,"Vodohospodářské sdružení Turnov"]
["Dodavatel",null,".",null,null,"Zakázkové číslo "]
["Rozpočtoval",null,null,null,null,"Počet listů"]
["ROZPOČTOVÉ NÁKLADY"]
["Základní rozpočtové náklady"]
[null,"HSV celkem",{"$f":"'1.E 01 1.E 01.1.2 Rek'!E14","v":0}]
["Z","PSV celkem",{"$f":"'1.E 01 1.E 01.1.2 Rek'!F14","v":0}]
["R","M práce celkem",{"$f":"'1.E 01 1.E 01.1.2 Rek'!H14","v":0}]
["N","M dodávky celkem",{"$f":"'1.E 01 1.E 01.1.2 Rek'!G14","v":0}]
["ZRN celkem",null,{"$f":"SUM(C15:C18)","v":0}]
[]
["HZS",null,{"$f":"'1.E 01 1.E 01.1.2 Rek'!I14","v":0}]
["ZRN+HZS",null,{"$f":"C19+C21","v":0}]
["ZRN+ost.náklady+HZS",null,{"$f":"C22+G23","v":0}]
["Vypracoval",null,null,"Za zhotovitele",null,"Za objednatele"]
["Jméno :",null,null,"Jméno :",null,"Jméno :"]
["Datum :",null,null,"Datum :",null,"Datum :"]
[]
["Podpis :",null,null,"Podpis:",null,"Podpis:"]
[]
["Základ pro DPH",null,21,"%  ",null,{"$f":"C23-F32","v":0}]
["DPH",null,{"$f":"C30","v":21},"% ",null,{"$f":"ROUND(PRODUCT(F30,C31/100),0)","v":0}]
["Základ pro DPH",null,0,"% ",null,0]
["DPH",null,{"$f":"C32","v":0},"% ",null,{"$f":"ROUND(PRODUCT(F32,C33/100),0)","v":0}]
["CENA ZA OBJEKT CELKEM",null,null,null,null,{"$f":"ROUND(SUM(F30:F33),0)","v":0}]
[]
["Poznámka :",null,null,null,null,null,null," "]
[null,null,null,null,null,null,null," "]
[null,null,null,null,null,null,null," "]
[null,null,null,null,null,null,null," "]
[null,null,null,null,null,null,null," "]
[null,null,null,null,null,null,null," "]
[null,null,null,null,null,null,null," "]
[null,null,null,null,null,null,null," "]
[null,null,null,null,null,null,null," "]
[null,null,null,null,null,null,null," "]

{"sheet":"1.E 01 1.E 01.1.2 Rek","index":11,"n_rows":14,"n_cols":9,"rows_kept":14,"cut":false,"hidden":false,"merged":[[0,0,0,1],[1,0,1,1],[1,6,1,8]]}
["Stavba :",null,"3403 Jilemnice - Optimalizace VS a komunikace",null,null,null,"Rozpočet :","1.E 01.1.2"]
["Objekt :",null,"1.E 01 Vodovody",null,null,null,"Vodovodní řad \"A8-2-1\""]
[]
["REKAPITULACE  STAVEBNÍCH  DÍLŮ"]
[]
[null,"Stavební díl",null,null,"HSV","PSV","Dodávka","Montáž","HZS"]
[{"$f":"'1.E 01 1.E 01.1.2 Pol'!B7","v":"1"},{"$f":"'1.E 01 1.E 01.1.2 Pol'!C7","v":"Zemní práce"},null,null,{"$f":"'1.E 01 1.E 01.1.2 Pol'!BA81","v":0},{"$f":"'1.E 01 1.E 01.1.2 Pol'!BB81","v":0},{"$f":"'1.E 01 1.E 01.1.2 Pol'!BC81","v":0},{"$f":"'1.E 01 1.E 01.1.2 Pol'!BD81","v":0},{"$f":"'1.E 01 1.E 01.1.2 Pol'!BE81","v":0}]
[{"$f":"'1.E 01 1.E 01.1.2 Pol'!B82","v":"45"},{"$f":"'1.E 01 1.E 01.1.2 Pol'!C82","v":"Podkladní a vedlejší konstrukce"},null,null,{"$f":"'1.E 01 1.E 01.1.2 Pol'!BA86","v":0},{"$f":"'1.E 01 1.E 01.1.2 Pol'!BB86","v":0},{"$f":"'1.E 01 1.E 01.1.2 Pol'!BC86","v":0},{"$f":"'1.E 01 1.E 01.1.2 Pol'!BD86","v":0},{"$f":"'1.E 01 1.E 01.1.2 Pol'!BE86","v":0}]
[{"$f":"'1.E 01 1.E 01.1.2 Pol'!B87","v":"5"},{"$f":"'1.E 01 1.E 01.1.2 Pol'!C87","v":"Komunikace"},null,null,{"$f":"'1.E 01 1.E 01.1.2 Pol'!BA92","v":0},{"$f":"'1.E 01 1.E 01.1.2 Pol'!BB92","v":0},{"$f":"'1.E 01 1.E 01.1.2 Pol'!BC92","v":0},{"$f":"'1.E 01 1.E 01.1.2 Pol'!BD92","v":0},{"$f":"'1.E 01 1.E 01.1.2 Pol'!BE92","v":0}]
[{"$f":"'1.E 01 1.E 01.1.2 Pol'!B93","v":"8"},{"$f":"'1.E 01 1.E 01.1.2 Pol'!C93","v":"Trubní vedení"},null,null,{"$f":"'1.E 01 1.E 01.1.2 Pol'!BA186","v":0},{"$f":"'1.E 01 1.E 01.1.2 Pol'!BB186","v":0},{"$f":"'1.E 01 1.E 01.1.2 Pol'!BC186","v":0},{"$f":"'1.E 01 1.E 01.1.2 Pol'!BD186","v":0},{"$f":"'1.E 01 1.E 01.1.2 Pol'!BE186","v":0}]
[{"$f":"'1.E 01 1.E 01.1.2 Pol'!B187","v":"89"},{"$f":"'1.E 01 1.E 01.1.2 Pol'!C187","v":"Ostatní konstrukce na trubním vedení"},null,null,{"$f":"'1.E 01 1.E 01.1.2 Pol'!BA209","v":0},{"$f":"'1.E 01 1.E 01.1.2 Pol'!BB209","v":0},{"$f":"'1.E 01 1.E 01.1.2 Pol'!BC209","v":0},{"$f":"'1.E 01 1.E 01.1.2 Pol'!BD209","v":0},{"$f":"'1.E 01 1.E 01.1.2 Pol'!BE209","v":0}]
[{"$f":"'1.E 01 1.E 01.1.2 Pol'!B210","v":"93"},{"$f":"'1.E 01 1.E 01.1.2 Pol'!C210","v":"Dokončovací práce inženýrských staveb"},null,null,{"$f":"'1.E 01 1.E 01.1.2 Pol'!BA268","v":0},{"$f":"'1.E 01 1.E 01.1.2 Pol'!BB268","v":0},{"$f":"'1.E 01 1.E 01.1.2 Pol'!BC268","v":0},{"$f":"'1.E 01 1.E 01.1.2 Pol'!BD268","v":0},{"$f":"'1.E 01 1.E 01.1.2 Pol'!BE268","v":0}]
[{"$f":"'1.E 01 1.E 01.1.2 Pol'!B269","v":"99"},{"$f":"'1.E 01 1.E 01.1.2 Pol'!C269","v":"Staveništní přesun hmot"},null,null,{"$f":"'1.E 01 1.E 01.1.2 Pol'!BA272","v":0},{"$f":"'1.E 01 1.E 01.1.2 Pol'!BB272","v":0},{"$f":"'1.E 01 1.E 01.1.2 Pol'!BC272","v":0},{"$f":"'1.E 01 1.E 01.1.2 Pol'!BD272","v":0},{"$f":"'1.E 01 1.E 01.1.2 Pol'!BE272","v":0}]
[null,"CELKEM  OBJEKT",null,null,{"$f":"SUM(E7:E13)","v":0},{"$f":"SUM(F7:F13)","v":0},{"$f":"SUM(G7:G13)","v":0},{"$f":"SUM(H7:H13)","v":0},{"$f":"SUM(I7:I13)","v":0}]

{"sheet":"1.E 01 1.E 01.1.2 Pol","index":12,"n_rows":272,"n_cols":80,"rows_kept":272,"cut":false,"hidden":false,"merged":[[263,2,263,6],[264,2,264,6],[265,2,265,3],[266,2,266,3],[270,2,270,6],[256,2,256,6],[257,2,257,3],[258,2,258,3],[260,2,260,6],[261,2,261,6],[262,2,262,6],[249,2,249,3],[250,2,250,3],[252,2,252,6],[253,2,253,6],[254,2,254,6],[255,2,255,6],[242,2,242,3],[244,2,244,6],[245,2,245,6],[246,2,246,6],[247,2,247,6],[248,2,248,6],[236,2,236,6],[237,2,237,6],[238,2,238,6],[239,2,239,6],[240,2,240,6],[241,2,241,3],[230,2,230,6],[231,2,231,6],[232,2,232,6],[233,2,233,6],[234,2,234,6],[235,2,235,6],[223,2,223,6],[224,2,224,3],[225,2,225,3],[226,2,226,3],[228,2,228,6],[229,2,229,6],[217,2,217,6],[218,2,218,6],[219,2,219,6],[220,2,220,6],[221,2,221,6],[222,2,222,6],[206,2,206,6],[207,2,207,6],[211,2,211,6],[212,2,212,6],[213,2,213,6],[214,2,214,6],[215,2,215,6],[216,2,216,6],[200,2,200,6],[201,2,201,6],[202,2,202,6],[203,2,203,6],[204,2,204,6],[205,2,205,6],[193,2,193,6],[194,2,194,6],[195,2,195,6],[196,2,196,6],[197,2,197,3],[199,2,199,6],[181,2,181,3],[183,2,183,3],[184,2,184,3],[188,2,188,6],[189,2,189,6],[190,2,190,6],[191,2,191,6],[192,2,192,6],[173,2,173,6],[174,2,174,3],[175,2,175,3],[177,2,177,3],[178,2,178,3],[180,2,180,3],[166,2,166,3],[168,2,168,6],[169,2,169,6],[170,2,170,6],[171,2,171,6],[172,2,172,6],[157,2,157,3],[159,2,159,3],[160,2,160,3],[162,2,162,3],[163,2,163,3],[165,2,165,3],[150,2,150,3],[152,2,152,6],[153,2,153,6],[154,2,154,6],[155,2,155,6],[156,2,156,6],[142,2,142,3],[143,2,143,3],[144,2,144,3],[146,2,146,3],[147,2,147,3],[149,2,149,3],[134,2,134,3],[135,2,135,3],[137,2,137,3],[139,2,139,6],[140,2,140,3],[141,2,141,3],[126,2,126,3],[128,2,128,6],[129,2,129,3],[131,2,131,6],[132,2,132,3],[133,2,133,3],[119,2,119,3],[120,2,120,3],[121,2,121,3],[122,2,122,3],[123,2,123,3],[125,2,125,6],[112,2,112,6],[113,2,113,3],[114,2,114,3],[116,2,116,6],[117,2,117,3],[118,2,118,3],[104,2,104,3],[106,2,106,6],[107,2,107,6],[108,2,108,3],[109,2,109,3],[111,2,111,6],[94,2,94,6],[95,2,95,6],[96,2,96,3],[97,2,97,3],[98,2,98,3],[100,2,100,6],[101,2,101,3],[103,2,103,3],[79,2,79,3],[83,2,83,3],[88,2,88,3],[89,2,89,3],[90,2,90,3],[72,2,72,3],[74,2,74,3],[75,2,75,3],[76,2,76,3],[77,2,77,3],[78,2,78,3],[63,2,63,3],[64,2,64,3],[66,2,66,3],[68,2,68,3],[69,2,69,3],[70,2,70,3],[57,2,57,6],[58,2,58,6],[59,2,59,3],[60,2,60,3],[61,2,61,3],[62,2,62,3],[49,2,49,3],[50,2,50,3],[51,2,51,3],[53,2,53,3],[54,2,54,3],[55,2,55,3],[41,2,41,3],[43,2,43,3],[44,2,44,3],[45,2,45,3],[46,2,46,3],[48,2,48,3],[34,2,34,3],[35,2,35,3],[36,2,36,3],[38,2,38,6],[39,2,39,3],[40,2,40,3],[26,2,26,3],[27,2,27,3],[29,2,29,6],[30,2,30,3],[31,2,31,3],[32,2,32,3],[19,2,19,3],[20,2,20,3],[21,2,21,3],[22,2,22,3],[23,2,23,3],[25,2,25,3],[12,2,12,3],[14,2,14,6],[15,2,15,3],[16,2,16,3],[17,2,17,3],[18,2,18,3],[0,0,0,6],[2,0,2,1],[3,0,3,1],[3,4,3,6],[8,2,8,6],[9,2,9,6],[10,2,10,3],[11,2,11,3]]}
["Položkový rozpočet "]
[]
["Stavba :",null,"3403 Jilemnice - Optimalizace VS a komunikace",null,"Rozpočet:",{"$f":"'1.E 01 1.E 01.1.2 Rek'!H1","v":"1.E 01.1.2"}]
["Objekt :",null,"1.E 01 Vodovody",null,{"$f":"'1.E 01 1.E 01.1.2 Rek'!G2","v":"Vodovodní řad \"A8-2-1\""}]
[]
["P.č.","Číslo položky","Název položky","MJ","množství","cena / MJ","celkem (Kč)","Jednotková hmotnost","Celková hmotnost","Jednotková dem.hmot.","Celková dem.hmot."]
["Díl:","1","Zemní práce",null,null,null,null,null,null,null,null,null,null,null,1]
[1,"130001101RRX","Příplatek za ztížené hloubení v blízkosti vedení ","m3",14.976000000000001,null,{"$f":"E8*F8","v":0},0,{"$f":"E8*H8","v":0},0,{"$f":"E8*J8","v":0},null,null,null,2,null,null,null,null,null,null,null,null,null,null,null,1,1,1,null,null,null,null,null,null,null,null,null,null,null,null,null,null,null,null,null,null,null,null,null,null,1,{"$f":"IF(AZ8=1,G8,0)","v":0},{"$f":"IF(AZ8=2,G8,0)","v":0},{"$f":"IF(AZ8=3,G8,0)","v":0},{"$f":"IF(AZ8=4,G8,0)","v":0},{"$f":"IF(AZ8=5,G8,0)","v":0},null,null,null,null,null,null,null,null,null,null,null,null,null,null,null,null,null,null,null,null,null,1,1]
[null,null,"Včetně případných nutných dokopávem a ručního výkopu podél sousedících inženýrských sítí.",null,null,null,null,null,null,null,null,"Včetně případných nutných dokopávem a ručního výkopu podél sousedících inženýrských sítí.",null,null,3]
[null,null,"Součástí položky je i dočasné zajištění inženýrských sítí v prostoru výkopů (potrubí, kabely a pod.)",null,null,null,null,null,null,null,null,"Součástí položky je i dočasné zajištění inženýrských sítí v prostoru výkopů (potrubí, kabely a pod.)",null,null,3]
[null,null,"Řad \"A8-2-1\" PE D 90x8,2 mm:",null,0,null,null,null,null,null,null,null,"Řad \"A8-2-1\" PE D 90x8,2 mm:"]
[null,null,"Výkopy:",null,0,null,null,null,null,null,null,null,"Výkopy:"]
[null,null,"V hornině tř. 3 - 4 - 20%:74,8800*0,2",null,14.976000000000001,null,null,null,null,null,null,null,"V hornině tř. 3 - 4 - 20%:74,8800*0,2"]
[2,"132201212R00","Hloubení rýh š.do 200 cm hor.3 do 1000m3,STROJNĚ ","m3",29.952000000000002,null,{"$f":"E14*F14","v":0},0,{"$f":"E14*H14","v":0},0,{"$f":"E14*J14","v":0},null,null,null,2,null,null,null,null,null,null,null,null,null,null,null,1,1,1,null,null,null,null,null,null,null,null,null,null,null,null,null,null,null,null,null,null,null,null,null,null,1,{"$f":"IF(AZ14=1,G14,0)","v":0},{"$f":"IF(AZ14=2,G14,0)","v":0},{"$f":"IF(AZ14=3,G14,0)","v":0},{"$f":"IF(AZ14=4,G14,0)","v":0},{"$f":"IF(AZ14=5,G14,0)","v":0},null,null,null,null,null,null,null,null,null,null,null,null,null,null,null,null,null,null,null,null,null,1,1]
[null,null,"Položka obsahuje hloubení rýh traktorbagrem, naložení výkopku na dopravní prostředek pro svislé, nebo vodorovné přemístění, popř. přemístění výkopku do 3 m (po povrchu území), případné zajištění rypadel polštáři, udržování pracoviště a ochranu výkopiště proti stékání srážkové vody z okolního terénu i s jejím odvodněním, nebo odvedením, přesekání a odstranění kořenů ve výkopišti, odstranění napadávek, urovnání dna výkopu.",null,null,null,null,null,null,null,null,"Položka obsahuje hloubení rýh traktorbagrem, naložení výkopku na dopravní prostředek pro svislé, nebo vodorovné přemístění, popř. přemístění výkopku do 3 m (po povrchu území), případné zajištění rypadel polštáři, udržování pracoviště a ochranu výkopiště proti stékání srážkové vody z okolního terénu i s jejím odvodněním, nebo odvedením, přesekání a odstranění kořenů ve výkopišti, odstranění napadávek, urovnání dna výkopu.",null,null,3]
[null,null,"Řad \"A8-2-1\" PE D 90x8,2 mm:",null,0,null,null,null,null,null,null,null,"Řad \"A8-2-1\" PE D 90x8,2 mm:"]
[null,null,"Výkopy:",null,0,null,null,null,null,null,null,null,"Výkopy:"]
[null,null,"Začátek provozního součtu",null,0,null,null,null,null,null,null,null,"Začátek provozního součtu"]
[null,null,"Souběh s kanalizací:",null,0,null,null,null,null,null,null,null,"Souběh s kanalizací:"]
[null,null,"Průměrná hloubka výkopů 1,70 m:",null,0,null,null,null,null,null,null,null,"Průměrná hloubka výkopů 1,70 m:"]
[null,null,"Řad \"A8-2-1\" :72,00*0,80*1,70",null,97.92,null,null,null,null,null,null,null,"Řad \"A8-2-1\" :72,00*0,80*1,70"]
[null,null,"Odpočet předpokládané konstrukce MK:-72,00*0,80*0,40",null,-23.04,null,null,null,null,null,null,null,"Odpočet předpokládané konstrukce MK:-72,00*0,80*0,40"]
[null,null,"Konec provozního součtu",null,74.88,null,null,null,null,null,null,null,"Konec provozního součtu"]
[null,null,"V hornině tř. 3 - 40%:74,8800*0,4",null,29.952000000000002,null,null,null,null,null,null,null,"V hornině tř. 3 - 40%:74,8800*0,4"]
[3,"132201219R00","Přípl.za lepivost,hloubení rýh 200cm,hor.3,STROJNĚ ","m3",14.976000000000001,null,{"$f":"E25*F25","v":0},0,{"$f":"E25*H25","v":0},0,{"$f":"E25*J25","v":0},null,null,null,2,null,null,null,null,null,null,null,null,null,null,null,1,1,1,null,null,null,null,null,null,null,null,null,null,null,null,null,null,null,null,null,null,null,null,null,null,1,{"$f":"IF(AZ25=1,G25,0)","v":0},{"$f":"IF(AZ25=2,G25,0)","v":0},{"$f":"IF(AZ25=3,G25,0)","v":0},{"$f":"IF(AZ25=4,G25,0)","v":0},{"$f":"IF(AZ25=5,G25,0)","v":0},null,null,null,null,null,null,null,null,null,null,null,null,null,null,null,null,null,null,null,null,null,1,1]
[null,null,"Řad \"A8-2-1\" PE D 90x8,2 mm:",null,0,null,null,null,null,null,null,null,"Řad \"A8-2-1\" PE D 90x8,2 mm:"]
[null,null,"Výkopy:",null,0,null,null,null,null,null,null,null,"Výkopy:"]
[null,null,"V hornině tř. 3 - 40%:74,8800*0,4*0,5",null,14.976000000000001,null,null,null,null,null,null,null,"V hornině tř. 3 - 40%:74,8800*0,4*0,5"]
[4,"132301212R00","Hloubení rýh š.do 200 cm hor.4 do 1000 m3, STROJNĚ ","m3",37.44,null,{"$f":"E29*F29","v":0},0,{"$f":"E29*H29","v":0},0,{"$f":"E29*J29","v":0},null,null,null,2,null,null,null,null,null,null,null,null,null,null,null,1,1,1,null,null,null,null,null,null,null,null,null,null,null,null,null,null,null,null,null,null,null,null,null,null,1,{"$f":"IF(AZ29=1,G29,0)","v":0},{"$f":"IF(AZ29=2,G29,0)","v":0},{"$f":"IF(AZ29=3,G29,0)","v":0},{"$f":"IF(AZ29=4,G29,0)","v":0},{"$f":"IF(AZ29=5,G29,0)","v":0},null,null,null,null,null,null,null,null,null,null,null,null,null,null,null,null,null,null,null,null,null,1,1]
[null,null,"Položka obsahuje hloubení rýh traktorbagrem, naložení výkopku na dopravní prostředek pro svislé, nebo vodorovné přemístění, popř. přemístění výkopku do 3 m (po povrchu území), případné zajištění rypadel polštáři, udržování pracoviště a ochranu výkopiště proti stékání srážkové vody z okolního terénu i s jejím odvodněním, nebo odvedením, přesekání a odstranění kořenů ve výkopišti, odstranění napadávek, urovnání dna výkopu.",null,null,null,null,null,null,null,null,"Položka obsahuje hloubení rýh traktorbagrem, naložení výkopku na dopravní prostředek pro svislé, nebo vodorovné přemístění, popř. přemístění výkopku do 3 m (po povrchu území), případné zajištění rypadel polštáři, udržování pracoviště a ochranu výkopiště proti stékání srážkové vody z okolního terénu i s jejím odvodněním, nebo odvedením, přesekání a odstranění kořenů ve výkopišti, odstranění napadávek, urovnání dna výkopu.",null,null,3]
[null,null,"Řad \"A8-2-1\" PE D 90x8,2 mm:",null,0,null,null,null,null,null,null,null,"Řad \"A8-2-1\" PE D 90x8,2 mm:"]
[null,null,"Výkopy:",null,0,null,null,null,null,null,null,null,"Výkopy:"]
[null,null,"V hornině tř. 4 - 50%:74,8800*0,5",null,37.44,null,null,null,null,null,null,null,"V hornině tř. 4 - 50%:74,8800*0,5"]
[5,"132301219R00","Přípl.za lepivost,hloubení rýh 200cm,hor.4,STROJNĚ ","m3",18.72,null,{"$f":"E34*F34","v":0},0,{"$f":"E34*H34","v":0},0,{"$f":"E34*J34","v":0},null,null,null,2,null,null,null,null,null,null,null,null,null,null,null,1,1,1,null,null,null,null,null,null,null,null,null,null,null,null,null,null,null,null,null,null,null,null,null,null,1,{"$f":"IF(AZ34=1,G34,0)","v":0},{"$f":"IF(AZ34=2,G34,0)","v":0},{"$f":"IF(AZ34=3,G34,0)","v":0},{"$f":"IF(AZ34=4,G34,0)","v":0},{"$f":"IF(AZ34=5,G34,0)","v":0},null,null,null,null,null,null,null,null,null,null,null,null,null,null,null,null,null,null,null,null,null,1,1]
[null,null,"Řad \"A8-2-1\" PE D 90x8,2 mm:",null,0,null,null,null,null,null,null,null,"Řad \"A8-2-1\" PE D 90x8,2 mm:"]
[null,null,"Výkopy:",null,0,null,null,null,null,null,null,null,"Výkopy:"]
[null,null,"V hornině tř. 4 - 50%:74,8800*0,5*0,5",null,18.72,null,null,null,null,null,null,null,"V hornině tř. 4 - 50%:74,8800*0,5*0,5"]
[6,"132401211RRX","Hloubení rýh šířky do 200 cm v hor.5 STROJNĚ včetně případného dolamování ve vrstvě do 0,5 m","m3",7.4880000000000004,null,{"$f":"E38*F38","v":0},1.0410000000000001E-2,{"$f":"E38*H38","v":7.7950080000000005E-2},0,{"$f":"E38*J38","v":0},null,null,null,2,null,null,null,null,null,null,null,null,null,null,null,1,1,1,null,null,null,null,null,null,null,null,null,null,null,null,null,null,null,null,null,null,null,null,null,null,1,{"$f":"IF(AZ38=1,G38,0)","v":0},{"$f":"IF(AZ38=2,G38,0)","v":0},{"$f":"IF(AZ38=3,G38,0)","v":0},{"$f":"IF(AZ38=4,G38,0)","v":0},{"$f":"IF(AZ38=5,G38,0)","v":0},null,null,null,null,null,null,null,null,null,null,null,null,null,null,null,null,null,null,null,null,null,1,1]
[null,null,"Položka obsahuje hloubení rýh traktorbagrem, naložení výkopku na dopravní prostředek pro svislé, nebo vodorovné přemístění, popř. přemístění výkopku do 3 m (po povrchu území), případné zajištění rypadel polštáři, udržování pracoviště a ochranu výkopiště proti stékání srážkové vody z okolního terénu i s jejím odvodněním, nebo odvedením, přesekání a odstranění kořenů ve výkopišti, odstranění napadávek, urovnání dna výkopu.včetně případného dolamování ve vrstvě do 0,5 m",null,null,null,null,null,null,null,null,"Položka obsahuje hloubení rýh traktorbagrem, naložení výkopku na dopravní prostředek pro svislé, nebo vodorovné přemístění, popř. přemístění výkopku do 3 m (po povrchu území), případné zajištění rypadel polštáři, udržování pracoviště a ochranu výkopiště proti stékání srážkové vody z okolního terénu i s jejím odvodněním, nebo odvedením, přesekání a odstranění kořenů ve výkopišti, odstranění napadávek, urovnání dna výkopu.včetně případného dolamování ve vrstvě do 0,5 m",null,null,3]
[null,null,"Řad \"A8-2-1\" PE D 90x8,2 mm:",null,0,null,null,null,null,null,null,null,"Řad \"A8-2-1\" PE D 90x8,2 mm:"]
[null,null,"Výkopy:",null,0,null,null,null,null,null,null,null,"Výkopy:"]
[null,null,"V hornině tř. 5 - 10%:74,8800*0,1",null,7.4880000000000004,null,null,null,null,null,null,null,"V hornině tř. 5 - 10%:74,8800*0,1"]
[7,"151101101R00","Pažení a rozepření stěn rýh - příložné - hl.do 2 m ","m2",122.4,null,{"$f":"E43*F43","v":0},9.8999999999999999E-4,{"$f":"E43*H43","v":0.12117600000000001},0,{"$f":"E43*J43","v":0},null,null,null,2,null,null,null,null,null,null,null,null,null,null,null,1,1,1,null,null,null,null,null,null,null,null,null,null,null,null,null,null,null,null,null,null,null,null,null,null,1,{"$f":"IF(AZ43=1,G43,0)","v":0},{"$f":"IF(AZ43=2,G43,0)","v":0},{"$f":"IF(AZ43=3,G43,0)","v":0},{"$f":"IF(AZ43=4,G43,0)","v":0},{"$f":"IF(AZ43=5,G43,0)","v":0},null,null,null,null,null,null,null,null,null,null,null,null,null,null,null,null,null,null,null,null,null,1,1]
[null,null,"Řad \"A8-2-1\" PE D 90x8,2 mm:",null,0,null,null,null,null,null,null,null,"Řad \"A8-2-1\" PE D 90x8,2 mm:"]
[null,null,"Výkopy:",null,0,null,null,null,null,null,null,null,"Výkopy:"]
[null,null,"Souběh s kanalizací:",null,0,null,null,null,null,null,null,null,"Souběh s kanalizací:"]
[null,null,"Řad \"A8-2-1\"  - 50%:72,00*1,70*2*0,5",null,122.4,null,null,null,null,null,null,null,"Řad \"A8-2-1\"  - 50%:72,00*1,70*2*0,5"]
[8,"151101111R00","Odstranění pažení stěn rýh - příložné - hl. do 2 m ","m2",122.4,null,{"$f":"E48*F48","v":0},0,{"$f":"E48*H48","v":0},0,{"$f":"E48*J48","v":0},null,null,null,2,null,null,null,null,null,null,null,null,null,null,null,1,1,1,null,null,null,null,null,null,null,null,null,null,null,null,null,null,null,null,null,null,null,null,null,null,1,{"$f":"IF(AZ48=1,G48,0)","v":0},{"$f":"IF(AZ48=2,G48,0)","v":0},{"$f":"IF(AZ48=3,G48,0)","v":0},{"$f":"IF(AZ48=4,G48,0)","v":0},{"$f":"IF(AZ48=5,G48,0)","v":0},null,null,null,null,null,null,null,null,null,null,null,null,null,null,null,null,null,null,null,null,null,1,1]
[null,null,"Řad \"A8-2-1\" PE D 90x8,2 mm:",null,0,null,null,null,null,null,null,null,"Řad \"A8-2-1\" PE D 90x8,2 mm:"]
[null,null,"Výkopy:",null,0,null,null,null,null,null,null,null,"Výkopy:"]
[null,null,"Souběh s kanalizací:",null,0,null,null,null,null,null,null,null,"Souběh s kanalizací:"]
[null,null,"Řad \"A8-2-1\"  - 50%:72,00*1,70*2*0,5",null,122.4,null,null,null,null,null,null,null,"Řad \"A8-2-1\"  - 50%:72,00*1,70*2*0,5"]
[9,"162701105RSZ","Vodorovné přemístění výkopku z hor.1-7 na skládku zhotovitele","m3",74.88,null,{"$f":"E53*F53","v":0},0,{"$f":"E53*H53","v":0},0,{"$f":"E53*J53","v":0},null,null,null,2,null,null,null,null,null,null,null,null,null,null,null,1,1,1,null,null,null,null,null,null,null,null,null,null,null,null,null,null,null,null,null,null,null,null,null,null,1,{"$f":"IF(AZ53=1,G53,0)","v":0},{"$f":"IF(AZ53=2,G53,0)","v":0},{"$f":"IF(AZ53=3,G53,0)","v":0},{"$f":"IF(AZ53=4,G53,0)","v":0},{"$f":"IF(AZ53=5,G53,0)","v":0},null,null,null,null,null,null,null,null,null,null,null,null,null,null,null,null,null,null,null,null,null,1,1]
[null,null,"Řad \"A8-2-1\" PE D 90x8,2 mm:",null,0,null,null,null,null,null,null,null,"Řad \"A8-2-1\" PE D 90x8,2 mm:"]
[null,null,"Výkopy:",null,0,null,null,null,null,null,null,null,"Výkopy:"]
[null,null,"V hornině tř. 3 - 4 :74,8800",null,74.88,null,null,null,null,null,null,null,"V hornině tř. 3 - 4 :74,8800"]
[10,"174101101R00","Zásyp jam, rýh, šachet se zhutněním ","m3",36,null,{"$f":"E57*F57","v":0},0,{"$f":"E57*H57","v":0},0,{"$f":"E57*J57","v":0},null,null,null,2,null,null,null,null,null,null,null,null,null,null,null,1,1,1,null,null,null,null,null,null,null,null,null,null,null,null,null,null,null,null,null,null,null,null,null,null,1,{"$f":"IF(AZ57=1,G57,0)","v":0},{"$f":"IF(AZ57=2,G57,0)","v":0},{"$f":"IF(AZ57=3,G57,0)","v":0},{"$f":"IF(AZ57=4,G57,0)","v":0},{"$f":"IF(AZ57=5,G57,0)","v":0},null,null,null,null,null,null,null,null,null,null,null,null,null,null,null,null,null,null,null,null,null,1,1]
[null,null,"Položka obsahuje strojní přemístění materiálu pro zásyp ze vzdálenosti do 10 m od okraje zásypu.",null,null,null,null,null,null,null,null,"Položka obsahuje strojní přemístění materiálu pro zásyp ze vzdálenosti do 10 m od okraje zásypu.",null,null,3]
[null,null,null,null,null,null,null,null,null,null,null,null,null,null,3]
[null,null,"Řad \"A8-2-1\" PE D 90x8,2 mm:36,0000",null,36,null,null,null,null,null,null,null,"Řad \"A8-2-1\" PE D 90x8,2 mm:36,0000"]
[null,null,"Začátek provozního součtu",null,0,null,null,null,null,null,null,null,"Začátek provozního součtu"]
[null,null,"Výkopy:",null,0,null,null,null,null,null,null,null,"Výkopy:"]
[null,null,"V hornině tř. 3 - 4 :74,8800",null,74.88,null,null,null,null,null,null,null,"V hornině tř. 3 - 4 :74,8800"]
[null,null,"Odpočet objemu lože, potrubí a obsypů:-72,00*(0,15+0,09+0,30)",null,-38.880000000000003,null,null,null,null,null,null,null,"Odpočet objemu lože, potrubí a obsypů:-72,00*(0,15+0,09+0,30)"]
[null,null,"Konec provozního součtu",null,35.999999999999993,null,null,null,null,null,null,null,"Konec provozního součtu"]
[11,"175101101R00","Obsyp potrubí bez prohození sypaniny ","m3",22.006,null,{"$f":"E66*F66","v":0},0,{"$f":"E66*H66","v":0},0,{"$f":"E66*J66","v":0},null,null,null,2,null,null,null,null,null,null,null,null,null,null,null,1,1,1,null,null,null,null,null,null,null,null,null,null,null,null,null,null,null,null,null,null,null,null,null,null,1,{"$f":"IF(AZ66=1,G66,0)","v":0},{"$f":"IF(AZ66=2,G66,0)","v":0},{"$f":"IF(AZ66=3,G66,0)","v":0},{"$f":"IF(AZ66=4,G66,0)","v":0},{"$f":"IF(AZ66=5,G66,0)","v":0},null,null,null,null,null,null,null,null,null,null,null,null,null,null,null,null,null,null,null,null,null,1,1]
[null,null,"Řad \"A8-2-1\" PE D 90x8,2 mm:72,00*(0,80*(0,09+0,30)-0,045^2*Pi)",null,22.006,null,null,null,null,null,null,null,"Řad \"A8-2-1\" PE D 90x8,2 mm:72,00*(0,80*(0,09+0,30)-0,045^2*Pi)"]
[12,"199000002R00","Poplatek za skládku horniny 1- 7 č. dle katal. odpadů 17 05 04","m3",74.88,null,{"$f":"E68*F68","v":0},0,{"$f":"E68*H68","v":0},0,{"$f":"E68*J68","v":0},null,null,null,2,null,null,null,null,null,null,null,null,null,null,null,1,1,1,null,null,null,null,null,null,null,null,null,null,null,null,null,null,null,null,null,null,null,null,null,null,1,{"$f":"IF(AZ68=1,G68,0)","v":0},{"$f":"IF(AZ68=2,G68,0)","v":0},{"$f":"IF(AZ68=3,G68,0)","v":0},{"$f":"IF(AZ68=4,G68,0)","v":0},{"$f":"IF(AZ68=5,G68,0)","v":0},null,null,null,null,null,null,null,null,null,null,null,null,null,null,null,null,null,null,null,null,null,1,1]
[null,null,"Řad \"A8-2-1\" PE D 90x8,2 mm:",null,0,null,null,null,null,null,null,null,"Řad \"A8-2-1\" PE D 90x8,2 mm:"]
[null,null,"Výkopy:",null,0,null,null,null,null,null,null,null,"Výkopy:"]
[null,null,"V hornině tř. 3 - 4 :74,8800",null,74.88,null,null,null,null,null,null,null,"V hornině tř. 3 - 4 :74,8800"]
[13,"58337308.R","Štěrkopísek frakce 0-2 tř.B","t",43.851900000000001,null,{"$f":"E72*F72","v":0},1,{"$f":"E72*H72","v":43.851900000000001},null,{"$f":"E72*J72","v":0},null,null,null,2,null,null,null,null,null,null,null,null,null,null,null,3,1,"58337308.R",null,null,null,null,null,null,null,null,null,null,null,null,null,null,null,null,null,null,null,null,null,null,1,{"$f":"IF(AZ72=1,G72,0)","v":0},{"$f":"IF(AZ72=2,G72,0)","v":0},{"$f":"IF(AZ72=3,G72,0)","v":0},{"$f":"IF(AZ72=4,G72,0)","v":0},{"$f":"IF(AZ72=5,G72,0)","v":0},null,null,null,null,null,null,null,null,null,null,null,null,null,null,null,null,null,null,null,null,null,3,1]
[null,null,"Řad \"A8-2-1\" PE D 90x8,2 mm:72,00*(0,80*(0,09+0,30)-0,045^2*Pi)*1,973*1,01",null,43.851900000000001,null,null,null,null,null,null,null,"Řad \"A8-2-1\" PE D 90x8,2 mm:72,00*(0,80*(0,09+0,30)-0,045^2*Pi)*1,973*1,01"]
[14,"58344197R","Štěrkodrtě frakce 0-63 A","t",68.1023,null,{"$f":"E74*F74","v":0},1,{"$f":"E74*H74","v":68.1023},null,{"$f":"E74*J74","v":0},null,null,null,2,null,null,null,null,null,null,null,null,null,null,null,3,1,"58344197R",null,null,null,null,null,null,null,null,null,null,null,null,null,null,null,null,null,null,null,null,null,null,1,{"$f":"IF(AZ74=1,G74,0)","v":0},{"$f":"IF(AZ74=2,G74,0)","v":0},{"$f":"IF(AZ74=3,G74,0)","v":0},{"$f":"IF(AZ74=4,G74,0)","v":0},{"$f":"IF(AZ74=5,G74,0)","v":0},null,null,null,null,null,null,null,null,null,null,null,null,null,null,null,null,null,null,null,null,null,3,1]
[null,null,"Řad \"A8-2-1\" PE D 90x8,2 mm:36,0000*1,873*1,01",null,68.1023,null,null,null,null,null,null,null,"Řad \"A8-2-1\" PE D 90x8,2 mm:36,0000*1,873*1,01"]
[null,null,"Začátek provozního součtu",null,0,null,null,null,null,null,null,null,"Začátek provozního součtu"]
[null,null,"Výkopy:",null,0,null,null,null,null,null,null,null,"Výkopy:"]
[null,null,"V hornině tř. 3 - 4 :74,8800",null,74.88,null,null,null,null,null,null,null,"V hornině tř. 3 - 4 :74,8800"]
[null,null,"Odpočet objemu lože, potrubí a obsypů:-72,00*(0,15+0,09+0,30)",null,-38.880000000000003,null,null,null,null,null,null,null,"Odpočet objemu lože, potrubí a obsypů:-72,00*(0,15+0,09+0,30)"]
[null,null,"Konec provozního součtu",null,35.999999999999993,null,null,null,null,null,null,null,"Konec provozního součtu"]
[null,"Celkem za","1 Zemní práce",null,null,null,{"$f":"SUM(G7:G80)","v":0},null,{"$f":"SUM(I7:I80)","v":112.15332608},null,{"$f":"SUM(K7:K80)","v":0},null,null,null,4,null,null,null,null,null,null,null,null,null,null,null,null,null,null,null,null,null,null,null,null,null,null,null,null,null,null,null,null,null,null,null,null,null,null,null,null,null,{"$f":"SUM(BA7:BA80)","v":0},{"$f":"SUM(BB7:BB80)","v":0},{"$f":"SUM(BC7:BC80)","v":0},{"$f":"SUM(BD7:BD80)","v":0},{"$f":"SUM(BE7:BE80)","v":0}]
["Díl:","45","Podkladní a vedlejší konstrukce",null,null,null,null,null,null,null,null,null,null,null,1]
[15,"451572111R00","Lože pod potrubí z kameniva těženého 0 - 4 mm ","m3",8.64,null,{"$f":"E83*F83","v":0},0.43051,{"$f":"E83*H83","v":3.7196064000000004},0,{"$f":"E83*J83","v":0},null,null,null,2,null,null,null,null,null,null,null,null,null,null,null,1,1,1,null,null,null,null,null,null,null,null,null,null,null,null,null,null,null,null,null,null,null,null,null,null,1,{"$f":"IF(AZ83=1,G83,0)","v":0},{"$f":"IF(AZ83=2,G83,0)","v":0},{"$f":"IF(AZ83=3,G83,0)","v":0},{"$f":"IF(AZ83=4,G83,0)","v":0},{"$f":"IF(AZ83=5,G83,0)","v":0},null,null,null,null,null,null,null,null,null,null,null,null,null,null,null,null,null,null,null,null,null,1,1]
[null,null,"Řad \"A8-2-1\" PE D 90x8,2 mm:72,00*0,80*0,15",null,8.64,null,null,null,null,null,null,null,"Řad \"A8-2-1\" PE D 90x8,2 mm:72,00*0,80*0,15"]
[16,"452313141R00","Bloky pro potrubí z betonu C 16/20 vč. bednění ","m3",0.47199999999999998,null,{"$f":"E85*F85","v":0},2.5,{"$f":"E85*H85","v":1.18},0,{"$f":"E85*J85","v":0},null,null,null,2,null,null,null,null,null,null,null,null,null,null,null,1,1,1,null,null,null,null,null,null,null,null,null,null,null,null,null,null,null,null,null,null,null,null,null,null,1,{"$f":"IF(AZ85=1,G85,0)","v":0},{"$f":"IF(AZ85=2,G85,0)","v":0},{"$f":"IF(AZ85=3,G85,0)","v":0},{"$f":"IF(AZ85=4,G85,0)","v":0},{"$f":"IF(AZ85=5,G85,0)","v":0},null,null,null,null,null,null,null,null,null,null,null,null,null,null,null,null,null,null,null,null,null,1,1]
[null,"Celkem za","45 Podkladní a vedlejší konstrukce",null,null,null,{"$f":"SUM(G82:G85)","v":0},null,{"$f":"SUM(I82:I85)","v":4.8996064000000006},null,{"$f":"SUM(K82:K85)","v":0},null,null,null,4,null,null,null,null,null,null,null,null,null,null,null,null,null,null,null,null,null,null,null,null,null,null,null,null,null,null,null,null,null,null,null,null,null,null,null,null,null,{"$f":"SUM(BA82:BA85)","v":0},{"$f":"SUM(BB82:BB85)","v":0},{"$f":"SUM(BC82:BC85)","v":0},{"$f":"SUM(BD82:BD85)","v":0},{"$f":"SUM(BE82:BE85)","v":0}]
["Díl:","5","Komunikace",null,null,null,null,null,null,null,null,null,null,null,1]
[17,"572701119RRX","Provizorní zásyp rýh kam. hrubě drceným nebo recyk s následným odstraněním a odvozem","m3",23.04,null,{"$f":"E88*F88","v":0},1.4804999999999999,{"$f":"E88*H88","v":34.110720000000001},0,{"$f":"E88*J88","v":0},null,null,null,2,null,null,null,null,null,null,null,null,null,null,null,1,1,1,null,null,null,null,null,null,null,null,null,null,null,null,null,null,null,null,null,null,null,null,null,null,1,{"$f":"IF(AZ88=1,G88,0)","v":0},{"$f":"IF(AZ88=2,G88,0)","v":0},{"$f":"IF(AZ88=3,G88,0)","v":0},{"$f":"IF(AZ88=4,G88,0)","v":0},{"$f":"IF(AZ88=5,G88,0)","v":0},null,null,null,null,null,null,null,null,null,null,null,null,null,null,null,null,null,null,null,null,null,1,1]
[null,null,"Řad \"A8-2-1\" PE D 90x8,2 mm:",null,0,null,null,null,null,null,null,null,"Řad \"A8-2-1\" PE D 90x8,2 mm:"]
[null,null,"Souběh s kanalizací:",null,0,null,null,null,null,null,null,null,"Souběh s kanalizací:"]
[null,null,"Řad \"A8-2-1\" :72,00*0,80*0,40",null,23.04,null,null,null,null,null,null,null,"Řad \"A8-2-1\" :72,00*0,80*0,40"]
[null,"Celkem za","5 Komunikace",null,null,null,{"$f":"SUM(G87:G91)","v":0},null,{"$f":"SUM(I87:I91)","v":34.110720000000001},null,{"$f":"SUM(K87:K91)","v":0},null,null,null,4,null,null,null,null,null,null,null,null,null,null,null,null,null,null,null,null,null,null,null,null,null,null,null,null,null,null,null,null,null,null,null,null,null,null,null,null,null,{"$f":"SUM(BA87:BA91)","v":0},{"$f":"SUM(BB87:BB91)","v":0},{"$f":"SUM(BC87:BC91)","v":0},{"$f":"SUM(BD87:BD91)","v":0},{"$f":"SUM(BE87:BE91)","v":0}]
["Díl:","8","Trubní vedení",null,null,null,null,null,null,null,null,null,null,null,1]
[18,"857242121R00","Montáž tvarovek litin. jednoos.přír. výkop DN 80 včetně nerezových spoj. prvků a obandážování spoje","kus",3,null,{"$f":"E94*F94","v":0},2.2000000000000001E-4,{"$f":"E94*H94","v":6.6E-4},0,{"$f":"E94*J94","v":0},null,null,null,2,null,null,null,null,null,null,null,null,null,null,null,1,1,1,null,null,null,null,null,null,null,null,null,null,null,null,null,null,null,null,null,null,null,null,null,null,1,{"$f":"IF(AZ94=1,G94,0)","v":0},{"$f":"IF(AZ94=2,G94,0)","v":0},{"$f":"IF(AZ94=3,G94,0)","v":0},{"$f":"IF(AZ94=4,G94,0)","v":0},{"$f":"IF(AZ94=5,G94,0)","v":0},null,null,null,null,null,null,null,null,null,null,null,null,null,null,null,null,null,null,null,null,null,1,1]
[null,null,"Položka je určena pro montáž litinových tvarovek na potrubí litinovém tlakovém přírubovém jednoosých v otevřeném výkopu, v otevřeném kanálu nebo v šachtě.",null,null,null,null,null,null,null,null,"Položka je určena pro montáž litinových tvarovek na potrubí litinovém tlakovém přírubovém jednoosých v otevřeném výkopu, v otevřeném kanálu nebo v šachtě.",null,null,3]
[null,null,"Součástí položky je i dodávka nerezových spojovacích prvků (šrouby, podložky, matky) a kompletního obandážování spojů. ",null,null,null,null,null,null,null,null,"Součástí položky je i dodávka nerezových spojovacích prvků (šrouby, podložky, matky) a kompletního obandážování spojů. ",null,null,3]
[null,null,"Řad \"A8-2-1\" PE D 90x8,2 mm:",null,0,null,null,null,null,null,null,null,"Řad \"A8-2-1\" PE D 90x8,2 mm:"]
[null,null,"LN+TP D90/DN80:2",null,2,null,null,null,null,null,null,null,"LN+TP D90/DN80:2"]
[null,null,"PPL DN80:1",null,1,null,null,null,null,null,null,null,"PPL DN80:1"]
[19,"871241121R00","Montáž potrubí polyetylenového ve výkopu d 90 mm ","m",72,null,{"$f":"E100*F100","v":0},0,{"$f":"E100*H100","v":0},0,{"$f":"E100*J100","v":0},null,null,null,2,null,null,null,null,null,null,null,null,null,null,null,1,1,1,null,null,null,null,null,null,null,null,null,null,null,null,null,null,null,null,null,null,null,null,null,null,1,{"$f":"IF(AZ100=1,G100,0)","v":0},{"$f":"IF(AZ100=2,G100,0)","v":0},{"$f":"IF(AZ100=3,G100,0)","v":0},{"$f":"IF(AZ100=4,G100,0)","v":0},{"$f":"IF(AZ100=5,G100,0)","v":0},null,null,null,null,null,null,null,null,null,null,null,null,null,null,null,null,null,null,null,null,null,1,1]
[null,null,"V položce je uvažováno s jedním spojem na 6 m potrubí.",null,null,null,null,null,null,null,null,"V položce je uvažováno s jedním spojem na 6 m potrubí.",null,null,3]
[null,null,"Řad \"A8-2-1\" PE D 90x8,2 mm:72,00",null,72,null,null,null,null,null,null,null,"Řad \"A8-2-1\" PE D 90x8,2 mm:72,00"]
[20,"877242121R00","Přirážka za 1 spoj elektrotvarovky d 90 mm ","kus",8,null,{"$f":"E103*F103","v":0},0,{"$f":"E103*H103","v":0},0,{"$f":"E103*J103","v":0},null,null,null,2,null,null,null,null,null,null,null,null,null,null,null,1,1,1,null,null,null,null,null,null,null,null,null,null,null,null,null,null,null,null,null,null,null,null,null,null,1,{"$f":"IF(AZ103=1,G103,0)","v":0},{"$f":"IF(AZ103=2,G103,0)","v":0},{"$f":"IF(AZ103=3,G103,0)","v":0},{"$f":"IF(AZ103=4,G103,0)","v":0},{"$f":"IF(AZ103=5,G103,0)","v":0},null,null,null,null,null,null,null,null,null,null,null,null,null,null,null,null,null,null,null,null,null,1,1]
[null,null,"Řad \"A8-2-1\" PE D 90x8,2 mm:",null,0,null,null,null,null,null,null,null,"Řad \"A8-2-1\" PE D 90x8,2 mm:"]
[null,null,"Elektrospojka PE D90:8",null,8,null,null,null,null,null,null,null,"Elektrospojka PE D90:8"]
[21,"891241111R00","Montáž vodovodních šoupátek ve výkopu DN 80 včetně nerezových spoj. prvků a obandážování spoje","kus",2,null,{"$f":"E106*F106","v":0},2.2000000000000001E-4,{"$f":"E106*H106","v":4.4000000000000002E-4},0,{"$f":"E106*J106","v":0},null,null,null,2,null,null,null,null,null,null,null,null,null,null,null,1,1,1,null,null,null,null,null,null,null,null,null,null,null,null,null,null,null,null,null,null,null,null,null,null,1,{"$f":"IF(AZ106=1,G106,0)","v":0},{"$f":"IF(AZ106=2,G106,0)","v":0},{"$f":"IF(AZ106=3,G106,0)","v":0},{"$f":"IF(AZ106=4,G106,0)","v":0},{"$f":"IF(AZ106=5,G106,0)","v":0},null,null,null,null,null,null,null,null,null,null,null,null,null,null,null,null,null,null,null,null,null,1,1]
[null,null,"Položka je určena pro montáž vodovodních šoupátek v otevřeném výkopu nebo v šachtách s osazením zemní soupravy (bez poklopů). V položce jsou zakalkulovány i náklady na vytvoření otvorů ve stropech šachet pro prostup zemních souprav šoupátek.",null,null,null,null,null,null,null,null,"Položka je určena pro montáž vodovodních šoupátek v otevřeném výkopu nebo v šachtách s osazením zemní soupravy (bez poklopů). V položce jsou zakalkulovány i náklady na vytvoření otvorů ve stropech šachet pro prostup zemních souprav šoupátek.",null,null,3]
[null,null,"Součástí položky je i dodávka nerezových spojovacích prvků (šrouby, podložky, matky) a kompletního obandážování spojů. ",null,null,null,null,null,null,null,null,"Součástí položky je i dodávka nerezových spojovacích prvků (šrouby, podložky, matky) a kompletního obandážování spojů. ",null,null,3]
[null,null,"Řad \"A8-2-1\" PE D 90x8,2 mm:",null,0,null,null,null,null,null,null,null,"Řad \"A8-2-1\" PE D 90x8,2 mm:"]
[null,null,"Šoupě DN80:2",null,2,null,null,null,null,null,null,null,"Šoupě DN80:2"]
[22,"891247111R00","Montáž hydrantů podzemních DN 80 včetně nerezových spoj. prvků a obandážování spoje","kus",1,null,{"$f":"E111*F111","v":0},1.1E-4,{"$f":"E111*H111","v":1.1E-4},0,{"$f":"E111*J111","v":0},null,null,null,2,null,null,null,null,null,null,null,null,null,null,null,1,1,1,null,null,null,null,null,null,null,null,null,null,null,null,null,null,null,null,null,null,null,null,null,null,1,{"$f":"IF(AZ111=1,G111,0)","v":0},{"$f":"IF(AZ111=2,G111,0)","v":0},{"$f":"IF(AZ111=3,G111,0)","v":0},{"$f":"IF(AZ111=4,G111,0)","v":0},{"$f":"IF(AZ111=5,G111,0)","v":0},null,null,null,null,null,null,null,null,null,null,null,null,null,null,null,null,null,null,null,null,null,1,1]
[null,null,"Položka je určena pro montáž hydrantů podzemních (bez osazení poklopů) na potrubí včetně drenážního obalu.",null,null,null,null,null,null,null,null,"Položka je určena pro montáž hydrantů podzemních (bez osazení poklopů) na potrubí včetně drenážního obalu.",null,null,3]
[null,null,"Součástí položky je i dodávka nerezových spojovacích prvků (šrouby, podložky, matky) a kompletního obandážování spojů. ",null,null,null,null,null,null,null,null,"Součástí položky je i dodávka nerezových spojovacích prvků (šrouby, podložky, matky) a kompletního obandážování spojů. ",null,null,3]
[null,null,"Řad \"A8-2-1\" PE D 90x8,2 mm:",null,0,null,null,null,null,null,null,null,"Řad \"A8-2-1\" PE D 90x8,2 mm:"]
[null,null,"Hp DN80/1,5:1",null,1,null,null,null,null,null,null,null,"Hp DN80/1,5:1"]
[23,"891249111R01","Montáž navrtávacích pasů DN 80 s ventilem ","kus",3,null,{"$f":"E116*F116","v":0},0,{"$f":"E116*H116","v":0},0,{"$f":"E116*J116","v":0},null,null,null,2,null,null,null,null,null,null,null,null,null,null,null,1,0,0,null,null,null,null,null,null,null,null,null,null,null,null,null,null,null,null,null,null,null,null,null,null,1,{"$f":"IF(AZ116=1,G116,0)","v":0},{"$f":"IF(AZ116=2,G116,0)","v":0},{"$f":"IF(AZ116=3,G116,0)","v":0},{"$f":"IF(AZ116=4,G116,0)","v":0},{"$f":"IF(AZ116=5,G116,0)","v":0},null,null,null,null,null,null,null,null,null,null,null,null,null,null,null,null,null,null,null,null,null,1,0]
[null,null,"Položka je určena pro montáž navrtávacích pasů s ventilem Jt 1 MPa na potrubí z trub z PE.",null,null,null,null,null,null,null,null,"Položka je určena pro montáž navrtávacích pasů s ventilem Jt 1 MPa na potrubí z trub z PE.",null,null,3]
[null,null,"Řad \"A8-2-1\" PE D 90x8,2 mm:",null,0,null,null,null,null,null,null,null,"Řad \"A8-2-1\" PE D 90x8,2 mm:"]
[null,null,"NP DAV (KIT) PE D90/32:3",null,3,null,null,null,null,null,null,null,"NP DAV (KIT) PE D90/32:3"]
[null,null,"Začátek provozního součtu",null,0,null,null,null,null,null,null,null,"Začátek provozního součtu"]
[null,null,"Pro čp. 896:1",null,1,null,null,null,null,null,null,null,"Pro čp. 896:1"]
[null,null,"Pro čp. 895:1",null,1,null,null,null,null,null,null,null,"Pro čp. 895:1"]
[null,null,"Pro čp. 894:1",null,1,null,null,null,null,null,null,null,"Pro čp. 894:1"]
[null,null,"Konec provozního součtu",null,3,null,null,null,null,null,null,null,"Konec provozního součtu"]
[24,"892271111R00","Tlaková zkouška vodovodního potrubí DN 125 včetně zajištění konců potrubí","m",72,null,{"$f":"E125*F125","v":0},0,{"$f":"E125*H125","v":0},0,{"$f":"E125*J125","v":0},null,null,null,2,null,null,null,null,null,null,null,null,null,null,null,1,1,1,null,null,null,null,null,null,null,null,null,null,null,null,null,null,null,null,null,null,null,null,null,null,1,{"$f":"IF(AZ125=1,G125,0)","v":0},{"$f":"IF(AZ125=2,G125,0)","v":0},{"$f":"IF(AZ125=3,G125,0)","v":0},{"$f":"IF(AZ125=4,G125,0)","v":0},{"$f":"IF(AZ125=5,G125,0)","v":0},null,null,null,null,null,null,null,null,null,null,null,null,null,null,null,null,null,null,null,null,null,1,1]
[null,null,"V položce jsou započteny náklady na přísun, montáž, demontáž a odsun zkoušecího čerpadla, napuštění tlakovou vodou a dodání vody pro tlakovou zkoušku",null,null,null,null,null,null,null,null,"V položce jsou započteny náklady na přísun, montáž, demontáž a odsun zkoušecího čerpadla, napuštění tlakovou vodou a dodání vody pro tlakovou zkoušku",null,null,3]
[null,null,"Řad \"A8-2-1\" PE D 90x8,2 mm:72,00",null,72,null,null,null,null,null,null,null,"Řad \"A8-2-1\" PE D 90x8,2 mm:72,00"]
[25,"892273111R00","Desinfekce vodovodního potrubí DN 125 ","m",72,null,{"$f":"E128*F128","v":0},0,{"$f":"E128*H128","v":0},0,{"$f":"E128*J128","v":0},null,null,null,2,null,null,null,null,null,null,null,null,null,null,null,1,1,1,null,null,null,null,null,null,null,null,null,null,null,null,null,null,null,null,null,null,null,null,null,null,1,{"$f":"IF(AZ128=1,G128,0)","v":0},{"$f":"IF(AZ128=2,G128,0)","v":0},{"$f":"IF(AZ128=3,G128,0)","v":0},{"$f":"IF(AZ128=4,G128,0)","v":0},{"$f":"IF(AZ128=5,G128,0)","v":0},null,null,null,null,null,null,null,null,null,null,null,null,null,null,null,null,null,null,null,null,null,1,1]
[null,null,"V položce jsou zakalkulovány náklady na napuštění a vypuštění vody, dodání vody a desinfekčního prostředku a na bakteriologický rozbor vody.",null,null,null,null,null,null,null,null,"V položce jsou zakalkulovány náklady na napuštění a vypuštění vody, dodání vody a desinfekčního prostředku a na bakteriologický rozbor vody.",null,null,3]
[null,null,"Řad \"A8-2-1\" PE D 90x8,2 mm:72,00",null,72,null,null,null,null,null,null,null,"Řad \"A8-2-1\" PE D 90x8,2 mm:72,00"]
[26,"899713111RRX","Orientační tabulky na sloupku ocelovém, betonovém ","kus",6,null,{"$f":"E131*F131","v":0},2.4000000000000001E-4,{"$f":"E131*H131","v":1.4400000000000001E-3},0,{"$f":"E131*J131","v":0},null,null,null,2,null,null,null,null,null,null,null,null,null,null,null,1,1,1,null,null,null,null,null,null,null,null,null,null,null,null,null,null,null,null,null,null,null,null,null,null,1,{"$f":"IF(AZ131=1,G131,0)","v":0},{"$f":"IF(AZ131=2,G131,0)","v":0},{"$f":"IF(AZ131=3,G131,0)","v":0},{"$f":"IF(AZ131=4,G131,0)","v":0},{"$f":"IF(AZ131=5,G131,0)","v":0},null,null,null,null,null,null,null,null,null,null,null,null,null,null,null,null,null,null,null,null,null,1,1]
[null,null,"Položka platí pro orientační tabulky na vodovodních a kanalizačních řadech. V položce jsou zakalkulovány náklady na dodání a připevnění tabulky a na osazení sloupku. V položce jsou zakalkulovány náklady na zemní práce a na dodání sloupků (betonových nebo ocelových s betonovými patkami)",null,null,null,null,null,null,null,null,"Položka platí pro orientační tabulky na vodovodních a kanalizačních řadech. V položce jsou zakalkulovány náklady na dodání a připevnění tabulky a na osazení sloupku. V položce jsou zakalkulovány náklady na zemní práce a na dodání sloupků (betonových nebo ocelových s betonovými patkami)",null,null,3]
[null,null,"Řad \"A8-2-1\" PE D 90x8,2 mm:",null,0,null,null,null,null,null,null,null,"Řad \"A8-2-1\" PE D 90x8,2 mm:"]
[null,null,"Pro NP DAV (KIT) PE D90/32:3",null,3,null,null,null,null,null,null,null,"Pro NP DAV (KIT) PE D90/32:3"]
[null,null,"Pro Šoupě DN80:2",null,2,null,null,null,null,null,null,null,"Pro Šoupě DN80:2"]
[null,null,"Pro Hp DN80/1,5:1",null,1,null,null,null,null,null,null,null,"Pro Hp DN80/1,5:1"]
[27,"899721112R00","Fólie výstražná z PVC bílá, šířka 30 cm ","m",72,null,{"$f":"E137*F137","v":0},0,{"$f":"E137*H137","v":0},0,{"$f":"E137*J137","v":0},null,null,null,2,null,null,null,null,null,null,null,null,null,null,null,1,1,1,null,null,null,null,null,null,null,null,null,null,null,null,null,null,null,null,null,null,null,null,null,null,1,{"$f":"IF(AZ137=1,G137,0)","v":0},{"$f":"IF(AZ137=2,G137,0)","v":0},{"$f":"IF(AZ137=3,G137,0)","v":0},{"$f":"IF(AZ137=4,G137,0)","v":0},{"$f":"IF(AZ137=5,G137,0)","v":0},null,null,null,null,null,null,null,null,null,null,null,null,null,null,null,null,null,null,null,null,null,1,1]
[null,null,"Řad \"A8-2-1\" PE D 90x8,2 mm:72,00",null,72,null,null,null,null,null,null,null,"Řad \"A8-2-1\" PE D 90x8,2 mm:72,00"]
[28,"899731114R00","Vodič signalizační CYY 6 mm2 ","m",94,null,{"$f":"E139*F139","v":0},8.0000000000000007E-5,{"$f":"E139*H139","v":7.5200000000000006E-3},0,{"$f":"E139*J139","v":0},null,null,null,2,null,null,null,null,null,null,null,null,null,null,null,1,1,1,null,null,null,null,null,null,null,null,null,null,null,null,null,null,null,null,null,null,null,null,null,null,1,{"$f":"IF(AZ139=1,G139,0)","v":0},{"$f":"IF(AZ139=2,G139,0)","v":0},{"$f":"IF(AZ139=3,G139,0)","v":0},{"$f":"IF(AZ139=4,G139,0)","v":0},{"$f":"IF(AZ139=5,G139,0)","v":0},null,null,null,null,null,null,null,null,null,null,null,null,null,null,null,null,null,null,null,null,null,1,1]
[null,null,"Součástí položky je zajištění proměření vodiče a výchozí zevize.",null,null,null,null,null,null,null,null,"Součástí položky je zajištění proměření vodiče a výchozí zevize.",null,null,3]
[null,null,"Řad \"A8-2-1\" PE D 90x8,2 mm:72,00",null,72,null,null,null,null,null,null,null,"Řad \"A8-2-1\" PE D 90x8,2 mm:72,00"]
[null,null,"Vyvedení:",null,0,null,null,null,null,null,null,null,"Vyvedení:"]
[null,null,"Pro NP DAV (KIT) PE D90/32:3*2,00*2",null,12,null,null,null,null,null,null,null,"Pro NP DAV (KIT) PE D90/32:3*2,00*2"]
[null,null,"Pro Šoupě DN80:2*2,00*2",null,8,null,null,null,null,null,null,null,"Pro Šoupě DN80:2*2,00*2"]
[null,null,"Pro Hp DN80/1,5:1*2,00*1",null,2,null,null,null,null,null,null,null,"Pro Hp DN80/1,5:1*2,00*1"]
[29,"28613079.DAV.R","Navrtávací odbočkový ventil DAV D90/32 s prodlouženým hrdlem","kus",3,null,{"$f":"E146*F146","v":0},0,{"$f":"E146*H146","v":0},null,{"$f":"E146*J146","v":0},null,null,null,2,null,null,null,null,null,null,null,null,null,null,null,3,1,"28613079.DAV.R",null,null,null,null,null,null,null,null,null,null,null,null,null,null,null,null,null,null,null,null,null,null,1,{"$f":"IF(AZ146=1,G146,0)","v":0},{"$f":"IF(AZ146=2,G146,0)","v":0},{"$f":"IF(AZ146=3,G146,0)","v":0},{"$f":"IF(AZ146=4,G146,0)","v":0},{"$f":"IF(AZ146=5,G146,0)","v":0},null,null,null,null,null,null,null,null,null,null,null,null,null,null,null,null,null,null,null,null,null,3,1]
[null,null,"Řad \"A8-2-1\" PE D 90x8,2 mm:",null,0,null,null,null,null,null,null,null,"Řad \"A8-2-1\" PE D 90x8,2 mm:"]
[null,null,"NP DAV (KIT) PE D90/32:3",null,3,null,null,null,null,null,null,null,"NP DAV (KIT) PE D90/32:3"]
[30,"28613090.EBS.R","Zemní souprava EBS 1,1-1,8 pro DAV (KIT)","kus",3,null,{"$f":"E149*F149","v":0},0,{"$f":"E149*H149","v":0},null,{"$f":"E149*J149","v":0},null,null,null,2,null,null,null,null,null,null,null,null,null,null,null,3,1,"28613090.EBS.R",null,null,null,null,null,null,null,null,null,null,null,null,null,null,null,null,null,null,null,null,null,null,1,{"$f":"IF(AZ149=1,G149,0)","v":0},{"$f":"IF(AZ149=2,G149,0)","v":0},{"$f":"IF(AZ149=3,G149,0)","v":0},{"$f":"IF(AZ149=4,G149,0)","v":0},{"$f":"IF(AZ149=5,G149,0)","v":0},null,null,null,null,null,null,null,null,null,null,null,null,null,null,null,null,null,null,null,null,null,3,1]
[null,null,"Řad \"A8-2-1\" PE D 90x8,2 mm:",null,0,null,null,null,null,null,null,null,"Řad \"A8-2-1\" PE D 90x8,2 mm:"]
[null,null,"Pro NP DAV (KIT) PE D90/32:3",null,3,null,null,null,null,null,null,null,"Pro NP DAV (KIT) PE D90/32:3"]
[31,"286134214.R","Trubka tlaková AQUALINE RC2 PE100 90x8,2 mm PN16 tyče L=6 m","m",73.08,null,{"$f":"E152*F152","v":0},3.14E-3,{"$f":"E152*H152","v":0.22947119999999999},null,{"$f":"E152*J152","v":0},null,null,null,2,null,null,null,null,null,null,null,null,null,null,null,3,1,"286134214.R",null,null,null,null,null,null,null,null,null,null,null,null,null,null,null,null,null,null,null,null,null,null,1,{"$f":"IF(AZ152=1,G152,0)","v":0},{"$f":"IF(AZ152=2,G152,0)","v":0},{"$f":"IF(AZ152=3,G152,0)","v":0},{"$f":"IF(AZ152=4,G152,0)","v":0},{"$f":"IF(AZ152=5,G152,0)","v":0},null,null,null,null,null,null,null,null,null,null,null,null,null,null,null,null,null,null,null,null,null,3,1]
[null,null,"Vodovodní PE tlaková trubka AQUALINE RC2 dle normy EN 12 201-2",null,null,null,null,null,null,null,null,"Vodovodní PE tlaková trubka AQUALINE RC2 dle normy EN 12 201-2",null,null,3]
[null,null,"(doprava pitné a užitkové vody)",null,null,null,null,null,null,null,null,"(doprava pitné a užitkové vody)",null,null,3]
[null,null,"Dvouvrstvá - vnější vrstva PE 100RC modrá (10 % tloušťky)",null,null,null,null,null,null,null,null,"Dvouvrstvá - vnější vrstva PE 100RC modrá (10 % tloušťky)",null,null,3]
[null,null,"                       vnitřní vrstva PE 100RC černá (90 % tloušťky)",null,null,null,null,null,null,null,null,"                       vnitřní vrstva PE 100RC černá (90 % tloušťky)",null,null,3]
[null,null,null,null,null,null,null,null,null,null,null,null,null,null,3]
[null,null,"Řad \"A8-2-1\" PE D 90x8,2 mm:72,00*1,015",null,73.08,null,null,null,null,null,null,null,"Řad \"A8-2-1\" PE D 90x8,2 mm:72,00*1,015"]
[32,"28653079.R","Elektrospojka d 90 mm PE 100 SDR11","kus",8.1199999999999992,null,{"$f":"E159*F159","v":0},1.2999999999999999E-3,{"$f":"E159*H159","v":1.0555999999999998E-2},null,{"$f":"E159*J159","v":0},null,null,null,2,null,null,null,null,null,null,null,null,null,null,null,3,1,"28653079.R",null,null,null,null,null,null,null,null,null,null,null,null,null,null,null,null,null,null,null,null,null,null,1,{"$f":"IF(AZ159=1,G159,0)","v":0},{"$f":"IF(AZ159=2,G159,0)","v":0},{"$f":"IF(AZ159=3,G159,0)","v":0},{"$f":"IF(AZ159=4,G159,0)","v":0},{"$f":"IF(AZ159=5,G159,0)","v":0},null,null,null,null,null,null,null,null,null,null,null,null,null,null,null,null,null,null,null,null,null,3,1]
[null,null,"Řad \"A8-2-1\" PE D 90x8,2 mm:",null,0,null,null,null,null,null,null,null,"Řad \"A8-2-1\" PE D 90x8,2 mm:"]
[null,null,"Elektrospojka PE D90:8*1,015",null,8.1199999999999992,null,null,null,null,null,null,null,"Elektrospojka PE D90:8*1,015"]
[33,"28653765.R","LN + TP D90/DN80 PE100 SDR11","kus",2,null,{"$f":"E162*F162","v":0},3.5E-4,{"$f":"E162*H162","v":6.9999999999999999E-4},null,{"$f":"E162*J162","v":0},null,null,null,2,null,null,null,null,null,null,null,null,null,null,null,3,1,"28653765.R",null,null,null,null,null,null,null,null,null,null,null,null,null,null,null,null,null,null,null,null,null,null,1,{"$f":"IF(AZ162=1,G162,0)","v":0},{"$f":"IF(AZ162=2,G162,0)","v":0},{"$f":"IF(AZ162=3,G162,0)","v":0},{"$f":"IF(AZ162=4,G162,0)","v":0},{"$f":"IF(AZ162=5,G162,0)","v":0},null,null,null,null,null,null,null,null,null,null,null,null,null,null,null,null,null,null,null,null,null,3,1]
[null,null,"Řad \"A8-2-1\" PE D 90x8,2 mm:",null,0,null,null,null,null,null,null,null,"Řad \"A8-2-1\" PE D 90x8,2 mm:"]
[null,null,"LN+TP D90/DN80:2",null,2,null,null,null,null,null,null,null,"LN+TP D90/DN80:2"]
[34,"42209999.R","Drenážní obal","kus",1,null,{"$f":"E165*F165","v":0},4.7999999999999996E-3,{"$f":"E165*H165","v":4.7999999999999996E-3},null,{"$f":"E165*J165","v":0},null,null,null,2,null,null,null,null,null,null,null,null,null,null,null,3,1,"42209999.R",null,null,null,null,null,null,null,null,null,null,null,null,null,null,null,null,null,null,null,null,null,null,1,{"$f":"IF(AZ165=1,G165,0)","v":0},{"$f":"IF(AZ165=2,G165,0)","v":0},{"$f":"IF(AZ165=3,G165,0)","v":0},{"$f":"IF(AZ165=4,G165,0)","v":0},{"$f":"IF(AZ165=5,G165,0)","v":0},null,null,null,null,null,null,null,null,null,null,null,null,null,null,null,null,null,null,null,null,null,3,1]
[null,null,"Řad \"A8-2-1\" PE D 90x8,2 mm:",null,0,null,null,null,null,null,null,null,"Řad \"A8-2-1\" PE D 90x8,2 mm:"]
[null,null,"Pro Hp DN80/1,5:1",null,1,null,null,null,null,null,null,null,"Pro Hp DN80/1,5:1"]
[35,"42228310.R","Šoupátko 4000E3 DN 80 přírubové, voda PN16","kus",2,null,{"$f":"E168*F168","v":0},1.6500000000000001E-2,{"$f":"E168*H168","v":3.3000000000000002E-2},null,{"$f":"E168*J168","v":0},null,null,null,2,null,null,null,null,null,null,null,null,null,null,null,3,1,"42228310.R",null,null,null,null,null,null,null,null,null,null,null,null,null,null,null,null,null,null,null,null,null,null,1,{"$f":"IF(AZ168=1,G168,0)","v":0},{"$f":"IF(AZ168=2,G168,0)","v":0},{"$f":"IF(AZ168=3,G168,0)","v":0},{"$f":"IF(AZ168=4,G168,0)","v":0},{"$f":"IF(AZ168=5,G168,0)","v":0},null,null,null,null,null,null,null,null,null,null,null,null,null,null,null,null,null,null,null,null,null,3,1]
[null,null,"Šoupátko přírubové krkové - měkcetěsnící klínové šoupátko s hladkým a volným průtokovým kanálem",null,null,null,null,null,null,null,null,"Šoupátko přírubové krkové - měkcetěsnící klínové šoupátko s hladkým a volným průtokovým kanálem",null,null,3]
[null,null,"č. 4000E3",null,null,null,null,null,null,null,null,"č. 4000E3",null,null,3]
[null,null,"PN 16",null,null,null,null,null,null,null,null,"PN 16",null,null,3]
[null,null,"DN 80",null,null,null,null,null,null,null,null,"DN 80",null,null,3]
[null,null,"těleso a víko: tvárná litina GGG 400 - DIN 1693",null,null,null,null,null,null,null,null,"těleso a víko: tvárná litina GGG 400 - DIN 1693",null,null,3]
[null,null,"medium: pitná voda, neagresivní odpadní voda",null,null,null,null,null,null,null,null,"medium: pitná voda, neagresivní odpadní voda",null,null,3]
[null,null,"Řad \"A8-2-1\" PE D 90x8,2 mm:",null,0,null,null,null,null,null,null,null,"Řad \"A8-2-1\" PE D 90x8,2 mm:"]
[null,null,"Šoupě DN80:2",null,2,null,null,null,null,null,null,null,"Šoupě DN80:2"]
[36,"422737412.R","Hydrant podzemní DUO K240, DN80/1,5 m","kus",1,null,{"$f":"E177*F177","v":0},3.95E-2,{"$f":"E177*H177","v":3.95E-2},null,{"$f":"E177*J177","v":0},null,null,null,2,null,null,null,null,null,null,null,null,null,null,null,3,1,"422737412.R",null,null,null,null,null,null,null,null,null,null,null,null,null,null,null,null,null,null,null,null,null,null,1,{"$f":"IF(AZ177=1,G177,0)","v":0},{"$f":"IF(AZ177=2,G177,0)","v":0},{"$f":"IF(AZ177=3,G177,0)","v":0},{"$f":"IF(AZ177=4,G177,0)","v":0},{"$f":"IF(AZ177=5,G177,0)","v":0},null,null,null,null,null,null,null,null,null,null,null,null,null,null,null,null,null,null,null,null,null,3,1]
[null,null,"Řad \"A8-2-1\" PE D 90x8,2 mm:",null,0,null,null,null,null,null,null,null,"Řad \"A8-2-1\" PE D 90x8,2 mm:"]
[null,null,"Hp DN80/1,5:1",null,1,null,null,null,null,null,null,null,"Hp DN80/1,5:1"]
[37,"42293250.R","Souprava zemní tel.9502E2/E3 DN50 -100, 1,3-1,8m","kus",2,null,{"$f":"E180*F180","v":0},7.3000000000000001E-3,{"$f":"E180*H180","v":1.46E-2},null,{"$f":"E180*J180","v":0},null,null,null,2,null,null,null,null,null,null,null,null,null,null,null,3,1,"42293250.R",null,null,null,null,null,null,null,null,null,null,null,null,null,null,null,null,null,null,null,null,null,null,1,{"$f":"IF(AZ180=1,G180,0)","v":0},{"$f":"IF(AZ180=2,G180,0)","v":0},{"$f":"IF(AZ180=3,G180,0)","v":0},{"$f":"IF(AZ180=4,G180,0)","v":0},{"$f":"IF(AZ180=5,G180,0)","v":0},null,null,null,null,null,null,null,null,null,null,null,null,null,null,null,null,null,null,null,null,null,3,1]
[null,null,"Řad \"A8-2-1\" PE D 90x8,2 mm:",null,0,null,null,null,null,null,null,null,"Řad \"A8-2-1\" PE D 90x8,2 mm:"]
[null,null,"Pro Šoupě DN80:2",null,2,null,null,null,null,null,null,null,"Pro Šoupě DN80:2"]
[38,"5526009705.R","Koleno prodloužené přír.s patkou PPL DN 80","kus",1,null,{"$f":"E183*F183","v":0},1.2200000000000001E-2,{"$f":"E183*H183","v":1.2200000000000001E-2},null,{"$f":"E183*J183","v":0},null,null,null,2,null,null,null,null,null,null,null,null,null,null,null,3,1,"5526009705.R",null,null,null,null,null,null,null,null,null,null,null,null,null,null,null,null,null,null,null,null,null,null,1,{"$f":"IF(AZ183=1,G183,0)","v":0},{"$f":"IF(AZ183=2,G183,0)","v":0},{"$f":"IF(AZ183=3,G183,0)","v":0},{"$f":"IF(AZ183=4,G183,0)","v":0},{"$f":"IF(AZ183=5,G183,0)","v":0},null,null,null,null,null,null,null,null,null,null,null,null,null,null,null,null,null,null,null,null,null,3,1]
[null,null,"Řad \"A8-2-1\" PE D 90x8,2 mm:",null,0,null,null,null,null,null,null,null,"Řad \"A8-2-1\" PE D 90x8,2 mm:"]
[null,null,"PPL DN80:1",null,1,null,null,null,null,null,null,null,"PPL DN80:1"]
[null,"Celkem za","8 Trubní vedení",null,null,null,{"$f":"SUM(G93:G185)","v":0},null,{"$f":"SUM(I93:I185)","v":0.35499719999999996},null,{"$f":"SUM(K93:K185)","v":0},null,null,null,4,null,null,null,null,null,null,null,null,null,null,null,null,null,null,null,null,null,null,null,null,null,null,null,null,null,null,null,null,null,null,null,null,null,null,null,null,null,{"$f":"SUM(BA93:BA185)","v":0},{"$f":"SUM(BB93:BB185)","v":0},{"$f":"SUM(BC93:BC185)","v":0},{"$f":"SUM(BD93:BD185)","v":0},{"$f":"SUM(BE93:BE185)","v":0}]
["Díl:","89","Ostatní konstrukce na trubním vedení",null,null,null,null,null,null,null,null,null,null,null,1]
[39,"899 01-0001.RRX","Provizorní vodovod PE100 RC1 D 63x5,8 mm včetně příslušných tvarovek a propojů","m",72,null,{"$f":"E188*F188","v":0},0,{"$f":"E188*H188","v":0},null,{"$f":"E188*J188","v":0},null,null,null,2,null,null,null,null,null,null,null,null,null,null,null,12,0,1,null,null,null,null,null,null,null,null,null,null,null,null,null,null,null,null,null,null,null,null,null,null,1,{"$f":"IF(AZ188=1,G188,0)","v":0},{"$f":"IF(AZ188=2,G188,0)","v":0},{"$f":"IF(AZ188=3,G188,0)","v":0},{"$f":"IF(AZ188=4,G188,0)","v":0},{"$f":"IF(AZ188=5,G188,0)","v":0},null,null,null,null,null,null,null,null,null,null,null,null,null,null,null,null,null,null,null,null,null,12,0]
[null,null,"Součástí položky je ",null,null,null,null,null,null,null,null,"Součástí položky je ",null,null,3]
[null,null,"- Dodávka a montáž příslušného potrubí ",null,null,null,null,null,null,null,null,"- Dodávka a montáž příslušného potrubí ",null,null,3]
[null,null,"- Dodávka a montáž propojovacích tvarovek a armatur dle zvolené technologie zhotovitelem potřebné pro provoz provizorního vodovou",null,null,null,null,null,null,null,null,"- Dodávka a montáž propojovacích tvarovek a armatur dle zvolené technologie zhotovitelem potřebné pro provoz provizorního vodovou",null,null,3]
[null,null,"- Přerušení stávajícího potrubí pro napojení provizorního vodovodu",null,null,null,null,null,null,null,null,"- Přerušení stávajícího potrubí pro napojení provizorního vodovodu",null,null,3]
[null,null,"- Provedení tlakové zkoušky včetně proplachu a desinfekce potrubí dle ČSN",null,null,null,null,null,null,null,null,"- Provedení tlakové zkoušky včetně proplachu a desinfekce potrubí dle ČSN",null,null,3]
[null,null,"- Potředné zemní práce pro provedení propojů včetně případného odstranění konstrukcí komunikací a chodníků a provizorní úprava povrchů v prostoru vedení provizorního vodovodu",null,null,null,null,null,null,null,null,"- Potředné zemní práce pro provedení propojů včetně případného odstranění konstrukcí komunikací a chodníků a provizorní úprava povrchů v prostoru vedení provizorního vodovodu",null,null,3]
[null,null,"- Demontáž a odpojení propojů provizorního vodovodu  včetně potřebných zemních prací.",null,null,null,null,null,null,null,null,"- Demontáž a odpojení propojů provizorního vodovodu  včetně potřebných zemních prací.",null,null,3]
[null,null,"- Likvidace veškerého materiálu provizorních vodovodů ",null,null,null,null,null,null,null,null,"- Likvidace veškerého materiálu provizorních vodovodů ",null,null,3]
[null,null,"- Součástí položky jsou i náklady na přesuny materiálů - Součástí položky jsou náklady zhotovitele na poplatky za skládky materiálu",null,null,null,null,null,null,null,null,"- Součástí položky jsou i náklady na přesuny materiálů - Součástí položky jsou náklady zhotovitele na poplatky za skládky materiálu",null,null,3]
[null,null,"Řad \"A8-2-1\" PE D 90x8,2 mm:72,00",null,72,null,null,null,null,null,null,null,"Řad \"A8-2-1\" PE D 90x8,2 mm:72,00"]
[40,"899 02-0001.RRX","Provizorní VP PE100 RC1 D32x3,0 mm - délky do 10 m vč. příslušných tvarovek a armatur","soubor",3,null,{"$f":"E199*F199","v":0},0,{"$f":"E199*H199","v":0},null,{"$f":"E199*J199","v":0},null,null,null,2,null,null,null,null,null,null,null,null,null,null,null,12,0,2,null,null,null,null,null,null,null,null,null,null,null,null,null,null,null,null,null,null,null,null,null,null,1,{"$f":"IF(AZ199=1,G199,0)","v":0},{"$f":"IF(AZ199=2,G199,0)","v":0},{"$f":"IF(AZ199=3,G199,0)","v":0},{"$f":"IF(AZ199=4,G199,0)","v":0},{"$f":"IF(AZ199=5,G199,0)","v":0},null,null,null,null,null,null,null,null,null,null,null,null,null,null,null,null,null,null,null,null,null,12,0]
[null,null,"Součástí položky je ",null,null,null,null,null,null,null,null,"Součástí položky je ",null,null,3]
[null,null,"- Dodávka a montáž příslušného potrubí dle PD ",null,null,null,null,null,null,null,null,"- Dodávka a montáž příslušného potrubí dle PD ",null,null,3]
[null,null,"- Dodávka a montáž propojovacích tvarovek a armatur dle zvolené technologie zhotovitelem potřebné pro provoz provizorního propojení VP",null,null,null,null,null,null,null,null,"- Dodávka a montáž propojovacích tvarovek a armatur dle zvolené technologie zhotovitelem potřebné pro provoz provizorního propojení VP",null,null,3]
[null,null,"- Přerušení stávajícího potrubí přípojky",null,null,null,null,null,null,null,null,"- Přerušení stávajícího potrubí přípojky",null,null,3]
[null,null,"- Provedení tlakové zkoušky včetně proplachu a desinfekce potrubí dle ČSN",null,null,null,null,null,null,null,null,"- Provedení tlakové zkoušky včetně proplachu a desinfekce potrubí dle ČSN",null,null,3]
[null,null,"- Potředné zemní práce pro provedení propoje včetně případného odstranění konstrukcí komunikací a provizorní úprava povrchů v prostoru vedení provizorního vodovodu",null,null,null,null,null,null,null,null,"- Potředné zemní práce pro provedení propoje včetně případného odstranění konstrukcí komunikací a provizorní úprava povrchů v prostoru vedení provizorního vodovodu",null,null,3]
[null,null,"- Demontáž a odpojení propojů provizorní přípojky  včetně potřebných zemních prací.",null,null,null,null,null,null,null,null,"- Demontáž a odpojení propojů provizorní přípojky  včetně potřebných zemních prací.",null,null,3]
[null,null,"- Likvidace veškerého materiálu provizorních vodovodních přípojek",null,null,null,null,null,null,null,null,"- Likvidace veškerého materiálu provizorních vodovodních přípojek",null,null,3]
[null,null,"- Součástí položky jsou i náklady na přesuny materiálů - Součástí položky jsou náklady zhotovitele na poplatky za skládky materiálu",null,null,null,null,null,null,null,null,"- Součástí položky jsou i náklady na přesuny materiálů - Součástí položky jsou náklady zhotovitele na poplatky za skládky materiálu",null,null,3]
[null,"Celkem za","89 Ostatní konstrukce na trubním vedení",null,null,null,{"$f":"SUM(G187:G208)","v":0},null,{"$f":"SUM(I187:I208)","v":0},null,{"$f":"SUM(K187:K208)","v":0},null,null,null,4,null,null,null,null,null,null,null,null,null,null,null,null,null,null,null,null,null,null,null,null,null,null,null,null,null,null,null,null,null,null,null,null,null,null,null,null,null,{"$f":"SUM(BA187:BA208)","v":0},{"$f":"SUM(BB187:BB208)","v":0},{"$f":"SUM(BC187:BC208)","v":0},{"$f":"SUM(BD187:BD208)","v":0},{"$f":"SUM(BE187:BE208)","v":0}]
["Díl:","93","Dokončovací práce inženýrských staveb",null,null,null,null,null,null,null,null,null,null,null,1]
[41,"939421121RT1","Osazení samonivelač.vodovod.poklopu za finišerem bez dodávky poklopu","kus",5,null,{"$f":"E211*F211","v":0},5.2499999999999998E-2,{"$f":"E211*H211","v":0.26250000000000001},0,{"$f":"E211*J211","v":0},null,null,null,2,null,null,null,null,null,null,null,null,null,null,null,1,0,0,null,null,null,null,null,null,null,null,null,null,null,null,null,null,null,null,null,null,null,null,null,null,1,{"$f":"IF(AZ211=1,G211,0)","v":0},{"$f":"IF(AZ211=2,G211,0)","v":0},{"$f":"IF(AZ211=3,G211,0)","v":0},{"$f":"IF(AZ211=4,G211,0)","v":0},{"$f":"IF(AZ211=5,G211,0)","v":0},null,null,null,null,null,null,null,null,null,null,null,null,null,null,null,null,null,null,null,null,null,1,0]
[null,null,"Položka obsahuje:",null,null,null,null,null,null,null,null,"Položka obsahuje:",null,null,3]
[null,null,"- osazení prefabrikovaného betonového prstence do rychletuhnoucí malty (s dodávkou hmot)",null,null,null,null,null,null,null,null,"- osazení prefabrikovaného betonového prstence do rychletuhnoucí malty (s dodávkou hmot)",null,null,3]
[null,null,"- zalití prstence rychletuhnoucí zálivkou do výše prstence (s dodávkou hmoty)",null,null,null,null,null,null,null,null,"- zalití prstence rychletuhnoucí zálivkou do výše prstence (s dodávkou hmoty)",null,null,3]
[null,null,"- vložení kruhového bednění",null,null,null,null,null,null,null,null,"- vložení kruhového bednění",null,null,3]
[null,null,"- doplnění mezikruží asfaltovou směsí do výšky současné podkladní vrstvy, zhutnění",null,null,null,null,null,null,null,null,"- doplnění mezikruží asfaltovou směsí do výšky současné podkladní vrstvy, zhutnění",null,null,3]
[null,null,"- vyjmutí kruhového bednění",null,null,null,null,null,null,null,null,"- vyjmutí kruhového bednění",null,null,3]
[null,null,"- osazení poklopu a zatlačení",null,null,null,null,null,null,null,null,"- osazení poklopu a zatlačení",null,null,3]
[null,null,"  (následuje pokládka finální vrstvy vozovky - není součástí položky)",null,null,null,null,null,null,null,null,"  (následuje pokládka finální vrstvy vozovky - není součástí položky)",null,null,3]
[null,null,"- povytažení poklopu",null,null,null,null,null,null,null,null,"- povytažení poklopu",null,null,3]
[null,null,"- podsyp asfaltovou směsí, spuštění poklopu a zhutnění směsi",null,null,null,null,null,null,null,null,"- podsyp asfaltovou směsí, spuštění poklopu a zhutnění směsi",null,null,3]
[null,null,"Položka neobsahuje:",null,null,null,null,null,null,null,null,"Položka neobsahuje:",null,null,3]
[null,null,"- dodávku samonivelačního poklopu - oceňuje se ve specifikaci",null,null,null,null,null,null,null,null,"- dodávku samonivelačního poklopu - oceňuje se ve specifikaci",null,null,3]
[null,null,"- pokládku krycí vrstvy komunikace, oceňuje se samostatně",null,null,null,null,null,null,null,null,"- pokládku krycí vrstvy komunikace, oceňuje se samostatně",null,null,3]
[null,null,"Řad \"A8-2-1\" PE D 90x8,2 mm:",null,0,null,null,null,null,null,null,null,"Řad \"A8-2-1\" PE D 90x8,2 mm:"]
[null,null,"Pro NP DAV (KIT) PE D90/32:3",null,3,null,null,null,null,null,null,null,"Pro NP DAV (KIT) PE D90/32:3"]
[null,null,"Pro Šoupě DN80:2",null,2,null,null,null,null,null,null,null,"Pro Šoupě DN80:2"]
[42,"939421131RT1","Osazení samonivelač.hydrant.poklopu za finišerem bez dodávky poklopu","kus",1,null,{"$f":"E228*F228","v":0},6.8250000000000005E-2,{"$f":"E228*H228","v":6.8250000000000005E-2},0,{"$f":"E228*J228","v":0},null,null,null,2,null,null,null,null,null,null,null,null,null,null,null,1,1,1,null,null,null,null,null,null,null,null,null,null,null,null,null,null,null,null,null,null,null,null,null,null,1,{"$f":"IF(AZ228=1,G228,0)","v":0},{"$f":"IF(AZ228=2,G228,0)","v":0},{"$f":"IF(AZ228=3,G228,0)","v":0},{"$f":"IF(AZ228=4,G228,0)","v":0},{"$f":"IF(AZ228=5,G228,0)","v":0},null,null,null,null,null,null,null,null,null,null,null,null,null,null,null,null,null,null,null,null,null,1,1]
[null,null,"Položka obsahuje:",null,null,null,null,null,null,null,null,"Položka obsahuje:",null,null,3]
[null,null,"- osazení prefabrikovaného betonového prstence do rychletuhnoucí malty (s dodávkou hmot)",null,null,null,null,null,null,null,null,"- osazení prefabrikovaného betonového prstence do rychletuhnoucí malty (s dodávkou hmot)",null,null,3]
[null,null,"- zalití prstence rychletuhnoucí zálivkou do výše prstence (s dodávkou hmoty)",null,null,null,null,null,null,null,null,"- zalití prstence rychletuhnoucí zálivkou do výše prstence (s dodávkou hmoty)",null,null,3]
[null,null,"- vložení kruhového bednění",null,null,null,null,null,null,null,null,"- vložení kruhového bednění",null,null,3]
[null,null,"- doplnění mezikruží asfaltovou směsí do výšky současné podkladní vrstvy, zhutnění",null,null,null,null,null,null,null,null,"- doplnění mezikruží asfaltovou směsí do výšky současné podkladní vrstvy, zhutnění",null,null,3]
[null,null,"- vyjmutí kruhového bednění",null,null,null,null,null,null,null,null,"- vyjmutí kruhového bednění",null,null,3]
[null,null,"- osazení poklopu a zatlačení",null,null,null,null,null,null,null,null,"- osazení poklopu a zatlačení",null,null,3]
[null,null,"  (následuje pokládka finální vrstvy vozovky - není součástí položky)",null,null,null,null,null,null,null,null,"  (následuje pokládka finální vrstvy vozovky - není součástí položky)",null,null,3]
[null,null,"- povytažení poklopu",null,null,null,null,null,null,null,null,"- povytažení poklopu",null,null,3]
[null,null,"- podsyp asfaltovou směsí, spuštění poklopu a zhutnění směsi",null,null,null,null,null,null,null,null,"- podsyp asfaltovou směsí, spuštění poklopu a zhutnění směsi",null,null,3]
[null,null,"Položka neobsahuje:",null,null,null,null,null,null,null,null,"Položka neobsahuje:",null,null,3]
[null,null,"- dodávku samonivelačního poklopu - oceňuje se ve specifikaci",null,null,null,null,null,null,null,null,"- dodávku samonivelačního poklopu - oceňuje se ve specifikaci",null,null,3]
[null,null,"- pokládku krycí vrstvy komunikace, oceňuje se samostatně",null,null,null,null,null,null,null,null,"- pokládku krycí vrstvy komunikace, oceňuje se samostatně",null,null,3]
[null,null,"Řad \"A8-2-1\" PE D 90x8,2 mm:",null,0,null,null,null,null,null,null,null,"Řad \"A8-2-1\" PE D 90x8,2 mm:"]
[null,null,"Pro Hp DN80/1,5:1",null,1,null,null,null,null,null,null,null,"Pro Hp DN80/1,5:1"]
[43,"422913520.R","Poklop luliční samonivelační přípojkový D400","kus",3,null,{"$f":"E244*F244","v":0},1.2E-2,{"$f":"E244*H244","v":3.6000000000000004E-2},null,{"$f":"E244*J244","v":0},null,null,null,2,null,null,null,null,null,null,null,null,null,null,null,3,1,"422913520.R",null,null,null,null,null,null,null,null,null,null,null,null,null,null,null,null,null,null,null,null,null,null,1,{"$f":"IF(AZ244=1,G244,0)","v":0},{"$f":"IF(AZ244=2,G244,0)","v":0},{"$f":"IF(AZ244=3,G244,0)","v":0},{"$f":"IF(AZ244=4,G244,0)","v":0},{"$f":"IF(AZ244=5,G244,0)","v":0},null,null,null,null,null,null,null,null,null,null,null,null,null,null,null,null,null,null,null,null,null,3,1]
[null,null,"Uliční samonivelační poklop přípojkový z tvárné litiny dle ČSN EN 124",null,null,null,null,null,null,null,null,"Uliční samonivelační poklop přípojkový z tvárné litiny dle ČSN EN 124",null,null,3]
[null,null,"Rozpětí stavební výšky 195 - 285 mm s fixací polohy",null,null,null,null,null,null,null,null,"Rozpětí stavební výšky 195 - 285 mm s fixací polohy",null,null,3]
[null,null,"Výklopové víko spojeno s rámem čepem a opatřeno ochrannou a těsnící vrstvou proti vnikání nečistot",null,null,null,null,null,null,null,null,"Výklopové víko spojeno s rámem čepem a opatřeno ochrannou a těsnící vrstvou proti vnikání nečistot",null,null,3]
[null,null,"Tlumicí vložka z elastomeru a PUR",null,null,null,null,null,null,null,null,"Tlumicí vložka z elastomeru a PUR",null,null,3]
[null,null,"Možnost vlastního loga a barevného provedení",null,null,null,null,null,null,null,null,"Možnost vlastního loga a barevného provedení",null,null,3]
[null,null,"Řad \"A8-2-1\" PE D 90x8,2 mm:",null,0,null,null,null,null,null,null,null,"Řad \"A8-2-1\" PE D 90x8,2 mm:"]
[null,null,"Pro NP DAV (KIT) PE D90/32:3",null,3,null,null,null,null,null,null,null,"Pro NP DAV (KIT) PE D90/32:3"]
[44,"422913521.R","Poklop litinový samonivelační šoupátkový D400","kus",2,null,{"$f":"E252*F252","v":0},1.2E-2,{"$f":"E252*H252","v":2.4E-2},null,{"$f":"E252*J252","v":0},null,null,null,2,null,null,null,null,null,null,null,null,null,null,null,3,1,"422913521.R",null,null,null,null,null,null,null,null,null,null,null,null,null,null,null,null,null,null,null,null,null,null,1,{"$f":"IF(AZ252=1,G252,0)","v":0},{"$f":"IF(AZ252=2,G252,0)","v":0},{"$f":"IF(AZ252=3,G252,0)","v":0},{"$f":"IF(AZ252=4,G252,0)","v":0},{"$f":"IF(AZ252=5,G252,0)","v":0},null,null,null,null,null,null,null,null,null,null,null,null,null,null,null,null,null,null,null,null,null,3,1]
[null,null,"Uliční samonivelační šoupátkový poklop z tvárné litiny dle ČSN EN 124",null,null,null,null,null,null,null,null,"Uliční samonivelační šoupátkový poklop z tvárné litiny dle ČSN EN 124",null,null,3]
[null,null,"Rozpětí stavební výšky 195 - 285 mm s fixací polohy",null,null,null,null,null,null,null,null,"Rozpětí stavební výšky 195 - 285 mm s fixací polohy",null,null,3]
[null,null,"Výklopové víko spojeno s rámem čepem a opatřeno ochrannou a těsnící vrstvou proti vnikání nečistot",null,null,null,null,null,null,null,null,"Výklopové víko spojeno s rámem čepem a opatřeno ochrannou a těsnící vrstvou proti vnikání nečistot",null,null,3]
[null,null,"Tlumicí vložka z elastomeru a PUR",null,null,null,null,null,null,null,null,"Tlumicí vložka z elastomeru a PUR",null,null,3]
[null,null,"Možnost vlastního loga a barevného provedení",null,null,null,null,null,null,null,null,"Možnost vlastního loga a barevného provedení",null,null,3]
[null,null,"Řad \"A8-2-1\" PE D 90x8,2 mm:",null,0,null,null,null,null,null,null,null,"Řad \"A8-2-1\" PE D 90x8,2 mm:"]
[null,null,"Pro Šoupě DN80:2",null,2,null,null,null,null,null,null,null,"Pro Šoupě DN80:2"]
[45,"422914522.R","Poklop litinový hydrantový samonivelační D400","kus",1,null,{"$f":"E260*F260","v":0},2.4E-2,{"$f":"E260*H260","v":2.4E-2},null,{"$f":"E260*J260","v":0},null,null,null,2,null,null,null,null,null,null,null,null,null,null,null,3,1,"422914522.R",null,null,null,null,null,null,null,null,null,null,null,null,null,null,null,null,null,null,null,null,null,null,1,{"$f":"IF(AZ260=1,G260,0)","v":0},{"$f":"IF(AZ260=2,G260,0)","v":0},{"$f":"IF(AZ260=3,G260,0)","v":0},{"$f":"IF(AZ260=4,G260,0)","v":0},{"$f":"IF(AZ260=5,G260,0)","v":0},null,null,null,null,null,null,null,null,null,null,null,null,null,null,null,null,null,null,null,null,null,3,1]
[null,null,"Uliční samonivelační hydrantový poklop z tvárné litiny dle ČSN EN 124",null,null,null,null,null,null,null,null,"Uliční samonivelační hydrantový poklop z tvárné litiny dle ČSN EN 124",null,null,3]
[null,null,"Rozpětí stavební výšky 200 - 285 mm s fixací polohy",null,null,null,null,null,null,null,null,"Rozpětí stavební výšky 200 - 285 mm s fixací polohy",null,null,3]
[null,null,"Výklopové víko spojeno s rámem čepem a opatřeno ochrannou a těsnící vrstvou proti vnikání nečistot",null,null,null,null,null,null,null,null,"Výklopové víko spojeno s rámem čepem a opatřeno ochrannou a těsnící vrstvou proti vnikání nečistot",null,null,3]
[null,null,"Tlumicí vložka z elastomeru a PUR",null,null,null,null,null,null,null,null,"Tlumicí vložka z elastomeru a PUR",null,null,3]
[null,null,"Možnost vlastního loga a barevného provedení",null,null,null,null,null,null,null,null,"Možnost vlastního loga a barevného provedení",null,null,3]
[null,null,"Řad \"A8-2-1\" PE D 90x8,2 mm:",null,0,null,null,null,null,null,null,null,"Řad \"A8-2-1\" PE D 90x8,2 mm:"]
[null,null,"Pro Hp DN80/1,5:1",null,1,null,null,null,null,null,null,null,"Pro Hp DN80/1,5:1"]
[null,"Celkem za","93 Dokončovací práce inženýrských staveb",null,null,null,{"$f":"SUM(G210:G267)","v":0},null,{"$f":"SUM(I210:I267)","v":0.41475000000000006},null,{"$f":"SUM(K210:K267)","v":0},null,null,null,4,null,null,null,null,null,null,null,null,null,null,null,null,null,null,null,null,null,null,null,null,null,null,null,null,null,null,null,null,null,null,null,null,null,null,null,null,null,{"$f":"SUM(BA210:BA267)","v":0},{"$f":"SUM(BB210:BB267)","v":0},{"$f":"SUM(BC210:BC267)","v":0},{"$f":"SUM(BD210:BD267)","v":0},{"$f":"SUM(BE210:BE267)","v":0}]
["Díl:","99","Staveništní přesun hmot",null,null,null,null,null,null,null,null,null,null,null,1]
[46,"998276101RXX","Přesun hmot, trubní vedení plastová, otevř. výkop pro celý rozsah objektu","t",151.93339968000001,null,{"$f":"E270*F270","v":0},0,{"$f":"E270*H270","v":0},null,{"$f":"E270*J270","v":0},null,null,null,2,null,null,null,null,null,null,null,null,null,null,null,7,1,2,null,null,null,null,null,null,null,null,null,null,null,null,null,null,null,null,null,null,null,null,null,null,1,{"$f":"IF(AZ270=1,G270,0)","v":0},{"$f":"IF(AZ270=2,G270,0)","v":0},{"$f":"IF(AZ270=3,G270,0)","v":0},{"$f":"IF(AZ270=4,G270,0)","v":0},{"$f":"IF(AZ270=5,G270,0)","v":0},null,null,null,null,null,null,null,null,null,null,null,null,null,null,null,null,null,null,null,null,null,7,1]
[null,null,"Staveništní doprava pro celý rozsah objektu - doprava zmeziskládek vybudovaného zařízení staveniště zhotovitele na jednotlivé části staveniště.",null,null,null,null,null,null,null,null,"Staveništní doprava pro celý rozsah objektu - doprava zmeziskládek vybudovaného zařízení staveniště zhotovitele na jednotlivé části staveniště.",null,null,3]
[null,"Celkem za","99 Staveništní přesun hmot",null,null,null,{"$f":"SUM(G269:G271)","v":0},null,{"$f":"SUM(I269:I271)","v":0},null,{"$f":"SUM(K269:K271)","v":0},null,null,null,4,null,null,null,null,null,null,null,null,null,null,null,null,null,null,null,null,null,null,null,null,null,null,null,null,null,null,null,null,null,null,null,null,null,null,null,null,null,{"$f":"SUM(BA269:BA271)","v":0},{"$f":"SUM(BB269:BB271)","v":0},{"$f":"SUM(BC269:BC271)","v":0},{"$f":"SUM(BD269:BD271)","v":0},{"$f":"SUM(BE269:BE271)","v":0}]

{"sheet":"1.E 01 1.E 01.2 KL","index":13,"n_rows":45,"n_cols":8,"rows_kept":45,"cut":false,"hidden":false,"merged":[[50,1,50,6],[29,5,29,6],[30,5,30,6],[31,5,31,6],[32,5,32,6],[33,5,33,6],[36,1,44,6],[45,1,45,6],[46,1,46,6],[47,1,47,6],[48,1,48,6],[49,1,49,6],[22,0,22,1],[7,2,7,4],[8,2,8,4],[9,2,9,4],[10,2,10,4],[11,2,11,4]]}
["POLOŽKOVÝ ROZPOČET"]
["Rozpočet",null,"1.E 01.2","Vodovodní řad \"A8-2\"",null,"JKSO ","827.11"]
[]
["Objekt",null,null,null,null,"SKP "]
["1.E 01",null,"Vodovody",null,null,"Měrná jednotka","m"]
["Stavba",null,null,null,null,"Počet jednotek",0]
["3403",null,"Jilemnice - Optimalizace VS a komunikace I.Etapa",null,null,"Náklady na m.j.",{"$f":"IF(G6=0,,ROUND((F30+F32)/G6,1))","v":0}]
["Projektant",null,"Vodohospodářsko - inženýrské služby spol. s r.o.",null,null,"Typ rozpočtu"]
["Zpracovatel projektu"]
["Objednatel",null,"Vodohospodářské sdružení Turnov"]
["Dodavatel",null,".",null,null,"Zakázkové číslo "]
["Rozpočtoval",null,null,null,null,"Počet listů"]
["ROZPOČTOVÉ NÁKLADY"]
["Základní rozpočtové náklady"]
[null,"HSV celkem",{"$f":"'1.E 01 1.E 01.2 Rek'!E14","v":0}]
["Z","PSV celkem",{"$f":"'1.E 01 1.E 01.2 Rek'!F14","v":0}]
["R","M práce celkem",{"$f":"'1.E 01 1.E 01.2 Rek'!H14","v":0}]
["N","M dodávky celkem",{"$f":"'1.E 01 1.E 01.2 Rek'!G14","v":0}]
["ZRN celkem",null,{"$f":"SUM(C15:C18)","v":0}]
[]
["HZS",null,{"$f":"'1.E 01 1.E 01.2 Rek'!I14","v":0}]
["ZRN+HZS",null,{"$f":"C19+C21","v":0}]
["ZRN+ost.náklady+HZS",null,{"$f":"C22+G23","v":0}]
["Vypracoval",null,null,"Za zhotovitele",null,"Za objednatele"]
["Jméno :",null,null,"Jméno :",null,"Jméno :"]
["Datum :",null,null,"Datum :",null,"Datum :"]
[]
["Podpis :",null,null,"Podpis:",null,"Podpis:"]
[]
["Základ pro DPH",null,21,"%  ",null,{"$f":"C23-F32","v":0}]
["DPH",null,{"$f":"C30","v":21},"% ",null,{"$f":"ROUND(PRODUCT(F30,C31/100),0)","v":0}]
["Základ pro DPH",null,0,"% ",null,0]
["DPH",null,{"$f":"C32","v":0},"% ",null,{"$f":"ROUND(PRODUCT(F32,C33/100),0)","v":0}]
["CENA ZA OBJEKT CELKEM",null,null,null,null,{"$f":"ROUND(SUM(F30:F33),0)","v":0}]
[]
["Poznámka :",null,null,null,null,null,null," "]
[null,null,null,null,null,null,null," "]
[null,null,null,null,null,null,null," "]
[null,null,null,null,null,null,null," "]
[null,null,null,null,null,null,null," "]
[null,null,null,null,null,null,null," "]
[null,null,null,null,null,null,null," "]
[null,null,null,null,null,null,null," "]
[null,null,null,null,null,null,null," "]
[null,null,null,null,null,null,null," "]

{"sheet":"1.E 01 1.E 01.2 Rek","index":14,"n_rows":14,"n_cols":9,"rows_kept":14,"cut":false,"hidden":false,"merged":[[0,0,0,1],[1,0,1,1],[1,6,1,8]]}
["Stavba :",null,"3403 Jilemnice - Optimalizace VS a komunikace",null,null,null,"Rozpočet :","1.E 01.2"]
["Objekt :",null,"1.E 01 Vodovody",null,null,null,"Vodovodní řad \"A8-2\""]
[]
["REKAPITULACE  STAVEBNÍCH  DÍLŮ"]
[]
[null,"Stavební díl",null,null,"HSV","PSV","Dodávka","Montáž","HZS"]
[{"$f":"'1.E 01 1.E 01.2 Pol'!B7","v":"1"},{"$f":"'1.E 01 1.E 01.2 Pol'!C7","v":"Zemní práce"},null,null,{"$f":"'1.E 01 1.E 01.2 Pol'!BA115","v":0},{"$f":"'1.E 01 1.E 01.2 Pol'!BB115","v":0},{"$f":"'1.E 01 1.E 01.2 Pol'!BC115","v":0},{"$f":"'1.E 01 1.E 01.2 Pol'!BD115","v":0},{"$f":"'1.E 01 1.E 01.2 Pol'!BE115","v":0}]
[{"$f":"'1.E 01 1.E 01.2 Pol'!B116","v":"45"},{"$f":"'1.E 01 1.E 01.2 Pol'!C116","v":"Podkladní a vedlejší konstrukce"},null,null,{"$f":"'1.E 01 1.E 01.2 Pol'!BA121","v":0},{"$f":"'1.E 01 1.E 01.2 Pol'!BB121","v":0},{"$f":"'1.E 01 1.E 01.2 Pol'!BC121","v":0},{"$f":"'1.E 01 1.E 01.2 Pol'!BD121","v":0},{"$f":"'1.E 01 1.E 01.2 Pol'!BE121","v":0}]
[{"$f":"'1.E 01 1.E 01.2 Pol'!B122","v":"5"},{"$f":"'1.E 01 1.E 01.2 Pol'!C122","v":"Komunikace"},null,null,{"$f":"'1.E 01 1.E 01.2 Pol'!BA130","v":0},{"$f":"'1.E 01 1.E 01.2 Pol'!BB130","v":0},{"$f":"'1.E 01 1.E 01.2 Pol'!BC130","v":0},{"$f":"'1.E 01 1.E 01.2 Pol'!BD130","v":0},{"$f":"'1.E 01 1.E 01.2 Pol'!BE130","v":0}]
[{"$f":"'1.E 01 1.E 01.2 Pol'!B131","v":"8"},{"$f":"'1.E 01 1.E 01.2 Pol'!C131","v":"Trubní vedení"},null,null,{"$f":"'1.E 01 1.E 01.2 Pol'!BA393","v":0},{"$f":"'1.E 01 1.E 01.2 Pol'!BB393","v":0},{"$f":"'1.E 01 1.E 01.2 Pol'!BC393","v":0},{"$f":"'1.E 01 1.E 01.2 Pol'!BD393","v":0},{"$f":"'1.E 01 1.E 01.2 Pol'!BE393","v":0}]
[{"$f":"'1.E 01 1.E 01.2 Pol'!B394","v":"89"},{"$f":"'1.E 01 1.E 01.2 Pol'!C394","v":"Ostatní konstrukce na trubním vedení"},null,null,{"$f":"'1.E 01 1.E 01.2 Pol'!BA415","v":0},{"$f":"'1.E 01 1.E 01.2 Pol'!BB415","v":0},{"$f":"'1.E 01 1.E 01.2 Pol'!BC415","v":0},{"$f":"'1.E 01 1.E 01.2 Pol'!BD415","v":0},{"$f":"'1.E 01 1.E 01.2 Pol'!BE415","v":0}]
[{"$f":"'1.E 01 1.E 01.2 Pol'!B416","v":"93"},{"$f":"'1.E 01 1.E 01.2 Pol'!C416","v":"Dokončovací práce inženýrských staveb"},null,null,{"$f":"'1.E 01 1.E 01.2 Pol'!BA454","v":0},{"$f":"'1.E 01 1.E 01.2 Pol'!BB454","v":0},{"$f":"'1.E 01 1.E 01.2 Pol'!BC454","v":0},{"$f":"'1.E 01 1.E 01.2 Pol'!BD454","v":0},{"$f":"'1.E 01 1.E 01.2 Pol'!BE454","v":0}]
[{"$f":"'1.E 01 1.E 01.2 Pol'!B455","v":"99"},{"$f":"'1.E 01 1.E 01.2 Pol'!C455","v":"Staveništní přesun hmot"},null,null,{"$f":"'1.E 01 1.E 01.2 Pol'!BA458","v":0},{"$f":"'1.E 01 1.E 01.2 Pol'!BB458","v":0},{"$f":"'1.E 01 1.E 01.2 Pol'!BC458","v":0},{"$f":"'1.E 01 1.E 01.2 Pol'!BD458","v":0},{"$f":"'1.E 01 1.E 01.2 Pol'!BE458","v":0}]
[null,"CELKEM  OBJEKT",null,null,{"$f":"SUM(E7:E13)","v":0},{"$f":"SUM(F7:F13)","v":0},{"$f":"SUM(G7:G13)","v":0},{"$f":"SUM(H7:H13)","v":0},{"$f":"SUM(I7:I13)","v":0}]

{"sheet":"1.E 01 1.E 01.2 Pol","index":15,"n_rows":458,"n_cols":80,"rows_kept":458,"cut":false,"hidden":false,"merged":[[450,2,450,3],[451,2,451,3],[452,2,452,3],[456,2,456,6],[444,2,444,6],[445,2,445,6],[446,2,446,6],[447,2,447,6],[448,2,448,6],[449,2,449,3],[437,2,437,6],[438,2,438,6],[439,2,439,6],[440,2,440,6],[441,2,441,3],[442,2,442,3],[430,2,430,3],[431,2,431,3],[432,2,432,3],[433,2,433,3],[434,2,434,3],[436,2,436,6],[409,2,409,6],[410,2,410,6],[411,2,411,6],[412,2,412,6],[413,2,413,6],[426,2,426,6],[427,2,427,6],[428,2,428,6],[429,2,429,6],[417,2,417,6],[418,2,418,6],[419,2,419,6],[420,2,420,6],[421,2,421,6],[422,2,422,6],[423,2,423,6],[424,2,424,6],[425,2,425,6],[385,2,385,3],[387,2,387,3],[388,2,388,3],[390,2,390,3],[391,2,391,3],[405,2,405,6],[406,2,406,6],[407,2,407,6],[408,2,408,6],[395,2,395,6],[396,2,396,6],[397,2,397,6],[398,2,398,6],[399,2,399,6],[400,2,400,6],[401,2,401,6],[402,2,402,6],[403,2,403,6],[376,2,376,3],[378,2,378,3],[379,2,379,3],[381,2,381,3],[382,2,382,3],[384,2,384,3],[368,2,368,6],[369,2,369,3],[370,2,370,3],[372,2,372,3],[373,2,373,3],[375,2,375,3],[362,2,362,6],[363,2,363,6],[364,2,364,6],[365,2,365,6],[366,2,366,6],[367,2,367,6],[356,2,356,6],[357,2,357,6],[358,2,358,6],[359,2,359,6],[360,2,360,6],[361,2,361,6],[348,2,348,3],[349,2,349,3],[350,2,350,3],[352,2,352,3],[353,2,353,3],[355,2,355,6],[340,2,340,6],[341,2,341,6],[342,2,342,3],[343,2,343,3],[345,2,345,3],[346,2,346,3],[333,2,333,3],[334,2,334,3],[336,2,336,6],[337,2,337,6],[338,2,338,6],[339,2,339,6],[327,2,327,6],[328,2,328,6],[329,2,329,6],[330,2,330,6],[331,2,331,6],[332,2,332,6],[320,2,320,6],[321,2,321,6],[322,2,322,6],[323,2,323,6],[324,2,324,3],[325,2,325,3],[312,2,312,3],[314,2,314,3],[315,2,315,3],[316,2,316,3],[318,2,318,6],[319,2,319,6],[303,2,303,3],[305,2,305,3],[306,2,306,3],[308,2,308,3],[309,2,309,3],[311,2,311,3],[294,2,294,3],[296,2,296,3],[297,2,297,3],[299,2,299,3],[300,2,300,3],[302,2,302,3],[286,2,286,6],[287,2,287,3],[289,2,289,3],[290,2,290,3],[291,2,291,3],[293,2,293,3],[279,2,279,3],[280,2,280,3],[282,2,282,6],[283,2,283,6],[284,2,284,6],[285,2,285,6],[272,2,272,3],[274,2,274,6],[275,2,275,6],[276,2,276,6],[277,2,277,6],[278,2,278,6],[264,2,264,3],[265,2,265,3],[266,2,266,3],[268,2,268,3],[269,2,269,3],[271,2,271,3],[258,2,258,6],[259,2,259,3],[260,2,260,3],[261,2,261,3],[262,2,262,3],[263,2,263,3],[250,2,250,3],[251,2,251,3],[252,2,252,3],[253,2,253,3],[255,2,255,3],[256,2,256,3],[242,2,242,3],[244,2,244,3],[245,2,245,3],[247,2,247,6],[248,2,248,3],[249,2,249,3],[234,2,234,3],[236,2,236,6],[237,2,237,3],[238,2,238,3],[240,2,240,6],[241,2,241,3],[227,2,227,3],[228,2,228,3],[229,2,229,3],[231,2,231,6],[232,2,232,6],[233,2,233,3],[221,2,221,3],[222,2,222,3],[223,2,223,3],[224,2,224,3],[225,2,225,3],[226,2,226,3],[214,2,214,3],[215,2,215,3],[217,2,217,3],[218,2,218,3],[219,2,219,3],[220,2,220,3],[207,2,207,6],[208,2,208,6],[209,2,209,3],[210,2,210,3],[212,2,212,6],[213,2,213,6],[199,2,199,3],[201,2,201,6],[202,2,202,6],[203,2,203,3],[204,2,204,3],[206,2,206,6],[192,2,192,3],[193,2,193,3],[194,2,194,3],[196,2,196,6],[197,2,197,6],[198,2,198,3],[184,2,184,6],[185,2,185,3],[187,2,187,3],[188,2,188,3],[189,2,189,3],[191,2,191,3],[176,2,176,6],[177,2,177,3],[178,2,178,3],[180,2,180,6],[181,2,181,3],[182,2,182,3],[169,2,169,6],[170,2,170,6],[171,2,171,3],[172,2,172,3],[173,2,173,3],[175,2,175,6],[161,2,161,3],[163,2,163,6],[164,2,164,6],[165,2,165,3],[166,2,166,3],[167,2,167,3],[154,2,154,3],[155,2,155,3],[157,2,157,6],[158,2,158,6],[159,2,159,3],[160,2,160,3],[147,2,147,6],[148,2,148,6],[150,2,150,6],[151,2,151,6],[152,2,152,3],[153,2,153,3],[141,2,141,6],[142,2,142,6],[143,2,143,6],[144,2,144,6],[145,2,145,6],[146,2,146,6],[132,2,132,6],[133,2,133,6],[134,2,134,6],[135,2,135,6],[136,2,136,6],[137,2,137,6],[138,2,138,6],[139,2,139,6],[117,2,117,3],[118,2,118,3],[123,2,123,3],[124,2,124,3],[125,2,125,3],[127,2,127,3],[128,2,128,3],[109,2,109,3],[110,2,110,3],[111,2,111,3],[112,2,112,3],[113,2,113,3],[101,2,101,6],[103,2,103,3],[104,2,104,3],[106,2,106,3],[107,2,107,3],[108,2,108,3],[91,2,91,3],[92,2,92,3],[93,2,93,3],[95,2,95,3],[96,2,96,3],[97,2,97,3],[83,2,83,3],[84,2,84,3],[85,2,85,3],[87,2,87,3],[88,2,88,3],[90,2,90,3],[77,2,77,6],[78,2,78,3],[79,2,79,3],[80,2,80,3],[81,2,81,3],[82,2,82,3],[69,2,69,3],[71,2,71,3],[72,2,72,3],[73,2,73,3],[74,2,74,3],[76,2,76,6],[62,2,62,3],[64,2,64,3],[65,2,65,3],[66,2,66,3],[67,2,67,3],[68,2,68,3],[55,2,55,3],[57,2,57,3],[58,2,58,3],[59,2,59,3],[60,2,60,3],[61,2,61,3],[48,2,48,3],[49,2,49,3],[51,2,51,6],[52,2,52,3],[53,2,53,3],[54,2,54,3],[41,2,41,3],[42,2,42,3],[43,2,43,3],[44,2,44,3],[46,2,46,3],[47,2,47,3],[33,2,33,3],[35,2,35,3],[36,2,36,3],[37,2,37,3],[38,2,38,3],[40,2,40,6],[27,2,27,3],[28,2,28,3],[29,2,29,3],[30,2,30,3],[31,2,31,3],[32,2,32,3],[20,2,20,3],[21,2,21,3],[23,2,23,6],[24,2,24,3],[25,2,25,3],[26,2,26,3],[13,2,13,3],[14,2,14,3],[16,2,16,6],[17,2,17,6],[18,2,18,3],[19,2,19,3],[0,0,0,6],[2,0,2,1],[3,0,3,1],[3,4,3,6],[8,2,8,3],[9,2,9,3],[10,2,10,3],[12,2,12,3]]}
["Položkový rozpočet "]
[]
["Stavba :",null,"3403 Jilemnice - Optimalizace VS a komunikace",null,"Rozpočet:",{"$f":"'1.E 01 1.E 01.2 Rek'!H1","v":"1.E 01.2"}]
["Objekt :",null,"1.E 01 Vodovody",null,{"$f":"'1.E 01 1.E 01.2 Rek'!G2","v":"Vodovodní řad \"A8-2\""}]
[]
["P.č.","Číslo položky","Název položky","MJ","množství","cena / MJ","celkem (Kč)","Jednotková hmotnost","Celková hmotnost","Jednotková dem.hmot.","Celková dem.hmot."]
["Díl:","1","Zemní práce",null,null,null,null,null,null,null,null,null,null,null,1]
[1,"113107625R00","Odstranění podkladu nad 50 m2,kam.drcené tl.25 cm ","m2",103.2,null,{"$f":"E8*F8","v":0},0,{"$f":"E8*H8","v":0},-0.55000000000000004,{"$f":"E8*J8","v":-56.760000000000005},null,null,null,2,null,null,null,null,null,null,null,null,null,null,null,1,1,1,null,null,null,null,null,null,null,null,null,null,null,null,null,null,null,null,null,null,null,null,null,null,1,{"$f":"IF(AZ8=1,G8,0)","v":0},{"$f":"IF(AZ8=2,G8,0)","v":0},{"$f":"IF(AZ8=3,G8,0)","v":0},{"$f":"IF(AZ8=4,G8,0)","v":0},{"$f":"IF(AZ8=5,G8,0)","v":0},null,null,null,null,null,null,null,null,null,null,null,null,null,null,null,null,null,null,null,null,null,1,1]
[null,null,"Provizorní zaasfaltování rýhy od km 0,148 do km 0,274:",null,0,null,null,null,null,null,null,null,"Provizorní zaasfaltování rýhy od km 0,148 do km 0,274:"]
[null,null,"Řad \"A8-2\" PE D 110x10,0 mmm:(274,00-148,00)*0,80",null,100.8,null,null,null,null,null,null,null,"Řad \"A8-2\" PE D 110x10,0 mmm:(274,00-148,00)*0,80"]
[null,null,"Odbočení k HN DN80 - PE D 90x8,2 mm:3,00*0,80",null,2.4,null,null,null,null,null,null,null,"Odbočení k HN DN80 - PE D 90x8,2 mm:3,00*0,80"]
[2,"113108415R00","Odstranění asfaltové vrstvy pl.nad 50 m2, tl.15 cm ","m2",103.2,null,{"$f":"E12*F12","v":0},0,{"$f":"E12*H12","v":0},-0.33,{"$f":"E12*J12","v":-34.056000000000004},null,null,null,2,null,null,null,null,null,null,null,null,null,null,null,1,1,1,null,null,null,null,null,null,null,null,null,null,null,null,null,null,null,null,null,null,null,null,null,null,1,{"$f":"IF(AZ12=1,G12,0)","v":0},{"$f":"IF(AZ12=2,G12,0)","v":0},{"$f":"IF(AZ12=3,G12,0)","v":0},{"$f":"IF(AZ12=4,G12,0)","v":0},{"$f":"IF(AZ12=5,G12,0)","v":0},null,null,null,null,null,null,null,null,null,null,null,null,null,null,null,null,null,null,null,null,null,1,1]
[null,null,"Provizorní zaasfaltování rýhy od km 0,148 do km 0,274:",null,0,null,null,null,null,null,null,null,"Provizorní zaasfaltování rýhy od km 0,148 do km 0,274:"]
[null,null,"Řad \"A8-2\" PE D 110x10,0 mmm:(274,00-148,00)*0,80",null,100.8,null,null,null,null,null,null,null,"Řad \"A8-2\" PE D 110x10,0 mmm:(274,00-148,00)*0,80"]
[null,null,"Odbočení k HN DN80 - PE D 90x8,2 mm:3,00*0,80",null,2.4,null,null,null,null,null,null,null,"Odbočení k HN DN80 - PE D 90x8,2 mm:3,00*0,80"]
[3,"130001101RRX","Příplatek za ztížené hloubení v blízkosti vedení ","m3",54.735199999999999,null,{"$f":"E16*F16","v":0},0,{"$f":"E16*H16","v":0},0,{"$f":"E16*J16","v":0},null,null,null,2,null,null,null,null,null,null,null,null,null,null,null,1,1,1,null,null,null,null,null,null,null,null,null,null,null,null,null,null,null,null,null,null,null,null,null,null,1,{"$f":"IF(AZ16=1,G16,0)","v":0},{"$f":"IF(AZ16=2,G16,0)","v":0},{"$f":"IF(AZ16=3,G16,0)","v":0},{"$f":"IF(AZ16=4,G16,0)","v":0},{"$f":"IF(AZ16=5,G16,0)","v":0},null,null,null,null,null,null,null,null,null,null,null,null,null,null,null,null,null,null,null,null,null,1,1]
[null,null,"Včetně případných nutných dokopávem a ručního výkopu podél sousedících inženýrských sítí.",null,null,null,null,null,null,null,null,"Včetně případných nutných dokopávem a ručního výkopu podél sousedících inženýrských sítí.",null,null,3]
[null,null,"Součástí položky je i dočasné zajištění inženýrských sítí v prostoru výkopů (potrubí, kabely a pod.)",null,null,null,null,null,null,null,null,"Součástí položky je i dočasné zajištění inženýrských sítí v prostoru výkopů (potrubí, kabely a pod.)",null,null,3]
[null,null,"Řad \"A8-2\" PE D 110x10,0 mmm:",null,0,null,null,null,null,null,null,null,"Řad \"A8-2\" PE D 110x10,0 mmm:"]
[null,null,"Odbočení k HN DN80 - PE D 90x8,2 mm:",null,0,null,null,null,null,null,null,null,"Odbočení k HN DN80 - PE D 90x8,2 mm:"]
[null,null,"Výkopy:",null,0,null,null,null,null,null,null,null,"Výkopy:"]
[null,null,"V hornině tř. 3 - 5 - 19%:288,0800*0,19",null,54.735199999999999,null,null,null,null,null,null,null,"V hornině tř. 3 - 5 - 19%:288,0800*0,19"]
[4,"132201212R00","Hloubení rýh š.do 200 cm hor.3 do 1000m3,STROJNĚ ","m3",115.232,null,{"$f":"E23*F23","v":0},0,{"$f":"E23*H23","v":0},0,{"$f":"E23*J23","v":0},null,null,null,2,null,null,null,null,null,null,null,null,null,null,null,1,1,1,null,null,null,null,null,null,null,null,null,null,null,null,null,null,null,null,null,null,null,null,null,null,1,{"$f":"IF(AZ23=1,G23,0)","v":0},{"$f":"IF(AZ23=2,G23,0)","v":0},{"$f":"IF(AZ23=3,G23,0)","v":0},{"$f":"IF(AZ23=4,G23,0)","v":0},{"$f":"IF(AZ23=5,G23,0)","v":0},null,null,null,null,null,null,null,null,null,null,null,null,null,null,null,null,null,null,null,null,null,1,1]
[null,null,"Položka obsahuje hloubení rýh traktorbagrem, naložení výkopku na dopravní prostředek pro svislé, nebo vodorovné přemístění, popř. přemístění výkopku do 3 m (po povrchu území), případné zajištění rypadel polštáři, udržování pracoviště a ochranu výkopiště proti stékání srážkové vody z okolního terénu i s jejím odvodněním, nebo odvedením, přesekání a odstranění kořenů ve výkopišti, odstranění napadávek, urovnání dna výkopu.",null,null,null,null,null,null,null,null,"Položka obsahuje hloubení rýh traktorbagrem, naložení výkopku na dopravní prostředek pro svislé, nebo vodorovné přemístění, popř. přemístění výkopku do 3 m (po povrchu území), případné zajištění rypadel polštáři, udržování pracoviště a ochranu výkopiště proti stékání srážkové vody z okolního terénu i s jejím odvodněním, nebo odvedením, přesekání a odstranění kořenů ve výkopišti, odstranění napadávek, urovnání dna výkopu.",null,null,3]
[null,null,"Řad \"A8-2\" PE D 110x10,0 mmm:",null,0,null,null,null,null,null,null,null,"Řad \"A8-2\" PE D 110x10,0 mmm:"]
[null,null,"Odbočení k HN DN80 - PE D 90x8,2 mm:",null,0,null,null,null,null,null,null,null,"Odbočení k HN DN80 - PE D 90x8,2 mm:"]
[null,null,"Výkopy:",null,0,null,null,null,null,null,null,null,"Výkopy:"]
[null,null,"Začátek provozního součtu",null,0,null,null,null,null,null,null,null,"Začátek provozního součtu"]
[null,null,"Průměrná hloubka výkopů 1,70 m:",null,0,null,null,null,null,null,null,null,"Průměrná hloubka výkopů 1,70 m:"]
[null,null,"Řad \"A8-2\":274,00*0,80*1,70",null,372.64,null,null,null,null,null,null,null,"Řad \"A8-2\":274,00*0,80*1,70"]
[null,null,"Odbočení k HN DN80:3,00*0,80*1,70",null,4.08,null,null,null,null,null,null,null,"Odbočení k HN DN80:3,00*0,80*1,70"]
[null,null,"Odpočet předpokládané ponstrukce MK:-(274,00+3,00)*0,80*0,40",null,-88.64,null,null,null,null,null,null,null,"Odpočet předpokládané ponstrukce MK:-(274,00+3,00)*0,80*0,40"]
[null,null,"Konec provozního součtu",null,288.08,null,null,null,null,null,null,null,"Konec provozního součtu"]
[null,null,"V hornině tř. 3 - 40%:288,0800*0,4",null,115.232,null,null,null,null,null,null,null,"V hornině tř. 3 - 40%:288,0800*0,4"]
[5,"132201219R00","Přípl.za lepivost,hloubení rýh 200cm,hor.3,STROJNĚ ","m3",57.616,null,{"$f":"E35*F35","v":0},0,{"$f":"E35*H35","v":0},0,{"$f":"E35*J35","v":0},null,null,null,2,null,null,null,null,null,null,null,null,null,null,null,1,1,1,null,null,null,null,null,null,null,null,null,null,null,null,null,null,null,null,null,null,null,null,null,null,1,{"$f":"IF(AZ35=1,G35,0)","v":0},{"$f":"IF(AZ35=2,G35,0)","v":0},{"$f":"IF(AZ35=3,G35,0)","v":0},{"$f":"IF(AZ35=4,G35,0)","v":0},{"$f":"IF(AZ35=5,G35,0)","v":0},null,null,null,null,null,null,null,null,null,null,null,null,null,null,null,null,null,null,null,null,null,1,1]
[null,null,"Řad \"A8-2\" PE D 110x10,0 mmm:",null,0,null,null,null,null,null,null,null,"Řad \"A8-2\" PE D 110x10,0 mmm:"]
[null,null,"Odbočení k HN DN80 - PE D 90x8,2 mm:",null,0,null,null,null,null,null,null,null,"Odbočení k HN DN80 - PE D 90x8,2 mm:"]
[null,null,"Výkopy:",null,0,null,null,null,null,null,null,null,"Výkopy:"]
[null,null,"V hornině tř. 3 - 40%:288,0800*0,4*0,5",null,57.616,null,null,null,null,null,null,null,"V hornině tř. 3 - 40%:288,0800*0,4*0,5"]
[6,"132301212R00","Hloubení rýh š.do 200 cm hor.4 do 1000 m3, STROJNĚ ","m3",144.04,null,{"$f":"E40*F40","v":0},0,{"$f":"E40*H40","v":0},0,{"$f":"E40*J40","v":0},null,null,null,2,null,null,null,null,null,null,null,null,null,null,null,1,1,1,null,null,null,null,null,null,null,null,null,null,null,null,null,null,null,null,null,null,null,null,null,null,1,{"$f":"IF(AZ40=1,G40,0)","v":0},{"$f":"IF(AZ40=2,G40,0)","v":0},{"$f":"IF(AZ40=3,G40,0)","v":0},{"$f":"IF(AZ40=4,G40,0)","v":0},{"$f":"IF(AZ40=5,G40,0)","v":0},null,null,null,null,null,null,null,null,null,null,null,null,null,null,null,null,null,null,null,null,null,1,1]
[null,null,"Položka obsahuje hloubení rýh traktorbagrem, naložení výkopku na dopravní prostředek pro svislé, nebo vodorovné přemístění, popř. přemístění výkopku do 3 m (po povrchu území), případné zajištění rypadel polštáři, udržování pracoviště a ochranu výkopiště proti stékání srážkové vody z okolního terénu i s jejím odvodněním, nebo odvedením, přesekání a odstranění kořenů ve výkopišti, odstranění napadávek, urovnání dna výkopu.",null,null,null,null,null,null,null,null,"Položka obsahuje hloubení rýh traktorbagrem, naložení výkopku na dopravní prostředek pro svislé, nebo vodorovné přemístění, popř. přemístění výkopku do 3 m (po povrchu území), případné zajištění rypadel polštáři, udržování pracoviště a ochranu výkopiště proti stékání srážkové vody z okolního terénu i s jejím odvodněním, nebo odvedením, přesekání a odstranění kořenů ve výkopišti, odstranění napadávek, urovnání dna výkopu.",null,null,3]
[null,null,"Řad \"A8-2\" PE D 110x10,0 mmm:",null,0,null,null,null,null,null,null,null,"Řad \"A8-2\" PE D 110x10,0 mmm:"]
[null,null,"Odbočení k HN DN80 - PE D 90x8,2 mm:",null,0,null,null,null,null,null,null,null,"Odbočení k HN DN80 - PE D 90x8,2 mm:"]
[null,null,"Výkopy:",null,0,null,null,null,null,null,null,null,"Výkopy:"]
[null,null,"V hornině tř. 4 - 50%:288,0800*0,5",null,144.04,null,null,null,null,null,null,null,"V hornině tř. 4 - 50%:288,0800*0,5"]
[7,"132301219R00","Přípl.za lepivost,hloubení rýh 200cm,hor.4,STROJNĚ ","m3",72.02,null,{"$f":"E46*F46","v":0},0,{"$f":"E46*H46","v":0},0,{"$f":"E46*J46","v":0},null,null,null,2,null,null,null,null,null,null,null,null,null,null,null,1,1,1,null,null,null,null,null,null,null,null,null,null,null,null,null,null,null,null,null,null,null,null,null,null,1,{"$f":"IF(AZ46=1,G46,0)","v":0},{"$f":"IF(AZ46=2,G46,0)","v":0},{"$f":"IF(AZ46=3,G46,0)","v":0},{"$f":"IF(AZ46=4,G46,0)","v":0},{"$f":"IF(AZ46=5,G46,0)","v":0},null,null,null,null,null,null,null,null,null,null,null,null,null,null,null,null,null,null,null,null,null,1,1]
[null,null,"Řad \"A8-2\" PE D 110x10,0 mmm:",null,0,null,null,null,null,null,null,null,"Řad \"A8-2\" PE D 110x10,0 mmm:"]
[null,null,"Odbočení k HN DN80 - PE D 90x8,2 mm:",null,0,null,null,null,null,null,null,null,"Odbočení k HN DN80 - PE D 90x8,2 mm:"]
[null,null,"Výkopy:",null,0,null,null,null,null,null,null,null,"Výkopy:"]
[null,null,"V hornině tř. 4 - 50%:288,0800*0,5*0,5",null,72.02,null,null,null,null,null,null,null,"V hornině tř. 4 - 50%:288,0800*0,5*0,5"]
[8,"132401211RRX","Hloubení rýh šířky do 200 cm v hor.5 STROJNĚ včetně případného dolamování ve vrstvě do 0,5 m","m3",28.808,null,{"$f":"E51*F51","v":0},1.0410000000000001E-2,{"$f":"E51*H51","v":0.29989128000000004},0,{"$f":"E51*J51","v":0},null,null,null,2,null,null,null,null,null,null,null,null,null,null,null,1,1,1,null,null,null,null,null,null,null,null,null,null,null,null,null,null,null,null,null,null,null,null,null,null,1,{"$f":"IF(AZ51=1,G51,0)","v":0},{"$f":"IF(AZ51=2,G51,0)","v":0},{"$f":"IF(AZ51=3,G51,0)","v":0},{"$f":"IF(AZ51=4,G51,0)","v":0},{"$f":"IF(AZ51=5,G51,0)","v":0},null,null,null,null,null,null,null,null,null,null,null,null,null,null,null,null,null,null,null,null,null,1,1]
[null,null,"Položka obsahuje hloubení rýh traktorbagrem, naložení výkopku na dopravní prostředek pro svislé, nebo vodorovné přemístění, popř. přemístění výkopku do 3 m (po povrchu území), případné zajištění rypadel polštáři, udržování pracoviště a ochranu výkopiště proti stékání srážkové vody z okolního terénu i s jejím odvodněním, nebo odvedením, přesekání a odstranění kořenů ve výkopišti, odstranění napadávek, urovnání dna výkopu.včetně případného dolamování ve vrstvě do 0,5 m",null,null,null,null,null,null,null,null,"Položka obsahuje hloubení rýh traktorbagrem, naložení výkopku na dopravní prostředek pro svislé, nebo vodorovné přemístění, popř. přemístění výkopku do 3 m (po povrchu území), případné zajištění rypadel polštáři, udržování pracoviště a ochranu výkopiště proti stékání srážkové vody z okolního terénu i s jejím odvodněním, nebo odvedením, přesekání a odstranění kořenů ve výkopišti, odstranění napadávek, urovnání dna výkopu.včetně případného dolamování ve vrstvě do 0,5 m",null,null,3]
[null,null,"Řad \"A8-2\" PE D 110x10,0 mmm:",null,0,null,null,null,null,null,null,null,"Řad \"A8-2\" PE D 110x10,0 mmm:"]
[null,null,"Odbočení k HN DN80 - PE D 90x8,2 mm:",null,0,null,null,null,null,null,null,null,"Odbočení k HN DN80 - PE D 90x8,2 mm:"]
[null,null,"Výkopy:",null,0,null,null,null,null,null,null,null,"Výkopy:"]
[null,null,"V hornině tř. 5 - 10%:288,0800*0,1",null,28.808,null,null,null,null,null,null,null,"V hornině tř. 5 - 10%:288,0800*0,1"]
[9,"151101101R00","Pažení a rozepření stěn rýh - příložné - hl.do 2 m ","m2",941.8,null,{"$f":"E57*F57","v":0},9.8999999999999999E-4,{"$f":"E57*H57","v":0.93238199999999993},0,{"$f":"E57*J57","v":0},null,null,null,2,null,null,null,null,null,null,null,null,null,null,null,1,1,1,null,null,null,null,null,null,null,null,null,null,null,null,null,null,null,null,null,null,null,null,null,null,1,{"$f":"IF(AZ57=1,G57,0)","v":0},{"$f":"IF(AZ57=2,G57,0)","v":0},{"$f":"IF(AZ57=3,G57,0)","v":0},{"$f":"IF(AZ57=4,G57,0)","v":0},{"$f":"IF(AZ57=5,G57,0)","v":0},null,null,null,null,null,null,null,null,null,null,null,null,null,null,null,null,null,null,null,null,null,1,1]
[null,null,"Řad \"A8-2\" PE D 110x10,0 mmm:",null,0,null,null,null,null,null,null,null,"Řad \"A8-2\" PE D 110x10,0 mmm:"]
[null,null,"Odbočení k HN DN80 - PE D 90x8,2 mm:",null,0,null,null,null,null,null,null,null,"Odbočení k HN DN80 - PE D 90x8,2 mm:"]
[null,null,"Výkopy:",null,0,null,null,null,null,null,null,null,"Výkopy:"]
[null,null,"Průměrná hloubka výkopů 1,70 m:",null,0,null,null,null,null,null,null,null,"Průměrná hloubka výkopů 1,70 m:"]
[null,null,"Řad \"A8-2\":274,00*1,70*2",null,931.6,null,null,null,null,null,null,null,"Řad \"A8-2\":274,00*1,70*2"]
[null,null,"Odbočení k HN DN80:3,00*1,70*2",null,10.199999999999999,null,null,null,null,null,null,null,"Odbočení k HN DN80:3,00*1,70*2"]
[10,"151101111R00","Odstranění pažení stěn rýh - příložné - hl. do 2 m ","m2",941.8,null,{"$f":"E64*F64","v":0},0,{"$f":"E64*H64","v":0},0,{"$f":"E64*J64","v":0},null,null,null,2,null,null,null,null,null,null,null,null,null,null,null,1,1,1,null,null,null,null,null,null,null,null,null,null,null,null,null,null,null,null,null,null,null,null,null,null,1,{"$f":"IF(AZ64=1,G64,0)","v":0},{"$f":"IF(AZ64=2,G64,0)","v":0},{"$f":"IF(AZ64=3,G64,0)","v":0},{"$f":"IF(AZ64=4,G64,0)","v":0},{"$f":"IF(AZ64=5,G64,0)","v":0},null,null,null,null,null,null,null,null,null,null,null,null,null,null,null,null,null,null,null,null,null,1,1]
[null,null,"Řad \"A8-2\" PE D 110x10,0 mmm:",null,0,null,null,null,null,null,null,null,"Řad \"A8-2\" PE D 110x10,0 mmm:"]
[null,null,"Odbočení k HN DN80 - PE D 90x8,2 mm:",null,0,null,null,null,null,null,null,null,"Odbočení k HN DN80 - PE D 90x8,2 mm:"]
[null,null,"Výkopy:",null,0,null,null,null,null,null,null,null,"Výkopy:"]
[null,null,"Průměrná hloubka výkopů 1,70 m:",null,0,null,null,null,null,null,null,null,"Průměrná hloubka výkopů 1,70 m:"]
[null,null,"Řad \"A8-2\":274,00*1,70*2",null,931.6,null,null,null,null,null,null,null,"Řad \"A8-2\":274,00*1,70*2"]
[null,null,"Odbočení k HN DN80:3,00*1,70*2",null,10.199999999999999,null,null,null,null,null,null,null,"Odbočení k HN DN80:3,00*1,70*2"]
[11,"162701105RSZ","Vodorovné přemístění výkopku z hor.1-7 na skládku zhotovitele","m3",288.08,null,{"$f":"E71*F71","v":0},0,{"$f":"E71*H71","v":0},0,{"$f":"E71*J71","v":0},null,null,null,2,null,null,null,null,null,null,null,null,null,null,null,1,1,1,null,null,null,null,null,null,null,null,null,null,null,null,null,null,null,null,null,null,null,null,null,null,1,{"$f":"IF(AZ71=1,G71,0)","v":0},{"$f":"IF(AZ71=2,G71,0)","v":0},{"$f":"IF(AZ71=3,G71,0)","v":0},{"$f":"IF(AZ71=4,G71,0)","v":0},{"$f":"IF(AZ71=5,G71,0)","v":0},null,null,null,null,null,null,null,null,null,null,null,null,null,null,null,null,null,null,null,null,null,1,1]
[null,null,"Řad \"A8-2\" PE D 110x10,0 mmm:",null,0,null,null,null,null,null,null,null,"Řad \"A8-2\" PE D 110x10,0 mmm:"]
[null,null,"Odbočení k HN DN80 - PE D 90x8,2 mm:",null,0,null,null,null,null,null,null,null,"Odbočení k HN DN80 - PE D 90x8,2 mm:"]
[null,null,"Výkopy:",null,0,null,null,null,null,null,null,null,"Výkopy:"]
[null,null,"V hornině tř. 3 - 5 :288,0800",null,288.08,null,null,null,null,null,null,null,"V hornině tř. 3 - 5 :288,0800"]
[12,"174101101R00","Zásyp jam, rýh, šachet se zhutněním ","m3",164.03200000000001,null,{"$f":"E76*F76","v":0},0,{"$f":"E76*H76","v":0},0,{"$f":"E76*J76","v":0},null,null,null,2,null,null,null,null,null,null,null,null,null,null,null,1,1,1,null,null,null,null,null,null,null,null,null,null,null,null,null,null,null,null,null,null,null,null,null,null,1,{"$f":"IF(AZ76=1,G76,0)","v":0},{"$f":"IF(AZ76=2,G76,0)","v":0},{"$f":"IF(AZ76=3,G76,0)","v":0},{"$f":"IF(AZ76=4,G76,0)","v":0},{"$f":"IF(AZ76=5,G76,0)","v":0},null,null,null,null,null,null,null,null,null,null,null,null,null,null,null,null,null,null,null,null,null,1,1]
[null,null,"Položka obsahuje strojní přemístění materiálu pro zásyp ze vzdálenosti do 10 m od okraje zásypu.",null,null,null,null,null,null,null,null,"Položka obsahuje strojní přemístění materiálu pro zásyp ze vzdálenosti do 10 m od okraje zásypu.",null,null,3]
[null,null,null,null,null,null,null,null,null,null,null,null,null,null,3]
[null,null,"Zásypy ŠD fr. 0-63 mm:164,0320",null,164.03200000000001,null,null,null,null,null,null,null,"Zásypy ŠD fr. 0-63 mm:164,0320"]
[null,null,"Začátek provozního součtu",null,0,null,null,null,null,null,null,null,"Začátek provozního součtu"]
[null,null,"Řad \"A8-2\" PE D 110x10,0 mmm:",null,0,null,null,null,null,null,null,null,"Řad \"A8-2\" PE D 110x10,0 mmm:"]
[null,null,"Odbočení k HN DN80 - PE D 90x8,2 mm:",null,0,null,null,null,null,null,null,null,"Odbočení k HN DN80 - PE D 90x8,2 mm:"]
[null,null,"Výkopy:",null,0,null,null,null,null,null,null,null,"Výkopy:"]
[null,null,"V hornině tř. 3 - 5:288,0800",null,288.08,null,null,null,null,null,null,null,"V hornině tř. 3 - 5:288,0800"]
[null,null,"Odpočet objemu lože, potrubí a obsypů:-274,00*0,80*(0,15+0,11+0,30)-3,00*0,80*(0,15+0,09+0,30)",null,-124.048,null,null,null,null,null,null,null,"Odpočet objemu lože, potrubí a obsypů:-274,00*0,80*(0,15+0,11+0,30)-3,00*0,80*(0,15+0,09+0,30)"]
[null,null,"Konec provozního součtu",null,164.03199999999998,null,null,null,null,null,null,null,"Konec provozního součtu"]
[13,"175101101R00","Obsyp potrubí bez prohození sypaniny ","m3",88.185000000000002,null,{"$f":"E87*F87","v":0},0,{"$f":"E87*H87","v":0},0,{"$f":"E87*J87","v":0},null,null,null,2,null,null,null,null,null,null,null,null,null,null,null,1,1,1,null,null,null,null,null,null,null,null,null,null,null,null,null,null,null,null,null,null,null,null,null,null,1,{"$f":"IF(AZ87=1,G87,0)","v":0},{"$f":"IF(AZ87=2,G87,0)","v":0},{"$f":"IF(AZ87=3,G87,0)","v":0},{"$f":"IF(AZ87=4,G87,0)","v":0},{"$f":"IF(AZ87=5,G87,0)","v":0},null,null,null,null,null,null,null,null,null,null,null,null,null,null,null,null,null,null,null,null,null,1,1]
[null,null,"Řad \"A8-2\" PE D 110x10,0 mmm:274,00*(0,80*(0,11+0,30)-0,055^2*Pi)",null,87.268100000000004,null,null,null,null,null,null,null,"Řad \"A8-2\" PE D 110x10,0 mmm:274,00*(0,80*(0,11+0,30)-0,055^2*Pi)"]
[null,null,"Odbočení k HN DN80 - PE D 90x8,2 mm:3,00*(0,80*(0,09+0,30)-0,045^2*Pi)",null,0.91690000000000005,null,null,null,null,null,null,null,"Odbočení k HN DN80 - PE D 90x8,2 mm:3,00*(0,80*(0,09+0,30)-0,045^2*Pi)"]
[14,"199000002R00","Poplatek za skládku horniny 1- 7 č. dle katal. odpadů 17 05 04","m3",288.08,null,{"$f":"E90*F90","v":0},0,{"$f":"E90*H90","v":0},0,{"$f":"E90*J90","v":0},null,null,null,2,null,null,null,null,null,null,null,null,null,null,null,1,1,1,null,null,null,null,null,null,null,null,null,null,null,null,null,null,null,null,null,null,null,null,null,null,1,{"$f":"IF(AZ90=1,G90,0)","v":0},{"$f":"IF(AZ90=2,G90,0)","v":0},{"$f":"IF(AZ90=3,G90,0)","v":0},{"$f":"IF(AZ90=4,G90,0)","v":0},{"$f":"IF(AZ90=5,G90,0)","v":0},null,null,null,null,null,null,null,null,null,null,null,null,null,null,null,null,null,null,null,null,null,1,1]
[null,null,"Řad \"A8-2\" PE D 110x10,0 mmm:",null,0,null,null,null,null,null,null,null,"Řad \"A8-2\" PE D 110x10,0 mmm:"]
[null,null,"Odbočení k HN DN80 - PE D 90x8,2 mm:",null,0,null,null,null,null,null,null,null,"Odbočení k HN DN80 - PE D 90x8,2 mm:"]
[null,null,"Výkopy:",null,0,null,null,null,null,null,null,null,"Výkopy:"]
[null,null,"V hornině tř. 3 - 5 :288,0800",null,288.08,null,null,null,null,null,null,null,"V hornině tř. 3 - 5 :288,0800"]
[15,"919735113R00","Řezání stávajícího živičného krytu tl. 10 - 15 cm ","m",258.8,null,{"$f":"E95*F95","v":0},0,{"$f":"E95*H95","v":0},0,{"$f":"E95*J95","v":0},null,null,null,2,null,null,null,null,null,null,null,null,null,null,null,1,1,1,null,null,null,null,null,null,null,null,null,null,null,null,null,null,null,null,null,null,null,null,null,null,1,{"$f":"IF(AZ95=1,G95,0)","v":0},{"$f":"IF(AZ95=2,G95,0)","v":0},{"$f":"IF(AZ95=3,G95,0)","v":0},{"$f":"IF(AZ95=4,G95,0)","v":0},{"$f":"IF(AZ95=5,G95,0)","v":0},null,null,null,null,null,null,null,null,null,null,null,null,null,null,null,null,null,null,null,null,null,1,1]
[null,null,"Provizorní zaasfaltování rýhy od km 0,148 do km 0,274:",null,0,null,null,null,null,null,null,null,"Provizorní zaasfaltování rýhy od km 0,148 do km 0,274:"]
[null,null,"Řad \"A8-2\" PE D 110x10,0 mmm:(274,00-148,00)*2+0,80",null,252.8,null,null,null,null,null,null,null,"Řad \"A8-2\" PE D 110x10,0 mmm:(274,00-148,00)*2+0,80"]
[null,null,"Odbočení k HN DN80 - PE D 90x8,2 mm:3,00*2",null,6,null,null,null,null,null,null,null,"Odbočení k HN DN80 - PE D 90x8,2 mm:3,00*2"]
[16,"979082113RSZ","Vodorovná doprava suti po suchu na skládku zhotovitele","t",90.816000000000003,null,{"$f":"E99*F99","v":0},0,{"$f":"E99*H99","v":0},0,{"$f":"E99*J99","v":0},null,null,null,2,null,null,null,null,null,null,null,null,null,null,null,1,1,1,null,null,null,null,null,null,null,null,null,null,null,null,null,null,null,null,null,null,null,null,null,null,1,{"$f":"IF(AZ99=1,G99,0)","v":0},{"$f":"IF(AZ99=2,G99,0)","v":0},{"$f":"IF(AZ99=3,G99,0)","v":0},{"$f":"IF(AZ99=4,G99,0)","v":0},{"$f":"IF(AZ99=5,G99,0)","v":0},null,null,null,null,null,null,null,null,null,null,null,null,null,null,null,null,null,null,null,null,null,1,1]
[17,"979089001R00","Poplatek za skládku stavební suti štěrky z komunikací, skupina odpadu 010408","t",56.76,null,{"$f":"E100*F100","v":0},0,{"$f":"E100*H100","v":0},0,{"$f":"E100*J100","v":0},null,null,null,2,null,null,null,null,null,null,null,null,null,null,null,1,1,1,null,null,null,null,null,null,null,null,null,null,null,null,null,null,null,null,null,null,null,null,null,null,1,{"$f":"IF(AZ100=1,G100,0)","v":0},{"$f":"IF(AZ100=2,G100,0)","v":0},{"$f":"IF(AZ100=3,G100,0)","v":0},{"$f":"IF(AZ100=4,G100,0)","v":0},{"$f":"IF(AZ100=5,G100,0)","v":0},null,null,null,null,null,null,null,null,null,null,null,null,null,null,null,null,null,null,null,null,null,1,1]
[18,"979999995R00","Poplatek za reciklaci asfaltu, kusovost do 1600cm2 skupina 170302","t",34.055999999999997,null,{"$f":"E101*F101","v":0},0,{"$f":"E101*H101","v":0},0,{"$f":"E101*J101","v":0},null,null,null,2,null,null,null,null,null,null,null,null,null,null,null,1,1,1,null,null,null,null,null,null,null,null,null,null,null,null,null,null,null,null,null,null,null,null,null,null,1,{"$f":"IF(AZ101=1,G101,0)","v":0},{"$f":"IF(AZ101=2,G101,0)","v":0},{"$f":"IF(AZ101=3,G101,0)","v":0},{"$f":"IF(AZ101=4,G101,0)","v":0},{"$f":"IF(AZ101=5,G101,0)","v":0},null,null,null,null,null,null,null,null,null,null,null,null,null,null,null,null,null,null,null,null,null,1,1]
[null,null,"Položka je určena pro suť o velikosti kusu do 30x30 cm (technologický materiál určený k recyklaci) nebo frézovaný asfalt.",null,null,null,null,null,null,null,null,"Položka je určena pro suť o velikosti kusu do 30x30 cm (technologický materiál určený k recyklaci) nebo frézovaný asfalt.",null,null,3]
[19,"58337308.R","Štěrkopísek frakce 0-2 tř.B","t",175.72890000000001,null,{"$f":"E103*F103","v":0},1,{"$f":"E103*H103","v":175.72890000000001},null,{"$f":"E103*J103","v":0},null,null,null,2,null,null,null,null,null,null,null,null,null,null,null,3,1,"58337308.R",null,null,null,null,null,null,null,null,null,null,null,null,null,null,null,null,null,null,null,null,null,null,1,{"$f":"IF(AZ103=1,G103,0)","v":0},{"$f":"IF(AZ103=2,G103,0)","v":0},{"$f":"IF(AZ103=3,G103,0)","v":0},{"$f":"IF(AZ103=4,G103,0)","v":0},{"$f":"IF(AZ103=5,G103,0)","v":0},null,null,null,null,null,null,null,null,null,null,null,null,null,null,null,null,null,null,null,null,null,3,1]
[null,null,"Řad \"A8-2\" PE D 110x10,0 mmm:274,00*(0,80*(0,11+0,30)-0,055^2*Pi)*1,973*1,01",null,173.90170000000001,null,null,null,null,null,null,null,"Řad \"A8-2\" PE D 110x10,0 mmm:274,00*(0,80*(0,11+0,30)-0,055^2*Pi)*1,973*1,01"]
[null,null,"Odbočení k HN DN80 - PE D 90x8,2 mm:3,00*(0,80*(0,09+0,30)-0,045^2*Pi)*1,973*1,01",null,1.8271999999999999,null,null,null,null,null,null,null,"Odbočení k HN DN80 - PE D 90x8,2 mm:3,00*(0,80*(0,09+0,30)-0,045^2*Pi)*1,973*1,01"]
[20,"58344197R","Štěrkodrtě frakce 0-63 A","t",310.30430000000001,null,{"$f":"E106*F106","v":0},1,{"$f":"E106*H106","v":310.30430000000001},null,{"$f":"E106*J106","v":0},null,null,null,2,null,null,null,null,null,null,null,null,null,null,null,3,1,"58344197R",null,null,null,null,null,null,null,null,null,null,null,null,null,null,null,null,null,null,null,null,null,null,1,{"$f":"IF(AZ106=1,G106,0)","v":0},{"$f":"IF(AZ106=2,G106,0)","v":0},{"$f":"IF(AZ106=3,G106,0)","v":0},{"$f":"IF(AZ106=4,G106,0)","v":0},{"$f":"IF(AZ106=5,G106,0)","v":0},null,null,null,null,null,null,null,null,null,null,null,null,null,null,null,null,null,null,null,null,null,3,1]
[null,null,"Zásypy ŠD fr. 0-63 mm:164,0320*1,873*1,01",null,310.30430000000001,null,null,null,null,null,null,null,"Zásypy ŠD fr. 0-63 mm:164,0320*1,873*1,01"]
[null,null,"Začátek provozního součtu",null,0,null,null,null,null,null,null,null,"Začátek provozního součtu"]
[null,null,"Řad \"A8-2\" PE D 110x10,0 mmm:",null,0,null,null,null,null,null,null,null,"Řad \"A8-2\" PE D 110x10,0 mmm:"]
[null,null,"Odbočení k HN DN80 - PE D 90x8,2 mm:",null,0,null,null,null,null,null,null,null,"Odbočení k HN DN80 - PE D 90x8,2 mm:"]
[null,null,"Výkopy:",null,0,null,null,null,null,null,null,null,"Výkopy:"]
[null,null,"V hornině tř. 3 - 5:288,0800",null,288.08,null,null,null,null,null,null,null,"V hornině tř. 3 - 5:288,0800"]
[null,null,"Odpočet objemu lože, potrubí a obsypů:-274,00*0,80*(0,15+0,11+0,30)-3,00*0,80*(0,15+0,09+0,30)",null,-124.048,null,null,null,null,null,null,null,"Odpočet objemu lože, potrubí a obsypů:-274,00*0,80*(0,15+0,11+0,30)-3,00*0,80*(0,15+0,09+0,30)"]
[null,null,"Konec provozního součtu",null,164.03199999999998,null,null,null,null,null,null,null,"Konec provozního součtu"]
[null,"Celkem za","1 Zemní práce",null,null,null,{"$f":"SUM(G7:G114)","v":0},null,{"$f":"SUM(I7:I114)","v":487.26547328000004},null,{"$f":"SUM(K7:K114)","v":-90.816000000000003},null,null,null,4,null,null,null,null,null,null,null,null,null,null,null,null,null,null,null,null,null,null,null,null,null,null,null,null,null,null,null,null,null,null,null,null,null,null,null,null,null,{"$f":"SUM(BA7:BA114)","v":0},{"$f":"SUM(BB7:BB114)","v":0},{"$f":"SUM(BC7:BC114)","v":0},{"$f":"SUM(BD7:BD114)","v":0},{"$f":"SUM(BE7:BE114)","v":0}]
["Díl:","45","Podkladní a vedlejší konstrukce",null,null,null,null,null,null,null,null,null,null,null,1]
[21,"451572111R00","Lože pod potrubí z kameniva těženého 0 - 4 mm ","m3",33.24,null,{"$f":"E117*F117","v":0},0.43051,{"$f":"E117*H117","v":14.310152400000002},0,{"$f":"E117*J117","v":0},null,null,null,2,null,null,null,null,null,null,null,null,null,null,null,1,1,1,null,null,null,null,null,null,null,null,null,null,null,null,null,null,null,null,null,null,null,null,null,null,1,{"$f":"IF(AZ117=1,G117,0)","v":0},{"$f":"IF(AZ117=2,G117,0)","v":0},{"$f":"IF(AZ117=3,G117,0)","v":0},{"$f":"IF(AZ117=4,G117,0)","v":0},{"$f":"IF(AZ117=5,G117,0)","v":0},null,null,null,null,null,null,null,null,null,null,null,null,null,null,null,null,null,null,null,null,null,1,1]
[null,null,"Řad \"A8-2\" PE D 110x10,0 mmm:274,00*0,80*0,15",null,32.880000000000003,null,null,null,null,null,null,null,"Řad \"A8-2\" PE D 110x10,0 mmm:274,00*0,80*0,15"]
[null,null,"Odbočení k HN DN80 - PE D 90x8,2 mm:3,00*0,80*0,15",null,0.36,null,null,null,null,null,null,null,"Odbočení k HN DN80 - PE D 90x8,2 mm:3,00*0,80*0,15"]
[22,"452313141R00","Bloky pro potrubí z betonu C 16/20 vč. bednění ","m3",1.3657999999999999,null,{"$f":"E120*F120","v":0},2.5,{"$f":"E120*H120","v":3.4144999999999999},0,{"$f":"E120*J120","v":0},null,null,null,2,null,null,null,null,null,null,null,null,null,null,null,1,1,1,null,null,null,null,null,null,null,null,null,null,null,null,null,null,null,null,null,null,null,null,null,null,1,{"$f":"IF(AZ120=1,G120,0)","v":0},{"$f":"IF(AZ120=2,G120,0)","v":0},{"$f":"IF(AZ120=3,G120,0)","v":0},{"$f":"IF(AZ120=4,G120,0)","v":0},{"$f":"IF(AZ120=5,G120,0)","v":0},null,null,null,null,null,null,null,null,null,null,null,null,null,null,null,null,null,null,null,null,null,1,1]
[null,"Celkem za","45 Podkladní a vedlejší konstrukce",null,null,null,{"$f":"SUM(G116:G120)","v":0},null,{"$f":"SUM(I116:I120)","v":17.7246524},null,{"$f":"SUM(K116:K120)","v":0},null,null,null,4,null,null,null,null,null,null,null,null,null,null,null,null,null,null,null,null,null,null,null,null,null,null,null,null,null,null,null,null,null,null,null,null,null,null,null,null,null,{"$f":"SUM(BA116:BA120)","v":0},{"$f":"SUM(BB116:BB120)","v":0},{"$f":"SUM(BC116:BC120)","v":0},{"$f":"SUM(BD116:BD120)","v":0},{"$f":"SUM(BE116:BE120)","v":0}]
["Díl:","5","Komunikace",null,null,null,null,null,null,null,null,null,null,null,1]
[23,"566904111R00","Vyspravení podkladu po překopech kam.obal.asfaltem ","t",38.700000000000003,null,{"$f":"E123*F123","v":0},1,{"$f":"E123*H123","v":38.700000000000003},0,{"$f":"E123*J123","v":0},null,null,null,2,null,null,null,null,null,null,null,null,null,null,null,1,1,1,null,null,null,null,null,null,null,null,null,null,null,null,null,null,null,null,null,null,null,null,null,null,1,{"$f":"IF(AZ123=1,G123,0)","v":0},{"$f":"IF(AZ123=2,G123,0)","v":0},{"$f":"IF(AZ123=3,G123,0)","v":0},{"$f":"IF(AZ123=4,G123,0)","v":0},{"$f":"IF(AZ123=5,G123,0)","v":0},null,null,null,null,null,null,null,null,null,null,null,null,null,null,null,null,null,null,null,null,null,1,1]
[null,null,"Provizorní zaasfaltování rýhy od km 0,148 do km 0,274:",null,0,null,null,null,null,null,null,null,"Provizorní zaasfaltování rýhy od km 0,148 do km 0,274:"]
[null,null,"Řad \"A8-2\" PE D 110x10,0 mmm:(274,00-148,00)*0,80*0,15*2,5",null,37.799999999999997,null,null,null,null,null,null,null,"Řad \"A8-2\" PE D 110x10,0 mmm:(274,00-148,00)*0,80*0,15*2,5"]
[null,null,"Odbočení k HN DN80 - PE D 90x8,2 mm:3,00*0,80*0,15*2,5",null,0.9,null,null,null,null,null,null,null,"Odbočení k HN DN80 - PE D 90x8,2 mm:3,00*0,80*0,15*2,5"]
[24,"572701119RRX","Provizorní zásyp rýh kam. hrubě drceným nebo recyk s následným odstraněním a odvozem","m3",88.64,null,{"$f":"E127*F127","v":0},1.4804999999999999,{"$f":"E127*H127","v":131.23151999999999},0,{"$f":"E127*J127","v":0},null,null,null,2,null,null,null,null,null,null,null,null,null,null,null,1,1,1,null,null,null,null,null,null,null,null,null,null,null,null,null,null,null,null,null,null,null,null,null,null,1,{"$f":"IF(AZ127=1,G127,0)","v":0},{"$f":"IF(AZ127=2,G127,0)","v":0},{"$f":"IF(AZ127=3,G127,0)","v":0},{"$f":"IF(AZ127=4,G127,0)","v":0},{"$f":"IF(AZ127=5,G127,0)","v":0},null,null,null,null,null,null,null,null,null,null,null,null,null,null,null,null,null,null,null,null,null,1,1]
[null,null,"Řad \"A8-2\" PE D 110x10,0 mmm:274,00*0,80*0,40",null,87.68,null,null,null,null,null,null,null,"Řad \"A8-2\" PE D 110x10,0 mmm:274,00*0,80*0,40"]
[null,null,"Odbočení k HN DN80 - PE D 90x8,2 mm:3,00*0,80*0,40",null,0.96,null,null,null,null,null,null,null,"Odbočení k HN DN80 - PE D 90x8,2 mm:3,00*0,80*0,40"]
[null,"Celkem za","5 Komunikace",null,null,null,{"$f":"SUM(G122:G129)","v":0},null,{"$f":"SUM(I122:I129)","v":169.93151999999998},null,{"$f":"SUM(K122:K129)","v":0},null,null,null,4,null,null,null,null,null,null,null,null,null,null,null,null,null,null,null,null,null,null,null,null,null,null,null,null,null,null,null,null,null,null,null,null,null,null,null,null,null,{"$f":"SUM(BA122:BA129)","v":0},{"$f":"SUM(BB122:BB129)","v":0},{"$f":"SUM(BC122:BC129)","v":0},{"$f":"SUM(BD122:BD129)","v":0},{"$f":"SUM(BE122:BE129)","v":0}]
["Díl:","8","Trubní vedení",null,null,null,null,null,null,null,null,null,null,null,1]
[25,"850265121R00","Výřez nebo výsek na potrubí litinovém DN 100 ","kus",1,null,{"$f":"E132*F132","v":0},0,{"$f":"E132*H132","v":0},0,{"$f":"E132*J132","v":0},null,null,null,2,null,null,null,null,null,null,null,null,null,null,null,1,1,1,null,null,null,null,null,null,null,null,null,null,null,null,null,null,null,null,null,null,null,null,null,null,1,{"$f":"IF(AZ132=1,G132,0)","v":0},{"$f":"IF(AZ132=2,G132,0)","v":0},{"$f":"IF(AZ132=3,G132,0)","v":0},{"$f":"IF(AZ132=4,G132,0)","v":0},{"$f":"IF(AZ132=5,G132,0)","v":0},null,null,null,null,null,null,null,null,null,null,null,null,null,null,null,null,null,null,null,null,null,1,1]
[null,null,"Položky výřezu nebo výseku na potrubí z trub litinových tlakových jsou určeny pro dva řezy nebo seky prováděné na potrubí dodatečně. V položkách jsou zakalkulovány náklady na",null,null,null,null,null,null,null,null,"Položky výřezu nebo výseku na potrubí z trub litinových tlakových jsou určeny pro dva řezy nebo seky prováděné na potrubí dodatečně. V položkách jsou zakalkulovány náklady na",null,null,3]
[null,null,"- ohlášení uzavírání vody",null,null,null,null,null,null,null,null,"- ohlášení uzavírání vody",null,null,3]
[null,null,"- uzavření a otevření šoupat",null,null,null,null,null,null,null,null,"- uzavření a otevření šoupat",null,null,3]
[null,null,"- vypuštění a napuštění vody",null,null,null,null,null,null,null,null,"- vypuštění a napuštění vody",null,null,3]
[null,null,"- odvzdušnění potrubí",null,null,null,null,null,null,null,null,"- odvzdušnění potrubí",null,null,3]
[null,null,"- strojní nebo ruční výřez potrubí",null,null,null,null,null,null,null,null,"- strojní nebo ruční výřez potrubí",null,null,3]
[null,null,"- nutné úpravy výkopu v prostoru provádění",null,null,null,null,null,null,null,null,"- nutné úpravy výkopu v prostoru provádění",null,null,3]
[null,null,"- montáž tvarovek",null,null,null,null,null,null,null,null,"- montáž tvarovek",null,null,3]
[26,"850315121R00","Výřez nebo výsek na potrubí litinovém DN 150 ","kus",2,null,{"$f":"E141*F141","v":0},0,{"$f":"E141*H141","v":0},0,{"$f":"E141*J141","v":0},null,null,null,2,null,null,null,null,null,null,null,null,null,null,null,1,1,1,null,null,null,null,null,null,null,null,null,null,null,null,null,null,null,null,null,null,null,null,null,null,1,{"$f":"IF(AZ141=1,G141,0)","v":0},{"$f":"IF(AZ141=2,G141,0)","v":0},{"$f":"IF(AZ141=3,G141,0)","v":0},{"$f":"IF(AZ141=4,G141,0)","v":0},{"$f":"IF(AZ141=5,G141,0)","v":0},null,null,null,null,null,null,null,null,null,null,null,null,null,null,null,null,null,null,null,null,null,1,1]
[null,null,"Položky výřezu nebo výseku na potrubí z trub litinových tlakových jsou určeny pro dva řezy nebo seky prováděné na potrubí dodatečně. V položkách jsou zakalkulovány náklady na",null,null,null,null,null,null,null,null,"Položky výřezu nebo výseku na potrubí z trub litinových tlakových jsou určeny pro dva řezy nebo seky prováděné na potrubí dodatečně. V položkách jsou zakalkulovány náklady na",null,null,3]
[null,null,"- ohlášení uzavírání vody",null,null,null,null,null,null,null,null,"- ohlášení uzavírání vody",null,null,3]
[null,null,"- uzavření a otevření šoupat",null,null,null,null,null,null,null,null,"- uzavření a otevření šoupat",null,null,3]
[null,null,"- vypuštění a napuštění vody",null,null,null,null,null,null,null,null,"- vypuštění a napuštění vody",null,null,3]
[null,null,"- odvzdušnění potrubí",null,null,null,null,null,null,null,null,"- odvzdušnění potrubí",null,null,3]
[null,null,"- strojní nebo ruční výřez potrubí",null,null,null,null,null,null,null,null,"- strojní nebo ruční výřez potrubí",null,null,3]
[null,null,"- nutné úpravy výkopu v prostoru provádění",null,null,null,null,null,null,null,null,"- nutné úpravy výkopu v prostoru provádění",null,null,3]
[null,null,"- montáž tvarovek",null,null,null,null,null,null,null,null,"- montáž tvarovek",null,null,3]
[27,"857242121R00","Montáž tvarovek litin. jednoos.přír. výkop DN 80 včetně nerezových spoj. prvků a obandážování spoje","kus",5,null,{"$f":"E150*F150","v":0},2.2000000000000001E-4,{"$f":"E150*H150","v":1.1000000000000001E-3},0,{"$f":"E150*J150","v":0},null,null,null,2,null,null,null,null,null,null,null,null,null,null,null,1,1,1,null,null,null,null,null,null,null,null,null,null,null,null,null,null,null,null,null,null,null,null,null,null,1,{"$f":"IF(AZ150=1,G150,0)","v":0},{"$f":"IF(AZ150=2,G150,0)","v":0},{"$f":"IF(AZ150=3,G150,0)","v":0},{"$f":"IF(AZ150=4,G150,0)","v":0},{"$f":"IF(AZ150=5,G150,0)","v":0},null,null,null,null,null,null,null,null,null,null,null,null,null,null,null,null,null,null,null,null,null,1,1]
[null,null,"Položka je určena pro montáž litinových tvarovek na potrubí litinovém tlakovém přírubovém jednoosých v otevřeném výkopu, v otevřeném kanálu nebo v šachtě.",null,null,null,null,null,null,null,null,"Položka je určena pro montáž litinových tvarovek na potrubí litinovém tlakovém přírubovém jednoosých v otevřeném výkopu, v otevřeném kanálu nebo v šachtě.",null,null,3]
[null,null,"Součástí položky je i dodávka nerezových spojovacích prvků (šrouby, podložky, matky) a kompletního obandážování spojů. ",null,null,null,null,null,null,null,null,"Součástí položky je i dodávka nerezových spojovacích prvků (šrouby, podložky, matky) a kompletního obandážování spojů. ",null,null,3]
[null,null,"Řad \"A8-2\" PE D 110x10,0 mm:",null,0,null,null,null,null,null,null,null,"Řad \"A8-2\" PE D 110x10,0 mm:"]
[null,null,"LN+TP D90/DN80:2",null,2,null,null,null,null,null,null,null,"LN+TP D90/DN80:2"]
[null,null,"FF DN80/250:1",null,1,null,null,null,null,null,null,null,"FF DN80/250:1"]
[null,null,"PPL DN80:2",null,2,null,null,null,null,null,null,null,"PPL DN80:2"]
[28,"857262121R00","Montáž tvarovek litin. jednoos. přír. výkop DN 100 včetně nerezových spoj. prvků a obandážování spoje","kus",9,null,{"$f":"E157*F157","v":0},4.0999999999999999E-4,{"$f":"E157*H157","v":3.6899999999999997E-3},0,{"$f":"E157*J157","v":0},null,null,null,2,null,null,null,null,null,null,null,null,null,null,null,1,0,0,null,null,null,null,null,null,null,null,null,null,null,null,null,null,null,null,null,null,null,null,null,null,1,{"$f":"IF(AZ157=1,G157,0)","v":0},{"$f":"IF(AZ157=2,G157,0)","v":0},{"$f":"IF(AZ157=3,G157,0)","v":0},{"$f":"IF(AZ157=4,G157,0)","v":0},{"$f":"IF(AZ157=5,G157,0)","v":0},null,null,null,null,null,null,null,null,null,null,null,null,null,null,null,null,null,null,null,null,null,1,0]
[null,null,"Položka je určena pro montáž litinových tvarovek na potrubí litinovém tlakovém přírubovém jednoosých v otevřeném výkopu, v otevřeném kanálu nebo v šachtě.",null,null,null,null,null,null,null,null,"Položka je určena pro montáž litinových tvarovek na potrubí litinovém tlakovém přírubovém jednoosých v otevřeném výkopu, v otevřeném kanálu nebo v šachtě.",null,null,3]
[null,null,"Součástí položky je i dodávka nerezových spojovacích prvků (šrouby, podložky, matky) a kompletního obandážování spojů. ",null,null,null,null,null,null,null,null,"Součástí položky je i dodávka nerezových spojovacích prvků (šrouby, podložky, matky) a kompletního obandážování spojů. ",null,null,3]
[null,null,"Řad \"A8-2\" PE D 110x10,0 mm:",null,0,null,null,null,null,null,null,null,"Řad \"A8-2\" PE D 110x10,0 mm:"]
[null,null,"LN+TP D110/DN100:8",null,8,null,null,null,null,null,null,null,"LN+TP D110/DN100:8"]
[null,null,"FFR DN100/80:1",null,1,null,null,null,null,null,null,null,"FFR DN100/80:1"]
[29,"857264121R00","Montáž tvarovek litin. odboč. přír. výkop DN 100 včetně nerezových spoj. prvků a obandážování spoje","kus",3,null,{"$f":"E163*F163","v":0},6.2E-4,{"$f":"E163*H163","v":1.8600000000000001E-3},0,{"$f":"E163*J163","v":0},null,null,null,2,null,null,null,null,null,null,null,null,null,null,null,1,1,1,null,null,null,null,null,null,null,null,null,null,null,null,null,null,null,null,null,null,null,null,null,null,1,{"$f":"IF(AZ163=1,G163,0)","v":0},{"$f":"IF(AZ163=2,G163,0)","v":0},{"$f":"IF(AZ163=3,G163,0)","v":0},{"$f":"IF(AZ163=4,G163,0)","v":0},{"$f":"IF(AZ163=5,G163,0)","v":0},null,null,null,null,null,null,null,null,null,null,null,null,null,null,null,null,null,null,null,null,null,1,1]
[null,null,"Položka je určena pro montáž litinových tvarovek na potrubí litinovém tlakovém přírubovém odbočných v otevřeném výkopu, v otevřeném kanálu nebo v šachtě.",null,null,null,null,null,null,null,null,"Položka je určena pro montáž litinových tvarovek na potrubí litinovém tlakovém přírubovém odbočných v otevřeném výkopu, v otevřeném kanálu nebo v šachtě.",null,null,3]
[null,null,"Součástí položky je i dodávka nerezových spojovacích prvků (šrouby, podložky, matky) a kompletního obandážování spojů. ",null,null,null,null,null,null,null,null,"Součástí položky je i dodávka nerezových spojovacích prvků (šrouby, podložky, matky) a kompletního obandážování spojů. ",null,null,3]
[null,null,"Řad \"A8-2\" PE D 110x10,0 mm:",null,0,null,null,null,null,null,null,null,"Řad \"A8-2\" PE D 110x10,0 mm:"]
[null,null,"T DN100/80:2",null,2,null,null,null,null,null,null,null,"T DN100/80:2"]
[null,null,"T DN100/100:1",null,1,null,null,null,null,null,null,null,"T DN100/100:1"]
[30,"857312121R00","Montáž tvarovek litin. jednoos. přír. výkop DN 150 včetně nerezových spoj. prvků a obandážování spoje","kus",2,null,{"$f":"E169*F169","v":0},2.7799999999999999E-3,{"$f":"E169*H169","v":5.5599999999999998E-3},0,{"$f":"E169*J169","v":0},null,null,null,2,null,null,null,null,null,null,null,null,null,null,null,1,1,1,null,null,null,null,null,null,null,null,null,null,null,null,null,null,null,null,null,null,null,null,null,null,1,{"$f":"IF(AZ169=1,G169,0)","v":0},{"$f":"IF(AZ169=2,G169,0)","v":0},{"$f":"IF(AZ169=3,G169,0)","v":0},{"$f":"IF(AZ169=4,G169,0)","v":0},{"$f":"IF(AZ169=5,G169,0)","v":0},null,null,null,null,null,null,null,null,null,null,null,null,null,null,null,null,null,null,null,null,null,1,1]
[null,null,"Položka je určena pro montáž litinových tvarovek na potrubí litinovém tlakovém přírubovém jednoosých v otevřeném výkopu, v otevřeném kanálu nebo v šachtě.",null,null,null,null,null,null,null,null,"Položka je určena pro montáž litinových tvarovek na potrubí litinovém tlakovém přírubovém jednoosých v otevřeném výkopu, v otevřeném kanálu nebo v šachtě.",null,null,3]
[null,null,"Součástí položky je i dodávka nerezových spojovacích prvků (šrouby, podložky, matky) a kompletního obandážování spojů. ",null,null,null,null,null,null,null,null,"Součástí položky je i dodávka nerezových spojovacích prvků (šrouby, podložky, matky) a kompletního obandážování spojů. ",null,null,3]
[null,null,"Řad \"A8-2\" PE D 110x10,0 mm:",null,0,null,null,null,null,null,null,null,"Řad \"A8-2\" PE D 110x10,0 mm:"]
[null,null,"Synoflex s přírubou DN150:1",null,1,null,null,null,null,null,null,null,"Synoflex s přírubou DN150:1"]
[null,null,"FFR DN150/100:1",null,1,null,null,null,null,null,null,null,"FFR DN150/100:1"]
[31,"857314121R00","Montáž tvarovek litin. odboč. přír. výkop DN 150 včetně nerezových spoj. prvků a obandážování spoje","kus",1,null,{"$f":"E175*F175","v":0},2.98E-3,{"$f":"E175*H175","v":2.98E-3},0,{"$f":"E175*J175","v":0},null,null,null,2,null,null,null,null,null,null,null,null,null,null,null,1,1,1,null,null,null,null,null,null,null,null,null,null,null,null,null,null,null,null,null,null,null,null,null,null,1,{"$f":"IF(AZ175=1,G175,0)","v":0},{"$f":"IF(AZ175=2,G175,0)","v":0},{"$f":"IF(AZ175=3,G175,0)","v":0},{"$f":"IF(AZ175=4,G175,0)","v":0},{"$f":"IF(AZ175=5,G175,0)","v":0},null,null,null,null,null,null,null,null,null,null,null,null,null,null,null,null,null,null,null,null,null,1,1]
[null,null,"Položka je určena pro montáž litinových tvarovek na potrubí litinovém tlakovém přírubovém odbočných v otevřeném výkopu, v otevřeném kanálu nebo v šachtě.",null,null,null,null,null,null,null,null,"Položka je určena pro montáž litinových tvarovek na potrubí litinovém tlakovém přírubovém odbočných v otevřeném výkopu, v otevřeném kanálu nebo v šachtě.",null,null,3]
[null,null,"Součástí položky je i dodávka nerezových spojovacích prvků (šrouby, podložky, matky) a kompletního obandážování spojů. ",null,null,null,null,null,null,null,null,"Součástí položky je i dodávka nerezových spojovacích prvků (šrouby, podložky, matky) a kompletního obandážování spojů. ",null,null,3]
[null,null,"Řad \"A8-2\" PE D 110x10,0 mm:",null,0,null,null,null,null,null,null,null,"Řad \"A8-2\" PE D 110x10,0 mm:"]
[null,null,"T DN150/150:1",null,1,null,null,null,null,null,null,null,"T DN150/150:1"]
[32,"871241121R00","Montáž potrubí polyetylenového ve výkopu d 90 mm ","m",3,null,{"$f":"E180*F180","v":0},0,{"$f":"E180*H180","v":0},0,{"$f":"E180*J180","v":0},null,null,null,2,null,null,null,null,null,null,null,null,null,null,null,1,1,1,null,null,null,null,null,null,null,null,null,null,null,null,null,null,null,null,null,null,null,null,null,null,1,{"$f":"IF(AZ180=1,G180,0)","v":0},{"$f":"IF(AZ180=2,G180,0)","v":0},{"$f":"IF(AZ180=3,G180,0)","v":0},{"$f":"IF(AZ180=4,G180,0)","v":0},{"$f":"IF(AZ180=5,G180,0)","v":0},null,null,null,null,null,null,null,null,null,null,null,null,null,null,null,null,null,null,null,null,null,1,1]
[null,null,"V položce je uvažováno s jedním spojem na 6 m potrubí.",null,null,null,null,null,null,null,null,"V položce je uvažováno s jedním spojem na 6 m potrubí.",null,null,3]
[null,null,"Řad \"A8-2\" PE D 110x10,0¨mmm:",null,0,null,null,null,null,null,null,null,"Řad \"A8-2\" PE D 110x10,0¨mmm:"]
[null,null,"Odbočení k HN DN80 - PE D 90x8,2 mm:3,00",null,3,null,null,null,null,null,null,null,"Odbočení k HN DN80 - PE D 90x8,2 mm:3,00"]
[33,"871251121R00","Montáž trubek polyetylenových ve výkopu d 110 mm ","m",274,null,{"$f":"E184*F184","v":0},0,{"$f":"E184*H184","v":0},0,{"$f":"E184*J184","v":0},null,null,null,2,null,null,null,null,null,null,null,null,null,null,null,1,1,1,null,null,null,null,null,null,null,null,null,null,null,null,null,null,null,null,null,null,null,null,null,null,1,{"$f":"IF(AZ184=1,G184,0)","v":0},{"$f":"IF(AZ184=2,G184,0)","v":0},{"$f":"IF(AZ184=3,G184,0)","v":0},{"$f":"IF(AZ184=4,G184,0)","v":0},{"$f":"IF(AZ184=5,G184,0)","v":0},null,null,null,null,null,null,null,null,null,null,null,null,null,null,null,null,null,null,null,null,null,1,1]
[null,null,"V položce je uvažováno s jedním spojem na 6 m potrubí.",null,null,null,null,null,null,null,null,"V položce je uvažováno s jedním spojem na 6 m potrubí.",null,null,3]
[null,null,"Řad \"A8-2\" PE D 110x10,0 mmm:274,00",null,274,null,null,null,null,null,null,null,"Řad \"A8-2\" PE D 110x10,0 mmm:274,00"]
[34,"877242121R00","Přirážka za 1 spoj elektrotvarovky d 90 mm ","kus",2,null,{"$f":"E187*F187","v":0},0,{"$f":"E187*H187","v":0},0,{"$f":"E187*J187","v":0},null,null,null,2,null,null,null,null,null,null,null,null,null,null,null,1,1,1,null,null,null,null,null,null,null,null,null,null,null,null,null,null,null,null,null,null,null,null,null,null,1,{"$f":"IF(AZ187=1,G187,0)","v":0},{"$f":"IF(AZ187=2,G187,0)","v":0},{"$f":"IF(AZ187=3,G187,0)","v":0},{"$f":"IF(AZ187=4,G187,0)","v":0},{"$f":"IF(AZ187=5,G187,0)","v":0},null,null,null,null,null,null,null,null,null,null,null,null,null,null,null,null,null,null,null,null,null,1,1]
[null,null,"Řad \"A8-2\" PE D 110x10,0¨mmm:",null,0,null,null,null,null,null,null,null,"Řad \"A8-2\" PE D 110x10,0¨mmm:"]
[null,null,"Odbočení k HN DN80 - PE D 90x8,2 mm:",null,0,null,null,null,null,null,null,null,"Odbočení k HN DN80 - PE D 90x8,2 mm:"]
[null,null,"Elektrospojka PE D90:2",null,2,null,null,null,null,null,null,null,"Elektrospojka PE D90:2"]
[35,"877252121R00","Přirážka za 1 spoj elektrotvarovky d 110 mm ","kus",48,null,{"$f":"E191*F191","v":0},0,{"$f":"E191*H191","v":0},0,{"$f":"E191*J191","v":0},null,null,null,2,null,null,null,null,null,null,null,null,null,null,null,1,1,1,null,null,null,null,null,null,null,null,null,null,null,null,null,null,null,null,null,null,null,null,null,null,1,{"$f":"IF(AZ191=1,G191,0)","v":0},{"$f":"IF(AZ191=2,G191,0)","v":0},{"$f":"IF(AZ191=3,G191,0)","v":0},{"$f":"IF(AZ191=4,G191,0)","v":0},{"$f":"IF(AZ191=5,G191,0)","v":0},null,null,null,null,null,null,null,null,null,null,null,null,null,null,null,null,null,null,null,null,null,1,1]
[null,null,"Řad \"A8-2\" PE D 110x10,0 mmm:",null,0,null,null,null,null,null,null,null,"Řad \"A8-2\" PE D 110x10,0 mmm:"]
[null,null,"Elektrospojka PE D110:46",null,46,null,null,null,null,null,null,null,"Elektrospojka PE D110:46"]
[null,null,"Oblouk PE D110/22°:1",null,1,null,null,null,null,null,null,null,"Oblouk PE D110/22°:1"]
[null,null,"Oblouk PE D110/11°:1",null,1,null,null,null,null,null,null,null,"Oblouk PE D110/11°:1"]
[36,"891241111R00","Montáž vodovodních šoupátek ve výkopu DN 80 včetně nerezových spoj. prvků a obandážování spoje","kus",2,null,{"$f":"E196*F196","v":0},2.2000000000000001E-4,{"$f":"E196*H196","v":4.4000000000000002E-4},0,{"$f":"E196*J196","v":0},null,null,null,2,null,null,null,null,null,null,null,null,null,null,null,1,1,1,null,null,null,null,null,null,null,null,null,null,null,null,null,null,null,null,null,null,null,null,null,null,1,{"$f":"IF(AZ196=1,G196,0)","v":0},{"$f":"IF(AZ196=2,G196,0)","v":0},{"$f":"IF(AZ196=3,G196,0)","v":0},{"$f":"IF(AZ196=4,G196,0)","v":0},{"$f":"IF(AZ196=5,G196,0)","v":0},null,null,null,null,null,null,null,null,null,null,null,null,null,null,null,null,null,null,null,null,null,1,1]
[null,null,"Položka je určena pro montáž vodovodních šoupátek v otevřeném výkopu nebo v šachtách s osazením zemní soupravy (bez poklopů). V položce jsou zakalkulovány i náklady na vytvoření otvorů ve stropech šachet pro prostup zemních souprav šoupátek.",null,null,null,null,null,null,null,null,"Položka je určena pro montáž vodovodních šoupátek v otevřeném výkopu nebo v šachtách s osazením zemní soupravy (bez poklopů). V položce jsou zakalkulovány i náklady na vytvoření otvorů ve stropech šachet pro prostup zemních souprav šoupátek.",null,null,3]
[null,null,"Součástí položky je i dodávka nerezových spojovacích prvků (šrouby, podložky, matky) a kompletního obandážování spojů. ",null,null,null,null,null,null,null,null,"Součástí položky je i dodávka nerezových spojovacích prvků (šrouby, podložky, matky) a kompletního obandážování spojů. ",null,null,3]
[null,null,"Řad \"A8-2\" PE D 110x10,0 mmm:",null,0,null,null,null,null,null,null,null,"Řad \"A8-2\" PE D 110x10,0 mmm:"]
[null,null,"Šoupě DN80:2",null,2,null,null,null,null,null,null,null,"Šoupě DN80:2"]
[37,"891243321R00","Montáž ventilů odvzdušňovacích přírub. DN 80 včetně nerezových spoj. prvků a obandážování spoje","kus",1,null,{"$f":"E201*F201","v":0},7.9000000000000001E-4,{"$f":"E201*H201","v":7.9000000000000001E-4},0,{"$f":"E201*J201","v":0},null,null,null,2,null,null,null,null,null,null,null,null,null,null,null,1,1,1,null,null,null,null,null,null,null,null,null,null,null,null,null,null,null,null,null,null,null,null,null,null,1,{"$f":"IF(AZ201=1,G201,0)","v":0},{"$f":"IF(AZ201=2,G201,0)","v":0},{"$f":"IF(AZ201=3,G201,0)","v":0},{"$f":"IF(AZ201=4,G201,0)","v":0},{"$f":"IF(AZ201=5,G201,0)","v":0},null,null,null,null,null,null,null,null,null,null,null,null,null,null,null,null,null,null,null,null,null,1,1]
[null,null,"Položka je určena pro montáž ventilů odvzdušňovacích nebo zavzdušňovacích mechanických a plovákových přírubových na venkovních řadech.",null,null,null,null,null,null,null,null,"Položka je určena pro montáž ventilů odvzdušňovacích nebo zavzdušňovacích mechanických a plovákových přírubových na venkovních řadech.",null,null,3]
[null,null,"Součástí položky je i dodávka nerezových spojovacích prvků (šrouby, podložky, matky) a kompletního obandážování spojů. ",null,null,null,null,null,null,null,null,"Součástí položky je i dodávka nerezových spojovacích prvků (šrouby, podložky, matky) a kompletního obandážování spojů. ",null,null,3]
[null,null,"Řad \"A8-2\" PE D 110x10,0 mmm:",null,0,null,null,null,null,null,null,null,"Řad \"A8-2\" PE D 110x10,0 mmm:"]
[null,null,"ZOH č. 9822 DN80:1",null,1,null,null,null,null,null,null,null,"ZOH č. 9822 DN80:1"]
[38,"891247211R00","Montáž hydrantů nadzemních DN 80 včetně nerezových spoj. prvků a obandážování spoje","kus",1,null,{"$f":"E206*F206","v":0},2.7699999999999999E-3,{"$f":"E206*H206","v":2.7699999999999999E-3},0,{"$f":"E206*J206","v":0},null,null,null,2,null,null,null,null,null,null,null,null,null,null,null,1,0,0,null,null,null,null,null,null,null,null,null,null,null,null,null,null,null,null,null,null,null,null,null,null,1,{"$f":"IF(AZ206=1,G206,0)","v":0},{"$f":"IF(AZ206=2,G206,0)","v":0},{"$f":"IF(AZ206=3,G206,0)","v":0},{"$f":"IF(AZ206=4,G206,0)","v":0},{"$f":"IF(AZ206=5,G206,0)","v":0},null,null,null,null,null,null,null,null,null,null,null,null,null,null,null,null,null,null,null,null,null,1,0]
[null,null,"Položka je určena pro montáž hydrantů nadzemních na potrubí.",null,null,null,null,null,null,null,null,"Položka je určena pro montáž hydrantů nadzemních na potrubí.",null,null,3]
[null,null,"V položce jsou zakalkulovány i náklady na postavení, udržování a odstranění pomocného lešení o výšce podlahy do 1,9 m a pro zatížení do 1,5 kPa. ",null,null,null,null,null,null,null,null,"V položce jsou zakalkulovány i náklady na postavení, udržování a odstranění pomocného lešení o výšce podlahy do 1,9 m a pro zatížení do 1,5 kPa. ",null,null,3]
[null,null,"Součástí položky je i dodávka nerezových spojovacích prvků (šrouby, podložky, matky) a kompletního obandážování spojů. ",null,null,null,null,null,null,null,null,"Součástí položky je i dodávka nerezových spojovacích prvků (šrouby, podložky, matky) a kompletního obandážování spojů. ",null,null,3]
[null,null,"Řad \"A8-2\" PE D 110x10,0 mmm:",null,0,null,null,null,null,null,null,null,"Řad \"A8-2\" PE D 110x10,0 mmm:"]
[null,null,"HN DN80:1",null,1,null,null,null,null,null,null,null,"HN DN80:1"]
[39,"891261111R00","Montáž vodovodních šoupátek ve výkopu DN 100 včetně nerezových spoj. prvků a obandážování spoje","kus",4,null,{"$f":"E212*F212","v":0},4.0999999999999999E-4,{"$f":"E212*H212","v":1.64E-3},0,{"$f":"E212*J212","v":0},null,null,null,2,null,null,null,null,null,null,null,null,null,null,null,1,1,1,null,null,null,null,null,null,null,null,null,null,null,null,null,null,null,null,null,null,null,null,null,null,1,{"$f":"IF(AZ212=1,G212,0)","v":0},{"$f":"IF(AZ212=2,G212,0)","v":0},{"$f":"IF(AZ212=3,G212,0)","v":0},{"$f":"IF(AZ212=4,G212,0)","v":0},{"$f":"IF(AZ212=5,G212,0)","v":0},null,null,null,null,null,null,null,null,null,null,null,null,null,null,null,null,null,null,null,null,null,1,1]
[null,null,"Položka je určena pro montáž vodovodních šoupátek v otevřeném výkopu nebo v šachtách s osazením zemní soupravy (bez poklopů). V položce jsou zakalkulovány i náklady na vytvoření otvorů ve stropech šachet pro prostup zemních souprav šoupátek.",null,null,null,null,null,null,null,null,"Položka je určena pro montáž vodovodních šoupátek v otevřeném výkopu nebo v šachtách s osazením zemní soupravy (bez poklopů). V položce jsou zakalkulovány i náklady na vytvoření otvorů ve stropech šachet pro prostup zemních souprav šoupátek.",null,null,3]
[null,null,"Součástí položky je i dodávka nerezových spojovacích prvků (šrouby, podložky, matky) a kompletního obandážování spojů. ",null,null,null,null,null,null,null,null,"Součástí položky je i dodávka nerezových spojovacích prvků (šrouby, podložky, matky) a kompletního obandážování spojů. ",null,null,3]
[null,null,"Řad \"A8-2\" PE D 110x10,0 mm:",null,0,null,null,null,null,null,null,null,"Řad \"A8-2\" PE D 110x10,0 mm:"]
[null,null,"Šoupě DN100:4",null,4,null,null,null,null,null,null,null,"Šoupě DN100:4"]
[40,"891269111R00","Montáž navrtávacích pasů DN 100 s ventilem ","kus",9,null,{"$f":"E217*F217","v":0},0,{"$f":"E217*H217","v":0},0,{"$f":"E217*J217","v":0},null,null,null,2,null,null,null,null,null,null,null,null,null,null,null,1,1,1,null,null,null,null,null,null,null,null,null,null,null,null,null,null,null,null,null,null,null,null,null,null,1,{"$f":"IF(AZ217=1,G217,0)","v":0},{"$f":"IF(AZ217=2,G217,0)","v":0},{"$f":"IF(AZ217=3,G217,0)","v":0},{"$f":"IF(AZ217=4,G217,0)","v":0},{"$f":"IF(AZ217=5,G217,0)","v":0},null,null,null,null,null,null,null,null,null,null,null,null,null,null,null,null,null,null,null,null,null,1,1]
[null,null,"Řad \"A8-2\" PE D 110x10,0 mm:",null,0,null,null,null,null,null,null,null,"Řad \"A8-2\" PE D 110x10,0 mm:"]
[null,null,"NP DAV (KIT) PE D110/32:9",null,9,null,null,null,null,null,null,null,"NP DAV (KIT) PE D110/32:9"]
[null,null,"Začátek provozního součtu",null,0,null,null,null,null,null,null,null,"Začátek provozního součtu"]
[null,null,"Pro čp. 898:1",null,1,null,null,null,null,null,null,null,"Pro čp. 898:1"]
[null,null,"Pro čp. 897:1",null,1,null,null,null,null,null,null,null,"Pro čp. 897:1"]
[null,null,"Pro čp. 877:1",null,1,null,null,null,null,null,null,null,"Pro čp. 877:1"]
[null,null,"Pro čp. 893:1",null,1,null,null,null,null,null,null,null,"Pro čp. 893:1"]
[null,null,"Pro čp. 876:1",null,1,null,null,null,null,null,null,null,"Pro čp. 876:1"]
[null,null,"Pro čp. 892:1",null,1,null,null,null,null,null,null,null,"Pro čp. 892:1"]
[null,null,"Pro čp. 891:1",null,1,null,null,null,null,null,null,null,"Pro čp. 891:1"]
[null,null,"Pro čp. 818:1",null,1,null,null,null,null,null,null,null,"Pro čp. 818:1"]
[null,null,"Pro čp. 816:1",null,1,null,null,null,null,null,null,null,"Pro čp. 816:1"]
[null,null,"Konec provozního součtu",null,9,null,null,null,null,null,null,null,"Konec provozního součtu"]
[41,"891311111R00","Montáž vodovodních šoupátek ve výkopu DN 150 včetně nerezových spoj. prvků a obandážování spoje","kus",2,null,{"$f":"E231*F231","v":0},2.7799999999999999E-3,{"$f":"E231*H231","v":5.5599999999999998E-3},0,{"$f":"E231*J231","v":0},null,null,null,2,null,null,null,null,null,null,null,null,null,null,null,1,1,1,null,null,null,null,null,null,null,null,null,null,null,null,null,null,null,null,null,null,null,null,null,null,1,{"$f":"IF(AZ231=1,G231,0)","v":0},{"$f":"IF(AZ231=2,G231,0)","v":0},{"$f":"IF(AZ231=3,G231,0)","v":0},{"$f":"IF(AZ231=4,G231,0)","v":0},{"$f":"IF(AZ231=5,G231,0)","v":0},null,null,null,null,null,null,null,null,null,null,null,null,null,null,null,null,null,null,null,null,null,1,1]
[null,null,"Položka je určena pro montáž vodovodních šoupátek v otevřeném výkopu nebo v šachtách s osazením zemní soupravy (bez poklopů). V položce jsou zakalkulovány i náklady na vytvoření otvorů ve stropech šachet pro prostup zemních souprav šoupátek.",null,null,null,null,null,null,null,null,"Položka je určena pro montáž vodovodních šoupátek v otevřeném výkopu nebo v šachtách s osazením zemní soupravy (bez poklopů). V položce jsou zakalkulovány i náklady na vytvoření otvorů ve stropech šachet pro prostup zemních souprav šoupátek.",null,null,3]
[null,null,"Součástí položky je i dodávka nerezových spojovacích prvků (šrouby, podložky, matky) a kompletního obandážování spojů. ",null,null,null,null,null,null,null,null,"Součástí položky je i dodávka nerezových spojovacích prvků (šrouby, podložky, matky) a kompletního obandážování spojů. ",null,null,3]
[null,null,"Řad \"A8-2\" PE D 110x10,0 mmm:",null,0,null,null,null,null,null,null,null,"Řad \"A8-2\" PE D 110x10,0 mmm:"]
[null,null,"Šoupě DN150:2",null,2,null,null,null,null,null,null,null,"Šoupě DN150:2"]
[42,"892271111R00","Tlaková zkouška vodovodního potrubí DN 125 včetně zajištění konců potrubí","m",277,null,{"$f":"E236*F236","v":0},0,{"$f":"E236*H236","v":0},0,{"$f":"E236*J236","v":0},null,null,null,2,null,null,null,null,null,null,null,null,null,null,null,1,1,1,null,null,null,null,null,null,null,null,null,null,null,null,null,null,null,null,null,null,null,null,null,null,1,{"$f":"IF(AZ236=1,G236,0)","v":0},{"$f":"IF(AZ236=2,G236,0)","v":0},{"$f":"IF(AZ236=3,G236,0)","v":0},{"$f":"IF(AZ236=4,G236,0)","v":0},{"$f":"IF(AZ236=5,G236,0)","v":0},null,null,null,null,null,null,null,null,null,null,null,null,null,null,null,null,null,null,null,null,null,1,1]
[null,null,"V položce jsou započteny náklady na přísun, montáž, demontáž a odsun zkoušecího čerpadla, napuštění tlakovou vodou a dodání vody pro tlakovou zkoušku",null,null,null,null,null,null,null,null,"V položce jsou započteny náklady na přísun, montáž, demontáž a odsun zkoušecího čerpadla, napuštění tlakovou vodou a dodání vody pro tlakovou zkoušku",null,null,3]
[null,null,"Řad \"A8-2\" PE D 110x10,0 mmm:274,00",null,274,null,null,null,null,null,null,null,"Řad \"A8-2\" PE D 110x10,0 mmm:274,00"]
[null,null,"Odbočení k HN DN80 - PE D 90x8,2 mm:3,00",null,3,null,null,null,null,null,null,null,"Odbočení k HN DN80 - PE D 90x8,2 mm:3,00"]
[43,"892273111R00","Desinfekce vodovodního potrubí DN 125 ","m",277,null,{"$f":"E240*F240","v":0},0,{"$f":"E240*H240","v":0},0,{"$f":"E240*J240","v":0},null,null,null,2,null,null,null,null,null,null,null,null,null,null,null,1,1,1,null,null,null,null,null,null,null,null,null,null,null,null,null,null,null,null,null,null,null,null,null,null,1,{"$f":"IF(AZ240=1,G240,0)","v":0},{"$f":"IF(AZ240=2,G240,0)","v":0},{"$f":"IF(AZ240=3,G240,0)","v":0},{"$f":"IF(AZ240=4,G240,0)","v":0},{"$f":"IF(AZ240=5,G240,0)","v":0},null,null,null,null,null,null,null,null,null,null,null,null,null,null,null,null,null,null,null,null,null,1,1]
[null,null,"V položce jsou zakalkulovány náklady na napuštění a vypuštění vody, dodání vody a desinfekčního prostředku a na bakteriologický rozbor vody.",null,null,null,null,null,null,null,null,"V položce jsou zakalkulovány náklady na napuštění a vypuštění vody, dodání vody a desinfekčního prostředku a na bakteriologický rozbor vody.",null,null,3]
[null,null,"Řad \"A8-2\" PE D 110x10,0 mmm:274,00",null,274,null,null,null,null,null,null,null,"Řad \"A8-2\" PE D 110x10,0 mmm:274,00"]
[null,null,"Odbočení k HN DN80 - PE D 90x8,2 mm:3,00",null,3,null,null,null,null,null,null,null,"Odbočení k HN DN80 - PE D 90x8,2 mm:3,00"]
[44,"899401113R00","Osazení poklopů litinových hydrantových ","kus",1,null,{"$f":"E244*F244","v":0},0.32906000000000002,{"$f":"E244*H244","v":0.32906000000000002},0,{"$f":"E244*J244","v":0},null,null,null,2,null,null,null,null,null,null,null,null,null,null,null,1,1,1,null,null,null,null,null,null,null,null,null,null,null,null,null,null,null,null,null,null,null,null,null,null,1,{"$f":"IF(AZ244=1,G244,0)","v":0},{"$f":"IF(AZ244=2,G244,0)","v":0},{"$f":"IF(AZ244=3,G244,0)","v":0},{"$f":"IF(AZ244=4,G244,0)","v":0},{"$f":"IF(AZ244=5,G244,0)","v":0},null,null,null,null,null,null,null,null,null,null,null,null,null,null,null,null,null,null,null,null,null,1,1]
[null,null,"Řad \"A8-2\" PE D 110x10,0 mmm:",null,0,null,null,null,null,null,null,null,"Řad \"A8-2\" PE D 110x10,0 mmm:"]
[null,null,"Pro ZOH č. 9822 DN80:1",null,1,null,null,null,null,null,null,null,"Pro ZOH č. 9822 DN80:1"]
[45,"899713111RRX","Orientační tabulky na sloupku ocelovém, betonovém ","kus",18,null,{"$f":"E247*F247","v":0},2.4000000000000001E-4,{"$f":"E247*H247","v":4.3200000000000001E-3},0,{"$f":"E247*J247","v":0},null,null,null,2,null,null,null,null,null,null,null,null,null,null,null,1,1,1,null,null,null,null,null,null,null,null,null,null,null,null,null,null,null,null,null,null,null,null,null,null,1,{"$f":"IF(AZ247=1,G247,0)","v":0},{"$f":"IF(AZ247=2,G247,0)","v":0},{"$f":"IF(AZ247=3,G247,0)","v":0},{"$f":"IF(AZ247=4,G247,0)","v":0},{"$f":"IF(AZ247=5,G247,0)","v":0},null,null,null,null,null,null,null,null,null,null,null,null,null,null,null,null,null,null,null,null,null,1,1]
[null,null,"Položka platí pro orientační tabulky na vodovodních a kanalizačních řadech. V položce jsou zakalkulovány náklady na dodání a připevnění tabulky a na osazení sloupku. V položce jsou zakalkulovány náklady na zemní práce a na dodání sloupků (betonových nebo ocelových s betonovými patkami)",null,null,null,null,null,null,null,null,"Položka platí pro orientační tabulky na vodovodních a kanalizačních řadech. V položce jsou zakalkulovány náklady na dodání a připevnění tabulky a na osazení sloupku. V položce jsou zakalkulovány náklady na zemní práce a na dodání sloupků (betonových nebo ocelových s betonovými patkami)",null,null,3]
[null,null,"Řad \"A8-2\" PE D 110x10,0 mm:",null,0,null,null,null,null,null,null,null,"Řad \"A8-2\" PE D 110x10,0 mm:"]
[null,null,"Pro NP DAV (KIT) PE D110/32:9",null,9,null,null,null,null,null,null,null,"Pro NP DAV (KIT) PE D110/32:9"]
[null,null,"Pro Šoupě DN80:2",null,2,null,null,null,null,null,null,null,"Pro Šoupě DN80:2"]
[null,null,"Pro Šoupě DN100:4",null,4,null,null,null,null,null,null,null,"Pro Šoupě DN100:4"]
[null,null,"Pro Šoupě DN150:2",null,2,null,null,null,null,null,null,null,"Pro Šoupě DN150:2"]
[null,null,"Pro ZOH č. 9822 DN80:1",null,1,null,null,null,null,null,null,null,"Pro ZOH č. 9822 DN80:1"]
[46,"899721112R00","Fólie výstražná z PVC bílá, šířka 30 cm ","m",277,null,{"$f":"E255*F255","v":0},0,{"$f":"E255*H255","v":0},0,{"$f":"E255*J255","v":0},null,null,null,2,null,null,null,null,null,null,null,null,null,null,null,1,1,1,null,null,null,null,null,null,null,null,null,null,null,null,null,null,null,null,null,null,null,null,null,null,1,{"$f":"IF(AZ255=1,G255,0)","v":0},{"$f":"IF(AZ255=2,G255,0)","v":0},{"$f":"IF(AZ255=3,G255,0)","v":0},{"$f":"IF(AZ255=4,G255,0)","v":0},{"$f":"IF(AZ255=5,G255,0)","v":0},null,null,null,null,null,null,null,null,null,null,null,null,null,null,null,null,null,null,null,null,null,1,1]
[null,null,"Řad \"A8-2\" PE D 110x10,0 mmm:274,00",null,274,null,null,null,null,null,null,null,"Řad \"A8-2\" PE D 110x10,0 mmm:274,00"]
[null,null,"Odbočení k HN DN80 - PE D 90x8,2 mm:3,00",null,3,null,null,null,null,null,null,null,"Odbočení k HN DN80 - PE D 90x8,2 mm:3,00"]
[47,"899731114R00","Vodič signalizační CYY 6 mm2 ","m",347,null,{"$f":"E258*F258","v":0},8.0000000000000007E-5,{"$f":"E258*H258","v":2.7760000000000003E-2},0,{"$f":"E258*J258","v":0},null,null,null,2,null,null,null,null,null,null,null,null,null,null,null,1,1,1,null,null,null,null,null,null,null,null,null,null,null,null,null,null,null,null,null,null,null,null,null,null,1,{"$f":"IF(AZ258=1,G258,0)","v":0},{"$f":"IF(AZ258=2,G258,0)","v":0},{"$f":"IF(AZ258=3,G258,0)","v":0},{"$f":"IF(AZ258=4,G258,0)","v":0},{"$f":"IF(AZ258=5,G258,0)","v":0},null,null,null,null,null,null,null,null,null,null,null,null,null,null,null,null,null,null,null,null,null,1,1]
[null,null,"Součástí položky je zajištění proměření vodiče a výchozí zevize.",null,null,null,null,null,null,null,null,"Součástí položky je zajištění proměření vodiče a výchozí zevize.",null,null,3]
[null,null,"Řad \"A8-2\" PE D 110x10,0 mmm:274,00",null,274,null,null,null,null,null,null,null,"Řad \"A8-2\" PE D 110x10,0 mmm:274,00"]
[null,null,"Odbočení k HN DN80 - PE D 90x8,2 mm:3,00",null,3,null,null,null,null,null,null,null,"Odbočení k HN DN80 - PE D 90x8,2 mm:3,00"]
[null,null,"Vyvedení:",null,0,null,null,null,null,null,null,null,"Vyvedení:"]
[null,null,"Pro NP DAV (KIT) PE D110/32:9*2,00*2",null,36,null,null,null,null,null,null,null,"Pro NP DAV (KIT) PE D110/32:9*2,00*2"]
[null,null,"Pro Šoupě DN80:2*2,00*2",null,8,null,null,null,null,null,null,null,"Pro Šoupě DN80:2*2,00*2"]
[null,null,"Pro Šoupě DN100:4*2,00*2",null,16,null,null,null,null,null,null,null,"Pro Šoupě DN100:4*2,00*2"]
[null,null,"Pro Šoupě DN150:2*2,00*2",null,8,null,null,null,null,null,null,null,"Pro Šoupě DN150:2*2,00*2"]
[null,null,"Pro ZOH č. 9822 DN80:1*2,00*1",null,2,null,null,null,null,null,null,null,"Pro ZOH č. 9822 DN80:1*2,00*1"]
[48,"28613076.DAV.R","T-kus odbočkový navrtávací DAV (KIT) D110/32","kus",9,null,{"$f":"E268*F268","v":0},0,{"$f":"E268*H268","v":0},null,{"$f":"E268*J268","v":0},null,null,null,2,null,null,null,null,null,null,null,null,null,null,null,3,1,"28613076.DAV.R",null,null,null,null,null,null,null,null,null,null,null,null,null,null,null,null,null,null,null,null,null,null,1,{"$f":"IF(AZ268=1,G268,0)","v":0},{"$f":"IF(AZ268=2,G268,0)","v":0},{"$f":"IF(AZ268=3,G268,0)","v":0},{"$f":"IF(AZ268=4,G268,0)","v":0},{"$f":"IF(AZ268=5,G268,0)","v":0},null,null,null,null,null,null,null,null,null,null,null,null,null,null,null,null,null,null,null,null,null,3,1]
[null,null,"Řad \"A8-2\" PE D 110x10,0 mm:",null,0,null,null,null,null,null,null,null,"Řad \"A8-2\" PE D 110x10,0 mm:"]
[null,null,"NP DAV (KIT) PE D110/32:9",null,9,null,null,null,null,null,null,null,"NP DAV (KIT) PE D110/32:9"]
[49,"28613090.EBS.R","Zemní souprava EBS 1,1-1,8 pro DAV (KIT)","kus",9,null,{"$f":"E271*F271","v":0},0,{"$f":"E271*H271","v":0},null,{"$f":"E271*J271","v":0},null,null,null,2,null,null,null,null,null,null,null,null,null,null,null,3,1,"28613090.EBS.R",null,null,null,null,null,null,null,null,null,null,null,null,null,null,null,null,null,null,null,null,null,null,1,{"$f":"IF(AZ271=1,G271,0)","v":0},{"$f":"IF(AZ271=2,G271,0)","v":0},{"$f":"IF(AZ271=3,G271,0)","v":0},{"$f":"IF(AZ271=4,G271,0)","v":0},{"$f":"IF(AZ271=5,G271,0)","v":0},null,null,null,null,null,null,null,null,null,null,null,null,null,null,null,null,null,null,null,null,null,3,1]
[null,null,"Řad \"A8-2\" PE D 110x10,0 mm:",null,0,null,null,null,null,null,null,null,"Řad \"A8-2\" PE D 110x10,0 mm:"]
[null,null,"Pro NP DAV (KIT) PE D110/32:9",null,9,null,null,null,null,null,null,null,"Pro NP DAV (KIT) PE D110/32:9"]
[50,"286134214.R","Trubka tlaková AQUALINE RC2 PE100 90x8,2 mm PN16 tyče L=6 m","m",3.0449999999999999,null,{"$f":"E274*F274","v":0},3.14E-3,{"$f":"E274*H274","v":9.5613E-3},null,{"$f":"E274*J274","v":0},null,null,null,2,null,null,null,null,null,null,null,null,null,null,null,3,1,"286134214.R",null,null,null,null,null,null,null,null,null,null,null,null,null,null,null,null,null,null,null,null,null,null,1,{"$f":"IF(AZ274=1,G274,0)","v":0},{"$f":"IF(AZ274=2,G274,0)","v":0},{"$f":"IF(AZ274=3,G274,0)","v":0},{"$f":"IF(AZ274=4,G274,0)","v":0},{"$f":"IF(AZ274=5,G274,0)","v":0},null,null,null,null,null,null,null,null,null,null,null,null,null,null,null,null,null,null,null,null,null,3,1]
[null,null,"Vodovodní PE tlaková trubka AQUALINE RC2 dle normy EN 12 201-2",null,null,null,null,null,null,null,null,"Vodovodní PE tlaková trubka AQUALINE RC2 dle normy EN 12 201-2",null,null,3]
[null,null,"(doprava pitné a užitkové vody)",null,null,null,null,null,null,null,null,"(doprava pitné a užitkové vody)",null,null,3]
[null,null,"Dvouvrstvá - vnější vrstva PE 100RC modrá (10 % tloušťky)",null,null,null,null,null,null,null,null,"Dvouvrstvá - vnější vrstva PE 100RC modrá (10 % tloušťky)",null,null,3]
[null,null,"                       vnitřní vrstva PE 100RC černá (90 % tloušťky)",null,null,null,null,null,null,null,null,"                       vnitřní vrstva PE 100RC černá (90 % tloušťky)",null,null,3]
[null,null,null,null,null,null,null,null,null,null,null,null,null,null,3]
[null,null,"Řad \"A8-2\" PE D 110x10,0¨mmm:",null,0,null,null,null,null,null,null,null,"Řad \"A8-2\" PE D 110x10,0¨mmm:"]
[null,null,"Odbočení k HN DN80 - PE D 90x8,2 mm:3,00*1,015",null,3.0449999999999999,null,null,null,null,null,null,null,"Odbočení k HN DN80 - PE D 90x8,2 mm:3,00*1,015"]
[51,"286134215.R","Trubka tlaková AQUALINE RC2 PE100 110x10,0 mm PN16 tyče L=12 m","m",278.11,null,{"$f":"E282*F282","v":0},2.1199999999999999E-3,{"$f":"E282*H282","v":0.58959320000000004},null,{"$f":"E282*J282","v":0},null,null,null,2,null,null,null,null,null,null,null,null,null,null,null,3,1,"286134215.R",null,null,null,null,null,null,null,null,null,null,null,null,null,null,null,null,null,null,null,null,null,null,1,{"$f":"IF(AZ282=1,G282,0)","v":0},{"$f":"IF(AZ282=2,G282,0)","v":0},{"$f":"IF(AZ282=3,G282,0)","v":0},{"$f":"IF(AZ282=4,G282,0)","v":0},{"$f":"IF(AZ282=5,G282,0)","v":0},null,null,null,null,null,null,null,null,null,null,null,null,null,null,null,null,null,null,null,null,null,3,1]
[null,null,"Vodovodní PE tlaková trubka AQUALINE RC2 dle normy EN 12 201-2",null,null,null,null,null,null,null,null,"Vodovodní PE tlaková trubka AQUALINE RC2 dle normy EN 12 201-2",null,null,3]
[null,null,"(doprava pitné a užitkové vody)",null,null,null,null,null,null,null,null,"(doprava pitné a užitkové vody)",null,null,3]
[null,null,"Dvouvrstvá - vnější vrstva PE 100RC modrá (10 % tloušťky)",null,null,null,null,null,null,null,null,"Dvouvrstvá - vnější vrstva PE 100RC modrá (10 % tloušťky)",null,null,3]
[null,null,"                       vnitřní vrstva PE 100RC černá (90 % tloušťky)",null,null,null,null,null,null,null,null,"                       vnitřní vrstva PE 100RC černá (90 % tloušťky)",null,null,3]
[null,null,"Lepší detekce poškození oproti typu RC1",null,null,null,null,null,null,null,null,"Lepší detekce poškození oproti typu RC1",null,null,3]
[null,null,"Řad \"A8-2\" PE D 110x10,0 mmm:274,00*1,015",null,278.11,null,null,null,null,null,null,null,"Řad \"A8-2\" PE D 110x10,0 mmm:274,00*1,015"]
[52,"28653079.R","Elektrospojka d 90 mm PE 100 SDR11","kus",2.0299999999999998,null,{"$f":"E289*F289","v":0},1.2999999999999999E-3,{"$f":"E289*H289","v":2.6389999999999994E-3},null,{"$f":"E289*J289","v":0},null,null,null,2,null,null,null,null,null,null,null,null,null,null,null,3,1,"28653079.R",null,null,null,null,null,null,null,null,null,null,null,null,null,null,null,null,null,null,null,null,null,null,1,{"$f":"IF(AZ289=1,G289,0)","v":0},{"$f":"IF(AZ289=2,G289,0)","v":0},{"$f":"IF(AZ289=3,G289,0)","v":0},{"$f":"IF(AZ289=4,G289,0)","v":0},{"$f":"IF(AZ289=5,G289,0)","v":0},null,null,null,null,null,null,null,null,null,null,null,null,null,null,null,null,null,null,null,null,null,3,1]
[null,null,"Řad \"A8-2\" PE D 110x10,0¨mmm:",null,0,null,null,null,null,null,null,null,"Řad \"A8-2\" PE D 110x10,0¨mmm:"]
[null,null,"Odbočení k HN DN80 - PE D 90x8,2 mm:",null,0,null,null,null,null,null,null,null,"Odbočení k HN DN80 - PE D 90x8,2 mm:"]
[null,null,"Elektrospojka PE D90:2*1,015",null,2.0299999999999998,null,null,null,null,null,null,null,"Elektrospojka PE D90:2*1,015"]
[53,"28653080.11.R","Elektrospojka d 110 mm PE 100 SDR11","kus",46.69,null,{"$f":"E293*F293","v":0},1.2999999999999999E-3,{"$f":"E293*H293","v":6.0696999999999994E-2},null,{"$f":"E293*J293","v":0},null,null,null,2,null,null,null,null,null,null,null,null,null,null,null,3,1,"28653080.11.R",null,null,null,null,null,null,null,null,null,null,null,null,null,null,null,null,null,null,null,null,null,null,1,{"$f":"IF(AZ293=1,G293,0)","v":0},{"$f":"IF(AZ293=2,G293,0)","v":0},{"$f":"IF(AZ293=3,G293,0)","v":0},{"$f":"IF(AZ293=4,G293,0)","v":0},{"$f":"IF(AZ293=5,G293,0)","v":0},null,null,null,null,null,null,null,null,null,null,null,null,null,null,null,null,null,null,null,null,null,3,1]
[null,null,"Řad \"A8-2\" PE D 110x10,0 mmm:",null,0,null,null,null,null,null,null,null,"Řad \"A8-2\" PE D 110x10,0 mmm:"]
[null,null,"Elektrospojka PE D110:46*1,015",null,46.69,null,null,null,null,null,null,null,"Elektrospojka PE D110:46*1,015"]
[54,"28653449.A.R","Oblouk 22° PE d 110 mm PE100 SDR11","kus",1.0149999999999999,null,{"$f":"E296*F296","v":0},1.0499999999999999E-3,{"$f":"E296*H296","v":1.0657499999999999E-3},null,{"$f":"E296*J296","v":0},null,null,null,2,null,null,null,null,null,null,null,null,null,null,null,3,1,"28653449.A.R",null,null,null,null,null,null,null,null,null,null,null,null,null,null,null,null,null,null,null,null,null,null,1,{"$f":"IF(AZ296=1,G296,0)","v":0},{"$f":"IF(AZ296=2,G296,0)","v":0},{"$f":"IF(AZ296=3,G296,0)","v":0},{"$f":"IF(AZ296=4,G296,0)","v":0},{"$f":"IF(AZ296=5,G296,0)","v":0},null,null,null,null,null,null,null,null,null,null,null,null,null,null,null,null,null,null,null,null,null,3,1]
[null,null,"Řad \"A8-2\" PE D 110x10,0 mmm:",null,0,null,null,null,null,null,null,null,"Řad \"A8-2\" PE D 110x10,0 mmm:"]
[null,null,"Oblouk PE D110/22°:1*1,015",null,1.0149999999999999,null,null,null,null,null,null,null,"Oblouk PE D110/22°:1*1,015"]
[55,"28653450.A.R","Oblouk 11° PE d 110 mm PE100 SDR11","kus",1.0149999999999999,null,{"$f":"E299*F299","v":0},1.0499999999999999E-3,{"$f":"E299*H299","v":1.0657499999999999E-3},null,{"$f":"E299*J299","v":0},null,null,null,2,null,null,null,null,null,null,null,null,null,null,null,3,1,"28653450.A.R",null,null,null,null,null,null,null,null,null,null,null,null,null,null,null,null,null,null,null,null,null,null,1,{"$f":"IF(AZ299=1,G299,0)","v":0},{"$f":"IF(AZ299=2,G299,0)","v":0},{"$f":"IF(AZ299=3,G299,0)","v":0},{"$f":"IF(AZ299=4,G299,0)","v":0},{"$f":"IF(AZ299=5,G299,0)","v":0},null,null,null,null,null,null,null,null,null,null,null,null,null,null,null,null,null,null,null,null,null,3,1]
[null,null,"Řad \"A8-2\" PE D 110x10,0 mmm:",null,0,null,null,null,null,null,null,null,"Řad \"A8-2\" PE D 110x10,0 mmm:"]
[null,null,"Oblouk PE D110/11°:1*1,015",null,1.0149999999999999,null,null,null,null,null,null,null,"Oblouk PE D110/11°:1*1,015"]
[56,"28653765.R","LN + TP D90/DN80 PE100 SDR11","kus",2,null,{"$f":"E302*F302","v":0},3.5E-4,{"$f":"E302*H302","v":6.9999999999999999E-4},null,{"$f":"E302*J302","v":0},null,null,null,2,null,null,null,null,null,null,null,null,null,null,null,3,1,"28653765.R",null,null,null,null,null,null,null,null,null,null,null,null,null,null,null,null,null,null,null,null,null,null,1,{"$f":"IF(AZ302=1,G302,0)","v":0},{"$f":"IF(AZ302=2,G302,0)","v":0},{"$f":"IF(AZ302=3,G302,0)","v":0},{"$f":"IF(AZ302=4,G302,0)","v":0},{"$f":"IF(AZ302=5,G302,0)","v":0},null,null,null,null,null,null,null,null,null,null,null,null,null,null,null,null,null,null,null,null,null,3,1]
[null,null,"Řad \"A8-2\" PE D 110x10,0 mm:",null,0,null,null,null,null,null,null,null,"Řad \"A8-2\" PE D 110x10,0 mm:"]
[null,null,"LN+TP D90/DN80:2",null,2,null,null,null,null,null,null,null,"LN+TP D90/DN80:2"]
[57,"28653766.R","LN + TP D110/DN100 PE100 SDR11","kus",8,null,{"$f":"E305*F305","v":0},3.5E-4,{"$f":"E305*H305","v":2.8E-3},null,{"$f":"E305*J305","v":0},null,null,null,2,null,null,null,null,null,null,null,null,null,null,null,3,1,"28653766.R",null,null,null,null,null,null,null,null,null,null,null,null,null,null,null,null,null,null,null,null,null,null,1,{"$f":"IF(AZ305=1,G305,0)","v":0},{"$f":"IF(AZ305=2,G305,0)","v":0},{"$f":"IF(AZ305=3,G305,0)","v":0},{"$f":"IF(AZ305=4,G305,0)","v":0},{"$f":"IF(AZ305=5,G305,0)","v":0},null,null,null,null,null,null,null,null,null,null,null,null,null,null,null,null,null,null,null,null,null,3,1]
[null,null,"Řad \"A8-2\" PE D 110x10,0 mm:",null,0,null,null,null,null,null,null,null,"Řad \"A8-2\" PE D 110x10,0 mm:"]
[null,null,"LN+TP D110/DN100:8",null,8,null,null,null,null,null,null,null,"LN+TP D110/DN100:8"]
[58,"42201790.R","Poklop odvz.a propl. hydrantů č.1790","kus",1,null,{"$f":"E308*F308","v":0},4.1500000000000002E-2,{"$f":"E308*H308","v":4.1500000000000002E-2},null,{"$f":"E308*J308","v":0},null,null,null,2,null,null,null,null,null,null,null,null,null,null,null,3,1,"42201790.R",null,null,null,null,null,null,null,null,null,null,null,null,null,null,null,null,null,null,null,null,null,null,1,{"$f":"IF(AZ308=1,G308,0)","v":0},{"$f":"IF(AZ308=2,G308,0)","v":0},{"$f":"IF(AZ308=3,G308,0)","v":0},{"$f":"IF(AZ308=4,G308,0)","v":0},{"$f":"IF(AZ308=5,G308,0)","v":0},null,null,null,null,null,null,null,null,null,null,null,null,null,null,null,null,null,null,null,null,null,3,1]
[null,null,"Řad \"A8-2\" PE D 110x10,0 mmm:",null,0,null,null,null,null,null,null,null,"Řad \"A8-2\" PE D 110x10,0 mmm:"]
[null,null,"Pro ZOH č. 9822 DN80:1",null,1,null,null,null,null,null,null,null,"Pro ZOH č. 9822 DN80:1"]
[59,"42209822.06.R","Ventil odvzdušňovací 1555/80 PN 1-16","kus",1,null,{"$f":"E311*F311","v":0},2.8E-3,{"$f":"E311*H311","v":2.8E-3},null,{"$f":"E311*J311","v":0},null,null,null,2,null,null,null,null,null,null,null,null,null,null,null,3,1,"42209822.06.R",null,null,null,null,null,null,null,null,null,null,null,null,null,null,null,null,null,null,null,null,null,null,1,{"$f":"IF(AZ311=1,G311,0)","v":0},{"$f":"IF(AZ311=2,G311,0)","v":0},{"$f":"IF(AZ311=3,G311,0)","v":0},{"$f":"IF(AZ311=4,G311,0)","v":0},{"$f":"IF(AZ311=5,G311,0)","v":0},null,null,null,null,null,null,null,null,null,null,null,null,null,null,null,null,null,null,null,null,null,3,1]
[null,null,"Řad \"A8-2\" PE D 110x10,0 mmm:",null,0,null,null,null,null,null,null,null,"Řad \"A8-2\" PE D 110x10,0 mmm:"]
[null,null,"ZOH č. 9822 DN80:1",null,1,null,null,null,null,null,null,null,"ZOH č. 9822 DN80:1"]
[60,"42209999.R","Drenážní obal","kus",2,null,{"$f":"E314*F314","v":0},4.7999999999999996E-3,{"$f":"E314*H314","v":9.5999999999999992E-3},null,{"$f":"E314*J314","v":0},null,null,null,2,null,null,null,null,null,null,null,null,null,null,null,3,1,"42209999.R",null,null,null,null,null,null,null,null,null,null,null,null,null,null,null,null,null,null,null,null,null,null,1,{"$f":"IF(AZ314=1,G314,0)","v":0},{"$f":"IF(AZ314=2,G314,0)","v":0},{"$f":"IF(AZ314=3,G314,0)","v":0},{"$f":"IF(AZ314=4,G314,0)","v":0},{"$f":"IF(AZ314=5,G314,0)","v":0},null,null,null,null,null,null,null,null,null,null,null,null,null,null,null,null,null,null,null,null,null,3,1]
[null,null,"Řad \"A8-2\" PE D 110x10,0 mmm:",null,0,null,null,null,null,null,null,null,"Řad \"A8-2\" PE D 110x10,0 mmm:"]
[null,null,"Pro ZOH č. 9822 DN80:1",null,1,null,null,null,null,null,null,null,"Pro ZOH č. 9822 DN80:1"]
[null,null,"Pro HN DN80:1",null,1,null,null,null,null,null,null,null,"Pro HN DN80:1"]
[61,"42228310.R","Šoupátko 4000E3 DN 80 přírubové, voda PN16","kus",2,null,{"$f":"E318*F318","v":0},1.6500000000000001E-2,{"$f":"E318*H318","v":3.3000000000000002E-2},null,{"$f":"E318*J318","v":0},null,null,null,2,null,null,null,null,null,null,null,null,null,null,null,3,1,"42228310.R",null,null,null,null,null,null,null,null,null,null,null,null,null,null,null,null,null,null,null,null,null,null,1,{"$f":"IF(AZ318=1,G318,0)","v":0},{"$f":"IF(AZ318=2,G318,0)","v":0},{"$f":"IF(AZ318=3,G318,0)","v":0},{"$f":"IF(AZ318=4,G318,0)","v":0},{"$f":"IF(AZ318=5,G318,0)","v":0},null,null,null,null,null,null,null,null,null,null,null,null,null,null,null,null,null,null,null,null,null,3,1]
[null,null,"Šoupátko přírubové krkové - měkcetěsnící klínové šoupátko s hladkým a volným průtokovým kanálem",null,null,null,null,null,null,null,null,"Šoupátko přírubové krkové - měkcetěsnící klínové šoupátko s hladkým a volným průtokovým kanálem",null,null,3]
[null,null,"č. 4000E3",null,null,null,null,null,null,null,null,"č. 4000E3",null,null,3]
[null,null,"PN 16",null,null,null,null,null,null,null,null,"PN 16",null,null,3]
[null,null,"DN 80",null,null,null,null,null,null,null,null,"DN 80",null,null,3]
[null,null,"těleso a víko: tvárná litina GGG 400 - DIN 1693",null,null,null,null,null,null,null,null,"těleso a víko: tvárná litina GGG 400 - DIN 1693",null,null,3]
[null,null,"medium: pitná voda, neagresivní odpadní voda",null,null,null,null,null,null,null,null,"medium: pitná voda, neagresivní odpadní voda",null,null,3]
[null,null,"Řad \"A8-2\" PE D 110x10,0 mmm:",null,0,null,null,null,null,null,null,null,"Řad \"A8-2\" PE D 110x10,0 mmm:"]
[null,null,"Šoupě DN80:2",null,2,null,null,null,null,null,null,null,"Šoupě DN80:2"]
[62,"42228312.R","Šoupátko 4000E3 DN 100 přírubové, voda PN16","kus",4,null,{"$f":"E327*F327","v":0},2.4500000000000001E-2,{"$f":"E327*H327","v":9.8000000000000004E-2},null,{"$f":"E327*J327","v":0},null,null,null,2,null,null,null,null,null,null,null,null,null,null,null,3,1,"42228312.R",null,null,null,null,null,null,null,null,null,null,null,null,null,null,null,null,null,null,null,null,null,null,1,{"$f":"IF(AZ327=1,G327,0)","v":0},{"$f":"IF(AZ327=2,G327,0)","v":0},{"$f":"IF(AZ327=3,G327,0)","v":0},{"$f":"IF(AZ327=4,G327,0)","v":0},{"$f":"IF(AZ327=5,G327,0)","v":0},null,null,null,null,null,null,null,null,null,null,null,null,null,null,null,null,null,null,null,null,null,3,1]
[null,null,"Šoupátko přírubové krkové - měkcetěsnící klínové šoupátko s hladkým a volným průtokovým kanálem",null,null,null,null,null,null,null,null,"Šoupátko přírubové krkové - měkcetěsnící klínové šoupátko s hladkým a volným průtokovým kanálem",null,null,3]
[null,null,"č. 4000E3",null,null,null,null,null,null,null,null,"č. 4000E3",null,null,3]
[null,null,"PN 16",null,null,null,null,null,null,null,null,"PN 16",null,null,3]
[null,null,"DN 100",null,null,null,null,null,null,null,null,"DN 100",null,null,3]
[null,null,"těleso a víko: tvárná litina GGG 400 - DIN 1693",null,null,null,null,null,null,null,null,"těleso a víko: tvárná litina GGG 400 - DIN 1693",null,null,3]
[null,null,"medium: pitná voda, neagresivní odpadní voda",null,null,null,null,null,null,null,null,"medium: pitná voda, neagresivní odpadní voda",null,null,3]
[null,null,"Řad \"A8-2\" PE D 110x10,0 mm:",null,0,null,null,null,null,null,null,null,"Řad \"A8-2\" PE D 110x10,0 mm:"]
[null,null,"Šoupě DN100:4",null,4,null,null,null,null,null,null,null,"Šoupě DN100:4"]
[63,"42228314","Šoupátko 4000E3 DN 150 přírubové, voda PN16","kus",2,null,{"$f":"E336*F336","v":0},4.0500000000000001E-2,{"$f":"E336*H336","v":8.1000000000000003E-2},null,{"$f":"E336*J336","v":0},null,null,null,2,null,null,null,null,null,null,null,null,null,null,null,3,1,42228314,null,null,null,null,null,null,null,null,null,null,null,null,null,null,null,null,null,null,null,null,null,null,1,{"$f":"IF(AZ336=1,G336,0)","v":0},{"$f":"IF(AZ336=2,G336,0)","v":0},{"$f":"IF(AZ336=3,G336,0)","v":0},{"$f":"IF(AZ336=4,G336,0)","v":0},{"$f":"IF(AZ336=5,G336,0)","v":0},null,null,null,null,null,null,null,null,null,null,null,null,null,null,null,null,null,null,null,null,null,3,1]
[null,null,"Šoupátko přírubové krkové - měkcetěsnící klínové šoupátko s hladkým a volným průtokovým kanálem",null,null,null,null,null,null,null,null,"Šoupátko přírubové krkové - měkcetěsnící klínové šoupátko s hladkým a volným průtokovým kanálem",null,null,3]
[null,null,"č. 4000E3",null,null,null,null,null,null,null,null,"č. 4000E3",null,null,3]
[null,null,"PN 16",null,null,null,null,null,null,null,null,"PN 16",null,null,3]
[null,null,"DN 150",null,null,null,null,null,null,null,null,"DN 150",null,null,3]
[null,null,"těleso a víko: tvárná litina GGG 400 - DIN 1693",null,null,null,null,null,null,null,null,"těleso a víko: tvárná litina GGG 400 - DIN 1693",null,null,3]
[null,null,"medium: pitná voda, neagresivní odpadní voda",null,null,null,null,null,null,null,null,"medium: pitná voda, neagresivní odpadní voda",null,null,3]
[null,null,"Řad \"A8-2\" PE D 110x10,0 mmm:",null,0,null,null,null,null,null,null,null,"Řad \"A8-2\" PE D 110x10,0 mmm:"]
[null,null,"Šoupě DN150:2",null,2,null,null,null,null,null,null,null,"Šoupě DN150:2"]
[64,"42273610.R","Hydrant nadzemní DUO objezdový DN 2B/80/1,5 m č. K230","kus",1,null,{"$f":"E345*F345","v":0},5.0500000000000003E-2,{"$f":"E345*H345","v":5.0500000000000003E-2},null,{"$f":"E345*J345","v":0},null,null,null,2,null,null,null,null,null,null,null,null,null,null,null,3,1,"42273610.R",null,null,null,null,null,null,null,null,null,null,null,null,null,null,null,null,null,null,null,null,null,null,1,{"$f":"IF(AZ345=1,G345,0)","v":0},{"$f":"IF(AZ345=2,G345,0)","v":0},{"$f":"IF(AZ345=3,G345,0)","v":0},{"$f":"IF(AZ345=4,G345,0)","v":0},{"$f":"IF(AZ345=5,G345,0)","v":0},null,null,null,null,null,null,null,null,null,null,null,null,null,null,null,null,null,null,null,null,null,3,1]
[null,null,"Řad \"A8-2\" PE D 110x10,0 mmm:",null,0,null,null,null,null,null,null,null,"Řad \"A8-2\" PE D 110x10,0 mmm:"]
[null,null,"HN DN80:1",null,1,null,null,null,null,null,null,null,"HN DN80:1"]
[65,"42293250.R","Souprava zemní tel.9502E2/E3 DN50 -100, 1,3-1,8m","kus",6,null,{"$f":"E348*F348","v":0},7.3000000000000001E-3,{"$f":"E348*H348","v":4.3799999999999999E-2},null,{"$f":"E348*J348","v":0},null,null,null,2,null,null,null,null,null,null,null,null,null,null,null,3,1,"42293250.R",null,null,null,null,null,null,null,null,null,null,null,null,null,null,null,null,null,null,null,null,null,null,1,{"$f":"IF(AZ348=1,G348,0)","v":0},{"$f":"IF(AZ348=2,G348,0)","v":0},{"$f":"IF(AZ348=3,G348,0)","v":0},{"$f":"IF(AZ348=4,G348,0)","v":0},{"$f":"IF(AZ348=5,G348,0)","v":0},null,null,null,null,null,null,null,null,null,null,null,null,null,null,null,null,null,null,null,null,null,3,1]
[null,null,"Řad \"A8-2\" PE D 110x10,0 mmm:",null,0,null,null,null,null,null,null,null,"Řad \"A8-2\" PE D 110x10,0 mmm:"]
[null,null,"Pro Šoupě DN80:2",null,2,null,null,null,null,null,null,null,"Pro Šoupě DN80:2"]
[null,null,"Pro Šoupě DN100:4",null,4,null,null,null,null,null,null,null,"Pro Šoupě DN100:4"]
[66,"42293251.R","Souprava zemní tel.9502E2/E3 DN125-150, 1,3-1,8m","kus",2,null,{"$f":"E352*F352","v":0},7.3000000000000001E-3,{"$f":"E352*H352","v":1.46E-2},null,{"$f":"E352*J352","v":0},null,null,null,2,null,null,null,null,null,null,null,null,null,null,null,3,1,"42293251.R",null,null,null,null,null,null,null,null,null,null,null,null,null,null,null,null,null,null,null,null,null,null,1,{"$f":"IF(AZ352=1,G352,0)","v":0},{"$f":"IF(AZ352=2,G352,0)","v":0},{"$f":"IF(AZ352=3,G352,0)","v":0},{"$f":"IF(AZ352=4,G352,0)","v":0},{"$f":"IF(AZ352=5,G352,0)","v":0},null,null,null,null,null,null,null,null,null,null,null,null,null,null,null,null,null,null,null,null,null,3,1]
[null,null,"Řad \"A8-2\" PE D 110x10,0 mmm:",null,0,null,null,null,null,null,null,null,"Řad \"A8-2\" PE D 110x10,0 mmm:"]
[null,null,"Pro Šoupě DN150:2",null,2,null,null,null,null,null,null,null,"Pro Šoupě DN150:2"]
[67,"422935325.R","Spojka Synoflex s přírubou 7994, DN150,PN 16","kus",1,null,{"$f":"E355*F355","v":0},1.67E-2,{"$f":"E355*H355","v":1.67E-2},null,{"$f":"E355*J355","v":0},null,null,null,2,null,null,null,null,null,null,null,null,null,null,null,3,1,"422935325.R",null,null,null,null,null,null,null,null,null,null,null,null,null,null,null,null,null,null,null,null,null,null,1,{"$f":"IF(AZ355=1,G355,0)","v":0},{"$f":"IF(AZ355=2,G355,0)","v":0},{"$f":"IF(AZ355=3,G355,0)","v":0},{"$f":"IF(AZ355=4,G355,0)","v":0},{"$f":"IF(AZ355=5,G355,0)","v":0},null,null,null,null,null,null,null,null,null,null,null,null,null,null,null,null,null,null,null,null,null,3,1]
[null,null,"Spojka s přírubou jištěná proti posunu pro všechny standardní materiály potrubí s velkým rozsahem vnějších průměrů potrubí a úhlovým vychýlením",null,null,null,null,null,null,null,null,"Spojka s přírubou jištěná proti posunu pro všechny standardní materiály potrubí s velkým rozsahem vnějších průměrů potrubí a úhlovým vychýlením",null,null,3]
[null,null,"PROVEDENÍ: hrdlo - příruba",null,null,null,null,null,null,null,null,"PROVEDENÍ: hrdlo - příruba",null,null,3]
[null,null,"dle EN 14 525",null,null,null,null,null,null,null,null,"dle EN 14 525",null,null,3]
[null,null,"příruba a opěrný kroužek: dle EN 1092-2 PN10 (případně PN16)",null,null,null,null,null,null,null,null,"příruba a opěrný kroužek: dle EN 1092-2 PN10 (případně PN16)",null,null,3]
[null,null,"tělo a přítlačný kroužek: z tvárné litny EN-GJS-400 s povrchovou úpravou vířivým slinováním",null,null,null,null,null,null,null,null,"tělo a přítlačný kroužek: z tvárné litny EN-GJS-400 s povrchovou úpravou vířivým slinováním",null,null,3]
[null,null,"flexibilní těsnění: z elastomeru dle EN 681-1 (vhodné pro pitnou vodu)",null,null,null,null,null,null,null,null,"flexibilní těsnění: z elastomeru dle EN 681-1 (vhodné pro pitnou vodu)",null,null,3]
[null,null,"flexibilní Synoflex kroužek: z POM sestaven z jednotlivých segmentů",null,null,null,null,null,null,null,null,"flexibilní Synoflex kroužek: z POM sestaven z jednotlivých segmentů",null,null,3]
[null,null,"jistící prvky: z nekorodující oceli na každém segmentu kroužku",null,null,null,null,null,null,null,null,"jistící prvky: z nekorodující oceli na každém segmentu kroužku",null,null,3]
[null,null,"šrouby a matice: z nerezové oceli s povrchovou úpravou proti zadírání",null,null,null,null,null,null,null,null,"šrouby a matice: z nerezové oceli s povrchovou úpravou proti zadírání",null,null,3]
[null,null,"podložky: z nerezové oceli s ochrannou krytkou z elastomeru",null,null,null,null,null,null,null,null,"podložky: z nerezové oceli s ochrannou krytkou z elastomeru",null,null,3]
[null,null,"šrbouby: lze použít i otočené o 180°",null,null,null,null,null,null,null,null,"šrbouby: lze použít i otočené o 180°",null,null,3]
[null,null,"distanční objímky: z plastu",null,null,null,null,null,null,null,null,"distanční objímky: z plastu",null,null,3]
[null,null,"úhlové vychýlení (ČSN EN 14 525)",null,null,null,null,null,null,null,null,"úhlové vychýlení (ČSN EN 14 525)",null,null,3]
[null,null,"pro jištění tahových sil na PE potrubí doporučujeme instalaci rozpěrných pouzder (č. 6035, 6036)",null,null,null,null,null,null,null,null,"pro jištění tahových sil na PE potrubí doporučujeme instalaci rozpěrných pouzder (č. 6035, 6036)",null,null,3]
[null,null,"Řad \"A8-2\" PE D 110x10,0 mm:",null,0,null,null,null,null,null,null,null,"Řad \"A8-2\" PE D 110x10,0 mm:"]
[null,null,"Synoflex s přírubou DN150:1",null,1,null,null,null,null,null,null,null,"Synoflex s přírubou DN150:1"]
[68,"55251215.R","Trouba přír.litin. FF DN 80 mm dl. 250 mm","kus",1,null,{"$f":"E372*F372","v":0},1.0699999999999999E-2,{"$f":"E372*H372","v":1.0699999999999999E-2},null,{"$f":"E372*J372","v":0},null,null,null,2,null,null,null,null,null,null,null,null,null,null,null,3,1,"55251215.R",null,null,null,null,null,null,null,null,null,null,null,null,null,null,null,null,null,null,null,null,null,null,1,{"$f":"IF(AZ372=1,G372,0)","v":0},{"$f":"IF(AZ372=2,G372,0)","v":0},{"$f":"IF(AZ372=3,G372,0)","v":0},{"$f":"IF(AZ372=4,G372,0)","v":0},{"$f":"IF(AZ372=5,G372,0)","v":0},null,null,null,null,null,null,null,null,null,null,null,null,null,null,null,null,null,null,null,null,null,3,1]
[null,null,"Řad \"A8-2\" PE D 110x10,0 mm:",null,0,null,null,null,null,null,null,null,"Řad \"A8-2\" PE D 110x10,0 mm:"]
[null,null,"FF DN80/250:1",null,1,null,null,null,null,null,null,null,"FF DN80/250:1"]
[69,"55259815.R","Přechod přír. FFR DN 100/ 80","kus",1,null,{"$f":"E375*F375","v":0},9.7999999999999997E-3,{"$f":"E375*H375","v":9.7999999999999997E-3},null,{"$f":"E375*J375","v":0},null,null,null,2,null,null,null,null,null,null,null,null,null,null,null,3,1,"55259815.R",null,null,null,null,null,null,null,null,null,null,null,null,null,null,null,null,null,null,null,null,null,null,1,{"$f":"IF(AZ375=1,G375,0)","v":0},{"$f":"IF(AZ375=2,G375,0)","v":0},{"$f":"IF(AZ375=3,G375,0)","v":0},{"$f":"IF(AZ375=4,G375,0)","v":0},{"$f":"IF(AZ375=5,G375,0)","v":0},null,null,null,null,null,null,null,null,null,null,null,null,null,null,null,null,null,null,null,null,null,3,1]
[null,null,"Řad \"A8-2\" PE D 110x10,0 mm:",null,0,null,null,null,null,null,null,null,"Řad \"A8-2\" PE D 110x10,0 mm:"]
[null,null,"FFR DN100/80:1",null,1,null,null,null,null,null,null,null,"FFR DN100/80:1"]
[70,"55259820.R","Přechod přír. FFR DN 150/100","kus",1,null,{"$f":"E378*F378","v":0},1.3899999999999999E-2,{"$f":"E378*H378","v":1.3899999999999999E-2},null,{"$f":"E378*J378","v":0},null,null,null,2,null,null,null,null,null,null,null,null,null,null,null,3,1,"55259820.R",null,null,null,null,null,null,null,null,null,null,null,null,null,null,null,null,null,null,null,null,null,null,1,{"$f":"IF(AZ378=1,G378,0)","v":0},{"$f":"IF(AZ378=2,G378,0)","v":0},{"$f":"IF(AZ378=3,G378,0)","v":0},{"$f":"IF(AZ378=4,G378,0)","v":0},{"$f":"IF(AZ378=5,G378,0)","v":0},null,null,null,null,null,null,null,null,null,null,null,null,null,null,null,null,null,null,null,null,null,3,1]
[null,null,"Řad \"A8-2\" PE D 110x10,0 mm:",null,0,null,null,null,null,null,null,null,"Řad \"A8-2\" PE D 110x10,0 mm:"]
[null,null,"T DN150/150:1",null,1,null,null,null,null,null,null,null,"T DN150/150:1"]
[71,"552599943.R","Tvarovka přír. s přír. odb. T DN 100/80","kus",2,null,{"$f":"E381*F381","v":0},1.78E-2,{"$f":"E381*H381","v":3.56E-2},null,{"$f":"E381*J381","v":0},null,null,null,2,null,null,null,null,null,null,null,null,null,null,null,3,1,"552599943.R",null,null,null,null,null,null,null,null,null,null,null,null,null,null,null,null,null,null,null,null,null,null,1,{"$f":"IF(AZ381=1,G381,0)","v":0},{"$f":"IF(AZ381=2,G381,0)","v":0},{"$f":"IF(AZ381=3,G381,0)","v":0},{"$f":"IF(AZ381=4,G381,0)","v":0},{"$f":"IF(AZ381=5,G381,0)","v":0},null,null,null,null,null,null,null,null,null,null,null,null,null,null,null,null,null,null,null,null,null,3,1]
[null,null,"Řad \"A8-2\" PE D 110x10,0 mm:",null,0,null,null,null,null,null,null,null,"Řad \"A8-2\" PE D 110x10,0 mm:"]
[null,null,"T DN100/80:2",null,2,null,null,null,null,null,null,null,"T DN100/80:2"]
[72,"552599944.R","Tvarovka přír. s přír. odb. T DN 100/100","kus",1,null,{"$f":"E384*F384","v":0},1.9699999999999999E-2,{"$f":"E384*H384","v":1.9699999999999999E-2},null,{"$f":"E384*J384","v":0},null,null,null,2,null,null,null,null,null,null,null,null,null,null,null,3,1,"552599944.R",null,null,null,null,null,null,null,null,null,null,null,null,null,null,null,null,null,null,null,null,null,null,1,{"$f":"IF(AZ384=1,G384,0)","v":0},{"$f":"IF(AZ384=2,G384,0)","v":0},{"$f":"IF(AZ384=3,G384,0)","v":0},{"$f":"IF(AZ384=4,G384,0)","v":0},{"$f":"IF(AZ384=5,G384,0)","v":0},null,null,null,null,null,null,null,null,null,null,null,null,null,null,null,null,null,null,null,null,null,3,1]
[null,null,"Řad \"A8-2\" PE D 110x10,0 mm:",null,0,null,null,null,null,null,null,null,"Řad \"A8-2\" PE D 110x10,0 mm:"]
[null,null,"T DN100/100:1",null,1,null,null,null,null,null,null,null,"T DN100/100:1"]
[73,"552599956.R","Tvarovka přír. s přír. odb. T DN 150/150","kus",1,null,{"$f":"E387*F387","v":0},2.9899999999999999E-2,{"$f":"E387*H387","v":2.9899999999999999E-2},null,{"$f":"E387*J387","v":0},null,null,null,2,null,null,null,null,null,null,null,null,null,null,null,3,1,"552599956.R",null,null,null,null,null,null,null,null,null,null,null,null,null,null,null,null,null,null,null,null,null,null,1,{"$f":"IF(AZ387=1,G387,0)","v":0},{"$f":"IF(AZ387=2,G387,0)","v":0},{"$f":"IF(AZ387=3,G387,0)","v":0},{"$f":"IF(AZ387=4,G387,0)","v":0},{"$f":"IF(AZ387=5,G387,0)","v":0},null,null,null,null,null,null,null,null,null,null,null,null,null,null,null,null,null,null,null,null,null,3,1]
[null,null,"Řad \"A8-2\" PE D 110x10,0 mm:",null,0,null,null,null,null,null,null,null,"Řad \"A8-2\" PE D 110x10,0 mm:"]
[null,null,"T DN150/150:1",null,1,null,null,null,null,null,null,null,"T DN150/150:1"]
[74,"5526009705.R","Koleno prodloužené přír.s patkou PPL DN 80","kus",2,null,{"$f":"E390*F390","v":0},1.2200000000000001E-2,{"$f":"E390*H390","v":2.4400000000000002E-2},null,{"$f":"E390*J390","v":0},null,null,null,2,null,null,null,null,null,null,null,null,null,null,null,3,1,"5526009705.R",null,null,null,null,null,null,null,null,null,null,null,null,null,null,null,null,null,null,null,null,null,null,1,{"$f":"IF(AZ390=1,G390,0)","v":0},{"$f":"IF(AZ390=2,G390,0)","v":0},{"$f":"IF(AZ390=3,G390,0)","v":0},{"$f":"IF(AZ390=4,G390,0)","v":0},{"$f":"IF(AZ390=5,G390,0)","v":0},null,null,null,null,null,null,null,null,null,null,null,null,null,null,null,null,null,null,null,null,null,3,1]
[null,null,"Řad \"A8-2\" PE D 110x10,0 mm:",null,0,null,null,null,null,null,null,null,"Řad \"A8-2\" PE D 110x10,0 mm:"]
[null,null,"PPL DN80:2",null,2,null,null,null,null,null,null,null,"PPL DN80:2"]
[null,"Celkem za","8 Trubní vedení",null,null,null,{"$f":"SUM(G131:G392)","v":0},null,{"$f":"SUM(I131:I392)","v":1.5911519999999999},null,{"$f":"SUM(K131:K392)","v":0},null,null,null,4,null,null,null,null,null,null,null,null,null,null,null,null,null,null,null,null,null,null,null,null,null,null,null,null,null,null,null,null,null,null,null,null,null,null,null,null,null,{"$f":"SUM(BA131:BA392)","v":0},{"$f":"SUM(BB131:BB392)","v":0},{"$f":"SUM(BC131:BC392)","v":0},{"$f":"SUM(BD131:BD392)","v":0},{"$f":"SUM(BE131:BE392)","v":0}]
["Díl:","89","Ostatní konstrukce na trubním vedení",null,null,null,null,null,null,null,null,null,null,null,1]
[75,"899 01-0001.RRX","Provizorní vodovod PE100 RC1 D 90x5,4 mm včetně příslušných tvarovek a propojů","m",274,null,{"$f":"E395*F395","v":0},0,{"$f":"E395*H395","v":0},null,{"$f":"E395*J395","v":0},null,null,null,2,null,null,null,null,null,null,null,null,null,null,null,12,0,11,null,null,null,null,null,null,null,null,null,null,null,null,null,null,null,null,null,null,null,null,null,null,1,{"$f":"IF(AZ395=1,G395,0)","v":0},{"$f":"IF(AZ395=2,G395,0)","v":0},{"$f":"IF(AZ395=3,G395,0)","v":0},{"$f":"IF(AZ395=4,G395,0)","v":0},{"$f":"IF(AZ395=5,G395,0)","v":0},null,null,null,null,null,null,null,null,null,null,null,null,null,null,null,null,null,null,null,null,null,12,0]
[null,null,"Součástí položky je ",null,null,null,null,null,null,null,null,"Součástí položky je ",null,null,3]
[null,null,"- Dodávka a montáž příslušného potrubí ",null,null,null,null,null,null,null,null,"- Dodávka a montáž příslušného potrubí ",null,null,3]
[null,null,"- Dodávka a montáž propojovacích tvarovek a armatur dle zvolené technologie zhotovitelem potřebné pro provoz provizorního vodovou",null,null,null,null,null,null,null,null,"- Dodávka a montáž propojovacích tvarovek a armatur dle zvolené technologie zhotovitelem potřebné pro provoz provizorního vodovou",null,null,3]
[null,null,"- Přerušení stávajícího potrubí pro napojení provizorního vodovodu",null,null,null,null,null,null,null,null,"- Přerušení stávajícího potrubí pro napojení provizorního vodovodu",null,null,3]
[null,null,"- Provedení tlakové zkoušky včetně proplachu a desinfekce potrubí dle ČSN",null,null,null,null,null,null,null,null,"- Provedení tlakové zkoušky včetně proplachu a desinfekce potrubí dle ČSN",null,null,3]
[null,null,"- Potředné zemní práce pro provedení propojů včetně případného odstranění konstrukcí komunikací a chodníků a provizorní úprava povrchů v prostoru vedení provizorního vodovodu",null,null,null,null,null,null,null,null,"- Potředné zemní práce pro provedení propojů včetně případného odstranění konstrukcí komunikací a chodníků a provizorní úprava povrchů v prostoru vedení provizorního vodovodu",null,null,3]
[null,null,"- Demontáž a odpojení propojů provizorního vodovodu  včetně potřebných zemních prací.",null,null,null,null,null,null,null,null,"- Demontáž a odpojení propojů provizorního vodovodu  včetně potřebných zemních prací.",null,null,3]
[null,null,"- Likvidace veškerého materiálu provizorních vodovodů ",null,null,null,null,null,null,null,null,"- Likvidace veškerého materiálu provizorních vodovodů ",null,null,3]
[null,null,"- Součástí položky jsou i náklady na přesuny materiálů - Součástí položky jsou náklady zhotovitele na poplatky za skládky materiálu",null,null,null,null,null,null,null,null,"- Součástí položky jsou i náklady na přesuny materiálů - Součástí položky jsou náklady zhotovitele na poplatky za skládky materiálu",null,null,3]
[76,"899 02-0001.RRX","Provizorní VP PE100 RC1 D32x3,0 mm - délky do 10 m vč. příslušných tvarovek a armatur","soubor",9,null,{"$f":"E405*F405","v":0},0,{"$f":"E405*H405","v":0},null,{"$f":"E405*J405","v":0},null,null,null,2,null,null,null,null,null,null,null,null,null,null,null,12,0,12,null,null,null,null,null,null,null,null,null,null,null,null,null,null,null,null,null,null,null,null,null,null,1,{"$f":"IF(AZ405=1,G405,0)","v":0},{"$f":"IF(AZ405=2,G405,0)","v":0},{"$f":"IF(AZ405=3,G405,0)","v":0},{"$f":"IF(AZ405=4,G405,0)","v":0},{"$f":"IF(AZ405=5,G405,0)","v":0},null,null,null,null,null,null,null,null,null,null,null,null,null,null,null,null,null,null,null,null,null,12,0]
[null,null,"Součástí položky je ",null,null,null,null,null,null,null,null,"Součástí položky je ",null,null,3]
[null,null,"- Dodávka a montáž příslušného potrubí dle PD ",null,null,null,null,null,null,null,null,"- Dodávka a montáž příslušného potrubí dle PD ",null,null,3]
[null,null,"- Dodávka a montáž propojovacích tvarovek a armatur dle zvolené technologie zhotovitelem potřebné pro provoz provizorního propojení VP",null,null,null,null,null,null,null,null,"- Dodávka a montáž propojovacích tvarovek a armatur dle zvolené technologie zhotovitelem potřebné pro provoz provizorního propojení VP",null,null,3]
[null,null,"- Přerušení stávajícího potrubí přípojky",null,null,null,null,null,null,null,null,"- Přerušení stávajícího potrubí přípojky",null,null,3]
[null,null,"- Provedení tlakové zkoušky včetně proplachu a desinfekce potrubí dle ČSN",null,null,null,null,null,null,null,null,"- Provedení tlakové zkoušky včetně proplachu a desinfekce potrubí dle ČSN",null,null,3]
[null,null,"- Potředné zemní práce pro provedení propoje včetně případného odstranění konstrukcí komunikací a provizorní úprava povrchů v prostoru vedení provizorního vodovodu",null,null,null,null,null,null,null,null,"- Potředné zemní práce pro provedení propoje včetně případného odstranění konstrukcí komunikací a provizorní úprava povrchů v prostoru vedení provizorního vodovodu",null,null,3]
[null,null,"- Demontáž a odpojení propojů provizorní přípojky  včetně potřebných zemních prací.",null,null,null,null,null,null,null,null,"- Demontáž a odpojení propojů provizorní přípojky  včetně potřebných zemních prací.",null,null,3]
[null,null,"- Likvidace veškerého materiálu provizorních vodovodních přípojek",null,null,null,null,null,null,null,null,"- Likvidace veškerého materiálu provizorních vodovodních přípojek",null,null,3]
[null,null,"- Součástí položky jsou i náklady na přesuny materiálů - Součástí položky jsou náklady zhotovitele na poplatky za skládky materiálu",null,null,null,null,null,null,null,null,"- Součástí položky jsou i náklady na přesuny materiálů - Součástí položky jsou náklady zhotovitele na poplatky za skládky materiálu",null,null,3]
[null,"Celkem za","89 Ostatní konstrukce na trubním vedení",null,null,null,{"$f":"SUM(G394:G414)","v":0},null,{"$f":"SUM(I394:I414)","v":0},null,{"$f":"SUM(K394:K414)","v":0},null,null,null,4,null,null,null,null,null,null,null,null,null,null,null,null,null,null,null,null,null,null,null,null,null,null,null,null,null,null,null,null,null,null,null,null,null,null,null,null,null,{"$f":"SUM(BA394:BA414)","v":0},{"$f":"SUM(BB394:BB414)","v":0},{"$f":"SUM(BC394:BC414)","v":0},{"$f":"SUM(BD394:BD414)","v":0},{"$f":"SUM(BE394:BE414)","v":0}]
["Díl:","93","Dokončovací práce inženýrských staveb",null,null,null,null,null,null,null,null,null,null,null,1]
[77,"939421121RT1","Osazení samonivelač.vodovod.poklopu za finišerem bez dodávky poklopu","kus",17,null,{"$f":"E417*F417","v":0},5.2499999999999998E-2,{"$f":"E417*H417","v":0.89249999999999996},0,{"$f":"E417*J417","v":0},null,null,null,2,null,null,null,null,null,null,null,null,null,null,null,1,0,0,null,null,null,null,null,null,null,null,null,null,null,null,null,null,null,null,null,null,null,null,null,null,1,{"$f":"IF(AZ417=1,G417,0)","v":0},{"$f":"IF(AZ417=2,G417,0)","v":0},{"$f":"IF(AZ417=3,G417,0)","v":0},{"$f":"IF(AZ417=4,G417,0)","v":0},{"$f":"IF(AZ417=5,G417,0)","v":0},null,null,null,null,null,null,null,null,null,null,null,null,null,null,null,null,null,null,null,null,null,1,0]
[null,null,"Položka obsahuje:",null,null,null,null,null,null,null,null,"Položka obsahuje:",null,null,3]
[null,null,"- osazení prefabrikovaného betonového prstence do rychletuhnoucí malty (s dodávkou hmot)",null,null,null,null,null,null,null,null,"- osazení prefabrikovaného betonového prstence do rychletuhnoucí malty (s dodávkou hmot)",null,null,3]
[null,null,"- zalití prstence rychletuhnoucí zálivkou do výše prstence (s dodávkou hmoty)",null,null,null,null,null,null,null,null,"- zalití prstence rychletuhnoucí zálivkou do výše prstence (s dodávkou hmoty)",null,null,3]
[null,null,"- vložení kruhového bednění",null,null,null,null,null,null,null,null,"- vložení kruhového bednění",null,null,3]
[null,null,"- doplnění mezikruží asfaltovou směsí do výšky současné podkladní vrstvy, zhutnění",null,null,null,null,null,null,null,null,"- doplnění mezikruží asfaltovou směsí do výšky současné podkladní vrstvy, zhutnění",null,null,3]
[null,null,"- vyjmutí kruhového bednění",null,null,null,null,null,null,null,null,"- vyjmutí kruhového bednění",null,null,3]
[null,null,"- osazení poklopu a zatlačení",null,null,null,null,null,null,null,null,"- osazení poklopu a zatlačení",null,null,3]
[null,null,"  (následuje pokládka finální vrstvy vozovky - není součástí položky)",null,null,null,null,null,null,null,null,"  (následuje pokládka finální vrstvy vozovky - není součástí položky)",null,null,3]
[null,null,"- povytažení poklopu",null,null,null,null,null,null,null,null,"- povytažení poklopu",null,null,3]
[null,null,"- podsyp asfaltovou směsí, spuštění poklopu a zhutnění směsi",null,null,null,null,null,null,null,null,"- podsyp asfaltovou směsí, spuštění poklopu a zhutnění směsi",null,null,3]
[null,null,"Položka neobsahuje:",null,null,null,null,null,null,null,null,"Položka neobsahuje:",null,null,3]
[null,null,"- dodávku samonivelačního poklopu - oceňuje se ve specifikaci",null,null,null,null,null,null,null,null,"- dodávku samonivelačního poklopu - oceňuje se ve specifikaci",null,null,3]
[null,null,"- pokládku krycí vrstvy komunikace, oceňuje se samostatně",null,null,null,null,null,null,null,null,"- pokládku krycí vrstvy komunikace, oceňuje se samostatně",null,null,3]
[null,null,"Řad \"A8-2\" PE D 110x10,0 mm:",null,0,null,null,null,null,null,null,null,"Řad \"A8-2\" PE D 110x10,0 mm:"]
[null,null,"Pro NP DAV (KIT) PE D110/32:9",null,9,null,null,null,null,null,null,null,"Pro NP DAV (KIT) PE D110/32:9"]
[null,null,"Pro Šoupě DN80:2",null,2,null,null,null,null,null,null,null,"Pro Šoupě DN80:2"]
[null,null,"Pro Šoupě DN100:4",null,4,null,null,null,null,null,null,null,"Pro Šoupě DN100:4"]
[null,null,"Pro Šoupě DN150:2",null,2,null,null,null,null,null,null,null,"Pro Šoupě DN150:2"]
[78,"422913520.R","Poklop luliční samonivelační přípojkový D400","kus",9,null,{"$f":"E436*F436","v":0},1.2E-2,{"$f":"E436*H436","v":0.108},null,{"$f":"E436*J436","v":0},null,null,null,2,null,null,null,null,null,null,null,null,null,null,null,3,1,"422913520.R",null,null,null,null,null,null,null,null,null,null,null,null,null,null,null,null,null,null,null,null,null,null,1,{"$f":"IF(AZ436=1,G436,0)","v":0},{"$f":"IF(AZ436=2,G436,0)","v":0},{"$f":"IF(AZ436=3,G436,0)","v":0},{"$f":"IF(AZ436=4,G436,0)","v":0},{"$f":"IF(AZ436=5,G436,0)","v":0},null,null,null,null,null,null,null,null,null,null,null,null,null,null,null,null,null,null,null,null,null,3,1]
[null,null,"Uliční samonivelační poklop přípojkový z tvárné litiny dle ČSN EN 124",null,null,null,null,null,null,null,null,"Uliční samonivelační poklop přípojkový z tvárné litiny dle ČSN EN 124",null,null,3]
[null,null,"Rozpětí stavební výšky 195 - 285 mm s fixací polohy",null,null,null,null,null,null,null,null,"Rozpětí stavební výšky 195 - 285 mm s fixací polohy",null,null,3]
[null,null,"Výklopové víko spojeno s rámem čepem a opatřeno ochrannou a těsnící vrstvou proti vnikání nečistot",null,null,null,null,null,null,null,null,"Výklopové víko spojeno s rámem čepem a opatřeno ochrannou a těsnící vrstvou proti vnikání nečistot",null,null,3]
[null,null,"Tlumicí vložka z elastomeru a PUR",null,null,null,null,null,null,null,null,"Tlumicí vložka z elastomeru a PUR",null,null,3]
[null,null,"Možnost vlastního loga a barevného provedení",null,null,null,null,null,null,null,null,"Možnost vlastního loga a barevného provedení",null,null,3]
[null,null,"Řad \"A8-2\" PE D 110x10,0 mm:",null,0,null,null,null,null,null,null,null,"Řad \"A8-2\" PE D 110x10,0 mm:"]
[null,null,"Pro NP DAV (KIT) PE D110/32:9",null,9,null,null,null,null,null,null,null,"Pro NP DAV (KIT) PE D110/32:9"]
[79,"422913521.R","Poklop litinový samonivelační šoupátkový D400","kus",8,null,{"$f":"E444*F444","v":0},1.2E-2,{"$f":"E444*H444","v":9.6000000000000002E-2},null,{"$f":"E444*J444","v":0},null,null,null,2,null,null,null,null,null,null,null,null,null,null,null,3,1,"422913521.R",null,null,null,null,null,null,null,null,null,null,null,null,null,null,null,null,null,null,null,null,null,null,1,{"$f":"IF(AZ444=1,G444,0)","v":0},{"$f":"IF(AZ444=2,G444,0)","v":0},{"$f":"IF(AZ444=3,G444,0)","v":0},{"$f":"IF(AZ444=4,G444,0)","v":0},{"$f":"IF(AZ444=5,G444,0)","v":0},null,null,null,null,null,null,null,null,null,null,null,null,null,null,null,null,null,null,null,null,null,3,1]
[null,null,"Uliční samonivelační šoupátkový poklop z tvárné litiny dle ČSN EN 124",null,null,null,null,null,null,null,null,"Uliční samonivelační šoupátkový poklop z tvárné litiny dle ČSN EN 124",null,null,3]
[null,null,"Rozpětí stavební výšky 195 - 285 mm s fixací polohy",null,null,null,null,null,null,null,null,"Rozpětí stavební výšky 195 - 285 mm s fixací polohy",null,null,3]
[null,null,"Výklopové víko spojeno s rámem čepem a opatřeno ochrannou a těsnící vrstvou proti vnikání nečistot",null,null,null,null,null,null,null,null,"Výklopové víko spojeno s rámem čepem a opatřeno ochrannou a těsnící vrstvou proti vnikání nečistot",null,null,3]
[null,null,"Tlumicí vložka z elastomeru a PUR",null,null,null,null,null,null,null,null,"Tlumicí vložka z elastomeru a PUR",null,null,3]
[null,null,"Možnost vlastního loga a barevného provedení",null,null,null,null,null,null,null,null,"Možnost vlastního loga a barevného provedení",null,null,3]
[null,null,"Řad \"A8-2\" PE D 110x10,0 mm:",null,0,null,null,null,null,null,null,null,"Řad \"A8-2\" PE D 110x10,0 mm:"]
[null,null,"Pro Šoupě DN80:2",null,2,null,null,null,null,null,null,null,"Pro Šoupě DN80:2"]
[null,null,"Pro Šoupě DN100:4",null,4,null,null,null,null,null,null,null,"Pro Šoupě DN100:4"]
[null,null,"Pro Šoupě DN150:2",null,2,null,null,null,null,null,null,null,"Pro Šoupě DN150:2"]
[null,"Celkem za","93 Dokončovací práce inženýrských staveb",null,null,null,{"$f":"SUM(G416:G453)","v":0},null,{"$f":"SUM(I416:I453)","v":1.0965},null,{"$f":"SUM(K416:K453)","v":0},null,null,null,4,null,null,null,null,null,null,null,null,null,null,null,null,null,null,null,null,null,null,null,null,null,null,null,null,null,null,null,null,null,null,null,null,null,null,null,null,null,{"$f":"SUM(BA416:BA453)","v":0},{"$f":"SUM(BB416:BB453)","v":0},{"$f":"SUM(BC416:BC453)","v":0},{"$f":"SUM(BD416:BD453)","v":0},{"$f":"SUM(BE416:BE453)","v":0}]
["Díl:","99","Staveništní přesun hmot",null,null,null,null,null,null,null,null,null,null,null,1]
[80,"998276101RXX","Přesun hmot, trubní vedení plastová, otevř. výkop pro celý rozsah objektu","t",677.60929768000005,null,{"$f":"E456*F456","v":0},0,{"$f":"E456*H456","v":0},null,{"$f":"E456*J456","v":0},null,null,null,2,null,null,null,null,null,null,null,null,null,null,null,7,1,2,null,null,null,null,null,null,null,null,null,null,null,null,null,null,null,null,null,null,null,null,null,null,1,{"$f":"IF(AZ456=1,G456,0)","v":0},{"$f":"IF(AZ456=2,G456,0)","v":0},{"$f":"IF(AZ456=3,G456,0)","v":0},{"$f":"IF(AZ456=4,G456,0)","v":0},{"$f":"IF(AZ456=5,G456,0)","v":0},null,null,null,null,null,null,null,null,null,null,null,null,null,null,null,null,null,null,null,null,null,7,1]
[null,null,"Staveništní doprava pro celý rozsah objektu - doprava zmeziskládek vybudovaného zařízení staveniště zhotovitele na jednotlivé části staveniště.",null,null,null,null,null,null,null,null,"Staveništní doprava pro celý rozsah objektu - doprava zmeziskládek vybudovaného zařízení staveniště zhotovitele na jednotlivé části staveniště.",null,null,3]
[null,"Celkem za","99 Staveništní přesun hmot",null,null,null,{"$f":"SUM(G455:G457)","v":0},null,{"$f":"SUM(I455:I457)","v":0},null,{"$f":"SUM(K455:K457)","v":0},null,null,null,4,null,null,null,null,null,null,null,null,null,null,null,null,null,null,null,null,null,null,null,null,null,null,null,null,null,null,null,null,null,null,null,null,null,null,null,null,null,{"$f":"SUM(BA455:BA457)","v":0},{"$f":"SUM(BB455:BB457)","v":0},{"$f":"SUM(BC455:BC457)","v":0},{"$f":"SUM(BD455:BD457)","v":0},{"$f":"SUM(BE455:BE457)","v":0}]

{"sheet":"1.E 01 1.E 01.3 KL","index":16,"n_rows":45,"n_cols":8,"rows_kept":45,"cut":false,"hidden":false,"merged":[[50,1,50,6],[29,5,29,6],[30,5,30,6],[31,5,31,6],[32,5,32,6],[33,5,33,6],[36,1,44,6],[45,1,45,6],[46,1,46,6],[47,1,47,6],[48,1,48,6],[49,1,49,6],[22,0,22,1],[7,2,7,4],[8,2,8,4],[9,2,9,4],[10,2,10,4],[11,2,11,4]]}
["POLOŽKOVÝ ROZPOČET"]
["Rozpočet",null,"1.E 01.3","Odstavení stávajícího vodovodního řadu",null,"JKSO ","827.11"]
[]
["Objekt",null,null,null,null,"SKP "]
["1.E 01",null,"Vodovody",null,null,"Měrná jednotka","m"]
["Stavba",null,null,null,null,"Počet jednotek",0]
["3403",null,"Jilemnice - Optimalizace VS a komunikace I.Etapa",null,null,"Náklady na m.j.",{"$f":"IF(G6=0,,ROUND((F30+F32)/G6,1))","v":0}]
["Projektant",null,"Vodohospodářsko - inženýrské služby spol. s r.o.",null,null,"Typ rozpočtu"]
["Zpracovatel projektu"]
["Objednatel",null,"Vodohospodářské sdružení Turnov"]
["Dodavatel",null,".",null,null,"Zakázkové číslo "]
["Rozpočtoval",null,null,null,null,"Počet listů"]
["ROZPOČTOVÉ NÁKLADY"]
["Základní rozpočtové náklady"]
[null,"HSV celkem",{"$f":"'1.E 01 1.E 01.3 Rek'!E8","v":0}]
["Z","PSV celkem",{"$f":"'1.E 01 1.E 01.3 Rek'!F8","v":0}]
["R","M práce celkem",{"$f":"'1.E 01 1.E 01.3 Rek'!H8","v":0}]
["N","M dodávky celkem",{"$f":"'1.E 01 1.E 01.3 Rek'!G8","v":0}]
["ZRN celkem",null,{"$f":"SUM(C15:C18)","v":0}]
[]
["HZS",null,{"$f":"'1.E 01 1.E 01.3 Rek'!I8","v":0}]
["ZRN+HZS",null,{"$f":"C19+C21","v":0}]
["ZRN+ost.náklady+HZS",null,{"$f":"C22+G23","v":0}]
["Vypracoval",null,null,"Za zhotovitele",null,"Za objednatele"]
["Jméno :",null,null,"Jméno :",null,"Jméno :"]
["Datum :",null,null,"Datum :",null,"Datum :"]
[]
["Podpis :",null,null,"Podpis:",null,"Podpis:"]
[]
["Základ pro DPH",null,21,"%  ",null,{"$f":"C23-F32","v":0}]
["DPH",null,{"$f":"C30","v":21},"% ",null,{"$f":"ROUND(PRODUCT(F30,C31/100),0)","v":0}]
["Základ pro DPH",null,0,"% ",null,0]
["DPH",null,{"$f":"C32","v":0},"% ",null,{"$f":"ROUND(PRODUCT(F32,C33/100),0)","v":0}]
["CENA ZA OBJEKT CELKEM",null,null,null,null,{"$f":"ROUND(SUM(F30:F33),0)","v":0}]
[]
["Poznámka :",null,null,null,null,null,null," "]
[null,null,null,null,null,null,null," "]
[null,null,null,null,null,null,null," "]
[null,null,null,null,null,null,null," "]
[null,null,null,null,null,null,null," "]
[null,null,null,null,null,null,null," "]
[null,null,null,null,null,null,null," "]
[null,null,null,null,null,null,null," "]
[null,null,null,null,null,null,null," "]
[null,null,null,null,null,null,null," "]

{"sheet":"1.E 01 1.E 01.3 Rek","index":17,"n_rows":8,"n_cols":9,"rows_kept":8,"cut":false,"hidden":false,"merged":[[0,0,0,1],[1,0,1,1],[1,6,1,8]]}
["Stavba :",null,"3403 Jilemnice - Optimalizace VS a komunikace",null,null,null,"Rozpočet :","1.E 01.3"]
["Objekt :",null,"1.E 01 Vodovody",null,null,null,"Odstavení stávajícího vodovodního řadu"]
[]
["REKAPITULACE  STAVEBNÍCH  DÍLŮ"]
[]
[null,"Stavební díl",null,null,"HSV","PSV","Dodávka","Montáž","HZS"]
[{"$f":"'1.E 01 1.E 01.3 Pol'!B7","v":"8"},{"$f":"'1.E 01 1.E 01.3 Pol'!C7","v":"Trubní vedení"},null,null,{"$f":"'1.E 01 1.E 01.3 Pol'!BA13","v":0},{"$f":"'1.E 01 1.E 01.3 Pol'!BB13","v":0},{"$f":"'1.E 01 1.E 01.3 Pol'!BC13","v":0},{"$f":"'1.E 01 1.E 01.3 Pol'!BD13","v":0},{"$f":"'1.E 01 1.E 01.3 Pol'!BE13","v":0}]
[null,"CELKEM  OBJEKT",null,null,{"$f":"SUM(E7:E7)","v":0},{"$f":"SUM(F7:F7)","v":0},{"$f":"SUM(G7:G7)","v":0},{"$f":"SUM(H7:H7)","v":0},{"$f":"SUM(I7:I7)","v":0}]

{"sheet":"1.E 01 1.E 01.3 Pol","index":18,"n_rows":13,"n_cols":80,"rows_kept":13,"cut":false,"hidden":false,"merged":[[9,2,9,6],[10,2,10,6],[11,2,11,6],[0,0,0,6],[2,0,2,1],[3,0,3,1],[3,4,3,6],[8,2,8,6]]}
["Položkový rozpočet "]
[]
["Stavba :",null,"3403 Jilemnice - Optimalizace VS a komunikace",null,"Rozpočet:",{"$f":"'1.E 01 1.E 01.3 Rek'!H1","v":"1.E 01.3"}]
["Objekt :",null,"1.E 01 Vodovody",null,{"$f":"'1.E 01 1.E 01.3 Rek'!G2","v":"Odstavení stávajícího vodovodního řadu"}]
[]
["P.č.","Číslo položky","Název položky","MJ","množství","cena / MJ","celkem (Kč)","Jednotková hmotnost","Celková hmotnost","Jednotková dem.hmot.","Celková dem.hmot."]
["Díl:","8","Trubní vedení",null,null,null,null,null,null,null,null,null,null,null,1]
[1,"899 10-5001.RRX","Přerušení stávajícího vodovodního řadu TLT DN100 ","kpl",2,null,{"$f":"E8*F8","v":0},0,{"$f":"E8*H8","v":0},null,{"$f":"E8*J8","v":0},null,null,null,2,null,null,null,null,null,null,null,null,null,null,null,12,0,1,null,null,null,null,null,null,null,null,null,null,null,null,null,null,null,null,null,null,null,null,null,null,1,{"$f":"IF(AZ8=1,G8,0)","v":0},{"$f":"IF(AZ8=2,G8,0)","v":0},{"$f":"IF(AZ8=3,G8,0)","v":0},{"$f":"IF(AZ8=4,G8,0)","v":0},{"$f":"IF(AZ8=5,G8,0)","v":0},null,null,null,null,null,null,null,null,null,null,null,null,null,null,null,null,null,null,null,null,null,12,0]
[null,null,"Součástí položky je:",null,null,null,null,null,null,null,null,"Součástí položky je:",null,null,3]
[null,null,"- potředné kompletní zemní práce (vákopy, zásypy a pod.)",null,null,null,null,null,null,null,null,"- potředné kompletní zemní práce (vákopy, zásypy a pod.)",null,null,3]
[null,null,"- demontáž stávajících armatur ",null,null,null,null,null,null,null,null,"- demontáž stávajících armatur ",null,null,3]
[null,null,"- zaslepení stávajícího potrubí DN100",null,null,null,null,null,null,null,null,"- zaslepení stávajícího potrubí DN100",null,null,3]
[null,"Celkem za","8 Trubní vedení",null,null,null,{"$f":"SUM(G7:G12)","v":0},null,{"$f":"SUM(I7:I12)","v":0},null,{"$f":"SUM(K7:K12)","v":0},null,null,null,4,null,null,null,null,null,null,null,null,null,null,null,null,null,null,null,null,null,null,null,null,null,null,null,null,null,null,null,null,null,null,null,null,null,null,null,null,null,{"$f":"SUM(BA7:BA12)","v":0},{"$f":"SUM(BB7:BB12)","v":0},{"$f":"SUM(BC7:BC12)","v":0},{"$f":"SUM(BD7:BD12)","v":0},{"$f":"SUM(BE7:BE12)","v":0}]

{"sheet":"1.E 01 1.E 01.4 KL","index":19,"n_rows":45,"n_cols":8,"rows_kept":45,"cut":false,"hidden":false,"merged":[[50,1,50,6],[29,5,29,6],[30,5,30,6],[31,5,31,6],[32,5,32,6],[33,5,33,6],[36,1,44,6],[45,1,45,6],[46,1,46,6],[47,1,47,6],[48,1,48,6],[49,1,49,6],[22,0,22,1],[7,2,7,4],[8,2,8,4],[9,2,9,4],[10,2,10,4],[11,2,11,4]]}
["POLOŽKOVÝ ROZPOČET"]
["Rozpočet",null,"1.E 01.4","Nové vodovodní body Hrabačov",null,"JKSO ","827.11"]
[]
["Objekt",null,null,null,null,"SKP "]
["1.E 01",null,"Vodovody",null,null,"Měrná jednotka","m"]
["Stavba",null,null,null,null,"Počet jednotek",0]
["3403",null,"Jilemnice - Optimalizace VS a komunikace I.Etapa",null,null,"Náklady na m.j.",{"$f":"IF(G6=0,,ROUND((F30+F32)/G6,1))","v":0}]
["Projektant",null,"Vodohospodářsko - inženýrské služby spol. s r.o.",null,null,"Typ rozpočtu"]
["Zpracovatel projektu"]
["Objednatel",null,"Vodohospodářské sdružení Turnov"]
["Dodavatel",null,".",null,null,"Zakázkové číslo "]
["Rozpočtoval",null,null,null,null,"Počet listů"]
["ROZPOČTOVÉ NÁKLADY"]
["Základní rozpočtové náklady"]
[null,"HSV celkem",{"$f":"'1.E 01 1.E 01.4 Rek'!E12","v":0}]
["Z","PSV celkem",{"$f":"'1.E 01 1.E 01.4 Rek'!F12","v":0}]
["R","M práce celkem",{"$f":"'1.E 01 1.E 01.4 Rek'!H12","v":0}]
["N","M dodávky celkem",{"$f":"'1.E 01 1.E 01.4 Rek'!G12","v":0}]
["ZRN celkem",null,{"$f":"SUM(C15:C18)","v":0}]
[]
["HZS",null,{"$f":"'1.E 01 1.E 01.4 Rek'!I12","v":0}]
["ZRN+HZS",null,{"$f":"C19+C21","v":0}]
["ZRN+ost.náklady+HZS",null,{"$f":"C22+G23","v":0}]
["Vypracoval",null,null,"Za zhotovitele",null,"Za objednatele"]
["Jméno :",null,null,"Jméno :",null,"Jméno :"]
["Datum :",null,null,"Datum :",null,"Datum :"]
[]
["Podpis :",null,null,"Podpis:",null,"Podpis:"]
[]
["Základ pro DPH",null,21,"%  ",null,{"$f":"C23-F32","v":0}]
["DPH",null,{"$f":"C30","v":21},"% ",null,{"$f":"ROUND(PRODUCT(F30,C31/100),0)","v":0}]
["Základ pro DPH",null,0,"% ",null,0]
["DPH",null,{"$f":"C32","v":0},"% ",null,{"$f":"ROUND(PRODUCT(F32,C33/100),0)","v":0}]
["CENA ZA OBJEKT CELKEM",null,null,null,null,{"$f":"ROUND(SUM(F30:F33),0)","v":0}]
[]
["Poznámka :",null,null,null,null,null,null," "]
[null,null,null,null,null,null,null," "]
[null,null,null,null,null,null,null," "]
[null,null,null,null,null,null,null," "]
[null,null,null,null,null,null,null," "]
[null,null,null,null,null,null,null," "]
[null,null,null,null,null,null,null," "]
[null,null,null,null,null,null,null," "]
[null,null,null,null,null,null,null," "]
[null,null,null,null,null,null,null," "]

{"sheet":"1.E 01 1.E 01.4 Rek","index":20,"n_rows":12,"n_cols":9,"rows_kept":12,"cut":false,"hidden":false,"merged":[[0,0,0,1],[1,0,1,1],[1,6,1,8]]}
["Stavba :",null,"3403 Jilemnice - Optimalizace VS a komunikace",null,null,null,"Rozpočet :","1.E 01.4"]
["Objekt :",null,"1.E 01 Vodovody",null,null,null,"Nové vodovodní body Hrabačov"]
[]
["REKAPITULACE  STAVEBNÍCH  DÍLŮ"]
[]
[null,"Stavební díl",null,null,"HSV","PSV","Dodávka","Montáž","HZS"]
[{"$f":"'1.E 01 1.E 01.4 Pol'!B7","v":"1"},{"$f":"'1.E 01 1.E 01.4 Pol'!C7","v":"Zemní práce"},null,null,{"$f":"'1.E 01 1.E 01.4 Pol'!BA107","v":0},{"$f":"'1.E 01 1.E 01.4 Pol'!BB107","v":0},{"$f":"'1.E 01 1.E 01.4 Pol'!BC107","v":0},{"$f":"'1.E 01 1.E 01.4 Pol'!BD107","v":0},{"$f":"'1.E 01 1.E 01.4 Pol'!BE107","v":0}]
[{"$f":"'1.E 01 1.E 01.4 Pol'!B108","v":"45"},{"$f":"'1.E 01 1.E 01.4 Pol'!C108","v":"Podkladní a vedlejší konstrukce"},null,null,{"$f":"'1.E 01 1.E 01.4 Pol'!BA116","v":0},{"$f":"'1.E 01 1.E 01.4 Pol'!BB116","v":0},{"$f":"'1.E 01 1.E 01.4 Pol'!BC116","v":0},{"$f":"'1.E 01 1.E 01.4 Pol'!BD116","v":0},{"$f":"'1.E 01 1.E 01.4 Pol'!BE116","v":0}]
[{"$f":"'1.E 01 1.E 01.4 Pol'!B117","v":"5"},{"$f":"'1.E 01 1.E 01.4 Pol'!C117","v":"Komunikace"},null,null,{"$f":"'1.E 01 1.E 01.4 Pol'!BA125","v":0},{"$f":"'1.E 01 1.E 01.4 Pol'!BB125","v":0},{"$f":"'1.E 01 1.E 01.4 Pol'!BC125","v":0},{"$f":"'1.E 01 1.E 01.4 Pol'!BD125","v":0},{"$f":"'1.E 01 1.E 01.4 Pol'!BE125","v":0}]
[{"$f":"'1.E 01 1.E 01.4 Pol'!B126","v":"8"},{"$f":"'1.E 01 1.E 01.4 Pol'!C126","v":"Trubní vedení"},null,null,{"$f":"'1.E 01 1.E 01.4 Pol'!BA213","v":0},{"$f":"'1.E 01 1.E 01.4 Pol'!BB213","v":0},{"$f":"'1.E 01 1.E 01.4 Pol'!BC213","v":0},{"$f":"'1.E 01 1.E 01.4 Pol'!BD213","v":0},{"$f":"'1.E 01 1.E 01.4 Pol'!BE213","v":0}]
[{"$f":"'1.E 01 1.E 01.4 Pol'!B214","v":"99"},{"$f":"'1.E 01 1.E 01.4 Pol'!C214","v":"Staveništní přesun hmot"},null,null,{"$f":"'1.E 01 1.E 01.4 Pol'!BA217","v":0},{"$f":"'1.E 01 1.E 01.4 Pol'!BB217","v":0},{"$f":"'1.E 01 1.E 01.4 Pol'!BC217","v":0},{"$f":"'1.E 01 1.E 01.4 Pol'!BD217","v":0},{"$f":"'1.E 01 1.E 01.4 Pol'!BE217","v":0}]
[null,"CELKEM  OBJEKT",null,null,{"$f":"SUM(E7:E11)","v":0},{"$f":"SUM(F7:F11)","v":0},{"$f":"SUM(G7:G11)","v":0},{"$f":"SUM(H7:H11)","v":0},{"$f":"SUM(I7:I11)","v":0}]

{"sheet":"1.E 01 1.E 01.4 Pol","index":21,"n_rows":217,"n_cols":80,"rows_kept":217,"cut":false,"hidden":false,"merged":[[209,2,209,3],[210,2,210,3],[211,2,211,3],[215,2,215,6],[202,2,202,3],[203,2,203,3],[204,2,204,3],[205,2,205,3],[206,2,206,3],[208,2,208,3],[195,2,195,3],[196,2,196,3],[197,2,197,3],[198,2,198,3],[199,2,199,3],[201,2,201,3],[188,2,188,3],[189,2,189,3],[190,2,190,3],[191,2,191,3],[193,2,193,6],[194,2,194,3],[181,2,181,3],[182,2,182,3],[183,2,183,3],[184,2,184,3],[186,2,186,3],[187,2,187,3],[174,2,174,3],[175,2,175,3],[176,2,176,3],[178,2,178,6],[179,2,179,3],[180,2,180,3],[167,2,167,3],[168,2,168,3],[170,2,170,6],[171,2,171,3],[172,2,172,3],[173,2,173,3],[160,2,160,3],[161,2,161,3],[162,2,162,3],[164,2,164,6],[165,2,165,3],[166,2,166,3],[153,2,153,3],[154,2,154,3],[155,2,155,3],[156,2,156,3],[157,2,157,3],[159,2,159,3],[147,2,147,3],[148,2,148,3],[149,2,149,3],[150,2,150,3],[151,2,151,3],[152,2,152,3],[141,2,141,3],[142,2,142,3],[143,2,143,3],[144,2,144,3],[145,2,145,3],[146,2,146,3],[135,2,135,3],[136,2,136,3],[137,2,137,3],[138,2,138,3],[139,2,139,3],[140,2,140,3],[127,2,127,6],[128,2,128,3],[129,2,129,3],[130,2,130,3],[131,2,131,3],[132,2,132,3],[133,2,133,3],[134,2,134,3],[114,2,114,3],[118,2,118,3],[119,2,119,3],[120,2,120,3],[121,2,121,3],[122,2,122,3],[123,2,123,3],[103,2,103,3],[104,2,104,3],[105,2,105,3],[109,2,109,3],[110,2,110,3],[111,2,111,3],[112,2,112,3],[113,2,113,3],[97,2,97,3],[98,2,98,3],[99,2,99,3],[100,2,100,3],[101,2,101,3],[102,2,102,3],[90,2,90,3],[91,2,91,3],[92,2,92,3],[94,2,94,3],[95,2,95,3],[96,2,96,3],[82,2,82,3],[84,2,84,3],[85,2,85,3],[87,2,87,3],[88,2,88,3],[89,2,89,3],[75,2,75,3],[77,2,77,3],[78,2,78,3],[79,2,79,3],[80,2,80,3],[81,2,81,3],[69,2,69,3],[70,2,70,3],[71,2,71,3],[72,2,72,3],[73,2,73,3],[74,2,74,3],[63,2,63,6],[64,2,64,3],[65,2,65,3],[66,2,66,3],[67,2,67,3],[68,2,68,3],[55,2,55,3],[56,2,56,3],[57,2,57,3],[59,2,59,3],[60,2,60,3],[62,2,62,6],[48,2,48,3],[50,2,50,3],[51,2,51,3],[52,2,52,3],[53,2,53,3],[54,2,54,3],[42,2,42,3],[43,2,43,3],[44,2,44,3],[45,2,45,3],[46,2,46,3],[47,2,47,3],[33,2,33,3],[35,2,35,3],[36,2,36,3],[38,2,38,3],[39,2,39,3],[41,2,41,3],[25,2,25,3],[26,2,26,3],[28,2,28,3],[29,2,29,3],[31,2,31,6],[32,2,32,3],[20,2,20,3],[21,2,21,3],[22,2,22,3],[23,2,23,3],[24,2,24,3],[13,2,13,6],[14,2,14,3],[15,2,15,3],[16,2,16,3],[17,2,17,3],[18,2,18,3],[0,0,0,6],[2,0,2,1],[3,0,3,1],[3,4,3,6],[8,2,8,6],[9,2,9,6],[10,2,10,3],[11,2,11,3],[19,2,19,3]]}
["Položkový rozpočet "]
[]
["Stavba :",null,"3403 Jilemnice - Optimalizace VS a komunikace",null,"Rozpočet:",{"$f":"'1.E 01 1.E 01.4 Rek'!H1","v":"1.E 01.4"}]
["Objekt :",null,"1.E 01 Vodovody",null,{"$f":"'1.E 01 1.E 01.4 Rek'!G2","v":"Nové vodovodní body Hrabačov"}]
[]
["P.č.","Číslo položky","Název položky","MJ","množství","cena / MJ","celkem (Kč)","Jednotková hmotnost","Celková hmotnost","Jednotková dem.hmot.","Celková dem.hmot."]
["Díl:","1","Zemní práce",null,null,null,null,null,null,null,null,null,null,null,1]
[1,"130001101RRX","Příplatek za ztížené hloubení v blízkosti vedení ","m3",41.405000000000001,null,{"$f":"E8*F8","v":0},0,{"$f":"E8*H8","v":0},0,{"$f":"E8*J8","v":0},null,null,null,2,null,null,null,null,null,null,null,null,null,null,null,1,1,1,null,null,null,null,null,null,null,null,null,null,null,null,null,null,null,null,null,null,null,null,null,null,1,{"$f":"IF(AZ8=1,G8,0)","v":0},{"$f":"IF(AZ8=2,G8,0)","v":0},{"$f":"IF(AZ8=3,G8,0)","v":0},{"$f":"IF(AZ8=4,G8,0)","v":0},{"$f":"IF(AZ8=5,G8,0)","v":0},null,null,null,null,null,null,null,null,null,null,null,null,null,null,null,null,null,null,null,null,null,1,1]
[null,null,"Včetně případných nutných dokopávem a ručního výkopu podél sousedících inženýrských sítí.",null,null,null,null,null,null,null,null,"Včetně případných nutných dokopávem a ručního výkopu podél sousedících inženýrských sítí.",null,null,3]
[null,null,"Součástí položky je i dočasné zajištění inženýrských sítí v prostoru výkopů (potrubí, kabely a pod.)",null,null,null,null,null,null,null,null,"Součástí položky je i dočasné zajištění inženýrských sítí v prostoru výkopů (potrubí, kabely a pod.)",null,null,3]
[null,null,"Výkopy:",null,0,null,null,null,null,null,null,null,"Výkopy:"]
[null,null,"V hornině tř. 3 - 5 - 35%:118,3000*0,35",null,41.405000000000001,null,null,null,null,null,null,null,"V hornině tř. 3 - 5 - 35%:118,3000*0,35"]
[2,"132201212R00","Hloubení rýh š.do 200 cm hor.3 do 1000m3,STROJNĚ ","m3",47.32,null,{"$f":"E13*F13","v":0},0,{"$f":"E13*H13","v":0},0,{"$f":"E13*J13","v":0},null,null,null,2,null,null,null,null,null,null,null,null,null,null,null,1,1,1,null,null,null,null,null,null,null,null,null,null,null,null,null,null,null,null,null,null,null,null,null,null,1,{"$f":"IF(AZ13=1,G13,0)","v":0},{"$f":"IF(AZ13=2,G13,0)","v":0},{"$f":"IF(AZ13=3,G13,0)","v":0},{"$f":"IF(AZ13=4,G13,0)","v":0},{"$f":"IF(AZ13=5,G13,0)","v":0},null,null,null,null,null,null,null,null,null,null,null,null,null,null,null,null,null,null,null,null,null,1,1]
[null,null,"Položka obsahuje hloubení rýh traktorbagrem, naložení výkopku na dopravní prostředek pro svislé, nebo vodorovné přemístění, popř. přemístění výkopku do 3 m (po povrchu území), případné zajištění rypadel polštáři, udržování pracoviště a ochranu výkopiště proti stékání srážkové vody z okolního terénu i s jejím odvodněním, nebo odvedením, přesekání a odstranění kořenů ve výkopišti, odstranění napadávek, urovnání dna výkopu.",null,null,null,null,null,null,null,null,"Položka obsahuje hloubení rýh traktorbagrem, naložení výkopku na dopravní prostředek pro svislé, nebo vodorovné přemístění, popř. přemístění výkopku do 3 m (po povrchu území), případné zajištění rypadel polštáři, udržování pracoviště a ochranu výkopiště proti stékání srážkové vody z okolního terénu i s jejím odvodněním, nebo odvedením, přesekání a odstranění kořenů ve výkopišti, odstranění napadávek, urovnání dna výkopu.",null,null,3]
[null,null,"Výkopy:",null,0,null,null,null,null,null,null,null,"Výkopy:"]
[null,null,"Začátek provozního součtu",null,0,null,null,null,null,null,null,null,"Začátek provozního součtu"]
[null,null,"Průměrná hloubka výkopů 1,70 m:",null,0,null,null,null,null,null,null,null,"Průměrná hloubka výkopů 1,70 m:"]
[null,null,"Řad \"A8-1\" PE D 110x10,0 mm:",null,0,null,null,null,null,null,null,null,"Řad \"A8-1\" PE D 110x10,0 mm:"]
[null,null,"VP PE D 32x3,0 mm (17 kusů):85,00*0,70*1,70",null,101.15,null,null,null,null,null,null,null,"VP PE D 32x3,0 mm (17 kusů):85,00*0,70*1,70"]
[null,null,"Rezerva - 30%:85,00*0,3*0,70*1,70",null,30.344999999999999,null,null,null,null,null,null,null,"Rezerva - 30%:85,00*0,3*0,70*1,70"]
[null,null,"Odpočet předpokládané konstrukce MK:-(85,00+85,00*0,3)*0,70*0,40",null,-30.94,null,null,null,null,null,null,null,"Odpočet předpokládané konstrukce MK:-(85,00+85,00*0,3)*0,70*0,40"]
[null,null,"Řad \"A8-2-1\" PE D 90x8,2 mm:",null,0,null,null,null,null,null,null,null,"Řad \"A8-2-1\" PE D 90x8,2 mm:"]
[null,null,"VP PE D 32x3,0 mm (3 kusy):15,00*0,70*1,70",null,17.850000000000001,null,null,null,null,null,null,null,"VP PE D 32x3,0 mm (3 kusy):15,00*0,70*1,70"]
[null,null,"Rezerva - 30%:15,00*0,3*0,70*1,70",null,5.3550000000000004,null,null,null,null,null,null,null,"Rezerva - 30%:15,00*0,3*0,70*1,70"]
[null,null,"Odpočet předpokládané konstrukce MK:-(15,00+15,00*0,3)*0,70*0,40",null,-5.46,null,null,null,null,null,null,null,"Odpočet předpokládané konstrukce MK:-(15,00+15,00*0,3)*0,70*0,40"]
[null,null,"Konec provozního součtu",null,118.30000000000001,null,null,null,null,null,null,null,"Konec provozního součtu"]
[null,null,"V hornině tř. 3 - 40%:118,3000*0,4",null,47.32,null,null,null,null,null,null,null,"V hornině tř. 3 - 40%:118,3000*0,4"]
[3,"132201219R00","Přípl.za lepivost,hloubení rýh 200cm,hor.3,STROJNĚ ","m3",23.66,null,{"$f":"E28*F28","v":0},0,{"$f":"E28*H28","v":0},0,{"$f":"E28*J28","v":0},null,null,null,2,null,null,null,null,null,null,null,null,null,null,null,1,1,1,null,null,null,null,null,null,null,null,null,null,null,null,null,null,null,null,null,null,null,null,null,null,1,{"$f":"IF(AZ28=1,G28,0)","v":0},{"$f":"IF(AZ28=2,G28,0)","v":0},{"$f":"IF(AZ28=3,G28,0)","v":0},{"$f":"IF(AZ28=4,G28,0)","v":0},{"$f":"IF(AZ28=5,G28,0)","v":0},null,null,null,null,null,null,null,null,null,null,null,null,null,null,null,null,null,null,null,null,null,1,1]
[null,null,"Výkopy:",null,0,null,null,null,null,null,null,null,"Výkopy:"]
[null,null,"V hornině tř. 3 - 40%:118,3000*0,4*0,5",null,23.66,null,null,null,null,null,null,null,"V hornině tř. 3 - 40%:118,3000*0,4*0,5"]
[4,"132301212R00","Hloubení rýh š.do 200 cm hor.4 do 1000 m3, STROJNĚ ","m3",59.15,null,{"$f":"E31*F31","v":0},0,{"$f":"E31*H31","v":0},0,{"$f":"E31*J31","v":0},null,null,null,2,null,null,null,null,null,null,null,null,null,null,null,1,1,1,null,null,null,null,null,null,null,null,null,null,null,null,null,null,null,null,null,null,null,null,null,null,1,{"$f":"IF(AZ31=1,G31,0)","v":0},{"$f":"IF(AZ31=2,G31,0)","v":0},{"$f":"IF(AZ31=3,G31,0)","v":0},{"$f":"IF(AZ31=4,G31,0)","v":0},{"$f":"IF(AZ31=5,G31,0)","v":0},null,null,null,null,null,null,null,null,null,null,null,null,null,null,null,null,null,null,null,null,null,1,1]
[null,null,"Položka obsahuje hloubení rýh traktorbagrem, naložení výkopku na dopravní prostředek pro svislé, nebo vodorovné přemístění, popř. přemístění výkopku do 3 m (po povrchu území), případné zajištění rypadel polštáři, udržování pracoviště a ochranu výkopiště proti stékání srážkové vody z okolního terénu i s jejím odvodněním, nebo odvedením, přesekání a odstranění kořenů ve výkopišti, odstranění napadávek, urovnání dna výkopu.",null,null,null,null,null,null,null,null,"Položka obsahuje hloubení rýh traktorbagrem, naložení výkopku na dopravní prostředek pro svislé, nebo vodorovné přemístění, popř. přemístění výkopku do 3 m (po povrchu území), případné zajištění rypadel polštáři, udržování pracoviště a ochranu výkopiště proti stékání srážkové vody z okolního terénu i s jejím odvodněním, nebo odvedením, přesekání a odstranění kořenů ve výkopišti, odstranění napadávek, urovnání dna výkopu.",null,null,3]
[null,null,"Výkopy:",null,0,null,null,null,null,null,null,null,"Výkopy:"]
[null,null,"V hornině tř. 4 - 50%:118,3000*0,5",null,59.15,null,null,null,null,null,null,null,"V hornině tř. 4 - 50%:118,3000*0,5"]
[5,"132301219R00","Přípl.za lepivost,hloubení rýh 200cm,hor.4,STROJNĚ ","m3",29.574999999999999,null,{"$f":"E35*F35","v":0},0,{"$f":"E35*H35","v":0},0,{"$f":"E35*J35","v":0},null,null,null,2,null,null,null,null,null,null,null,null,null,null,null,1,1,1,null,null,null,null,null,null,null,null,null,null,null,null,null,null,null,null,null,null,null,null,null,null,1,{"$f":"IF(AZ35=1,G35,0)","v":0},{"$f":"IF(AZ35=2,G35,0)","v":0},{"$f":"IF(AZ35=3,G35,0)","v":0},{"$f":"IF(AZ35=4,G35,0)","v":0},{"$f":"IF(AZ35=5,G35,0)","v":0},null,null,null,null,null,null,null,null,null,null,null,null,null,null,null,null,null,null,null,null,null,1,1]
[null,null,"Výkopy:",null,0,null,null,null,null,null,null,null,"Výkopy:"]
[null,null,"V hornině tř. 4 - 50%:118,3000*0,5*0,5",null,29.574999999999999,null,null,null,null,null,null,null,"V hornině tř. 4 - 50%:118,3000*0,5*0,5"]
[6,"132401211RXX","Hloubení rýh šířky do 200 cm v hor.5, STROJNĚ Včetně případného dolamování nebo frézování","m3",11.83,null,{"$f":"E38*F38","v":0},0,{"$f":"E38*H38","v":0},0,{"$f":"E38*J38","v":0},null,null,null,2,null,null,null,null,null,null,null,null,null,null,null,1,1,1,null,null,null,null,null,null,null,null,null,null,null,null,null,null,null,null,null,null,null,null,null,null,1,{"$f":"IF(AZ38=1,G38,0)","v":0},{"$f":"IF(AZ38=2,G38,0)","v":0},{"$f":"IF(AZ38=3,G38,0)","v":0},{"$f":"IF(AZ38=4,G38,0)","v":0},{"$f":"IF(AZ38=5,G38,0)","v":0},null,null,null,null,null,null,null,null,null,null,null,null,null,null,null,null,null,null,null,null,null,1,1]
[null,null,"Výkopy:",null,0,null,null,null,null,null,null,null,"Výkopy:"]
[null,null,"V hornině tř. 5 - 10%:118,3000*0,1",null,11.83,null,null,null,null,null,null,null,"V hornině tř. 5 - 10%:118,3000*0,1"]
[7,"151101101R00","Pažení a rozepření stěn rýh - příložné - hl.do 2 m ","m2",442,null,{"$f":"E41*F41","v":0},9.8999999999999999E-4,{"$f":"E41*H41","v":0.43758000000000002},0,{"$f":"E41*J41","v":0},null,null,null,2,null,null,null,null,null,null,null,null,null,null,null,1,1,1,null,null,null,null,null,null,null,null,null,null,null,null,null,null,null,null,null,null,null,null,null,null,1,{"$f":"IF(AZ41=1,G41,0)","v":0},{"$f":"IF(AZ41=2,G41,0)","v":0},{"$f":"IF(AZ41=3,G41,0)","v":0},{"$f":"IF(AZ41=4,G41,0)","v":0},{"$f":"IF(AZ41=5,G41,0)","v":0},null,null,null,null,null,null,null,null,null,null,null,null,null,null,null,null,null,null,null,null,null,1,1]
[null,null,"Výkopy:",null,0,null,null,null,null,null,null,null,"Výkopy:"]
[null,null,"Průměrná hloubka výkopů 1,70 m:",null,0,null,null,null,null,null,null,null,"Průměrná hloubka výkopů 1,70 m:"]
[null,null,"Řad \"A8-1\" PE D 110x10,0 mm:",null,0,null,null,null,null,null,null,null,"Řad \"A8-1\" PE D 110x10,0 mm:"]
[null,null,"VP PE D 32x3,0 mm (17 kusů):85,00*1,70*2",null,289,null,null,null,null,null,null,null,"VP PE D 32x3,0 mm (17 kusů):85,00*1,70*2"]
[null,null,"Rezerva - 30%:85,00*0,3*1,70*2",null,86.7,null,null,null,null,null,null,null,"Rezerva - 30%:85,00*0,3*1,70*2"]
[null,null,"Řad \"A8-2-1\" PE D 90x8,2 mm:",null,0,null,null,null,null,null,null,null,"Řad \"A8-2-1\" PE D 90x8,2 mm:"]
[null,null,"VP PE D 32x3,0 mm (3 kusy):15,00*1,70*2",null,51,null,null,null,null,null,null,null,"VP PE D 32x3,0 mm (3 kusy):15,00*1,70*2"]
[null,null,"Rezerva - 30%:15,00*0,3*1,70*2",null,15.3,null,null,null,null,null,null,null,"Rezerva - 30%:15,00*0,3*1,70*2"]
[8,"151101111R00","Odstranění pažení stěn rýh - příložné - hl. do 2 m ","m2",442,null,{"$f":"E50*F50","v":0},0,{"$f":"E50*H50","v":0},0,{"$f":"E50*J50","v":0},null,null,null,2,null,null,null,null,null,null,null,null,null,null,null,1,1,1,null,null,null,null,null,null,null,null,null,null,null,null,null,null,null,null,null,null,null,null,null,null,1,{"$f":"IF(AZ50=1,G50,0)","v":0},{"$f":"IF(AZ50=2,G50,0)","v":0},{"$f":"IF(AZ50=3,G50,0)","v":0},{"$f":"IF(AZ50=4,G50,0)","v":0},{"$f":"IF(AZ50=5,G50,0)","v":0},null,null,null,null,null,null,null,null,null,null,null,null,null,null,null,null,null,null,null,null,null,1,1]
[null,null,"Výkopy:",null,0,null,null,null,null,null,null,null,"Výkopy:"]
[null,null,"Průměrná hloubka výkopů 1,70 m:",null,0,null,null,null,null,null,null,null,"Průměrná hloubka výkopů 1,70 m:"]
[null,null,"Řad \"A8-1\" PE D 110x10,0 mm:",null,0,null,null,null,null,null,null,null,"Řad \"A8-1\" PE D 110x10,0 mm:"]
[null,null,"VP PE D 32x3,0 mm (17 kusů):85,00*1,70*2",null,289,null,null,null,null,null,null,null,"VP PE D 32x3,0 mm (17 kusů):85,00*1,70*2"]
[null,null,"Rezerva - 30%:85,00*0,3*1,70*2",null,86.7,null,null,null,null,null,null,null,"Rezerva - 30%:85,00*0,3*1,70*2"]
[null,null,"Řad \"A8-2-1\" PE D 90x8,2 mm:",null,0,null,null,null,null,null,null,null,"Řad \"A8-2-1\" PE D 90x8,2 mm:"]
[null,null,"VP PE D 32x3,0 mm (3 kusy):15,00*1,70*2",null,51,null,null,null,null,null,null,null,"VP PE D 32x3,0 mm (3 kusy):15,00*1,70*2"]
[null,null,"Rezerva - 30%:15,00*0,3*1,70*2",null,15.3,null,null,null,null,null,null,null,"Rezerva - 30%:15,00*0,3*1,70*2"]
[9,"162701105RSZ","Vodorovné přemístění výkopku z hor.1-7 na skládku zhotovitele","m3",118.3,null,{"$f":"E59*F59","v":0},0,{"$f":"E59*H59","v":0},0,{"$f":"E59*J59","v":0},null,null,null,2,null,null,null,null,null,null,null,null,null,null,null,1,1,1,null,null,null,null,null,null,null,null,null,null,null,null,null,null,null,null,null,null,null,null,null,null,1,{"$f":"IF(AZ59=1,G59,0)","v":0},{"$f":"IF(AZ59=2,G59,0)","v":0},{"$f":"IF(AZ59=3,G59,0)","v":0},{"$f":"IF(AZ59=4,G59,0)","v":0},{"$f":"IF(AZ59=5,G59,0)","v":0},null,null,null,null,null,null,null,null,null,null,null,null,null,null,null,null,null,null,null,null,null,1,1]
[null,null,"Výkopy:",null,0,null,null,null,null,null,null,null,"Výkopy:"]
[null,null,"V hornině tř. 3 - 5:118,3000",null,118.3,null,null,null,null,null,null,null,"V hornině tř. 3 - 5:118,3000"]
[10,"174101101R00","Zásyp jam, rýh, šachet se zhutněním ","m3",74.438000000000002,null,{"$f":"E62*F62","v":0},0,{"$f":"E62*H62","v":0},0,{"$f":"E62*J62","v":0},null,null,null,2,null,null,null,null,null,null,null,null,null,null,null,1,1,1,null,null,null,null,null,null,null,null,null,null,null,null,null,null,null,null,null,null,null,null,null,null,1,{"$f":"IF(AZ62=1,G62,0)","v":0},{"$f":"IF(AZ62=2,G62,0)","v":0},{"$f":"IF(AZ62=3,G62,0)","v":0},{"$f":"IF(AZ62=4,G62,0)","v":0},{"$f":"IF(AZ62=5,G62,0)","v":0},null,null,null,null,null,null,null,null,null,null,null,null,null,null,null,null,null,null,null,null,null,1,1]
[null,null,"Položka obsahuje strojní přemístění materiálu pro zásyp ze vzdálenosti do 10 m od okraje zásypu.",null,null,null,null,null,null,null,null,"Položka obsahuje strojní přemístění materiálu pro zásyp ze vzdálenosti do 10 m od okraje zásypu.",null,null,3]
[null,null,null,null,null,null,null,null,null,null,null,null,null,null,3]
[null,null,"Zásypy ŠD fr. 0-63 mm:74,4380",null,74.438000000000002,null,null,null,null,null,null,null,"Zásypy ŠD fr. 0-63 mm:74,4380"]
[null,null,"Začátek provozního součtu",null,0,null,null,null,null,null,null,null,"Začátek provozního součtu"]
[null,null,"Výkopy:",null,0,null,null,null,null,null,null,null,"Výkopy:"]
[null,null,"V hornině tř. 3 - 5:118,3000",null,118.3,null,null,null,null,null,null,null,"V hornině tř. 3 - 5:118,3000"]
[null,null,"Odpočet objemu lože, potrubí a obsypů:",null,0,null,null,null,null,null,null,null,"Odpočet objemu lože, potrubí a obsypů:"]
[null,null,"Řad \"A8-1\" PE D 110x10,0 mm:",null,0,null,null,null,null,null,null,null,"Řad \"A8-1\" PE D 110x10,0 mm:"]
[null,null,"VP PE D 32x3,0 mm (17 kusů):-85,00*0,70*(0,15+0,032+0,30)",null,-28.678999999999998,null,null,null,null,null,null,null,"VP PE D 32x3,0 mm (17 kusů):-85,00*0,70*(0,15+0,032+0,30)"]
[null,null,"Rezerva - 30%:-85,00*0,3*0,70*(0,15+0,032+0,30)",null,-8.6036999999999999,null,null,null,null,null,null,null,"Rezerva - 30%:-85,00*0,3*0,70*(0,15+0,032+0,30)"]
[null,null,"Řad \"A8-2-1\" PE D 90x8,2 mm:",null,0,null,null,null,null,null,null,null,"Řad \"A8-2-1\" PE D 90x8,2 mm:"]
[null,null,"VP PE D 32x3,0 mm (3 kusy):-15,00*0,70*(0,15+0,032+0,30)",null,-5.0609999999999999,null,null,null,null,null,null,null,"VP PE D 32x3,0 mm (3 kusy):-15,00*0,70*(0,15+0,032+0,30)"]
[null,null,"Rezerva - 30%:-15,00*0,3*0,70*(0,15+0,032+0,30)",null,-1.5183,null,null,null,null,null,null,null,"Rezerva - 30%:-15,00*0,3*0,70*(0,15+0,032+0,30)"]
[null,null,"Konec provozního součtu",null,74.438000000000002,null,null,null,null,null,null,null,"Konec provozního součtu"]
[11,"175101101R00","Obsyp potrubí bez prohození sypaniny ","m3",30.107399999999998,null,{"$f":"E77*F77","v":0},0,{"$f":"E77*H77","v":0},0,{"$f":"E77*J77","v":0},null,null,null,2,null,null,null,null,null,null,null,null,null,null,null,1,1,1,null,null,null,null,null,null,null,null,null,null,null,null,null,null,null,null,null,null,null,null,null,null,1,{"$f":"IF(AZ77=1,G77,0)","v":0},{"$f":"IF(AZ77=2,G77,0)","v":0},{"$f":"IF(AZ77=3,G77,0)","v":0},{"$f":"IF(AZ77=4,G77,0)","v":0},{"$f":"IF(AZ77=5,G77,0)","v":0},null,null,null,null,null,null,null,null,null,null,null,null,null,null,null,null,null,null,null,null,null,1,1]
[null,null,"Řad \"A8-1\" PE D 110x10,0 mm:",null,0,null,null,null,null,null,null,null,"Řad \"A8-1\" PE D 110x10,0 mm:"]
[null,null,"VP PE D 32x3,0 mm (17 kusů):85,00*(0,70*(0,032+0,30)-0,016^2*Pi)",null,19.685600000000001,null,null,null,null,null,null,null,"VP PE D 32x3,0 mm (17 kusů):85,00*(0,70*(0,032+0,30)-0,016^2*Pi)"]
[null,null,"Rezerva - 30%:85,00*0,3*(0,70*(0,032+0,30)-0,016^2*Pi)",null,5.9057000000000004,null,null,null,null,null,null,null,"Rezerva - 30%:85,00*0,3*(0,70*(0,032+0,30)-0,016^2*Pi)"]
[null,null,"Řad \"A8-2-1\" PE D 90x8,2 mm:",null,0,null,null,null,null,null,null,null,"Řad \"A8-2-1\" PE D 90x8,2 mm:"]
[null,null,"VP PE D 32x3,0 mm (3 kusy):15,00*(0,70*(0,032+0,30)-0,016^2*Pi)",null,3.4739,null,null,null,null,null,null,null,"VP PE D 32x3,0 mm (3 kusy):15,00*(0,70*(0,032+0,30)-0,016^2*Pi)"]
[null,null,"Rezerva - 30%:15,00*0,3*(0,70*(0,032+0,30)-0,016^2*Pi)",null,1.0422,null,null,null,null,null,null,null,"Rezerva - 30%:15,00*0,3*(0,70*(0,032+0,30)-0,016^2*Pi)"]
[12,"199000002R00","Poplatek za skládku horniny 1- 7 č. dle katal. odpadů 17 05 04","m3",118.3,null,{"$f":"E84*F84","v":0},0,{"$f":"E84*H84","v":0},0,{"$f":"E84*J84","v":0},null,null,null,2,null,null,null,null,null,null,null,null,null,null,null,1,1,1,null,null,null,null,null,null,null,null,null,null,null,null,null,null,null,null,null,null,null,null,null,null,1,{"$f":"IF(AZ84=1,G84,0)","v":0},{"$f":"IF(AZ84=2,G84,0)","v":0},{"$f":"IF(AZ84=3,G84,0)","v":0},{"$f":"IF(AZ84=4,G84,0)","v":0},{"$f":"IF(AZ84=5,G84,0)","v":0},null,null,null,null,null,null,null,null,null,null,null,null,null,null,null,null,null,null,null,null,null,1,1]
[null,null,"Výkopy:",null,0,null,null,null,null,null,null,null,"Výkopy:"]
[null,null,"V hornině tř. 3 - 5:118,3000",null,118.3,null,null,null,null,null,null,null,"V hornině tř. 3 - 5:118,3000"]
[13,"58337308.R","Štěrkopísek frakce 0-2 tř.B","t",59.996000000000002,null,{"$f":"E87*F87","v":0},1,{"$f":"E87*H87","v":59.996000000000002},null,{"$f":"E87*J87","v":0},null,null,null,2,null,null,null,null,null,null,null,null,null,null,null,3,1,"58337308.R",null,null,null,null,null,null,null,null,null,null,null,null,null,null,null,null,null,null,null,null,null,null,1,{"$f":"IF(AZ87=1,G87,0)","v":0},{"$f":"IF(AZ87=2,G87,0)","v":0},{"$f":"IF(AZ87=3,G87,0)","v":0},{"$f":"IF(AZ87=4,G87,0)","v":0},{"$f":"IF(AZ87=5,G87,0)","v":0},null,null,null,null,null,null,null,null,null,null,null,null,null,null,null,null,null,null,null,null,null,3,1]
[null,null,"Řad \"A8-1\" PE D 110x10,0 mm:",null,0,null,null,null,null,null,null,null,"Řad \"A8-1\" PE D 110x10,0 mm:"]
[null,null,"VP PE D 32x3,0 mm (17 kusů):85,00*(0,70*(0,032+0,30)-0,016^2*Pi)*1,973*1,01",null,39.228200000000001,null,null,null,null,null,null,null,"VP PE D 32x3,0 mm (17 kusů):85,00*(0,70*(0,032+0,30)-0,016^2*Pi)*1,973*1,01"]
[null,null,"Rezerva - 30%:85,00*0,3*(0,70*(0,032+0,30)-0,016^2*Pi)*1,973*1,01",null,11.7684,null,null,null,null,null,null,null,"Rezerva - 30%:85,00*0,3*(0,70*(0,032+0,30)-0,016^2*Pi)*1,973*1,01"]
[null,null,"Řad \"A8-2-1\" PE D 90x8,2 mm:",null,0,null,null,null,null,null,null,null,"Řad \"A8-2-1\" PE D 90x8,2 mm:"]
[null,null,"VP PE D 32x3,0 mm (3 kusy):15,00*(0,70*(0,032+0,30)-0,016^2*Pi)*1,973*1,01",null,6.9226000000000001,null,null,null,null,null,null,null,"VP PE D 32x3,0 mm (3 kusy):15,00*(0,70*(0,032+0,30)-0,016^2*Pi)*1,973*1,01"]
[null,null,"Rezerva - 30%:15,00*0,3*(0,70*(0,032+0,30)-0,016^2*Pi)*1,973*1,01",null,2.0768,null,null,null,null,null,null,null,"Rezerva - 30%:15,00*0,3*(0,70*(0,032+0,30)-0,016^2*Pi)*1,973*1,01"]
[14,"58344197R","Štěrkodrtě frakce 0-63 A","t",140.81659999999999,null,{"$f":"E94*F94","v":0},1,{"$f":"E94*H94","v":140.81659999999999},null,{"$f":"E94*J94","v":0},null,null,null,2,null,null,null,null,null,null,null,null,null,null,null,3,1,"58344197R",null,null,null,null,null,null,null,null,null,null,null,null,null,null,null,null,null,null,null,null,null,null,1,{"$f":"IF(AZ94=1,G94,0)","v":0},{"$f":"IF(AZ94=2,G94,0)","v":0},{"$f":"IF(AZ94=3,G94,0)","v":0},{"$f":"IF(AZ94=4,G94,0)","v":0},{"$f":"IF(AZ94=5,G94,0)","v":0},null,null,null,null,null,null,null,null,null,null,null,null,null,null,null,null,null,null,null,null,null,3,1]
[null,null,"Zásypy ŠD fr. 0-63 mm:74,4380*1,873*1,01",null,140.81659999999999,null,null,null,null,null,null,null,"Zásypy ŠD fr. 0-63 mm:74,4380*1,873*1,01"]
[null,null,"Začátek provozního součtu",null,0,null,null,null,null,null,null,null,"Začátek provozního součtu"]
[null,null,"Výkopy:",null,0,null,null,null,null,null,null,null,"Výkopy:"]
[null,null,"V hornině tř. 3 - 5:118,3000",null,118.3,null,null,null,null,null,null,null,"V hornině tř. 3 - 5:118,3000"]
[null,null,"Odpočet objemu lože, potrubí a obsypů:",null,0,null,null,null,null,null,null,null,"Odpočet objemu lože, potrubí a obsypů:"]
[null,null,"Řad \"A8-1\" PE D 110x10,0 mm:",null,0,null,null,null,null,null,null,null,"Řad \"A8-1\" PE D 110x10,0 mm:"]
[null,null,"VP PE D 32x3,0 mm (17 kusů):-85,00*0,70*(0,15+0,032+0,30)",null,-28.678999999999998,null,null,null,null,null,null,null,"VP PE D 32x3,0 mm (17 kusů):-85,00*0,70*(0,15+0,032+0,30)"]
[null,null,"Rezerva - 30%:-85,00*0,3*0,70*(0,15+0,032+0,30)",null,-8.6036999999999999,null,null,null,null,null,null,null,"Rezerva - 30%:-85,00*0,3*0,70*(0,15+0,032+0,30)"]
[null,null,"Řad \"A8-2-1\" PE D 90x8,2 mm:",null,0,null,null,null,null,null,null,null,"Řad \"A8-2-1\" PE D 90x8,2 mm:"]
[null,null,"VP PE D 32x3,0 mm (3 kusy):-15,00*0,70*(0,15+0,032+0,30)",null,-5.0609999999999999,null,null,null,null,null,null,null,"VP PE D 32x3,0 mm (3 kusy):-15,00*0,70*(0,15+0,032+0,30)"]
[null,null,"Rezerva - 30%:-15,00*0,3*0,70*(0,15+0,032+0,30)",null,-1.5183,null,null,null,null,null,null,null,"Rezerva - 30%:-15,00*0,3*0,70*(0,15+0,032+0,30)"]
[null,null,"Konec provozního součtu",null,74.438000000000002,null,null,null,null,null,null,null,"Konec provozního součtu"]
[null,"Celkem za","1 Zemní práce",null,null,null,{"$f":"SUM(G7:G106)","v":0},null,{"$f":"SUM(I7:I106)","v":201.25018},null,{"$f":"SUM(K7:K106)","v":0},null,null,null,4,null,null,null,null,null,null,null,null,null,null,null,null,null,null,null,null,null,null,null,null,null,null,null,null,null,null,null,null,null,null,null,null,null,null,null,null,null,{"$f":"SUM(BA7:BA106)","v":0},{"$f":"SUM(BB7:BB106)","v":0},{"$f":"SUM(BC7:BC106)","v":0},{"$f":"SUM(BD7:BD106)","v":0},{"$f":"SUM(BE7:BE106)","v":0}]
["Díl:","45","Podkladní a vedlejší konstrukce",null,null,null,null,null,null,null,null,null,null,null,1]
[15,"451572111R00","Lože pod potrubí z kameniva těženého 0 - 4 mm ","m3",13.65,null,{"$f":"E109*F109","v":0},0.43051,{"$f":"E109*H109","v":5.8764615000000004},0,{"$f":"E109*J109","v":0},null,null,null,2,null,null,null,null,null,null,null,null,null,null,null,1,1,1,null,null,null,null,null,null,null,null,null,null,null,null,null,null,null,null,null,null,null,null,null,null,1,{"$f":"IF(AZ109=1,G109,0)","v":0},{"$f":"IF(AZ109=2,G109,0)","v":0},{"$f":"IF(AZ109=3,G109,0)","v":0},{"$f":"IF(AZ109=4,G109,0)","v":0},{"$f":"IF(AZ109=5,G109,0)","v":0},null,null,null,null,null,null,null,null,null,null,null,null,null,null,null,null,null,null,null,null,null,1,1]
[null,null,"Řad \"A8-1\" PE D 110x10,0 mm:",null,0,null,null,null,null,null,null,null,"Řad \"A8-1\" PE D 110x10,0 mm:"]
[null,null,"VP PE D 32x3,0 mm (17 kusů):85,00*0,70*0,15",null,8.9250000000000007,null,null,null,null,null,null,null,"VP PE D 32x3,0 mm (17 kusů):85,00*0,70*0,15"]
[null,null,"Rezerva - 30%:85,00*0,3*0,70*0,15",null,2.6775000000000002,null,null,null,null,null,null,null,"Rezerva - 30%:85,00*0,3*0,70*0,15"]
[null,null,"Řad \"A8-2-1\" PE D 90x8,2 mm:",null,0,null,null,null,null,null,null,null,"Řad \"A8-2-1\" PE D 90x8,2 mm:"]
[null,null,"VP PE D 32x3,0 mm (3 kusy):15,00*0,70*0,15",null,1.575,null,null,null,null,null,null,null,"VP PE D 32x3,0 mm (3 kusy):15,00*0,70*0,15"]
[null,null,"Rezerva - 30%:15,00*0,3*0,70*0,15",null,0.47249999999999998,null,null,null,null,null,null,null,"Rezerva - 30%:15,00*0,3*0,70*0,15"]
[null,"Celkem za","45 Podkladní a vedlejší konstrukce",null,null,null,{"$f":"SUM(G108:G115)","v":0},null,{"$f":"SUM(I108:I115)","v":5.8764615000000004},null,{"$f":"SUM(K108:K115)","v":0},null,null,null,4,null,null,null,null,null,null,null,null,null,null,null,null,null,null,null,null,null,null,null,null,null,null,null,null,null,null,null,null,null,null,null,null,null,null,null,null,null,{"$f":"SUM(BA108:BA115)","v":0},{"$f":"SUM(BB108:BB115)","v":0},{"$f":"SUM(BC108:BC115)","v":0},{"$f":"SUM(BD108:BD115)","v":0},{"$f":"SUM(BE108:BE115)","v":0}]
["Díl:","5","Komunikace",null,null,null,null,null,null,null,null,null,null,null,1]
[16,"572701119RRX","Provizorní zásyp rýh kam. hrubě drceným nebo recyk s následným odstraněním a odvozem","m3",36.4,null,{"$f":"E118*F118","v":0},1.4804999999999999,{"$f":"E118*H118","v":53.890199999999993},0,{"$f":"E118*J118","v":0},null,null,null,2,null,null,null,null,null,null,null,null,null,null,null,1,1,1,null,null,null,null,null,null,null,null,null,null,null,null,null,null,null,null,null,null,null,null,null,null,1,{"$f":"IF(AZ118=1,G118,0)","v":0},{"$f":"IF(AZ118=2,G118,0)","v":0},{"$f":"IF(AZ118=3,G118,0)","v":0},{"$f":"IF(AZ118=4,G118,0)","v":0},{"$f":"IF(AZ118=5,G118,0)","v":0},null,null,null,null,null,null,null,null,null,null,null,null,null,null,null,null,null,null,null,null,null,1,1]
[null,null,"Řad \"A8-1\" PE D 110x10,0 mm:",null,0,null,null,null,null,null,null,null,"Řad \"A8-1\" PE D 110x10,0 mm:"]
[null,null,"VP PE D 32x3,0 mm (17 kusů):85,00*0,70*0,40",null,23.8,null,null,null,null,null,null,null,"VP PE D 32x3,0 mm (17 kusů):85,00*0,70*0,40"]
[null,null,"Rezerva - 30%:85,00*0,3*0,70*0,40",null,7.14,null,null,null,null,null,null,null,"Rezerva - 30%:85,00*0,3*0,70*0,40"]
[null,null,"Řad \"A8-2-1\" PE D 90x8,2 mm:",null,0,null,null,null,null,null,null,null,"Řad \"A8-2-1\" PE D 90x8,2 mm:"]
[null,null,"VP PE D 32x3,0 mm (3 kusy):15,00*0,70*0,40",null,4.2,null,null,null,null,null,null,null,"VP PE D 32x3,0 mm (3 kusy):15,00*0,70*0,40"]
[null,null,"Rezerva - 30%:15,00*0,3*0,70*0,40",null,1.26,null,null,null,null,null,null,null,"Rezerva - 30%:15,00*0,3*0,70*0,40"]
[null,"Celkem za","5 Komunikace",null,null,null,{"$f":"SUM(G117:G124)","v":0},null,{"$f":"SUM(I117:I124)","v":53.890199999999993},null,{"$f":"SUM(K117:K124)","v":0},null,null,null,4,null,null,null,null,null,null,null,null,null,null,null,null,null,null,null,null,null,null,null,null,null,null,null,null,null,null,null,null,null,null,null,null,null,null,null,null,null,{"$f":"SUM(BA117:BA124)","v":0},{"$f":"SUM(BB117:BB124)","v":0},{"$f":"SUM(BC117:BC124)","v":0},{"$f":"SUM(BD117:BD124)","v":0},{"$f":"SUM(BE117:BE124)","v":0}]
["Díl:","8","Trubní vedení",null,null,null,null,null,null,null,null,null,null,null,1]
[17,"871161121R00","Montáž trubek polyetylenových ve výkopu d 32 mm ","m",130,null,{"$f":"E127*F127","v":0},0,{"$f":"E127*H127","v":0},0,{"$f":"E127*J127","v":0},null,null,null,2,null,null,null,null,null,null,null,null,null,null,null,1,1,1,null,null,null,null,null,null,null,null,null,null,null,null,null,null,null,null,null,null,null,null,null,null,1,{"$f":"IF(AZ127=1,G127,0)","v":0},{"$f":"IF(AZ127=2,G127,0)","v":0},{"$f":"IF(AZ127=3,G127,0)","v":0},{"$f":"IF(AZ127=4,G127,0)","v":0},{"$f":"IF(AZ127=5,G127,0)","v":0},null,null,null,null,null,null,null,null,null,null,null,null,null,null,null,null,null,null,null,null,null,1,1]
[null,null,"V položce je uvažováno použití svitku. ",null,null,null,null,null,null,null,null,"V položce je uvažováno použití svitku. ",null,null,3]
[null,null,"Řad \"A8-1\" PE D 110x10,0 mm:",null,0,null,null,null,null,null,null,null,"Řad \"A8-1\" PE D 110x10,0 mm:"]
[null,null,"VP PE D 32x3,0 mm (17 kusů):85,00",null,85,null,null,null,null,null,null,null,"VP PE D 32x3,0 mm (17 kusů):85,00"]
[null,null,"Začátek provozního součtu",null,0,null,null,null,null,null,null,null,"Začátek provozního součtu"]
[null,null,"Pro čp. 858:",null,0,null,null,null,null,null,null,null,"Pro čp. 858:"]
[null,null,"Pro čp. 859:",null,0,null,null,null,null,null,null,null,"Pro čp. 859:"]
[null,null,"Pro čp. 874:",null,0,null,null,null,null,null,null,null,"Pro čp. 874:"]
[null,null,"Pro čp. 860:",null,0,null,null,null,null,null,null,null,"Pro čp. 860:"]
[null,null,"Pro čp. 873:",null,0,null,null,null,null,null,null,null,"Pro čp. 873:"]
[null,null,"Pro čp. 861:",null,0,null,null,null,null,null,null,null,"Pro čp. 861:"]
[null,null,"Pro čp. 862:",null,0,null,null,null,null,null,null,null,"Pro čp. 862:"]
[null,null,"Pro čp. 863:",null,0,null,null,null,null,null,null,null,"Pro čp. 863:"]
[null,null,"Pro čp. 872:",null,0,null,null,null,null,null,null,null,"Pro čp. 872:"]
[null,null,"Pro čp. 871:",null,0,null,null,null,null,null,null,null,"Pro čp. 871:"]
[null,null,"Pro čp. 864:",null,0,null,null,null,null,null,null,null,"Pro čp. 864:"]
[null,null,"Pro čp. 870:",null,0,null,null,null,null,null,null,null,"Pro čp. 870:"]
[null,null,"Pro čp. 865:",null,0,null,null,null,null,null,null,null,"Pro čp. 865:"]
[null,null,"Pro čp. 869:",null,0,null,null,null,null,null,null,null,"Pro čp. 869:"]
[null,null,"Pro čp. 866:",null,0,null,null,null,null,null,null,null,"Pro čp. 866:"]
[null,null,"Pro čp. 867:",null,0,null,null,null,null,null,null,null,"Pro čp. 867:"]
[null,null,"Pro čp. 868:",null,0,null,null,null,null,null,null,null,"Pro čp. 868:"]
[null,null,"Konec provozního součtu",null,0,null,null,null,null,null,null,null,"Konec provozního součtu"]
[null,null,"Rezerva - 30%:85,00*0,3",null,25.5,null,null,null,null,null,null,null,"Rezerva - 30%:85,00*0,3"]
[null,null,"Řad \"A8-2-1\" PE D 90x8,2 mm:",null,0,null,null,null,null,null,null,null,"Řad \"A8-2-1\" PE D 90x8,2 mm:"]
[null,null,"VP PE D 32x3,0 mm (3 kusy):15,00",null,15,null,null,null,null,null,null,null,"VP PE D 32x3,0 mm (3 kusy):15,00"]
[null,null,"Začátek provozního součtu",null,0,null,null,null,null,null,null,null,"Začátek provozního součtu"]
[null,null,"Pro čp. 896:",null,0,null,null,null,null,null,null,null,"Pro čp. 896:"]
[null,null,"Pro čp. 895:",null,0,null,null,null,null,null,null,null,"Pro čp. 895:"]
[null,null,"Pro čp. 894:",null,0,null,null,null,null,null,null,null,"Pro čp. 894:"]
[null,null,"Konec provozního součtu",null,0,null,null,null,null,null,null,null,"Konec provozního součtu"]
[null,null,"Rezerva - 30%:15,00*0,3",null,4.5,null,null,null,null,null,null,null,"Rezerva - 30%:15,00*0,3"]
[18,"877162121R00","Přirážka za 1 spoj elektrotvarovky d 32 mm ","kus",20,null,{"$f":"E159*F159","v":0},0,{"$f":"E159*H159","v":0},0,{"$f":"E159*J159","v":0},null,null,null,2,null,null,null,null,null,null,null,null,null,null,null,1,1,1,null,null,null,null,null,null,null,null,null,null,null,null,null,null,null,null,null,null,null,null,null,null,1,{"$f":"IF(AZ159=1,G159,0)","v":0},{"$f":"IF(AZ159=2,G159,0)","v":0},{"$f":"IF(AZ159=3,G159,0)","v":0},{"$f":"IF(AZ159=4,G159,0)","v":0},{"$f":"IF(AZ159=5,G159,0)","v":0},null,null,null,null,null,null,null,null,null,null,null,null,null,null,null,null,null,null,null,null,null,1,1]
[null,null,"Řad \"A8-1\" PE D 110x10,0 mm:",null,0,null,null,null,null,null,null,null,"Řad \"A8-1\" PE D 110x10,0 mm:"]
[null,null,"VP PE D 32x3,0 mm (17 kusů) - Elektrospojka PE D32:17",null,17,null,null,null,null,null,null,null,"VP PE D 32x3,0 mm (17 kusů) - Elektrospojka PE D32:17"]
[null,null,"Řad \"A8-2-1\" PE D 90x8,2 mm:",null,0,null,null,null,null,null,null,null,"Řad \"A8-2-1\" PE D 90x8,2 mm:"]
[null,null,"VP PE D 32x3,0 mm (3 kusy) - Elektrospojka PE D32:3",null,3,null,null,null,null,null,null,null,"VP PE D 32x3,0 mm (3 kusy) - Elektrospojka PE D32:3"]
[19,"891183439RX0","Přepojení potrubí PE na přípojkách D 32 včetně dodávky přepojovací tvarovky","kus",20,null,{"$f":"E164*F164","v":0},4.6000000000000001E-4,{"$f":"E164*H164","v":9.1999999999999998E-3},0,{"$f":"E164*J164","v":0},null,null,null,2,null,null,null,null,null,null,null,null,null,null,null,1,1,1,null,null,null,null,null,null,null,null,null,null,null,null,null,null,null,null,null,null,null,null,null,null,1,{"$f":"IF(AZ164=1,G164,0)","v":0},{"$f":"IF(AZ164=2,G164,0)","v":0},{"$f":"IF(AZ164=3,G164,0)","v":0},{"$f":"IF(AZ164=4,G164,0)","v":0},{"$f":"IF(AZ164=5,G164,0)","v":0},null,null,null,null,null,null,null,null,null,null,null,null,null,null,null,null,null,null,null,null,null,1,1]
[null,null,"Položka obsahuje přerušení stávajícího potrubí, montáž a dodávku příslušné tvarovky pro propojení stávajícího potrubí (PE, ocel a pod.)  s novým potrubím (PE D 32x3,0 mm) přípojky  D 32",null,null,null,null,null,null,null,null,"Položka obsahuje přerušení stávajícího potrubí, montáž a dodávku příslušné tvarovky pro propojení stávajícího potrubí (PE, ocel a pod.)  s novým potrubím (PE D 32x3,0 mm) přípojky  D 32",null,null,3]
[null,null,"Řad \"A8-1\" PE D 110x10,0 mm:",null,0,null,null,null,null,null,null,null,"Řad \"A8-1\" PE D 110x10,0 mm:"]
[null,null,"VP PE D 32x3,0 mm (17 kusů):17",null,17,null,null,null,null,null,null,null,"VP PE D 32x3,0 mm (17 kusů):17"]
[null,null,"Řad \"A8-2-1\" PE D 90x8,2 mm:",null,0,null,null,null,null,null,null,null,"Řad \"A8-2-1\" PE D 90x8,2 mm:"]
[null,null,"VP PE D 32x3,0 mm (3 kusy):3",null,3,null,null,null,null,null,null,null,"VP PE D 32x3,0 mm (3 kusy):3"]
[20,"892233111R00","Desinfekce vodovodního potrubí DN 70 ","m",130,null,{"$f":"E170*F170","v":0},0,{"$f":"E170*H170","v":0},0,{"$f":"E170*J170","v":0},null,null,null,2,null,null,null,null,null,null,null,null,null,null,null,1,1,1,null,null,null,null,null,null,null,null,null,null,null,null,null,null,null,null,null,null,null,null,null,null,1,{"$f":"IF(AZ170=1,G170,0)","v":0},{"$f":"IF(AZ170=2,G170,0)","v":0},{"$f":"IF(AZ170=3,G170,0)","v":0},{"$f":"IF(AZ170=4,G170,0)","v":0},{"$f":"IF(AZ170=5,G170,0)","v":0},null,null,null,null,null,null,null,null,null,null,null,null,null,null,null,null,null,null,null,null,null,1,1]
[null,null,"V položce jsou zakalkulovány náklady na napuštění a vypuštění vody, dodání vody a desinfekčního prostředku a na bakteriologický rozbor vody.",null,null,null,null,null,null,null,null,"V položce jsou zakalkulovány náklady na napuštění a vypuštění vody, dodání vody a desinfekčního prostředku a na bakteriologický rozbor vody.",null,null,3]
[null,null,"Řad \"A8-1\" PE D 110x10,0 mm:",null,0,null,null,null,null,null,null,null,"Řad \"A8-1\" PE D 110x10,0 mm:"]
[null,null,"VP PE D 32x3,0 mm (17 kusů):85,00",null,85,null,null,null,null,null,null,null,"VP PE D 32x3,0 mm (17 kusů):85,00"]
[null,null,"Rezerva - 30%:85,00*0,3",null,25.5,null,null,null,null,null,null,null,"Rezerva - 30%:85,00*0,3"]
[null,null,"Řad \"A8-2-1\" PE D 90x8,2 mm:",null,0,null,null,null,null,null,null,null,"Řad \"A8-2-1\" PE D 90x8,2 mm:"]
[null,null,"VP PE D 32x3,0 mm (3 kusy):15,00",null,15,null,null,null,null,null,null,null,"VP PE D 32x3,0 mm (3 kusy):15,00"]
[null,null,"Rezerva - 30%:15,00*0,3",null,4.5,null,null,null,null,null,null,null,"Rezerva - 30%:15,00*0,3"]
[21,"892241111R00","Tlaková zkouška vodovodního potrubí DN 80 včetně zajištění konců potrubí","m",130,null,{"$f":"E178*F178","v":0},0,{"$f":"E178*H178","v":0},0,{"$f":"E178*J178","v":0},null,null,null,2,null,null,null,null,null,null,null,null,null,null,null,1,1,1,null,null,null,null,null,null,null,null,null,null,null,null,null,null,null,null,null,null,null,null,null,null,1,{"$f":"IF(AZ178=1,G178,0)","v":0},{"$f":"IF(AZ178=2,G178,0)","v":0},{"$f":"IF(AZ178=3,G178,0)","v":0},{"$f":"IF(AZ178=4,G178,0)","v":0},{"$f":"IF(AZ178=5,G178,0)","v":0},null,null,null,null,null,null,null,null,null,null,null,null,null,null,null,null,null,null,null,null,null,1,1]
[null,null,"V položce jsou započteny náklady na přísun, montáž, demontáž a odsun zkoušecího čerpadla, napuštění tlakovou vodou a dodání vody pro tlakovou zkoušku.",null,null,null,null,null,null,null,null,"V položce jsou započteny náklady na přísun, montáž, demontáž a odsun zkoušecího čerpadla, napuštění tlakovou vodou a dodání vody pro tlakovou zkoušku.",null,null,3]
[null,null,"Řad \"A8-1\" PE D 110x10,0 mm:",null,0,null,null,null,null,null,null,null,"Řad \"A8-1\" PE D 110x10,0 mm:"]
[null,null,"VP PE D 32x3,0 mm (17 kusů):85,00",null,85,null,null,null,null,null,null,null,"VP PE D 32x3,0 mm (17 kusů):85,00"]
[null,null,"Rezerva - 30%:85,00*0,3",null,25.5,null,null,null,null,null,null,null,"Rezerva - 30%:85,00*0,3"]
[null,null,"Řad \"A8-2-1\" PE D 90x8,2 mm:",null,0,null,null,null,null,null,null,null,"Řad \"A8-2-1\" PE D 90x8,2 mm:"]
[null,null,"VP PE D 32x3,0 mm (3 kusy):15,00",null,15,null,null,null,null,null,null,null,"VP PE D 32x3,0 mm (3 kusy):15,00"]
[null,null,"Rezerva - 30%:15,00*0,3",null,4.5,null,null,null,null,null,null,null,"Rezerva - 30%:15,00*0,3"]
[22,"899721112R00","Fólie výstražná z PVC bílá, šířka 30 cm ","m",130,null,{"$f":"E186*F186","v":0},0,{"$f":"E186*H186","v":0},0,{"$f":"E186*J186","v":0},null,null,null,2,null,null,null,null,null,null,null,null,null,null,null,1,1,1,null,null,null,null,null,null,null,null,null,null,null,null,null,null,null,null,null,null,null,null,null,null,1,{"$f":"IF(AZ186=1,G186,0)","v":0},{"$f":"IF(AZ186=2,G186,0)","v":0},{"$f":"IF(AZ186=3,G186,0)","v":0},{"$f":"IF(AZ186=4,G186,0)","v":0},{"$f":"IF(AZ186=5,G186,0)","v":0},null,null,null,null,null,null,null,null,null,null,null,null,null,null,null,null,null,null,null,null,null,1,1]
[null,null,"Řad \"A8-1\" PE D 110x10,0 mm:",null,0,null,null,null,null,null,null,null,"Řad \"A8-1\" PE D 110x10,0 mm:"]
[null,null,"VP PE D 32x3,0 mm (17 kusů):85,00",null,85,null,null,null,null,null,null,null,"VP PE D 32x3,0 mm (17 kusů):85,00"]
[null,null,"Rezerva - 30%:85,00*0,3",null,25.5,null,null,null,null,null,null,null,"Rezerva - 30%:85,00*0,3"]
[null,null,"Řad \"A8-2-1\" PE D 90x8,2 mm:",null,0,null,null,null,null,null,null,null,"Řad \"A8-2-1\" PE D 90x8,2 mm:"]
[null,null,"VP PE D 32x3,0 mm (3 kusy):15,00",null,15,null,null,null,null,null,null,null,"VP PE D 32x3,0 mm (3 kusy):15,00"]
[null,null,"Rezerva - 30%:15,00*0,3",null,4.5,null,null,null,null,null,null,null,"Rezerva - 30%:15,00*0,3"]
[23,"899731113R00","Vodič signalizační CYY 4 mm2 ","m",130,null,{"$f":"E193*F193","v":0},5.0000000000000002E-5,{"$f":"E193*H193","v":6.5000000000000006E-3},0,{"$f":"E193*J193","v":0},null,null,null,2,null,null,null,null,null,null,null,null,null,null,null,1,1,1,null,null,null,null,null,null,null,null,null,null,null,null,null,null,null,null,null,null,null,null,null,null,1,{"$f":"IF(AZ193=1,G193,0)","v":0},{"$f":"IF(AZ193=2,G193,0)","v":0},{"$f":"IF(AZ193=3,G193,0)","v":0},{"$f":"IF(AZ193=4,G193,0)","v":0},{"$f":"IF(AZ193=5,G193,0)","v":0},null,null,null,null,null,null,null,null,null,null,null,null,null,null,null,null,null,null,null,null,null,1,1]
[null,null,"Součástí položky je zajištění proměření vodiče a výchozí revize.",null,null,null,null,null,null,null,null,"Součástí položky je zajištění proměření vodiče a výchozí revize.",null,null,3]
[null,null,"Řad \"A8-1\" PE D 110x10,0 mm:",null,0,null,null,null,null,null,null,null,"Řad \"A8-1\" PE D 110x10,0 mm:"]
[null,null,"VP PE D 32x3,0 mm (17 kusů):85,00",null,85,null,null,null,null,null,null,null,"VP PE D 32x3,0 mm (17 kusů):85,00"]
[null,null,"Rezerva - 30%:85,00*0,3",null,25.5,null,null,null,null,null,null,null,"Rezerva - 30%:85,00*0,3"]
[null,null,"Řad \"A8-2-1\" PE D 90x8,2 mm:",null,0,null,null,null,null,null,null,null,"Řad \"A8-2-1\" PE D 90x8,2 mm:"]
[null,null,"VP PE D 32x3,0 mm (3 kusy):15,00",null,15,null,null,null,null,null,null,null,"VP PE D 32x3,0 mm (3 kusy):15,00"]
[null,null,"Rezerva - 30%:15,00*0,3",null,4.5,null,null,null,null,null,null,null,"Rezerva - 30%:15,00*0,3"]
[24,"28613576.01.R","Trubka PE100RC2 SDR11 D 32x3,0 mm L 100m","m",131.94999999999999,null,{"$f":"E201*F201","v":0},3.79E-3,{"$f":"E201*H201","v":0.50009049999999999},null,{"$f":"E201*J201","v":0},null,null,null,2,null,null,null,null,null,null,null,null,null,null,null,3,1,"28613576.01.R",null,null,null,null,null,null,null,null,null,null,null,null,null,null,null,null,null,null,null,null,null,null,1,{"$f":"IF(AZ201=1,G201,0)","v":0},{"$f":"IF(AZ201=2,G201,0)","v":0},{"$f":"IF(AZ201=3,G201,0)","v":0},{"$f":"IF(AZ201=4,G201,0)","v":0},{"$f":"IF(AZ201=5,G201,0)","v":0},null,null,null,null,null,null,null,null,null,null,null,null,null,null,null,null,null,null,null,null,null,3,1]
[null,null,"Řad \"A8-1\" PE D 110x10,0 mm:",null,0,null,null,null,null,null,null,null,"Řad \"A8-1\" PE D 110x10,0 mm:"]
[null,null,"VP PE D 32x3,0 mm (17 kusů):85,00*1,015",null,86.275000000000006,null,null,null,null,null,null,null,"VP PE D 32x3,0 mm (17 kusů):85,00*1,015"]
[null,null,"Rezerva - 30%:85,00*0,3*1,015",null,25.8825,null,null,null,null,null,null,null,"Rezerva - 30%:85,00*0,3*1,015"]
[null,null,"Řad \"A8-2-1\" PE D 90x8,2 mm:",null,0,null,null,null,null,null,null,null,"Řad \"A8-2-1\" PE D 90x8,2 mm:"]
[null,null,"VP PE D 32x3,0 mm (3 kusy):15,00*1,015",null,15.225,null,null,null,null,null,null,null,"VP PE D 32x3,0 mm (3 kusy):15,00*1,015"]
[null,null,"Rezerva - 30%:15,00*0,3*1,015",null,4.5674999999999999,null,null,null,null,null,null,null,"Rezerva - 30%:15,00*0,3*1,015"]
[25,"28653075.05.R","Elektrospojka d 32 mm PE 100 SDR11","kus",20.3,null,{"$f":"E208*F208","v":0},1.2999999999999999E-3,{"$f":"E208*H208","v":2.639E-2},null,{"$f":"E208*J208","v":0},null,null,null,2,null,null,null,null,null,null,null,null,null,null,null,3,1,"28653075.05.R",null,null,null,null,null,null,null,null,null,null,null,null,null,null,null,null,null,null,null,null,null,null,1,{"$f":"IF(AZ208=1,G208,0)","v":0},{"$f":"IF(AZ208=2,G208,0)","v":0},{"$f":"IF(AZ208=3,G208,0)","v":0},{"$f":"IF(AZ208=4,G208,0)","v":0},{"$f":"IF(AZ208=5,G208,0)","v":0},null,null,null,null,null,null,null,null,null,null,null,null,null,null,null,null,null,null,null,null,null,3,1]
[null,null,"Řad \"A8-1\" PE D 110x10,0 mm:",null,0,null,null,null,null,null,null,null,"Řad \"A8-1\" PE D 110x10,0 mm:"]
[null,null,"VP PE D 32x3,0 mm (17 kusů) - Elektrospojka PE D32:17*1,015",null,17.254999999999999,null,null,null,null,null,null,null,"VP PE D 32x3,0 mm (17 kusů) - Elektrospojka PE D32:17*1,015"]
[null,null,"Řad \"A8-2-1\" PE D 90x8,2 mm:",null,0,null,null,null,null,null,null,null,"Řad \"A8-2-1\" PE D 90x8,2 mm:"]
[null,null,"VP PE D 32x3,0 mm (3 kusy) - Elektrospojka PE D32:3*1,015",null,3.0449999999999999,null,null,null,null,null,null,null,"VP PE D 32x3,0 mm (3 kusy) - Elektrospojka PE D32:3*1,015"]
[null,"Celkem za","8 Trubní vedení",null,null,null,{"$f":"SUM(G126:G212)","v":0},null,{"$f":"SUM(I126:I212)","v":0.54218050000000007},null,{"$f":"SUM(K126:K212)","v":0},null,null,null,4,null,null,null,null,null,null,null,null,null,null,null,null,null,null,null,null,null,null,null,null,null,null,null,null,null,null,null,null,null,null,null,null,null,null,null,null,null,{"$f":"SUM(BA126:BA212)","v":0},{"$f":"SUM(BB126:BB212)","v":0},{"$f":"SUM(BC126:BC212)","v":0},{"$f":"SUM(BD126:BD212)","v":0},{"$f":"SUM(BE126:BE212)","v":0}]
["Díl:","99","Staveništní přesun hmot",null,null,null,null,null,null,null,null,null,null,null,1]
[26,"998276101RXX","Přesun hmot, trubní vedení plastová, otevř. výkop pro celý rozsah objektu","t",261.55902200000003,null,{"$f":"E215*F215","v":0},0,{"$f":"E215*H215","v":0},null,{"$f":"E215*J215","v":0},null,null,null,2,null,null,null,null,null,null,null,null,null,null,null,7,1,2,null,null,null,null,null,null,null,null,null,null,null,null,null,null,null,null,null,null,null,null,null,null,1,{"$f":"IF(AZ215=1,G215,0)","v":0},{"$f":"IF(AZ215=2,G215,0)","v":0},{"$f":"IF(AZ215=3,G215,0)","v":0},{"$f":"IF(AZ215=4,G215,0)","v":0},{"$f":"IF(AZ215=5,G215,0)","v":0},null,null,null,null,null,null,null,null,null,null,null,null,null,null,null,null,null,null,null,null,null,7,1]
[null,null,"Staveništní doprava pro celý rozsah objektu - doprava zmeziskládek vybudovaného zařízení staveniště zhotovitele na jednotlivé části staveniště.",null,null,null,null,null,null,null,null,"Staveništní doprava pro celý rozsah objektu - doprava zmeziskládek vybudovaného zařízení staveniště zhotovitele na jednotlivé části staveniště.",null,null,3]
[null,"Celkem za","99 Staveništní přesun hmot",null,null,null,{"$f":"SUM(G214:G216)","v":0},null,{"$f":"SUM(I214:I216)","v":0},null,{"$f":"SUM(K214:K216)","v":0},null,null,null,4,null,null,null,null,null,null,null,null,null,null,null,null,null,null,null,null,null,null,null,null,null,null,null,null,null,null,null,null,null,null,null,null,null,null,null,null,null,{"$f":"SUM(BA214:BA216)","v":0},{"$f":"SUM(BB214:BB216)","v":0},{"$f":"SUM(BC214:BC216)","v":0},{"$f":"SUM(BD214:BD216)","v":0},{"$f":"SUM(BE214:BE216)","v":0}]

{"sheet":"1.E 01 1.E 01.5 KL","index":22,"n_rows":45,"n_cols":8,"rows_kept":45,"cut":false,"hidden":false,"merged":[[50,1,50,6],[29,5,29,6],[30,5,30,6],[31,5,31,6],[32,5,32,6],[33,5,33,6],[36,1,44,6],[45,1,45,6],[46,1,46,6],[47,1,47,6],[48,1,48,6],[49,1,49,6],[22,0,22,1],[7,2,7,4],[8,2,8,4],[9,2,9,4],[10,2,10,4],[11,2,11,4]]}
["POLOŽKOVÝ ROZPOČET"]
["Rozpočet",null,"1.E 01.5","Úpravy stáv.vodovodních napojovacích bodů Hrabačov",null,"JKSO ","827.11"]
[]
["Objekt",null,null,null,null,"SKP "]
["1.E 01",null,"Vodovody",null,null,"Měrná jednotka","m"]
["Stavba",null,null,null,null,"Počet jednotek",0]
["3403",null,"Jilemnice - Optimalizace VS a komunikace I.Etapa",null,null,"Náklady na m.j.",{"$f":"IF(G6=0,,ROUND((F30+F32)/G6,1))","v":0}]
["Projektant",null,"Vodohospodářsko - inženýrské služby spol. s r.o.",null,null,"Typ rozpočtu"]
["Zpracovatel projektu"]
["Objednatel",null,"Vodohospodářské sdružení Turnov"]
["Dodavatel",null,".",null,null,"Zakázkové číslo "]
["Rozpočtoval",null,null,null,null,"Počet listů"]
["ROZPOČTOVÉ NÁKLADY"]
["Základní rozpočtové náklady"]
[null,"HSV celkem",{"$f":"'1.E 01 1.E 01.5 Rek'!E12","v":0}]
["Z","PSV celkem",{"$f":"'1.E 01 1.E 01.5 Rek'!F12","v":0}]
["R","M práce celkem",{"$f":"'1.E 01 1.E 01.5 Rek'!H12","v":0}]
["N","M dodávky celkem",{"$f":"'1.E 01 1.E 01.5 Rek'!G12","v":0}]
["ZRN celkem",null,{"$f":"SUM(C15:C18)","v":0}]
[]
["HZS",null,{"$f":"'1.E 01 1.E 01.5 Rek'!I12","v":0}]
["ZRN+HZS",null,{"$f":"C19+C21","v":0}]
["ZRN+ost.náklady+HZS",null,{"$f":"C22+G23","v":0}]
["Vypracoval",null,null,"Za zhotovitele",null,"Za objednatele"]
["Jméno :",null,null,"Jméno :",null,"Jméno :"]
["Datum :",null,null,"Datum :",null,"Datum :"]
[]
["Podpis :",null,null,"Podpis:",null,"Podpis:"]
[]
["Základ pro DPH",null,21,"%  ",null,{"$f":"C23-F32","v":0}]
["DPH",null,{"$f":"C30","v":21},"% ",null,{"$f":"ROUND(PRODUCT(F30,C31/100),0)","v":0}]
["Základ pro DPH",null,0,"% ",null,0]
["DPH",null,{"$f":"C32","v":0},"% ",null,{"$f":"ROUND(PRODUCT(F32,C33/100),0)","v":0}]
["CENA ZA OBJEKT CELKEM",null,null,null,null,{"$f":"ROUND(SUM(F30:F33),0)","v":0}]
[]
["Poznámka :",null,null,null,null,null,null," "]
[null,null,null,null,null,null,null," "]
[null,null,null,null,null,null,null," "]
[null,null,null,null,null,null,null," "]
[null,null,null,null,null,null,null," "]
[null,null,null,null,null,null,null," "]
[null,null,null,null,null,null,null," "]
[null,null,null,null,null,null,null," "]
[null,null,null,null,null,null,null," "]
[null,null,null,null,null,null,null," "]

{"sheet":"1.E 01 1.E 01.5 Rek","index":23,"n_rows":12,"n_cols":9,"rows_kept":12,"cut":false,"hidden":false,"merged":[[0,0,0,1],[1,0,1,1],[1,6,1,8]]}
["Stavba :",null,"3403 Jilemnice - Optimalizace VS a komunikace",null,null,null,"Rozpočet :","1.E 01.5"]
["Objekt :",null,"1.E 01 Vodovody",null,null,null,"Úpravy stáv.vodovodních napojovacích bodů Hrabačov"]
[]
["REKAPITULACE  STAVEBNÍCH  DÍLŮ"]
[]
[null,"Stavební díl",null,null,"HSV","PSV","Dodávka","Montáž","HZS"]
[{"$f":"'1.E 01 1.E 01.5 Pol'!B7","v":"1"},{"$f":"'1.E 01 1.E 01.5 Pol'!C7","v":"Zemní práce"},null,null,{"$f":"'1.E 01 1.E 01.5 Pol'!BA79","v":0},{"$f":"'1.E 01 1.E 01.5 Pol'!BB79","v":0},{"$f":"'1.E 01 1.E 01.5 Pol'!BC79","v":0},{"$f":"'1.E 01 1.E 01.5 Pol'!BD79","v":0},{"$f":"'1.E 01 1.E 01.5 Pol'!BE79","v":0}]
[{"$f":"'1.E 01 1.E 01.5 Pol'!B80","v":"45"},{"$f":"'1.E 01 1.E 01.5 Pol'!C80","v":"Podkladní a vedlejší konstrukce"},null,null,{"$f":"'1.E 01 1.E 01.5 Pol'!BA85","v":0},{"$f":"'1.E 01 1.E 01.5 Pol'!BB85","v":0},{"$f":"'1.E 01 1.E 01.5 Pol'!BC85","v":0},{"$f":"'1.E 01 1.E 01.5 Pol'!BD85","v":0},{"$f":"'1.E 01 1.E 01.5 Pol'!BE85","v":0}]
[{"$f":"'1.E 01 1.E 01.5 Pol'!B86","v":"5"},{"$f":"'1.E 01 1.E 01.5 Pol'!C86","v":"Komunikace"},null,null,{"$f":"'1.E 01 1.E 01.5 Pol'!BA91","v":0},{"$f":"'1.E 01 1.E 01.5 Pol'!BB91","v":0},{"$f":"'1.E 01 1.E 01.5 Pol'!BC91","v":0},{"$f":"'1.E 01 1.E 01.5 Pol'!BD91","v":0},{"$f":"'1.E 01 1.E 01.5 Pol'!BE91","v":0}]
[{"$f":"'1.E 01 1.E 01.5 Pol'!B92","v":"8"},{"$f":"'1.E 01 1.E 01.5 Pol'!C92","v":"Trubní vedení"},null,null,{"$f":"'1.E 01 1.E 01.5 Pol'!BA142","v":0},{"$f":"'1.E 01 1.E 01.5 Pol'!BB142","v":0},{"$f":"'1.E 01 1.E 01.5 Pol'!BC142","v":0},{"$f":"'1.E 01 1.E 01.5 Pol'!BD142","v":0},{"$f":"'1.E 01 1.E 01.5 Pol'!BE142","v":0}]
[{"$f":"'1.E 01 1.E 01.5 Pol'!B143","v":"99"},{"$f":"'1.E 01 1.E 01.5 Pol'!C143","v":"Staveništní přesun hmot"},null,null,{"$f":"'1.E 01 1.E 01.5 Pol'!BA146","v":0},{"$f":"'1.E 01 1.E 01.5 Pol'!BB146","v":0},{"$f":"'1.E 01 1.E 01.5 Pol'!BC146","v":0},{"$f":"'1.E 01 1.E 01.5 Pol'!BD146","v":0},{"$f":"'1.E 01 1.E 01.5 Pol'!BE146","v":0}]
[null,"CELKEM  OBJEKT",null,null,{"$f":"SUM(E7:E11)","v":0},{"$f":"SUM(F7:F11)","v":0},{"$f":"SUM(G7:G11)","v":0},{"$f":"SUM(H7:H11)","v":0},{"$f":"SUM(I7:I11)","v":0}]

{"sheet":"1.E 01 1.E 01.5 Pol","index":24,"n_rows":146,"n_cols":80,"rows_kept":146,"cut":false,"hidden":false,"merged":[[139,2,139,3],[140,2,140,3],[144,2,144,6],[131,2,131,3],[132,2,132,3],[133,2,133,3],[135,2,135,3],[136,2,136,3],[137,2,137,3],[123,2,123,3],[124,2,124,3],[126,2,126,3],[127,2,127,3],[128,2,128,3],[130,2,130,6],[116,2,116,6],[117,2,117,3],[118,2,118,3],[119,2,119,3],[121,2,121,6],[122,2,122,3],[107,2,107,3],[109,2,109,3],[110,2,110,3],[112,2,112,6],[113,2,113,3],[114,2,114,3],[101,2,101,3],[102,2,102,3],[103,2,103,3],[104,2,104,3],[105,2,105,3],[106,2,106,3],[93,2,93,6],[94,2,94,3],[95,2,95,3],[96,2,96,3],[97,2,97,3],[98,2,98,3],[99,2,99,3],[100,2,100,3],[81,2,81,3],[82,2,82,3],[83,2,83,3],[87,2,87,3],[88,2,88,3],[89,2,89,3],[73,2,73,3],[74,2,74,3],[75,2,75,3],[76,2,76,3],[77,2,77,3],[65,2,65,3],[66,2,66,3],[68,2,68,3],[69,2,69,3],[70,2,70,3],[72,2,72,3],[57,2,57,3],[58,2,58,3],[59,2,59,3],[61,2,61,3],[62,2,62,3],[63,2,63,3],[50,2,50,3],[52,2,52,6],[53,2,53,6],[54,2,54,3],[55,2,55,3],[56,2,56,3],[43,2,43,3],[44,2,44,3],[45,2,45,3],[46,2,46,3],[47,2,47,3],[49,2,49,3],[35,2,35,3],[37,2,37,3],[38,2,38,3],[39,2,39,3],[40,2,40,3],[41,2,41,3],[27,2,27,6],[28,2,28,3],[29,2,29,3],[31,2,31,3],[32,2,32,3],[34,2,34,3],[19,2,19,3],[20,2,20,3],[21,2,21,3],[22,2,22,3],[24,2,24,3],[25,2,25,3],[13,2,13,6],[14,2,14,3],[15,2,15,3],[16,2,16,3],[17,2,17,3],[18,2,18,3],[0,0,0,6],[2,0,2,1],[3,0,3,1],[3,4,3,6],[8,2,8,6],[9,2,9,6],[10,2,10,3],[11,2,11,3]]}
["Položkový rozpočet "]
[]
["Stavba :",null,"3403 Jilemnice - Optimalizace VS a komunikace",null,"Rozpočet:",{"$f":"'1.E 01 1.E 01.5 Rek'!H1","v":"1.E 01.5"}]
["Objekt :",null,"1.E 01 Vodovody",null,{"$f":"'1.E 01 1.E 01.5 Rek'!G2","v":"Úpravy stáv.vodovodních napojovacích bodů Hrabačov"}]
[]
["P.č.","Číslo položky","Název položky","MJ","množství","cena / MJ","celkem (Kč)","Jednotková hmotnost","Celková hmotnost","Jednotková dem.hmot.","Celková dem.hmot."]
["Díl:","1","Zemní práce",null,null,null,null,null,null,null,null,null,null,null,1]
[1,"130001101RRX","Příplatek za ztížené hloubení v blízkosti vedení ","m3",10.574199999999999,null,{"$f":"E8*F8","v":0},0,{"$f":"E8*H8","v":0},0,{"$f":"E8*J8","v":0},null,null,null,2,null,null,null,null,null,null,null,null,null,null,null,1,1,1,null,null,null,null,null,null,null,null,null,null,null,null,null,null,null,null,null,null,null,null,null,null,1,{"$f":"IF(AZ8=1,G8,0)","v":0},{"$f":"IF(AZ8=2,G8,0)","v":0},{"$f":"IF(AZ8=3,G8,0)","v":0},{"$f":"IF(AZ8=4,G8,0)","v":0},{"$f":"IF(AZ8=5,G8,0)","v":0},null,null,null,null,null,null,null,null,null,null,null,null,null,null,null,null,null,null,null,null,null,1,1]
[null,null,"Včetně případných nutných dokopávem a ručního výkopu podél sousedících inženýrských sítí.",null,null,null,null,null,null,null,null,"Včetně případných nutných dokopávem a ručního výkopu podél sousedících inženýrských sítí.",null,null,3]
[null,null,"Součástí položky je i dočasné zajištění inženýrských sítí v prostoru výkopů (potrubí, kabely a pod.)",null,null,null,null,null,null,null,null,"Součástí položky je i dočasné zajištění inženýrských sítí v prostoru výkopů (potrubí, kabely a pod.)",null,null,3]
[null,null,"Výkopy:",null,0,null,null,null,null,null,null,null,"Výkopy:"]
[null,null,"V hornině tř. 3 - 5 - 35%:30,2120*0,35",null,10.574199999999999,null,null,null,null,null,null,null,"V hornině tř. 3 - 5 - 35%:30,2120*0,35"]
[2,"132201212R00","Hloubení rýh š.do 200 cm hor.3 do 1000m3,STROJNĚ ","m3",12.0848,null,{"$f":"E13*F13","v":0},0,{"$f":"E13*H13","v":0},0,{"$f":"E13*J13","v":0},null,null,null,2,null,null,null,null,null,null,null,null,null,null,null,1,1,1,null,null,null,null,null,null,null,null,null,null,null,null,null,null,null,null,null,null,null,null,null,null,1,{"$f":"IF(AZ13=1,G13,0)","v":0},{"$f":"IF(AZ13=2,G13,0)","v":0},{"$f":"IF(AZ13=3,G13,0)","v":0},{"$f":"IF(AZ13=4,G13,0)","v":0},{"$f":"IF(AZ13=5,G13,0)","v":0},null,null,null,null,null,null,null,null,null,null,null,null,null,null,null,null,null,null,null,null,null,1,1]
[null,null,"Položka obsahuje hloubení rýh traktorbagrem, naložení výkopku na dopravní prostředek pro svislé, nebo vodorovné přemístění, popř. přemístění výkopku do 3 m (po povrchu území), případné zajištění rypadel polštáři, udržování pracoviště a ochranu výkopiště proti stékání srážkové vody z okolního terénu i s jejím odvodněním, nebo odvedením, přesekání a odstranění kořenů ve výkopišti, odstranění napadávek, urovnání dna výkopu.",null,null,null,null,null,null,null,null,"Položka obsahuje hloubení rýh traktorbagrem, naložení výkopku na dopravní prostředek pro svislé, nebo vodorovné přemístění, popř. přemístění výkopku do 3 m (po povrchu území), případné zajištění rypadel polštáři, udržování pracoviště a ochranu výkopiště proti stékání srážkové vody z okolního terénu i s jejím odvodněním, nebo odvedením, přesekání a odstranění kořenů ve výkopišti, odstranění napadávek, urovnání dna výkopu.",null,null,3]
[null,null,"Výkopy:",null,0,null,null,null,null,null,null,null,"Výkopy:"]
[null,null,"Začátek provozního součtu",null,0,null,null,null,null,null,null,null,"Začátek provozního součtu"]
[null,null,"Průměrná hloubka výkopů 1,70 m:",null,0,null,null,null,null,null,null,null,"Průměrná hloubka výkopů 1,70 m:"]
[null,null,"Řad \"A8-2\" PE D 110x10,0 mm:",null,0,null,null,null,null,null,null,null,"Řad \"A8-2\" PE D 110x10,0 mm:"]
[null,null,"VP PE D 32x3,0 mm (9 kusů):20,00*0,70*1,70",null,23.8,null,null,null,null,null,null,null,"VP PE D 32x3,0 mm (9 kusů):20,00*0,70*1,70"]
[null,null,"Rezerva - 30%:20,00*0,3*0,70*1,70",null,7.14,null,null,null,null,null,null,null,"Rezerva - 30%:20,00*0,3*0,70*1,70"]
[null,null,"Odpočet předpokládaného objemu MK:-(2,00+2,00*0,3)*0,70*0,40",null,-0.72799999999999998,null,null,null,null,null,null,null,"Odpočet předpokládaného objemu MK:-(2,00+2,00*0,3)*0,70*0,40"]
[null,null,"Konec provozního součtu",null,30.212,null,null,null,null,null,null,null,"Konec provozního součtu"]
[null,null,"V hornině tř. 3 - 40%:30,2120*0,4",null,12.0848,null,null,null,null,null,null,null,"V hornině tř. 3 - 40%:30,2120*0,4"]
[3,"132201219R00","Přípl.za lepivost,hloubení rýh 200cm,hor.3,STROJNĚ ","m3",6.0423999999999998,null,{"$f":"E24*F24","v":0},0,{"$f":"E24*H24","v":0},0,{"$f":"E24*J24","v":0},null,null,null,2,null,null,null,null,null,null,null,null,null,null,null,1,1,1,null,null,null,null,null,null,null,null,null,null,null,null,null,null,null,null,null,null,null,null,null,null,1,{"$f":"IF(AZ24=1,G24,0)","v":0},{"$f":"IF(AZ24=2,G24,0)","v":0},{"$f":"IF(AZ24=3,G24,0)","v":0},{"$f":"IF(AZ24=4,G24,0)","v":0},{"$f":"IF(AZ24=5,G24,0)","v":0},null,null,null,null,null,null,null,null,null,null,null,null,null,null,null,null,null,null,null,null,null,1,1]
[null,null,"Výkopy:",null,0,null,null,null,null,null,null,null,"Výkopy:"]
[null,null,"V hornině tř. 3 - 40%:30,2120*0,4*0,5",null,6.0423999999999998,null,null,null,null,null,null,null,"V hornině tř. 3 - 40%:30,2120*0,4*0,5"]
[4,"132301212R00","Hloubení rýh š.do 200 cm hor.4 do 1000 m3, STROJNĚ ","m3",15.106,null,{"$f":"E27*F27","v":0},0,{"$f":"E27*H27","v":0},0,{"$f":"E27*J27","v":0},null,null,null,2,null,null,null,null,null,null,null,null,null,null,null,1,1,1,null,null,null,null,null,null,null,null,null,null,null,null,null,null,null,null,null,null,null,null,null,null,1,{"$f":"IF(AZ27=1,G27,0)","v":0},{"$f":"IF(AZ27=2,G27,0)","v":0},{"$f":"IF(AZ27=3,G27,0)","v":0},{"$f":"IF(AZ27=4,G27,0)","v":0},{"$f":"IF(AZ27=5,G27,0)","v":0},null,null,null,null,null,null,null,null,null,null,null,null,null,null,null,null,null,null,null,null,null,1,1]
[null,null,"Položka obsahuje hloubení rýh traktorbagrem, naložení výkopku na dopravní prostředek pro svislé, nebo vodorovné přemístění, popř. přemístění výkopku do 3 m (po povrchu území), případné zajištění rypadel polštáři, udržování pracoviště a ochranu výkopiště proti stékání srážkové vody z okolního terénu i s jejím odvodněním, nebo odvedením, přesekání a odstranění kořenů ve výkopišti, odstranění napadávek, urovnání dna výkopu.",null,null,null,null,null,null,null,null,"Položka obsahuje hloubení rýh traktorbagrem, naložení výkopku na dopravní prostředek pro svislé, nebo vodorovné přemístění, popř. přemístění výkopku do 3 m (po povrchu území), případné zajištění rypadel polštáři, udržování pracoviště a ochranu výkopiště proti stékání srážkové vody z okolního terénu i s jejím odvodněním, nebo odvedením, přesekání a odstranění kořenů ve výkopišti, odstranění napadávek, urovnání dna výkopu.",null,null,3]
[null,null,"Výkopy:",null,0,null,null,null,null,null,null,null,"Výkopy:"]
[null,null,"V hornině tř. 4 - 50%:30,2120*0,5",null,15.106,null,null,null,null,null,null,null,"V hornině tř. 4 - 50%:30,2120*0,5"]
[5,"132301219R00","Přípl.za lepivost,hloubení rýh 200cm,hor.4,STROJNĚ ","m3",7.5529999999999999,null,{"$f":"E31*F31","v":0},0,{"$f":"E31*H31","v":0},0,{"$f":"E31*J31","v":0},null,null,null,2,null,null,null,null,null,null,null,null,null,null,null,1,1,1,null,null,null,null,null,null,null,null,null,null,null,null,null,null,null,null,null,null,null,null,null,null,1,{"$f":"IF(AZ31=1,G31,0)","v":0},{"$f":"IF(AZ31=2,G31,0)","v":0},{"$f":"IF(AZ31=3,G31,0)","v":0},{"$f":"IF(AZ31=4,G31,0)","v":0},{"$f":"IF(AZ31=5,G31,0)","v":0},null,null,null,null,null,null,null,null,null,null,null,null,null,null,null,null,null,null,null,null,null,1,1]
[null,null,"Výkopy:",null,0,null,null,null,null,null,null,null,"Výkopy:"]
[null,null,"V hornině tř. 4 - 50%:30,2120*0,5*0,5",null,7.5529999999999999,null,null,null,null,null,null,null,"V hornině tř. 4 - 50%:30,2120*0,5*0,5"]
[6,"132401211RXX","Hloubení rýh šířky do 200 cm v hor.5, STROJNĚ Včetně případného dolamování nebo frézování","m3",3.0211999999999999,null,{"$f":"E34*F34","v":0},0,{"$f":"E34*H34","v":0},0,{"$f":"E34*J34","v":0},null,null,null,2,null,null,null,null,null,null,null,null,null,null,null,1,1,1,null,null,null,null,null,null,null,null,null,null,null,null,null,null,null,null,null,null,null,null,null,null,1,{"$f":"IF(AZ34=1,G34,0)","v":0},{"$f":"IF(AZ34=2,G34,0)","v":0},{"$f":"IF(AZ34=3,G34,0)","v":0},{"$f":"IF(AZ34=4,G34,0)","v":0},{"$f":"IF(AZ34=5,G34,0)","v":0},null,null,null,null,null,null,null,null,null,null,null,null,null,null,null,null,null,null,null,null,null,1,1]
[null,null,"Výkopy:",null,0,null,null,null,null,null,null,null,"Výkopy:"]
[null,null,"V hornině tř. 5 - 10%:30,2120*0,1",null,3.0211999999999999,null,null,null,null,null,null,null,"V hornině tř. 5 - 10%:30,2120*0,1"]
[7,"151101101R00","Pažení a rozepření stěn rýh - příložné - hl.do 2 m ","m2",88.4,null,{"$f":"E37*F37","v":0},9.8999999999999999E-4,{"$f":"E37*H37","v":8.751600000000001E-2},0,{"$f":"E37*J37","v":0},null,null,null,2,null,null,null,null,null,null,null,null,null,null,null,1,1,1,null,null,null,null,null,null,null,null,null,null,null,null,null,null,null,null,null,null,null,null,null,null,1,{"$f":"IF(AZ37=1,G37,0)","v":0},{"$f":"IF(AZ37=2,G37,0)","v":0},{"$f":"IF(AZ37=3,G37,0)","v":0},{"$f":"IF(AZ37=4,G37,0)","v":0},{"$f":"IF(AZ37=5,G37,0)","v":0},null,null,null,null,null,null,null,null,null,null,null,null,null,null,null,null,null,null,null,null,null,1,1]
[null,null,"Výkopy:",null,0,null,null,null,null,null,null,null,"Výkopy:"]
[null,null,"Průměrná hloubka výkopů 1,70 m:",null,0,null,null,null,null,null,null,null,"Průměrná hloubka výkopů 1,70 m:"]
[null,null,"Řad \"A8-2\" PE D 110x10,0 mm:",null,0,null,null,null,null,null,null,null,"Řad \"A8-2\" PE D 110x10,0 mm:"]
[null,null,"VP PE D 32x3,0 mm (9 kusů):20,00*1,70*2",null,68,null,null,null,null,null,null,null,"VP PE D 32x3,0 mm (9 kusů):20,00*1,70*2"]
[null,null,"Rezerva - 30%:20,00*0,3*1,70*2",null,20.399999999999999,null,null,null,null,null,null,null,"Rezerva - 30%:20,00*0,3*1,70*2"]
[8,"151101111R00","Odstranění pažení stěn rýh - příložné - hl. do 2 m ","m2",88.4,null,{"$f":"E43*F43","v":0},0,{"$f":"E43*H43","v":0},0,{"$f":"E43*J43","v":0},null,null,null,2,null,null,null,null,null,null,null,null,null,null,null,1,1,1,null,null,null,null,null,null,null,null,null,null,null,null,null,null,null,null,null,null,null,null,null,null,1,{"$f":"IF(AZ43=1,G43,0)","v":0},{"$f":"IF(AZ43=2,G43,0)","v":0},{"$f":"IF(AZ43=3,G43,0)","v":0},{"$f":"IF(AZ43=4,G43,0)","v":0},{"$f":"IF(AZ43=5,G43,0)","v":0},null,null,null,null,null,null,null,null,null,null,null,null,null,null,null,null,null,null,null,null,null,1,1]
[null,null,"Výkopy:",null,0,null,null,null,null,null,null,null,"Výkopy:"]
[null,null,"Průměrná hloubka výkopů 1,70 m:",null,0,null,null,null,null,null,null,null,"Průměrná hloubka výkopů 1,70 m:"]
[null,null,"Řad \"A8-2\" PE D 110x10,0 mm:",null,0,null,null,null,null,null,null,null,"Řad \"A8-2\" PE D 110x10,0 mm:"]
[null,null,"VP PE D 32x3,0 mm (9 kusů):20,00*1,70*2",null,68,null,null,null,null,null,null,null,"VP PE D 32x3,0 mm (9 kusů):20,00*1,70*2"]
[null,null,"Rezerva - 30%:20,00*0,3*1,70*2",null,20.399999999999999,null,null,null,null,null,null,null,"Rezerva - 30%:20,00*0,3*1,70*2"]
[9,"162701105RSZ","Vodorovné přemístění výkopku z hor.1-7 na skládku zhotovitele","m3",30.212,null,{"$f":"E49*F49","v":0},0,{"$f":"E49*H49","v":0},0,{"$f":"E49*J49","v":0},null,null,null,2,null,null,null,null,null,null,null,null,null,null,null,1,1,1,null,null,null,null,null,null,null,null,null,null,null,null,null,null,null,null,null,null,null,null,null,null,1,{"$f":"IF(AZ49=1,G49,0)","v":0},{"$f":"IF(AZ49=2,G49,0)","v":0},{"$f":"IF(AZ49=3,G49,0)","v":0},{"$f":"IF(AZ49=4,G49,0)","v":0},{"$f":"IF(AZ49=5,G49,0)","v":0},null,null,null,null,null,null,null,null,null,null,null,null,null,null,null,null,null,null,null,null,null,1,1]
[null,null,"Výkopy:",null,0,null,null,null,null,null,null,null,"Výkopy:"]
[null,null,"V hornině tř. 3 - 5 :30,2120",null,30.212,null,null,null,null,null,null,null,"V hornině tř. 3 - 5 :30,2120"]
[10,"174101101R00","Zásyp jam, rýh, šachet se zhutněním ","m3",21.439599999999999,null,{"$f":"E52*F52","v":0},0,{"$f":"E52*H52","v":0},0,{"$f":"E52*J52","v":0},null,null,null,2,null,null,null,null,null,null,null,null,null,null,null,1,1,1,null,null,null,null,null,null,null,null,null,null,null,null,null,null,null,null,null,null,null,null,null,null,1,{"$f":"IF(AZ52=1,G52,0)","v":0},{"$f":"IF(AZ52=2,G52,0)","v":0},{"$f":"IF(AZ52=3,G52,0)","v":0},{"$f":"IF(AZ52=4,G52,0)","v":0},{"$f":"IF(AZ52=5,G52,0)","v":0},null,null,null,null,null,null,null,null,null,null,null,null,null,null,null,null,null,null,null,null,null,1,1]
[null,null,"Položka obsahuje strojní přemístění materiálu pro zásyp ze vzdálenosti do 10 m od okraje zásypu.",null,null,null,null,null,null,null,null,"Položka obsahuje strojní přemístění materiálu pro zásyp ze vzdálenosti do 10 m od okraje zásypu.",null,null,3]
[null,null,null,null,null,null,null,null,null,null,null,null,null,null,3]
[null,null,"Zásypy ŠD fr. 0-63 mm:21,4396",null,21.439599999999999,null,null,null,null,null,null,null,"Zásypy ŠD fr. 0-63 mm:21,4396"]
[null,null,"Začátek provozního součtu",null,0,null,null,null,null,null,null,null,"Začátek provozního součtu"]
[null,null,"Výkopy:",null,0,null,null,null,null,null,null,null,"Výkopy:"]
[null,null,"V hornině tř. 3 - 5:30,2120",null,30.212,null,null,null,null,null,null,null,"V hornině tř. 3 - 5:30,2120"]
[null,null,"Odpočet objemu lože, potrubí a obsypů:-(20,00+20,00*0,30)*0,70*(0,15+0,032+0,30)",null,-8.7723999999999993,null,null,null,null,null,null,null,"Odpočet objemu lože, potrubí a obsypů:-(20,00+20,00*0,30)*0,70*(0,15+0,032+0,30)"]
[null,null,"Konec provozního součtu",null,21.439599999999999,null,null,null,null,null,null,null,"Konec provozního součtu"]
[11,"175101101R00","Obsyp potrubí bez prohození sypaniny ","m3",6.0214999999999996,null,{"$f":"E61*F61","v":0},0,{"$f":"E61*H61","v":0},0,{"$f":"E61*J61","v":0},null,null,null,2,null,null,null,null,null,null,null,null,null,null,null,1,1,1,null,null,null,null,null,null,null,null,null,null,null,null,null,null,null,null,null,null,null,null,null,null,1,{"$f":"IF(AZ61=1,G61,0)","v":0},{"$f":"IF(AZ61=2,G61,0)","v":0},{"$f":"IF(AZ61=3,G61,0)","v":0},{"$f":"IF(AZ61=4,G61,0)","v":0},{"$f":"IF(AZ61=5,G61,0)","v":0},null,null,null,null,null,null,null,null,null,null,null,null,null,null,null,null,null,null,null,null,null,1,1]
[null,null,"Řad \"A8-2\" PE D 110x10,0 mm:",null,0,null,null,null,null,null,null,null,"Řad \"A8-2\" PE D 110x10,0 mm:"]
[null,null,"VP PE D 32x3,0 mm (9 kusů):20,00*(0,70*(0,032+0,30)-0,016^2*Pi)",null,4.6318999999999999,null,null,null,null,null,null,null,"VP PE D 32x3,0 mm (9 kusů):20,00*(0,70*(0,032+0,30)-0,016^2*Pi)"]
[null,null,"Rezerva - 30%:20,00*0,3*(0,70*(0,032+0,30)-0,016^2*Pi)",null,1.3895999999999999,null,null,null,null,null,null,null,"Rezerva - 30%:20,00*0,3*(0,70*(0,032+0,30)-0,016^2*Pi)"]
[12,"199000002R00","Poplatek za skládku horniny 1- 7 č. dle katal. odpadů 17 05 04","m3",30.212,null,{"$f":"E65*F65","v":0},0,{"$f":"E65*H65","v":0},0,{"$f":"E65*J65","v":0},null,null,null,2,null,null,null,null,null,null,null,null,null,null,null,1,1,1,null,null,null,null,null,null,null,null,null,null,null,null,null,null,null,null,null,null,null,null,null,null,1,{"$f":"IF(AZ65=1,G65,0)","v":0},{"$f":"IF(AZ65=2,G65,0)","v":0},{"$f":"IF(AZ65=3,G65,0)","v":0},{"$f":"IF(AZ65=4,G65,0)","v":0},{"$f":"IF(AZ65=5,G65,0)","v":0},null,null,null,null,null,null,null,null,null,null,null,null,null,null,null,null,null,null,null,null,null,1,1]
[null,null,"Výkopy:",null,0,null,null,null,null,null,null,null,"Výkopy:"]
[null,null,"V hornině tř. 3 - 5 :30,2120",null,30.212,null,null,null,null,null,null,null,"V hornině tř. 3 - 5 :30,2120"]
[13,"58337308.R","Štěrkopísek frakce 0-2 tř.B","t",11.9992,null,{"$f":"E68*F68","v":0},1,{"$f":"E68*H68","v":11.9992},null,{"$f":"E68*J68","v":0},null,null,null,2,null,null,null,null,null,null,null,null,null,null,null,3,1,"58337308.R",null,null,null,null,null,null,null,null,null,null,null,null,null,null,null,null,null,null,null,null,null,null,1,{"$f":"IF(AZ68=1,G68,0)","v":0},{"$f":"IF(AZ68=2,G68,0)","v":0},{"$f":"IF(AZ68=3,G68,0)","v":0},{"$f":"IF(AZ68=4,G68,0)","v":0},{"$f":"IF(AZ68=5,G68,0)","v":0},null,null,null,null,null,null,null,null,null,null,null,null,null,null,null,null,null,null,null,null,null,3,1]
[null,null,"Řad \"A8-2\" PE D 110x10,0 mm:",null,0,null,null,null,null,null,null,null,"Řad \"A8-2\" PE D 110x10,0 mm:"]
[null,null,"VP PE D 32x3,0 mm (9 kusů):20,00*(0,70*(0,032+0,30)-0,016^2*Pi)*1,973*1,01",null,9.2302,null,null,null,null,null,null,null,"VP PE D 32x3,0 mm (9 kusů):20,00*(0,70*(0,032+0,30)-0,016^2*Pi)*1,973*1,01"]
[null,null,"Rezerva - 30%:20,00*0,3*(0,70*(0,032+0,30)-0,016^2*Pi)*1,973*1,01",null,2.7690000000000001,null,null,null,null,null,null,null,"Rezerva - 30%:20,00*0,3*(0,70*(0,032+0,30)-0,016^2*Pi)*1,973*1,01"]
[14,"58344197R","Štěrkodrtě frakce 0-63 A","t",40.557899999999997,null,{"$f":"E72*F72","v":0},1,{"$f":"E72*H72","v":40.557899999999997},null,{"$f":"E72*J72","v":0},null,null,null,2,null,null,null,null,null,null,null,null,null,null,null,3,1,"58344197R",null,null,null,null,null,null,null,null,null,null,null,null,null,null,null,null,null,null,null,null,null,null,1,{"$f":"IF(AZ72=1,G72,0)","v":0},{"$f":"IF(AZ72=2,G72,0)","v":0},{"$f":"IF(AZ72=3,G72,0)","v":0},{"$f":"IF(AZ72=4,G72,0)","v":0},{"$f":"IF(AZ72=5,G72,0)","v":0},null,null,null,null,null,null,null,null,null,null,null,null,null,null,null,null,null,null,null,null,null,3,1]
[null,null,"Zásypy ŠD fr. 0-63 mm:21,4396*1,873*1,01",null,40.557899999999997,null,null,null,null,null,null,null,"Zásypy ŠD fr. 0-63 mm:21,4396*1,873*1,01"]
[null,null,"Začátek provozního součtu",null,0,null,null,null,null,null,null,null,"Začátek provozního součtu"]
[null,null,"Výkopy:",null,0,null,null,null,null,null,null,null,"Výkopy:"]
[null,null,"V hornině tř. 3 - 5:30,2120",null,30.212,null,null,null,null,null,null,null,"V hornině tř. 3 - 5:30,2120"]
[null,null,"Odpočet objemu lože, potrubí a obsypů:-(20,00+20,00*0,30)*0,70*(0,15+0,032+0,30)",null,-8.7723999999999993,null,null,null,null,null,null,null,"Odpočet objemu lože, potrubí a obsypů:-(20,00+20,00*0,30)*0,70*(0,15+0,032+0,30)"]
[null,null,"Konec provozního součtu",null,21.439599999999999,null,null,null,null,null,null,null,"Konec provozního součtu"]
[null,"Celkem za","1 Zemní práce",null,null,null,{"$f":"SUM(G7:G78)","v":0},null,{"$f":"SUM(I7:I78)","v":52.644615999999999},null,{"$f":"SUM(K7:K78)","v":0},null,null,null,4,null,null,null,null,null,null,null,null,null,null,null,null,null,null,null,null,null,null,null,null,null,null,null,null,null,null,null,null,null,null,null,null,null,null,null,null,null,{"$f":"SUM(BA7:BA78)","v":0},{"$f":"SUM(BB7:BB78)","v":0},{"$f":"SUM(BC7:BC78)","v":0},{"$f":"SUM(BD7:BD78)","v":0},{"$f":"SUM(BE7:BE78)","v":0}]
["Díl:","45","Podkladní a vedlejší konstrukce",null,null,null,null,null,null,null,null,null,null,null,1]
[15,"451572111R00","Lože pod potrubí z kameniva těženého 0 - 4 mm ","m3",2.73,null,{"$f":"E81*F81","v":0},0.43051,{"$f":"E81*H81","v":1.1752923},0,{"$f":"E81*J81","v":0},null,null,null,2,null,null,null,null,null,null,null,null,null,null,null,1,1,1,null,null,null,null,null,null,null,null,null,null,null,null,null,null,null,null,null,null,null,null,null,null,1,{"$f":"IF(AZ81=1,G81,0)","v":0},{"$f":"IF(AZ81=2,G81,0)","v":0},{"$f":"IF(AZ81=3,G81,0)","v":0},{"$f":"IF(AZ81=4,G81,0)","v":0},{"$f":"IF(AZ81=5,G81,0)","v":0},null,null,null,null,null,null,null,null,null,null,null,null,null,null,null,null,null,null,null,null,null,1,1]
[null,null,"Řad \"A8-2\" PE D 110x10,0 mm:",null,0,null,null,null,null,null,null,null,"Řad \"A8-2\" PE D 110x10,0 mm:"]
[null,null,"VP PE D 32x3,0 mm (9 kusů):20,00*0,70*0,15",null,2.1,null,null,null,null,null,null,null,"VP PE D 32x3,0 mm (9 kusů):20,00*0,70*0,15"]
[null,null,"Rezerva - 30%:20,00*0,3*0,70*0,15",null,0.63,null,null,null,null,null,null,null,"Rezerva - 30%:20,00*0,3*0,70*0,15"]
[null,"Celkem za","45 Podkladní a vedlejší konstrukce",null,null,null,{"$f":"SUM(G80:G84)","v":0},null,{"$f":"SUM(I80:I84)","v":1.1752923},null,{"$f":"SUM(K80:K84)","v":0},null,null,null,4,null,null,null,null,null,null,null,null,null,null,null,null,null,null,null,null,null,null,null,null,null,null,null,null,null,null,null,null,null,null,null,null,null,null,null,null,null,{"$f":"SUM(BA80:BA84)","v":0},{"$f":"SUM(BB80:BB84)","v":0},{"$f":"SUM(BC80:BC84)","v":0},{"$f":"SUM(BD80:BD84)","v":0},{"$f":"SUM(BE80:BE84)","v":0}]
["Díl:","5","Komunikace",null,null,null,null,null,null,null,null,null,null,null,1]
[16,"572701119RRX","Provizorní zásyp rýh kam. hrubě drceným nebo recyk s následným odstraněním a odvozem","m3",7.28,null,{"$f":"E87*F87","v":0},1.4804999999999999,{"$f":"E87*H87","v":10.778039999999999},0,{"$f":"E87*J87","v":0},null,null,null,2,null,null,null,null,null,null,null,null,null,null,null,1,1,1,null,null,null,null,null,null,null,null,null,null,null,null,null,null,null,null,null,null,null,null,null,null,1,{"$f":"IF(AZ87=1,G87,0)","v":0},{"$f":"IF(AZ87=2,G87,0)","v":0},{"$f":"IF(AZ87=3,G87,0)","v":0},{"$f":"IF(AZ87=4,G87,0)","v":0},{"$f":"IF(AZ87=5,G87,0)","v":0},null,null,null,null,null,null,null,null,null,null,null,null,null,null,null,null,null,null,null,null,null,1,1]
[null,null,"Řad \"A8-2\" PE D 110x10,0 mm:",null,0,null,null,null,null,null,null,null,"Řad \"A8-2\" PE D 110x10,0 mm:"]
[null,null,"VP PE D 32x3,0 mm (9 kusů):20,00*0,70*0,40",null,5.6,null,null,null,null,null,null,null,"VP PE D 32x3,0 mm (9 kusů):20,00*0,70*0,40"]
[null,null,"Rezerva - 30%:20,00*0,3*0,70*0,40",null,1.68,null,null,null,null,null,null,null,"Rezerva - 30%:20,00*0,3*0,70*0,40"]
[null,"Celkem za","5 Komunikace",null,null,null,{"$f":"SUM(G86:G90)","v":0},null,{"$f":"SUM(I86:I90)","v":10.778039999999999},null,{"$f":"SUM(K86:K90)","v":0},null,null,null,4,null,null,null,null,null,null,null,null,null,null,null,null,null,null,null,null,null,null,null,null,null,null,null,null,null,null,null,null,null,null,null,null,null,null,null,null,null,{"$f":"SUM(BA86:BA90)","v":0},{"$f":"SUM(BB86:BB90)","v":0},{"$f":"SUM(BC86:BC90)","v":0},{"$f":"SUM(BD86:BD90)","v":0},{"$f":"SUM(BE86:BE90)","v":0}]
["Díl:","8","Trubní vedení",null,null,null,null,null,null,null,null,null,null,null,1]
[17,"871161121R00","Montáž trubek polyetylenových ve výkopu d 32 mm ","m",26,null,{"$f":"E93*F93","v":0},0,{"$f":"E93*H93","v":0},0,{"$f":"E93*J93","v":0},null,null,null,2,null,null,null,null,null,null,null,null,null,null,null,1,1,1,null,null,null,null,null,null,null,null,null,null,null,null,null,null,null,null,null,null,null,null,null,null,1,{"$f":"IF(AZ93=1,G93,0)","v":0},{"$f":"IF(AZ93=2,G93,0)","v":0},{"$f":"IF(AZ93=3,G93,0)","v":0},{"$f":"IF(AZ93=4,G93,0)","v":0},{"$f":"IF(AZ93=5,G93,0)","v":0},null,null,null,null,null,null,null,null,null,null,null,null,null,null,null,null,null,null,null,null,null,1,1]
[null,null,"V položce je uvažováno použití svitku. ",null,null,null,null,null,null,null,null,"V položce je uvažováno použití svitku. ",null,null,3]
[null,null,"Řad \"A8-2\" PE D 110x10,0 mm:",null,0,null,null,null,null,null,null,null,"Řad \"A8-2\" PE D 110x10,0 mm:"]
[null,null,"VP PE D 32x3,0 mm (9 kusů):20,00",null,20,null,null,null,null,null,null,null,"VP PE D 32x3,0 mm (9 kusů):20,00"]
[null,null,"Začátek provozního součtu",null,0,null,null,null,null,null,null,null,"Začátek provozního součtu"]
[null,null,"Pro čp. 898:",null,0,null,null,null,null,null,null,null,"Pro čp. 898:"]
[null,null,"Pro čp. 897:",null,0,null,null,null,null,null,null,null,"Pro čp. 897:"]
[null,null,"Pro čp. 877:",null,0,null,null,null,null,null,null,null,"Pro čp. 877:"]
[null,null,"Pro čp. 893:",null,0,null,null,null,null,null,null,null,"Pro čp. 893:"]
[null,null,"Pro čp. 876:",null,0,null,null,null,null,null,null,null,"Pro čp. 876:"]
[null,null,"Pro čp. 892:",null,0,null,null,null,null,null,null,null,"Pro čp. 892:"]
[null,null,"Pro čp. 891:",null,0,null,null,null,null,null,null,null,"Pro čp. 891:"]
[null,null,"Pro čp. 818:",null,0,null,null,null,null,null,null,null,"Pro čp. 818:"]
[null,null,"Pro čp. 816:",null,0,null,null,null,null,null,null,null,"Pro čp. 816:"]
[null,null,"Konec provozního součtu",null,0,null,null,null,null,null,null,null,"Konec provozního součtu"]
[null,null,"Rezerva - 30%:20,00*0,3",null,6,null,null,null,null,null,null,null,"Rezerva - 30%:20,00*0,3"]
[18,"877162121R00","Přirážka za 1 spoj elektrotvarovky d 32 mm ","kus",9,null,{"$f":"E109*F109","v":0},0,{"$f":"E109*H109","v":0},0,{"$f":"E109*J109","v":0},null,null,null,2,null,null,null,null,null,null,null,null,null,null,null,1,1,1,null,null,null,null,null,null,null,null,null,null,null,null,null,null,null,null,null,null,null,null,null,null,1,{"$f":"IF(AZ109=1,G109,0)","v":0},{"$f":"IF(AZ109=2,G109,0)","v":0},{"$f":"IF(AZ109=3,G109,0)","v":0},{"$f":"IF(AZ109=4,G109,0)","v":0},{"$f":"IF(AZ109=5,G109,0)","v":0},null,null,null,null,null,null,null,null,null,null,null,null,null,null,null,null,null,null,null,null,null,1,1]
[null,null,"Řad \"A8-2\" PE D 110x10,0 mm:",null,0,null,null,null,null,null,null,null,"Řad \"A8-2\" PE D 110x10,0 mm:"]
[null,null,"VP PE D 32x3,0 mm (9 kusů) - Elektrospojka PE D32:9",null,9,null,null,null,null,null,null,null,"VP PE D 32x3,0 mm (9 kusů) - Elektrospojka PE D32:9"]
[19,"891183439RX0","Přepojení potrubí PE na přípojkách D 32 včetně dodávky přepojovací tvarovky","kus",9,null,{"$f":"E112*F112","v":0},4.6000000000000001E-4,{"$f":"E112*H112","v":4.1400000000000005E-3},0,{"$f":"E112*J112","v":0},null,null,null,2,null,null,null,null,null,null,null,null,null,null,null,1,1,1,null,null,null,null,null,null,null,null,null,null,null,null,null,null,null,null,null,null,null,null,null,null,1,{"$f":"IF(AZ112=1,G112,0)","v":0},{"$f":"IF(AZ112=2,G112,0)","v":0},{"$f":"IF(AZ112=3,G112,0)","v":0},{"$f":"IF(AZ112=4,G112,0)","v":0},{"$f":"IF(AZ112=5,G112,0)","v":0},null,null,null,null,null,null,null,null,null,null,null,null,null,null,null,null,null,null,null,null,null,1,1]
[null,null,"Položka obsahuje přerušení stávajícího potrubí, montáž a dodávku příslušné tvarovky pro propojení stávajícího potrubí (PE, ocel a pod.)  s novým potrubím (PE D 32x3,0 mm) přípojky  D 32",null,null,null,null,null,null,null,null,"Položka obsahuje přerušení stávajícího potrubí, montáž a dodávku příslušné tvarovky pro propojení stávajícího potrubí (PE, ocel a pod.)  s novým potrubím (PE D 32x3,0 mm) přípojky  D 32",null,null,3]
[null,null,"Řad \"A8-2\" PE D 110x10,0 mm:",null,0,null,null,null,null,null,null,null,"Řad \"A8-2\" PE D 110x10,0 mm:"]
[null,null,"VP PE D 32x3,0 mm (9 kusů):9",null,9,null,null,null,null,null,null,null,"VP PE D 32x3,0 mm (9 kusů):9"]
[20,"892233111R00","Desinfekce vodovodního potrubí DN 70 ","m",26,null,{"$f":"E116*F116","v":0},0,{"$f":"E116*H116","v":0},0,{"$f":"E116*J116","v":0},null,null,null,2,null,null,null,null,null,null,null,null,null,null,null,1,1,1,null,null,null,null,null,null,null,null,null,null,null,null,null,null,null,null,null,null,null,null,null,null,1,{"$f":"IF(AZ116=1,G116,0)","v":0},{"$f":"IF(AZ116=2,G116,0)","v":0},{"$f":"IF(AZ116=3,G116,0)","v":0},{"$f":"IF(AZ116=4,G116,0)","v":0},{"$f":"IF(AZ116=5,G116,0)","v":0},null,null,null,null,null,null,null,null,null,null,null,null,null,null,null,null,null,null,null,null,null,1,1]
[null,null,"V položce jsou zakalkulovány náklady na napuštění a vypuštění vody, dodání vody a desinfekčního prostředku a na bakteriologický rozbor vody.",null,null,null,null,null,null,null,null,"V položce jsou zakalkulovány náklady na napuštění a vypuštění vody, dodání vody a desinfekčního prostředku a na bakteriologický rozbor vody.",null,null,3]
[null,null,"Řad \"A8-2\" PE D 110x10,0 mm:",null,0,null,null,null,null,null,null,null,"Řad \"A8-2\" PE D 110x10,0 mm:"]
[null,null,"VP PE D 32x3,0 mm (9 kusů):20,00",null,20,null,null,null,null,null,null,null,"VP PE D 32x3,0 mm (9 kusů):20,00"]
[null,null,"Rezerva - 30%:20,00*0,3",null,6,null,null,null,null,null,null,null,"Rezerva - 30%:20,00*0,3"]
[21,"892241111R00","Tlaková zkouška vodovodního potrubí DN 80 včetně zajištění konců potrubí","m",26,null,{"$f":"E121*F121","v":0},0,{"$f":"E121*H121","v":0},0,{"$f":"E121*J121","v":0},null,null,null,2,null,null,null,null,null,null,null,null,null,null,null,1,1,1,null,null,null,null,null,null,null,null,null,null,null,null,null,null,null,null,null,null,null,null,null,null,1,{"$f":"IF(AZ121=1,G121,0)","v":0},{"$f":"IF(AZ121=2,G121,0)","v":0},{"$f":"IF(AZ121=3,G121,0)","v":0},{"$f":"IF(AZ121=4,G121,0)","v":0},{"$f":"IF(AZ121=5,G121,0)","v":0},null,null,null,null,null,null,null,null,null,null,null,null,null,null,null,null,null,null,null,null,null,1,1]
[null,null,"V položce jsou započteny náklady na přísun, montáž, demontáž a odsun zkoušecího čerpadla, napuštění tlakovou vodou a dodání vody pro tlakovou zkoušku.",null,null,null,null,null,null,null,null,"V položce jsou započteny náklady na přísun, montáž, demontáž a odsun zkoušecího čerpadla, napuštění tlakovou vodou a dodání vody pro tlakovou zkoušku.",null,null,3]
[null,null,"Řad \"A8-2\" PE D 110x10,0 mm:",null,0,null,null,null,null,null,null,null,"Řad \"A8-2\" PE D 110x10,0 mm:"]
[null,null,"VP PE D 32x3,0 mm (9 kusů):20,00",null,20,null,null,null,null,null,null,null,"VP PE D 32x3,0 mm (9 kusů):20,00"]
[null,null,"Rezerva - 30%:20,00*0,3",null,6,null,null,null,null,null,null,null,"Rezerva - 30%:20,00*0,3"]
[22,"899721112R00","Fólie výstražná z PVC bílá, šířka 30 cm ","m",26,null,{"$f":"E126*F126","v":0},0,{"$f":"E126*H126","v":0},0,{"$f":"E126*J126","v":0},null,null,null,2,null,null,null,null,null,null,null,null,null,null,null,1,1,1,null,null,null,null,null,null,null,null,null,null,null,null,null,null,null,null,null,null,null,null,null,null,1,{"$f":"IF(AZ126=1,G126,0)","v":0},{"$f":"IF(AZ126=2,G126,0)","v":0},{"$f":"IF(AZ126=3,G126,0)","v":0},{"$f":"IF(AZ126=4,G126,0)","v":0},{"$f":"IF(AZ126=5,G126,0)","v":0},null,null,null,null,null,null,null,null,null,null,null,null,null,null,null,null,null,null,null,null,null,1,1]
[null,null,"Řad \"A8-2\" PE D 110x10,0 mm:",null,0,null,null,null,null,null,null,null,"Řad \"A8-2\" PE D 110x10,0 mm:"]
[null,null,"VP PE D 32x3,0 mm (9 kusů):20,00",null,20,null,null,null,null,null,null,null,"VP PE D 32x3,0 mm (9 kusů):20,00"]
[null,null,"Rezerva - 30%:20,00*0,3",null,6,null,null,null,null,null,null,null,"Rezerva - 30%:20,00*0,3"]
[23,"899731113R00","Vodič signalizační CYY 4 mm2 ","m",26,null,{"$f":"E130*F130","v":0},5.0000000000000002E-5,{"$f":"E130*H130","v":1.3000000000000002E-3},0,{"$f":"E130*J130","v":0},null,null,null,2,null,null,null,null,null,null,null,null,null,null,null,1,1,1,null,null,null,null,null,null,null,null,null,null,null,null,null,null,null,null,null,null,null,null,null,null,1,{"$f":"IF(AZ130=1,G130,0)","v":0},{"$f":"IF(AZ130=2,G130,0)","v":0},{"$f":"IF(AZ130=3,G130,0)","v":0},{"$f":"IF(AZ130=4,G130,0)","v":0},{"$f":"IF(AZ130=5,G130,0)","v":0},null,null,null,null,null,null,null,null,null,null,null,null,null,null,null,null,null,null,null,null,null,1,1]
[null,null,"Součástí položky je zajištění proměření vodiče a výchozí revize.",null,null,null,null,null,null,null,null,"Součástí položky je zajištění proměření vodiče a výchozí revize.",null,null,3]
[null,null,"Řad \"A8-2\" PE D 110x10,0 mm:",null,0,null,null,null,null,null,null,null,"Řad \"A8-2\" PE D 110x10,0 mm:"]
[null,null,"VP PE D 32x3,0 mm (9 kusů):20,00",null,20,null,null,null,null,null,null,null,"VP PE D 32x3,0 mm (9 kusů):20,00"]
[null,null,"Rezerva - 30%:20,00*0,3",null,6,null,null,null,null,null,null,null,"Rezerva - 30%:20,00*0,3"]
[24,"28613576.01.R","Trubka PE100RC2 SDR11 D 32x3,0 mm L 100m","m",26.39,null,{"$f":"E135*F135","v":0},3.79E-3,{"$f":"E135*H135","v":0.1000181},null,{"$f":"E135*J135","v":0},null,null,null,2,null,null,null,null,null,null,null,null,null,null,null,3,1,"28613576.01.R",null,null,null,null,null,null,null,null,null,null,null,null,null,null,null,null,null,null,null,null,null,null,1,{"$f":"IF(AZ135=1,G135,0)","v":0},{"$f":"IF(AZ135=2,G135,0)","v":0},{"$f":"IF(AZ135=3,G135,0)","v":0},{"$f":"IF(AZ135=4,G135,0)","v":0},{"$f":"IF(AZ135=5,G135,0)","v":0},null,null,null,null,null,null,null,null,null,null,null,null,null,null,null,null,null,null,null,null,null,3,1]
[null,null,"Řad \"A8-2\" PE D 110x10,0 mm:",null,0,null,null,null,null,null,null,null,"Řad \"A8-2\" PE D 110x10,0 mm:"]
[null,null,"VP PE D 32x3,0 mm (9 kusů):20,00*1,015",null,20.3,null,null,null,null,null,null,null,"VP PE D 32x3,0 mm (9 kusů):20,00*1,015"]
[null,null,"Rezerva - 30%:20,00*0,3*1,015",null,6.09,null,null,null,null,null,null,null,"Rezerva - 30%:20,00*0,3*1,015"]
[25,"28653075.05.R","Elektrospojka d 32 mm PE 100 SDR11","kus",9.1349999999999998,null,{"$f":"E139*F139","v":0},1.2999999999999999E-3,{"$f":"E139*H139","v":1.1875499999999999E-2},null,{"$f":"E139*J139","v":0},null,null,null,2,null,null,null,null,null,null,null,null,null,null,null,3,1,"28653075.05.R",null,null,null,null,null,null,null,null,null,null,null,null,null,null,null,null,null,null,null,null,null,null,1,{"$f":"IF(AZ139=1,G139,0)","v":0},{"$f":"IF(AZ139=2,G139,0)","v":0},{"$f":"IF(AZ139=3,G139,0)","v":0},{"$f":"IF(AZ139=4,G139,0)","v":0},{"$f":"IF(AZ139=5,G139,0)","v":0},null,null,null,null,null,null,null,null,null,null,null,null,null,null,null,null,null,null,null,null,null,3,1]
[null,null,"Řad \"A8-2\" PE D 110x10,0 mm:",null,0,null,null,null,null,null,null,null,"Řad \"A8-2\" PE D 110x10,0 mm:"]
[null,null,"VP PE D 32x3,0 mm (9 kusů) - Elektrospojka PE D32:9*1,015",null,9.1349999999999998,null,null,null,null,null,null,null,"VP PE D 32x3,0 mm (9 kusů) - Elektrospojka PE D32:9*1,015"]
[null,"Celkem za","8 Trubní vedení",null,null,null,{"$f":"SUM(G92:G141)","v":0},null,{"$f":"SUM(I92:I141)","v":0.1173336},null,{"$f":"SUM(K92:K141)","v":0},null,null,null,4,null,null,null,null,null,null,null,null,null,null,null,null,null,null,null,null,null,null,null,null,null,null,null,null,null,null,null,null,null,null,null,null,null,null,null,null,null,{"$f":"SUM(BA92:BA141)","v":0},{"$f":"SUM(BB92:BB141)","v":0},{"$f":"SUM(BC92:BC141)","v":0},{"$f":"SUM(BD92:BD141)","v":0},{"$f":"SUM(BE92:BE141)","v":0}]
["Díl:","99","Staveništní přesun hmot",null,null,null,null,null,null,null,null,null,null,null,1]
[26,"998276101RXX","Přesun hmot, trubní vedení plastová, otevř. výkop pro celý rozsah objektu","t",64.715281899999994,null,{"$f":"E144*F144","v":0},0,{"$f":"E144*H144","v":0},null,{"$f":"E144*J144","v":0},null,null,null,2,null,null,null,null,null,null,null,null,null,null,null,7,1,2,null,null,null,null,null,null,null,null,null,null,null,null,null,null,null,null,null,null,null,null,null,null,1,{"$f":"IF(AZ144=1,G144,0)","v":0},{"$f":"IF(AZ144=2,G144,0)","v":0},{"$f":"IF(AZ144=3,G144,0)","v":0},{"$f":"IF(AZ144=4,G144,0)","v":0},{"$f":"IF(AZ144=5,G144,0)","v":0},null,null,null,null,null,null,null,null,null,null,null,null,null,null,null,null,null,null,null,null,null,7,1]
[null,null,"Staveništní doprava pro celý rozsah objektu - doprava zmeziskládek vybudovaného zařízení staveniště zhotovitele na jednotlivé části staveniště.",null,null,null,null,null,null,null,null,"Staveništní doprava pro celý rozsah objektu - doprava zmeziskládek vybudovaného zařízení staveniště zhotovitele na jednotlivé části staveniště.",null,null,3]
[null,"Celkem za","99 Staveništní přesun hmot",null,null,null,{"$f":"SUM(G143:G145)","v":0},null,{"$f":"SUM(I143:I145)","v":0},null,{"$f":"SUM(K143:K145)","v":0},null,null,null,4,null,null,null,null,null,null,null,null,null,null,null,null,null,null,null,null,null,null,null,null,null,null,null,null,null,null,null,null,null,null,null,null,null,null,null,null,null,{"$f":"SUM(BA143:BA145)","v":0},{"$f":"SUM(BB143:BB145)","v":0},{"$f":"SUM(BC143:BC145)","v":0},{"$f":"SUM(BD143:BD145)","v":0},{"$f":"SUM(BE143:BE145)","v":0}]

{"sheet":"1.E 08 1.E 08.1 KL","index":25,"n_rows":45,"n_cols":8,"rows_kept":45,"cut":false,"hidden":false,"merged":[[50,1,50,6],[29,5,29,6],[30,5,30,6],[31,5,31,6],[32,5,32,6],[33,5,33,6],[36,1,44,6],[45,1,45,6],[46,1,46,6],[47,1,47,6],[48,1,48,6],[49,1,49,6],[22,0,22,1],[7,2,7,4],[8,2,8,4],[9,2,9,4],[10,2,10,4],[11,2,11,4]]}
["POLOŽKOVÝ ROZPOČET"]
["Rozpočet",null,"1.E 08.1","Dešťová stoka \"DS-3 po Š7a DS-3-a\"",null,"JKSO ","827.21.A6"]
[]
["Objekt",null,null,null,null,"SKP "]
["1.E 08",null,"Kanalizace",null,null,"Měrná jednotka","m"]
["Stavba",null,null,null,null,"Počet jednotek",0]
["3403",null,"Jilemnice - Optimalizace VS a komunikace I.Etapa",null,null,"Náklady na m.j.",{"$f":"IF(G6=0,,ROUND((F30+F32)/G6,1))","v":0}]
["Projektant",null,"Vodohospodářsko - inženýrské služby spol. s r.o.",null,null,"Typ rozpočtu"]
["Zpracovatel projektu"]
["Objednatel",null,"Vodohospodářské sdružení Turnov"]
["Dodavatel",null,".",null,null,"Zakázkové číslo "]
["Rozpočtoval",null,null,null,null,"Počet listů"]
["ROZPOČTOVÉ NÁKLADY"]
["Základní rozpočtové náklady"]
[null,"HSV celkem",{"$f":"'1.E 08 1.E 08.1 Rek'!E14","v":0}]
["Z","PSV celkem",{"$f":"'1.E 08 1.E 08.1 Rek'!F14","v":0}]
["R","M práce celkem",{"$f":"'1.E 08 1.E 08.1 Rek'!H14","v":0}]
["N","M dodávky celkem",{"$f":"'1.E 08 1.E 08.1 Rek'!G14","v":0}]
["ZRN celkem",null,{"$f":"SUM(C15:C18)","v":0}]
[]
["HZS",null,{"$f":"'1.E 08 1.E 08.1 Rek'!I14","v":0}]
["ZRN+HZS",null,{"$f":"C19+C21","v":0}]
["ZRN+ost.náklady+HZS",null,{"$f":"C22+G23","v":0}]
["Vypracoval",null,null,"Za zhotovitele",null,"Za objednatele"]
["Jméno :",null,null,"Jméno :",null,"Jméno :"]
["Datum :",null,null,"Datum :",null,"Datum :"]
[]
["Podpis :",null,null,"Podpis:",null,"Podpis:"]
[]
["Základ pro DPH",null,21,"%  ",null,{"$f":"C23-F32","v":0}]
["DPH",null,{"$f":"C30","v":21},"% ",null,{"$f":"ROUND(PRODUCT(F30,C31/100),0)","v":0}]
["Základ pro DPH",null,0,"% ",null,0]
["DPH",null,{"$f":"C32","v":0},"% ",null,{"$f":"ROUND(PRODUCT(F32,C33/100),0)","v":0}]
["CENA ZA OBJEKT CELKEM",null,null,null,null,{"$f":"ROUND(SUM(F30:F33),0)","v":0}]
[]
["Poznámka :",null,null,null,null,null,null," "]
[null,null,null,null,null,null,null," "]
[null,null,null,null,null,null,null," "]
[null,null,null,null,null,null,null," "]
[null,null,null,null,null,null,null," "]
[null,null,null,null,null,null,null," "]
[null,null,null,null,null,null,null," "]
[null,null,null,null,null,null,null," "]
[null,null,null,null,null,null,null," "]
[null,null,null,null,null,null,null," "]

{"sheet":"1.E 08 1.E 08.1 Rek","index":26,"n_rows":14,"n_cols":9,"rows_kept":14,"cut":false,"hidden":false,"merged":[[0,0,0,1],[1,0,1,1],[1,6,1,8]]}
["Stavba :",null,"3403 Jilemnice - Optimalizace VS a komunikace",null,null,null,"Rozpočet :","1.E 08.1"]
["Objekt :",null,"1.E 08 Kanalizace",null,null,null,"Dešťová stoka \"DS-3 po Š7a DS-3-a\""]
[]
["REKAPITULACE  STAVEBNÍCH  DÍLŮ"]
[]
[null,"Stavební díl",null,null,"HSV","PSV","Dodávka","Montáž","HZS"]
[{"$f":"'1.E 08 1.E 08.1 Pol'!B7","v":"1"},{"$f":"'1.E 08 1.E 08.1 Pol'!C7","v":"Zemní práce"},null,null,{"$f":"'1.E 08 1.E 08.1 Pol'!BA141","v":0},{"$f":"'1.E 08 1.E 08.1 Pol'!BB141","v":0},{"$f":"'1.E 08 1.E 08.1 Pol'!BC141","v":0},{"$f":"'1.E 08 1.E 08.1 Pol'!BD141","v":0},{"$f":"'1.E 08 1.E 08.1 Pol'!BE141","v":0}]
[{"$f":"'1.E 08 1.E 08.1 Pol'!B142","v":"21"},{"$f":"'1.E 08 1.E 08.1 Pol'!C142","v":"Úprava podloží a základ.spáry"},null,null,{"$f":"'1.E 08 1.E 08.1 Pol'!BA146","v":0},{"$f":"'1.E 08 1.E 08.1 Pol'!BB146","v":0},{"$f":"'1.E 08 1.E 08.1 Pol'!BC146","v":0},{"$f":"'1.E 08 1.E 08.1 Pol'!BD146","v":0},{"$f":"'1.E 08 1.E 08.1 Pol'!BE146","v":0}]
[{"$f":"'1.E 08 1.E 08.1 Pol'!B147","v":"45"},{"$f":"'1.E 08 1.E 08.1 Pol'!C147","v":"Podkladní a vedlejší konstrukce"},null,null,{"$f":"'1.E 08 1.E 08.1 Pol'!BA173","v":0},{"$f":"'1.E 08 1.E 08.1 Pol'!BB173","v":0},{"$f":"'1.E 08 1.E 08.1 Pol'!BC173","v":0},{"$f":"'1.E 08 1.E 08.1 Pol'!BD173","v":0},{"$f":"'1.E 08 1.E 08.1 Pol'!BE173","v":0}]
[{"$f":"'1.E 08 1.E 08.1 Pol'!B174","v":"5"},{"$f":"'1.E 08 1.E 08.1 Pol'!C174","v":"Komunikace"},null,null,{"$f":"'1.E 08 1.E 08.1 Pol'!BA178","v":0},{"$f":"'1.E 08 1.E 08.1 Pol'!BB178","v":0},{"$f":"'1.E 08 1.E 08.1 Pol'!BC178","v":0},{"$f":"'1.E 08 1.E 08.1 Pol'!BD178","v":0},{"$f":"'1.E 08 1.E 08.1 Pol'!BE178","v":0}]
[{"$f":"'1.E 08 1.E 08.1 Pol'!B179","v":"8"},{"$f":"'1.E 08 1.E 08.1 Pol'!C179","v":"Trubní vedení"},null,null,{"$f":"'1.E 08 1.E 08.1 Pol'!BA270","v":0},{"$f":"'1.E 08 1.E 08.1 Pol'!BB270","v":0},{"$f":"'1.E 08 1.E 08.1 Pol'!BC270","v":0},{"$f":"'1.E 08 1.E 08.1 Pol'!BD270","v":0},{"$f":"'1.E 08 1.E 08.1 Pol'!BE270","v":0}]
[{"$f":"'1.E 08 1.E 08.1 Pol'!B271","v":"93"},{"$f":"'1.E 08 1.E 08.1 Pol'!C271","v":"Dokončovací práce inženýrských staveb"},null,null,{"$f":"'1.E 08 1.E 08.1 Pol'!BA293","v":0},{"$f":"'1.E 08 1.E 08.1 Pol'!BB293","v":0},{"$f":"'1.E 08 1.E 08.1 Pol'!BC293","v":0},{"$f":"'1.E 08 1.E 08.1 Pol'!BD293","v":0},{"$f":"'1.E 08 1.E 08.1 Pol'!BE293","v":0}]
[{"$f":"'1.E 08 1.E 08.1 Pol'!B294","v":"99"},{"$f":"'1.E 08 1.E 08.1 Pol'!C294","v":"Staveništní přesun hmot"},null,null,{"$f":"'1.E 08 1.E 08.1 Pol'!BA297","v":0},{"$f":"'1.E 08 1.E 08.1 Pol'!BB297","v":0},{"$f":"'1.E 08 1.E 08.1 Pol'!BC297","v":0},{"$f":"'1.E 08 1.E 08.1 Pol'!BD297","v":0},{"$f":"'1.E 08 1.E 08.1 Pol'!BE297","v":0}]
[null,"CELKEM  OBJEKT",null,null,{"$f":"SUM(E7:E13)","v":0},{"$f":"SUM(F7:F13)","v":0},{"$f":"SUM(G7:G13)","v":0},{"$f":"SUM(H7:H13)","v":0},{"$f":"SUM(I7:I13)","v":0}]

{"sheet":"1.E 08 1.E 08.1 Pol","index":27,"n_rows":297,"n_cols":80,"rows_kept":297,"cut":false,"hidden":false,"merged":[[295,2,295,6],[286,2,286,6],[287,2,287,6],[288,2,288,6],[289,2,289,3],[290,2,290,3],[291,2,291,3],[272,2,272,6],[273,2,273,6],[274,2,274,6],[275,2,275,6],[276,2,276,6],[277,2,277,6],[278,2,278,6],[279,2,279,6],[280,2,280,6],[263,2,263,3],[264,2,264,3],[266,2,266,3],[267,2,267,3],[268,2,268,3],[281,2,281,6],[282,2,282,3],[283,2,283,3],[284,2,284,3],[255,2,255,3],[256,2,256,3],[258,2,258,3],[259,2,259,3],[260,2,260,3],[262,2,262,3],[247,2,247,3],[248,2,248,3],[250,2,250,3],[251,2,251,3],[252,2,252,3],[254,2,254,3],[239,2,239,6],[240,2,240,6],[241,2,241,3],[243,2,243,6],[244,2,244,3],[246,2,246,3],[231,2,231,3],[232,2,232,3],[234,2,234,6],[235,2,235,6],[236,2,236,6],[237,2,237,6],[223,2,223,3],[224,2,224,3],[226,2,226,6],[227,2,227,3],[228,2,228,3],[229,2,229,3],[216,2,216,3],[217,2,217,3],[219,2,219,6],[220,2,220,6],[221,2,221,6],[222,2,222,3],[209,2,209,3],[210,2,210,3],[212,2,212,6],[213,2,213,6],[214,2,214,6],[215,2,215,3],[202,2,202,3],[203,2,203,3],[204,2,204,3],[205,2,205,3],[207,2,207,6],[208,2,208,3],[194,2,194,3],[196,2,196,6],[197,2,197,3],[198,2,198,3],[200,2,200,6],[201,2,201,6],[187,2,187,6],[188,2,188,3],[190,2,190,6],[191,2,191,6],[192,2,192,6],[193,2,193,6],[175,2,175,3],[176,2,176,3],[180,2,180,3],[182,2,182,3],[184,2,184,6],[185,2,185,6],[186,2,186,6],[166,2,166,3],[167,2,167,3],[169,2,169,3],[170,2,170,3],[171,2,171,3],[158,2,158,3],[159,2,159,3],[161,2,161,3],[162,2,162,3],[163,2,163,3],[165,2,165,3],[148,2,148,3],[149,2,149,3],[151,2,151,6],[152,2,152,3],[153,2,153,3],[154,2,154,3],[155,2,155,3],[157,2,157,3],[136,2,136,3],[137,2,137,3],[139,2,139,3],[143,2,143,3],[144,2,144,3],[127,2,127,3],[128,2,128,3],[130,2,130,3],[131,2,131,3],[133,2,133,3],[134,2,134,3],[121,2,121,3],[122,2,122,3],[123,2,123,3],[124,2,124,3],[125,2,125,3],[126,2,126,3],[115,2,115,3],[116,2,116,3],[117,2,117,3],[118,2,118,3],[119,2,119,3],[120,2,120,3],[109,2,109,3],[110,2,110,3],[111,2,111,3],[112,2,112,3],[113,2,113,3],[114,2,114,3],[103,2,103,3],[104,2,104,3],[105,2,105,3],[106,2,106,3],[107,2,107,3],[108,2,108,3],[95,2,95,3],[97,2,97,3],[98,2,98,3],[100,2,100,6],[101,2,101,6],[102,2,102,3],[89,2,89,3],[90,2,90,3],[91,2,91,3],[92,2,92,3],[93,2,93,3],[94,2,94,3],[82,2,82,3],[83,2,83,3],[84,2,84,3],[85,2,85,3],[87,2,87,3],[88,2,88,3],[75,2,75,3],[76,2,76,3],[77,2,77,3],[78,2,78,3],[80,2,80,3],[81,2,81,3],[68,2,68,3],[70,2,70,3],[71,2,71,3],[72,2,72,3],[73,2,73,3],[74,2,74,3],[61,2,61,3],[63,2,63,3],[64,2,64,3],[65,2,65,3],[66,2,66,3],[67,2,67,3],[53,2,53,3],[54,2,54,3],[56,2,56,3],[57,2,57,3],[59,2,59,6],[60,2,60,3],[45,2,45,3],[46,2,46,3],[47,2,47,3],[49,2,49,3],[50,2,50,3],[52,2,52,6],[39,2,39,3],[40,2,40,3],[41,2,41,3],[42,2,42,3],[43,2,43,3],[44,2,44,3],[33,2,33,3],[34,2,34,3],[35,2,35,3],[36,2,36,3],[37,2,37,3],[38,2,38,3],[27,2,27,3],[28,2,28,3],[29,2,29,3],[30,2,30,3],[31,2,31,3],[32,2,32,3],[20,2,20,3],[22,2,22,6],[23,2,23,3],[24,2,24,3],[25,2,25,3],[26,2,26,3],[13,2,13,3],[14,2,14,3],[15,2,15,3],[17,2,17,6],[18,2,18,6],[19,2,19,3],[0,0,0,6],[2,0,2,1],[3,0,3,1],[3,4,3,6],[8,2,8,6],[9,2,9,6],[10,2,10,3],[11,2,11,3]]}
["Položkový rozpočet "]
[]
["Stavba :",null,"3403 Jilemnice - Optimalizace VS a komunikace",null,"Rozpočet:",{"$f":"'1.E 08 1.E 08.1 Rek'!H1","v":"1.E 08.1"}]
["Objekt :",null,"1.E 08 Kanalizace",null,{"$f":"'1.E 08 1.E 08.1 Rek'!G2","v":"Dešťová stoka \"DS-3 po Š7a DS-3-a\""}]
[]
["P.č.","Číslo položky","Název položky","MJ","množství","cena / MJ","celkem (Kč)","Jednotková hmotnost","Celková hmotnost","Jednotková dem.hmot.","Celková dem.hmot."]
["Díl:","1","Zemní práce",null,null,null,null,null,null,null,null,null,null,null,1]
[1,"115101201RRX","Přečerpávání nebo převedení splašků a dešť. vod ","h",425,null,{"$f":"E8*F8","v":0},0,{"$f":"E8*H8","v":0},0,{"$f":"E8*J8","v":0},null,null,null,2,null,null,null,null,null,null,null,null,null,null,null,1,1,1,null,null,null,null,null,null,null,null,null,null,null,null,null,null,null,null,null,null,null,null,null,null,1,{"$f":"IF(AZ8=1,G8,0)","v":0},{"$f":"IF(AZ8=2,G8,0)","v":0},{"$f":"IF(AZ8=3,G8,0)","v":0},{"$f":"IF(AZ8=4,G8,0)","v":0},{"$f":"IF(AZ8=5,G8,0)","v":0},null,null,null,null,null,null,null,null,null,null,null,null,null,null,null,null,null,null,null,null,null,1,1]
[null,null,"Převedení a čerpání splašků nebo dešťových vod dle zvolené technologie zhotovitele stavby.",null,null,null,null,null,null,null,null,"Převedení a čerpání splašků nebo dešťových vod dle zvolené technologie zhotovitele stavby.",null,null,3]
[null,null,"(Množství bude určeno na stavbě dle skutečnosti)",null,null,null,null,null,null,null,null,"(Množství bude určeno na stavbě dle skutečnosti)",null,null,3]
[null,null,"Stoka \"DS-3-a\"  PVC DN 315 SN12:150,00",null,150,null,null,null,null,null,null,null,"Stoka \"DS-3-a\"  PVC DN 315 SN12:150,00"]
[null,null,"Stoka \"DS-3 do Š7\" PVC DN600 SN16:275,00",null,275,null,null,null,null,null,null,null,"Stoka \"DS-3 do Š7\" PVC DN600 SN16:275,00"]
[2,"121100002RAA","Sejmutí ornice a uložení na deponii zpětný přesun, rozprostření v tl. 20 cm","m3",11.986000000000001,null,{"$f":"E13*F13","v":0},0,{"$f":"E13*H13","v":0},0,{"$f":"E13*J13","v":0},null,null,null,2,null,null,null,null,null,null,null,null,null,null,null,1,1,1,null,null,null,null,null,null,null,null,null,null,null,null,null,null,null,null,null,null,null,null,null,null,1,{"$f":"IF(AZ13=1,G13,0)","v":0},{"$f":"IF(AZ13=2,G13,0)","v":0},{"$f":"IF(AZ13=3,G13,0)","v":0},{"$f":"IF(AZ13=4,G13,0)","v":0},{"$f":"IF(AZ13=5,G13,0)","v":0},null,null,null,null,null,null,null,null,null,null,null,null,null,null,null,null,null,null,null,null,null,1,1]
[null,null,"Stoka \"DS-3 do Š7\" PVC DN600 SN16:",null,0,null,null,null,null,null,null,null,"Stoka \"DS-3 do Š7\" PVC DN600 SN16:"]
[null,null,"Souběh se splaš. kanalizací a částečně s vodovodem:",null,0,null,null,null,null,null,null,null,"Souběh se splaš. kanalizací a částečně s vodovodem:"]
[null,null,"Odpočet objemu Ornice:(49,10-3,00)*1,30*0,20",null,11.986000000000001,null,null,null,null,null,null,null,"Odpočet objemu Ornice:(49,10-3,00)*1,30*0,20"]
[3,"130001101RRX","Příplatek za ztížené hloubení v blízkosti vedení ","m3",145.9135,null,{"$f":"E17*F17","v":0},0,{"$f":"E17*H17","v":0},0,{"$f":"E17*J17","v":0},null,null,null,2,null,null,null,null,null,null,null,null,null,null,null,1,1,1,null,null,null,null,null,null,null,null,null,null,null,null,null,null,null,null,null,null,null,null,null,null,1,{"$f":"IF(AZ17=1,G17,0)","v":0},{"$f":"IF(AZ17=2,G17,0)","v":0},{"$f":"IF(AZ17=3,G17,0)","v":0},{"$f":"IF(AZ17=4,G17,0)","v":0},{"$f":"IF(AZ17=5,G17,0)","v":0},null,null,null,null,null,null,null,null,null,null,null,null,null,null,null,null,null,null,null,null,null,1,1]
[null,null,"Včetně případných nutných dokopávem a ručního výkopu podél sousedících inženýrských sítí.",null,null,null,null,null,null,null,null,"Včetně případných nutných dokopávem a ručního výkopu podél sousedících inženýrských sítí.",null,null,3]
[null,null,"Součástí položky je i dočasné zajištění inženýrských sítí v prostoru výkopů (potrubí, kabely a pod.)",null,null,null,null,null,null,null,null,"Součástí položky je i dočasné zajištění inženýrských sítí v prostoru výkopů (potrubí, kabely a pod.)",null,null,3]
[null,null,"Výkopy:",null,0,null,null,null,null,null,null,null,"Výkopy:"]
[null,null,"V hornině tř. 3 - 5 - 17%:858,3145*0,17",null,145.9135,null,null,null,null,null,null,null,"V hornině tř. 3 - 5 - 17%:858,3145*0,17"]
[4,"132201212R00","Hloubení rýh š.do 200 cm hor.3 do 1000m3,STROJNĚ ","m3",343.32580000000002,null,{"$f":"E22*F22","v":0},0,{"$f":"E22*H22","v":0},0,{"$f":"E22*J22","v":0},null,null,null,2,null,null,null,null,null,null,null,null,null,null,null,1,1,1,null,null,null,null,null,null,null,null,null,null,null,null,null,null,null,null,null,null,null,null,null,null,1,{"$f":"IF(AZ22=1,G22,0)","v":0},{"$f":"IF(AZ22=2,G22,0)","v":0},{"$f":"IF(AZ22=3,G22,0)","v":0},{"$f":"IF(AZ22=4,G22,0)","v":0},{"$f":"IF(AZ22=5,G22,0)","v":0},null,null,null,null,null,null,null,null,null,null,null,null,null,null,null,null,null,null,null,null,null,1,1]
[null,null,"Položka obsahuje hloubení rýh traktorbagrem, naložení výkopku na dopravní prostředek pro svislé, nebo vodorovné přemístění, popř. přemístění výkopku do 3 m (po povrchu území), případné zajištění rypadel polštáři, udržování pracoviště a ochranu výkopiště proti stékání srážkové vody z okolního terénu i s jejím odvodněním, nebo odvedením, přesekání a odstranění kořenů ve výkopišti, odstranění napadávek, urovnání dna výkopu.",null,null,null,null,null,null,null,null,"Položka obsahuje hloubení rýh traktorbagrem, naložení výkopku na dopravní prostředek pro svislé, nebo vodorovné přemístění, popř. přemístění výkopku do 3 m (po povrchu území), případné zajištění rypadel polštáři, udržování pracoviště a ochranu výkopiště proti stékání srážkové vody z okolního terénu i s jejím odvodněním, nebo odvedením, přesekání a odstranění kořenů ve výkopišti, odstranění napadávek, urovnání dna výkopu.",null,null,3]
[null,null,"Výkopy:",null,0,null,null,null,null,null,null,null,"Výkopy:"]
[null,null,"Začátek provozního součtu",null,0,null,null,null,null,null,null,null,"Začátek provozního součtu"]
[null,null,"Stoka \"DS-3 do Š7\" PVC DN600 SN16:",null,0,null,null,null,null,null,null,null,"Stoka \"DS-3 do Š7\" PVC DN600 SN16:"]
[null,null,"Souběh se splaš. kanalizací a částečně s vodovodem:",null,0,null,null,null,null,null,null,null,"Souběh se splaš. kanalizací a částečně s vodovodem:"]
[null,null,"7,70*1,30*(1,95+1,68)/2",null,18.168199999999999,null,null,null,null,null,null,null,"7,70*1,30*(1,95+1,68)/2"]
[null,null,"(14,60-7,70)*1,30*(1,68+1,65)/2",null,14.9351,null,null,null,null,null,null,null,"(14,60-7,70)*1,30*(1,68+1,65)/2"]
[null,null,"(49,10-14,60)*1,30*(1,65+2,45)/2",null,91.942499999999995,null,null,null,null,null,null,null,"(49,10-14,60)*1,30*(1,65+2,45)/2"]
[null,null,"(73,10-49,10)*1,30*(2,45+2,45)/2",null,76.44,null,null,null,null,null,null,null,"(73,10-49,10)*1,30*(2,45+2,45)/2"]
[null,null,"(143,00-73,10)*1,30*(2,45+2,38)/2",null,219.4511,null,null,null,null,null,null,null,"(143,00-73,10)*1,30*(2,45+2,38)/2"]
[null,null,"Prohloubení pro RŠ:1,60*1,60*0,20*8",null,4.0960000000000001,null,null,null,null,null,null,null,"Prohloubení pro RŠ:1,60*1,60*0,20*8"]
[null,null,"Rozšíření pro RŠ:1,60*(1,60-1,30)*(1,95+1,86+1,65+2,45+2,45+2,45+2,35+2,36)",null,8.4095999999999993,null,null,null,null,null,null,null,"Rozšíření pro RŠ:1,60*(1,60-1,30)*(1,95+1,86+1,65+2,45+2,45+2,45+2,35+2,36)"]
[null,null,"Drenáž:143,00*1,30*0,15",null,27.885000000000002,null,null,null,null,null,null,null,"Drenáž:143,00*1,30*0,15"]
[null,null,"Odpočet předpokládaného objemu MK:-(143,00-49,10)*1,30*0,40",null,-48.828000000000003,null,null,null,null,null,null,null,"Odpočet předpokládaného objemu MK:-(143,00-49,10)*1,30*0,40"]
[null,null,"Odpočet panelové cesty:-3,00*1,30*0,40",null,-1.56,null,null,null,null,null,null,null,"Odpočet panelové cesty:-3,00*1,30*0,40"]
[null,null,"Odpočet objemu Ornice:-(49,10-3,00)*1,30*0,20",null,-11.986000000000001,null,null,null,null,null,null,null,"Odpočet objemu Ornice:-(49,10-3,00)*1,30*0,20"]
[null,null,"Stoka \"DS-3-a\"  PVC DN 315 SN12:",null,0,null,null,null,null,null,null,null,"Stoka \"DS-3-a\"  PVC DN 315 SN12:"]
[null,null,"Souběh se splaš. kanalizací a s vodovodem:",null,0,null,null,null,null,null,null,null,"Souběh se splaš. kanalizací a s vodovodem:"]
[null,null,"108,60*1,00*(2,45+2,15)/2",null,249.78,null,null,null,null,null,null,null,"108,60*1,00*(2,45+2,15)/2"]
[null,null,"(225,00-108,60)*1,00*(2,15+2,15)/2",null,250.26,null,null,null,null,null,null,null,"(225,00-108,60)*1,00*(2,15+2,15)/2"]
[null,null,"Prohloubení pro RŠ:1,60*1,60*0,20*6",null,3.0720000000000001,null,null,null,null,null,null,null,"Prohloubení pro RŠ:1,60*1,60*0,20*6"]
[null,null,"Rozšíření pro RŠ:1,60*(1,60-1,00)*(2,37+2,15+2,15+2,05+2,15+2,15)",null,12.4992,null,null,null,null,null,null,null,"Rozšíření pro RŠ:1,60*(1,60-1,00)*(2,37+2,15+2,15+2,05+2,15+2,15)"]
[null,null,"Drenáž:225,00*1,00*0,15",null,33.75,null,null,null,null,null,null,null,"Drenáž:225,00*1,00*0,15"]
[null,null,"Odpočet předpokládaného objemu MK:-225,00*1,00*0,40",null,-90,null,null,null,null,null,null,null,"Odpočet předpokládaného objemu MK:-225,00*1,00*0,40"]
[null,null,"Konec provozního součtu",null,858.31470000000002,null,null,null,null,null,null,null,"Konec provozního součtu"]
[null,null,"V hornině tř. 3 - 40%:858,3145*0,4",null,343.32580000000002,null,null,null,null,null,null,null,"V hornině tř. 3 - 40%:858,3145*0,4"]
[5,"132201219R00","Přípl.za lepivost,hloubení rýh 200cm,hor.3,STROJNĚ ","m3",171.66290000000001,null,{"$f":"E49*F49","v":0},0,{"$f":"E49*H49","v":0},0,{"$f":"E49*J49","v":0},null,null,null,2,null,null,null,null,null,null,null,null,null,null,null,1,1,1,null,null,null,null,null,null,null,null,null,null,null,null,null,null,null,null,null,null,null,null,null,null,1,{"$f":"IF(AZ49=1,G49,0)","v":0},{"$f":"IF(AZ49=2,G49,0)","v":0},{"$f":"IF(AZ49=3,G49,0)","v":0},{"$f":"IF(AZ49=4,G49,0)","v":0},{"$f":"IF(AZ49=5,G49,0)","v":0},null,null,null,null,null,null,null,null,null,null,null,null,null,null,null,null,null,null,null,null,null,1,1]
[null,null,"Výkopy:",null,0,null,null,null,null,null,null,null,"Výkopy:"]
[null,null,"V hornině tř. 3 - 40%:858,3145*0,4*0,5",null,171.66290000000001,null,null,null,null,null,null,null,"V hornině tř. 3 - 40%:858,3145*0,4*0,5"]
[6,"132301212R00","Hloubení rýh š.do 200 cm hor.4 do 1000 m3, STROJNĚ ","m3",429.15719999999999,null,{"$f":"E52*F52","v":0},0,{"$f":"E52*H52","v":0},0,{"$f":"E52*J52","v":0},null,null,null,2,null,null,null,null,null,null,null,null,null,null,null,1,1,1,null,null,null,null,null,null,null,null,null,null,null,null,null,null,null,null,null,null,null,null,null,null,1,{"$f":"IF(AZ52=1,G52,0)","v":0},{"$f":"IF(AZ52=2,G52,0)","v":0},{"$f":"IF(AZ52=3,G52,0)","v":0},{"$f":"IF(AZ52=4,G52,0)","v":0},{"$f":"IF(AZ52=5,G52,0)","v":0},null,null,null,null,null,null,null,null,null,null,null,null,null,null,null,null,null,null,null,null,null,1,1]
[null,null,"Položka obsahuje hloubení rýh traktorbagrem, naložení výkopku na dopravní prostředek pro svislé, nebo vodorovné přemístění, popř. přemístění výkopku do 3 m (po povrchu území), případné zajištění rypadel polštáři, udržování pracoviště a ochranu výkopiště proti stékání srážkové vody z okolního terénu i s jejím odvodněním, nebo odvedením, přesekání a odstranění kořenů ve výkopišti, odstranění napadávek, urovnání dna výkopu.",null,null,null,null,null,null,null,null,"Položka obsahuje hloubení rýh traktorbagrem, naložení výkopku na dopravní prostředek pro svislé, nebo vodorovné přemístění, popř. přemístění výkopku do 3 m (po povrchu území), případné zajištění rypadel polštáři, udržování pracoviště a ochranu výkopiště proti stékání srážkové vody z okolního terénu i s jejím odvodněním, nebo odvedením, přesekání a odstranění kořenů ve výkopišti, odstranění napadávek, urovnání dna výkopu.",null,null,3]
[null,null,"Výkopy:",null,0,null,null,null,null,null,null,null,"Výkopy:"]
[null,null,"V hornině tř. 4 - 50%:858,3145*0,5",null,429.15719999999999,null,null,null,null,null,null,null,"V hornině tř. 4 - 50%:858,3145*0,5"]
[7,"132301219R00","Přípl.za lepivost,hloubení rýh 200cm,hor.4,STROJNĚ ","m3",214.57859999999999,null,{"$f":"E56*F56","v":0},0,{"$f":"E56*H56","v":0},0,{"$f":"E56*J56","v":0},null,null,null,2,null,null,null,null,null,null,null,null,null,null,null,1,1,1,null,null,null,null,null,null,null,null,null,null,null,null,null,null,null,null,null,null,null,null,null,null,1,{"$f":"IF(AZ56=1,G56,0)","v":0},{"$f":"IF(AZ56=2,G56,0)","v":0},{"$f":"IF(AZ56=3,G56,0)","v":0},{"$f":"IF(AZ56=4,G56,0)","v":0},{"$f":"IF(AZ56=5,G56,0)","v":0},null,null,null,null,null,null,null,null,null,null,null,null,null,null,null,null,null,null,null,null,null,1,1]
[null,null,"Výkopy:",null,0,null,null,null,null,null,null,null,"Výkopy:"]
[null,null,"V hornině tř. 4 - 50%:858,3145*0,5*0,5",null,214.57859999999999,null,null,null,null,null,null,null,"V hornině tř. 4 - 50%:858,3145*0,5*0,5"]
[8,"132401211RRX","Hloubení rýh šířky do 200 cm v hor.5 STROJNĚ včetně případného dolamování ve vrstvě do 0,5 m","m3",85.831500000000005,null,{"$f":"E59*F59","v":0},1.0410000000000001E-2,{"$f":"E59*H59","v":0.89350591500000009},0,{"$f":"E59*J59","v":0},null,null,null,2,null,null,null,null,null,null,null,null,null,null,null,1,1,1,null,null,null,null,null,null,null,null,null,null,null,null,null,null,null,null,null,null,null,null,null,null,1,{"$f":"IF(AZ59=1,G59,0)","v":0},{"$f":"IF(AZ59=2,G59,0)","v":0},{"$f":"IF(AZ59=3,G59,0)","v":0},{"$f":"IF(AZ59=4,G59,0)","v":0},{"$f":"IF(AZ59=5,G59,0)","v":0},null,null,null,null,null,null,null,null,null,null,null,null,null,null,null,null,null,null,null,null,null,1,1]
[null,null,"Položka obsahuje hloubení rýh traktorbagrem, naložení výkopku na dopravní prostředek pro svislé, nebo vodorovné přemístění, popř. přemístění výkopku do 3 m (po povrchu území), případné zajištění rypadel polštáři, udržování pracoviště a ochranu výkopiště proti stékání srážkové vody z okolního terénu i s jejím odvodněním, nebo odvedením, přesekání a odstranění kořenů ve výkopišti, odstranění napadávek, urovnání dna výkopu.včetně případného dolamování ve vrstvě do 0,5 m",null,null,null,null,null,null,null,null,"Položka obsahuje hloubení rýh traktorbagrem, naložení výkopku na dopravní prostředek pro svislé, nebo vodorovné přemístění, popř. přemístění výkopku do 3 m (po povrchu území), případné zajištění rypadel polštáři, udržování pracoviště a ochranu výkopiště proti stékání srážkové vody z okolního terénu i s jejím odvodněním, nebo odvedením, přesekání a odstranění kořenů ve výkopišti, odstranění napadávek, urovnání dna výkopu.včetně případného dolamování ve vrstvě do 0,5 m",null,null,3]
[null,null,"Výkopy:",null,0,null,null,null,null,null,null,null,"Výkopy:"]
[null,null,"V hornině tř. 5 - 10%:858,3145*0,1",null,85.831500000000005,null,null,null,null,null,null,null,"V hornině tř. 5 - 10%:858,3145*0,1"]
[9,"151101101R00","Pažení a rozepření stěn rýh - příložné - hl.do 2 m ","m2",96.188999999999993,null,{"$f":"E63*F63","v":0},9.8999999999999999E-4,{"$f":"E63*H63","v":9.522710999999999E-2},0,{"$f":"E63*J63","v":0},null,null,null,2,null,null,null,null,null,null,null,null,null,null,null,1,1,1,null,null,null,null,null,null,null,null,null,null,null,null,null,null,null,null,null,null,null,null,null,null,1,{"$f":"IF(AZ63=1,G63,0)","v":0},{"$f":"IF(AZ63=2,G63,0)","v":0},{"$f":"IF(AZ63=3,G63,0)","v":0},{"$f":"IF(AZ63=4,G63,0)","v":0},{"$f":"IF(AZ63=5,G63,0)","v":0},null,null,null,null,null,null,null,null,null,null,null,null,null,null,null,null,null,null,null,null,null,1,1]
[null,null,"Výkopy:",null,0,null,null,null,null,null,null,null,"Výkopy:"]
[null,null,"Stoka \"DS-3 do Š7\" PVC DN600 SN16:",null,0,null,null,null,null,null,null,null,"Stoka \"DS-3 do Š7\" PVC DN600 SN16:"]
[null,null,"Souběh se splaš. kanalizací a částečně s vodovodem:",null,0,null,null,null,null,null,null,null,"Souběh se splaš. kanalizací a částečně s vodovodem:"]
[null,null,"7,70*(1,95+1,68)/2*2*0,5",null,13.9755,null,null,null,null,null,null,null,"7,70*(1,95+1,68)/2*2*0,5"]
[null,null,"(14,60-7,70)*(1,68+1,65)/2*2*0,5",null,11.4885,null,null,null,null,null,null,null,"(14,60-7,70)*(1,68+1,65)/2*2*0,5"]
[null,null,"(49,10-14,60)*(1,65+2,45)/2*2*0,5",null,70.724999999999994,null,null,null,null,null,null,null,"(49,10-14,60)*(1,65+2,45)/2*2*0,5"]
[10,"151101102R00","Pažení a rozepření stěn rýh - příložné - hl.do 4 m ","m2",727.64850000000001,null,{"$f":"E70*F70","v":0},8.5999999999999998E-4,{"$f":"E70*H70","v":0.62577771000000004},0,{"$f":"E70*J70","v":0},null,null,null,2,null,null,null,null,null,null,null,null,null,null,null,1,1,1,null,null,null,null,null,null,null,null,null,null,null,null,null,null,null,null,null,null,null,null,null,null,1,{"$f":"IF(AZ70=1,G70,0)","v":0},{"$f":"IF(AZ70=2,G70,0)","v":0},{"$f":"IF(AZ70=3,G70,0)","v":0},{"$f":"IF(AZ70=4,G70,0)","v":0},{"$f":"IF(AZ70=5,G70,0)","v":0},null,null,null,null,null,null,null,null,null,null,null,null,null,null,null,null,null,null,null,null,null,1,1]
[null,null,"Výkopy:",null,0,null,null,null,null,null,null,null,"Výkopy:"]
[null,null,"Stoka \"DS-3 do Š7\" PVC DN600 SN16:",null,0,null,null,null,null,null,null,null,"Stoka \"DS-3 do Š7\" PVC DN600 SN16:"]
[null,null,"Souběh se splaš. kanalizací a částečně s vodovodem:",null,0,null,null,null,null,null,null,null,"Souběh se splaš. kanalizací a částečně s vodovodem:"]
[null,null,"(73,10-49,10)*(2,45+2,45)/2*2*0,5",null,58.8,null,null,null,null,null,null,null,"(73,10-49,10)*(2,45+2,45)/2*2*0,5"]
[null,null,"(143,00-73,10)*(2,45+2,38)/2*2*0,5",null,168.80850000000001,null,null,null,null,null,null,null,"(143,00-73,10)*(2,45+2,38)/2*2*0,5"]
[null,null,"Stoka \"DS-3-a\"  PVC DN 315 SN12:",null,0,null,null,null,null,null,null,null,"Stoka \"DS-3-a\"  PVC DN 315 SN12:"]
[null,null,"Souběh se splaš. kanalizací a s vodovodem:",null,0,null,null,null,null,null,null,null,"Souběh se splaš. kanalizací a s vodovodem:"]
[null,null,"108,60*(2,45+2,15)/2*2*0,5",null,249.78,null,null,null,null,null,null,null,"108,60*(2,45+2,15)/2*2*0,5"]
[null,null,"(225,00-108,60)*(2,15+2,15)/2*2*0,5",null,250.26,null,null,null,null,null,null,null,"(225,00-108,60)*(2,15+2,15)/2*2*0,5"]
[11,"151101111R00","Odstranění pažení stěn rýh - příložné - hl. do 2 m ","m2",96.188999999999993,null,{"$f":"E80*F80","v":0},0,{"$f":"E80*H80","v":0},0,{"$f":"E80*J80","v":0},null,null,null,2,null,null,null,null,null,null,null,null,null,null,null,1,1,1,null,null,null,null,null,null,null,null,null,null,null,null,null,null,null,null,null,null,null,null,null,null,1,{"$f":"IF(AZ80=1,G80,0)","v":0},{"$f":"IF(AZ80=2,G80,0)","v":0},{"$f":"IF(AZ80=3,G80,0)","v":0},{"$f":"IF(AZ80=4,G80,0)","v":0},{"$f":"IF(AZ80=5,G80,0)","v":0},null,null,null,null,null,null,null,null,null,null,null,null,null,null,null,null,null,null,null,null,null,1,1]
[null,null,"Výkopy:",null,0,null,null,null,null,null,null,null,"Výkopy:"]
[null,null,"Stoka \"DS-3 do Š7\" PVC DN600 SN16:",null,0,null,null,null,null,null,null,null,"Stoka \"DS-3 do Š7\" PVC DN600 SN16:"]
[null,null,"Souběh se splaš. kanalizací a částečně s vodovodem:",null,0,null,null,null,null,null,null,null,"Souběh se splaš. kanalizací a částečně s vodovodem:"]
[null,null,"7,70*(1,95+1,68)/2*2*0,5",null,13.9755,null,null,null,null,null,null,null,"7,70*(1,95+1,68)/2*2*0,5"]
[null,null,"(14,60-7,70)*(1,68+1,65)/2*2*0,5",null,11.4885,null,null,null,null,null,null,null,"(14,60-7,70)*(1,68+1,65)/2*2*0,5"]
[null,null,"(49,10-14,60)*(1,65+2,45)/2*2*0,5",null,70.724999999999994,null,null,null,null,null,null,null,"(49,10-14,60)*(1,65+2,45)/2*2*0,5"]
[12,"151101112R00","Odstranění pažení stěn rýh - příložné - hl. do 4 m ","m2",727.64850000000001,null,{"$f":"E87*F87","v":0},0,{"$f":"E87*H87","v":0},0,{"$f":"E87*J87","v":0},null,null,null,2,null,null,null,null,null,null,null,null,null,null,null,1,1,1,null,null,null,null,null,null,null,null,null,null,null,null,null,null,null,null,null,null,null,null,null,null,1,{"$f":"IF(AZ87=1,G87,0)","v":0},{"$f":"IF(AZ87=2,G87,0)","v":0},{"$f":"IF(AZ87=3,G87,0)","v":0},{"$f":"IF(AZ87=4,G87,0)","v":0},{"$f":"IF(AZ87=5,G87,0)","v":0},null,null,null,null,null,null,null,null,null,null,null,null,null,null,null,null,null,null,null,null,null,1,1]
[null,null,"Výkopy:",null,0,null,null,null,null,null,null,null,"Výkopy:"]
[null,null,"Stoka \"DS-3 do Š7\" PVC DN600 SN16:",null,0,null,null,null,null,null,null,null,"Stoka \"DS-3 do Š7\" PVC DN600 SN16:"]
[null,null,"Souběh se splaš. kanalizací a částečně s vodovodem:",null,0,null,null,null,null,null,null,null,"Souběh se splaš. kanalizací a částečně s vodovodem:"]
[null,null,"(73,10-49,10)*(2,45+2,45)/2*2*0,5",null,58.8,null,null,null,null,null,null,null,"(73,10-49,10)*(2,45+2,45)/2*2*0,5"]
[null,null,"(143,00-73,10)*(2,45+2,38)/2*2*0,5",null,168.80850000000001,null,null,null,null,null,null,null,"(143,00-73,10)*(2,45+2,38)/2*2*0,5"]
[null,null,"Stoka \"DS-3-a\"  PVC DN 315 SN12:",null,0,null,null,null,null,null,null,null,"Stoka \"DS-3-a\"  PVC DN 315 SN12:"]
[null,null,"Souběh se splaš. kanalizací a s vodovodem:",null,0,null,null,null,null,null,null,null,"Souběh se splaš. kanalizací a s vodovodem:"]
[null,null,"108,60*(2,45+2,15)/2*2*0,5",null,249.78,null,null,null,null,null,null,null,"108,60*(2,45+2,15)/2*2*0,5"]
[null,null,"(225,00-108,60)*(2,15+2,15)/2*2*0,5",null,250.26,null,null,null,null,null,null,null,"(225,00-108,60)*(2,15+2,15)/2*2*0,5"]
[13,"162701105RSZ","Vodorovné přemístění výkopku z hor.1-7 na skládku zhotovitele","m3",858.31449999999995,null,{"$f":"E97*F97","v":0},0,{"$f":"E97*H97","v":0},0,{"$f":"E97*J97","v":0},null,null,null,2,null,null,null,null,null,null,null,null,null,null,null,1,1,1,null,null,null,null,null,null,null,null,null,null,null,null,null,null,null,null,null,null,null,null,null,null,1,{"$f":"IF(AZ97=1,G97,0)","v":0},{"$f":"IF(AZ97=2,G97,0)","v":0},{"$f":"IF(AZ97=3,G97,0)","v":0},{"$f":"IF(AZ97=4,G97,0)","v":0},{"$f":"IF(AZ97=5,G97,0)","v":0},null,null,null,null,null,null,null,null,null,null,null,null,null,null,null,null,null,null,null,null,null,1,1]
[null,null,"Výkopy:",null,0,null,null,null,null,null,null,null,"Výkopy:"]
[null,null,"V hornině tř. 3 - 5:858,3145",null,858.31449999999995,null,null,null,null,null,null,null,"V hornině tř. 3 - 5:858,3145"]
[14,"174101101R00","Zásyp jam, rýh, šachet se zhutněním ","m3",405.59620000000001,null,{"$f":"E100*F100","v":0},0,{"$f":"E100*H100","v":0},0,{"$f":"E100*J100","v":0},null,null,null,2,null,null,null,null,null,null,null,null,null,null,null,1,1,1,null,null,null,null,null,null,null,null,null,null,null,null,null,null,null,null,null,null,null,null,null,null,1,{"$f":"IF(AZ100=1,G100,0)","v":0},{"$f":"IF(AZ100=2,G100,0)","v":0},{"$f":"IF(AZ100=3,G100,0)","v":0},{"$f":"IF(AZ100=4,G100,0)","v":0},{"$f":"IF(AZ100=5,G100,0)","v":0},null,null,null,null,null,null,null,null,null,null,null,null,null,null,null,null,null,null,null,null,null,1,1]
[null,null,"Položka obsahuje strojní přemístění materiálu pro zásyp ze vzdálenosti do 10 m od okraje zásypu.",null,null,null,null,null,null,null,null,"Položka obsahuje strojní přemístění materiálu pro zásyp ze vzdálenosti do 10 m od okraje zásypu.",null,null,3]
[null,null,null,null,null,null,null,null,null,null,null,null,null,null,3]
[null,null,"Zásypy ŠD fr. 0-63 mm:405,5962",null,405.59620000000001,null,null,null,null,null,null,null,"Zásypy ŠD fr. 0-63 mm:405,5962"]
[null,null,"Začátek provozního součtu",null,0,null,null,null,null,null,null,null,"Začátek provozního součtu"]
[null,null,"Výkopy:",null,0,null,null,null,null,null,null,null,"Výkopy:"]
[null,null,"Stoka \"DS-3 do Š7\" PVC DN600 SN16:",null,0,null,null,null,null,null,null,null,"Stoka \"DS-3 do Š7\" PVC DN600 SN16:"]
[null,null,"Souběh se splaš. kanalizací a částečně s vodovodem:",null,0,null,null,null,null,null,null,null,"Souběh se splaš. kanalizací a částečně s vodovodem:"]
[null,null,"7,70*1,30*(1,95+1,68)/2",null,18.168199999999999,null,null,null,null,null,null,null,"7,70*1,30*(1,95+1,68)/2"]
[null,null,"(14,60-7,70)*1,30*(1,68+1,65)/2",null,14.9351,null,null,null,null,null,null,null,"(14,60-7,70)*1,30*(1,68+1,65)/2"]
[null,null,"(49,10-14,60)*1,30*(1,65+2,45)/2",null,91.942499999999995,null,null,null,null,null,null,null,"(49,10-14,60)*1,30*(1,65+2,45)/2"]
[null,null,"(73,10-49,10)*1,30*(2,45+2,45)/2",null,76.44,null,null,null,null,null,null,null,"(73,10-49,10)*1,30*(2,45+2,45)/2"]
[null,null,"(143,00-73,10)*1,30*(2,45+2,38)/2",null,219.4511,null,null,null,null,null,null,null,"(143,00-73,10)*1,30*(2,45+2,38)/2"]
[null,null,"Prohloubení pro RŠ:1,60*1,60*0,20*8",null,4.0960000000000001,null,null,null,null,null,null,null,"Prohloubení pro RŠ:1,60*1,60*0,20*8"]
[null,null,"Rozšíření pro RŠ:1,60*(1,60-1,30)*(1,95+1,86+1,65+2,45+2,45+2,45+2,35+2,36)",null,8.4095999999999993,null,null,null,null,null,null,null,"Rozšíření pro RŠ:1,60*(1,60-1,30)*(1,95+1,86+1,65+2,45+2,45+2,45+2,35+2,36)"]
[null,null,"Odpočet předpokládaného objemu MK:-(143,00-49,10)*1,30*0,40",null,-48.828000000000003,null,null,null,null,null,null,null,"Odpočet předpokládaného objemu MK:-(143,00-49,10)*1,30*0,40"]
[null,null,"Odpočet panelové cesty:-3,00*1,30*0,40",null,-1.56,null,null,null,null,null,null,null,"Odpočet panelové cesty:-3,00*1,30*0,40"]
[null,null,"Odpočet objemu Ornice:-(49,10-3,00)*1,30*0,20",null,-11.986000000000001,null,null,null,null,null,null,null,"Odpočet objemu Ornice:-(49,10-3,00)*1,30*0,20"]
[null,null,"Stoka \"DS-3-a\"  PVC DN 315 SN12:",null,0,null,null,null,null,null,null,null,"Stoka \"DS-3-a\"  PVC DN 315 SN12:"]
[null,null,"Souběh se splaš. kanalizací a s vodovodem:",null,0,null,null,null,null,null,null,null,"Souběh se splaš. kanalizací a s vodovodem:"]
[null,null,"108,60*1,00*(2,45+2,15)/2",null,249.78,null,null,null,null,null,null,null,"108,60*1,00*(2,45+2,15)/2"]
[null,null,"(225,00-108,60)*1,00*(2,15+2,15)/2",null,250.26,null,null,null,null,null,null,null,"(225,00-108,60)*1,00*(2,15+2,15)/2"]
[null,null,"Prohloubení pro RŠ:1,60*1,60*0,20*6",null,3.0720000000000001,null,null,null,null,null,null,null,"Prohloubení pro RŠ:1,60*1,60*0,20*6"]
[null,null,"Rozšíření pro RŠ:1,60*(1,60-1,00)*(2,37+2,15+2,15+2,05+2,15+2,15)",null,12.4992,null,null,null,null,null,null,null,"Rozšíření pro RŠ:1,60*(1,60-1,00)*(2,37+2,15+2,15+2,05+2,15+2,15)"]
[null,null,"Odpočet předpokládaného objemu MK:-225,00*1,00*0,40",null,-90,null,null,null,null,null,null,null,"Odpočet předpokládaného objemu MK:-225,00*1,00*0,40"]
[null,null,"Odpočet objemu lože, potrubí a obsypů:",null,0,null,null,null,null,null,null,null,"Odpočet objemu lože, potrubí a obsypů:"]
[null,null,"Stoka \"DS-3 do Š7\" PVC DN600 SN16:-143,00*1,00*(0,15+0,315+0,20)",null,-95.094999999999999,null,null,null,null,null,null,null,"Stoka \"DS-3 do Š7\" PVC DN600 SN16:-143,00*1,00*(0,15+0,315+0,20)"]
[null,null,"Stoka \"DS-3-a\"  PVC DN 315 SN12:-225,00*1,30*(0,15+0,60+0,20)",null,-277.875,null,null,null,null,null,null,null,"Stoka \"DS-3-a\"  PVC DN 315 SN12:-225,00*1,30*(0,15+0,60+0,20)"]
[null,null,"Odpočet objemu RŠ:-18,1133",null,-18.113299999999999,null,null,null,null,null,null,null,"Odpočet objemu RŠ:-18,1133"]
[null,null,"Konec provozního součtu",null,405.59640000000002,null,null,null,null,null,null,null,"Konec provozního součtu"]
[15,"175101101R00","Obsyp potrubí bez prohození sypaniny ","m3",273.80590000000001,null,{"$f":"E130*F130","v":0},0,{"$f":"E130*H130","v":0},0,{"$f":"E130*J130","v":0},null,null,null,2,null,null,null,null,null,null,null,null,null,null,null,1,1,1,null,null,null,null,null,null,null,null,null,null,null,null,null,null,null,null,null,null,null,null,null,null,1,{"$f":"IF(AZ130=1,G130,0)","v":0},{"$f":"IF(AZ130=2,G130,0)","v":0},{"$f":"IF(AZ130=3,G130,0)","v":0},{"$f":"IF(AZ130=4,G130,0)","v":0},{"$f":"IF(AZ130=5,G130,0)","v":0},null,null,null,null,null,null,null,null,null,null,null,null,null,null,null,null,null,null,null,null,null,1,1]
[null,null,"Stoka \"DS-3-a\"  PVC DN 315 SN12:150,00*(1,00*(0,315+0,20)-0,1575^2*Pi)",null,65.560299999999998,null,null,null,null,null,null,null,"Stoka \"DS-3-a\"  PVC DN 315 SN12:150,00*(1,00*(0,315+0,20)-0,1575^2*Pi)"]
[null,null,"Stoka \"DS-3 do Š7\" PVC DN600 SN16:275,00*(1,30*(0,60+0,20)-0,30^2*Pi)",null,208.2456,null,null,null,null,null,null,null,"Stoka \"DS-3 do Š7\" PVC DN600 SN16:275,00*(1,30*(0,60+0,20)-0,30^2*Pi)"]
[16,"199000002R00","Poplatek za skládku horniny 1- 7 č. dle katal. odpadů 17 05 04","m3",858.31449999999995,null,{"$f":"E133*F133","v":0},0,{"$f":"E133*H133","v":0},0,{"$f":"E133*J133","v":0},null,null,null,2,null,null,null,null,null,null,null,null,null,null,null,1,1,1,null,null,null,null,null,null,null,null,null,null,null,null,null,null,null,null,null,null,null,null,null,null,1,{"$f":"IF(AZ133=1,G133,0)","v":0},{"$f":"IF(AZ133=2,G133,0)","v":0},{"$f":"IF(AZ133=3,G133,0)","v":0},{"$f":"IF(AZ133=4,G133,0)","v":0},{"$f":"IF(AZ133=5,G133,0)","v":0},null,null,null,null,null,null,null,null,null,null,null,null,null,null,null,null,null,null,null,null,null,1,1]
[null,null,"Výkopy:",null,0,null,null,null,null,null,null,null,"Výkopy:"]
[null,null,"V hornině tř. 3 - 5:858,3145",null,858.31449999999995,null,null,null,null,null,null,null,"V hornině tř. 3 - 5:858,3145"]
[17,"58337308.R","Štěrkopísek frakce 0-2 tř.B","t",545.62130000000002,null,{"$f":"E136*F136","v":0},1,{"$f":"E136*H136","v":545.62130000000002},null,{"$f":"E136*J136","v":0},null,null,null,2,null,null,null,null,null,null,null,null,null,null,null,3,1,"58337308.R",null,null,null,null,null,null,null,null,null,null,null,null,null,null,null,null,null,null,null,null,null,null,1,{"$f":"IF(AZ136=1,G136,0)","v":0},{"$f":"IF(AZ136=2,G136,0)","v":0},{"$f":"IF(AZ136=3,G136,0)","v":0},{"$f":"IF(AZ136=4,G136,0)","v":0},{"$f":"IF(AZ136=5,G136,0)","v":0},null,null,null,null,null,null,null,null,null,null,null,null,null,null,null,null,null,null,null,null,null,3,1]
[null,null,"Stoka \"DS-3-a\"  PVC DN 315 SN12:150,00*(1,00*(0,315+0,20)-0,1575^2*Pi)*1,973*1,01",null,130.64400000000001,null,null,null,null,null,null,null,"Stoka \"DS-3-a\"  PVC DN 315 SN12:150,00*(1,00*(0,315+0,20)-0,1575^2*Pi)*1,973*1,01"]
[null,null,"Stoka \"DS-3 do Š7\" PVC DN600 SN16:275,00*(1,30*(0,60+0,20)-0,30^2*Pi)*1,973*1,01",null,414.97719999999998,null,null,null,null,null,null,null,"Stoka \"DS-3 do Š7\" PVC DN600 SN16:275,00*(1,30*(0,60+0,20)-0,30^2*Pi)*1,973*1,01"]
[18,"58344197R","Štěrkodrtě frakce 0-63 A","t",767.27850000000001,null,{"$f":"E139*F139","v":0},1,{"$f":"E139*H139","v":767.27850000000001},null,{"$f":"E139*J139","v":0},null,null,null,2,null,null,null,null,null,null,null,null,null,null,null,3,1,"58344197R",null,null,null,null,null,null,null,null,null,null,null,null,null,null,null,null,null,null,null,null,null,null,1,{"$f":"IF(AZ139=1,G139,0)","v":0},{"$f":"IF(AZ139=2,G139,0)","v":0},{"$f":"IF(AZ139=3,G139,0)","v":0},{"$f":"IF(AZ139=4,G139,0)","v":0},{"$f":"IF(AZ139=5,G139,0)","v":0},null,null,null,null,null,null,null,null,null,null,null,null,null,null,null,null,null,null,null,null,null,3,1]
[null,null,"Zásypy ŠD fr. 0-63 mm:405,5962*1,873*1,01",null,767.27850000000001,null,null,null,null,null,null,null,"Zásypy ŠD fr. 0-63 mm:405,5962*1,873*1,01"]
[null,"Celkem za","1 Zemní práce",null,null,null,{"$f":"SUM(G7:G140)","v":0},null,{"$f":"SUM(I7:I140)","v":1314.514310735},null,{"$f":"SUM(K7:K140)","v":0},null,null,null,4,null,null,null,null,null,null,null,null,null,null,null,null,null,null,null,null,null,null,null,null,null,null,null,null,null,null,null,null,null,null,null,null,null,null,null,null,null,{"$f":"SUM(BA7:BA140)","v":0},{"$f":"SUM(BB7:BB140)","v":0},{"$f":"SUM(BC7:BC140)","v":0},{"$f":"SUM(BD7:BD140)","v":0},{"$f":"SUM(BE7:BE140)","v":0}]
["Díl:","21","Úprava podloží a základ.spáry",null,null,null,null,null,null,null,null,null,null,null,1]
[19,"212810010RAC","Trativody z PVC drenážních flexibilních trubek lože štěrkopísek a obsyp kamenivo, trubky d 100 mm","m",368,null,{"$f":"E143*F143","v":0},0.43651000000000001,{"$f":"E143*H143","v":160.63568000000001},0,{"$f":"E143*J143","v":0},null,null,null,2,null,null,null,null,null,null,null,null,null,null,null,1,1,1,null,null,null,null,null,null,null,null,null,null,null,null,null,null,null,null,null,null,null,null,null,null,1,{"$f":"IF(AZ143=1,G143,0)","v":0},{"$f":"IF(AZ143=2,G143,0)","v":0},{"$f":"IF(AZ143=3,G143,0)","v":0},{"$f":"IF(AZ143=4,G143,0)","v":0},{"$f":"IF(AZ143=5,G143,0)","v":0},null,null,null,null,null,null,null,null,null,null,null,null,null,null,null,null,null,null,null,null,null,1,1]
[null,null,"Stoka \"DS-3 do Š7\" PVC DN600 SN16:143,00",null,143,null,null,null,null,null,null,null,"Stoka \"DS-3 do Š7\" PVC DN600 SN16:143,00"]
[null,null,"Stoka \"DS-3-a\"  PVC DN 315 SN12:225,00",null,225,null,null,null,null,null,null,null,"Stoka \"DS-3-a\"  PVC DN 315 SN12:225,00"]
[null,"Celkem za","21 Úprava podloží a základ.spáry",null,null,null,{"$f":"SUM(G142:G145)","v":0},null,{"$f":"SUM(I142:I145)","v":160.63568000000001},null,{"$f":"SUM(K142:K145)","v":0},null,null,null,4,null,null,null,null,null,null,null,null,null,null,null,null,null,null,null,null,null,null,null,null,null,null,null,null,null,null,null,null,null,null,null,null,null,null,null,null,null,{"$f":"SUM(BA142:BA145)","v":0},{"$f":"SUM(BB142:BB145)","v":0},{"$f":"SUM(BC142:BC145)","v":0},{"$f":"SUM(BD142:BD145)","v":0},{"$f":"SUM(BE142:BE145)","v":0}]
["Díl:","45","Podkladní a vedlejší konstrukce",null,null,null,null,null,null,null,null,null,null,null,1]
[20,"451572111R00","Lože pod potrubí z kameniva těženého 0 - 4 mm ","m3",65.325000000000003,null,{"$f":"E148*F148","v":0},0.43051,{"$f":"E148*H148","v":28.123065750000002},0,{"$f":"E148*J148","v":0},null,null,null,2,null,null,null,null,null,null,null,null,null,null,null,1,1,1,null,null,null,null,null,null,null,null,null,null,null,null,null,null,null,null,null,null,null,null,null,null,1,{"$f":"IF(AZ148=1,G148,0)","v":0},{"$f":"IF(AZ148=2,G148,0)","v":0},{"$f":"IF(AZ148=3,G148,0)","v":0},{"$f":"IF(AZ148=4,G148,0)","v":0},{"$f":"IF(AZ148=5,G148,0)","v":0},null,null,null,null,null,null,null,null,null,null,null,null,null,null,null,null,null,null,null,null,null,1,1]
[null,null,"Stoka \"DS-3 do Š7\" PVC DN600 SN16:143,00*1,00*0,15",null,21.45,null,null,null,null,null,null,null,"Stoka \"DS-3 do Š7\" PVC DN600 SN16:143,00*1,00*0,15"]
[null,null,"Stoka \"DS-3-a\"  PVC DN 315 SN12:225,00*1,30*0,15",null,43.875,null,null,null,null,null,null,null,"Stoka \"DS-3-a\"  PVC DN 315 SN12:225,00*1,30*0,15"]
[21,"452112111R00","Osazení beton. prstenců pod poklopy,výšky do100 mm ","kus",21,null,{"$f":"E151*F151","v":0},6.6E-3,{"$f":"E151*H151","v":0.1386},0,{"$f":"E151*J151","v":0},null,null,null,2,null,null,null,null,null,null,null,null,null,null,null,1,1,1,null,null,null,null,null,null,null,null,null,null,null,null,null,null,null,null,null,null,null,null,null,null,1,{"$f":"IF(AZ151=1,G151,0)","v":0},{"$f":"IF(AZ151=2,G151,0)","v":0},{"$f":"IF(AZ151=3,G151,0)","v":0},{"$f":"IF(AZ151=4,G151,0)","v":0},{"$f":"IF(AZ151=5,G151,0)","v":0},null,null,null,null,null,null,null,null,null,null,null,null,null,null,null,null,null,null,null,null,null,1,1]
[null,null,"Volba položky se řídí výškou prstence nebo rámu. V položkách nejsou zakalkulovány náklady na dodávku betonových výrobků;",null,null,null,null,null,null,null,null,"Volba položky se řídí výškou prstence nebo rámu. V položkách nejsou zakalkulovány náklady na dodávku betonových výrobků;",null,null,3]
[null,null,"Stoka \"DS-3-a\"  PVC DN 315 SN12:",null,0,null,null,null,null,null,null,null,"Stoka \"DS-3-a\"  PVC DN 315 SN12:"]
[null,null,"Stoka \"DS-3 do Š7\" PVC DN600 SN16:",null,0,null,null,null,null,null,null,null,"Stoka \"DS-3 do Š7\" PVC DN600 SN16:"]
[null,null,"VP H8:9",null,9,null,null,null,null,null,null,null,"VP H8:9"]
[null,null,"VP H10:12",null,12,null,null,null,null,null,null,null,"VP H10:12"]
[22,"452112121R00","Osazení beton. prstenců pod poklopy,výšky do200 mm ","kus",4,null,{"$f":"E157*F157","v":0},6.6E-3,{"$f":"E157*H157","v":2.64E-2},0,{"$f":"E157*J157","v":0},null,null,null,2,null,null,null,null,null,null,null,null,null,null,null,1,1,1,null,null,null,null,null,null,null,null,null,null,null,null,null,null,null,null,null,null,null,null,null,null,1,{"$f":"IF(AZ157=1,G157,0)","v":0},{"$f":"IF(AZ157=2,G157,0)","v":0},{"$f":"IF(AZ157=3,G157,0)","v":0},{"$f":"IF(AZ157=4,G157,0)","v":0},{"$f":"IF(AZ157=5,G157,0)","v":0},null,null,null,null,null,null,null,null,null,null,null,null,null,null,null,null,null,null,null,null,null,1,1]
[null,null,"Stoka \"DS-3-a\"  PVC DN 315 SN12:",null,0,null,null,null,null,null,null,null,"Stoka \"DS-3-a\"  PVC DN 315 SN12:"]
[null,null,"Stoka \"DS-3 do Š7\" PVC DN600 SN16:",null,0,null,null,null,null,null,null,null,"Stoka \"DS-3 do Š7\" PVC DN600 SN16:"]
[null,null,"VP H12:4",null,4,null,null,null,null,null,null,null,"VP H12:4"]
[23,"59224348.A.R","Prstenec vyrovn šachetní TBW-Q.1 63/8","kus",9.09,null,{"$f":"E161*F161","v":0},5.3999999999999999E-2,{"$f":"E161*H161","v":0.49085999999999996},null,{"$f":"E161*J161","v":0},null,null,null,2,null,null,null,null,null,null,null,null,null,null,null,3,1,"59224348.A.R",null,null,null,null,null,null,null,null,null,null,null,null,null,null,null,null,null,null,null,null,null,null,1,{"$f":"IF(AZ161=1,G161,0)","v":0},{"$f":"IF(AZ161=2,G161,0)","v":0},{"$f":"IF(AZ161=3,G161,0)","v":0},{"$f":"IF(AZ161=4,G161,0)","v":0},{"$f":"IF(AZ161=5,G161,0)","v":0},null,null,null,null,null,null,null,null,null,null,null,null,null,null,null,null,null,null,null,null,null,3,1]
[null,null,"Stoka \"DS-3-a\"  PVC DN 315 SN12:",null,0,null,null,null,null,null,null,null,"Stoka \"DS-3-a\"  PVC DN 315 SN12:"]
[null,null,"Stoka \"DS-3 do Š7\" PVC DN600 SN16:",null,0,null,null,null,null,null,null,null,"Stoka \"DS-3 do Š7\" PVC DN600 SN16:"]
[null,null,"VP H8:9*1,01",null,9.09,null,null,null,null,null,null,null,"VP H8:9*1,01"]
[24,"59224349.A.R","Prstenec vyrovn šachetní TBW-Q.1 63/10","kus",12.12,null,{"$f":"E165*F165","v":0},6.8000000000000005E-2,{"$f":"E165*H165","v":0.82416},null,{"$f":"E165*J165","v":0},null,null,null,2,null,null,null,null,null,null,null,null,null,null,null,3,1,"59224349.A.R",null,null,null,null,null,null,null,null,null,null,null,null,null,null,null,null,null,null,null,null,null,null,1,{"$f":"IF(AZ165=1,G165,0)","v":0},{"$f":"IF(AZ165=2,G165,0)","v":0},{"$f":"IF(AZ165=3,G165,0)","v":0},{"$f":"IF(AZ165=4,G165,0)","v":0},{"$f":"IF(AZ165=5,G165,0)","v":0},null,null,null,null,null,null,null,null,null,null,null,null,null,null,null,null,null,null,null,null,null,3,1]
[null,null,"Stoka \"DS-3-a\"  PVC DN 315 SN12:",null,0,null,null,null,null,null,null,null,"Stoka \"DS-3-a\"  PVC DN 315 SN12:"]
[null,null,"Stoka \"DS-3 do Š7\" PVC DN600 SN16:",null,0,null,null,null,null,null,null,null,"Stoka \"DS-3 do Š7\" PVC DN600 SN16:"]
[null,null,"VP H10:12*1,01",null,12.12,null,null,null,null,null,null,null,"VP H10:12*1,01"]
[25,"59224350.A.R","Prstenec vyrovn šachetní TBW-Q.1 63/12","kus",4.04,null,{"$f":"E169*F169","v":0},8.1000000000000003E-2,{"$f":"E169*H169","v":0.32724000000000003},null,{"$f":"E169*J169","v":0},null,null,null,2,null,null,null,null,null,null,null,null,null,null,null,3,1,"59224350.A.R",null,null,null,null,null,null,null,null,null,null,null,null,null,null,null,null,null,null,null,null,null,null,1,{"$f":"IF(AZ169=1,G169,0)","v":0},{"$f":"IF(AZ169=2,G169,0)","v":0},{"$f":"IF(AZ169=3,G169,0)","v":0},{"$f":"IF(AZ169=4,G169,0)","v":0},{"$f":"IF(AZ169=5,G169,0)","v":0},null,null,null,null,null,null,null,null,null,null,null,null,null,null,null,null,null,null,null,null,null,3,1]
[null,null,"Stoka \"DS-3-a\"  PVC DN 315 SN12:",null,0,null,null,null,null,null,null,null,"Stoka \"DS-3-a\"  PVC DN 315 SN12:"]
[null,null,"Stoka \"DS-3 do Š7\" PVC DN600 SN16:",null,0,null,null,null,null,null,null,null,"Stoka \"DS-3 do Š7\" PVC DN600 SN16:"]
[null,null,"VP H12:4*1,01",null,4.04,null,null,null,null,null,null,null,"VP H12:4*1,01"]
[null,"Celkem za","45 Podkladní a vedlejší konstrukce",null,null,null,{"$f":"SUM(G147:G172)","v":0},null,{"$f":"SUM(I147:I172)","v":29.930325750000002},null,{"$f":"SUM(K147:K172)","v":0},null,null,null,4,null,null,null,null,null,null,null,null,null,null,null,null,null,null,null,null,null,null,null,null,null,null,null,null,null,null,null,null,null,null,null,null,null,null,null,null,null,{"$f":"SUM(BA147:BA172)","v":0},{"$f":"SUM(BB147:BB172)","v":0},{"$f":"SUM(BC147:BC172)","v":0},{"$f":"SUM(BD147:BD172)","v":0},{"$f":"SUM(BE147:BE172)","v":0}]
["Díl:","5","Komunikace",null,null,null,null,null,null,null,null,null,null,null,1]
[26,"572701119RRX","Provizorní zásyp rýh kam. hrubě drceným nebo recyk s následným odstraněním a odvozem","m3",148.66800000000001,null,{"$f":"E175*F175","v":0},1.4804999999999999,{"$f":"E175*H175","v":220.10297399999999},0,{"$f":"E175*J175","v":0},null,null,null,2,null,null,null,null,null,null,null,null,null,null,null,1,1,1,null,null,null,null,null,null,null,null,null,null,null,null,null,null,null,null,null,null,null,null,null,null,1,{"$f":"IF(AZ175=1,G175,0)","v":0},{"$f":"IF(AZ175=2,G175,0)","v":0},{"$f":"IF(AZ175=3,G175,0)","v":0},{"$f":"IF(AZ175=4,G175,0)","v":0},{"$f":"IF(AZ175=5,G175,0)","v":0},null,null,null,null,null,null,null,null,null,null,null,null,null,null,null,null,null,null,null,null,null,1,1]
[null,null,"Stoka \"DS-3 do Š7\" PVC DN600 SN16:143,00*1,00*0,40",null,57.2,null,null,null,null,null,null,null,"Stoka \"DS-3 do Š7\" PVC DN600 SN16:143,00*1,00*0,40"]
[null,null,"Stoka \"DS-3-a\"  PVC DN 315 SN12:(225,00-49,10)*1,30*0,40",null,91.468000000000004,null,null,null,null,null,null,null,"Stoka \"DS-3-a\"  PVC DN 315 SN12:(225,00-49,10)*1,30*0,40"]
[null,"Celkem za","5 Komunikace",null,null,null,{"$f":"SUM(G174:G177)","v":0},null,{"$f":"SUM(I174:I177)","v":220.10297399999999},null,{"$f":"SUM(K174:K177)","v":0},null,null,null,4,null,null,null,null,null,null,null,null,null,null,null,null,null,null,null,null,null,null,null,null,null,null,null,null,null,null,null,null,null,null,null,null,null,null,null,null,null,{"$f":"SUM(BA174:BA177)","v":0},{"$f":"SUM(BB174:BB177)","v":0},{"$f":"SUM(BC174:BC177)","v":0},{"$f":"SUM(BD174:BD177)","v":0},{"$f":"SUM(BE174:BE177)","v":0}]
["Díl:","8","Trubní vedení",null,null,null,null,null,null,null,null,null,null,null,1]
[27,"871373121R00","Montáž trub z plastu, gumový kroužek, DN 300 ","m",225,null,{"$f":"E180*F180","v":0},1.0000000000000001E-5,{"$f":"E180*H180","v":2.2500000000000003E-3},0,{"$f":"E180*J180","v":0},null,null,null,2,null,null,null,null,null,null,null,null,null,null,null,1,1,1,null,null,null,null,null,null,null,null,null,null,null,null,null,null,null,null,null,null,null,null,null,null,1,{"$f":"IF(AZ180=1,G180,0)","v":0},{"$f":"IF(AZ180=2,G180,0)","v":0},{"$f":"IF(AZ180=3,G180,0)","v":0},{"$f":"IF(AZ180=4,G180,0)","v":0},{"$f":"IF(AZ180=5,G180,0)","v":0},null,null,null,null,null,null,null,null,null,null,null,null,null,null,null,null,null,null,null,null,null,1,1]
[null,null,"Stoka \"DS-3-a\"  PVC DN 315 SN12:225,00",null,225,null,null,null,null,null,null,null,"Stoka \"DS-3-a\"  PVC DN 315 SN12:225,00"]
[28,"871423121R00","Montáž trub z plastu, gumový kroužek, DN 600 ","m",143,null,{"$f":"E182*F182","v":0},2.0000000000000002E-5,{"$f":"E182*H182","v":2.8600000000000001E-3},0,{"$f":"E182*J182","v":0},null,null,null,2,null,null,null,null,null,null,null,null,null,null,null,1,1,1,null,null,null,null,null,null,null,null,null,null,null,null,null,null,null,null,null,null,null,null,null,null,1,{"$f":"IF(AZ182=1,G182,0)","v":0},{"$f":"IF(AZ182=2,G182,0)","v":0},{"$f":"IF(AZ182=3,G182,0)","v":0},{"$f":"IF(AZ182=4,G182,0)","v":0},{"$f":"IF(AZ182=5,G182,0)","v":0},null,null,null,null,null,null,null,null,null,null,null,null,null,null,null,null,null,null,null,null,null,1,1]
[null,null,"Stoka \"DS-3 do Š7\" PVC DN600 SN16:143,00",null,143,null,null,null,null,null,null,null,"Stoka \"DS-3 do Š7\" PVC DN600 SN16:143,00"]
[29,"892601154R00","Čištění kanalizační stoky do DN 500, nad 100 m ","m",225,null,{"$f":"E184*F184","v":0},0,{"$f":"E184*H184","v":0},0,{"$f":"E184*J184","v":0},null,null,null,2,null,null,null,null,null,null,null,null,null,null,null,1,0,0,null,null,null,null,null,null,null,null,null,null,null,null,null,null,null,null,null,null,null,null,null,null,1,{"$f":"IF(AZ184=1,G184,0)","v":0},{"$f":"IF(AZ184=2,G184,0)","v":0},{"$f":"IF(AZ184=3,G184,0)","v":0},{"$f":"IF(AZ184=4,G184,0)","v":0},{"$f":"IF(AZ184=5,G184,0)","v":0},null,null,null,null,null,null,null,null,null,null,null,null,null,null,null,null,null,null,null,null,null,1,0]
[null,null,"V položce je zakalkulováno:",null,null,null,null,null,null,null,null,"V položce je zakalkulováno:",null,null,3]
[null,null,"a) otevření a uzavření revizních šachet a čisticích kusů",null,null,null,null,null,null,null,null,"a) otevření a uzavření revizních šachet a čisticích kusů",null,null,3]
[null,null,"b) natažení vysokotlakých hadic k místu odkud se bude kanalizace čistit",null,null,null,null,null,null,null,null,"b) natažení vysokotlakých hadic k místu odkud se bude kanalizace čistit",null,null,3]
[null,null,"c) vyčištění potrubí tlakovou vodou nebo motorovým pérem.",null,null,null,null,null,null,null,null,"c) vyčištění potrubí tlakovou vodou nebo motorovým pérem.",null,null,3]
[null,null,"Stoka \"DS-3-a\"  PVC DN 315 SN12:225,00",null,225,null,null,null,null,null,null,null,"Stoka \"DS-3-a\"  PVC DN 315 SN12:225,00"]
[30,"892601184R00","Čištění kanalizační stoky do DN 800, nad 100 m ","m",143,null,{"$f":"E190*F190","v":0},0,{"$f":"E190*H190","v":0},0,{"$f":"E190*J190","v":0},null,null,null,2,null,null,null,null,null,null,null,null,null,null,null,1,1,1,null,null,null,null,null,null,null,null,null,null,null,null,null,null,null,null,null,null,null,null,null,null,1,{"$f":"IF(AZ190=1,G190,0)","v":0},{"$f":"IF(AZ190=2,G190,0)","v":0},{"$f":"IF(AZ190=3,G190,0)","v":0},{"$f":"IF(AZ190=4,G190,0)","v":0},{"$f":"IF(AZ190=5,G190,0)","v":0},null,null,null,null,null,null,null,null,null,null,null,null,null,null,null,null,null,null,null,null,null,1,1]
[null,null,"V položce je zakalkulováno:",null,null,null,null,null,null,null,null,"V položce je zakalkulováno:",null,null,3]
[null,null,"a) otevření a uzavření revizních šachet a čisticích kusů",null,null,null,null,null,null,null,null,"a) otevření a uzavření revizních šachet a čisticích kusů",null,null,3]
[null,null,"b) natažení vysokotlakých hadic k místu odkud se bude kanalizace čistit",null,null,null,null,null,null,null,null,"b) natažení vysokotlakých hadic k místu odkud se bude kanalizace čistit",null,null,3]
[null,null,"c) vyčištění potrubí tlakovou vodou nebo motorovým pérem.",null,null,null,null,null,null,null,null,"c) vyčištění potrubí tlakovou vodou nebo motorovým pérem.",null,null,3]
[null,null,"Stoka \"DS-3 do Š7\" PVC DN600 SN16:143,00",null,143,null,null,null,null,null,null,null,"Stoka \"DS-3 do Š7\" PVC DN600 SN16:143,00"]
[31,"892855115R00","Kontrola kanalizace TV kamerou do 500 m ","m",368,null,{"$f":"E196*F196","v":0},0,{"$f":"E196*H196","v":0},0,{"$f":"E196*J196","v":0},null,null,null,2,null,null,null,null,null,null,null,null,null,null,null,1,1,1,null,null,null,null,null,null,null,null,null,null,null,null,null,null,null,null,null,null,null,null,null,null,1,{"$f":"IF(AZ196=1,G196,0)","v":0},{"$f":"IF(AZ196=2,G196,0)","v":0},{"$f":"IF(AZ196=3,G196,0)","v":0},{"$f":"IF(AZ196=4,G196,0)","v":0},{"$f":"IF(AZ196=5,G196,0)","v":0},null,null,null,null,null,null,null,null,null,null,null,null,null,null,null,null,null,null,null,null,null,1,1]
[null,null,"Provedení kaberové prohlídky včetně dodání elektronického záznamu na CD zadavateli a tištěné dokumentace průběhu kamerové prohlídky",null,null,null,null,null,null,null,null,"Provedení kaberové prohlídky včetně dodání elektronického záznamu na CD zadavateli a tištěné dokumentace průběhu kamerové prohlídky",null,null,3]
[null,null,"Stoka \"DS-3 do Š7\" PVC DN600 SN16:143,00",null,143,null,null,null,null,null,null,null,"Stoka \"DS-3 do Š7\" PVC DN600 SN16:143,00"]
[null,null,"Stoka \"DS-3-a\"  PVC DN 315 SN12:225,00",null,225,null,null,null,null,null,null,null,"Stoka \"DS-3-a\"  PVC DN 315 SN12:225,00"]
[32,"894421111RT1","Osazení betonových dílců šachet skruže rovné, na kroužek, do 0,5 t","kus",12,null,{"$f":"E200*F200","v":0},0,{"$f":"E200*H200","v":0},0,{"$f":"E200*J200","v":0},null,null,null,2,null,null,null,null,null,null,null,null,null,null,null,1,1,1,null,null,null,null,null,null,null,null,null,null,null,null,null,null,null,null,null,null,null,null,null,null,1,{"$f":"IF(AZ200=1,G200,0)","v":0},{"$f":"IF(AZ200=2,G200,0)","v":0},{"$f":"IF(AZ200=3,G200,0)","v":0},{"$f":"IF(AZ200=4,G200,0)","v":0},{"$f":"IF(AZ200=5,G200,0)","v":0},null,null,null,null,null,null,null,null,null,null,null,null,null,null,null,null,null,null,null,null,null,1,1]
[null,null,"Položka je určena pro osazení betonových dílců šachet dle DIN 4034, skruže rovné na kroužek, hmotnost do 0,5 t.",null,null,null,null,null,null,null,null,"Položka je určena pro osazení betonových dílců šachet dle DIN 4034, skruže rovné na kroužek, hmotnost do 0,5 t.",null,null,3]
[null,null,"V položce nejsou zakalkulovány náklady na dodání betonových dílců; dílce se oceňují ve specifikaci.",null,null,null,null,null,null,null,null,"V položce nejsou zakalkulovány náklady na dodání betonových dílců; dílce se oceňují ve specifikaci.",null,null,3]
[null,null,"Stoka \"DS-3-a\"  PVC DN 315 SN12:",null,0,null,null,null,null,null,null,null,"Stoka \"DS-3-a\"  PVC DN 315 SN12:"]
[null,null,"Stoka \"DS-3 do Š7\" PVC DN600 SN16:",null,0,null,null,null,null,null,null,null,"Stoka \"DS-3 do Š7\" PVC DN600 SN16:"]
[null,null,"Skruž H25:6",null,6,null,null,null,null,null,null,null,"Skruž H25:6"]
[null,null,"Skruž H50:6",null,6,null,null,null,null,null,null,null,"Skruž H50:6"]
[33,"894422111RT1","Osazení betonových dílců šachet skruže přechodové, na kroužek","kus",12,null,{"$f":"E207*F207","v":0},0,{"$f":"E207*H207","v":0},0,{"$f":"E207*J207","v":0},null,null,null,2,null,null,null,null,null,null,null,null,null,null,null,1,1,1,null,null,null,null,null,null,null,null,null,null,null,null,null,null,null,null,null,null,null,null,null,null,1,{"$f":"IF(AZ207=1,G207,0)","v":0},{"$f":"IF(AZ207=2,G207,0)","v":0},{"$f":"IF(AZ207=3,G207,0)","v":0},{"$f":"IF(AZ207=4,G207,0)","v":0},{"$f":"IF(AZ207=5,G207,0)","v":0},null,null,null,null,null,null,null,null,null,null,null,null,null,null,null,null,null,null,null,null,null,1,1]
[null,null,"Položka je určena pro osazení betonových dílců šachet dle DIN 4034, skruže přechodové, zákrytové, kónusy,... na kroužek.",null,null,null,null,null,null,null,null,"Položka je určena pro osazení betonových dílců šachet dle DIN 4034, skruže přechodové, zákrytové, kónusy,... na kroužek.",null,null,3]
[null,null,"Stoka \"DS-3-a\"  PVC DN 315 SN12:",null,0,null,null,null,null,null,null,null,"Stoka \"DS-3-a\"  PVC DN 315 SN12:"]
[null,null,"Stoka \"DS-3 do Š7\" PVC DN600 SN16:",null,0,null,null,null,null,null,null,null,"Stoka \"DS-3 do Š7\" PVC DN600 SN16:"]
[null,null,"Kónus H60:12",null,12,null,null,null,null,null,null,null,"Kónus H60:12"]
[34,"894423111RT1","Osazení betonových dílců šachet do 2,0 t šachtová dna, na kroužek, do 2,0 t","kus",6,null,{"$f":"E212*F212","v":0},0,{"$f":"E212*H212","v":0},0,{"$f":"E212*J212","v":0},null,null,null,2,null,null,null,null,null,null,null,null,null,null,null,1,1,1,null,null,null,null,null,null,null,null,null,null,null,null,null,null,null,null,null,null,null,null,null,null,1,{"$f":"IF(AZ212=1,G212,0)","v":0},{"$f":"IF(AZ212=2,G212,0)","v":0},{"$f":"IF(AZ212=3,G212,0)","v":0},{"$f":"IF(AZ212=4,G212,0)","v":0},{"$f":"IF(AZ212=5,G212,0)","v":0},null,null,null,null,null,null,null,null,null,null,null,null,null,null,null,null,null,null,null,null,null,1,1]
[null,null,"Položka je určena pro osazení betonových dílců šachet dle DIN 4034, šachtová dna na kroužek, hmotnost do 2,0 t.",null,null,null,null,null,null,null,null,"Položka je určena pro osazení betonových dílců šachet dle DIN 4034, šachtová dna na kroužek, hmotnost do 2,0 t.",null,null,3]
[null,null,"V položce nejsou zakalkulovány náklady na dodání betonových dílců;",null,null,null,null,null,null,null,null,"V položce nejsou zakalkulovány náklady na dodání betonových dílců;",null,null,3]
[null,null,"Součástí položky je i podbetonování šachtového dna betonem C12/15 v min. tl. 10 cm.",null,null,null,null,null,null,null,null,"Součástí položky je i podbetonování šachtového dna betonem C12/15 v min. tl. 10 cm.",null,null,3]
[null,null,"Stoka \"DS-3-a\"  PVC DN 315 SN12:",null,0,null,null,null,null,null,null,null,"Stoka \"DS-3-a\"  PVC DN 315 SN12:"]
[null,null,"Stoka \"DS-3 do Š7\" PVC DN600 SN16:",null,0,null,null,null,null,null,null,null,"Stoka \"DS-3 do Š7\" PVC DN600 SN16:"]
[null,null,"ŠD 100/60:6",null,6,null,null,null,null,null,null,null,"ŠD 100/60:6"]
[35,"894423112RT1","Osazení betonových dílců šachet do 3,0 t šachtová dna, na kroužek, do 3,0 t","kus",7,null,{"$f":"E219*F219","v":0},0,{"$f":"E219*H219","v":0},0,{"$f":"E219*J219","v":0},null,null,null,2,null,null,null,null,null,null,null,null,null,null,null,1,1,1,null,null,null,null,null,null,null,null,null,null,null,null,null,null,null,null,null,null,null,null,null,null,1,{"$f":"IF(AZ219=1,G219,0)","v":0},{"$f":"IF(AZ219=2,G219,0)","v":0},{"$f":"IF(AZ219=3,G219,0)","v":0},{"$f":"IF(AZ219=4,G219,0)","v":0},{"$f":"IF(AZ219=5,G219,0)","v":0},null,null,null,null,null,null,null,null,null,null,null,null,null,null,null,null,null,null,null,null,null,1,1]
[null,null,"Položka je určena pro osazení betonových dílců šachet dle DIN 4034, šachtová dna na kroužek, hmotnost do 2,0 t.",null,null,null,null,null,null,null,null,"Položka je určena pro osazení betonových dílců šachet dle DIN 4034, šachtová dna na kroužek, hmotnost do 2,0 t.",null,null,3]
[null,null,"V položce nejsou zakalkulovány náklady na dodání betonových dílců;",null,null,null,null,null,null,null,null,"V položce nejsou zakalkulovány náklady na dodání betonových dílců;",null,null,3]
[null,null,"Součástí položky je i podbetonování šachtového dna betonem C12/15 v min. tl. 10 cm.",null,null,null,null,null,null,null,null,"Součástí položky je i podbetonování šachtového dna betonem C12/15 v min. tl. 10 cm.",null,null,3]
[null,null,"Stoka \"DS-3-a\"  PVC DN 315 SN12:",null,0,null,null,null,null,null,null,null,"Stoka \"DS-3-a\"  PVC DN 315 SN12:"]
[null,null,"Stoka \"DS-3 do Š7\" PVC DN600 SN16:",null,0,null,null,null,null,null,null,null,"Stoka \"DS-3 do Š7\" PVC DN600 SN16:"]
[null,null,"ŠD 100/100:7",null,7,null,null,null,null,null,null,null,"ŠD 100/100:7"]
[36,"899102111R00","Osazení poklopu s rámem do 100 kg ","kus",12,null,{"$f":"E226*F226","v":0},7.0200000000000002E-3,{"$f":"E226*H226","v":8.4240000000000009E-2},0,{"$f":"E226*J226","v":0},null,null,null,2,null,null,null,null,null,null,null,null,null,null,null,1,1,1,null,null,null,null,null,null,null,null,null,null,null,null,null,null,null,null,null,null,null,null,null,null,1,{"$f":"IF(AZ226=1,G226,0)","v":0},{"$f":"IF(AZ226=2,G226,0)","v":0},{"$f":"IF(AZ226=3,G226,0)","v":0},{"$f":"IF(AZ226=4,G226,0)","v":0},{"$f":"IF(AZ226=5,G226,0)","v":0},null,null,null,null,null,null,null,null,null,null,null,null,null,null,null,null,null,null,null,null,null,1,1]
[null,null,"Osazení provizorních poklopů během realizace stavby  (nefakturovaný materiál zhotovitele)",null,null,null,null,null,null,null,null,"Osazení provizorních poklopů během realizace stavby  (nefakturovaný materiál zhotovitele)",null,null,3]
[null,null,"Stoka \"DS-3-a\"  PVC DN 315 SN12:",null,0,null,null,null,null,null,null,null,"Stoka \"DS-3-a\"  PVC DN 315 SN12:"]
[null,null,"Stoka \"DS-3 do Š7\" PVC DN600 SN16:",null,0,null,null,null,null,null,null,null,"Stoka \"DS-3 do Š7\" PVC DN600 SN16:"]
[null,null,"Poklop dle PD:12",null,12,null,null,null,null,null,null,null,"Poklop dle PD:12"]
[37,"899711122R00","Fólie výstražná z PVC šedá, šířka 30 cm ","m",368,null,{"$f":"E231*F231","v":0},0,{"$f":"E231*H231","v":0},0,{"$f":"E231*J231","v":0},null,null,null,2,null,null,null,null,null,null,null,null,null,null,null,1,1,1,null,null,null,null,null,null,null,null,null,null,null,null,null,null,null,null,null,null,null,null,null,null,1,{"$f":"IF(AZ231=1,G231,0)","v":0},{"$f":"IF(AZ231=2,G231,0)","v":0},{"$f":"IF(AZ231=3,G231,0)","v":0},{"$f":"IF(AZ231=4,G231,0)","v":0},{"$f":"IF(AZ231=5,G231,0)","v":0},null,null,null,null,null,null,null,null,null,null,null,null,null,null,null,null,null,null,null,null,null,1,1]
[null,null,"Stoka \"DS-3 do Š7\" PVC DN600 SN16:143,00",null,143,null,null,null,null,null,null,null,"Stoka \"DS-3 do Š7\" PVC DN600 SN16:143,00"]
[null,null,"Stoka \"DS-3-a\"  PVC DN 315 SN12:225,00",null,225,null,null,null,null,null,null,null,"Stoka \"DS-3-a\"  PVC DN 315 SN12:225,00"]
[38,"899 45-5002.RRX","Vybudování monol.šachtového dna na stáv. potrubí včetně úpravy potrubí stávajícítkoky dle PD","kpl",1,null,{"$f":"E234*F234","v":0},4.6500000000000004,{"$f":"E234*H234","v":4.6500000000000004},null,{"$f":"E234*J234","v":0},null,null,null,2,null,null,null,null,null,null,null,null,null,null,null,12,0,45,null,null,null,null,null,null,null,null,null,null,null,null,null,null,null,null,null,null,null,null,null,null,1,{"$f":"IF(AZ234=1,G234,0)","v":0},{"$f":"IF(AZ234=2,G234,0)","v":0},{"$f":"IF(AZ234=3,G234,0)","v":0},{"$f":"IF(AZ234=4,G234,0)","v":0},{"$f":"IF(AZ234=5,G234,0)","v":0},null,null,null,null,null,null,null,null,null,null,null,null,null,null,null,null,null,null,null,null,null,12,0]
[null,null,"Stávající potrubí BT DN600",null,null,null,null,null,null,null,null,"Stávající potrubí BT DN600",null,null,3]
[null,null,"- výřez části stávajícího potrubí",null,null,null,null,null,null,null,null,"- výřez části stávajícího potrubí",null,null,3]
[null,null,"- vybudování nového monolitického šachtového dna Š0 dle PD",null,null,null,null,null,null,null,null,"- vybudování nového monolitického šachtového dna Š0 dle PD",null,null,3]
[null,null,"- propojení stávajícího odtokobého potrubí na monolitické dno",null,null,null,null,null,null,null,null,"- propojení stávajícího odtokobého potrubí na monolitické dno",null,null,3]
[39,"286111934.R","Trubka kanalizační PVC QUANTUM SN 12 DN 315","m",231.75,null,{"$f":"E239*F239","v":0},1.0200000000000001E-3,{"$f":"E239*H239","v":0.23638500000000001},null,{"$f":"E239*J239","v":0},null,null,null,2,null,null,null,null,null,null,null,null,null,null,null,3,1,"286111934.R",null,null,null,null,null,null,null,null,null,null,null,null,null,null,null,null,null,null,null,null,null,null,1,{"$f":"IF(AZ239=1,G239,0)","v":0},{"$f":"IF(AZ239=2,G239,0)","v":0},{"$f":"IF(AZ239=3,G239,0)","v":0},{"$f":"IF(AZ239=4,G239,0)","v":0},{"$f":"IF(AZ239=5,G239,0)","v":0},null,null,null,null,null,null,null,null,null,null,null,null,null,null,null,null,null,null,null,null,null,3,1]
[null,null,"Jedná  se  o  plnostěnné kanalizační trubky DN 150 – DN 400, SN 12 kN/m2 , zvenčí  i  zevnitř  hladké. Jsou  opatřeny hrdlem,  v  němž  je  vložen vysoce  elastický  jazýčkový  kroužek.  konce  trubek  (dříků)  jsou opatřeny  zkosením  pod  úhlem  15°.  Způsob  použití  trubek  je  „U“  dle  normy  ČSN  EN  1401-1, tj. mimo budovy. Spolehlivá  funkce  těsnění  je  jištěna  výztužným  kroužkem  z  elastomeru.  Je  tak  zamezeno  vypad-nutí nebo vytlačení kroužku při manipulaci a montáži. Tento systém zaručuje při správné montáži ",null,null,null,null,null,null,null,null,"Jedná  se  o  plnostěnné kanalizační trubky DN 150 – DN 400, SN 12 kN/m2 , zvenčí  i  zevnitř  hladké. Jsou  opatřeny hrdlem,  v  němž  je  vložen vysoce  elastický  jazýčkový  kroužek.  konce  trubek  (dříků)  jsou opatřeny  zkosením  pod  úhlem  15°.  Způsob  použití  trubek  je  „U“  dle  normy  ČSN  EN  1401-1, tj. mimo budovy. Spolehlivá  funkce  těsnění  je  jištěna  výztužným  kroužkem  z  elastomeru.  Je  tak  zamezeno  vypad-nutí nebo vytlačení kroužku při manipulaci a montáži. Tento systém zaručuje při správné montáži ",null,null,3]
[null,null,"dokonalou  těsnost  do  výšky  vodního  sloupce  5  metrů.",null,null,null,null,null,null,null,null,"dokonalou  těsnost  do  výšky  vodního  sloupce  5  metrů.",null,null,3]
[null,null,"Stoka \"DS-3-a\" PVC DN 315 SN12:225,00*1,03",null,231.75,null,null,null,null,null,null,null,"Stoka \"DS-3-a\" PVC DN 315 SN12:225,00*1,03"]
[40,"286111945.A.R","Trubka kanalizační PVC QUANTUM SN 16 DN 600","m",147.29,null,{"$f":"E243*F243","v":0},0.02,{"$f":"E243*H243","v":2.9457999999999998},null,{"$f":"E243*J243","v":0},null,null,null,2,null,null,null,null,null,null,null,null,null,null,null,3,1,"286111945.A.R",null,null,null,null,null,null,null,null,null,null,null,null,null,null,null,null,null,null,null,null,null,null,1,{"$f":"IF(AZ243=1,G243,0)","v":0},{"$f":"IF(AZ243=2,G243,0)","v":0},{"$f":"IF(AZ243=3,G243,0)","v":0},{"$f":"IF(AZ243=4,G243,0)","v":0},{"$f":"IF(AZ243=5,G243,0)","v":0},null,null,null,null,null,null,null,null,null,null,null,null,null,null,null,null,null,null,null,null,null,3,1]
[null,null,"Jedná  se  o  plnostěnné kanalizační trubky DN 150 – DN 400, SN 16 kN/m2 , zvenčí  i  zevnitř  hladké. Jsou  opatřeny hrdlem,  v  němž  je  vložen vysoce  elastický  jazýčkový  kroužek.  konce  trubek  (dříků)  jsou opatřeny  zkosením  pod  úhlem  15°.  Způsob  použití  trubek  je  „U“  dle  normy  ČSN  EN  1401-1, tj. mimo budovy. Spolehlivá  funkce  těsnění  je  jištěna  výztužným  kroužkem  z  elastomeru.  Je  tak  zamezeno  vypad-nutí nebo vytlačení kroužku při manipulaci a montáži. Tento systém zaručuje při správné montáži ",null,null,null,null,null,null,null,null,"Jedná  se  o  plnostěnné kanalizační trubky DN 150 – DN 400, SN 16 kN/m2 , zvenčí  i  zevnitř  hladké. Jsou  opatřeny hrdlem,  v  němž  je  vložen vysoce  elastický  jazýčkový  kroužek.  konce  trubek  (dříků)  jsou opatřeny  zkosením  pod  úhlem  15°.  Způsob  použití  trubek  je  „U“  dle  normy  ČSN  EN  1401-1, tj. mimo budovy. Spolehlivá  funkce  těsnění  je  jištěna  výztužným  kroužkem  z  elastomeru.  Je  tak  zamezeno  vypad-nutí nebo vytlačení kroužku při manipulaci a montáži. Tento systém zaručuje při správné montáži ",null,null,3]
[null,null,"Stoka \"DS-3 do Š7\" PVC DN600 SN16:143,00*1,03",null,147.29,null,null,null,null,null,null,null,"Stoka \"DS-3 do Š7\" PVC DN600 SN16:143,00*1,03"]
[41,"592243543.R","Kónus šachetní TBR-Q.1 100x63/58/12 KPS","kus",12.12,null,{"$f":"E246*F246","v":0},0.58499999999999996,{"$f":"E246*H246","v":7.0901999999999994},null,{"$f":"E246*J246","v":0},null,null,null,2,null,null,null,null,null,null,null,null,null,null,null,3,1,"592243543.R",null,null,null,null,null,null,null,null,null,null,null,null,null,null,null,null,null,null,null,null,null,null,1,{"$f":"IF(AZ246=1,G246,0)","v":0},{"$f":"IF(AZ246=2,G246,0)","v":0},{"$f":"IF(AZ246=3,G246,0)","v":0},{"$f":"IF(AZ246=4,G246,0)","v":0},{"$f":"IF(AZ246=5,G246,0)","v":0},null,null,null,null,null,null,null,null,null,null,null,null,null,null,null,null,null,null,null,null,null,3,1]
[null,null,"Stoka \"DS-3-a\"  PVC DN 315 SN12:",null,0,null,null,null,null,null,null,null,"Stoka \"DS-3-a\"  PVC DN 315 SN12:"]
[null,null,"Stoka \"DS-3 do Š7\" PVC DN600 SN16:",null,0,null,null,null,null,null,null,null,"Stoka \"DS-3 do Š7\" PVC DN600 SN16:"]
[null,null,"Kónus H60:12*1,01",null,12.12,null,null,null,null,null,null,null,"Kónus H60:12*1,01"]
[42,"59224358.A.R","Skruž šachetní TBS-Q.1 100/25/12 PS","kus",6.06,null,{"$f":"E250*F250","v":0},0.25,{"$f":"E250*H250","v":1.5149999999999999},null,{"$f":"E250*J250","v":0},null,null,null,2,null,null,null,null,null,null,null,null,null,null,null,3,1,"59224358.A.R",null,null,null,null,null,null,null,null,null,null,null,null,null,null,null,null,null,null,null,null,null,null,1,{"$f":"IF(AZ250=1,G250,0)","v":0},{"$f":"IF(AZ250=2,G250,0)","v":0},{"$f":"IF(AZ250=3,G250,0)","v":0},{"$f":"IF(AZ250=4,G250,0)","v":0},{"$f":"IF(AZ250=5,G250,0)","v":0},null,null,null,null,null,null,null,null,null,null,null,null,null,null,null,null,null,null,null,null,null,3,1]
[null,null,"Stoka \"DS-3-a\"  PVC DN 315 SN12:",null,0,null,null,null,null,null,null,null,"Stoka \"DS-3-a\"  PVC DN 315 SN12:"]
[null,null,"Stoka \"DS-3 do Š7\" PVC DN600 SN16:",null,0,null,null,null,null,null,null,null,"Stoka \"DS-3 do Š7\" PVC DN600 SN16:"]
[null,null,"Skruž H25:6*1,01",null,6.06,null,null,null,null,null,null,null,"Skruž H25:6*1,01"]
[43,"59224361.A.R","Skruž šachetní TBS-Q.1 100/50/12 PS","kus",6.06,null,{"$f":"E254*F254","v":0},0.5,{"$f":"E254*H254","v":3.03},null,{"$f":"E254*J254","v":0},null,null,null,2,null,null,null,null,null,null,null,null,null,null,null,3,1,"59224361.A.R",null,null,null,null,null,null,null,null,null,null,null,null,null,null,null,null,null,null,null,null,null,null,1,{"$f":"IF(AZ254=1,G254,0)","v":0},{"$f":"IF(AZ254=2,G254,0)","v":0},{"$f":"IF(AZ254=3,G254,0)","v":0},{"$f":"IF(AZ254=4,G254,0)","v":0},{"$f":"IF(AZ254=5,G254,0)","v":0},null,null,null,null,null,null,null,null,null,null,null,null,null,null,null,null,null,null,null,null,null,3,1]
[null,null,"Stoka \"DS-3-a\"  PVC DN 315 SN12:",null,0,null,null,null,null,null,null,null,"Stoka \"DS-3-a\"  PVC DN 315 SN12:"]
[null,null,"Stoka \"DS-3 do Š7\" PVC DN600 SN16:",null,0,null,null,null,null,null,null,null,"Stoka \"DS-3 do Š7\" PVC DN600 SN16:"]
[null,null,"Skruž H50:6*1,01",null,6.06,null,null,null,null,null,null,null,"Skruž H50:6*1,01"]
[44,"59224366.A.R","Dno šachetní TBZ-Q.1 100/60 V max. 40 včetně kynety dle PD","kus",6.06,null,{"$f":"E258*F258","v":0},1.6,{"$f":"E258*H258","v":9.6959999999999997},null,{"$f":"E258*J258","v":0},null,null,null,2,null,null,null,null,null,null,null,null,null,null,null,3,1,"59224366.A.R",null,null,null,null,null,null,null,null,null,null,null,null,null,null,null,null,null,null,null,null,null,null,1,{"$f":"IF(AZ258=1,G258,0)","v":0},{"$f":"IF(AZ258=2,G258,0)","v":0},{"$f":"IF(AZ258=3,G258,0)","v":0},{"$f":"IF(AZ258=4,G258,0)","v":0},{"$f":"IF(AZ258=5,G258,0)","v":0},null,null,null,null,null,null,null,null,null,null,null,null,null,null,null,null,null,null,null,null,null,3,1]
[null,null,"Stoka \"DS-3-a\"  PVC DN 315 SN12:",null,0,null,null,null,null,null,null,null,"Stoka \"DS-3-a\"  PVC DN 315 SN12:"]
[null,null,"Stoka \"DS-3 do Š7\" PVC DN600 SN16:",null,0,null,null,null,null,null,null,null,"Stoka \"DS-3 do Š7\" PVC DN600 SN16:"]
[null,null,"ŠD 100/60:6*1,01",null,6.06,null,null,null,null,null,null,null,"ŠD 100/60:6*1,01"]
[45,"59224368.A.R","Dno šachetní TBZ-Q.1 100/100 V max. 60 včetně kynety dle PD","kus",7.07,null,{"$f":"E262*F262","v":0},2.1,{"$f":"E262*H262","v":14.847000000000001},null,{"$f":"E262*J262","v":0},null,null,null,2,null,null,null,null,null,null,null,null,null,null,null,3,1,"59224368.A.R",null,null,null,null,null,null,null,null,null,null,null,null,null,null,null,null,null,null,null,null,null,null,1,{"$f":"IF(AZ262=1,G262,0)","v":0},{"$f":"IF(AZ262=2,G262,0)","v":0},{"$f":"IF(AZ262=3,G262,0)","v":0},{"$f":"IF(AZ262=4,G262,0)","v":0},{"$f":"IF(AZ262=5,G262,0)","v":0},null,null,null,null,null,null,null,null,null,null,null,null,null,null,null,null,null,null,null,null,null,3,1]
[null,null,"Stoka \"DS-3-a\"  PVC DN 315 SN12:",null,0,null,null,null,null,null,null,null,"Stoka \"DS-3-a\"  PVC DN 315 SN12:"]
[null,null,"Stoka \"DS-3 do Š7\" PVC DN600 SN16:",null,0,null,null,null,null,null,null,null,"Stoka \"DS-3 do Š7\" PVC DN600 SN16:"]
[null,null,"ŠD 100/100:7*1,01",null,7.07,null,null,null,null,null,null,null,"ŠD 100/100:7*1,01"]
[46,"59224373.R","Těsnění elastom pro šach díly EMT 100/1.7 - DN1000","kus",26.26,null,{"$f":"E266*F266","v":0},2E-3,{"$f":"E266*H266","v":5.2520000000000004E-2},null,{"$f":"E266*J266","v":0},null,null,null,2,null,null,null,null,null,null,null,null,null,null,null,3,1,"59224373.R",null,null,null,null,null,null,null,null,null,null,null,null,null,null,null,null,null,null,null,null,null,null,1,{"$f":"IF(AZ266=1,G266,0)","v":0},{"$f":"IF(AZ266=2,G266,0)","v":0},{"$f":"IF(AZ266=3,G266,0)","v":0},{"$f":"IF(AZ266=4,G266,0)","v":0},{"$f":"IF(AZ266=5,G266,0)","v":0},null,null,null,null,null,null,null,null,null,null,null,null,null,null,null,null,null,null,null,null,null,3,1]
[null,null,"Stoka \"DS-3-a\"  PVC DN 315 SN12:",null,0,null,null,null,null,null,null,null,"Stoka \"DS-3-a\"  PVC DN 315 SN12:"]
[null,null,"Stoka \"DS-3 do Š7\" PVC DN600 SN16:",null,0,null,null,null,null,null,null,null,"Stoka \"DS-3 do Š7\" PVC DN600 SN16:"]
[null,null,"Těsnění:26*1,01",null,26.26,null,null,null,null,null,null,null,"Těsnění:26*1,01"]
[null,"Celkem za","8 Trubní vedení",null,null,null,{"$f":"SUM(G179:G269)","v":0},null,{"$f":"SUM(I179:I269)","v":44.152255000000004},null,{"$f":"SUM(K179:K269)","v":0},null,null,null,4,null,null,null,null,null,null,null,null,null,null,null,null,null,null,null,null,null,null,null,null,null,null,null,null,null,null,null,null,null,null,null,null,null,null,null,null,null,{"$f":"SUM(BA179:BA269)","v":0},{"$f":"SUM(BB179:BB269)","v":0},{"$f":"SUM(BC179:BC269)","v":0},{"$f":"SUM(BD179:BD269)","v":0},{"$f":"SUM(BE179:BE269)","v":0}]
["Díl:","93","Dokončovací práce inženýrských staveb",null,null,null,null,null,null,null,null,null,null,null,1]
[47,"939421111RT1","Osazení samonivelač.kanalizač.poklopu za finišerem bez dodávky poklopu","kus",12,null,{"$f":"E272*F272","v":0},0.15425,{"$f":"E272*H272","v":1.851},0,{"$f":"E272*J272","v":0},null,null,null,2,null,null,null,null,null,null,null,null,null,null,null,1,0,0,null,null,null,null,null,null,null,null,null,null,null,null,null,null,null,null,null,null,null,null,null,null,1,{"$f":"IF(AZ272=1,G272,0)","v":0},{"$f":"IF(AZ272=2,G272,0)","v":0},{"$f":"IF(AZ272=3,G272,0)","v":0},{"$f":"IF(AZ272=4,G272,0)","v":0},{"$f":"IF(AZ272=5,G272,0)","v":0},null,null,null,null,null,null,null,null,null,null,null,null,null,null,null,null,null,null,null,null,null,1,0]
[null,null,"Položka obsahuje:",null,null,null,null,null,null,null,null,"Položka obsahuje:",null,null,3]
[null,null,"- osazení prefabrikovaného betonového prstence do rychletuhnoucí malty (s dodávkou hmot)",null,null,null,null,null,null,null,null,"- osazení prefabrikovaného betonového prstence do rychletuhnoucí malty (s dodávkou hmot)",null,null,3]
[null,null,"- zalití prstence rychletuhnoucí zálivkou do výše prstence (s dodávkou hmoty)",null,null,null,null,null,null,null,null,"- zalití prstence rychletuhnoucí zálivkou do výše prstence (s dodávkou hmoty)",null,null,3]
[null,null,"- vložení kruhového bednění",null,null,null,null,null,null,null,null,"- vložení kruhového bednění",null,null,3]
[null,null,"- doplnění mezikruží asfaltovou směsí do výšky současné podkladní vrstvy, zhutnění",null,null,null,null,null,null,null,null,"- doplnění mezikruží asfaltovou směsí do výšky současné podkladní vrstvy, zhutnění",null,null,3]
[null,null,"- vyjmutí kruhového bednění",null,null,null,null,null,null,null,null,"- vyjmutí kruhového bednění",null,null,3]
[null,null,"- osazení poklopu a zatlačení",null,null,null,null,null,null,null,null,"- osazení poklopu a zatlačení",null,null,3]
[null,null,"  (následuje pokládka finální vrstvy vozovky - není součástí položky)",null,null,null,null,null,null,null,null,"  (následuje pokládka finální vrstvy vozovky - není součástí položky)",null,null,3]
[null,null,"- povytažení poklopu",null,null,null,null,null,null,null,null,"- povytažení poklopu",null,null,3]
[null,null,"- podsyp asfaltovou směsí, spuštění poklopu a zhutnění směsi",null,null,null,null,null,null,null,null,"- podsyp asfaltovou směsí, spuštění poklopu a zhutnění směsi",null,null,3]
[null,null,"Stoka \"DS-3-a\"  PVC DN 315 SN12:",null,0,null,null,null,null,null,null,null,"Stoka \"DS-3-a\"  PVC DN 315 SN12:"]
[null,null,"Stoka \"DS-3 do Š7\" PVC DN600 SN16:",null,0,null,null,null,null,null,null,null,"Stoka \"DS-3 do Š7\" PVC DN600 SN16:"]
[null,null,"Poklop dle PD:12",null,12,null,null,null,null,null,null,null,"Poklop dle PD:12"]
[48,"55244414.R","Poklop celolitinový v samonivelační rámu KDM65 D400 SN600","kus",12,null,{"$f":"E286*F286","v":0},0.113,{"$f":"E286*H286","v":1.3560000000000001},null,{"$f":"E286*J286","v":0},null,null,null,2,null,null,null,null,null,null,null,null,null,null,null,3,1,"55244414.R",null,null,null,null,null,null,null,null,null,null,null,null,null,null,null,null,null,null,null,null,null,null,1,{"$f":"IF(AZ286=1,G286,0)","v":0},{"$f":"IF(AZ286=2,G286,0)","v":0},{"$f":"IF(AZ286=3,G286,0)","v":0},{"$f":"IF(AZ286=4,G286,0)","v":0},{"$f":"IF(AZ286=5,G286,0)","v":0},null,null,null,null,null,null,null,null,null,null,null,null,null,null,null,null,null,null,null,null,null,3,1]
[null,null,"Kanalizační kruhový celolitinový samonivelační poklop bez pantu, horizontální PUR tlumící vložka na rámu, horizontální a vertikální  PUR tlumící vložka na víku, bez pružinového zajištění víka v rámu ",null,null,null,null,null,null,null,null,"Kanalizační kruhový celolitinový samonivelační poklop bez pantu, horizontální PUR tlumící vložka na rámu, horizontální a vertikální  PUR tlumící vložka na víku, bez pružinového zajištění víka v rámu ",null,null,3]
[null,null,"KDM65 bez ventilace nebo s ventilací dle TS VHS Turnov",null,null,null,null,null,null,null,null,"KDM65 bez ventilace nebo s ventilací dle TS VHS Turnov",null,null,3]
[null,null,"Víko se znakem Města Jilemnice",null,null,null,null,null,null,null,null,"Víko se znakem Města Jilemnice",null,null,3]
[null,null,"Stoka \"DS-3-a\"  PVC DN 315 SN12:",null,0,null,null,null,null,null,null,null,"Stoka \"DS-3-a\"  PVC DN 315 SN12:"]
[null,null,"Stoka \"DS-3 do Š7\" PVC DN600 SN16:",null,0,null,null,null,null,null,null,null,"Stoka \"DS-3 do Š7\" PVC DN600 SN16:"]
[null,null,"Poklop dle PD:12",null,12,null,null,null,null,null,null,null,"Poklop dle PD:12"]
[null,"Celkem za","93 Dokončovací práce inženýrských staveb",null,null,null,{"$f":"SUM(G271:G292)","v":0},null,{"$f":"SUM(I271:I292)","v":3.2069999999999999},null,{"$f":"SUM(K271:K292)","v":0},null,null,null,4,null,null,null,null,null,null,null,null,null,null,null,null,null,null,null,null,null,null,null,null,null,null,null,null,null,null,null,null,null,null,null,null,null,null,null,null,null,{"$f":"SUM(BA271:BA292)","v":0},{"$f":"SUM(BB271:BB292)","v":0},{"$f":"SUM(BC271:BC292)","v":0},{"$f":"SUM(BD271:BD292)","v":0},{"$f":"SUM(BE271:BE292)","v":0}]
["Díl:","99","Staveništní přesun hmot",null,null,null,null,null,null,null,null,null,null,null,1]
[49,"998276101RXX","Přesun hmot, trubní vedení plastová, otevř. výkop pro celý rozsah objektu","t",1772.5425454849999,null,{"$f":"E295*F295","v":0},0,{"$f":"E295*H295","v":0},null,{"$f":"E295*J295","v":0},null,null,null,2,null,null,null,null,null,null,null,null,null,null,null,7,1,2,null,null,null,null,null,null,null,null,null,null,null,null,null,null,null,null,null,null,null,null,null,null,1,{"$f":"IF(AZ295=1,G295,0)","v":0},{"$f":"IF(AZ295=2,G295,0)","v":0},{"$f":"IF(AZ295=3,G295,0)","v":0},{"$f":"IF(AZ295=4,G295,0)","v":0},{"$f":"IF(AZ295=5,G295,0)","v":0},null,null,null,null,null,null,null,null,null,null,null,null,null,null,null,null,null,null,null,null,null,7,1]
[null,null,"Staveništní doprava pro celý rozsah objektu - doprava zmeziskládek vybudovaného zařízení staveniště zhotovitele na jednotlivé části staveniště.",null,null,null,null,null,null,null,null,"Staveništní doprava pro celý rozsah objektu - doprava zmeziskládek vybudovaného zařízení staveniště zhotovitele na jednotlivé části staveniště.",null,null,3]
[null,"Celkem za","99 Staveništní přesun hmot",null,null,null,{"$f":"SUM(G294:G296)","v":0},null,{"$f":"SUM(I294:I296)","v":0},null,{"$f":"SUM(K294:K296)","v":0},null,null,null,4,null,null,null,null,null,null,null,null,null,null,null,null,null,null,null,null,null,null,null,null,null,null,null,null,null,null,null,null,null,null,null,null,null,null,null,null,null,{"$f":"SUM(BA294:BA296)","v":0},{"$f":"SUM(BB294:BB296)","v":0},{"$f":"SUM(BC294:BC296)","v":0},{"$f":"SUM(BD294:BD296)","v":0},{"$f":"SUM(BE294:BE296)","v":0}]

{"sheet":"1.E 08 1.E 08.2 KL","index":28,"n_rows":45,"n_cols":8,"rows_kept":45,"cut":false,"hidden":false,"merged":[[50,1,50,6],[29,5,29,6],[30,5,30,6],[31,5,31,6],[32,5,32,6],[33,5,33,6],[36,1,44,6],[45,1,45,6],[46,1,46,6],[47,1,47,6],[48,1,48,6],[49,1,49,6],[22,0,22,1],[7,2,7,4],[8,2,8,4],[9,2,9,4],[10,2,10,4],[11,2,11,4]]}
["POLOŽKOVÝ ROZPOČET"]
["Rozpočet",null,"1.E 08.2","Stoka \"E1, E2, E2-1 a E2-2\"",null,"JKSO ","827.21.A6"]
[]
["Objekt",null,null,null,null,"SKP "]
["1.E 08",null,"Kanalizace",null,null,"Měrná jednotka","m"]
["Stavba",null,null,null,null,"Počet jednotek",0]
["3403",null,"Jilemnice - Optimalizace VS a komunikace I.Etapa",null,null,"Náklady na m.j.",{"$f":"IF(G6=0,,ROUND((F30+F32)/G6,1))","v":0}]
["Projektant",null,"Vodohospodářsko - inženýrské služby spol. s r.o.",null,null,"Typ rozpočtu"]
["Zpracovatel projektu"]
["Objednatel",null,"Vodohospodářské sdružení Turnov"]
["Dodavatel",null,".",null,null,"Zakázkové číslo "]
["Rozpočtoval",null,null,null,null,"Počet listů"]
["ROZPOČTOVÉ NÁKLADY"]
["Základní rozpočtové náklady"]
[null,"HSV celkem",{"$f":"'1.E 08 1.E 08.2 Rek'!E13","v":0}]
["Z","PSV celkem",{"$f":"'1.E 08 1.E 08.2 Rek'!F13","v":0}]
["R","M práce celkem",{"$f":"'1.E 08 1.E 08.2 Rek'!H13","v":0}]
["N","M dodávky celkem",{"$f":"'1.E 08 1.E 08.2 Rek'!G13","v":0}]
["ZRN celkem",null,{"$f":"SUM(C15:C18)","v":0}]
[]
["HZS",null,{"$f":"'1.E 08 1.E 08.2 Rek'!I13","v":0}]
["ZRN+HZS",null,{"$f":"C19+C21","v":0}]
["ZRN+ost.náklady+HZS",null,{"$f":"C22+G23","v":0}]
["Vypracoval",null,null,"Za zhotovitele",null,"Za objednatele"]
["Jméno :",null,null,"Jméno :",null,"Jméno :"]
["Datum :",null,null,"Datum :",null,"Datum :"]
[]
["Podpis :",null,null,"Podpis:",null,"Podpis:"]
[]
["Základ pro DPH",null,21,"%  ",null,{"$f":"C23-F32","v":0}]
["DPH",null,{"$f":"C30","v":21},"% ",null,{"$f":"ROUND(PRODUCT(F30,C31/100),0)","v":0}]
["Základ pro DPH",null,0,"% ",null,0]
["DPH",null,{"$f":"C32","v":0},"% ",null,{"$f":"ROUND(PRODUCT(F32,C33/100),0)","v":0}]
["CENA ZA OBJEKT CELKEM",null,null,null,null,{"$f":"ROUND(SUM(F30:F33),0)","v":0}]
[]
["Poznámka :",null,null,null,null,null,null," "]
[null,null,null,null,null,null,null," "]
[null,null,null,null,null,null,null," "]
[null,null,null,null,null,null,null," "]
[null,null,null,null,null,null,null," "]
[null,null,null,null,null,null,null," "]
[null,null,null,null,null,null,null," "]
[null,null,null,null,null,null,null," "]
[null,null,null,null,null,null,null," "]
[null,null,null,null,null,null,null," "]

{"sheet":"1.E 08 1.E 08.2 Rek","index":29,"n_rows":13,"n_cols":9,"rows_kept":13,"cut":false,"hidden":false,"merged":[[0,0,0,1],[1,0,1,1],[1,6,1,8]]}
["Stavba :",null,"3403 Jilemnice - Optimalizace VS a komunikace",null,null,null,"Rozpočet :","1.E 08.2"]
["Objekt :",null,"1.E 08 Kanalizace",null,null,null,"Stoka \"E1, E2, E2-1 a E2-2\""]
[]
["REKAPITULACE  STAVEBNÍCH  DÍLŮ"]
[]
[null,"Stavební díl",null,null,"HSV","PSV","Dodávka","Montáž","HZS"]
[{"$f":"'1.E 08 1.E 08.2 Pol'!B7","v":"1"},{"$f":"'1.E 08 1.E 08.2 Pol'!C7","v":"Zemní práce"},null,null,{"$f":"'1.E 08 1.E 08.2 Pol'!BA215","v":0},{"$f":"'1.E 08 1.E 08.2 Pol'!BB215","v":0},{"$f":"'1.E 08 1.E 08.2 Pol'!BC215","v":0},{"$f":"'1.E 08 1.E 08.2 Pol'!BD215","v":0},{"$f":"'1.E 08 1.E 08.2 Pol'!BE215","v":0}]
[{"$f":"'1.E 08 1.E 08.2 Pol'!B216","v":"45"},{"$f":"'1.E 08 1.E 08.2 Pol'!C216","v":"Podkladní a vedlejší konstrukce"},null,null,{"$f":"'1.E 08 1.E 08.2 Pol'!BA261","v":0},{"$f":"'1.E 08 1.E 08.2 Pol'!BB261","v":0},{"$f":"'1.E 08 1.E 08.2 Pol'!BC261","v":0},{"$f":"'1.E 08 1.E 08.2 Pol'!BD261","v":0},{"$f":"'1.E 08 1.E 08.2 Pol'!BE261","v":0}]
[{"$f":"'1.E 08 1.E 08.2 Pol'!B262","v":"5"},{"$f":"'1.E 08 1.E 08.2 Pol'!C262","v":"Komunikace"},null,null,{"$f":"'1.E 08 1.E 08.2 Pol'!BA268","v":0},{"$f":"'1.E 08 1.E 08.2 Pol'!BB268","v":0},{"$f":"'1.E 08 1.E 08.2 Pol'!BC268","v":0},{"$f":"'1.E 08 1.E 08.2 Pol'!BD268","v":0},{"$f":"'1.E 08 1.E 08.2 Pol'!BE268","v":0}]
[{"$f":"'1.E 08 1.E 08.2 Pol'!B269","v":"8"},{"$f":"'1.E 08 1.E 08.2 Pol'!C269","v":"Trubní vedení"},null,null,{"$f":"'1.E 08 1.E 08.2 Pol'!BA451","v":0},{"$f":"'1.E 08 1.E 08.2 Pol'!BB451","v":0},{"$f":"'1.E 08 1.E 08.2 Pol'!BC451","v":0},{"$f":"'1.E 08 1.E 08.2 Pol'!BD451","v":0},{"$f":"'1.E 08 1.E 08.2 Pol'!BE451","v":0}]
[{"$f":"'1.E 08 1.E 08.2 Pol'!B452","v":"93"},{"$f":"'1.E 08 1.E 08.2 Pol'!C452","v":"Dokončovací práce inženýrských staveb"},null,null,{"$f":"'1.E 08 1.E 08.2 Pol'!BA478","v":0},{"$f":"'1.E 08 1.E 08.2 Pol'!BB478","v":0},{"$f":"'1.E 08 1.E 08.2 Pol'!BC478","v":0},{"$f":"'1.E 08 1.E 08.2 Pol'!BD478","v":0},{"$f":"'1.E 08 1.E 08.2 Pol'!BE478","v":0}]
[{"$f":"'1.E 08 1.E 08.2 Pol'!B479","v":"99"},{"$f":"'1.E 08 1.E 08.2 Pol'!C479","v":"Staveništní přesun hmot"},null,null,{"$f":"'1.E 08 1.E 08.2 Pol'!BA482","v":0},{"$f":"'1.E 08 1.E 08.2 Pol'!BB482","v":0},{"$f":"'1.E 08 1.E 08.2 Pol'!BC482","v":0},{"$f":"'1.E 08 1.E 08.2 Pol'!BD482","v":0},{"$f":"'1.E 08 1.E 08.2 Pol'!BE482","v":0}]
[null,"CELKEM  OBJEKT",null,null,{"$f":"SUM(E7:E12)","v":0},{"$f":"SUM(F7:F12)","v":0},{"$f":"SUM(G7:G12)","v":0},{"$f":"SUM(H7:H12)","v":0},{"$f":"SUM(I7:I12)","v":0}]

{"sheet":"1.E 08 1.E 08.2 Pol","index":30,"n_rows":482,"n_cols":80,"rows_kept":482,"cut":false,"hidden":false,"merged":[[480,2,480,6],[472,2,472,3],[473,2,473,3],[474,2,474,3],[475,2,475,3],[476,2,476,3],[465,2,465,3],[466,2,466,3],[467,2,467,3],[469,2,469,6],[470,2,470,6],[471,2,471,6],[459,2,459,6],[460,2,460,6],[461,2,461,6],[462,2,462,6],[463,2,463,3],[464,2,464,3],[448,2,448,3],[449,2,449,3],[453,2,453,6],[454,2,454,6],[455,2,455,6],[456,2,456,6],[457,2,457,6],[458,2,458,6],[441,2,441,3],[442,2,442,3],[443,2,443,3],[445,2,445,3],[446,2,446,3],[447,2,447,3],[434,2,434,3],[435,2,435,3],[436,2,436,3],[437,2,437,3],[439,2,439,3],[440,2,440,3],[427,2,427,3],[428,2,428,3],[429,2,429,3],[430,2,430,3],[431,2,431,3],[433,2,433,3],[419,2,419,3],[421,2,421,3],[422,2,422,3],[423,2,423,3],[424,2,424,3],[425,2,425,3],[412,2,412,3],[413,2,413,3],[415,2,415,3],[416,2,416,3],[417,2,417,3],[418,2,418,3],[405,2,405,3],[406,2,406,3],[407,2,407,3],[409,2,409,3],[410,2,410,3],[411,2,411,3],[399,2,399,6],[400,2,400,3],[401,2,401,3],[402,2,402,3],[403,2,403,3],[404,2,404,3],[392,2,392,3],[393,2,393,3],[395,2,395,6],[396,2,396,6],[397,2,397,6],[398,2,398,6],[384,2,384,6],[386,2,386,6],[388,2,388,6],[389,2,389,6],[390,2,390,3],[391,2,391,3],[376,2,376,3],[377,2,377,3],[379,2,379,3],[380,2,380,3],[381,2,381,3],[382,2,382,3],[369,2,369,3],[370,2,370,3],[372,2,372,6],[373,2,373,3],[374,2,374,3],[375,2,375,3],[363,2,363,6],[364,2,364,6],[365,2,365,6],[366,2,366,3],[367,2,367,3],[368,2,368,3],[356,2,356,6],[357,2,357,3],[358,2,358,3],[359,2,359,3],[360,2,360,3],[361,2,361,3],[349,2,349,3],[350,2,350,3],[351,2,351,3],[352,2,352,3],[354,2,354,6],[355,2,355,6],[342,2,342,3],[343,2,343,3],[344,2,344,3],[345,2,345,3],[347,2,347,6],[348,2,348,3],[335,2,335,3],[336,2,336,3],[337,2,337,3],[339,2,339,6],[340,2,340,6],[341,2,341,3],[328,2,328,3],[330,2,330,6],[331,2,331,6],[332,2,332,3],[333,2,333,3],[334,2,334,3],[321,2,321,3],[322,2,322,3],[324,2,324,6],[325,2,325,3],[326,2,326,3],[327,2,327,3],[315,2,315,6],[316,2,316,6],[317,2,317,6],[318,2,318,6],[319,2,319,3],[320,2,320,3],[308,2,308,3],[309,2,309,3],[310,2,310,3],[311,2,311,3],[312,2,312,3],[313,2,313,3],[302,2,302,3],[303,2,303,3],[304,2,304,3],[305,2,305,3],[306,2,306,3],[307,2,307,3],[296,2,296,3],[297,2,297,3],[298,2,298,3],[299,2,299,3],[300,2,300,3],[301,2,301,3],[290,2,290,3],[291,2,291,3],[292,2,292,3],[293,2,293,3],[294,2,294,3],[295,2,295,3],[284,2,284,3],[285,2,285,3],[286,2,286,3],[287,2,287,3],[288,2,288,3],[289,2,289,3],[263,2,263,3],[264,2,264,3],[265,2,265,3],[266,2,266,3],[280,2,280,3],[281,2,281,3],[282,2,282,3],[283,2,283,3],[255,2,255,3],[256,2,256,3],[257,2,257,3],[258,2,258,3],[259,2,259,3],[270,2,270,3],[271,2,271,3],[272,2,272,3],[273,2,273,3],[275,2,275,6],[276,2,276,3],[277,2,277,3],[278,2,278,3],[279,2,279,3],[247,2,247,3],[249,2,249,3],[250,2,250,3],[251,2,251,3],[252,2,252,3],[253,2,253,3],[240,2,240,3],[241,2,241,3],[243,2,243,3],[244,2,244,3],[245,2,245,3],[246,2,246,3],[233,2,233,3],[234,2,234,3],[235,2,235,3],[237,2,237,3],[238,2,238,3],[239,2,239,3],[226,2,226,3],[227,2,227,3],[228,2,228,3],[229,2,229,3],[231,2,231,3],[232,2,232,3],[217,2,217,3],[218,2,218,3],[219,2,219,3],[220,2,220,3],[222,2,222,6],[223,2,223,3],[224,2,224,3],[225,2,225,3],[203,2,203,3],[208,2,208,3],[209,2,209,3],[210,2,210,3],[211,2,211,3],[213,2,213,3],[196,2,196,3],[197,2,197,3],[198,2,198,3],[199,2,199,3],[201,2,201,3],[202,2,202,3],[189,2,189,3],[190,2,190,3],[191,2,191,3],[192,2,192,3],[193,2,193,3],[194,2,194,3],[183,2,183,3],[184,2,184,3],[185,2,185,3],[186,2,186,3],[187,2,187,3],[188,2,188,3],[177,2,177,3],[178,2,178,3],[179,2,179,3],[180,2,180,3],[181,2,181,3],[182,2,182,3],[171,2,171,3],[172,2,172,3],[173,2,173,3],[174,2,174,3],[175,2,175,3],[176,2,176,3],[165,2,165,3],[166,2,166,3],[167,2,167,3],[168,2,168,3],[169,2,169,3],[170,2,170,3],[159,2,159,3],[160,2,160,3],[161,2,161,3],[162,2,162,3],[163,2,163,3],[164,2,164,3],[153,2,153,3],[154,2,154,3],[155,2,155,3],[156,2,156,3],[157,2,157,3],[158,2,158,3],[147,2,147,3],[148,2,148,3],[149,2,149,3],[150,2,150,3],[151,2,151,3],[152,2,152,3],[140,2,140,3],[141,2,141,3],[142,2,142,3],[144,2,144,6],[145,2,145,6],[146,2,146,3],[133,2,133,3],[134,2,134,3],[135,2,135,3],[136,2,136,3],[137,2,137,3],[138,2,138,3],[127,2,127,3],[128,2,128,3],[129,2,129,3],[130,2,130,3],[131,2,131,3],[132,2,132,3],[121,2,121,3],[122,2,122,3],[123,2,123,3],[124,2,124,3],[125,2,125,3],[126,2,126,3],[114,2,114,3],[115,2,115,3],[116,2,116,3],[118,2,118,3],[119,2,119,3],[120,2,120,3],[108,2,108,3],[109,2,109,3],[110,2,110,3],[111,2,111,3],[112,2,112,3],[113,2,113,3],[102,2,102,3],[103,2,103,3],[104,2,104,3],[105,2,105,3],[106,2,106,3],[107,2,107,3],[96,2,96,3],[97,2,97,3],[98,2,98,3],[99,2,99,3],[100,2,100,3],[101,2,101,3],[87,2,87,3],[89,2,89,3],[90,2,90,3],[92,2,92,6],[93,2,93,3],[94,2,94,3],[79,2,79,3],[80,2,80,3],[82,2,82,3],[83,2,83,3],[85,2,85,6],[86,2,86,3],[73,2,73,3],[74,2,74,3],[75,2,75,3],[76,2,76,3],[77,2,77,3],[78,2,78,3],[67,2,67,3],[68,2,68,3],[69,2,69,3],[70,2,70,3],[71,2,71,3],[72,2,72,3],[61,2,61,3],[62,2,62,3],[63,2,63,3],[64,2,64,3],[65,2,65,3],[66,2,66,3],[55,2,55,3],[56,2,56,3],[57,2,57,3],[58,2,58,3],[59,2,59,3],[60,2,60,3],[49,2,49,3],[50,2,50,3],[51,2,51,3],[52,2,52,3],[53,2,53,3],[54,2,54,3],[43,2,43,3],[44,2,44,3],[45,2,45,3],[46,2,46,3],[47,2,47,3],[48,2,48,3],[36,2,36,3],[37,2,37,3],[38,2,38,3],[39,2,39,3],[40,2,40,3],[42,2,42,6],[28,2,28,3],[30,2,30,6],[31,2,31,6],[32,2,32,3],[33,2,33,3],[35,2,35,6],[21,2,21,3],[22,2,22,3],[23,2,23,3],[24,2,24,3],[26,2,26,3],[27,2,27,3],[14,2,14,3],[15,2,15,3],[16,2,16,3],[17,2,17,3],[19,2,19,6],[20,2,20,6],[0,0,0,6],[2,0,2,1],[3,0,3,1],[3,4,3,6],[8,2,8,3],[9,2,9,3],[11,2,11,3],[12,2,12,3]]}
["Položkový rozpočet "]
[]
["Stavba :",null,"3403 Jilemnice - Optimalizace VS a komunikace",null,"Rozpočet:",{"$f":"'1.E 08 1.E 08.2 Rek'!H1","v":"1.E 08.2"}]
["Objekt :",null,"1.E 08 Kanalizace",null,{"$f":"'1.E 08 1.E 08.2 Rek'!G2","v":"Stoka \"E1, E2, E2-1 a E2-2\""}]
[]
["P.č.","Číslo položky","Název položky","MJ","množství","cena / MJ","celkem (Kč)","Jednotková hmotnost","Celková hmotnost","Jednotková dem.hmot.","Celková dem.hmot."]
["Díl:","1","Zemní práce",null,null,null,null,null,null,null,null,null,null,null,1]
[1,"114211203R00","Odstranění železobet. trub do DN 300 mm, ve výkopu ","m",113,null,{"$f":"E8*F8","v":0},0,{"$f":"E8*H8","v":0},-0.21440000000000001,{"$f":"E8*J8","v":-24.2272},null,null,null,2,null,null,null,null,null,null,null,null,null,null,null,1,1,1,null,null,null,null,null,null,null,null,null,null,null,null,null,null,null,null,null,null,null,null,null,null,1,{"$f":"IF(AZ8=1,G8,0)","v":0},{"$f":"IF(AZ8=2,G8,0)","v":0},{"$f":"IF(AZ8=3,G8,0)","v":0},{"$f":"IF(AZ8=4,G8,0)","v":0},{"$f":"IF(AZ8=5,G8,0)","v":0},null,null,null,null,null,null,null,null,null,null,null,null,null,null,null,null,null,null,null,null,null,1,1]
[null,null,"Stoka \"E2\" PVC DN250 SN12:",null,0,null,null,null,null,null,null,null,"Stoka \"E2\" PVC DN250 SN12:"]
[null,null,"Stávající stoka ŽB DN300:113,00",null,113,null,null,null,null,null,null,null,"Stávající stoka ŽB DN300:113,00"]
[2,"114211208R00","Odstranění železobet. trub do DN 800 mm, ve výkopu ","m",115,null,{"$f":"E11*F11","v":0},0,{"$f":"E11*H11","v":0},-0.89280000000000004,{"$f":"E11*J11","v":-102.67200000000001},null,null,null,2,null,null,null,null,null,null,null,null,null,null,null,1,1,1,null,null,null,null,null,null,null,null,null,null,null,null,null,null,null,null,null,null,null,null,null,null,1,{"$f":"IF(AZ11=1,G11,0)","v":0},{"$f":"IF(AZ11=2,G11,0)","v":0},{"$f":"IF(AZ11=3,G11,0)","v":0},{"$f":"IF(AZ11=4,G11,0)","v":0},{"$f":"IF(AZ11=5,G11,0)","v":0},null,null,null,null,null,null,null,null,null,null,null,null,null,null,null,null,null,null,null,null,null,1,1]
[null,null,"Stoka \"E1\" PVC DN250 SN12:",null,0,null,null,null,null,null,null,null,"Stoka \"E1\" PVC DN250 SN12:"]
[null,null,"Stávající stoka ŽB DN600:115,00",null,115,null,null,null,null,null,null,null,"Stávající stoka ŽB DN600:115,00"]
[3,"114211403RRX","Odstranění trub PVC do DN 300 mm, ve výkopu ","m",271,null,{"$f":"E14*F14","v":0},0,{"$f":"E14*H14","v":0},-0.01,{"$f":"E14*J14","v":-2.71},null,null,null,2,null,null,null,null,null,null,null,null,null,null,null,1,1,1,null,null,null,null,null,null,null,null,null,null,null,null,null,null,null,null,null,null,null,null,null,null,1,{"$f":"IF(AZ14=1,G14,0)","v":0},{"$f":"IF(AZ14=2,G14,0)","v":0},{"$f":"IF(AZ14=3,G14,0)","v":0},{"$f":"IF(AZ14=4,G14,0)","v":0},{"$f":"IF(AZ14=5,G14,0)","v":0},null,null,null,null,null,null,null,null,null,null,null,null,null,null,null,null,null,null,null,null,null,1,1]
[null,null,"Stoka \"E2\" PVC DN250 SN12:",null,0,null,null,null,null,null,null,null,"Stoka \"E2\" PVC DN250 SN12:"]
[null,null,"Stoka \"E2-1\" PVC DN250 SN12:",null,0,null,null,null,null,null,null,null,"Stoka \"E2-1\" PVC DN250 SN12:"]
[null,null,"Stoka \"E2-2\" PVC DN250 SN12:",null,0,null,null,null,null,null,null,null,"Stoka \"E2-2\" PVC DN250 SN12:"]
[null,null,"Stávající stoka PVC DN300:142,00+93,00+36,00",null,271,null,null,null,null,null,null,null,"Stávající stoka PVC DN300:142,00+93,00+36,00"]
[4,"115101201RRX","Přečerpávání nebo převedení splašků a dešť. vod ","h",760,null,{"$f":"E19*F19","v":0},0,{"$f":"E19*H19","v":0},0,{"$f":"E19*J19","v":0},null,null,null,2,null,null,null,null,null,null,null,null,null,null,null,1,1,1,null,null,null,null,null,null,null,null,null,null,null,null,null,null,null,null,null,null,null,null,null,null,1,{"$f":"IF(AZ19=1,G19,0)","v":0},{"$f":"IF(AZ19=2,G19,0)","v":0},{"$f":"IF(AZ19=3,G19,0)","v":0},{"$f":"IF(AZ19=4,G19,0)","v":0},{"$f":"IF(AZ19=5,G19,0)","v":0},null,null,null,null,null,null,null,null,null,null,null,null,null,null,null,null,null,null,null,null,null,1,1]
[null,null,"Převedení a čerpání splašků nebo dešťových vod dle zvolené technologie zhotovitele stavby.",null,null,null,null,null,null,null,null,"Převedení a čerpání splašků nebo dešťových vod dle zvolené technologie zhotovitele stavby.",null,null,3]
[null,null,"(Množství bude určeno na stavbě dle skutečnosti)",null,null,null,null,null,null,null,null,"(Množství bude určeno na stavbě dle skutečnosti)",null,null,3]
[null,null,"Stoka \"E1\" PVC DN250 SN12:250,00",null,250,null,null,null,null,null,null,null,"Stoka \"E1\" PVC DN250 SN12:250,00"]
[null,null,"Stoka \"E2\" PVC DN250 SN12:355,00",null,355,null,null,null,null,null,null,null,"Stoka \"E2\" PVC DN250 SN12:355,00"]
[null,null,"Stoka \"E2-1\" PVC DN250 SN12:110,00",null,110,null,null,null,null,null,null,null,"Stoka \"E2-1\" PVC DN250 SN12:110,00"]
[null,null,"Stoka \"E2-2\" PVC DN250 SN12:45,00",null,45,null,null,null,null,null,null,null,"Stoka \"E2-2\" PVC DN250 SN12:45,00"]
[5,"121100002RAA","Sejmutí ornice a uložení na deponii zpětný přesun, rozprostření v tl. 20 cm","m3",39,null,{"$f":"E26*F26","v":0},0,{"$f":"E26*H26","v":0},0,{"$f":"E26*J26","v":0},null,null,null,2,null,null,null,null,null,null,null,null,null,null,null,1,1,1,null,null,null,null,null,null,null,null,null,null,null,null,null,null,null,null,null,null,null,null,null,null,1,{"$f":"IF(AZ26=1,G26,0)","v":0},{"$f":"IF(AZ26=2,G26,0)","v":0},{"$f":"IF(AZ26=3,G26,0)","v":0},{"$f":"IF(AZ26=4,G26,0)","v":0},{"$f":"IF(AZ26=5,G26,0)","v":0},null,null,null,null,null,null,null,null,null,null,null,null,null,null,null,null,null,null,null,null,null,1,1]
[null,null,"Výkopy:",null,0,null,null,null,null,null,null,null,"Výkopy:"]
[null,null,"Stoka \"E2-1\" PVC DN250 SN12:",null,0,null,null,null,null,null,null,null,"Stoka \"E2-1\" PVC DN250 SN12:"]
[null,null,"Odpočet objemu ornice:65,00*3,00*0,20",null,39,null,null,null,null,null,null,null,"Odpočet objemu ornice:65,00*3,00*0,20"]
[6,"130001101RRX","Příplatek za ztížené hloubení v blízkosti vedení ","m3",232.74879999999999,null,{"$f":"E30*F30","v":0},0,{"$f":"E30*H30","v":0},0,{"$f":"E30*J30","v":0},null,null,null,2,null,null,null,null,null,null,null,null,null,null,null,1,1,1,null,null,null,null,null,null,null,null,null,null,null,null,null,null,null,null,null,null,null,null,null,null,1,{"$f":"IF(AZ30=1,G30,0)","v":0},{"$f":"IF(AZ30=2,G30,0)","v":0},{"$f":"IF(AZ30=3,G30,0)","v":0},{"$f":"IF(AZ30=4,G30,0)","v":0},{"$f":"IF(AZ30=5,G30,0)","v":0},null,null,null,null,null,null,null,null,null,null,null,null,null,null,null,null,null,null,null,null,null,1,1]
[null,null,"Včetně případných nutných dokopávem a ručního výkopu podél sousedících inženýrských sítí.",null,null,null,null,null,null,null,null,"Včetně případných nutných dokopávem a ručního výkopu podél sousedících inženýrských sítí.",null,null,3]
[null,null,"Součástí položky je i dočasné zajištění inženýrských sítí v prostoru výkopů (potrubí, kabely a pod.)",null,null,null,null,null,null,null,null,"Součástí položky je i dočasné zajištění inženýrských sítí v prostoru výkopů (potrubí, kabely a pod.)",null,null,3]
[null,null,"Výkopy:",null,0,null,null,null,null,null,null,null,"Výkopy:"]
[null,null,"V hornině tř. 3 - 5 - 20%:1163,7440*0,2",null,232.74879999999999,null,null,null,null,null,null,null,"V hornině tř. 3 - 5 - 20%:1163,7440*0,2"]
[7,"130901123RT3","Bourání konstrukcí ze železobetonu ve vykopávkách bagrem s kladivem","m3",20.440000000000001,null,{"$f":"E35*F35","v":0},0,{"$f":"E35*H35","v":0},-2.5,{"$f":"E35*J35","v":-51.1},null,null,null,2,null,null,null,null,null,null,null,null,null,null,null,1,1,1,null,null,null,null,null,null,null,null,null,null,null,null,null,null,null,null,null,null,null,null,null,null,1,{"$f":"IF(AZ35=1,G35,0)","v":0},{"$f":"IF(AZ35=2,G35,0)","v":0},{"$f":"IF(AZ35=3,G35,0)","v":0},{"$f":"IF(AZ35=4,G35,0)","v":0},{"$f":"IF(AZ35=5,G35,0)","v":0},null,null,null,null,null,null,null,null,null,null,null,null,null,null,null,null,null,null,null,null,null,1,1]
[null,null,"Položka obsahuje odstranění materiálu obklopujícího betonové a železobetonové konstrukce v míře nutné pro vyzvednutí, rozpojení konstrukcí, uchopení a vyzvednutí konstrukce z výkopu a uložení na dopravní prostředek.",null,null,null,null,null,null,null,null,"Položka obsahuje odstranění materiálu obklopujícího betonové a železobetonové konstrukce v míře nutné pro vyzvednutí, rozpojení konstrukcí, uchopení a vyzvednutí konstrukce z výkopu a uložení na dopravní prostředek.",null,null,3]
[null,null,"Stoka \"E1\" PVC DN250 SN12:",null,0,null,null,null,null,null,null,null,"Stoka \"E1\" PVC DN250 SN12:"]
[null,null,"Stoka \"E2\" PVC DN250 SN12:",null,0,null,null,null,null,null,null,null,"Stoka \"E2\" PVC DN250 SN12:"]
[null,null,"Stoka \"E2-1\" PVC DN250 SN12:",null,0,null,null,null,null,null,null,null,"Stoka \"E2-1\" PVC DN250 SN12:"]
[null,null,"Stoka \"E2-2\" PVC DN250 SN12:",null,0,null,null,null,null,null,null,null,"Stoka \"E2-2\" PVC DN250 SN12:"]
[null,null,"Stávající RŠ:20,4400",null,20.440000000000001,null,null,null,null,null,null,null,"Stávající RŠ:20,4400"]
[8,"132201212R00","Hloubení rýh š.do 200 cm hor.3 do 1000m3,STROJNĚ ","m3",465.49759999999998,null,{"$f":"E42*F42","v":0},0,{"$f":"E42*H42","v":0},0,{"$f":"E42*J42","v":0},null,null,null,2,null,null,null,null,null,null,null,null,null,null,null,1,1,1,null,null,null,null,null,null,null,null,null,null,null,null,null,null,null,null,null,null,null,null,null,null,1,{"$f":"IF(AZ42=1,G42,0)","v":0},{"$f":"IF(AZ42=2,G42,0)","v":0},{"$f":"IF(AZ42=3,G42,0)","v":0},{"$f":"IF(AZ42=4,G42,0)","v":0},{"$f":"IF(AZ42=5,G42,0)","v":0},null,null,null,null,null,null,null,null,null,null,null,null,null,null,null,null,null,null,null,null,null,1,1]
[null,null,"Položka obsahuje hloubení rýh traktorbagrem, naložení výkopku na dopravní prostředek pro svislé, nebo vodorovné přemístění, popř. přemístění výkopku do 3 m (po povrchu území), případné zajištění rypadel polštáři, udržování pracoviště a ochranu výkopiště proti stékání srážkové vody z okolního terénu i s jejím odvodněním, nebo odvedením, přesekání a odstranění kořenů ve výkopišti, odstranění napadávek, urovnání dna výkopu.",null,null,null,null,null,null,null,null,"Položka obsahuje hloubení rýh traktorbagrem, naložení výkopku na dopravní prostředek pro svislé, nebo vodorovné přemístění, popř. přemístění výkopku do 3 m (po povrchu území), případné zajištění rypadel polštáři, udržování pracoviště a ochranu výkopiště proti stékání srážkové vody z okolního terénu i s jejím odvodněním, nebo odvedením, přesekání a odstranění kořenů ve výkopišti, odstranění napadávek, urovnání dna výkopu.",null,null,3]
[null,null,"Výkopy:",null,0,null,null,null,null,null,null,null,"Výkopy:"]
[null,null,"Začátek provozního součtu",null,0,null,null,null,null,null,null,null,"Začátek provozního součtu"]
[null,null,"Souběh s dešťovou kanalizací a částečně s vodovodem:",null,0,null,null,null,null,null,null,null,"Souběh s dešťovou kanalizací a částečně s vodovodem:"]
[null,null,"Stoka \"E1\" PVC DN250 SN12:",null,0,null,null,null,null,null,null,null,"Stoka \"E1\" PVC DN250 SN12:"]
[null,null,"9,30*1,00*(2,10+2,04)/2",null,19.251000000000001,null,null,null,null,null,null,null,"9,30*1,00*(2,10+2,04)/2"]
[null,null,"(41,90-9,30)*1,00*(2,04+3,94)/2",null,97.474000000000004,null,null,null,null,null,null,null,"(41,90-9,30)*1,00*(2,04+3,94)/2"]
[null,null,"(70,20-41,90)*1,00*(3,94+3,55)/2",null,105.98350000000001,null,null,null,null,null,null,null,"(70,20-41,90)*1,00*(3,94+3,55)/2"]
[null,null,"(116,00-70,20)*1,00*(3,55+2,55)/2",null,139.69,null,null,null,null,null,null,null,"(116,00-70,20)*1,00*(3,55+2,55)/2"]
[null,null,"Prohloubení pro RŠ:1,60*1,60*0,20*6",null,3.0720000000000001,null,null,null,null,null,null,null,"Prohloubení pro RŠ:1,60*1,60*0,20*6"]
[null,null,"Rozšíření pro RŠ:1,60*(1,60-1,00)*(2,10+2,04+3,94+3,94+3,55+2,55)",null,17.395199999999999,null,null,null,null,null,null,null,"Rozšíření pro RŠ:1,60*(1,60-1,00)*(2,10+2,04+3,94+3,94+3,55+2,55)"]
[null,null,"Odpočet předpokládaného objemu MK:-(116,00*1,00+1,60*(1,60-1,00)*6)*0,40",null,-48.704000000000001,null,null,null,null,null,null,null,"Odpočet předpokládaného objemu MK:-(116,00*1,00+1,60*(1,60-1,00)*6)*0,40"]
[null,null,"Částečně souběh s dešťovou kanalizací a vodovodem:",null,0,null,null,null,null,null,null,null,"Částečně souběh s dešťovou kanalizací a vodovodem:"]
[null,null,"Stoka \"E2\" PVC DN250 SN12:",null,0,null,null,null,null,null,null,null,"Stoka \"E2\" PVC DN250 SN12:"]
[null,null,"112,30*1,00*(3,87+2,55)/2",null,360.483,null,null,null,null,null,null,null,"112,30*1,00*(3,87+2,55)/2"]
[null,null,"(155,50-112,30)*1,00*(2,55+3,25)/2",null,125.28,null,null,null,null,null,null,null,"(155,50-112,30)*1,00*(2,55+3,25)/2"]
[null,null,"(188,50-155,50)*1,00*(3,25+2,55)/2",null,95.7,null,null,null,null,null,null,null,"(188,50-155,50)*1,00*(3,25+2,55)/2"]
[null,null,"(256,00-188,50)*1,00*(2,55+2,55)/2",null,172.125,null,null,null,null,null,null,null,"(256,00-188,50)*1,00*(2,55+2,55)/2"]
[null,null,"Prohloubení pro RŠ:1,60*1,60*0,20*6",null,3.0720000000000001,null,null,null,null,null,null,null,"Prohloubení pro RŠ:1,60*1,60*0,20*6"]
[null,null,"Rozšíření pro RŠ:1,60*(1,60-1,00)*(3,00+2,55+2,55+2,55+2,55+2,55)",null,15.12,null,null,null,null,null,null,null,"Rozšíření pro RŠ:1,60*(1,60-1,00)*(3,00+2,55+2,55+2,55+2,55+2,55)"]
[null,null,"Odpočet předpokládaného objemu MK:-(256,00*1,00+1,60*(1,60-1,00)*6)*0,40",null,-104.70399999999999,null,null,null,null,null,null,null,"Odpočet předpokládaného objemu MK:-(256,00*1,00+1,60*(1,60-1,00)*6)*0,40"]
[null,null,"Částečně souběh s vodovodem:",null,0,null,null,null,null,null,null,null,"Částečně souběh s vodovodem:"]
[null,null,"Stoka \"E2-1\" PVC DN250 SN12:",null,0,null,null,null,null,null,null,null,"Stoka \"E2-1\" PVC DN250 SN12:"]
[null,null,"49,30*1,00*(3,25+2,10)/2",null,131.8775,null,null,null,null,null,null,null,"49,30*1,00*(3,25+2,10)/2"]
[null,null,"(69,30-49,30)*1,00*(2,10+2,81)/2",null,49.1,null,null,null,null,null,null,null,"(69,30-49,30)*1,00*(2,10+2,81)/2"]
[null,null,"(93,00-69,30)*1,00*(2,81+1,80)/2",null,54.628500000000003,null,null,null,null,null,null,null,"(93,00-69,30)*1,00*(2,81+1,80)/2"]
[null,null,"Prohloubení pro RŠ:1,60*1,60*0,20*3",null,1.536,null,null,null,null,null,null,null,"Prohloubení pro RŠ:1,60*1,60*0,20*3"]
[null,null,"Rozšíření pro RŠ:1,60*(1,60-1,00)*(2,10+2,77+1,80)",null,6.4032,null,null,null,null,null,null,null,"Rozšíření pro RŠ:1,60*(1,60-1,00)*(2,10+2,77+1,80)"]
[null,null,"Odpočet předpokládaného objemu MK:-((93,00-65,00)*1,00+1,60*(1,60-1,00)*2)*0,40",null,-11.968,null,null,null,null,null,null,null,"Odpočet předpokládaného objemu MK:-((93,00-65,00)*1,00+1,60*(1,60-1,00)*2)*0,40"]
[null,null,"Odpočet objemu ornice:-(65,00*1,00+1,60*(1,60-1,00)*1)*0,40",null,-26.384,null,null,null,null,null,null,null,"Odpočet objemu ornice:-(65,00*1,00+1,60*(1,60-1,00)*1)*0,40"]
[null,null,"Souběh s vodovodem:",null,0,null,null,null,null,null,null,null,"Souběh s vodovodem:"]
[null,null,"Stoka \"E2-2\" PVC DN250 SN12:",null,0,null,null,null,null,null,null,null,"Stoka \"E2-2\" PVC DN250 SN12:"]
[null,null,"36,00*1,00*(2,77+2,26)/2",null,90.54,null,null,null,null,null,null,null,"36,00*1,00*(2,77+2,26)/2"]
[null,null,"Prohloubení pro RŠ:1,60*1,60*0,20*1",null,0.51200000000000001,null,null,null,null,null,null,null,"Prohloubení pro RŠ:1,60*1,60*0,20*1"]
[null,null,"Rozšíření pro RŠ:1,60*(1,60-1,00)*2,25",null,2.16,null,null,null,null,null,null,null,"Rozšíření pro RŠ:1,60*(1,60-1,00)*2,25"]
[null,null,"Odpočet předpokládaného objemu MK:-(36,00*1,00+1,60*(1,60-1,00)*1)*0,40",null,-14.784000000000001,null,null,null,null,null,null,null,"Odpočet předpokládaného objemu MK:-(36,00*1,00+1,60*(1,60-1,00)*1)*0,40"]
[null,null,"Odpočet objemu původního kanalizačního potrubí a RŠ:-121,1149",null,-121.11490000000001,null,null,null,null,null,null,null,"Odpočet objemu původního kanalizačního potrubí a RŠ:-121,1149"]
[null,null,"Konec provozního součtu",null,1163.7439999999997,null,null,null,null,null,null,null,"Konec provozního součtu"]
[null,null,"V hornině tř. 3 - 40%:1163,7440*0,4",null,465.49759999999998,null,null,null,null,null,null,null,"V hornině tř. 3 - 40%:1163,7440*0,4"]
[9,"132201219R00","Přípl.za lepivost,hloubení rýh 200cm,hor.3,STROJNĚ ","m3",232.74879999999999,null,{"$f":"E82*F82","v":0},0,{"$f":"E82*H82","v":0},0,{"$f":"E82*J82","v":0},null,null,null,2,null,null,null,null,null,null,null,null,null,null,null,1,1,1,null,null,null,null,null,null,null,null,null,null,null,null,null,null,null,null,null,null,null,null,null,null,1,{"$f":"IF(AZ82=1,G82,0)","v":0},{"$f":"IF(AZ82=2,G82,0)","v":0},{"$f":"IF(AZ82=3,G82,0)","v":0},{"$f":"IF(AZ82=4,G82,0)","v":0},{"$f":"IF(AZ82=5,G82,0)","v":0},null,null,null,null,null,null,null,null,null,null,null,null,null,null,null,null,null,null,null,null,null,1,1]
[null,null,"Výkopy:",null,0,null,null,null,null,null,null,null,"Výkopy:"]
[null,null,"V hornině tř. 3 - 40%:1163,7440*0,4*0,5",null,232.74879999999999,null,null,null,null,null,null,null,"V hornině tř. 3 - 40%:1163,7440*0,4*0,5"]
[10,"132301212R00","Hloubení rýh š.do 200 cm hor.4 do 1000 m3, STROJNĚ ","m3",581.87199999999996,null,{"$f":"E85*F85","v":0},0,{"$f":"E85*H85","v":0},0,{"$f":"E85*J85","v":0},null,null,null,2,null,null,null,null,null,null,null,null,null,null,null,1,1,1,null,null,null,null,null,null,null,null,null,null,null,null,null,null,null,null,null,null,null,null,null,null,1,{"$f":"IF(AZ85=1,G85,0)","v":0},{"$f":"IF(AZ85=2,G85,0)","v":0},{"$f":"IF(AZ85=3,G85,0)","v":0},{"$f":"IF(AZ85=4,G85,0)","v":0},{"$f":"IF(AZ85=5,G85,0)","v":0},null,null,null,null,null,null,null,null,null,null,null,null,null,null,null,null,null,null,null,null,null,1,1]
[null,null,"Položka obsahuje hloubení rýh traktorbagrem, naložení výkopku na dopravní prostředek pro svislé, nebo vodorovné přemístění, popř. přemístění výkopku do 3 m (po povrchu území), případné zajištění rypadel polštáři, udržování pracoviště a ochranu výkopiště proti stékání srážkové vody z okolního terénu i s jejím odvodněním, nebo odvedením, přesekání a odstranění kořenů ve výkopišti, odstranění napadávek, urovnání dna výkopu.",null,null,null,null,null,null,null,null,"Položka obsahuje hloubení rýh traktorbagrem, naložení výkopku na dopravní prostředek pro svislé, nebo vodorovné přemístění, popř. přemístění výkopku do 3 m (po povrchu území), případné zajištění rypadel polštáři, udržování pracoviště a ochranu výkopiště proti stékání srážkové vody z okolního terénu i s jejím odvodněním, nebo odvedením, přesekání a odstranění kořenů ve výkopišti, odstranění napadávek, urovnání dna výkopu.",null,null,3]
[null,null,"Výkopy:",null,0,null,null,null,null,null,null,null,"Výkopy:"]
[null,null,"V hornině tř. 4 - 50%:1163,7440*0,5",null,581.87199999999996,null,null,null,null,null,null,null,"V hornině tř. 4 - 50%:1163,7440*0,5"]
[11,"132301219R00","Přípl.za lepivost,hloubení rýh 200cm,hor.4,STROJNĚ ","m3",290.93599999999998,null,{"$f":"E89*F89","v":0},0,{"$f":"E89*H89","v":0},0,{"$f":"E89*J89","v":0},null,null,null,2,null,null,null,null,null,null,null,null,null,null,null,1,1,1,null,null,null,null,null,null,null,null,null,null,null,null,null,null,null,null,null,null,null,null,null,null,1,{"$f":"IF(AZ89=1,G89,0)","v":0},{"$f":"IF(AZ89=2,G89,0)","v":0},{"$f":"IF(AZ89=3,G89,0)","v":0},{"$f":"IF(AZ89=4,G89,0)","v":0},{"$f":"IF(AZ89=5,G89,0)","v":0},null,null,null,null,null,null,null,null,null,null,null,null,null,null,null,null,null,null,null,null,null,1,1]
[null,null,"Výkopy:",null,0,null,null,null,null,null,null,null,"Výkopy:"]
[null,null,"V hornině tř. 4 - 50%:1163,7440*0,5*0,5",null,290.93599999999998,null,null,null,null,null,null,null,"V hornině tř. 4 - 50%:1163,7440*0,5*0,5"]
[12,"132401211RRX","Hloubení rýh šířky do 200 cm v hor.5 STROJNĚ včetně případného dolamování ve vrstvě do 0,5 m","m3",116.37439999999999,null,{"$f":"E92*F92","v":0},1.0410000000000001E-2,{"$f":"E92*H92","v":1.211457504},0,{"$f":"E92*J92","v":0},null,null,null,2,null,null,null,null,null,null,null,null,null,null,null,1,1,1,null,null,null,null,null,null,null,null,null,null,null,null,null,null,null,null,null,null,null,null,null,null,1,{"$f":"IF(AZ92=1,G92,0)","v":0},{"$f":"IF(AZ92=2,G92,0)","v":0},{"$f":"IF(AZ92=3,G92,0)","v":0},{"$f":"IF(AZ92=4,G92,0)","v":0},{"$f":"IF(AZ92=5,G92,0)","v":0},null,null,null,null,null,null,null,null,null,null,null,null,null,null,null,null,null,null,null,null,null,1,1]
[null,null,"Položka obsahuje hloubení rýh traktorbagrem, naložení výkopku na dopravní prostředek pro svislé, nebo vodorovné přemístění, popř. přemístění výkopku do 3 m (po povrchu území), případné zajištění rypadel polštáři, udržování pracoviště a ochranu výkopiště proti stékání srážkové vody z okolního terénu i s jejím odvodněním, nebo odvedením, přesekání a odstranění kořenů ve výkopišti, odstranění napadávek, urovnání dna výkopu.včetně případného dolamování ve vrstvě do 0,5 m",null,null,null,null,null,null,null,null,"Položka obsahuje hloubení rýh traktorbagrem, naložení výkopku na dopravní prostředek pro svislé, nebo vodorovné přemístění, popř. přemístění výkopku do 3 m (po povrchu území), případné zajištění rypadel polštáři, udržování pracoviště a ochranu výkopiště proti stékání srážkové vody z okolního terénu i s jejím odvodněním, nebo odvedením, přesekání a odstranění kořenů ve výkopišti, odstranění napadávek, urovnání dna výkopu.včetně případného dolamování ve vrstvě do 0,5 m",null,null,3]
[null,null,"Výkopy:",null,0,null,null,null,null,null,null,null,"Výkopy:"]
[null,null,"V hornině tř. 5 - 10%:1163,7440*0,1",null,116.37439999999999,null,null,null,null,null,null,null,"V hornině tř. 5 - 10%:1163,7440*0,1"]
[13,"151101102R00","Pažení a rozepření stěn rýh - příložné - hl.do 4 m ","m2",1795.2349999999999,null,{"$f":"E96*F96","v":0},8.5999999999999998E-4,{"$f":"E96*H96","v":1.5439020999999999},0,{"$f":"E96*J96","v":0},null,null,null,2,null,null,null,null,null,null,null,null,null,null,null,1,1,1,null,null,null,null,null,null,null,null,null,null,null,null,null,null,null,null,null,null,null,null,null,null,1,{"$f":"IF(AZ96=1,G96,0)","v":0},{"$f":"IF(AZ96=2,G96,0)","v":0},{"$f":"IF(AZ96=3,G96,0)","v":0},{"$f":"IF(AZ96=4,G96,0)","v":0},{"$f":"IF(AZ96=5,G96,0)","v":0},null,null,null,null,null,null,null,null,null,null,null,null,null,null,null,null,null,null,null,null,null,1,1]
[null,null,"Výkopy:",null,0,null,null,null,null,null,null,null,"Výkopy:"]
[null,null,"Souběh s dešťovou kanalizací a částečně s vodovodem:",null,0,null,null,null,null,null,null,null,"Souběh s dešťovou kanalizací a částečně s vodovodem:"]
[null,null,"Stoka \"E1\" PVC DN250 SN12:",null,0,null,null,null,null,null,null,null,"Stoka \"E1\" PVC DN250 SN12:"]
[null,null,"9,30*(2,10+2,04)/2*2*0,5",null,19.251000000000001,null,null,null,null,null,null,null,"9,30*(2,10+2,04)/2*2*0,5"]
[null,null,"(41,90-9,30)*(2,04+3,94)/2*2*0,5",null,97.474000000000004,null,null,null,null,null,null,null,"(41,90-9,30)*(2,04+3,94)/2*2*0,5"]
[null,null,"(70,20-41,90)*(3,94+3,55)/2*2*0,5",null,105.98350000000001,null,null,null,null,null,null,null,"(70,20-41,90)*(3,94+3,55)/2*2*0,5"]
[null,null,"(116,00-70,20)*(3,55+2,55)/2*2*0,5",null,139.69,null,null,null,null,null,null,null,"(116,00-70,20)*(3,55+2,55)/2*2*0,5"]
[null,null,"Částečně souběh s dešťovou kanalizací a vodovodem:",null,0,null,null,null,null,null,null,null,"Částečně souběh s dešťovou kanalizací a vodovodem:"]
[null,null,"Stoka \"E2\" PVC DN250 SN12:",null,0,null,null,null,null,null,null,null,"Stoka \"E2\" PVC DN250 SN12:"]
[null,null,"112,30*(3,87+2,55)/2*2*0,5",null,360.483,null,null,null,null,null,null,null,"112,30*(3,87+2,55)/2*2*0,5"]
[null,null,"(155,50-112,30)*(2,55+3,25)/2*2*0,5",null,125.28,null,null,null,null,null,null,null,"(155,50-112,30)*(2,55+3,25)/2*2*0,5"]
[null,null,"(188,50-155,50)*(3,25+2,55)/2*2*0,5",null,95.7,null,null,null,null,null,null,null,"(188,50-155,50)*(3,25+2,55)/2*2*0,5"]
[null,null,"(256,00-188,50)*(2,55+2,55)/2*2",null,344.25,null,null,null,null,null,null,null,"(256,00-188,50)*(2,55+2,55)/2*2"]
[null,null,"Částečně souběh s vodovodem:",null,0,null,null,null,null,null,null,null,"Částečně souběh s vodovodem:"]
[null,null,"Stoka \"E2-1\" PVC DN250 SN12:",null,0,null,null,null,null,null,null,null,"Stoka \"E2-1\" PVC DN250 SN12:"]
[null,null,"49,30*(3,25+2,10)/2*2",null,263.755,null,null,null,null,null,null,null,"49,30*(3,25+2,10)/2*2"]
[null,null,"(69,30-49,30)*(2,10+2,81)/2*2",null,98.2,null,null,null,null,null,null,null,"(69,30-49,30)*(2,10+2,81)/2*2"]
[null,null,"(93,00-69,30)*(2,81+1,80)/2*2*0,5",null,54.628500000000003,null,null,null,null,null,null,null,"(93,00-69,30)*(2,81+1,80)/2*2*0,5"]
[null,null,"Souběh s vodovodem:",null,0,null,null,null,null,null,null,null,"Souběh s vodovodem:"]
[null,null,"Stoka \"E2-2\" PVC DN250 SN12:",null,0,null,null,null,null,null,null,null,"Stoka \"E2-2\" PVC DN250 SN12:"]
[null,null,"36,00*(2,77+2,26)/2*2*0,5",null,90.54,null,null,null,null,null,null,null,"36,00*(2,77+2,26)/2*2*0,5"]
[14,"151101112R00","Odstranění pažení stěn rýh - příložné - hl. do 4 m ","m2",1795.2349999999999,null,{"$f":"E118*F118","v":0},0,{"$f":"E118*H118","v":0},0,{"$f":"E118*J118","v":0},null,null,null,2,null,null,null,null,null,null,null,null,null,null,null,1,1,1,null,null,null,null,null,null,null,null,null,null,null,null,null,null,null,null,null,null,null,null,null,null,1,{"$f":"IF(AZ118=1,G118,0)","v":0},{"$f":"IF(AZ118=2,G118,0)","v":0},{"$f":"IF(AZ118=3,G118,0)","v":0},{"$f":"IF(AZ118=4,G118,0)","v":0},{"$f":"IF(AZ118=5,G118,0)","v":0},null,null,null,null,null,null,null,null,null,null,null,null,null,null,null,null,null,null,null,null,null,1,1]
[null,null,"Výkopy:",null,0,null,null,null,null,null,null,null,"Výkopy:"]
[null,null,"Souběh s dešťovou kanalizací a částečně s vodovodem:",null,0,null,null,null,null,null,null,null,"Souběh s dešťovou kanalizací a částečně s vodovodem:"]
[null,null,"Stoka \"E1\" PVC DN250 SN12:",null,0,null,null,null,null,null,null,null,"Stoka \"E1\" PVC DN250 SN12:"]
[null,null,"9,30*(2,10+2,04)/2*2*0,5",null,19.251000000000001,null,null,null,null,null,null,null,"9,30*(2,10+2,04)/2*2*0,5"]
[null,null,"(41,90-9,30)*(2,04+3,94)/2*2*0,5",null,97.474000000000004,null,null,null,null,null,null,null,"(41,90-9,30)*(2,04+3,94)/2*2*0,5"]
[null,null,"(70,20-41,90)*(3,94+3,55)/2*2*0,5",null,105.98350000000001,null,null,null,null,null,null,null,"(70,20-41,90)*(3,94+3,55)/2*2*0,5"]
[null,null,"(116,00-70,20)*(3,55+2,55)/2*2*0,5",null,139.69,null,null,null,null,null,null,null,"(116,00-70,20)*(3,55+2,55)/2*2*0,5"]
[null,null,"Částečně souběh s dešťovou kanalizací a vodovodem:",null,0,null,null,null,null,null,null,null,"Částečně souběh s dešťovou kanalizací a vodovodem:"]
[null,null,"Stoka \"E2\" PVC DN250 SN12:",null,0,null,null,null,null,null,null,null,"Stoka \"E2\" PVC DN250 SN12:"]
[null,null,"112,30*(3,87+2,55)/2*2*0,5",null,360.483,null,null,null,null,null,null,null,"112,30*(3,87+2,55)/2*2*0,5"]
[null,null,"(155,50-112,30)*(2,55+3,25)/2*2*0,5",null,125.28,null,null,null,null,null,null,null,"(155,50-112,30)*(2,55+3,25)/2*2*0,5"]
[null,null,"(188,50-155,50)*(3,25+2,55)/2*2*0,5",null,95.7,null,null,null,null,null,null,null,"(188,50-155,50)*(3,25+2,55)/2*2*0,5"]
[null,null,"(256,00-188,50)*(2,55+2,55)/2*2",null,344.25,null,null,null,null,null,null,null,"(256,00-188,50)*(2,55+2,55)/2*2"]
[null,null,"Částečně souběh s vodovodem:",null,0,null,null,null,null,null,null,null,"Částečně souběh s vodovodem:"]
[null,null,"Stoka \"E2-1\" PVC DN250 SN12:",null,0,null,null,null,null,null,null,null,"Stoka \"E2-1\" PVC DN250 SN12:"]
[null,null,"49,30*(3,25+2,10)/2*2",null,263.755,null,null,null,null,null,null,null,"49,30*(3,25+2,10)/2*2"]
[null,null,"(69,30-49,30)*(2,10+2,81)/2*2",null,98.2,null,null,null,null,null,null,null,"(69,30-49,30)*(2,10+2,81)/2*2"]
[null,null,"(93,00-69,30)*(2,81+1,80)/2*2*0,5",null,54.628500000000003,null,null,null,null,null,null,null,"(93,00-69,30)*(2,81+1,80)/2*2*0,5"]
[null,null,"Souběh s vodovodem:",null,0,null,null,null,null,null,null,null,"Souběh s vodovodem:"]
[null,null,"Stoka \"E2-2\" PVC DN250 SN12:",null,0,null,null,null,null,null,null,null,"Stoka \"E2-2\" PVC DN250 SN12:"]
[null,null,"36,00*(2,77+2,26)/2*2*0,5",null,90.54,null,null,null,null,null,null,null,"36,00*(2,77+2,26)/2*2*0,5"]
[15,"162701105RSZ","Vodorovné přemístění výkopku z hor.1-7 na skládku zhotovitele","m3",1065.3323,null,{"$f":"E140*F140","v":0},0,{"$f":"E140*H140","v":0},0,{"$f":"E140*J140","v":0},null,null,null,2,null,null,null,null,null,null,null,null,null,null,null,1,1,1,null,null,null,null,null,null,null,null,null,null,null,null,null,null,null,null,null,null,null,null,null,null,1,{"$f":"IF(AZ140=1,G140,0)","v":0},{"$f":"IF(AZ140=2,G140,0)","v":0},{"$f":"IF(AZ140=3,G140,0)","v":0},{"$f":"IF(AZ140=4,G140,0)","v":0},{"$f":"IF(AZ140=5,G140,0)","v":0},null,null,null,null,null,null,null,null,null,null,null,null,null,null,null,null,null,null,null,null,null,1,1]
[null,null,"Výkopy:",null,0,null,null,null,null,null,null,null,"Výkopy:"]
[null,null,"V hornině tř. 3 - 5 :1163,7440",null,1163.7439999999999,null,null,null,null,null,null,null,"V hornině tř. 3 - 5 :1163,7440"]
[null,null,"Odpočet zásypů zeminou:-98,4117",null,-98.411699999999996,null,null,null,null,null,null,null,"Odpočet zásypů zeminou:-98,4117"]
[16,"174101101R00","Zásyp jam, rýh, šachet se zhutněním ","m3",923.10990000000004,null,{"$f":"E144*F144","v":0},0,{"$f":"E144*H144","v":0},0,{"$f":"E144*J144","v":0},null,null,null,2,null,null,null,null,null,null,null,null,null,null,null,1,1,1,null,null,null,null,null,null,null,null,null,null,null,null,null,null,null,null,null,null,null,null,null,null,1,{"$f":"IF(AZ144=1,G144,0)","v":0},{"$f":"IF(AZ144=2,G144,0)","v":0},{"$f":"IF(AZ144=3,G144,0)","v":0},{"$f":"IF(AZ144=4,G144,0)","v":0},{"$f":"IF(AZ144=5,G144,0)","v":0},null,null,null,null,null,null,null,null,null,null,null,null,null,null,null,null,null,null,null,null,null,1,1]
[null,null,"Položka obsahuje strojní přemístění materiálu pro zásyp ze vzdálenosti do 10 m od okraje zásypu.",null,null,null,null,null,null,null,null,"Položka obsahuje strojní přemístění materiálu pro zásyp ze vzdálenosti do 10 m od okraje zásypu.",null,null,3]
[null,null,null,null,null,null,null,null,null,null,null,null,null,null,3]
[null,null,"Zásypy zeminou:98,4117",null,98.411699999999996,null,null,null,null,null,null,null,"Zásypy zeminou:98,4117"]
[null,null,"Začátek provozního součtu",null,0,null,null,null,null,null,null,null,"Začátek provozního součtu"]
[null,null,"Výkopy:",null,0,null,null,null,null,null,null,null,"Výkopy:"]
[null,null,"49,30*1,00*(3,25+2,10)/2",null,131.8775,null,null,null,null,null,null,null,"49,30*1,00*(3,25+2,10)/2"]
[null,null,"(65,00-49,30)*1,00*(2,10+2,81)/2",null,38.543500000000002,null,null,null,null,null,null,null,"(65,00-49,30)*1,00*(2,10+2,81)/2"]
[null,null,"Prohloubení pro RŠ:1,60*1,60*0,20*1",null,0.51200000000000001,null,null,null,null,null,null,null,"Prohloubení pro RŠ:1,60*1,60*0,20*1"]
[null,null,"Rozšíření pro RŠ:1,60*(1,60-1,00)*2,10",null,2.016,null,null,null,null,null,null,null,"Rozšíření pro RŠ:1,60*(1,60-1,00)*2,10"]
[null,null,"Odpočet objemu ornice:-(65,00*1,00+1,60*(1,60-1,00)*1)*0,40",null,-26.384,null,null,null,null,null,null,null,"Odpočet objemu ornice:-(65,00*1,00+1,60*(1,60-1,00)*1)*0,40"]
[null,null,"Odpočet objemu lože, potrubí a obsypů:-65,00*1,00*(0,15+0,25+0,30)",null,-45.5,null,null,null,null,null,null,null,"Odpočet objemu lože, potrubí a obsypů:-65,00*1,00*(0,15+0,25+0,30)"]
[null,null,"Odpočet objemu RŠ:-2,6533",null,-2.6533000000000002,null,null,null,null,null,null,null,"Odpočet objemu RŠ:-2,6533"]
[null,null,"Konec provozního součtu",null,98.411699999999996,null,null,null,null,null,null,null,"Konec provozního součtu"]
[null,null,"Zásypy ŠD fr. 0-63 mm:824,6982",null,824.69820000000004,null,null,null,null,null,null,null,"Zásypy ŠD fr. 0-63 mm:824,6982"]
[null,null,"Začátek provozního součtu",null,0,null,null,null,null,null,null,null,"Začátek provozního součtu"]
[null,null,"Výkopy:",null,0,null,null,null,null,null,null,null,"Výkopy:"]
[null,null,"Souběh s dešťovou kanalizací a částečně s vodovodem:",null,0,null,null,null,null,null,null,null,"Souběh s dešťovou kanalizací a částečně s vodovodem:"]
[null,null,"Stoka \"E1\" PVC DN250 SN12:",null,0,null,null,null,null,null,null,null,"Stoka \"E1\" PVC DN250 SN12:"]
[null,null,"9,30*1,00*(2,10+2,04)/2",null,19.251000000000001,null,null,null,null,null,null,null,"9,30*1,00*(2,10+2,04)/2"]
[null,null,"(41,90-9,30)*1,00*(2,04+3,94)/2",null,97.474000000000004,null,null,null,null,null,null,null,"(41,90-9,30)*1,00*(2,04+3,94)/2"]
[null,null,"(70,20-41,90)*1,00*(3,94+3,55)/2",null,105.98350000000001,null,null,null,null,null,null,null,"(70,20-41,90)*1,00*(3,94+3,55)/2"]
[null,null,"(116,00-70,20)*1,00*(3,55+2,55)/2",null,139.69,null,null,null,null,null,null,null,"(116,00-70,20)*1,00*(3,55+2,55)/2"]
[null,null,"Prohloubení pro RŠ:1,60*1,60*0,20*6",null,3.0720000000000001,null,null,null,null,null,null,null,"Prohloubení pro RŠ:1,60*1,60*0,20*6"]
[null,null,"Rozšíření pro RŠ:1,60*(1,60-1,00)*(2,10+2,04+3,94+3,94+3,55+2,55)",null,17.395199999999999,null,null,null,null,null,null,null,"Rozšíření pro RŠ:1,60*(1,60-1,00)*(2,10+2,04+3,94+3,94+3,55+2,55)"]
[null,null,"Odpočet předpokládaného objemu MK:-(116,00*1,00+1,60*(1,60-1,00)*6)*0,40",null,-48.704000000000001,null,null,null,null,null,null,null,"Odpočet předpokládaného objemu MK:-(116,00*1,00+1,60*(1,60-1,00)*6)*0,40"]
[null,null,"Částečně souběh s dešťovou kanalizací a vodovodem:",null,0,null,null,null,null,null,null,null,"Částečně souběh s dešťovou kanalizací a vodovodem:"]
[null,null,"Stoka \"E2\" PVC DN250 SN12:",null,0,null,null,null,null,null,null,null,"Stoka \"E2\" PVC DN250 SN12:"]
[null,null,"112,30*1,00*(3,87+2,55)/2",null,360.483,null,null,null,null,null,null,null,"112,30*1,00*(3,87+2,55)/2"]
[null,null,"(155,50-112,30)*1,00*(2,55+3,25)/2",null,125.28,null,null,null,null,null,null,null,"(155,50-112,30)*1,00*(2,55+3,25)/2"]
[null,null,"(188,50-155,50)*1,00*(3,25+2,55)/2",null,95.7,null,null,null,null,null,null,null,"(188,50-155,50)*1,00*(3,25+2,55)/2"]
[null,null,"(256,00-188,50)*1,00*(2,55+2,55)/2",null,172.125,null,null,null,null,null,null,null,"(256,00-188,50)*1,00*(2,55+2,55)/2"]
[null,null,"Prohloubení pro RŠ:1,60*1,60*0,20*6",null,3.0720000000000001,null,null,null,null,null,null,null,"Prohloubení pro RŠ:1,60*1,60*0,20*6"]
[null,null,"Rozšíření pro RŠ:1,60*(1,60-1,00)*(3,00+2,55+2,55+2,55+2,55+2,55)",null,15.12,null,null,null,null,null,null,null,"Rozšíření pro RŠ:1,60*(1,60-1,00)*(3,00+2,55+2,55+2,55+2,55+2,55)"]
[null,null,"Odpočet předpokládaného objemu MK:-(256,00*1,00+1,60*(1,60-1,00)*6)*0,40",null,-104.70399999999999,null,null,null,null,null,null,null,"Odpočet předpokládaného objemu MK:-(256,00*1,00+1,60*(1,60-1,00)*6)*0,40"]
[null,null,"Částečně souběh s vodovodem:",null,0,null,null,null,null,null,null,null,"Částečně souběh s vodovodem:"]
[null,null,"Stoka \"E2-1\" PVC DN250 SN12:",null,0,null,null,null,null,null,null,null,"Stoka \"E2-1\" PVC DN250 SN12:"]
[null,null,"(93,00-69,30)*1,00*(2,81+1,80)/2",null,54.628500000000003,null,null,null,null,null,null,null,"(93,00-69,30)*1,00*(2,81+1,80)/2"]
[null,null,"Prohloubení pro RŠ:1,60*1,60*0,20*2",null,1.024,null,null,null,null,null,null,null,"Prohloubení pro RŠ:1,60*1,60*0,20*2"]
[null,null,"Rozšíření pro RŠ:1,60*(1,60-1,00)*(2,77+1,80)",null,4.3872,null,null,null,null,null,null,null,"Rozšíření pro RŠ:1,60*(1,60-1,00)*(2,77+1,80)"]
[null,null,"Odpočet předpokládaného objemu MK:-((93,00-65,00)*1,00+1,60*(1,60-1,00)*2)*0,40",null,-11.968,null,null,null,null,null,null,null,"Odpočet předpokládaného objemu MK:-((93,00-65,00)*1,00+1,60*(1,60-1,00)*2)*0,40"]
[null,null,"Souběh s vodovodem:",null,0,null,null,null,null,null,null,null,"Souběh s vodovodem:"]
[null,null,"Stoka \"E2-2\" PVC DN250 SN12:",null,0,null,null,null,null,null,null,null,"Stoka \"E2-2\" PVC DN250 SN12:"]
[null,null,"36,00*1,00*(2,77+2,26)/2",null,90.54,null,null,null,null,null,null,null,"36,00*1,00*(2,77+2,26)/2"]
[null,null,"Prohloubení pro RŠ:1,60*1,60*0,20*1",null,0.51200000000000001,null,null,null,null,null,null,null,"Prohloubení pro RŠ:1,60*1,60*0,20*1"]
[null,null,"Rozšíření pro RŠ:1,60*(1,60-1,00)*2,25",null,2.16,null,null,null,null,null,null,null,"Rozšíření pro RŠ:1,60*(1,60-1,00)*2,25"]
[null,null,"Odpočet předpokládaného objemu MK:-(36,00*1,00+1,60*(1,60-1,00)*1)*0,40",null,-14.784000000000001,null,null,null,null,null,null,null,"Odpočet předpokládaného objemu MK:-(36,00*1,00+1,60*(1,60-1,00)*1)*0,40"]
[null,null,"Odpočet objemu lože, potrubí a obsypů:-(116,00+256,00)*1,00*(0,15+0,25+0,20)",null,-223.2,null,null,null,null,null,null,null,"Odpočet objemu lože, potrubí a obsypů:-(116,00+256,00)*1,00*(0,15+0,25+0,20)"]
[null,null,"-(93,00-65,00+36,00)*1,00*(0,15+0,25+0,30)",null,-44.8,null,null,null,null,null,null,null,"-(93,00-65,00+36,00)*1,00*(0,15+0,25+0,30)"]
[null,null,"Odpočet objemu RŠ:-35,0392",null,-35.039200000000001,null,null,null,null,null,null,null,"Odpočet objemu RŠ:-35,0392"]
[null,null,"0",null,0,null,null,null,null,null,null,null,0]
[null,null,"Konec provozního součtu",null,824.69819999999947,null,null,null,null,null,null,null,"Konec provozního součtu"]
[17,"175101101R00","Obsyp potrubí bez prohození sypaniny ","m3",213.75720000000001,null,{"$f":"E196*F196","v":0},0,{"$f":"E196*H196","v":0},0,{"$f":"E196*J196","v":0},null,null,null,2,null,null,null,null,null,null,null,null,null,null,null,1,1,1,null,null,null,null,null,null,null,null,null,null,null,null,null,null,null,null,null,null,null,null,null,null,1,{"$f":"IF(AZ196=1,G196,0)","v":0},{"$f":"IF(AZ196=2,G196,0)","v":0},{"$f":"IF(AZ196=3,G196,0)","v":0},{"$f":"IF(AZ196=4,G196,0)","v":0},{"$f":"IF(AZ196=5,G196,0)","v":0},null,null,null,null,null,null,null,null,null,null,null,null,null,null,null,null,null,null,null,null,null,1,1]
[null,null,"Stoka \"E1\" PVC DN250 SN12:116,00*(1,00*(0,25+0,20)-0,125^2*Pi)",null,46.505899999999997,null,null,null,null,null,null,null,"Stoka \"E1\" PVC DN250 SN12:116,00*(1,00*(0,25+0,20)-0,125^2*Pi)"]
[null,null,"Stoka \"E2\" PVC DN250 SN12:256,00*(1,00*(0,25+0,20)-0,125^2*Pi)",null,102.6336,null,null,null,null,null,null,null,"Stoka \"E2\" PVC DN250 SN12:256,00*(1,00*(0,25+0,20)-0,125^2*Pi)"]
[null,null,"Stoka \"E2-1\" PVC DN250 SN12:93,00*(1,00*(0,25+0,30)-0,125^2*Pi)",null,46.584899999999998,null,null,null,null,null,null,null,"Stoka \"E2-1\" PVC DN250 SN12:93,00*(1,00*(0,25+0,30)-0,125^2*Pi)"]
[null,null,"Stoka \"E2-2\" PVC DN250 SN12:36,00*(1,00*(0,25+0,30)-0,125^2*Pi)",null,18.032900000000001,null,null,null,null,null,null,null,"Stoka \"E2-2\" PVC DN250 SN12:36,00*(1,00*(0,25+0,30)-0,125^2*Pi)"]
[18,"199000002R00","Poplatek za skládku horniny 1- 7 č. dle katal. odpadů 17 05 04","m3",1065.3323,null,{"$f":"E201*F201","v":0},0,{"$f":"E201*H201","v":0},0,{"$f":"E201*J201","v":0},null,null,null,2,null,null,null,null,null,null,null,null,null,null,null,1,1,1,null,null,null,null,null,null,null,null,null,null,null,null,null,null,null,null,null,null,null,null,null,null,1,{"$f":"IF(AZ201=1,G201,0)","v":0},{"$f":"IF(AZ201=2,G201,0)","v":0},{"$f":"IF(AZ201=3,G201,0)","v":0},{"$f":"IF(AZ201=4,G201,0)","v":0},{"$f":"IF(AZ201=5,G201,0)","v":0},null,null,null,null,null,null,null,null,null,null,null,null,null,null,null,null,null,null,null,null,null,1,1]
[null,null,"Výkopy:",null,0,null,null,null,null,null,null,null,"Výkopy:"]
[null,null,"V hornině tř. 3 - 5 :1163,7440",null,1163.7439999999999,null,null,null,null,null,null,null,"V hornině tř. 3 - 5 :1163,7440"]
[null,null,"Odpočet zásypů zeminou:-98,4117",null,-98.411699999999996,null,null,null,null,null,null,null,"Odpočet zásypů zeminou:-98,4117"]
[19,"976085211R00","Vybourání kanal.rámů a poklopů plochy do 0,3 m2 ","kus",14,null,{"$f":"E205*F205","v":0},0,{"$f":"E205*H205","v":0},-2.4E-2,{"$f":"E205*J205","v":-0.33600000000000002},null,null,null,2,null,null,null,null,null,null,null,null,null,null,null,1,0,0,null,null,null,null,null,null,null,null,null,null,null,null,null,null,null,null,null,null,null,null,null,null,1,{"$f":"IF(AZ205=1,G205,0)","v":0},{"$f":"IF(AZ205=2,G205,0)","v":0},{"$f":"IF(AZ205=3,G205,0)","v":0},{"$f":"IF(AZ205=4,G205,0)","v":0},{"$f":"IF(AZ205=5,G205,0)","v":0},null,null,null,null,null,null,null,null,null,null,null,null,null,null,null,null,null,null,null,null,null,1,0]
[20,"979082113RSZ","Vodorovná doprava suti po suchu na skládku zhotovitele","t",180.70920000000001,null,{"$f":"E206*F206","v":0},0,{"$f":"E206*H206","v":0},0,{"$f":"E206*J206","v":0},null,null,null,2,null,null,null,null,null,null,null,null,null,null,null,1,1,1,null,null,null,null,null,null,null,null,null,null,null,null,null,null,null,null,null,null,null,null,null,null,1,{"$f":"IF(AZ206=1,G206,0)","v":0},{"$f":"IF(AZ206=2,G206,0)","v":0},{"$f":"IF(AZ206=3,G206,0)","v":0},{"$f":"IF(AZ206=4,G206,0)","v":0},{"$f":"IF(AZ206=5,G206,0)","v":0},null,null,null,null,null,null,null,null,null,null,null,null,null,null,null,null,null,null,null,null,null,1,1]
[21,"979990103R00","Poplatek za skládku stavební suti beton, skupina odpadu 170101","t",180.70920000000001,null,{"$f":"E207*F207","v":0},0,{"$f":"E207*H207","v":0},0,{"$f":"E207*J207","v":0},null,null,null,2,null,null,null,null,null,null,null,null,null,null,null,1,0,0,null,null,null,null,null,null,null,null,null,null,null,null,null,null,null,null,null,null,null,null,null,null,1,{"$f":"IF(AZ207=1,G207,0)","v":0},{"$f":"IF(AZ207=2,G207,0)","v":0},{"$f":"IF(AZ207=3,G207,0)","v":0},{"$f":"IF(AZ207=4,G207,0)","v":0},{"$f":"IF(AZ207=5,G207,0)","v":0},null,null,null,null,null,null,null,null,null,null,null,null,null,null,null,null,null,null,null,null,null,1,0]
[22,"58337308.R","Štěrkopísek frakce 0-2 tř.B","t",335.18540000000002,null,{"$f":"E208*F208","v":0},1,{"$f":"E208*H208","v":335.18540000000002},null,{"$f":"E208*J208","v":0},null,null,null,2,null,null,null,null,null,null,null,null,null,null,null,3,1,"58337308.R",null,null,null,null,null,null,null,null,null,null,null,null,null,null,null,null,null,null,null,null,null,null,1,{"$f":"IF(AZ208=1,G208,0)","v":0},{"$f":"IF(AZ208=2,G208,0)","v":0},{"$f":"IF(AZ208=3,G208,0)","v":0},{"$f":"IF(AZ208=4,G208,0)","v":0},{"$f":"IF(AZ208=5,G208,0)","v":0},null,null,null,null,null,null,null,null,null,null,null,null,null,null,null,null,null,null,null,null,null,3,1]
[null,null,"Stoka \"E1\" PVC DN250 SN12:116,00*(1,00*(0,25+0,20)-0,125^2*Pi)*1,973*1,01",null,92.673599999999993,null,null,null,null,null,null,null,"Stoka \"E1\" PVC DN250 SN12:116,00*(1,00*(0,25+0,20)-0,125^2*Pi)*1,973*1,01"]
[null,null,"Stoka \"E2\" PVC DN250 SN12:256,00*(1,00*(0,25+0,20)-0,125^2*Pi)*1,0973*1,01",null,113.7461,null,null,null,null,null,null,null,"Stoka \"E2\" PVC DN250 SN12:256,00*(1,00*(0,25+0,20)-0,125^2*Pi)*1,0973*1,01"]
[null,null,"Stoka \"E2-1\" PVC DN250 SN12:93,00*(1,00*(0,25+0,30)-0,125^2*Pi)*1,973*1,01",null,92.831100000000006,null,null,null,null,null,null,null,"Stoka \"E2-1\" PVC DN250 SN12:93,00*(1,00*(0,25+0,30)-0,125^2*Pi)*1,973*1,01"]
[null,null,"Stoka \"E2-2\" PVC DN250 SN12:36,00*(1,00*(0,25+0,30)-0,125^2*Pi)*1,973*1,01",null,35.934600000000003,null,null,null,null,null,null,null,"Stoka \"E2-2\" PVC DN250 SN12:36,00*(1,00*(0,25+0,30)-0,125^2*Pi)*1,973*1,01"]
[23,"58344197R","Štěrkodrtě frakce 0-63 A","t",1560.1062999999999,null,{"$f":"E213*F213","v":0},1,{"$f":"E213*H213","v":1560.1062999999999},null,{"$f":"E213*J213","v":0},null,null,null,2,null,null,null,null,null,null,null,null,null,null,null,3,1,"58344197R",null,null,null,null,null,null,null,null,null,null,null,null,null,null,null,null,null,null,null,null,null,null,1,{"$f":"IF(AZ213=1,G213,0)","v":0},{"$f":"IF(AZ213=2,G213,0)","v":0},{"$f":"IF(AZ213=3,G213,0)","v":0},{"$f":"IF(AZ213=4,G213,0)","v":0},{"$f":"IF(AZ213=5,G213,0)","v":0},null,null,null,null,null,null,null,null,null,null,null,null,null,null,null,null,null,null,null,null,null,3,1]
[null,null,"Zásypy ŠD fr. 0-63 mm:824,6982*1,873*1,01",null,1560.1062999999999,null,null,null,null,null,null,null,"Zásypy ŠD fr. 0-63 mm:824,6982*1,873*1,01"]
[null,"Celkem za","1 Zemní práce",null,null,null,{"$f":"SUM(G7:G214)","v":0},null,{"$f":"SUM(I7:I214)","v":1898.047059604},null,{"$f":"SUM(K7:K214)","v":-181.04520000000002},null,null,null,4,null,null,null,null,null,null,null,null,null,null,null,null,null,null,null,null,null,null,null,null,null,null,null,null,null,null,null,null,null,null,null,null,null,null,null,null,null,{"$f":"SUM(BA7:BA214)","v":0},{"$f":"SUM(BB7:BB214)","v":0},{"$f":"SUM(BC7:BC214)","v":0},{"$f":"SUM(BD7:BD214)","v":0},{"$f":"SUM(BE7:BE214)","v":0}]
["Díl:","45","Podkladní a vedlejší konstrukce",null,null,null,null,null,null,null,null,null,null,null,1]
[24,"451572111R00","Lože pod potrubí z kameniva těženého 0 - 4 mm ","m3",75.150000000000006,null,{"$f":"E217*F217","v":0},0.43051,{"$f":"E217*H217","v":32.352826500000006},0,{"$f":"E217*J217","v":0},null,null,null,2,null,null,null,null,null,null,null,null,null,null,null,1,1,1,null,null,null,null,null,null,null,null,null,null,null,null,null,null,null,null,null,null,null,null,null,null,1,{"$f":"IF(AZ217=1,G217,0)","v":0},{"$f":"IF(AZ217=2,G217,0)","v":0},{"$f":"IF(AZ217=3,G217,0)","v":0},{"$f":"IF(AZ217=4,G217,0)","v":0},{"$f":"IF(AZ217=5,G217,0)","v":0},null,null,null,null,null,null,null,null,null,null,null,null,null,null,null,null,null,null,null,null,null,1,1]
[null,null,"Stoka \"E1\" PVC DN250 SN12:116,00*1,00*0,15",null,17.399999999999999,null,null,null,null,null,null,null,"Stoka \"E1\" PVC DN250 SN12:116,00*1,00*0,15"]
[null,null,"Stoka \"E2\" PVC DN250 SN12:256,00*1,00*0,15",null,38.4,null,null,null,null,null,null,null,"Stoka \"E2\" PVC DN250 SN12:256,00*1,00*0,15"]
[null,null,"Stoka \"E2-1\" PVC DN250 SN12:93,00*1,00*0,15",null,13.95,null,null,null,null,null,null,null,"Stoka \"E2-1\" PVC DN250 SN12:93,00*1,00*0,15"]
[null,null,"Stoka \"E2-2\" PVC DN250 SN12:36,00*1,00*0,15",null,5.4,null,null,null,null,null,null,null,"Stoka \"E2-2\" PVC DN250 SN12:36,00*1,00*0,15"]
[25,"452112111R00","Osazení beton. prstenců pod poklopy,výšky do100 mm ","kus",30,null,{"$f":"E222*F222","v":0},6.6E-3,{"$f":"E222*H222","v":0.19800000000000001},0,{"$f":"E222*J222","v":0},null,null,null,2,null,null,null,null,null,null,null,null,null,null,null,1,1,1,null,null,null,null,null,null,null,null,null,null,null,null,null,null,null,null,null,null,null,null,null,null,1,{"$f":"IF(AZ222=1,G222,0)","v":0},{"$f":"IF(AZ222=2,G222,0)","v":0},{"$f":"IF(AZ222=3,G222,0)","v":0},{"$f":"IF(AZ222=4,G222,0)","v":0},{"$f":"IF(AZ222=5,G222,0)","v":0},null,null,null,null,null,null,null,null,null,null,null,null,null,null,null,null,null,null,null,null,null,1,1]
[null,null,"Volba položky se řídí výškou prstence nebo rámu. V položkách nejsou zakalkulovány náklady na dodávku betonových výrobků;",null,null,null,null,null,null,null,null,"Volba položky se řídí výškou prstence nebo rámu. V položkách nejsou zakalkulovány náklady na dodávku betonových výrobků;",null,null,3]
[null,null,"Stoka \"E1\" PVC DN250 SN12:",null,0,null,null,null,null,null,null,null,"Stoka \"E1\" PVC DN250 SN12:"]
[null,null,"Stoka \"E2\" PVC DN250 SN12:",null,0,null,null,null,null,null,null,null,"Stoka \"E2\" PVC DN250 SN12:"]
[null,null,"Stoka \"E2-1\" PVC DN250 SN12:",null,0,null,null,null,null,null,null,null,"Stoka \"E2-1\" PVC DN250 SN12:"]
[null,null,"Stoka \"E2-2\" PVC DN250 SN12:",null,0,null,null,null,null,null,null,null,"Stoka \"E2-2\" PVC DN250 SN12:"]
[null,null,"VP H6:1",null,1,null,null,null,null,null,null,null,"VP H6:1"]
[null,null,"VP H8:9",null,9,null,null,null,null,null,null,null,"VP H8:9"]
[null,null,"VP H10:20",null,20,null,null,null,null,null,null,null,"VP H10:20"]
[26,"452112121R00","Osazení beton. prstenců pod poklopy,výšky do200 mm ","kus",7,null,{"$f":"E231*F231","v":0},6.6E-3,{"$f":"E231*H231","v":4.6199999999999998E-2},0,{"$f":"E231*J231","v":0},null,null,null,2,null,null,null,null,null,null,null,null,null,null,null,1,1,1,null,null,null,null,null,null,null,null,null,null,null,null,null,null,null,null,null,null,null,null,null,null,1,{"$f":"IF(AZ231=1,G231,0)","v":0},{"$f":"IF(AZ231=2,G231,0)","v":0},{"$f":"IF(AZ231=3,G231,0)","v":0},{"$f":"IF(AZ231=4,G231,0)","v":0},{"$f":"IF(AZ231=5,G231,0)","v":0},null,null,null,null,null,null,null,null,null,null,null,null,null,null,null,null,null,null,null,null,null,1,1]
[null,null,"Stoka \"E1\" PVC DN250 SN12:",null,0,null,null,null,null,null,null,null,"Stoka \"E1\" PVC DN250 SN12:"]
[null,null,"Stoka \"E2\" PVC DN250 SN12:",null,0,null,null,null,null,null,null,null,"Stoka \"E2\" PVC DN250 SN12:"]
[null,null,"Stoka \"E2-1\" PVC DN250 SN12:",null,0,null,null,null,null,null,null,null,"Stoka \"E2-1\" PVC DN250 SN12:"]
[null,null,"Stoka \"E2-2\" PVC DN250 SN12:",null,0,null,null,null,null,null,null,null,"Stoka \"E2-2\" PVC DN250 SN12:"]
[null,null,"VP H12:7",null,7,null,null,null,null,null,null,null,"VP H12:7"]
[27,"59224347.A.R","Prstenec vyrovn šachetní TBW-Q.1 63/6","kus",1.01,null,{"$f":"E237*F237","v":0},0.04,{"$f":"E237*H237","v":4.0399999999999998E-2},null,{"$f":"E237*J237","v":0},null,null,null,2,null,null,null,null,null,null,null,null,null,null,null,3,1,"59224347.A.R",null,null,null,null,null,null,null,null,null,null,null,null,null,null,null,null,null,null,null,null,null,null,1,{"$f":"IF(AZ237=1,G237,0)","v":0},{"$f":"IF(AZ237=2,G237,0)","v":0},{"$f":"IF(AZ237=3,G237,0)","v":0},{"$f":"IF(AZ237=4,G237,0)","v":0},{"$f":"IF(AZ237=5,G237,0)","v":0},null,null,null,null,null,null,null,null,null,null,null,null,null,null,null,null,null,null,null,null,null,3,1]
[null,null,"Stoka \"E1\" PVC DN250 SN12:",null,0,null,null,null,null,null,null,null,"Stoka \"E1\" PVC DN250 SN12:"]
[null,null,"Stoka \"E2\" PVC DN250 SN12:",null,0,null,null,null,null,null,null,null,"Stoka \"E2\" PVC DN250 SN12:"]
[null,null,"Stoka \"E2-1\" PVC DN250 SN12:",null,0,null,null,null,null,null,null,null,"Stoka \"E2-1\" PVC DN250 SN12:"]
[null,null,"Stoka \"E2-2\" PVC DN250 SN12:",null,0,null,null,null,null,null,null,null,"Stoka \"E2-2\" PVC DN250 SN12:"]
[null,null,"VP H6:1*1,01",null,1.01,null,null,null,null,null,null,null,"VP H6:1*1,01"]
[28,"59224348.A.R","Prstenec vyrovn šachetní TBW-Q.1 63/8","kus",9.09,null,{"$f":"E243*F243","v":0},5.3999999999999999E-2,{"$f":"E243*H243","v":0.49085999999999996},null,{"$f":"E243*J243","v":0},null,null,null,2,null,null,null,null,null,null,null,null,null,null,null,3,1,"59224348.A.R",null,null,null,null,null,null,null,null,null,null,null,null,null,null,null,null,null,null,null,null,null,null,1,{"$f":"IF(AZ243=1,G243,0)","v":0},{"$f":"IF(AZ243=2,G243,0)","v":0},{"$f":"IF(AZ243=3,G243,0)","v":0},{"$f":"IF(AZ243=4,G243,0)","v":0},{"$f":"IF(AZ243=5,G243,0)","v":0},null,null,null,null,null,null,null,null,null,null,null,null,null,null,null,null,null,null,null,null,null,3,1]
[null,null,"Stoka \"E1\" PVC DN250 SN12:",null,0,null,null,null,null,null,null,null,"Stoka \"E1\" PVC DN250 SN12:"]
[null,null,"Stoka \"E2\" PVC DN250 SN12:",null,0,null,null,null,null,null,null,null,"Stoka \"E2\" PVC DN250 SN12:"]
[null,null,"Stoka \"E2-1\" PVC DN250 SN12:",null,0,null,null,null,null,null,null,null,"Stoka \"E2-1\" PVC DN250 SN12:"]
[null,null,"Stoka \"E2-2\" PVC DN250 SN12:",null,0,null,null,null,null,null,null,null,"Stoka \"E2-2\" PVC DN250 SN12:"]
[null,null,"VP H8:9*1,01",null,9.09,null,null,null,null,null,null,null,"VP H8:9*1,01"]
[29,"59224349.A.R","Prstenec vyrovn šachetní TBW-Q.1 63/10","kus",20.2,null,{"$f":"E249*F249","v":0},6.8000000000000005E-2,{"$f":"E249*H249","v":1.3736000000000002},null,{"$f":"E249*J249","v":0},null,null,null,2,null,null,null,null,null,null,null,null,null,null,null,3,1,"59224349.A.R",null,null,null,null,null,null,null,null,null,null,null,null,null,null,null,null,null,null,null,null,null,null,1,{"$f":"IF(AZ249=1,G249,0)","v":0},{"$f":"IF(AZ249=2,G249,0)","v":0},{"$f":"IF(AZ249=3,G249,0)","v":0},{"$f":"IF(AZ249=4,G249,0)","v":0},{"$f":"IF(AZ249=5,G249,0)","v":0},null,null,null,null,null,null,null,null,null,null,null,null,null,null,null,null,null,null,null,null,null,3,1]
[null,null,"Stoka \"E1\" PVC DN250 SN12:",null,0,null,null,null,null,null,null,null,"Stoka \"E1\" PVC DN250 SN12:"]
[null,null,"Stoka \"E2\" PVC DN250 SN12:",null,0,null,null,null,null,null,null,null,"Stoka \"E2\" PVC DN250 SN12:"]
[null,null,"Stoka \"E2-1\" PVC DN250 SN12:",null,0,null,null,null,null,null,null,null,"Stoka \"E2-1\" PVC DN250 SN12:"]
[null,null,"Stoka \"E2-2\" PVC DN250 SN12:",null,0,null,null,null,null,null,null,null,"Stoka \"E2-2\" PVC DN250 SN12:"]
[null,null,"VP H10:20*1,01",null,20.2,null,null,null,null,null,null,null,"VP H10:20*1,01"]
[30,"59224350.A.R","Prstenec vyrovn šachetní TBW-Q.1 63/12","kus",7.07,null,{"$f":"E255*F255","v":0},8.1000000000000003E-2,{"$f":"E255*H255","v":0.57267000000000001},null,{"$f":"E255*J255","v":0},null,null,null,2,null,null,null,null,null,null,null,null,null,null,null,3,1,"59224350.A.R",null,null,null,null,null,null,null,null,null,null,null,null,null,null,null,null,null,null,null,null,null,null,1,{"$f":"IF(AZ255=1,G255,0)","v":0},{"$f":"IF(AZ255=2,G255,0)","v":0},{"$f":"IF(AZ255=3,G255,0)","v":0},{"$f":"IF(AZ255=4,G255,0)","v":0},{"$f":"IF(AZ255=5,G255,0)","v":0},null,null,null,null,null,null,null,null,null,null,null,null,null,null,null,null,null,null,null,null,null,3,1]
[null,null,"Stoka \"E1\" PVC DN250 SN12:",null,0,null,null,null,null,null,null,null,"Stoka \"E1\" PVC DN250 SN12:"]
[null,null,"Stoka \"E2\" PVC DN250 SN12:",null,0,null,null,null,null,null,null,null,"Stoka \"E2\" PVC DN250 SN12:"]
[null,null,"Stoka \"E2-1\" PVC DN250 SN12:",null,0,null,null,null,null,null,null,null,"Stoka \"E2-1\" PVC DN250 SN12:"]
[null,null,"Stoka \"E2-2\" PVC DN250 SN12:",null,0,null,null,null,null,null,null,null,"Stoka \"E2-2\" PVC DN250 SN12:"]
[null,null,"VP H12:7*1,01",null,7.07,null,null,null,null,null,null,null,"VP H12:7*1,01"]
[null,"Celkem za","45 Podkladní a vedlejší konstrukce",null,null,null,{"$f":"SUM(G216:G260)","v":0},null,{"$f":"SUM(I216:I260)","v":35.074556500000007},null,{"$f":"SUM(K216:K260)","v":0},null,null,null,4,null,null,null,null,null,null,null,null,null,null,null,null,null,null,null,null,null,null,null,null,null,null,null,null,null,null,null,null,null,null,null,null,null,null,null,null,null,{"$f":"SUM(BA216:BA260)","v":0},{"$f":"SUM(BB216:BB260)","v":0},{"$f":"SUM(BC216:BC260)","v":0},{"$f":"SUM(BD216:BD260)","v":0},{"$f":"SUM(BE216:BE260)","v":0}]
["Díl:","5","Komunikace",null,null,null,null,null,null,null,null,null,null,null,1]
[31,"572701119RRX","Provizorní zásyp rýh kam. hrubě drceným nebo recyk s následným odstraněním a odvozem","m3",174.4,null,{"$f":"E263*F263","v":0},1.4804999999999999,{"$f":"E263*H263","v":258.19920000000002},0,{"$f":"E263*J263","v":0},null,null,null,2,null,null,null,null,null,null,null,null,null,null,null,1,1,1,null,null,null,null,null,null,null,null,null,null,null,null,null,null,null,null,null,null,null,null,null,null,1,{"$f":"IF(AZ263=1,G263,0)","v":0},{"$f":"IF(AZ263=2,G263,0)","v":0},{"$f":"IF(AZ263=3,G263,0)","v":0},{"$f":"IF(AZ263=4,G263,0)","v":0},{"$f":"IF(AZ263=5,G263,0)","v":0},null,null,null,null,null,null,null,null,null,null,null,null,null,null,null,null,null,null,null,null,null,1,1]
[null,null,"Stoka \"E1\" PVC DN250 SN12:116,00*1,00*0,40",null,46.4,null,null,null,null,null,null,null,"Stoka \"E1\" PVC DN250 SN12:116,00*1,00*0,40"]
[null,null,"Stoka \"E2\" PVC DN250 SN12:256,00*1,00*0,40",null,102.4,null,null,null,null,null,null,null,"Stoka \"E2\" PVC DN250 SN12:256,00*1,00*0,40"]
[null,null,"Stoka \"E2-1\" PVC DN250 SN12:(93,00-65,00)*1,00*0,40",null,11.2,null,null,null,null,null,null,null,"Stoka \"E2-1\" PVC DN250 SN12:(93,00-65,00)*1,00*0,40"]
[null,null,"Stoka \"E2-2\" PVC DN250 SN12:36,00*1,00*0,40",null,14.4,null,null,null,null,null,null,null,"Stoka \"E2-2\" PVC DN250 SN12:36,00*1,00*0,40"]
[null,"Celkem za","5 Komunikace",null,null,null,{"$f":"SUM(G262:G267)","v":0},null,{"$f":"SUM(I262:I267)","v":258.19920000000002},null,{"$f":"SUM(K262:K267)","v":0},null,null,null,4,null,null,null,null,null,null,null,null,null,null,null,null,null,null,null,null,null,null,null,null,null,null,null,null,null,null,null,null,null,null,null,null,null,null,null,null,null,{"$f":"SUM(BA262:BA267)","v":0},{"$f":"SUM(BB262:BB267)","v":0},{"$f":"SUM(BC262:BC267)","v":0},{"$f":"SUM(BD262:BD267)","v":0},{"$f":"SUM(BE262:BE267)","v":0}]
["Díl:","8","Trubní vedení",null,null,null,null,null,null,null,null,null,null,null,1]
[32,"871373121R00","Montáž trub z plastu, gumový kroužek, DN 300 ","m",501,null,{"$f":"E270*F270","v":0},1.0000000000000001E-5,{"$f":"E270*H270","v":5.0100000000000006E-3},0,{"$f":"E270*J270","v":0},null,null,null,2,null,null,null,null,null,null,null,null,null,null,null,1,1,1,null,null,null,null,null,null,null,null,null,null,null,null,null,null,null,null,null,null,null,null,null,null,1,{"$f":"IF(AZ270=1,G270,0)","v":0},{"$f":"IF(AZ270=2,G270,0)","v":0},{"$f":"IF(AZ270=3,G270,0)","v":0},{"$f":"IF(AZ270=4,G270,0)","v":0},{"$f":"IF(AZ270=5,G270,0)","v":0},null,null,null,null,null,null,null,null,null,null,null,null,null,null,null,null,null,null,null,null,null,1,1]
[null,null,"Stoka \"E1\" PVC DN250 SN12:116,00",null,116,null,null,null,null,null,null,null,"Stoka \"E1\" PVC DN250 SN12:116,00"]
[null,null,"Stoka \"E2\" PVC DN250 SN12:256,00",null,256,null,null,null,null,null,null,null,"Stoka \"E2\" PVC DN250 SN12:256,00"]
[null,null,"Stoka \"E2-1\" PVC DN250 SN12:93,00",null,93,null,null,null,null,null,null,null,"Stoka \"E2-1\" PVC DN250 SN12:93,00"]
[null,null,"Stoka \"E2-2\" PVC DN250 SN12:36,00",null,36,null,null,null,null,null,null,null,"Stoka \"E2-2\" PVC DN250 SN12:36,00"]
[33,"877363121R00","Montáž tvarovek odboč. plast. gum. kroužek DN 250 ","kus",15,null,{"$f":"E275*F275","v":0},4.0000000000000003E-5,{"$f":"E275*H275","v":6.0000000000000006E-4},0,{"$f":"E275*J275","v":0},null,null,null,2,null,null,null,null,null,null,null,null,null,null,null,1,1,1,null,null,null,null,null,null,null,null,null,null,null,null,null,null,null,null,null,null,null,null,null,null,1,{"$f":"IF(AZ275=1,G275,0)","v":0},{"$f":"IF(AZ275=2,G275,0)","v":0},{"$f":"IF(AZ275=3,G275,0)","v":0},{"$f":"IF(AZ275=4,G275,0)","v":0},{"$f":"IF(AZ275=5,G275,0)","v":0},null,null,null,null,null,null,null,null,null,null,null,null,null,null,null,null,null,null,null,null,null,1,1]
[null,null,"Položka je určena pro montáž tvarovek odbočných na potrubí z kanalizačních trub z plastu těsněných gumovým kroužkem v otevřeném výkopu.",null,null,null,null,null,null,null,null,"Položka je určena pro montáž tvarovek odbočných na potrubí z kanalizačních trub z plastu těsněných gumovým kroužkem v otevřeném výkopu.",null,null,3]
[null,null,"Stoka \"E1\" PVC DN250 SN12:",null,0,null,null,null,null,null,null,null,"Stoka \"E1\" PVC DN250 SN12:"]
[null,null,"Odbočka PVC DN250/150/45°:4",null,4,null,null,null,null,null,null,null,"Odbočka PVC DN250/150/45°:4"]
[null,null,"Začátek provozního součtu",null,0,null,null,null,null,null,null,null,"Začátek provozního součtu"]
[null,null,"Pro čp. 862 :1",null,1,null,null,null,null,null,null,null,"Pro čp. 862 :1"]
[null,null,"Pro čp. 872 do Š:0",null,0,null,null,null,null,null,null,null,"Pro čp. 872 do Š:0"]
[null,null,"Pro čp. 873:1",null,1,null,null,null,null,null,null,null,"Pro čp. 873:1"]
[null,null,"Pro čp. 860 do Š:0",null,0,null,null,null,null,null,null,null,"Pro čp. 860 do Š:0"]
[null,null,"Pro čp. 874:1",null,1,null,null,null,null,null,null,null,"Pro čp. 874:1"]
[null,null,"Pro čp. 859:1",null,1,null,null,null,null,null,null,null,"Pro čp. 859:1"]
[null,null,"Konec provozního součtu",null,4,null,null,null,null,null,null,null,"Konec provozního součtu"]
[null,null,"Stoka \"E2\" PVC DN250 SN12:",null,0,null,null,null,null,null,null,null,"Stoka \"E2\" PVC DN250 SN12:"]
[null,null,"Odbočka PVC DN250/150/45°:8",null,8,null,null,null,null,null,null,null,"Odbočka PVC DN250/150/45°:8"]
[null,null,"Začátek provozního součtu",null,0,null,null,null,null,null,null,null,"Začátek provozního součtu"]
[null,null,"Pro čp. 863:1",null,1,null,null,null,null,null,null,null,"Pro čp. 863:1"]
[null,null,"Pro čp. 871:1",null,1,null,null,null,null,null,null,null,"Pro čp. 871:1"]
[null,null,"Pro čp. 864 do Š:0",null,0,null,null,null,null,null,null,null,"Pro čp. 864 do Š:0"]
[null,null,"Pro čp. 870:1",null,1,null,null,null,null,null,null,null,"Pro čp. 870:1"]
[null,null,"Pro čp. 865:1",null,1,null,null,null,null,null,null,null,"Pro čp. 865:1"]
[null,null,"Pro čp. 869:1",null,1,null,null,null,null,null,null,null,"Pro čp. 869:1"]
[null,null,"Pro čp. 866:1",null,1,null,null,null,null,null,null,null,"Pro čp. 866:1"]
[null,null,"Pro čp. 868:1",null,1,null,null,null,null,null,null,null,"Pro čp. 868:1"]
[null,null,"Pro čp. 867 do Š:0",null,0,null,null,null,null,null,null,null,"Pro čp. 867 do Š:0"]
[null,null,"Pro čp. 899 do Š:0",null,0,null,null,null,null,null,null,null,"Pro čp. 899 do Š:0"]
[null,null,"Pro čp. 898:1",null,1,null,null,null,null,null,null,null,"Pro čp. 898:1"]
[null,null,"Konec provozního součtu",null,8,null,null,null,null,null,null,null,"Konec provozního součtu"]
[null,null,"Stoka \"E2-1\" PVC DN250 SN12:",null,0,null,null,null,null,null,null,null,"Stoka \"E2-1\" PVC DN250 SN12:"]
[null,null,"Odbočka PVC DN250/150/45°:2",null,2,null,null,null,null,null,null,null,"Odbočka PVC DN250/150/45°:2"]
[null,null,"Začátek provozního součtu",null,0,null,null,null,null,null,null,null,"Začátek provozního součtu"]
[null,null,"Pro čp. 894:1",null,1,null,null,null,null,null,null,null,"Pro čp. 894:1"]
[null,null,"Pro čp. 895:1",null,1,null,null,null,null,null,null,null,"Pro čp. 895:1"]
[null,null,"Pro čp. 818 do Š:0",null,0,null,null,null,null,null,null,null,"Pro čp. 818 do Š:0"]
[null,null,"Pro čp. 816 do Š:0",null,0,null,null,null,null,null,null,null,"Pro čp. 816 do Š:0"]
[null,null,"Konec provozního součtu",null,2,null,null,null,null,null,null,null,"Konec provozního součtu"]
[null,null,"Stoka \"E2-2\" PVC DN250 SN12:",null,0,null,null,null,null,null,null,null,"Stoka \"E2-2\" PVC DN250 SN12:"]
[null,null,"Odbočka PVC DN250/150/45°:1",null,1,null,null,null,null,null,null,null,"Odbočka PVC DN250/150/45°:1"]
[null,null,"Začátek provozního součtu",null,0,null,null,null,null,null,null,null,"Začátek provozního součtu"]
[null,null,"Pro čp. 896:1",null,1,null,null,null,null,null,null,null,"Pro čp. 896:1"]
[null,null,"Konec provozního součtu",null,1,null,null,null,null,null,null,null,"Konec provozního součtu"]
[34,"892601154R00","Čištění kanalizační stoky do DN 500, nad 100 m ","m",501,null,{"$f":"E315*F315","v":0},0,{"$f":"E315*H315","v":0},0,{"$f":"E315*J315","v":0},null,null,null,2,null,null,null,null,null,null,null,null,null,null,null,1,0,0,null,null,null,null,null,null,null,null,null,null,null,null,null,null,null,null,null,null,null,null,null,null,1,{"$f":"IF(AZ315=1,G315,0)","v":0},{"$f":"IF(AZ315=2,G315,0)","v":0},{"$f":"IF(AZ315=3,G315,0)","v":0},{"$f":"IF(AZ315=4,G315,0)","v":0},{"$f":"IF(AZ315=5,G315,0)","v":0},null,null,null,null,null,null,null,null,null,null,null,null,null,null,null,null,null,null,null,null,null,1,0]
[null,null,"V položce je zakalkulováno:",null,null,null,null,null,null,null,null,"V položce je zakalkulováno:",null,null,3]
[null,null,"a) otevření a uzavření revizních šachet a čisticích kusů",null,null,null,null,null,null,null,null,"a) otevření a uzavření revizních šachet a čisticích kusů",null,null,3]
[null,null,"b) natažení vysokotlakých hadic k místu odkud se bude kanalizace čistit",null,null,null,null,null,null,null,null,"b) natažení vysokotlakých hadic k místu odkud se bude kanalizace čistit",null,null,3]
[null,null,"c) vyčištění potrubí tlakovou vodou nebo motorovým pérem.",null,null,null,null,null,null,null,null,"c) vyčištění potrubí tlakovou vodou nebo motorovým pérem.",null,null,3]
[null,null,"Stoka \"E1\" PVC DN250 SN12:116,00",null,116,null,null,null,null,null,null,null,"Stoka \"E1\" PVC DN250 SN12:116,00"]
[null,null,"Stoka \"E2\" PVC DN250 SN12:256,00",null,256,null,null,null,null,null,null,null,"Stoka \"E2\" PVC DN250 SN12:256,00"]
[null,null,"Stoka \"E2-1\" PVC DN250 SN12:93,00",null,93,null,null,null,null,null,null,null,"Stoka \"E2-1\" PVC DN250 SN12:93,00"]
[null,null,"Stoka \"E2-2\" PVC DN250 SN12:36,00",null,36,null,null,null,null,null,null,null,"Stoka \"E2-2\" PVC DN250 SN12:36,00"]
[35,"892855115R00","Kontrola kanalizace TV kamerou do 500 m ","m",501,null,{"$f":"E324*F324","v":0},0,{"$f":"E324*H324","v":0},0,{"$f":"E324*J324","v":0},null,null,null,2,null,null,null,null,null,null,null,null,null,null,null,1,1,1,null,null,null,null,null,null,null,null,null,null,null,null,null,null,null,null,null,null,null,null,null,null,1,{"$f":"IF(AZ324=1,G324,0)","v":0},{"$f":"IF(AZ324=2,G324,0)","v":0},{"$f":"IF(AZ324=3,G324,0)","v":0},{"$f":"IF(AZ324=4,G324,0)","v":0},{"$f":"IF(AZ324=5,G324,0)","v":0},null,null,null,null,null,null,null,null,null,null,null,null,null,null,null,null,null,null,null,null,null,1,1]
[null,null,"Provedení kaberové prohlídky včetně dodání elektronického záznamu na CD zadavateli a tištěné dokumentace průběhu kamerové prohlídky",null,null,null,null,null,null,null,null,"Provedení kaberové prohlídky včetně dodání elektronického záznamu na CD zadavateli a tištěné dokumentace průběhu kamerové prohlídky",null,null,3]
[null,null,"Stoka \"E1\" PVC DN250 SN12:116,00",null,116,null,null,null,null,null,null,null,"Stoka \"E1\" PVC DN250 SN12:116,00"]
[null,null,"Stoka \"E2\" PVC DN250 SN12:256,00",null,256,null,null,null,null,null,null,null,"Stoka \"E2\" PVC DN250 SN12:256,00"]
[null,null,"Stoka \"E2-1\" PVC DN250 SN12:93,00",null,93,null,null,null,null,null,null,null,"Stoka \"E2-1\" PVC DN250 SN12:93,00"]
[null,null,"Stoka \"E2-2\" PVC DN250 SN12:36,00",null,36,null,null,null,null,null,null,null,"Stoka \"E2-2\" PVC DN250 SN12:36,00"]
[36,"894421111RT1","Osazení betonových dílců šachet skruže rovné, na kroužek, do 0,5 t","kus",21,null,{"$f":"E330*F330","v":0},0,{"$f":"E330*H330","v":0},0,{"$f":"E330*J330","v":0},null,null,null,2,null,null,null,null,null,null,null,null,null,null,null,1,1,1,null,null,null,null,null,null,null,null,null,null,null,null,null,null,null,null,null,null,null,null,null,null,1,{"$f":"IF(AZ330=1,G330,0)","v":0},{"$f":"IF(AZ330=2,G330,0)","v":0},{"$f":"IF(AZ330=3,G330,0)","v":0},{"$f":"IF(AZ330=4,G330,0)","v":0},{"$f":"IF(AZ330=5,G330,0)","v":0},null,null,null,null,null,null,null,null,null,null,null,null,null,null,null,null,null,null,null,null,null,1,1]
[null,null,"Položka je určena pro osazení betonových dílců šachet dle DIN 4034, skruže rovné na kroužek, hmotnost do 0,5 t.",null,null,null,null,null,null,null,null,"Položka je určena pro osazení betonových dílců šachet dle DIN 4034, skruže rovné na kroužek, hmotnost do 0,5 t.",null,null,3]
[null,null,"V položce nejsou zakalkulovány náklady na dodání betonových dílců; dílce se oceňují ve specifikaci.",null,null,null,null,null,null,null,null,"V položce nejsou zakalkulovány náklady na dodání betonových dílců; dílce se oceňují ve specifikaci.",null,null,3]
[null,null,"Stoka \"E1\" PVC DN250 SN12:",null,0,null,null,null,null,null,null,null,"Stoka \"E1\" PVC DN250 SN12:"]
[null,null,"Stoka \"E2\" PVC DN250 SN12:",null,0,null,null,null,null,null,null,null,"Stoka \"E2\" PVC DN250 SN12:"]
[null,null,"Stoka \"E2-1\" PVC DN250 SN12:",null,0,null,null,null,null,null,null,null,"Stoka \"E2-1\" PVC DN250 SN12:"]
[null,null,"Stoka \"E2-2\" PVC DN250 SN12:",null,0,null,null,null,null,null,null,null,"Stoka \"E2-2\" PVC DN250 SN12:"]
[null,null,"Skruž H25:10",null,10,null,null,null,null,null,null,null,"Skruž H25:10"]
[null,null,"Skruž H50:11",null,11,null,null,null,null,null,null,null,"Skruž H50:11"]
[37,"894421112RT1","Osazení betonových dílců šachet skruže rovné, na kroužek, do 1,4 t","kus",8,null,{"$f":"E339*F339","v":0},0,{"$f":"E339*H339","v":0},0,{"$f":"E339*J339","v":0},null,null,null,2,null,null,null,null,null,null,null,null,null,null,null,1,1,1,null,null,null,null,null,null,null,null,null,null,null,null,null,null,null,null,null,null,null,null,null,null,1,{"$f":"IF(AZ339=1,G339,0)","v":0},{"$f":"IF(AZ339=2,G339,0)","v":0},{"$f":"IF(AZ339=3,G339,0)","v":0},{"$f":"IF(AZ339=4,G339,0)","v":0},{"$f":"IF(AZ339=5,G339,0)","v":0},null,null,null,null,null,null,null,null,null,null,null,null,null,null,null,null,null,null,null,null,null,1,1]
[null,null,"Položka je určena pro osazení betonových dílců šachet dle DIN 4034, skruže rovné na kroužek, hmotnost přes 0,5 do 1,4 t.",null,null,null,null,null,null,null,null,"Položka je určena pro osazení betonových dílců šachet dle DIN 4034, skruže rovné na kroužek, hmotnost přes 0,5 do 1,4 t.",null,null,3]
[null,null,"V položce nejsou zakalkulovány náklady na dodání betonových dílců; dílce se oceňují ve specifikaci.",null,null,null,null,null,null,null,null,"V položce nejsou zakalkulovány náklady na dodání betonových dílců; dílce se oceňují ve specifikaci.",null,null,3]
[null,null,"Stoka \"E1\" PVC DN250 SN12:",null,0,null,null,null,null,null,null,null,"Stoka \"E1\" PVC DN250 SN12:"]
[null,null,"Stoka \"E2\" PVC DN250 SN12:",null,0,null,null,null,null,null,null,null,"Stoka \"E2\" PVC DN250 SN12:"]
[null,null,"Stoka \"E2-1\" PVC DN250 SN12:",null,0,null,null,null,null,null,null,null,"Stoka \"E2-1\" PVC DN250 SN12:"]
[null,null,"Stoka \"E2-2\" PVC DN250 SN12:",null,0,null,null,null,null,null,null,null,"Stoka \"E2-2\" PVC DN250 SN12:"]
[null,null,"Skruž H100:8",null,8,null,null,null,null,null,null,null,"Skruž H100:8"]
[38,"894422111RT1","Osazení betonových dílců šachet skruže přechodové, na kroužek","kus",16,null,{"$f":"E347*F347","v":0},0,{"$f":"E347*H347","v":0},0,{"$f":"E347*J347","v":0},null,null,null,2,null,null,null,null,null,null,null,null,null,null,null,1,1,1,null,null,null,null,null,null,null,null,null,null,null,null,null,null,null,null,null,null,null,null,null,null,1,{"$f":"IF(AZ347=1,G347,0)","v":0},{"$f":"IF(AZ347=2,G347,0)","v":0},{"$f":"IF(AZ347=3,G347,0)","v":0},{"$f":"IF(AZ347=4,G347,0)","v":0},{"$f":"IF(AZ347=5,G347,0)","v":0},null,null,null,null,null,null,null,null,null,null,null,null,null,null,null,null,null,null,null,null,null,1,1]
[null,null,"Položka je určena pro osazení betonových dílců šachet dle DIN 4034, skruže přechodové, zákrytové, kónusy,... na kroužek.",null,null,null,null,null,null,null,null,"Položka je určena pro osazení betonových dílců šachet dle DIN 4034, skruže přechodové, zákrytové, kónusy,... na kroužek.",null,null,3]
[null,null,"Stoka \"E1\" PVC DN250 SN12:",null,0,null,null,null,null,null,null,null,"Stoka \"E1\" PVC DN250 SN12:"]
[null,null,"Stoka \"E2\" PVC DN250 SN12:",null,0,null,null,null,null,null,null,null,"Stoka \"E2\" PVC DN250 SN12:"]
[null,null,"Stoka \"E2-1\" PVC DN250 SN12:",null,0,null,null,null,null,null,null,null,"Stoka \"E2-1\" PVC DN250 SN12:"]
[null,null,"Stoka \"E2-2\" PVC DN250 SN12:",null,0,null,null,null,null,null,null,null,"Stoka \"E2-2\" PVC DN250 SN12:"]
[null,null,"Kónus H60:16",null,16,null,null,null,null,null,null,null,"Kónus H60:16"]
[39,"894423111RT1","Osazení betonových dílců šachet do 2,0 t šachtová dna, na kroužek, do 2,0 t","kus",15,null,{"$f":"E354*F354","v":0},0,{"$f":"E354*H354","v":0},0,{"$f":"E354*J354","v":0},null,null,null,2,null,null,null,null,null,null,null,null,null,null,null,1,1,1,null,null,null,null,null,null,null,null,null,null,null,null,null,null,null,null,null,null,null,null,null,null,1,{"$f":"IF(AZ354=1,G354,0)","v":0},{"$f":"IF(AZ354=2,G354,0)","v":0},{"$f":"IF(AZ354=3,G354,0)","v":0},{"$f":"IF(AZ354=4,G354,0)","v":0},{"$f":"IF(AZ354=5,G354,0)","v":0},null,null,null,null,null,null,null,null,null,null,null,null,null,null,null,null,null,null,null,null,null,1,1]
[null,null,"Položka je určena pro osazení betonových dílců šachet dle DIN 4034, šachtová dna na kroužek, hmotnost do 2,0 t.",null,null,null,null,null,null,null,null,"Položka je určena pro osazení betonových dílců šachet dle DIN 4034, šachtová dna na kroužek, hmotnost do 2,0 t.",null,null,3]
[null,null,"V položce nejsou zakalkulovány náklady na dodání betonových dílců;",null,null,null,null,null,null,null,null,"V položce nejsou zakalkulovány náklady na dodání betonových dílců;",null,null,3]
[null,null,"Součástí položky je i podbetonování šachtového dna betonem C12/15 v min. tl. 10 cm.",null,null,null,null,null,null,null,null,"Součástí položky je i podbetonování šachtového dna betonem C12/15 v min. tl. 10 cm.",null,null,3]
[null,null,"Stoka \"E1\" PVC DN250 SN12:",null,0,null,null,null,null,null,null,null,"Stoka \"E1\" PVC DN250 SN12:"]
[null,null,"Stoka \"E2\" PVC DN250 SN12:",null,0,null,null,null,null,null,null,null,"Stoka \"E2\" PVC DN250 SN12:"]
[null,null,"Stoka \"E2-1\" PVC DN250 SN12:",null,0,null,null,null,null,null,null,null,"Stoka \"E2-1\" PVC DN250 SN12:"]
[null,null,"Stoka \"E2-2\" PVC DN250 SN12:",null,0,null,null,null,null,null,null,null,"Stoka \"E2-2\" PVC DN250 SN12:"]
[null,null,"ŠD 100/60:15",null,15,null,null,null,null,null,null,null,"ŠD 100/60:15"]
[40,"894423112RT1","Osazení betonových dílců šachet do 3,0 t šachtová dna, na kroužek, do 3,0 t","kus",1,null,{"$f":"E363*F363","v":0},0,{"$f":"E363*H363","v":0},0,{"$f":"E363*J363","v":0},null,null,null,2,null,null,null,null,null,null,null,null,null,null,null,1,1,1,null,null,null,null,null,null,null,null,null,null,null,null,null,null,null,null,null,null,null,null,null,null,1,{"$f":"IF(AZ363=1,G363,0)","v":0},{"$f":"IF(AZ363=2,G363,0)","v":0},{"$f":"IF(AZ363=3,G363,0)","v":0},{"$f":"IF(AZ363=4,G363,0)","v":0},{"$f":"IF(AZ363=5,G363,0)","v":0},null,null,null,null,null,null,null,null,null,null,null,null,null,null,null,null,null,null,null,null,null,1,1]
[null,null,"Položka je určena pro osazení betonových dílců šachet dle DIN 4034, šachtová dna na kroužek, hmotnost do 2,0 t.",null,null,null,null,null,null,null,null,"Položka je určena pro osazení betonových dílců šachet dle DIN 4034, šachtová dna na kroužek, hmotnost do 2,0 t.",null,null,3]
[null,null,"V položce nejsou zakalkulovány náklady na dodání betonových dílců;",null,null,null,null,null,null,null,null,"V položce nejsou zakalkulovány náklady na dodání betonových dílců;",null,null,3]
[null,null,"Součástí položky je i podbetonování šachtového dna betonem C12/15 v min. tl. 10 cm.",null,null,null,null,null,null,null,null,"Součástí položky je i podbetonování šachtového dna betonem C12/15 v min. tl. 10 cm.",null,null,3]
[null,null,"Stoka \"E1\" PVC DN250 SN12:",null,0,null,null,null,null,null,null,null,"Stoka \"E1\" PVC DN250 SN12:"]
[null,null,"Stoka \"E2\" PVC DN250 SN12:",null,0,null,null,null,null,null,null,null,"Stoka \"E2\" PVC DN250 SN12:"]
[null,null,"Stoka \"E2-1\" PVC DN250 SN12:",null,0,null,null,null,null,null,null,null,"Stoka \"E2-1\" PVC DN250 SN12:"]
[null,null,"Stoka \"E2-2\" PVC DN250 SN12:",null,0,null,null,null,null,null,null,null,"Stoka \"E2-2\" PVC DN250 SN12:"]
[null,null,"ŠD 100/100:1",null,1,null,null,null,null,null,null,null,"ŠD 100/100:1"]
[41,"899102111R00","Osazení poklopu s rámem do 100 kg ","kus",16,null,{"$f":"E372*F372","v":0},7.0200000000000002E-3,{"$f":"E372*H372","v":0.11232},0,{"$f":"E372*J372","v":0},null,null,null,2,null,null,null,null,null,null,null,null,null,null,null,1,1,1,null,null,null,null,null,null,null,null,null,null,null,null,null,null,null,null,null,null,null,null,null,null,1,{"$f":"IF(AZ372=1,G372,0)","v":0},{"$f":"IF(AZ372=2,G372,0)","v":0},{"$f":"IF(AZ372=3,G372,0)","v":0},{"$f":"IF(AZ372=4,G372,0)","v":0},{"$f":"IF(AZ372=5,G372,0)","v":0},null,null,null,null,null,null,null,null,null,null,null,null,null,null,null,null,null,null,null,null,null,1,1]
[null,null,"Osazení provizorních poklopů během realizace stavby  (nefakturovaný materiál zhotovitele)",null,null,null,null,null,null,null,null,"Osazení provizorních poklopů během realizace stavby  (nefakturovaný materiál zhotovitele)",null,null,3]
[null,null,"Stoka \"E1\" PVC DN250 SN12:",null,0,null,null,null,null,null,null,null,"Stoka \"E1\" PVC DN250 SN12:"]
[null,null,"Stoka \"E2\" PVC DN250 SN12:",null,0,null,null,null,null,null,null,null,"Stoka \"E2\" PVC DN250 SN12:"]
[null,null,"Stoka \"E2-1\" PVC DN250 SN12:",null,0,null,null,null,null,null,null,null,"Stoka \"E2-1\" PVC DN250 SN12:"]
[null,null,"Stoka \"E2-2\" PVC DN250 SN12:",null,0,null,null,null,null,null,null,null,"Stoka \"E2-2\" PVC DN250 SN12:"]
[null,null,"Poklop dle PD:16",null,16,null,null,null,null,null,null,null,"Poklop dle PD:16"]
[42,"899711122R00","Fólie výstražná z PVC šedá, šířka 30 cm ","m",501,null,{"$f":"E379*F379","v":0},0,{"$f":"E379*H379","v":0},0,{"$f":"E379*J379","v":0},null,null,null,2,null,null,null,null,null,null,null,null,null,null,null,1,1,1,null,null,null,null,null,null,null,null,null,null,null,null,null,null,null,null,null,null,null,null,null,null,1,{"$f":"IF(AZ379=1,G379,0)","v":0},{"$f":"IF(AZ379=2,G379,0)","v":0},{"$f":"IF(AZ379=3,G379,0)","v":0},{"$f":"IF(AZ379=4,G379,0)","v":0},{"$f":"IF(AZ379=5,G379,0)","v":0},null,null,null,null,null,null,null,null,null,null,null,null,null,null,null,null,null,null,null,null,null,1,1]
[null,null,"Stoka \"E1\" PVC DN250 SN12:116,00",null,116,null,null,null,null,null,null,null,"Stoka \"E1\" PVC DN250 SN12:116,00"]
[null,null,"Stoka \"E2\" PVC DN250 SN12:256,00",null,256,null,null,null,null,null,null,null,"Stoka \"E2\" PVC DN250 SN12:256,00"]
[null,null,"Stoka \"E2-1\" PVC DN250 SN12:93,00",null,93,null,null,null,null,null,null,null,"Stoka \"E2-1\" PVC DN250 SN12:93,00"]
[null,null,"Stoka \"E2-2\" PVC DN250 SN12:36,00",null,36,null,null,null,null,null,null,null,"Stoka \"E2-2\" PVC DN250 SN12:36,00"]
[43,"899 45-5001.RRX","Napojení stávající stoky BTDN600 do nové šachty Š5 včetně úpravy napojovaného potrubí dle PD","kpl",1,null,{"$f":"E384*F384","v":0},2.6,{"$f":"E384*H384","v":2.6},null,{"$f":"E384*J384","v":0},null,null,null,2,null,null,null,null,null,null,null,null,null,null,null,12,0,45,null,null,null,null,null,null,null,null,null,null,null,null,null,null,null,null,null,null,null,null,null,null,1,{"$f":"IF(AZ384=1,G384,0)","v":0},{"$f":"IF(AZ384=2,G384,0)","v":0},{"$f":"IF(AZ384=3,G384,0)","v":0},{"$f":"IF(AZ384=4,G384,0)","v":0},{"$f":"IF(AZ384=5,G384,0)","v":0},null,null,null,null,null,null,null,null,null,null,null,null,null,null,null,null,null,null,null,null,null,12,0]
[null,null,"Potrubí BE DN600 od čp. 875",null,null,null,null,null,null,null,null,"Potrubí BE DN600 od čp. 875",null,null,3]
[44,"899 45-5003.RRX","Napojení nové stoky PVCDN250 do st.šachty Šst včetně úpravy kynety stáv. šachty","kpl",1,null,{"$f":"E386*F386","v":0},1.8,{"$f":"E386*H386","v":1.8},null,{"$f":"E386*J386","v":0},null,null,null,2,null,null,null,null,null,null,null,null,null,null,null,12,0,46,null,null,null,null,null,null,null,null,null,null,null,null,null,null,null,null,null,null,null,null,null,null,1,{"$f":"IF(AZ386=1,G386,0)","v":0},{"$f":"IF(AZ386=2,G386,0)","v":0},{"$f":"IF(AZ386=3,G386,0)","v":0},{"$f":"IF(AZ386=4,G386,0)","v":0},{"$f":"IF(AZ386=5,G386,0)","v":0},null,null,null,null,null,null,null,null,null,null,null,null,null,null,null,null,null,null,null,null,null,12,0]
[null,null,"Stávající šachta pro stoku \"E1\"",null,null,null,null,null,null,null,null,"Stávající šachta pro stoku \"E1\"",null,null,3]
[45,"286111923.A.R","Trubka kanalizační PVC QUANTUM SN 12 DN 250","kus",516.03,null,{"$f":"E388*F388","v":0},8.2000000000000007E-3,{"$f":"E388*H388","v":4.231446},null,{"$f":"E388*J388","v":0},null,null,null,2,null,null,null,null,null,null,null,null,null,null,null,3,1,"286111923.A.R",null,null,null,null,null,null,null,null,null,null,null,null,null,null,null,null,null,null,null,null,null,null,1,{"$f":"IF(AZ388=1,G388,0)","v":0},{"$f":"IF(AZ388=2,G388,0)","v":0},{"$f":"IF(AZ388=3,G388,0)","v":0},{"$f":"IF(AZ388=4,G388,0)","v":0},{"$f":"IF(AZ388=5,G388,0)","v":0},null,null,null,null,null,null,null,null,null,null,null,null,null,null,null,null,null,null,null,null,null,3,1]
[null,null,"Jedná  se  o  plnostěnné kanalizační trubky DN 150 – DN 400, SN 12 kN/m2 , zvenčí  i  zevnitř  hladké. Jsou  opatřeny hrdlem,  v  němž  je  vložen vysoce  elastický  jazýčkový  kroužek.  konce  trubek  (dříků)  jsou opatřeny  zkosením  pod  úhlem  15°.  Způsob  použití  trubek  je  „U“  dle  normy  ČSN  EN  1401-1, tj. mimo budovy. Spolehlivá  funkce  těsnění  je  jištěna  výztužným  kroužkem  z  elastomeru.  Je  tak  zamezeno  vypad-nutí nebo vytlačení kroužku při manipulaci a montáži. Tento systém zaručuje při správné montáži ",null,null,null,null,null,null,null,null,"Jedná  se  o  plnostěnné kanalizační trubky DN 150 – DN 400, SN 12 kN/m2 , zvenčí  i  zevnitř  hladké. Jsou  opatřeny hrdlem,  v  němž  je  vložen vysoce  elastický  jazýčkový  kroužek.  konce  trubek  (dříků)  jsou opatřeny  zkosením  pod  úhlem  15°.  Způsob  použití  trubek  je  „U“  dle  normy  ČSN  EN  1401-1, tj. mimo budovy. Spolehlivá  funkce  těsnění  je  jištěna  výztužným  kroužkem  z  elastomeru.  Je  tak  zamezeno  vypad-nutí nebo vytlačení kroužku při manipulaci a montáži. Tento systém zaručuje při správné montáži ",null,null,3]
[null,null,"dokonalou  těsnost  do  výšky  vodního  sloupce  5  metrů.",null,null,null,null,null,null,null,null,"dokonalou  těsnost  do  výšky  vodního  sloupce  5  metrů.",null,null,3]
[null,null,"Stoka \"E1\" PVC DN250 SN12:116,00*1,03",null,119.48,null,null,null,null,null,null,null,"Stoka \"E1\" PVC DN250 SN12:116,00*1,03"]
[null,null,"Stoka \"E2\" PVC DN250 SN12:256,00*1,03",null,263.68,null,null,null,null,null,null,null,"Stoka \"E2\" PVC DN250 SN12:256,00*1,03"]
[null,null,"Stoka \"E2-1\" PVC DN250 SN12:93,00*1,03",null,95.79,null,null,null,null,null,null,null,"Stoka \"E2-1\" PVC DN250 SN12:93,00*1,03"]
[null,null,"Stoka \"E2-2\" PVC DN250 SN12:36,00*1,03",null,37.08,null,null,null,null,null,null,null,"Stoka \"E2-2\" PVC DN250 SN12:36,00*1,03"]
[46,"286506121.R","Odbočka kanaliz. PVC QUANTUM SDR 34 DN 250/150/45°","kus",15.225,null,{"$f":"E395*F395","v":0},3.6700000000000001E-3,{"$f":"E395*H395","v":5.5875750000000002E-2},null,{"$f":"E395*J395","v":0},null,null,null,2,null,null,null,null,null,null,null,null,null,null,null,3,1,"286506121.R",null,null,null,null,null,null,null,null,null,null,null,null,null,null,null,null,null,null,null,null,null,null,1,{"$f":"IF(AZ395=1,G395,0)","v":0},{"$f":"IF(AZ395=2,G395,0)","v":0},{"$f":"IF(AZ395=3,G395,0)","v":0},{"$f":"IF(AZ395=4,G395,0)","v":0},{"$f":"IF(AZ395=5,G395,0)","v":0},null,null,null,null,null,null,null,null,null,null,null,null,null,null,null,null,null,null,null,null,null,3,1]
[null,null,"Tvarovky kanalizačního systému PVC QUANTUM SDR 34",null,null,null,null,null,null,null,null,"Tvarovky kanalizačního systému PVC QUANTUM SDR 34",null,null,3]
[null,null,"Teplota při pokládce: min. -10 °C, max. 50 °C",null,null,null,null,null,null,null,null,"Teplota při pokládce: min. -10 °C, max. 50 °C",null,null,3]
[null,null,"Max. teplota média: trvale do 40 °C, krátkodobě do 60 °C",null,null,null,null,null,null,null,null,"Max. teplota média: trvale do 40 °C, krátkodobě do 60 °C",null,null,3]
[null,null,"Orientační výška krytí: min. 0,5 m, max. 10 m",null,null,null,null,null,null,null,null,"Orientační výška krytí: min. 0,5 m, max. 10 m",null,null,3]
[null,null,"Max. rychlost média: 12 m/s",null,null,null,null,null,null,null,null,"Max. rychlost média: 12 m/s",null,null,3]
[null,null,"Stoka \"E1\" PVC DN250 SN12:",null,0,null,null,null,null,null,null,null,"Stoka \"E1\" PVC DN250 SN12:"]
[null,null,"Odbočka PVC DN250/150/45°:4*1,015",null,4.0599999999999996,null,null,null,null,null,null,null,"Odbočka PVC DN250/150/45°:4*1,015"]
[null,null,"Stoka \"E2\" PVC DN250 SN12:",null,0,null,null,null,null,null,null,null,"Stoka \"E2\" PVC DN250 SN12:"]
[null,null,"Odbočka PVC DN250/150/45°:8*1,015",null,8.1199999999999992,null,null,null,null,null,null,null,"Odbočka PVC DN250/150/45°:8*1,015"]
[null,null,"Stoka \"E2-1\" PVC DN250 SN12:",null,0,null,null,null,null,null,null,null,"Stoka \"E2-1\" PVC DN250 SN12:"]
[null,null,"Odbočka PVC DN250/150/45°:2*1,015",null,2.0299999999999998,null,null,null,null,null,null,null,"Odbočka PVC DN250/150/45°:2*1,015"]
[null,null,"Stoka \"E2-2\" PVC DN250 SN12:",null,0,null,null,null,null,null,null,null,"Stoka \"E2-2\" PVC DN250 SN12:"]
[null,null,"Odbočka PVC DN250/150/45°:1*1,015",null,1.0149999999999999,null,null,null,null,null,null,null,"Odbočka PVC DN250/150/45°:1*1,015"]
[47,"592243543.R","Kónus šachetní TBR-Q.1 100x63/58/12 KPS","kus",16.16,null,{"$f":"E409*F409","v":0},0.58499999999999996,{"$f":"E409*H409","v":9.4535999999999998},null,{"$f":"E409*J409","v":0},null,null,null,2,null,null,null,null,null,null,null,null,null,null,null,3,1,"592243543.R",null,null,null,null,null,null,null,null,null,null,null,null,null,null,null,null,null,null,null,null,null,null,1,{"$f":"IF(AZ409=1,G409,0)","v":0},{"$f":"IF(AZ409=2,G409,0)","v":0},{"$f":"IF(AZ409=3,G409,0)","v":0},{"$f":"IF(AZ409=4,G409,0)","v":0},{"$f":"IF(AZ409=5,G409,0)","v":0},null,null,null,null,null,null,null,null,null,null,null,null,null,null,null,null,null,null,null,null,null,3,1]
[null,null,"Stoka \"E1\" PVC DN250 SN12:",null,0,null,null,null,null,null,null,null,"Stoka \"E1\" PVC DN250 SN12:"]
[null,null,"Stoka \"E2\" PVC DN250 SN12:",null,0,null,null,null,null,null,null,null,"Stoka \"E2\" PVC DN250 SN12:"]
[null,null,"Stoka \"E2-1\" PVC DN250 SN12:",null,0,null,null,null,null,null,null,null,"Stoka \"E2-1\" PVC DN250 SN12:"]
[null,null,"Stoka \"E2-2\" PVC DN250 SN12:",null,0,null,null,null,null,null,null,null,"Stoka \"E2-2\" PVC DN250 SN12:"]
[null,null,"Kónus H60:16*1,01",null,16.16,null,null,null,null,null,null,null,"Kónus H60:16*1,01"]
[48,"59224358.A.R","Skruž šachetní TBS-Q.1 100/25/12 PS","kus",10.1,null,{"$f":"E415*F415","v":0},0.25,{"$f":"E415*H415","v":2.5249999999999999},null,{"$f":"E415*J415","v":0},null,null,null,2,null,null,null,null,null,null,null,null,null,null,null,3,1,"59224358.A.R",null,null,null,null,null,null,null,null,null,null,null,null,null,null,null,null,null,null,null,null,null,null,1,{"$f":"IF(AZ415=1,G415,0)","v":0},{"$f":"IF(AZ415=2,G415,0)","v":0},{"$f":"IF(AZ415=3,G415,0)","v":0},{"$f":"IF(AZ415=4,G415,0)","v":0},{"$f":"IF(AZ415=5,G415,0)","v":0},null,null,null,null,null,null,null,null,null,null,null,null,null,null,null,null,null,null,null,null,null,3,1]
[null,null,"Stoka \"E1\" PVC DN250 SN12:",null,0,null,null,null,null,null,null,null,"Stoka \"E1\" PVC DN250 SN12:"]
[null,null,"Stoka \"E2\" PVC DN250 SN12:",null,0,null,null,null,null,null,null,null,"Stoka \"E2\" PVC DN250 SN12:"]
[null,null,"Stoka \"E2-1\" PVC DN250 SN12:",null,0,null,null,null,null,null,null,null,"Stoka \"E2-1\" PVC DN250 SN12:"]
[null,null,"Stoka \"E2-2\" PVC DN250 SN12:",null,0,null,null,null,null,null,null,null,"Stoka \"E2-2\" PVC DN250 SN12:"]
[null,null,"Skruž H25:10*1,01",null,10.1,null,null,null,null,null,null,null,"Skruž H25:10*1,01"]
[49,"59224361.A.R","Skruž šachetní TBS-Q.1 100/50/12 PS","kus",11.11,null,{"$f":"E421*F421","v":0},0.5,{"$f":"E421*H421","v":5.5549999999999997},null,{"$f":"E421*J421","v":0},null,null,null,2,null,null,null,null,null,null,null,null,null,null,null,3,1,"59224361.A.R",null,null,null,null,null,null,null,null,null,null,null,null,null,null,null,null,null,null,null,null,null,null,1,{"$f":"IF(AZ421=1,G421,0)","v":0},{"$f":"IF(AZ421=2,G421,0)","v":0},{"$f":"IF(AZ421=3,G421,0)","v":0},{"$f":"IF(AZ421=4,G421,0)","v":0},{"$f":"IF(AZ421=5,G421,0)","v":0},null,null,null,null,null,null,null,null,null,null,null,null,null,null,null,null,null,null,null,null,null,3,1]
[null,null,"Stoka \"E1\" PVC DN250 SN12:",null,0,null,null,null,null,null,null,null,"Stoka \"E1\" PVC DN250 SN12:"]
[null,null,"Stoka \"E2\" PVC DN250 SN12:",null,0,null,null,null,null,null,null,null,"Stoka \"E2\" PVC DN250 SN12:"]
[null,null,"Stoka \"E2-1\" PVC DN250 SN12:",null,0,null,null,null,null,null,null,null,"Stoka \"E2-1\" PVC DN250 SN12:"]
[null,null,"Stoka \"E2-2\" PVC DN250 SN12:",null,0,null,null,null,null,null,null,null,"Stoka \"E2-2\" PVC DN250 SN12:"]
[null,null,"Skruž H50:11*1,01",null,11.11,null,null,null,null,null,null,null,"Skruž H50:11*1,01"]
[50,"59224364.A.R","Skruž šachetní TBS-Q.1 100/100/12 PS","kus",8.08,null,{"$f":"E427*F427","v":0},1,{"$f":"E427*H427","v":8.08},null,{"$f":"E427*J427","v":0},null,null,null,2,null,null,null,null,null,null,null,null,null,null,null,3,1,"59224364.A.R",null,null,null,null,null,null,null,null,null,null,null,null,null,null,null,null,null,null,null,null,null,null,1,{"$f":"IF(AZ427=1,G427,0)","v":0},{"$f":"IF(AZ427=2,G427,0)","v":0},{"$f":"IF(AZ427=3,G427,0)","v":0},{"$f":"IF(AZ427=4,G427,0)","v":0},{"$f":"IF(AZ427=5,G427,0)","v":0},null,null,null,null,null,null,null,null,null,null,null,null,null,null,null,null,null,null,null,null,null,3,1]
[null,null,"Stoka \"E1\" PVC DN250 SN12:",null,0,null,null,null,null,null,null,null,"Stoka \"E1\" PVC DN250 SN12:"]
[null,null,"Stoka \"E2\" PVC DN250 SN12:",null,0,null,null,null,null,null,null,null,"Stoka \"E2\" PVC DN250 SN12:"]
[null,null,"Stoka \"E2-1\" PVC DN250 SN12:",null,0,null,null,null,null,null,null,null,"Stoka \"E2-1\" PVC DN250 SN12:"]
[null,null,"Stoka \"E2-2\" PVC DN250 SN12:",null,0,null,null,null,null,null,null,null,"Stoka \"E2-2\" PVC DN250 SN12:"]
[null,null,"Skruž H100:8*1,01",null,8.08,null,null,null,null,null,null,null,"Skruž H100:8*1,01"]
[51,"59224366.A.R","Dno šachetní TBZ-Q.1 100/60 V max. 40 včetně kynety dle PD","kus",15.15,null,{"$f":"E433*F433","v":0},1.6,{"$f":"E433*H433","v":24.240000000000002},null,{"$f":"E433*J433","v":0},null,null,null,2,null,null,null,null,null,null,null,null,null,null,null,3,1,"59224366.A.R",null,null,null,null,null,null,null,null,null,null,null,null,null,null,null,null,null,null,null,null,null,null,1,{"$f":"IF(AZ433=1,G433,0)","v":0},{"$f":"IF(AZ433=2,G433,0)","v":0},{"$f":"IF(AZ433=3,G433,0)","v":0},{"$f":"IF(AZ433=4,G433,0)","v":0},{"$f":"IF(AZ433=5,G433,0)","v":0},null,null,null,null,null,null,null,null,null,null,null,null,null,null,null,null,null,null,null,null,null,3,1]
[null,null,"Stoka \"E1\" PVC DN250 SN12:",null,0,null,null,null,null,null,null,null,"Stoka \"E1\" PVC DN250 SN12:"]
[null,null,"Stoka \"E2\" PVC DN250 SN12:",null,0,null,null,null,null,null,null,null,"Stoka \"E2\" PVC DN250 SN12:"]
[null,null,"Stoka \"E2-1\" PVC DN250 SN12:",null,0,null,null,null,null,null,null,null,"Stoka \"E2-1\" PVC DN250 SN12:"]
[null,null,"Stoka \"E2-2\" PVC DN250 SN12:",null,0,null,null,null,null,null,null,null,"Stoka \"E2-2\" PVC DN250 SN12:"]
[null,null,"ŠD 100/60:15*1,01",null,15.15,null,null,null,null,null,null,null,"ŠD 100/60:15*1,01"]
[52,"59224368.A.R","Dno šachetní TBZ-Q.1 100/100 V max. 60 včetně kynety dle PD","kus",1.01,null,{"$f":"E439*F439","v":0},2.1,{"$f":"E439*H439","v":2.121},null,{"$f":"E439*J439","v":0},null,null,null,2,null,null,null,null,null,null,null,null,null,null,null,3,1,"59224368.A.R",null,null,null,null,null,null,null,null,null,null,null,null,null,null,null,null,null,null,null,null,null,null,1,{"$f":"IF(AZ439=1,G439,0)","v":0},{"$f":"IF(AZ439=2,G439,0)","v":0},{"$f":"IF(AZ439=3,G439,0)","v":0},{"$f":"IF(AZ439=4,G439,0)","v":0},{"$f":"IF(AZ439=5,G439,0)","v":0},null,null,null,null,null,null,null,null,null,null,null,null,null,null,null,null,null,null,null,null,null,3,1]
[null,null,"Stoka \"E1\" PVC DN250 SN12:",null,0,null,null,null,null,null,null,null,"Stoka \"E1\" PVC DN250 SN12:"]
[null,null,"Stoka \"E2\" PVC DN250 SN12:",null,0,null,null,null,null,null,null,null,"Stoka \"E2\" PVC DN250 SN12:"]
[null,null,"Stoka \"E2-1\" PVC DN250 SN12:",null,0,null,null,null,null,null,null,null,"Stoka \"E2-1\" PVC DN250 SN12:"]
[null,null,"Stoka \"E2-2\" PVC DN250 SN12:",null,0,null,null,null,null,null,null,null,"Stoka \"E2-2\" PVC DN250 SN12:"]
[null,null,"ŠD 100/100:1*1,01",null,1.01,null,null,null,null,null,null,null,"ŠD 100/100:1*1,01"]
[53,"59224373.R","Těsnění elastom pro šach díly EMT 100/1.7 - DN1000","kus",44.44,null,{"$f":"E445*F445","v":0},2E-3,{"$f":"E445*H445","v":8.8880000000000001E-2},null,{"$f":"E445*J445","v":0},null,null,null,2,null,null,null,null,null,null,null,null,null,null,null,3,1,"59224373.R",null,null,null,null,null,null,null,null,null,null,null,null,null,null,null,null,null,null,null,null,null,null,1,{"$f":"IF(AZ445=1,G445,0)","v":0},{"$f":"IF(AZ445=2,G445,0)","v":0},{"$f":"IF(AZ445=3,G445,0)","v":0},{"$f":"IF(AZ445=4,G445,0)","v":0},{"$f":"IF(AZ445=5,G445,0)","v":0},null,null,null,null,null,null,null,null,null,null,null,null,null,null,null,null,null,null,null,null,null,3,1]
[null,null,"Stoka \"E1\" PVC DN250 SN12:",null,0,null,null,null,null,null,null,null,"Stoka \"E1\" PVC DN250 SN12:"]
[null,null,"Stoka \"E2\" PVC DN250 SN12:",null,0,null,null,null,null,null,null,null,"Stoka \"E2\" PVC DN250 SN12:"]
[null,null,"Stoka \"E2-1\" PVC DN250 SN12:",null,0,null,null,null,null,null,null,null,"Stoka \"E2-1\" PVC DN250 SN12:"]
[null,null,"Stoka \"E2-2\" PVC DN250 SN12:",null,0,null,null,null,null,null,null,null,"Stoka \"E2-2\" PVC DN250 SN12:"]
[null,null,"Těsnění:44*1,01",null,44.44,null,null,null,null,null,null,null,"Těsnění:44*1,01"]
[null,"Celkem za","8 Trubní vedení",null,null,null,{"$f":"SUM(G269:G450)","v":0},null,{"$f":"SUM(I269:I450)","v":60.868731750000002},null,{"$f":"SUM(K269:K450)","v":0},null,null,null,4,null,null,null,null,null,null,null,null,null,null,null,null,null,null,null,null,null,null,null,null,null,null,null,null,null,null,null,null,null,null,null,null,null,null,null,null,null,{"$f":"SUM(BA269:BA450)","v":0},{"$f":"SUM(BB269:BB450)","v":0},{"$f":"SUM(BC269:BC450)","v":0},{"$f":"SUM(BD269:BD450)","v":0},{"$f":"SUM(BE269:BE450)","v":0}]
["Díl:","93","Dokončovací práce inženýrských staveb",null,null,null,null,null,null,null,null,null,null,null,1]
[54,"939421111RT1","Osazení samonivelač.kanalizač.poklopu za finišerem bez dodávky poklopu","kus",16,null,{"$f":"E453*F453","v":0},0.15425,{"$f":"E453*H453","v":2.468},0,{"$f":"E453*J453","v":0},null,null,null,2,null,null,null,null,null,null,null,null,null,null,null,1,0,0,null,null,null,null,null,null,null,null,null,null,null,null,null,null,null,null,null,null,null,null,null,null,1,{"$f":"IF(AZ453=1,G453,0)","v":0},{"$f":"IF(AZ453=2,G453,0)","v":0},{"$f":"IF(AZ453=3,G453,0)","v":0},{"$f":"IF(AZ453=4,G453,0)","v":0},{"$f":"IF(AZ453=5,G453,0)","v":0},null,null,null,null,null,null,null,null,null,null,null,null,null,null,null,null,null,null,null,null,null,1,0]
[null,null,"Položka obsahuje:",null,null,null,null,null,null,null,null,"Položka obsahuje:",null,null,3]
[null,null,"- osazení prefabrikovaného betonového prstence do rychletuhnoucí malty (s dodávkou hmot)",null,null,null,null,null,null,null,null,"- osazení prefabrikovaného betonového prstence do rychletuhnoucí malty (s dodávkou hmot)",null,null,3]
[null,null,"- zalití prstence rychletuhnoucí zálivkou do výše prstence (s dodávkou hmoty)",null,null,null,null,null,null,null,null,"- zalití prstence rychletuhnoucí zálivkou do výše prstence (s dodávkou hmoty)",null,null,3]
[null,null,"- vložení kruhového bednění",null,null,null,null,null,null,null,null,"- vložení kruhového bednění",null,null,3]
[null,null,"- doplnění mezikruží asfaltovou směsí do výšky současné podkladní vrstvy, zhutnění",null,null,null,null,null,null,null,null,"- doplnění mezikruží asfaltovou směsí do výšky současné podkladní vrstvy, zhutnění",null,null,3]
[null,null,"- vyjmutí kruhového bednění",null,null,null,null,null,null,null,null,"- vyjmutí kruhového bednění",null,null,3]
[null,null,"- osazení poklopu a zatlačení",null,null,null,null,null,null,null,null,"- osazení poklopu a zatlačení",null,null,3]
[null,null,"  (následuje pokládka finální vrstvy vozovky - není součástí položky)",null,null,null,null,null,null,null,null,"  (následuje pokládka finální vrstvy vozovky - není součástí položky)",null,null,3]
[null,null,"- povytažení poklopu",null,null,null,null,null,null,null,null,"- povytažení poklopu",null,null,3]
[null,null,"- podsyp asfaltovou směsí, spuštění poklopu a zhutnění směsi",null,null,null,null,null,null,null,null,"- podsyp asfaltovou směsí, spuštění poklopu a zhutnění směsi",null,null,3]
[null,null,"Stoka \"E1\" PVC DN250 SN12:",null,0,null,null,null,null,null,null,null,"Stoka \"E1\" PVC DN250 SN12:"]
[null,null,"Stoka \"E2\" PVC DN250 SN12:",null,0,null,null,null,null,null,null,null,"Stoka \"E2\" PVC DN250 SN12:"]
[null,null,"Stoka \"E2-1\" PVC DN250 SN12:",null,0,null,null,null,null,null,null,null,"Stoka \"E2-1\" PVC DN250 SN12:"]
[null,null,"Stoka \"E2-2\" PVC DN250 SN12:",null,0,null,null,null,null,null,null,null,"Stoka \"E2-2\" PVC DN250 SN12:"]
[null,null,"Poklop dle PD:16",null,16,null,null,null,null,null,null,null,"Poklop dle PD:16"]
[55,"55244414.R","Poklop celolitinový v samonivelační rámu KDM65 D400 SN600","kus",16,null,{"$f":"E469*F469","v":0},0.113,{"$f":"E469*H469","v":1.8080000000000001},null,{"$f":"E469*J469","v":0},null,null,null,2,null,null,null,null,null,null,null,null,null,null,null,3,1,"55244414.R",null,null,null,null,null,null,null,null,null,null,null,null,null,null,null,null,null,null,null,null,null,null,1,{"$f":"IF(AZ469=1,G469,0)","v":0},{"$f":"IF(AZ469=2,G469,0)","v":0},{"$f":"IF(AZ469=3,G469,0)","v":0},{"$f":"IF(AZ469=4,G469,0)","v":0},{"$f":"IF(AZ469=5,G469,0)","v":0},null,null,null,null,null,null,null,null,null,null,null,null,null,null,null,null,null,null,null,null,null,3,1]
[null,null,"Kanalizační kruhový celolitinový samonivelační poklop bez pantu, horizontální PUR tlumící vložka na rámu, horizontální a vertikální  PUR tlumící vložka na víku, bez pružinového zajištění víka v rámu ",null,null,null,null,null,null,null,null,"Kanalizační kruhový celolitinový samonivelační poklop bez pantu, horizontální PUR tlumící vložka na rámu, horizontální a vertikální  PUR tlumící vložka na víku, bez pružinového zajištění víka v rámu ",null,null,3]
[null,null,"KDM65 bez ventilace nebo s ventilací dle TS VHS Turnov",null,null,null,null,null,null,null,null,"KDM65 bez ventilace nebo s ventilací dle TS VHS Turnov",null,null,3]
[null,null,"Víko se znakem Města Jilemnice",null,null,null,null,null,null,null,null,"Víko se znakem Města Jilemnice",null,null,3]
[null,null,"Stoka \"E1\" PVC DN250 SN12:",null,0,null,null,null,null,null,null,null,"Stoka \"E1\" PVC DN250 SN12:"]
[null,null,"Stoka \"E2\" PVC DN250 SN12:",null,0,null,null,null,null,null,null,null,"Stoka \"E2\" PVC DN250 SN12:"]
[null,null,"Stoka \"E2-1\" PVC DN250 SN12:",null,0,null,null,null,null,null,null,null,"Stoka \"E2-1\" PVC DN250 SN12:"]
[null,null,"Stoka \"E2-2\" PVC DN250 SN12:",null,0,null,null,null,null,null,null,null,"Stoka \"E2-2\" PVC DN250 SN12:"]
[null,null,"Poklop dle PD:16",null,16,null,null,null,null,null,null,null,"Poklop dle PD:16"]
[null,"Celkem za","93 Dokončovací práce inženýrských staveb",null,null,null,{"$f":"SUM(G452:G477)","v":0},null,{"$f":"SUM(I452:I477)","v":4.2759999999999998},null,{"$f":"SUM(K452:K477)","v":0},null,null,null,4,null,null,null,null,null,null,null,null,null,null,null,null,null,null,null,null,null,null,null,null,null,null,null,null,null,null,null,null,null,null,null,null,null,null,null,null,null,{"$f":"SUM(BA452:BA477)","v":0},{"$f":"SUM(BB452:BB477)","v":0},{"$f":"SUM(BC452:BC477)","v":0},{"$f":"SUM(BD452:BD477)","v":0},{"$f":"SUM(BE452:BE477)","v":0}]
["Díl:","99","Staveništní přesun hmot",null,null,null,null,null,null,null,null,null,null,null,1]
[56,"998276101RXX","Přesun hmot, trubní vedení plastová, otevř. výkop pro celý rozsah objektu","t",2256.4655478539999,null,{"$f":"E480*F480","v":0},0,{"$f":"E480*H480","v":0},null,{"$f":"E480*J480","v":0},null,null,null,2,null,null,null,null,null,null,null,null,null,null,null,7,1,2,null,null,null,null,null,null,null,null,null,null,null,null,null,null,null,null,null,null,null,null,null,null,1,{"$f":"IF(AZ480=1,G480,0)","v":0},{"$f":"IF(AZ480=2,G480,0)","v":0},{"$f":"IF(AZ480=3,G480,0)","v":0},{"$f":"IF(AZ480=4,G480,0)","v":0},{"$f":"IF(AZ480=5,G480,0)","v":0},null,null,null,null,null,null,null,null,null,null,null,null,null,null,null,null,null,null,null,null,null,7,1]
[null,null,"Staveništní doprava pro celý rozsah objektu - doprava zmeziskládek vybudovaného zařízení staveniště zhotovitele na jednotlivé části staveniště.",null,null,null,null,null,null,null,null,"Staveništní doprava pro celý rozsah objektu - doprava zmeziskládek vybudovaného zařízení staveniště zhotovitele na jednotlivé části staveniště.",null,null,3]
[null,"Celkem za","99 Staveništní přesun hmot",null,null,null,{"$f":"SUM(G479:G481)","v":0},null,{"$f":"SUM(I479:I481)","v":0},null,{"$f":"SUM(K479:K481)","v":0},null,null,null,4,null,null,null,null,null,null,null,null,null,null,null,null,null,null,null,null,null,null,null,null,null,null,null,null,null,null,null,null,null,null,null,null,null,null,null,null,null,{"$f":"SUM(BA479:BA481)","v":0},{"$f":"SUM(BB479:BB481)","v":0},{"$f":"SUM(BC479:BC481)","v":0},{"$f":"SUM(BD479:BD481)","v":0},{"$f":"SUM(BE479:BE481)","v":0}]

{"sheet":"1.E 08 1.E 08.3 KL","index":31,"n_rows":45,"n_cols":8,"rows_kept":45,"cut":false,"hidden":false,"merged":[[50,1,50,6],[29,5,29,6],[30,5,30,6],[31,5,31,6],[32,5,32,6],[33,5,33,6],[36,1,44,6],[45,1,45,6],[46,1,46,6],[47,1,47,6],[48,1,48,6],[49,1,49,6],[22,0,22,1],[7,2,7,4],[8,2,8,4],[9,2,9,4],[10,2,10,4],[11,2,11,4]]}
["POLOŽKOVÝ ROZPOČET"]
["Rozpočet",null,"1.E 08.3","Odstavení stávající kanalizační stoky",null,"JKSO ","827.21.A6"]
[]
["Objekt",null,null,null,null,"SKP "]
["1.E 08",null,"Kanalizace",null,null,"Měrná jednotka","m"]
["Stavba",null,null,null,null,"Počet jednotek",0]
["3403",null,"Jilemnice - Optimalizace VS a komunikace I.Etapa",null,null,"Náklady na m.j.",{"$f":"IF(G6=0,,ROUND((F30+F32)/G6,1))","v":0}]
["Projektant",null,"Vodohospodářsko - inženýrské služby spol. s r.o.",null,null,"Typ rozpočtu"]
["Zpracovatel projektu"]
["Objednatel",null,"Vodohospodářské sdružení Turnov"]
["Dodavatel",null,".",null,null,"Zakázkové číslo "]
["Rozpočtoval",null,null,null,null,"Počet listů"]
["ROZPOČTOVÉ NÁKLADY"]
["Základní rozpočtové náklady"]
[null,"HSV celkem",{"$f":"'1.E 08 1.E 08.3 Rek'!E10","v":0}]
["Z","PSV celkem",{"$f":"'1.E 08 1.E 08.3 Rek'!F10","v":0}]
["R","M práce celkem",{"$f":"'1.E 08 1.E 08.3 Rek'!H10","v":0}]
["N","M dodávky celkem",{"$f":"'1.E 08 1.E 08.3 Rek'!G10","v":0}]
["ZRN celkem",null,{"$f":"SUM(C15:C18)","v":0}]
[]
["HZS",null,{"$f":"'1.E 08 1.E 08.3 Rek'!I10","v":0}]
["ZRN+HZS",null,{"$f":"C19+C21","v":0}]
["ZRN+ost.náklady+HZS",null,{"$f":"C22+G23","v":0}]
["Vypracoval",null,null,"Za zhotovitele",null,"Za objednatele"]
["Jméno :",null,null,"Jméno :",null,"Jméno :"]
["Datum :",null,null,"Datum :",null,"Datum :"]
[]
["Podpis :",null,null,"Podpis:",null,"Podpis:"]
[]
["Základ pro DPH",null,21,"%  ",null,{"$f":"C23-F32","v":0}]
["DPH",null,{"$f":"C30","v":21},"% ",null,{"$f":"ROUND(PRODUCT(F30,C31/100),0)","v":0}]
["Základ pro DPH",null,0,"% ",null,0]
["DPH",null,{"$f":"C32","v":0},"% ",null,{"$f":"ROUND(PRODUCT(F32,C33/100),0)","v":0}]
["CENA ZA OBJEKT CELKEM",null,null,null,null,{"$f":"ROUND(SUM(F30:F33),0)","v":0}]
[]
["Poznámka :",null,null,null,null,null,null," "]
[null,null,null,null,null,null,null," "]
[null,null,null,null,null,null,null," "]
[null,null,null,null,null,null,null," "]
[null,null,null,null,null,null,null," "]
[null,null,null,null,null,null,null," "]
[null,null,null,null,null,null,null," "]
[null,null,null,null,null,null,null," "]
[null,null,null,null,null,null,null," "]
[null,null,null,null,null,null,null," "]

{"sheet":"1.E 08 1.E 08.3 Rek","index":32,"n_rows":10,"n_cols":9,"rows_kept":10,"cut":false,"hidden":false,"merged":[[0,0,0,1],[1,0,1,1],[1,6,1,8]]}
["Stavba :",null,"3403 Jilemnice - Optimalizace VS a komunikace",null,null,null,"Rozpočet :","1.E 08.3"]
["Objekt :",null,"1.E 08 Kanalizace",null,null,null,"Odstavení stávající kanalizační stoky"]
[]
["REKAPITULACE  STAVEBNÍCH  DÍLŮ"]
[]
[null,"Stavební díl",null,null,"HSV","PSV","Dodávka","Montáž","HZS"]
[{"$f":"'1.E 08 1.E 08.3 Pol'!B7","v":"8"},{"$f":"'1.E 08 1.E 08.3 Pol'!C7","v":"Trubní vedení"},null,null,{"$f":"'1.E 08 1.E 08.3 Pol'!BA12","v":0},{"$f":"'1.E 08 1.E 08.3 Pol'!BB12","v":0},{"$f":"'1.E 08 1.E 08.3 Pol'!BC12","v":0},{"$f":"'1.E 08 1.E 08.3 Pol'!BD12","v":0},{"$f":"'1.E 08 1.E 08.3 Pol'!BE12","v":0}]
[{"$f":"'1.E 08 1.E 08.3 Pol'!B13","v":"93"},{"$f":"'1.E 08 1.E 08.3 Pol'!C13","v":"Dokončovací práce inženýrských staveb"},null,null,{"$f":"'1.E 08 1.E 08.3 Pol'!BA16","v":0},{"$f":"'1.E 08 1.E 08.3 Pol'!BB16","v":0},{"$f":"'1.E 08 1.E 08.3 Pol'!BC16","v":0},{"$f":"'1.E 08 1.E 08.3 Pol'!BD16","v":0},{"$f":"'1.E 08 1.E 08.3 Pol'!BE16","v":0}]
[{"$f":"'1.E 08 1.E 08.3 Pol'!B17","v":"99"},{"$f":"'1.E 08 1.E 08.3 Pol'!C17","v":"Staveništní přesun hmot"},null,null,{"$f":"'1.E 08 1.E 08.3 Pol'!BA20","v":0},{"$f":"'1.E 08 1.E 08.3 Pol'!BB20","v":0},{"$f":"'1.E 08 1.E 08.3 Pol'!BC20","v":0},{"$f":"'1.E 08 1.E 08.3 Pol'!BD20","v":0},{"$f":"'1.E 08 1.E 08.3 Pol'!BE20","v":0}]
[null,"CELKEM  OBJEKT",null,null,{"$f":"SUM(E7:E9)","v":0},{"$f":"SUM(F7:F9)","v":0},{"$f":"SUM(G7:G9)","v":0},{"$f":"SUM(H7:H9)","v":0},{"$f":"SUM(I7:I9)","v":0}]

{"sheet":"1.E 08 1.E 08.3 Pol","index":33,"n_rows":20,"n_cols":80,"rows_kept":20,"cut":false,"hidden":false,"merged":[[14,2,14,3],[18,2,18,6],[0,0,0,6],[2,0,2,1],[3,0,3,1],[3,4,3,6],[8,2,8,6],[9,2,9,6],[10,2,10,6]]}
["Položkový rozpočet "]
[]
["Stavba :",null,"3403 Jilemnice - Optimalizace VS a komunikace",null,"Rozpočet:",{"$f":"'1.E 08 1.E 08.3 Rek'!H1","v":"1.E 08.3"}]
["Objekt :",null,"1.E 08 Kanalizace",null,{"$f":"'1.E 08 1.E 08.3 Rek'!G2","v":"Odstavení stávající kanalizační stoky"}]
[]
["P.č.","Číslo položky","Název položky","MJ","množství","cena / MJ","celkem (Kč)","Jednotková hmotnost","Celková hmotnost","Jednotková dem.hmot.","Celková dem.hmot."]
["Díl:","8","Trubní vedení",null,null,null,null,null,null,null,null,null,null,null,1]
[1,"899 45-5050.RRX","Zrušení stávající odlehčovací komory včetně likvidace suti na skládce zhotovitle","kpl",1,null,{"$f":"E8*F8","v":0},6.5,{"$f":"E8*H8","v":6.5},null,{"$f":"E8*J8","v":0},null,null,null,2,null,null,null,null,null,null,null,null,null,null,null,12,0,1,null,null,null,null,null,null,null,null,null,null,null,null,null,null,null,null,null,null,null,null,null,null,1,{"$f":"IF(AZ8=1,G8,0)","v":0},{"$f":"IF(AZ8=2,G8,0)","v":0},{"$f":"IF(AZ8=3,G8,0)","v":0},{"$f":"IF(AZ8=4,G8,0)","v":0},{"$f":"IF(AZ8=5,G8,0)","v":0},null,null,null,null,null,null,null,null,null,null,null,null,null,null,null,null,null,null,null,null,null,12,0]
[null,null,"Zrušení stávající železobetonové OK ",null,null,null,null,null,null,null,null,"Zrušení stávající železobetonové OK ",null,null,3]
[null,null,"Součástí položky jsou i potřebné zemní práce (výkopy, zásypy, odvoz a pod.), vybourání konstrukce OK včetně odvozu na skládku zhotovitele a poplatek za skládku.",null,null,null,null,null,null,null,null,"Součástí položky jsou i potřebné zemní práce (výkopy, zásypy, odvoz a pod.), vybourání konstrukce OK včetně odvozu na skládku zhotovitele a poplatek za skládku.",null,null,3]
[null,null,"Kompletní provedení dle PD",null,null,null,null,null,null,null,null,"Kompletní provedení dle PD",null,null,3]
[null,"Celkem za","8 Trubní vedení",null,null,null,{"$f":"SUM(G7:G11)","v":0},null,{"$f":"SUM(I7:I11)","v":6.5},null,{"$f":"SUM(K7:K11)","v":0},null,null,null,4,null,null,null,null,null,null,null,null,null,null,null,null,null,null,null,null,null,null,null,null,null,null,null,null,null,null,null,null,null,null,null,null,null,null,null,null,null,{"$f":"SUM(BA7:BA11)","v":0},{"$f":"SUM(BB7:BB11)","v":0},{"$f":"SUM(BC7:BC11)","v":0},{"$f":"SUM(BD7:BD11)","v":0},{"$f":"SUM(BE7:BE11)","v":0}]
["Díl:","93","Dokončovací práce inženýrských staveb",null,null,null,null,null,null,null,null,null,null,null,1]
[2,"936452118RRX","Výplň potrubí cementopopílkovou suspenzí DN 600 ","m",6,null,{"$f":"E14*F14","v":0},0.51,{"$f":"E14*H14","v":3.06},0,{"$f":"E14*J14","v":0},null,null,null,2,null,null,null,null,null,null,null,null,null,null,null,1,0,0,null,null,null,null,null,null,null,null,null,null,null,null,null,null,null,null,null,null,null,null,null,null,1,{"$f":"IF(AZ14=1,G14,0)","v":0},{"$f":"IF(AZ14=2,G14,0)","v":0},{"$f":"IF(AZ14=3,G14,0)","v":0},{"$f":"IF(AZ14=4,G14,0)","v":0},{"$f":"IF(AZ14=5,G14,0)","v":0},null,null,null,null,null,null,null,null,null,null,null,null,null,null,null,null,null,null,null,null,null,1,0]
[null,null,"Stávající potrubí BE DN600:6,00",null,6,null,null,null,null,null,null,null,"Stávající potrubí BE DN600:6,00"]
[null,"Celkem za","93 Dokončovací práce inženýrských staveb",null,null,null,{"$f":"SUM(G13:G15)","v":0},null,{"$f":"SUM(I13:I15)","v":3.06},null,{"$f":"SUM(K13:K15)","v":0},null,null,null,4,null,null,null,null,null,null,null,null,null,null,null,null,null,null,null,null,null,null,null,null,null,null,null,null,null,null,null,null,null,null,null,null,null,null,null,null,null,{"$f":"SUM(BA13:BA15)","v":0},{"$f":"SUM(BB13:BB15)","v":0},{"$f":"SUM(BC13:BC15)","v":0},{"$f":"SUM(BD13:BD15)","v":0},{"$f":"SUM(BE13:BE15)","v":0}]
["Díl:","99","Staveništní přesun hmot",null,null,null,null,null,null,null,null,null,null,null,1]
[3,"998276101RXX","Přesun hmot, trubní vedení plastová, otevř. výkop pro celý rozsah objektu","t",9.56,null,{"$f":"E18*F18","v":0},0,{"$f":"E18*H18","v":0},null,{"$f":"E18*J18","v":0},null,null,null,2,null,null,null,null,null,null,null,null,null,null,null,7,1,2,null,null,null,null,null,null,null,null,null,null,null,null,null,null,null,null,null,null,null,null,null,null,1,{"$f":"IF(AZ18=1,G18,0)","v":0},{"$f":"IF(AZ18=2,G18,0)","v":0},{"$f":"IF(AZ18=3,G18,0)","v":0},{"$f":"IF(AZ18=4,G18,0)","v":0},{"$f":"IF(AZ18=5,G18,0)","v":0},null,null,null,null,null,null,null,null,null,null,null,null,null,null,null,null,null,null,null,null,null,7,1]
[null,null,"Staveništní doprava pro celý rozsah objektu - doprava zmeziskládek vybudovaného zařízení staveniště zhotovitele na jednotlivé části staveniště.",null,null,null,null,null,null,null,null,"Staveništní doprava pro celý rozsah objektu - doprava zmeziskládek vybudovaného zařízení staveniště zhotovitele na jednotlivé části staveniště.",null,null,3]
[null,"Celkem za","99 Staveništní přesun hmot",null,null,null,{"$f":"SUM(G17:G19)","v":0},null,{"$f":"SUM(I17:I19)","v":0},null,{"$f":"SUM(K17:K19)","v":0},null,null,null,4,null,null,null,null,null,null,null,null,null,null,null,null,null,null,null,null,null,null,null,null,null,null,null,null,null,null,null,null,null,null,null,null,null,null,null,null,null,{"$f":"SUM(BA17:BA19)","v":0},{"$f":"SUM(BB17:BB19)","v":0},{"$f":"SUM(BC17:BC19)","v":0},{"$f":"SUM(BD17:BD19)","v":0},{"$f":"SUM(BE17:BE19)","v":0}]

{"sheet":"1.E 08 1.E 08.5 KL","index":34,"n_rows":45,"n_cols":8,"rows_kept":45,"cut":false,"hidden":false,"merged":[[50,1,50,6],[29,5,29,6],[30,5,30,6],[31,5,31,6],[32,5,32,6],[33,5,33,6],[36,1,44,6],[45,1,45,6],[46,1,46,6],[47,1,47,6],[48,1,48,6],[49,1,49,6],[22,0,22,1],[7,2,7,4],[8,2,8,4],[9,2,9,4],[10,2,10,4],[11,2,11,4]]}
["POLOŽKOVÝ ROZPOČET"]
["Rozpočet",null,"1.E 08.5","Úpravy stáv.kanalizačních napojovacích bodů",null,"JKSO ","827.21.A6"]
[]
["Objekt",null,null,null,null,"SKP "]
["1.E 08",null,"Kanalizace",null,null,"Měrná jednotka","m"]
["Stavba",null,null,null,null,"Počet jednotek",0]
["3403",null,"Jilemnice - Optimalizace VS a komunikace I.Etapa",null,null,"Náklady na m.j.",{"$f":"IF(G6=0,,ROUND((F30+F32)/G6,1))","v":0}]
["Projektant",null,"Vodohospodářsko - inženýrské služby spol. s r.o.",null,null,"Typ rozpočtu"]
["Zpracovatel projektu"]
["Objednatel",null,"Vodohospodářské sdružení Turnov"]
["Dodavatel",null,".",null,null,"Zakázkové číslo "]
["Rozpočtoval",null,null,null,null,"Počet listů"]
["ROZPOČTOVÉ NÁKLADY"]
["Základní rozpočtové náklady"]
[null,"HSV celkem",{"$f":"'1.E 08 1.E 08.5 Rek'!E12","v":0}]
["Z","PSV celkem",{"$f":"'1.E 08 1.E 08.5 Rek'!F12","v":0}]
["R","M práce celkem",{"$f":"'1.E 08 1.E 08.5 Rek'!H12","v":0}]
["N","M dodávky celkem",{"$f":"'1.E 08 1.E 08.5 Rek'!G12","v":0}]
["ZRN celkem",null,{"$f":"SUM(C15:C18)","v":0}]
[]
["HZS",null,{"$f":"'1.E 08 1.E 08.5 Rek'!I12","v":0}]
["ZRN+HZS",null,{"$f":"C19+C21","v":0}]
["ZRN+ost.náklady+HZS",null,{"$f":"C22+G23","v":0}]
["Vypracoval",null,null,"Za zhotovitele",null,"Za objednatele"]
["Jméno :",null,null,"Jméno :",null,"Jméno :"]
["Datum :",null,null,"Datum :",null,"Datum :"]
[]
["Podpis :",null,null,"Podpis:",null,"Podpis:"]
[]
["Základ pro DPH",null,21,"%  ",null,{"$f":"C23-F32","v":0}]
["DPH",null,{"$f":"C30","v":21},"% ",null,{"$f":"ROUND(PRODUCT(F30,C31/100),0)","v":0}]
["Základ pro DPH",null,0,"% ",null,0]
["DPH",null,{"$f":"C32","v":0},"% ",null,{"$f":"ROUND(PRODUCT(F32,C33/100),0)","v":0}]
["CENA ZA OBJEKT CELKEM",null,null,null,null,{"$f":"ROUND(SUM(F30:F33),0)","v":0}]
[]
["Poznámka :",null,null,null,null,null,null," "]
[null,null,null,null,null,null,null," "]
[null,null,null,null,null,null,null," "]
[null,null,null,null,null,null,null," "]
[null,null,null,null,null,null,null," "]
[null,null,null,null,null,null,null," "]
[null,null,null,null,null,null,null," "]
[null,null,null,null,null,null,null," "]
[null,null,null,null,null,null,null," "]
[null,null,null,null,null,null,null," "]

{"sheet":"1.E 08 1.E 08.5 Rek","index":35,"n_rows":12,"n_cols":9,"rows_kept":12,"cut":false,"hidden":false,"merged":[[0,0,0,1],[1,0,1,1],[1,6,1,8]]}
["Stavba :",null,"3403 Jilemnice - Optimalizace VS a komunikace",null,null,null,"Rozpočet :","1.E 08.5"]
["Objekt :",null,"1.E 08 Kanalizace",null,null,null,"Úpravy stáv.kanalizačních napojovacích bodů"]
[]
["REKAPITULACE  STAVEBNÍCH  DÍLŮ"]
[]
[null,"Stavební díl",null,null,"HSV","PSV","Dodávka","Montáž","HZS"]
[{"$f":"'1.E 08 1.E 08.5 Pol'!B7","v":"1"},{"$f":"'1.E 08 1.E 08.5 Pol'!C7","v":"Zemní práce"},null,null,{"$f":"'1.E 08 1.E 08.5 Pol'!BA177","v":0},{"$f":"'1.E 08 1.E 08.5 Pol'!BB177","v":0},{"$f":"'1.E 08 1.E 08.5 Pol'!BC177","v":0},{"$f":"'1.E 08 1.E 08.5 Pol'!BD177","v":0},{"$f":"'1.E 08 1.E 08.5 Pol'!BE177","v":0}]
[{"$f":"'1.E 08 1.E 08.5 Pol'!B178","v":"45"},{"$f":"'1.E 08 1.E 08.5 Pol'!C178","v":"Podkladní a vedlejší konstrukce"},null,null,{"$f":"'1.E 08 1.E 08.5 Pol'!BA192","v":0},{"$f":"'1.E 08 1.E 08.5 Pol'!BB192","v":0},{"$f":"'1.E 08 1.E 08.5 Pol'!BC192","v":0},{"$f":"'1.E 08 1.E 08.5 Pol'!BD192","v":0},{"$f":"'1.E 08 1.E 08.5 Pol'!BE192","v":0}]
[{"$f":"'1.E 08 1.E 08.5 Pol'!B193","v":"5"},{"$f":"'1.E 08 1.E 08.5 Pol'!C193","v":"Komunikace"},null,null,{"$f":"'1.E 08 1.E 08.5 Pol'!BA207","v":0},{"$f":"'1.E 08 1.E 08.5 Pol'!BB207","v":0},{"$f":"'1.E 08 1.E 08.5 Pol'!BC207","v":0},{"$f":"'1.E 08 1.E 08.5 Pol'!BD207","v":0},{"$f":"'1.E 08 1.E 08.5 Pol'!BE207","v":0}]
[{"$f":"'1.E 08 1.E 08.5 Pol'!B208","v":"8"},{"$f":"'1.E 08 1.E 08.5 Pol'!C208","v":"Trubní vedení"},null,null,{"$f":"'1.E 08 1.E 08.5 Pol'!BA421","v":0},{"$f":"'1.E 08 1.E 08.5 Pol'!BB421","v":0},{"$f":"'1.E 08 1.E 08.5 Pol'!BC421","v":0},{"$f":"'1.E 08 1.E 08.5 Pol'!BD421","v":0},{"$f":"'1.E 08 1.E 08.5 Pol'!BE421","v":0}]
[{"$f":"'1.E 08 1.E 08.5 Pol'!B422","v":"99"},{"$f":"'1.E 08 1.E 08.5 Pol'!C422","v":"Staveništní přesun hmot"},null,null,{"$f":"'1.E 08 1.E 08.5 Pol'!BA425","v":0},{"$f":"'1.E 08 1.E 08.5 Pol'!BB425","v":0},{"$f":"'1.E 08 1.E 08.5 Pol'!BC425","v":0},{"$f":"'1.E 08 1.E 08.5 Pol'!BD425","v":0},{"$f":"'1.E 08 1.E 08.5 Pol'!BE425","v":0}]
[null,"CELKEM  OBJEKT",null,null,{"$f":"SUM(E7:E11)","v":0},{"$f":"SUM(F7:F11)","v":0},{"$f":"SUM(G7:G11)","v":0},{"$f":"SUM(H7:H11)","v":0},{"$f":"SUM(I7:I11)","v":0}]

{"sheet":"1.E 08 1.E 08.5 Pol","index":36,"n_rows":425,"n_cols":80,"rows_kept":425,"cut":false,"hidden":false,"merged":[[416,2,416,3],[417,2,417,3],[418,2,418,3],[419,2,419,3],[423,2,423,6],[410,2,410,6],[411,2,411,6],[412,2,412,3],[413,2,413,3],[414,2,414,3],[415,2,415,3],[403,2,403,3],[404,2,404,3],[405,2,405,3],[407,2,407,6],[408,2,408,6],[409,2,409,6],[397,2,397,3],[398,2,398,3],[399,2,399,3],[400,2,400,3],[401,2,401,3],[402,2,402,3],[391,2,391,6],[392,2,392,6],[393,2,393,6],[394,2,394,3],[395,2,395,3],[396,2,396,3],[384,2,384,6],[385,2,385,6],[386,2,386,6],[388,2,388,6],[389,2,389,6],[390,2,390,6],[377,2,377,3],[378,2,378,3],[380,2,380,6],[381,2,381,6],[382,2,382,6],[383,2,383,6],[371,2,371,3],[372,2,372,3],[373,2,373,3],[374,2,374,3],[375,2,375,3],[376,2,376,3],[364,2,364,3],[365,2,365,3],[367,2,367,3],[368,2,368,3],[369,2,369,3],[370,2,370,3],[358,2,358,3],[359,2,359,3],[360,2,360,3],[361,2,361,3],[362,2,362,3],[363,2,363,3],[352,2,352,3],[353,2,353,3],[354,2,354,3],[355,2,355,3],[356,2,356,3],[357,2,357,3],[346,2,346,3],[347,2,347,3],[348,2,348,3],[349,2,349,3],[350,2,350,3],[351,2,351,3],[340,2,340,3],[341,2,341,3],[342,2,342,3],[343,2,343,3],[344,2,344,3],[345,2,345,3],[334,2,334,3],[335,2,335,3],[336,2,336,3],[337,2,337,3],[338,2,338,3],[339,2,339,3],[328,2,328,3],[329,2,329,3],[330,2,330,3],[331,2,331,3],[332,2,332,3],[333,2,333,3],[321,2,321,3],[322,2,322,3],[323,2,323,3],[324,2,324,3],[326,2,326,6],[327,2,327,3],[314,2,314,3],[316,2,316,6],[317,2,317,3],[318,2,318,3],[319,2,319,3],[320,2,320,3],[308,2,308,3],[309,2,309,3],[310,2,310,3],[311,2,311,3],[312,2,312,3],[313,2,313,3],[301,2,301,3],[303,2,303,6],[304,2,304,6],[305,2,305,6],[306,2,306,6],[307,2,307,3],[295,2,295,3],[296,2,296,3],[297,2,297,3],[298,2,298,3],[299,2,299,3],[300,2,300,3],[288,2,288,3],[289,2,289,3],[290,2,290,3],[291,2,291,3],[293,2,293,6],[294,2,294,3],[282,2,282,3],[283,2,283,3],[284,2,284,3],[285,2,285,3],[286,2,286,3],[287,2,287,3],[276,2,276,3],[277,2,277,3],[278,2,278,3],[279,2,279,3],[280,2,280,3],[281,2,281,3],[270,2,270,3],[271,2,271,3],[272,2,272,3],[273,2,273,3],[274,2,274,3],[275,2,275,3],[264,2,264,3],[265,2,265,3],[266,2,266,3],[267,2,267,3],[268,2,268,3],[269,2,269,3],[258,2,258,3],[259,2,259,3],[260,2,260,3],[261,2,261,3],[262,2,262,3],[263,2,263,3],[251,2,251,3],[253,2,253,6],[254,2,254,3],[255,2,255,3],[256,2,256,3],[257,2,257,3],[245,2,245,3],[246,2,246,3],[247,2,247,3],[248,2,248,3],[249,2,249,3],[250,2,250,3],[239,2,239,3],[240,2,240,3],[241,2,241,3],[242,2,242,3],[243,2,243,3],[244,2,244,3],[233,2,233,3],[234,2,234,3],[235,2,235,3],[236,2,236,3],[237,2,237,3],[238,2,238,3],[227,2,227,3],[228,2,228,3],[229,2,229,3],[230,2,230,3],[231,2,231,3],[232,2,232,3],[221,2,221,3],[222,2,222,3],[223,2,223,3],[224,2,224,3],[225,2,225,3],[226,2,226,3],[215,2,215,3],[216,2,216,3],[217,2,217,3],[218,2,218,3],[219,2,219,3],[220,2,220,3],[204,2,204,3],[205,2,205,3],[209,2,209,6],[210,2,210,3],[211,2,211,3],[212,2,212,3],[213,2,213,3],[214,2,214,3],[198,2,198,3],[199,2,199,3],[200,2,200,3],[201,2,201,3],[202,2,202,3],[203,2,203,3],[187,2,187,3],[188,2,188,3],[189,2,189,3],[190,2,190,3],[194,2,194,3],[195,2,195,3],[196,2,196,3],[197,2,197,3],[179,2,179,3],[180,2,180,3],[181,2,181,3],[182,2,182,3],[183,2,183,3],[184,2,184,3],[185,2,185,3],[186,2,186,3],[169,2,169,3],[170,2,170,3],[171,2,171,3],[172,2,172,3],[173,2,173,3],[175,2,175,3],[163,2,163,3],[164,2,164,3],[165,2,165,3],[166,2,166,3],[167,2,167,3],[168,2,168,3],[155,2,155,3],[156,2,156,3],[157,2,157,3],[159,2,159,3],[160,2,160,3],[162,2,162,3],[149,2,149,3],[150,2,150,3],[151,2,151,3],[152,2,152,3],[153,2,153,3],[154,2,154,3],[142,2,142,3],[143,2,143,3],[144,2,144,3],[146,2,146,3],[147,2,147,3],[148,2,148,3],[136,2,136,3],[137,2,137,3],[138,2,138,3],[139,2,139,3],[140,2,140,3],[141,2,141,3],[130,2,130,3],[131,2,131,3],[132,2,132,3],[133,2,133,3],[134,2,134,3],[135,2,135,3],[123,2,123,3],[125,2,125,6],[126,2,126,6],[127,2,127,3],[128,2,128,3],[129,2,129,3],[116,2,116,3],[117,2,117,3],[118,2,118,3],[119,2,119,3],[120,2,120,3],[122,2,122,3],[110,2,110,3],[111,2,111,3],[112,2,112,3],[113,2,113,3],[114,2,114,3],[115,2,115,3],[103,2,103,3],[104,2,104,3],[105,2,105,3],[107,2,107,3],[108,2,108,3],[109,2,109,3],[97,2,97,3],[98,2,98,3],[99,2,99,3],[100,2,100,3],[101,2,101,3],[102,2,102,3],[90,2,90,3],[92,2,92,3],[93,2,93,3],[94,2,94,3],[95,2,95,3],[96,2,96,3],[82,2,82,3],[83,2,83,3],[85,2,85,3],[86,2,86,3],[88,2,88,6],[89,2,89,3],[74,2,74,3],[75,2,75,3],[76,2,76,3],[78,2,78,3],[79,2,79,3],[81,2,81,6],[68,2,68,3],[69,2,69,3],[70,2,70,3],[71,2,71,3],[72,2,72,3],[73,2,73,3],[62,2,62,3],[63,2,63,3],[64,2,64,3],[65,2,65,3],[66,2,66,3],[67,2,67,3],[56,2,56,3],[57,2,57,3],[58,2,58,3],[59,2,59,3],[60,2,60,3],[61,2,61,3],[50,2,50,3],[51,2,51,3],[52,2,52,3],[53,2,53,3],[54,2,54,3],[55,2,55,3],[44,2,44,3],[45,2,45,3],[46,2,46,3],[47,2,47,3],[48,2,48,3],[49,2,49,3],[38,2,38,3],[39,2,39,3],[40,2,40,3],[41,2,41,3],[42,2,42,3],[43,2,43,3],[32,2,32,3],[33,2,33,3],[34,2,34,3],[35,2,35,3],[36,2,36,3],[37,2,37,3],[26,2,26,3],[27,2,27,3],[28,2,28,3],[29,2,29,3],[30,2,30,3],[31,2,31,3],[20,2,20,6],[21,2,21,3],[22,2,22,3],[24,2,24,6],[25,2,25,3],[12,2,12,3],[13,2,13,3],[14,2,14,3],[15,2,15,3],[16,2,16,3],[17,2,17,3],[0,0,0,6],[2,0,2,1],[3,0,3,1],[3,4,3,6],[8,2,8,6],[9,2,9,6],[10,2,10,3],[11,2,11,3],[19,2,19,6]]}
["Položkový rozpočet "]
[]
["Stavba :",null,"3403 Jilemnice - Optimalizace VS a komunikace",null,"Rozpočet:",{"$f":"'1.E 08 1.E 08.5 Rek'!H1","v":"1.E 08.5"}]
["Objekt :",null,"1.E 08 Kanalizace",null,{"$f":"'1.E 08 1.E 08.5 Rek'!G2","v":"Úpravy stáv.kanalizačních napojovacích bodů"}]
[]
["P.č.","Číslo položky","Název položky","MJ","množství","cena / MJ","celkem (Kč)","Jednotková hmotnost","Celková hmotnost","Jednotková dem.hmot.","Celková dem.hmot."]
["Díl:","1","Zemní práce",null,null,null,null,null,null,null,null,null,null,null,1]
[1,"115101201RRX","Přečerpávání nebo převedení splašků a dešť. vod ","h",110,null,{"$f":"E8*F8","v":0},0,{"$f":"E8*H8","v":0},0,{"$f":"E8*J8","v":0},null,null,null,2,null,null,null,null,null,null,null,null,null,null,null,1,1,1,null,null,null,null,null,null,null,null,null,null,null,null,null,null,null,null,null,null,null,null,null,null,1,{"$f":"IF(AZ8=1,G8,0)","v":0},{"$f":"IF(AZ8=2,G8,0)","v":0},{"$f":"IF(AZ8=3,G8,0)","v":0},{"$f":"IF(AZ8=4,G8,0)","v":0},{"$f":"IF(AZ8=5,G8,0)","v":0},null,null,null,null,null,null,null,null,null,null,null,null,null,null,null,null,null,null,null,null,null,1,1]
[null,null,"Převedení a čerpání splašků nebo dešťových vod dle zvolené technologie zhotovitele stavby.",null,null,null,null,null,null,null,null,"Převedení a čerpání splašků nebo dešťových vod dle zvolené technologie zhotovitele stavby.",null,null,3]
[null,null,"(Množství bude určeno na stavbě dle skutečnosti)",null,null,null,null,null,null,null,null,"(Množství bude určeno na stavbě dle skutečnosti)",null,null,3]
[null,null,"Stoka \"E1\" PVC DN250 SN12:",null,0,null,null,null,null,null,null,null,"Stoka \"E1\" PVC DN250 SN12:"]
[null,null,"Přepojení za DRŠ DN425:6*5,00",null,30,null,null,null,null,null,null,null,"Přepojení za DRŠ DN425:6*5,00"]
[null,null,"Stoka \"E2\" PVC DN250 SN12:",null,0,null,null,null,null,null,null,null,"Stoka \"E2\" PVC DN250 SN12:"]
[null,null,"Přepojení za DRŠ DN425:11*5,00",null,55,null,null,null,null,null,null,null,"Přepojení za DRŠ DN425:11*5,00"]
[null,null,"Stoka \"E2-1\" PVC DN250 SN12:",null,0,null,null,null,null,null,null,null,"Stoka \"E2-1\" PVC DN250 SN12:"]
[null,null,"Přepojení za DRŠ DN425:4*5,00",null,20,null,null,null,null,null,null,null,"Přepojení za DRŠ DN425:4*5,00"]
[null,null,"Stoka \"E2-2\" PVC DN250 SN12:",null,0,null,null,null,null,null,null,null,"Stoka \"E2-2\" PVC DN250 SN12:"]
[null,null,"Přepojení za DRŠ DN425:1*5,00",null,5,null,null,null,null,null,null,null,"Přepojení za DRŠ DN425:1*5,00"]
[2,"130001101RRX","Příplatek za ztížené hloubení v blízkosti vedení ","m3",72.8,null,{"$f":"E19*F19","v":0},0,{"$f":"E19*H19","v":0},0,{"$f":"E19*J19","v":0},null,null,null,2,null,null,null,null,null,null,null,null,null,null,null,1,1,1,null,null,null,null,null,null,null,null,null,null,null,null,null,null,null,null,null,null,null,null,null,null,1,{"$f":"IF(AZ19=1,G19,0)","v":0},{"$f":"IF(AZ19=2,G19,0)","v":0},{"$f":"IF(AZ19=3,G19,0)","v":0},{"$f":"IF(AZ19=4,G19,0)","v":0},{"$f":"IF(AZ19=5,G19,0)","v":0},null,null,null,null,null,null,null,null,null,null,null,null,null,null,null,null,null,null,null,null,null,1,1]
[null,null,"Včetně případných nutných dokopávem a ručního výkopu podél sousedících inženýrských sítí.",null,null,null,null,null,null,null,null,"Včetně případných nutných dokopávem a ručního výkopu podél sousedících inženýrských sítí.",null,null,3]
[null,null,"Součástí položky je i dočasné zajištění inženýrských sítí v prostoru výkopů (potrubí, kabely a pod.)",null,null,null,null,null,null,null,null,"Součástí položky je i dočasné zajištění inženýrských sítí v prostoru výkopů (potrubí, kabely a pod.)",null,null,3]
[null,null,"Výkopy:",null,0,null,null,null,null,null,null,null,"Výkopy:"]
[null,null,"V hornině tř. 3 -  5 - 35%:208,0000*0,35",null,72.8,null,null,null,null,null,null,null,"V hornině tř. 3 -  5 - 35%:208,0000*0,35"]
[3,"132201212R00","Hloubení rýh š.do 200 cm hor.3 do 1000m3,STROJNĚ ","m3",83.2,null,{"$f":"E24*F24","v":0},0,{"$f":"E24*H24","v":0},0,{"$f":"E24*J24","v":0},null,null,null,2,null,null,null,null,null,null,null,null,null,null,null,1,1,1,null,null,null,null,null,null,null,null,null,null,null,null,null,null,null,null,null,null,null,null,null,null,1,{"$f":"IF(AZ24=1,G24,0)","v":0},{"$f":"IF(AZ24=2,G24,0)","v":0},{"$f":"IF(AZ24=3,G24,0)","v":0},{"$f":"IF(AZ24=4,G24,0)","v":0},{"$f":"IF(AZ24=5,G24,0)","v":0},null,null,null,null,null,null,null,null,null,null,null,null,null,null,null,null,null,null,null,null,null,1,1]
[null,null,"Položka obsahuje hloubení rýh traktorbagrem, naložení výkopku na dopravní prostředek pro svislé, nebo vodorovné přemístění, popř. přemístění výkopku do 3 m (po povrchu území), případné zajištění rypadel polštáři, udržování pracoviště a ochranu výkopiště proti stékání srážkové vody z okolního terénu i s jejím odvodněním, nebo odvedením, přesekání a odstranění kořenů ve výkopišti, odstranění napadávek, urovnání dna výkopu.",null,null,null,null,null,null,null,null,"Položka obsahuje hloubení rýh traktorbagrem, naložení výkopku na dopravní prostředek pro svislé, nebo vodorovné přemístění, popř. přemístění výkopku do 3 m (po povrchu území), případné zajištění rypadel polštáři, udržování pracoviště a ochranu výkopiště proti stékání srážkové vody z okolního terénu i s jejím odvodněním, nebo odvedením, přesekání a odstranění kořenů ve výkopišti, odstranění napadávek, urovnání dna výkopu.",null,null,3]
[null,null,"Výkopy:",null,0,null,null,null,null,null,null,null,"Výkopy:"]
[null,null,"Začátek provozního součtu",null,0,null,null,null,null,null,null,null,"Začátek provozního součtu"]
[null,null,"Průměrná hloubka výkopů KP 2,40 m:",null,0,null,null,null,null,null,null,null,"Průměrná hloubka výkopů KP 2,40 m:"]
[null,null,"Stoka \"E1\" PVC DN250 SN12:",null,0,null,null,null,null,null,null,null,"Stoka \"E1\" PVC DN250 SN12:"]
[null,null,"Trubka  PVC DN160:27,00*0,80*2,40",null,51.84,null,null,null,null,null,null,null,"Trubka  PVC DN160:27,00*0,80*2,40"]
[null,null,"Pro čp. 862 :",null,0,null,null,null,null,null,null,null,"Pro čp. 862 :"]
[null,null,"Pro čp. 872 do Š:",null,0,null,null,null,null,null,null,null,"Pro čp. 872 do Š:"]
[null,null,"Pro čp. 873:",null,0,null,null,null,null,null,null,null,"Pro čp. 873:"]
[null,null,"Pro čp. 860 do Š:",null,0,null,null,null,null,null,null,null,"Pro čp. 860 do Š:"]
[null,null,"Pro čp. 874:",null,0,null,null,null,null,null,null,null,"Pro čp. 874:"]
[null,null,"Pro čp. 859:",null,0,null,null,null,null,null,null,null,"Pro čp. 859:"]
[null,null,"Rezerva 30%:27,00*0,3*0,80*2,40",null,15.552,null,null,null,null,null,null,null,"Rezerva 30%:27,00*0,3*0,80*2,40"]
[null,null,"Stoka \"E2\" PVC DN250 SN12:",null,0,null,null,null,null,null,null,null,"Stoka \"E2\" PVC DN250 SN12:"]
[null,null,"Trubka PVC DN160:50,00*0,80*2,40",null,96,null,null,null,null,null,null,null,"Trubka PVC DN160:50,00*0,80*2,40"]
[null,null,"Pro čp. 863:",null,0,null,null,null,null,null,null,null,"Pro čp. 863:"]
[null,null,"Pro čp. 871:",null,0,null,null,null,null,null,null,null,"Pro čp. 871:"]
[null,null,"Pro čp. 864 do Š:",null,0,null,null,null,null,null,null,null,"Pro čp. 864 do Š:"]
[null,null,"Pro čp. 870:",null,0,null,null,null,null,null,null,null,"Pro čp. 870:"]
[null,null,"Pro čp. 865:",null,0,null,null,null,null,null,null,null,"Pro čp. 865:"]
[null,null,"Pro čp. 869:",null,0,null,null,null,null,null,null,null,"Pro čp. 869:"]
[null,null,"Pro čp. 866:",null,0,null,null,null,null,null,null,null,"Pro čp. 866:"]
[null,null,"Pro čp. 868:",null,0,null,null,null,null,null,null,null,"Pro čp. 868:"]
[null,null,"Pro čp. 867 do Š:",null,0,null,null,null,null,null,null,null,"Pro čp. 867 do Š:"]
[null,null,"Pro čp. 899 do Š:",null,0,null,null,null,null,null,null,null,"Pro čp. 899 do Š:"]
[null,null,"Pro čp. 898:",null,0,null,null,null,null,null,null,null,"Pro čp. 898:"]
[null,null,"Rezerva 30%:50,00*0,3*0,80*2,40",null,28.8,null,null,null,null,null,null,null,"Rezerva 30%:50,00*0,3*0,80*2,40"]
[null,null,"Stoka \"E2-1\" PVC DN250 SN12:",null,0,null,null,null,null,null,null,null,"Stoka \"E2-1\" PVC DN250 SN12:"]
[null,null,"Trubka PVC DN160:18,00*0,80*2,40",null,34.56,null,null,null,null,null,null,null,"Trubka PVC DN160:18,00*0,80*2,40"]
[null,null,"Pro čp. 894:",null,0,null,null,null,null,null,null,null,"Pro čp. 894:"]
[null,null,"Pro čp. 895:",null,0,null,null,null,null,null,null,null,"Pro čp. 895:"]
[null,null,"Pro čp. 818 do Š:",null,0,null,null,null,null,null,null,null,"Pro čp. 818 do Š:"]
[null,null,"Pro čp. 816 do Š:",null,0,null,null,null,null,null,null,null,"Pro čp. 816 do Š:"]
[null,null,"Rezerva 30%:18,00*0,3*0,80*2,40",null,10.368,null,null,null,null,null,null,null,"Rezerva 30%:18,00*0,3*0,80*2,40"]
[null,null,"Stoka \"E2-2\" PVC DN250 SN12:",null,0,null,null,null,null,null,null,null,"Stoka \"E2-2\" PVC DN250 SN12:"]
[null,null,"Trubka PVC DN160:5,00*0,80*2,40",null,9.6,null,null,null,null,null,null,null,"Trubka PVC DN160:5,00*0,80*2,40"]
[null,null,"Pro čp. 896:",null,0,null,null,null,null,null,null,null,"Pro čp. 896:"]
[null,null,"Rezerva 30%:5,00*0,3*0,80*2,40",null,2.88,null,null,null,null,null,null,null,"Rezerva 30%:5,00*0,3*0,80*2,40"]
[null,null,"Odpočet předpokládaného objemu MK:",null,0,null,null,null,null,null,null,null,"Odpočet předpokládaného objemu MK:"]
[null,null,"Stoka \"E1\" PVC DN250 SN12:",null,0,null,null,null,null,null,null,null,"Stoka \"E1\" PVC DN250 SN12:"]
[null,null,"Trubka  PVC DN160:-27,00*0,80*0,40",null,-8.64,null,null,null,null,null,null,null,"Trubka  PVC DN160:-27,00*0,80*0,40"]
[null,null,"Rezerva 30%:-27,00*0,3*0,80*0,40",null,-2.5920000000000001,null,null,null,null,null,null,null,"Rezerva 30%:-27,00*0,3*0,80*0,40"]
[null,null,"Stoka \"E2\" PVC DN250 SN12:",null,0,null,null,null,null,null,null,null,"Stoka \"E2\" PVC DN250 SN12:"]
[null,null,"Trubka PVC DN160:-50,00*0,80*0,40",null,-16,null,null,null,null,null,null,null,"Trubka PVC DN160:-50,00*0,80*0,40"]
[null,null,"Rezerva 30%:-50,00*0,3*0,80*0,40",null,-4.8,null,null,null,null,null,null,null,"Rezerva 30%:-50,00*0,3*0,80*0,40"]
[null,null,"Stoka \"E2-1\" PVC DN250 SN12:",null,0,null,null,null,null,null,null,null,"Stoka \"E2-1\" PVC DN250 SN12:"]
[null,null,"Trubka PVC DN160:-18,00*0,80*0,40",null,-5.76,null,null,null,null,null,null,null,"Trubka PVC DN160:-18,00*0,80*0,40"]
[null,null,"Rezerva 30%:-18,00*0,3*0,80*0,40",null,-1.728,null,null,null,null,null,null,null,"Rezerva 30%:-18,00*0,3*0,80*0,40"]
[null,null,"Stoka \"E2-2\" PVC DN250 SN12:",null,0,null,null,null,null,null,null,null,"Stoka \"E2-2\" PVC DN250 SN12:"]
[null,null,"Trubka PVC DN160:-5,00*0,80*0,40",null,-1.6,null,null,null,null,null,null,null,"Trubka PVC DN160:-5,00*0,80*0,40"]
[null,null,"Rezerva 30%:-5,00*0,3*0,80*0,40",null,-0.48,null,null,null,null,null,null,null,"Rezerva 30%:-5,00*0,3*0,80*0,40"]
[null,null,"Konec provozního součtu",null,207.99999999999997,null,null,null,null,null,null,null,"Konec provozního součtu"]
[null,null,"V hornině tř. 3 - 40%:208,0000*0,4",null,83.2,null,null,null,null,null,null,null,"V hornině tř. 3 - 40%:208,0000*0,4"]
[4,"132201219R00","Přípl.za lepivost,hloubení rýh 200cm,hor.3,STROJNĚ ","m3",41.6,null,{"$f":"E78*F78","v":0},0,{"$f":"E78*H78","v":0},0,{"$f":"E78*J78","v":0},null,null,null,2,null,null,null,null,null,null,null,null,null,null,null,1,1,1,null,null,null,null,null,null,null,null,null,null,null,null,null,null,null,null,null,null,null,null,null,null,1,{"$f":"IF(AZ78=1,G78,0)","v":0},{"$f":"IF(AZ78=2,G78,0)","v":0},{"$f":"IF(AZ78=3,G78,0)","v":0},{"$f":"IF(AZ78=4,G78,0)","v":0},{"$f":"IF(AZ78=5,G78,0)","v":0},null,null,null,null,null,null,null,null,null,null,null,null,null,null,null,null,null,null,null,null,null,1,1]
[null,null,"Výkopy:",null,0,null,null,null,null,null,null,null,"Výkopy:"]
[null,null,"V hornině tř. 3 - 40%:208,0000*0,4*0,5",null,41.6,null,null,null,null,null,null,null,"V hornině tř. 3 - 40%:208,0000*0,4*0,5"]
[5,"132301212R00","Hloubení rýh š.do 200 cm hor.4 do 1000 m3, STROJNĚ ","m3",104,null,{"$f":"E81*F81","v":0},0,{"$f":"E81*H81","v":0},0,{"$f":"E81*J81","v":0},null,null,null,2,null,null,null,null,null,null,null,null,null,null,null,1,1,1,null,null,null,null,null,null,null,null,null,null,null,null,null,null,null,null,null,null,null,null,null,null,1,{"$f":"IF(AZ81=1,G81,0)","v":0},{"$f":"IF(AZ81=2,G81,0)","v":0},{"$f":"IF(AZ81=3,G81,0)","v":0},{"$f":"IF(AZ81=4,G81,0)","v":0},{"$f":"IF(AZ81=5,G81,0)","v":0},null,null,null,null,null,null,null,null,null,null,null,null,null,null,null,null,null,null,null,null,null,1,1]
[null,null,"Položka obsahuje hloubení rýh traktorbagrem, naložení výkopku na dopravní prostředek pro svislé, nebo vodorovné přemístění, popř. přemístění výkopku do 3 m (po povrchu území), případné zajištění rypadel polštáři, udržování pracoviště a ochranu výkopiště proti stékání srážkové vody z okolního terénu i s jejím odvodněním, nebo odvedením, přesekání a odstranění kořenů ve výkopišti, odstranění napadávek, urovnání dna výkopu.",null,null,null,null,null,null,null,null,"Položka obsahuje hloubení rýh traktorbagrem, naložení výkopku na dopravní prostředek pro svislé, nebo vodorovné přemístění, popř. přemístění výkopku do 3 m (po povrchu území), případné zajištění rypadel polštáři, udržování pracoviště a ochranu výkopiště proti stékání srážkové vody z okolního terénu i s jejím odvodněním, nebo odvedením, přesekání a odstranění kořenů ve výkopišti, odstranění napadávek, urovnání dna výkopu.",null,null,3]
[null,null,"Výkopy:",null,0,null,null,null,null,null,null,null,"Výkopy:"]
[null,null,"V hornině tř. 4 - 50%:208,0000*0,5",null,104,null,null,null,null,null,null,null,"V hornině tř. 4 - 50%:208,0000*0,5"]
[6,"132301219R00","Přípl.za lepivost,hloubení rýh 200cm,hor.4,STROJNĚ ","m3",52,null,{"$f":"E85*F85","v":0},0,{"$f":"E85*H85","v":0},0,{"$f":"E85*J85","v":0},null,null,null,2,null,null,null,null,null,null,null,null,null,null,null,1,1,1,null,null,null,null,null,null,null,null,null,null,null,null,null,null,null,null,null,null,null,null,null,null,1,{"$f":"IF(AZ85=1,G85,0)","v":0},{"$f":"IF(AZ85=2,G85,0)","v":0},{"$f":"IF(AZ85=3,G85,0)","v":0},{"$f":"IF(AZ85=4,G85,0)","v":0},{"$f":"IF(AZ85=5,G85,0)","v":0},null,null,null,null,null,null,null,null,null,null,null,null,null,null,null,null,null,null,null,null,null,1,1]
[null,null,"Výkopy:",null,0,null,null,null,null,null,null,null,"Výkopy:"]
[null,null,"V hornině tř. 4 - 50%:208,0000*0,5*0,5",null,52,null,null,null,null,null,null,null,"V hornině tř. 4 - 50%:208,0000*0,5*0,5"]
[7,"132401211RRX","Hloubení rýh šířky do 200 cm v hor.5 STROJNĚ včetně případného dolamování ve vrstvě do 0,5 m","m3",20.8,null,{"$f":"E88*F88","v":0},1.0410000000000001E-2,{"$f":"E88*H88","v":0.21652800000000003},0,{"$f":"E88*J88","v":0},null,null,null,2,null,null,null,null,null,null,null,null,null,null,null,1,1,1,null,null,null,null,null,null,null,null,null,null,null,null,null,null,null,null,null,null,null,null,null,null,1,{"$f":"IF(AZ88=1,G88,0)","v":0},{"$f":"IF(AZ88=2,G88,0)","v":0},{"$f":"IF(AZ88=3,G88,0)","v":0},{"$f":"IF(AZ88=4,G88,0)","v":0},{"$f":"IF(AZ88=5,G88,0)","v":0},null,null,null,null,null,null,null,null,null,null,null,null,null,null,null,null,null,null,null,null,null,1,1]
[null,null,"Položka obsahuje hloubení rýh traktorbagrem, naložení výkopku na dopravní prostředek pro svislé, nebo vodorovné přemístění, popř. přemístění výkopku do 3 m (po povrchu území), případné zajištění rypadel polštáři, udržování pracoviště a ochranu výkopiště proti stékání srážkové vody z okolního terénu i s jejím odvodněním, nebo odvedením, přesekání a odstranění kořenů ve výkopišti, odstranění napadávek, urovnání dna výkopu.včetně případného dolamování ve vrstvě do 0,5 m",null,null,null,null,null,null,null,null,"Položka obsahuje hloubení rýh traktorbagrem, naložení výkopku na dopravní prostředek pro svislé, nebo vodorovné přemístění, popř. přemístění výkopku do 3 m (po povrchu území), případné zajištění rypadel polštáři, udržování pracoviště a ochranu výkopiště proti stékání srážkové vody z okolního terénu i s jejím odvodněním, nebo odvedením, přesekání a odstranění kořenů ve výkopišti, odstranění napadávek, urovnání dna výkopu.včetně případného dolamování ve vrstvě do 0,5 m",null,null,3]
[null,null,"Výkopy:",null,0,null,null,null,null,null,null,null,"Výkopy:"]
[null,null,"V hornině tř. 5 - 10%:208,0000*0,1",null,20.8,null,null,null,null,null,null,null,"V hornině tř. 5 - 10%:208,0000*0,1"]
[8,"151101102R00","Pažení a rozepření stěn rýh - příložné - hl.do 4 m ","m2",624,null,{"$f":"E92*F92","v":0},8.5999999999999998E-4,{"$f":"E92*H92","v":0.53664000000000001},0,{"$f":"E92*J92","v":0},null,null,null,2,null,null,null,null,null,null,null,null,null,null,null,1,1,1,null,null,null,null,null,null,null,null,null,null,null,null,null,null,null,null,null,null,null,null,null,null,1,{"$f":"IF(AZ92=1,G92,0)","v":0},{"$f":"IF(AZ92=2,G92,0)","v":0},{"$f":"IF(AZ92=3,G92,0)","v":0},{"$f":"IF(AZ92=4,G92,0)","v":0},{"$f":"IF(AZ92=5,G92,0)","v":0},null,null,null,null,null,null,null,null,null,null,null,null,null,null,null,null,null,null,null,null,null,1,1]
[null,null,"Výkopy:",null,0,null,null,null,null,null,null,null,"Výkopy:"]
[null,null,"Průměrná hloubka výkopů KP 2,40 m:",null,0,null,null,null,null,null,null,null,"Průměrná hloubka výkopů KP 2,40 m:"]
[null,null,"Stoka \"E1\" PVC DN250 SN12:",null,0,null,null,null,null,null,null,null,"Stoka \"E1\" PVC DN250 SN12:"]
[null,null,"Trubka  PVC DN160:27,00*2,40*2",null,129.6,null,null,null,null,null,null,null,"Trubka  PVC DN160:27,00*2,40*2"]
[null,null,"Rezerva 30%:27,00*0,3*2,40*2",null,38.880000000000003,null,null,null,null,null,null,null,"Rezerva 30%:27,00*0,3*2,40*2"]
[null,null,"Stoka \"E2\" PVC DN250 SN12:",null,0,null,null,null,null,null,null,null,"Stoka \"E2\" PVC DN250 SN12:"]
[null,null,"Trubka PVC DN160:50,00*2,40*2",null,240,null,null,null,null,null,null,null,"Trubka PVC DN160:50,00*2,40*2"]
[null,null,"Rezerva 30%:50,00*0,3*2,40*2",null,72,null,null,null,null,null,null,null,"Rezerva 30%:50,00*0,3*2,40*2"]
[null,null,"Stoka \"E2-1\" PVC DN250 SN12:",null,0,null,null,null,null,null,null,null,"Stoka \"E2-1\" PVC DN250 SN12:"]
[null,null,"Trubka PVC DN160:18,00*2,40*2",null,86.4,null,null,null,null,null,null,null,"Trubka PVC DN160:18,00*2,40*2"]
[null,null,"Rezerva 30%:18,00*0,3*2,40*2",null,25.92,null,null,null,null,null,null,null,"Rezerva 30%:18,00*0,3*2,40*2"]
[null,null,"Stoka \"E2-2\" PVC DN250 SN12:",null,0,null,null,null,null,null,null,null,"Stoka \"E2-2\" PVC DN250 SN12:"]
[null,null,"Trubka PVC DN160:5,00*2,40*2",null,24,null,null,null,null,null,null,null,"Trubka PVC DN160:5,00*2,40*2"]
[null,null,"Rezerva 30%:5,00*0,3*2,40*2",null,7.2,null,null,null,null,null,null,null,"Rezerva 30%:5,00*0,3*2,40*2"]
[9,"151101112R00","Odstranění pažení stěn rýh - příložné - hl. do 4 m ","m2",624,null,{"$f":"E107*F107","v":0},0,{"$f":"E107*H107","v":0},0,{"$f":"E107*J107","v":0},null,null,null,2,null,null,null,null,null,null,null,null,null,null,null,1,1,1,null,null,null,null,null,null,null,null,null,null,null,null,null,null,null,null,null,null,null,null,null,null,1,{"$f":"IF(AZ107=1,G107,0)","v":0},{"$f":"IF(AZ107=2,G107,0)","v":0},{"$f":"IF(AZ107=3,G107,0)","v":0},{"$f":"IF(AZ107=4,G107,0)","v":0},{"$f":"IF(AZ107=5,G107,0)","v":0},null,null,null,null,null,null,null,null,null,null,null,null,null,null,null,null,null,null,null,null,null,1,1]
[null,null,"Výkopy:",null,0,null,null,null,null,null,null,null,"Výkopy:"]
[null,null,"Průměrná hloubka výkopů KP 2,40 m:",null,0,null,null,null,null,null,null,null,"Průměrná hloubka výkopů KP 2,40 m:"]
[null,null,"Stoka \"E1\" PVC DN250 SN12:",null,0,null,null,null,null,null,null,null,"Stoka \"E1\" PVC DN250 SN12:"]
[null,null,"Trubka  PVC DN160:27,00*2,40*2",null,129.6,null,null,null,null,null,null,null,"Trubka  PVC DN160:27,00*2,40*2"]
[null,null,"Rezerva 30%:27,00*0,3*2,40*2",null,38.880000000000003,null,null,null,null,null,null,null,"Rezerva 30%:27,00*0,3*2,40*2"]
[null,null,"Stoka \"E2\" PVC DN250 SN12:",null,0,null,null,null,null,null,null,null,"Stoka \"E2\" PVC DN250 SN12:"]
[null,null,"Trubka PVC DN160:50,00*2,40*2",null,240,null,null,null,null,null,null,null,"Trubka PVC DN160:50,00*2,40*2"]
[null,null,"Rezerva 30%:50,00*0,3*2,40*2",null,72,null,null,null,null,null,null,null,"Rezerva 30%:50,00*0,3*2,40*2"]
[null,null,"Stoka \"E2-1\" PVC DN250 SN12:",null,0,null,null,null,null,null,null,null,"Stoka \"E2-1\" PVC DN250 SN12:"]
[null,null,"Trubka PVC DN160:18,00*2,40*2",null,86.4,null,null,null,null,null,null,null,"Trubka PVC DN160:18,00*2,40*2"]
[null,null,"Rezerva 30%:18,00*0,3*2,40*2",null,25.92,null,null,null,null,null,null,null,"Rezerva 30%:18,00*0,3*2,40*2"]
[null,null,"Stoka \"E2-2\" PVC DN250 SN12:",null,0,null,null,null,null,null,null,null,"Stoka \"E2-2\" PVC DN250 SN12:"]
[null,null,"Trubka PVC DN160:5,00*2,40*2",null,24,null,null,null,null,null,null,null,"Trubka PVC DN160:5,00*2,40*2"]
[null,null,"Rezerva 30%:5,00*0,3*2,40*2",null,7.2,null,null,null,null,null,null,null,"Rezerva 30%:5,00*0,3*2,40*2"]
[10,"162701105RSZ","Vodorovné přemístění výkopku z hor.1-7 na skládku zhotovitele","m3",208,null,{"$f":"E122*F122","v":0},0,{"$f":"E122*H122","v":0},0,{"$f":"E122*J122","v":0},null,null,null,2,null,null,null,null,null,null,null,null,null,null,null,1,1,1,null,null,null,null,null,null,null,null,null,null,null,null,null,null,null,null,null,null,null,null,null,null,1,{"$f":"IF(AZ122=1,G122,0)","v":0},{"$f":"IF(AZ122=2,G122,0)","v":0},{"$f":"IF(AZ122=3,G122,0)","v":0},{"$f":"IF(AZ122=4,G122,0)","v":0},{"$f":"IF(AZ122=5,G122,0)","v":0},null,null,null,null,null,null,null,null,null,null,null,null,null,null,null,null,null,null,null,null,null,1,1]
[null,null,"Výkopy:",null,0,null,null,null,null,null,null,null,"Výkopy:"]
[null,null,"V hornině tř. 3 -  5 :208,0000",null,208,null,null,null,null,null,null,null,"V hornině tř. 3 -  5 :208,0000"]
[11,"174101101R00","Zásyp jam, rýh, šachet se zhutněním ","m3",144.56,null,{"$f":"E125*F125","v":0},0,{"$f":"E125*H125","v":0},0,{"$f":"E125*J125","v":0},null,null,null,2,null,null,null,null,null,null,null,null,null,null,null,1,1,1,null,null,null,null,null,null,null,null,null,null,null,null,null,null,null,null,null,null,null,null,null,null,1,{"$f":"IF(AZ125=1,G125,0)","v":0},{"$f":"IF(AZ125=2,G125,0)","v":0},{"$f":"IF(AZ125=3,G125,0)","v":0},{"$f":"IF(AZ125=4,G125,0)","v":0},{"$f":"IF(AZ125=5,G125,0)","v":0},null,null,null,null,null,null,null,null,null,null,null,null,null,null,null,null,null,null,null,null,null,1,1]
[null,null,"Položka obsahuje strojní přemístění materiálu pro zásyp ze vzdálenosti do 10 m od okraje zásypu.",null,null,null,null,null,null,null,null,"Položka obsahuje strojní přemístění materiálu pro zásyp ze vzdálenosti do 10 m od okraje zásypu.",null,null,3]
[null,null,null,null,null,null,null,null,null,null,null,null,null,null,3]
[null,null,"Zásypy ŠD fr. 0-63 mm:144,5600",null,144.56,null,null,null,null,null,null,null,"Zásypy ŠD fr. 0-63 mm:144,5600"]
[null,null,"Začátek provozního součtu",null,0,null,null,null,null,null,null,null,"Začátek provozního součtu"]
[null,null,"Výkopy:",null,0,null,null,null,null,null,null,null,"Výkopy:"]
[null,null,"V hornině tř. 3 -  5 :208,0000",null,208,null,null,null,null,null,null,null,"V hornině tř. 3 -  5 :208,0000"]
[null,null,"Odpočet objemu lože, potrubí a obsypů:",null,0,null,null,null,null,null,null,null,"Odpočet objemu lože, potrubí a obsypů:"]
[null,null,"Stoka \"E1\" PVC DN250 SN12:",null,0,null,null,null,null,null,null,null,"Stoka \"E1\" PVC DN250 SN12:"]
[null,null,"Trubka  PVC DN160:-27,00*0,80*(0,15+0,16+0,30)",null,-13.176,null,null,null,null,null,null,null,"Trubka  PVC DN160:-27,00*0,80*(0,15+0,16+0,30)"]
[null,null,"Rezerva 30%:-27,00*0,3*0,80*(0,15+0,16+0,30)",null,-3.9527999999999999,null,null,null,null,null,null,null,"Rezerva 30%:-27,00*0,3*0,80*(0,15+0,16+0,30)"]
[null,null,"Stoka \"E2\" PVC DN250 SN12:",null,0,null,null,null,null,null,null,null,"Stoka \"E2\" PVC DN250 SN12:"]
[null,null,"Trubka PVC DN160:-50,00*0,80*(0,15+0,16+0,30)",null,-24.4,null,null,null,null,null,null,null,"Trubka PVC DN160:-50,00*0,80*(0,15+0,16+0,30)"]
[null,null,"Rezerva 30%:-50,00*0,3*0,80*(0,15+0,16+0,30)",null,-7.32,null,null,null,null,null,null,null,"Rezerva 30%:-50,00*0,3*0,80*(0,15+0,16+0,30)"]
[null,null,"Stoka \"E2-1\" PVC DN250 SN12:",null,0,null,null,null,null,null,null,null,"Stoka \"E2-1\" PVC DN250 SN12:"]
[null,null,"Trubka PVC DN160:-18,00*0,80*(0,15+0,16+0,30)",null,-8.7840000000000007,null,null,null,null,null,null,null,"Trubka PVC DN160:-18,00*0,80*(0,15+0,16+0,30)"]
[null,null,"Rezerva 30%:-18,00*0,3*0,80*(0,15+0,16+0,30)",null,-2.6352000000000002,null,null,null,null,null,null,null,"Rezerva 30%:-18,00*0,3*0,80*(0,15+0,16+0,30)"]
[null,null,"Stoka \"E2-2\" PVC DN250 SN12:",null,0,null,null,null,null,null,null,null,"Stoka \"E2-2\" PVC DN250 SN12:"]
[null,null,"Trubka PVC DN160:-5,00*0,80*(0,15+0,16+0,30)",null,-2.44,null,null,null,null,null,null,null,"Trubka PVC DN160:-5,00*0,80*(0,15+0,16+0,30)"]
[null,null,"Rezerva 30%:-5,00*0,3*0,80*(0,15+0,16+0,30)",null,-0.73199999999999998,null,null,null,null,null,null,null,"Rezerva 30%:-5,00*0,3*0,80*(0,15+0,16+0,30)"]
[null,null,"Konec provozního součtu",null,144.56000000000003,null,null,null,null,null,null,null,"Konec provozního součtu"]
[12,"175101101R00","Obsyp potrubí bez prohození sypaniny ","m3",44.502699999999997,null,{"$f":"E146*F146","v":0},0,{"$f":"E146*H146","v":0},0,{"$f":"E146*J146","v":0},null,null,null,2,null,null,null,null,null,null,null,null,null,null,null,1,1,1,null,null,null,null,null,null,null,null,null,null,null,null,null,null,null,null,null,null,null,null,null,null,1,{"$f":"IF(AZ146=1,G146,0)","v":0},{"$f":"IF(AZ146=2,G146,0)","v":0},{"$f":"IF(AZ146=3,G146,0)","v":0},{"$f":"IF(AZ146=4,G146,0)","v":0},{"$f":"IF(AZ146=5,G146,0)","v":0},null,null,null,null,null,null,null,null,null,null,null,null,null,null,null,null,null,null,null,null,null,1,1]
[null,null,"Stoka \"E1\" PVC DN250 SN12:",null,0,null,null,null,null,null,null,null,"Stoka \"E1\" PVC DN250 SN12:"]
[null,null,"Trubka  PVC DN160:27,00*(0,80*(0,15+0,30)-0,075^2*Pi)",null,9.2429000000000006,null,null,null,null,null,null,null,"Trubka  PVC DN160:27,00*(0,80*(0,15+0,30)-0,075^2*Pi)"]
[null,null,"Rezerva 30%:27,00*0,3*(0,80*(0,15+0,30)-0,075^2*Pi)",null,2.7728999999999999,null,null,null,null,null,null,null,"Rezerva 30%:27,00*0,3*(0,80*(0,15+0,30)-0,075^2*Pi)"]
[null,null,"Stoka \"E2\" PVC DN250 SN12:",null,0,null,null,null,null,null,null,null,"Stoka \"E2\" PVC DN250 SN12:"]
[null,null,"Trubka PVC DN160:50,00*(0,80*(0,15+0,30)-0,075^2*Pi)",null,17.116399999999999,null,null,null,null,null,null,null,"Trubka PVC DN160:50,00*(0,80*(0,15+0,30)-0,075^2*Pi)"]
[null,null,"Rezerva 30%:50,00*0,3*(0,80*(0,15+0,30)-0,075^2*Pi)",null,5.1349,null,null,null,null,null,null,null,"Rezerva 30%:50,00*0,3*(0,80*(0,15+0,30)-0,075^2*Pi)"]
[null,null,"Stoka \"E2-1\" PVC DN250 SN12:",null,0,null,null,null,null,null,null,null,"Stoka \"E2-1\" PVC DN250 SN12:"]
[null,null,"Trubka PVC DN160:18,00*(0,80*(0,15+0,30)-0,075^2*Pi)",null,6.1619000000000002,null,null,null,null,null,null,null,"Trubka PVC DN160:18,00*(0,80*(0,15+0,30)-0,075^2*Pi)"]
[null,null,"Rezerva 30%:18,00*0,3*(0,80*(0,15+0,30)-0,075^2*Pi)",null,1.8486,null,null,null,null,null,null,null,"Rezerva 30%:18,00*0,3*(0,80*(0,15+0,30)-0,075^2*Pi)"]
[null,null,"Stoka \"E2-2\" PVC DN250 SN12:",null,0,null,null,null,null,null,null,null,"Stoka \"E2-2\" PVC DN250 SN12:"]
[null,null,"Trubka PVC DN160:5,00*(0,80*(0,15+0,30)-0,075^2*Pi)",null,1.7116,null,null,null,null,null,null,null,"Trubka PVC DN160:5,00*(0,80*(0,15+0,30)-0,075^2*Pi)"]
[null,null,"Rezerva 30%:5,00*0,3*(0,80*(0,15+0,30)-0,075^2*Pi)",null,0.51349999999999996,null,null,null,null,null,null,null,"Rezerva 30%:5,00*0,3*(0,80*(0,15+0,30)-0,075^2*Pi)"]
[13,"199000002R00","Poplatek za skládku horniny 1- 7 č. dle katal. odpadů 17 05 04","m3",208,null,{"$f":"E159*F159","v":0},0,{"$f":"E159*H159","v":0},0,{"$f":"E159*J159","v":0},null,null,null,2,null,null,null,null,null,null,null,null,null,null,null,1,1,1,null,null,null,null,null,null,null,null,null,null,null,null,null,null,null,null,null,null,null,null,null,null,1,{"$f":"IF(AZ159=1,G159,0)","v":0},{"$f":"IF(AZ159=2,G159,0)","v":0},{"$f":"IF(AZ159=3,G159,0)","v":0},{"$f":"IF(AZ159=4,G159,0)","v":0},{"$f":"IF(AZ159=5,G159,0)","v":0},null,null,null,null,null,null,null,null,null,null,null,null,null,null,null,null,null,null,null,null,null,1,1]
[null,null,"Výkopy:",null,0,null,null,null,null,null,null,null,"Výkopy:"]
[null,null,"V hornině tř. 3 -  5 :208,0000",null,208,null,null,null,null,null,null,null,"V hornině tř. 3 -  5 :208,0000"]
[14,"58337308.R","Štěrkopísek frakce 0-2 tř.B","t",88.681899999999999,null,{"$f":"E162*F162","v":0},1,{"$f":"E162*H162","v":88.681899999999999},null,{"$f":"E162*J162","v":0},null,null,null,2,null,null,null,null,null,null,null,null,null,null,null,3,1,"58337308.R",null,null,null,null,null,null,null,null,null,null,null,null,null,null,null,null,null,null,null,null,null,null,1,{"$f":"IF(AZ162=1,G162,0)","v":0},{"$f":"IF(AZ162=2,G162,0)","v":0},{"$f":"IF(AZ162=3,G162,0)","v":0},{"$f":"IF(AZ162=4,G162,0)","v":0},{"$f":"IF(AZ162=5,G162,0)","v":0},null,null,null,null,null,null,null,null,null,null,null,null,null,null,null,null,null,null,null,null,null,3,1]
[null,null,"Stoka \"E1\" PVC DN250 SN12:",null,0,null,null,null,null,null,null,null,"Stoka \"E1\" PVC DN250 SN12:"]
[null,null,"Trubka  PVC DN160:27,00*(0,80*(0,15+0,30)-0,075^2*Pi)*1,973*1,01",null,18.418500000000002,null,null,null,null,null,null,null,"Trubka  PVC DN160:27,00*(0,80*(0,15+0,30)-0,075^2*Pi)*1,973*1,01"]
[null,null,"Rezerva 30%:27,00*0,3*(0,80*(0,15+0,30)-0,075^2*Pi)*1,973*1,01",null,5.5255999999999998,null,null,null,null,null,null,null,"Rezerva 30%:27,00*0,3*(0,80*(0,15+0,30)-0,075^2*Pi)*1,973*1,01"]
[null,null,"Stoka \"E2\" PVC DN250 SN12:",null,0,null,null,null,null,null,null,null,"Stoka \"E2\" PVC DN250 SN12:"]
[null,null,"Trubka PVC DN160:50,00*(0,80*(0,15+0,30)-0,075^2*Pi)*1,973*1,01",null,34.108400000000003,null,null,null,null,null,null,null,"Trubka PVC DN160:50,00*(0,80*(0,15+0,30)-0,075^2*Pi)*1,973*1,01"]
[null,null,"Rezerva 30%:50,00*0,3*(0,80*(0,15+0,30)-0,075^2*Pi)*1,973*1,01",null,10.2325,null,null,null,null,null,null,null,"Rezerva 30%:50,00*0,3*(0,80*(0,15+0,30)-0,075^2*Pi)*1,973*1,01"]
[null,null,"Stoka \"E2-1\" PVC DN250 SN12:",null,0,null,null,null,null,null,null,null,"Stoka \"E2-1\" PVC DN250 SN12:"]
[null,null,"Trubka PVC DN160:18,00*(0,80*(0,15+0,30)-0,075^2*Pi)*1,973*1,01",null,12.279,null,null,null,null,null,null,null,"Trubka PVC DN160:18,00*(0,80*(0,15+0,30)-0,075^2*Pi)*1,973*1,01"]
[null,null,"Rezerva 30%:18,00*0,3*(0,80*(0,15+0,30)-0,075^2*Pi)*1,973*1,01",null,3.6837,null,null,null,null,null,null,null,"Rezerva 30%:18,00*0,3*(0,80*(0,15+0,30)-0,075^2*Pi)*1,973*1,01"]
[null,null,"Stoka \"E2-2\" PVC DN250 SN12:",null,0,null,null,null,null,null,null,null,"Stoka \"E2-2\" PVC DN250 SN12:"]
[null,null,"Trubka PVC DN160:5,00*(0,80*(0,15+0,30)-0,075^2*Pi)*1,973*1,01",null,3.4108000000000001,null,null,null,null,null,null,null,"Trubka PVC DN160:5,00*(0,80*(0,15+0,30)-0,075^2*Pi)*1,973*1,01"]
[null,null,"Rezerva 30%:5,00*0,3*(0,80*(0,15+0,30)-0,075^2*Pi)*1,973*1,01",null,1.0233000000000001,null,null,null,null,null,null,null,"Rezerva 30%:5,00*0,3*(0,80*(0,15+0,30)-0,075^2*Pi)*1,973*1,01"]
[15,"58344197R","Štěrkodrtě frakce 0-63 A","t",273.46850000000001,null,{"$f":"E175*F175","v":0},1,{"$f":"E175*H175","v":273.46850000000001},null,{"$f":"E175*J175","v":0},null,null,null,2,null,null,null,null,null,null,null,null,null,null,null,3,1,"58344197R",null,null,null,null,null,null,null,null,null,null,null,null,null,null,null,null,null,null,null,null,null,null,1,{"$f":"IF(AZ175=1,G175,0)","v":0},{"$f":"IF(AZ175=2,G175,0)","v":0},{"$f":"IF(AZ175=3,G175,0)","v":0},{"$f":"IF(AZ175=4,G175,0)","v":0},{"$f":"IF(AZ175=5,G175,0)","v":0},null,null,null,null,null,null,null,null,null,null,null,null,null,null,null,null,null,null,null,null,null,3,1]
[null,null,"Zásypy ŠD fr. 0-63 mm:144,5600*1,873*1,01",null,273.46850000000001,null,null,null,null,null,null,null,"Zásypy ŠD fr. 0-63 mm:144,5600*1,873*1,01"]
[null,"Celkem za","1 Zemní práce",null,null,null,{"$f":"SUM(G7:G176)","v":0},null,{"$f":"SUM(I7:I176)","v":362.90356800000001},null,{"$f":"SUM(K7:K176)","v":0},null,null,null,4,null,null,null,null,null,null,null,null,null,null,null,null,null,null,null,null,null,null,null,null,null,null,null,null,null,null,null,null,null,null,null,null,null,null,null,null,null,{"$f":"SUM(BA7:BA176)","v":0},{"$f":"SUM(BB7:BB176)","v":0},{"$f":"SUM(BC7:BC176)","v":0},{"$f":"SUM(BD7:BD176)","v":0},{"$f":"SUM(BE7:BE176)","v":0}]
["Díl:","45","Podkladní a vedlejší konstrukce",null,null,null,null,null,null,null,null,null,null,null,1]
[16,"451572111R00","Lože pod potrubí z kameniva těženého 0 - 4 mm ","m3",15.6,null,{"$f":"E179*F179","v":0},0.43051,{"$f":"E179*H179","v":6.7159560000000003},0,{"$f":"E179*J179","v":0},null,null,null,2,null,null,null,null,null,null,null,null,null,null,null,1,1,1,null,null,null,null,null,null,null,null,null,null,null,null,null,null,null,null,null,null,null,null,null,null,1,{"$f":"IF(AZ179=1,G179,0)","v":0},{"$f":"IF(AZ179=2,G179,0)","v":0},{"$f":"IF(AZ179=3,G179,0)","v":0},{"$f":"IF(AZ179=4,G179,0)","v":0},{"$f":"IF(AZ179=5,G179,0)","v":0},null,null,null,null,null,null,null,null,null,null,null,null,null,null,null,null,null,null,null,null,null,1,1]
[null,null,"Stoka \"E1\" PVC DN250 SN12:",null,0,null,null,null,null,null,null,null,"Stoka \"E1\" PVC DN250 SN12:"]
[null,null,"Trubka  PVC DN160:27,00*0,80*0,15",null,3.24,null,null,null,null,null,null,null,"Trubka  PVC DN160:27,00*0,80*0,15"]
[null,null,"Rezerva 30%:27,00*0,3*0,80*0,15",null,0.97199999999999998,null,null,null,null,null,null,null,"Rezerva 30%:27,00*0,3*0,80*0,15"]
[null,null,"Stoka \"E2\" PVC DN250 SN12:",null,0,null,null,null,null,null,null,null,"Stoka \"E2\" PVC DN250 SN12:"]
[null,null,"Trubka PVC DN160:50,00*0,80*0,15",null,6,null,null,null,null,null,null,null,"Trubka PVC DN160:50,00*0,80*0,15"]
[null,null,"Rezerva 30%:50,00*0,3*0,80*0,15",null,1.8,null,null,null,null,null,null,null,"Rezerva 30%:50,00*0,3*0,80*0,15"]
[null,null,"Stoka \"E2-1\" PVC DN250 SN12:",null,0,null,null,null,null,null,null,null,"Stoka \"E2-1\" PVC DN250 SN12:"]
[null,null,"Trubka PVC DN160:18,00*0,80*0,15",null,2.16,null,null,null,null,null,null,null,"Trubka PVC DN160:18,00*0,80*0,15"]
[null,null,"Rezerva 30%:18,00*0,3*0,80*0,15",null,0.64800000000000002,null,null,null,null,null,null,null,"Rezerva 30%:18,00*0,3*0,80*0,15"]
[null,null,"Stoka \"E2-2\" PVC DN250 SN12:",null,0,null,null,null,null,null,null,null,"Stoka \"E2-2\" PVC DN250 SN12:"]
[null,null,"Trubka PVC DN160:5,00*0,80*0,15",null,0.6,null,null,null,null,null,null,null,"Trubka PVC DN160:5,00*0,80*0,15"]
[null,null,"Rezerva 30%:5,00*0,3*0,80*0,15",null,0.18,null,null,null,null,null,null,null,"Rezerva 30%:5,00*0,3*0,80*0,15"]
[null,"Celkem za","45 Podkladní a vedlejší konstrukce",null,null,null,{"$f":"SUM(G178:G191)","v":0},null,{"$f":"SUM(I178:I191)","v":6.7159560000000003},null,{"$f":"SUM(K178:K191)","v":0},null,null,null,4,null,null,null,null,null,null,null,null,null,null,null,null,null,null,null,null,null,null,null,null,null,null,null,null,null,null,null,null,null,null,null,null,null,null,null,null,null,{"$f":"SUM(BA178:BA191)","v":0},{"$f":"SUM(BB178:BB191)","v":0},{"$f":"SUM(BC178:BC191)","v":0},{"$f":"SUM(BD178:BD191)","v":0},{"$f":"SUM(BE178:BE191)","v":0}]
["Díl:","5","Komunikace",null,null,null,null,null,null,null,null,null,null,null,1]
[17,"572701119RRX","Provizorní zásyp rýh kam. hrubě drceným nebo recyk s následným odstraněním a odvozem","m3",41.6,null,{"$f":"E194*F194","v":0},1.4804999999999999,{"$f":"E194*H194","v":61.588799999999999},0,{"$f":"E194*J194","v":0},null,null,null,2,null,null,null,null,null,null,null,null,null,null,null,1,1,1,null,null,null,null,null,null,null,null,null,null,null,null,null,null,null,null,null,null,null,null,null,null,1,{"$f":"IF(AZ194=1,G194,0)","v":0},{"$f":"IF(AZ194=2,G194,0)","v":0},{"$f":"IF(AZ194=3,G194,0)","v":0},{"$f":"IF(AZ194=4,G194,0)","v":0},{"$f":"IF(AZ194=5,G194,0)","v":0},null,null,null,null,null,null,null,null,null,null,null,null,null,null,null,null,null,null,null,null,null,1,1]
[null,null,"Stoka \"E1\" PVC DN250 SN12:",null,0,null,null,null,null,null,null,null,"Stoka \"E1\" PVC DN250 SN12:"]
[null,null,"Trubka  PVC DN160:27,00*0,80*0,40",null,8.64,null,null,null,null,null,null,null,"Trubka  PVC DN160:27,00*0,80*0,40"]
[null,null,"Rezerva 30%:27,00*0,3*0,80*0,40",null,2.5920000000000001,null,null,null,null,null,null,null,"Rezerva 30%:27,00*0,3*0,80*0,40"]
[null,null,"Stoka \"E2\" PVC DN250 SN12:",null,0,null,null,null,null,null,null,null,"Stoka \"E2\" PVC DN250 SN12:"]
[null,null,"Trubka PVC DN160:50,00*0,80*0,40",null,16,null,null,null,null,null,null,null,"Trubka PVC DN160:50,00*0,80*0,40"]
[null,null,"Rezerva 30%:50,00*0,3*0,80*0,40",null,4.8,null,null,null,null,null,null,null,"Rezerva 30%:50,00*0,3*0,80*0,40"]
[null,null,"Stoka \"E2-1\" PVC DN250 SN12:",null,0,null,null,null,null,null,null,null,"Stoka \"E2-1\" PVC DN250 SN12:"]
[null,null,"Trubka PVC DN160:18,00*0,80*0,40",null,5.76,null,null,null,null,null,null,null,"Trubka PVC DN160:18,00*0,80*0,40"]
[null,null,"Rezerva 30%:18,00*0,3*0,80*0,40",null,1.728,null,null,null,null,null,null,null,"Rezerva 30%:18,00*0,3*0,80*0,40"]
[null,null,"Stoka \"E2-2\" PVC DN250 SN12:",null,0,null,null,null,null,null,null,null,"Stoka \"E2-2\" PVC DN250 SN12:"]
[null,null,"Trubka PVC DN160:5,00*0,80*0,40",null,1.6,null,null,null,null,null,null,null,"Trubka PVC DN160:5,00*0,80*0,40"]
[null,null,"Rezerva 30%:5,00*0,3*0,80*0,40",null,0.48,null,null,null,null,null,null,null,"Rezerva 30%:5,00*0,3*0,80*0,40"]
[null,"Celkem za","5 Komunikace",null,null,null,{"$f":"SUM(G193:G206)","v":0},null,{"$f":"SUM(I193:I206)","v":61.588799999999999},null,{"$f":"SUM(K193:K206)","v":0},null,null,null,4,null,null,null,null,null,null,null,null,null,null,null,null,null,null,null,null,null,null,null,null,null,null,null,null,null,null,null,null,null,null,null,null,null,null,null,null,null,{"$f":"SUM(BA193:BA206)","v":0},{"$f":"SUM(BB193:BB206)","v":0},{"$f":"SUM(BC193:BC206)","v":0},{"$f":"SUM(BD193:BD206)","v":0},{"$f":"SUM(BE193:BE206)","v":0}]
["Díl:","8","Trubní vedení",null,null,null,null,null,null,null,null,null,null,null,1]
[18,"871313121R00","Montáž trub z plastu, gumový kroužek, DN 150 ","m",130,null,{"$f":"E209*F209","v":0},0,{"$f":"E209*H209","v":0},0,{"$f":"E209*J209","v":0},null,null,null,2,null,null,null,null,null,null,null,null,null,null,null,1,1,1,null,null,null,null,null,null,null,null,null,null,null,null,null,null,null,null,null,null,null,null,null,null,1,{"$f":"IF(AZ209=1,G209,0)","v":0},{"$f":"IF(AZ209=2,G209,0)","v":0},{"$f":"IF(AZ209=3,G209,0)","v":0},{"$f":"IF(AZ209=4,G209,0)","v":0},{"$f":"IF(AZ209=5,G209,0)","v":0},null,null,null,null,null,null,null,null,null,null,null,null,null,null,null,null,null,null,null,null,null,1,1]
[null,null,"V položce je uvažováno s jedním spojem na 6 m potrubí. Položka je určena pro montáž potrubí z kanalizačních trub z plastu těsněných gumovým kroužkem v otevřeném výkopu ve sklonu do 20 %.",null,null,null,null,null,null,null,null,"V položce je uvažováno s jedním spojem na 6 m potrubí. Položka je určena pro montáž potrubí z kanalizačních trub z plastu těsněných gumovým kroužkem v otevřeném výkopu ve sklonu do 20 %.",null,null,3]
[null,null,"Stoka \"E1\" PVC DN250 SN12:",null,0,null,null,null,null,null,null,null,"Stoka \"E1\" PVC DN250 SN12:"]
[null,null,"Trubka  PVC DN160:27,00",null,27,null,null,null,null,null,null,null,"Trubka  PVC DN160:27,00"]
[null,null,"Začátek provozního součtu",null,0,null,null,null,null,null,null,null,"Začátek provozního součtu"]
[null,null,"Pro čp. 862 :",null,0,null,null,null,null,null,null,null,"Pro čp. 862 :"]
[null,null,"Pro čp. 872 do Š:",null,0,null,null,null,null,null,null,null,"Pro čp. 872 do Š:"]
[null,null,"Pro čp. 873:",null,0,null,null,null,null,null,null,null,"Pro čp. 873:"]
[null,null,"Pro čp. 860 do Š:",null,0,null,null,null,null,null,null,null,"Pro čp. 860 do Š:"]
[null,null,"Pro čp. 874:",null,0,null,null,null,null,null,null,null,"Pro čp. 874:"]
[null,null,"Pro čp. 859:",null,0,null,null,null,null,null,null,null,"Pro čp. 859:"]
[null,null,"Konec provozního součtu",null,0,null,null,null,null,null,null,null,"Konec provozního součtu"]
[null,null,"Rezerva 30%:27,00*0,3",null,8.1,null,null,null,null,null,null,null,"Rezerva 30%:27,00*0,3"]
[null,null,"Stoka \"E2\" PVC DN250 SN12:",null,0,null,null,null,null,null,null,null,"Stoka \"E2\" PVC DN250 SN12:"]
[null,null,"Trubka PVC DN160:50,00",null,50,null,null,null,null,null,null,null,"Trubka PVC DN160:50,00"]
[null,null,"Začátek provozního součtu",null,0,null,null,null,null,null,null,null,"Začátek provozního součtu"]
[null,null,"Pro čp. 863:",null,0,null,null,null,null,null,null,null,"Pro čp. 863:"]
[null,null,"Pro čp. 871:",null,0,null,null,null,null,null,null,null,"Pro čp. 871:"]
[null,null,"Pro čp. 864 do Š:",null,0,null,null,null,null,null,null,null,"Pro čp. 864 do Š:"]
[null,null,"Pro čp. 870:",null,0,null,null,null,null,null,null,null,"Pro čp. 870:"]
[null,null,"Pro čp. 865:",null,0,null,null,null,null,null,null,null,"Pro čp. 865:"]
[null,null,"Pro čp. 869:",null,0,null,null,null,null,null,null,null,"Pro čp. 869:"]
[null,null,"Pro čp. 866:",null,0,null,null,null,null,null,null,null,"Pro čp. 866:"]
[null,null,"Pro čp. 868:",null,0,null,null,null,null,null,null,null,"Pro čp. 868:"]
[null,null,"Pro čp. 867 do Š:",null,0,null,null,null,null,null,null,null,"Pro čp. 867 do Š:"]
[null,null,"Pro čp. 899 do Š:",null,0,null,null,null,null,null,null,null,"Pro čp. 899 do Š:"]
[null,null,"Pro čp. 898:",null,0,null,null,null,null,null,null,null,"Pro čp. 898:"]
[null,null,"Konec provozního součtu",null,0,null,null,null,null,null,null,null,"Konec provozního součtu"]
[null,null,"Rezerva 30%:50,00*0,3",null,15,null,null,null,null,null,null,null,"Rezerva 30%:50,00*0,3"]
[null,null,"Stoka \"E2-1\" PVC DN250 SN12:",null,0,null,null,null,null,null,null,null,"Stoka \"E2-1\" PVC DN250 SN12:"]
[null,null,"Trubka PVC DN160:18,00",null,18,null,null,null,null,null,null,null,"Trubka PVC DN160:18,00"]
[null,null,"Začátek provozního součtu",null,0,null,null,null,null,null,null,null,"Začátek provozního součtu"]
[null,null,"Pro čp. 894:",null,0,null,null,null,null,null,null,null,"Pro čp. 894:"]
[null,null,"Pro čp. 895:",null,0,null,null,null,null,null,null,null,"Pro čp. 895:"]
[null,null,"Pro čp. 818 do Š:",null,0,null,null,null,null,null,null,null,"Pro čp. 818 do Š:"]
[null,null,"Pro čp. 816 do Š:",null,0,null,null,null,null,null,null,null,"Pro čp. 816 do Š:"]
[null,null,"Konec provozního součtu",null,0,null,null,null,null,null,null,null,"Konec provozního součtu"]
[null,null,"Rezerva 30%:18,00*0,3",null,5.4,null,null,null,null,null,null,null,"Rezerva 30%:18,00*0,3"]
[null,null,"Stoka \"E2-2\" PVC DN250 SN12:",null,0,null,null,null,null,null,null,null,"Stoka \"E2-2\" PVC DN250 SN12:"]
[null,null,"Trubka PVC DN160:5,00",null,5,null,null,null,null,null,null,null,"Trubka PVC DN160:5,00"]
[null,null,"Začátek provozního součtu",null,0,null,null,null,null,null,null,null,"Začátek provozního součtu"]
[null,null,"Pro čp. 896:",null,0,null,null,null,null,null,null,null,"Pro čp. 896:"]
[null,null,"Konec provozního součtu",null,0,null,null,null,null,null,null,null,"Konec provozního součtu"]
[null,null,"Rezerva 30%:5,00*0,3",null,1.5,null,null,null,null,null,null,null,"Rezerva 30%:5,00*0,3"]
[19,"877313123R00","Montáž tvarovek jednoos. plast. gum.kroužek DN 150 ","kus",59,null,{"$f":"E253*F253","v":0},1.0000000000000001E-5,{"$f":"E253*H253","v":5.9000000000000003E-4},0,{"$f":"E253*J253","v":0},null,null,null,2,null,null,null,null,null,null,null,null,null,null,null,1,1,1,null,null,null,null,null,null,null,null,null,null,null,null,null,null,null,null,null,null,null,null,null,null,1,{"$f":"IF(AZ253=1,G253,0)","v":0},{"$f":"IF(AZ253=2,G253,0)","v":0},{"$f":"IF(AZ253=3,G253,0)","v":0},{"$f":"IF(AZ253=4,G253,0)","v":0},{"$f":"IF(AZ253=5,G253,0)","v":0},null,null,null,null,null,null,null,null,null,null,null,null,null,null,null,null,null,null,null,null,null,1,1]
[null,null,"Položka je určena pro montáž tvarovek jednoosých na potrubí z kanalizačních trub z plastu těsněných gumovým kroužkem v otevřeném výkopu.",null,null,null,null,null,null,null,null,"Položka je určena pro montáž tvarovek jednoosých na potrubí z kanalizačních trub z plastu těsněných gumovým kroužkem v otevřeném výkopu.",null,null,3]
[null,null,"Stoka \"E1\" PVC DN250 SN12:",null,0,null,null,null,null,null,null,null,"Stoka \"E1\" PVC DN250 SN12:"]
[null,null,"Koleno PVC DN150/15°, 30°,45°,90°:16",null,16,null,null,null,null,null,null,null,"Koleno PVC DN150/15°, 30°,45°,90°:16"]
[null,null,"Začátek provozního součtu",null,0,null,null,null,null,null,null,null,"Začátek provozního součtu"]
[null,null,"Pro čp. 862 :3",null,3,null,null,null,null,null,null,null,"Pro čp. 862 :3"]
[null,null,"Pro čp. 872 do Š:2",null,2,null,null,null,null,null,null,null,"Pro čp. 872 do Š:2"]
[null,null,"Pro čp. 873:3",null,3,null,null,null,null,null,null,null,"Pro čp. 873:3"]
[null,null,"Pro čp. 860 do Š:2",null,2,null,null,null,null,null,null,null,"Pro čp. 860 do Š:2"]
[null,null,"Pro čp. 874:3",null,3,null,null,null,null,null,null,null,"Pro čp. 874:3"]
[null,null,"Pro čp. 859:3",null,3,null,null,null,null,null,null,null,"Pro čp. 859:3"]
[null,null,"Konec provozního součtu",null,16,null,null,null,null,null,null,null,"Konec provozního součtu"]
[null,null,"Stoka \"E2\" PVC DN250 SN12:",null,0,null,null,null,null,null,null,null,"Stoka \"E2\" PVC DN250 SN12:"]
[null,null,"Koleno PVC DN150/15°, 30°,45°,90°:30",null,30,null,null,null,null,null,null,null,"Koleno PVC DN150/15°, 30°,45°,90°:30"]
[null,null,"Začátek provozního součtu",null,0,null,null,null,null,null,null,null,"Začátek provozního součtu"]
[null,null,"Pro čp. 863:3",null,3,null,null,null,null,null,null,null,"Pro čp. 863:3"]
[null,null,"Pro čp. 871:3",null,3,null,null,null,null,null,null,null,"Pro čp. 871:3"]
[null,null,"Pro čp. 864 do Š:2",null,2,null,null,null,null,null,null,null,"Pro čp. 864 do Š:2"]
[null,null,"Pro čp. 870:3",null,3,null,null,null,null,null,null,null,"Pro čp. 870:3"]
[null,null,"Pro čp. 865:3",null,3,null,null,null,null,null,null,null,"Pro čp. 865:3"]
[null,null,"Pro čp. 869:3",null,3,null,null,null,null,null,null,null,"Pro čp. 869:3"]
[null,null,"Pro čp. 866:3",null,3,null,null,null,null,null,null,null,"Pro čp. 866:3"]
[null,null,"Pro čp. 868:3",null,3,null,null,null,null,null,null,null,"Pro čp. 868:3"]
[null,null,"Pro čp. 867 do Š:2",null,2,null,null,null,null,null,null,null,"Pro čp. 867 do Š:2"]
[null,null,"Pro čp. 899 do Š:2",null,2,null,null,null,null,null,null,null,"Pro čp. 899 do Š:2"]
[null,null,"Pro čp. 898:3",null,3,null,null,null,null,null,null,null,"Pro čp. 898:3"]
[null,null,"Konec provozního součtu",null,30,null,null,null,null,null,null,null,"Konec provozního součtu"]
[null,null,"Stoka \"E2-1\" PVC DN250 SN12:",null,0,null,null,null,null,null,null,null,"Stoka \"E2-1\" PVC DN250 SN12:"]
[null,null,"Koleno PVC DN150/15°, 30°,45°,90°:10",null,10,null,null,null,null,null,null,null,"Koleno PVC DN150/15°, 30°,45°,90°:10"]
[null,null,"Začátek provozního součtu",null,0,null,null,null,null,null,null,null,"Začátek provozního součtu"]
[null,null,"Pro čp. 894:3",null,3,null,null,null,null,null,null,null,"Pro čp. 894:3"]
[null,null,"Pro čp. 895:3",null,3,null,null,null,null,null,null,null,"Pro čp. 895:3"]
[null,null,"Pro čp. 818 do Š:2",null,2,null,null,null,null,null,null,null,"Pro čp. 818 do Š:2"]
[null,null,"Pro čp. 816 do Š:2",null,2,null,null,null,null,null,null,null,"Pro čp. 816 do Š:2"]
[null,null,"Konec provozního součtu",null,10,null,null,null,null,null,null,null,"Konec provozního součtu"]
[null,null,"Stoka \"E2-2\" PVC DN250 SN12:",null,0,null,null,null,null,null,null,null,"Stoka \"E2-2\" PVC DN250 SN12:"]
[null,null,"Koleno PVC DN150/15°, 30°,45°,90°:3",null,3,null,null,null,null,null,null,null,"Koleno PVC DN150/15°, 30°,45°,90°:3"]
[null,null,"Začátek provozního součtu",null,0,null,null,null,null,null,null,null,"Začátek provozního součtu"]
[null,null,"Pro čp. 896:3",null,3,null,null,null,null,null,null,null,"Pro čp. 896:3"]
[null,null,"Konec provozního součtu",null,3,null,null,null,null,null,null,null,"Konec provozního součtu"]
[20,"891183439RX0","Přepojení potrubí PVC na přípojkách DN 150 včetně dodávky přepojovací tvarovky","kus",22,null,{"$f":"E293*F293","v":0},4.6000000000000001E-4,{"$f":"E293*H293","v":1.0120000000000001E-2},0,{"$f":"E293*J293","v":0},null,null,null,2,null,null,null,null,null,null,null,null,null,null,null,1,1,1,null,null,null,null,null,null,null,null,null,null,null,null,null,null,null,null,null,null,null,null,null,null,1,{"$f":"IF(AZ293=1,G293,0)","v":0},{"$f":"IF(AZ293=2,G293,0)","v":0},{"$f":"IF(AZ293=3,G293,0)","v":0},{"$f":"IF(AZ293=4,G293,0)","v":0},{"$f":"IF(AZ293=5,G293,0)","v":0},null,null,null,null,null,null,null,null,null,null,null,null,null,null,null,null,null,null,null,null,null,1,1]
[null,null,"Položka obsahuje přerušení stávajícího kameninového, betonového nebo PVC potrubí DN150, dodávku a montáž tvarovky pro napojení nového PVC potrubí DN150 na stávající potrubí. ",null,null,null,null,null,null,null,null,"Položka obsahuje přerušení stávajícího kameninového, betonového nebo PVC potrubí DN150, dodávku a montáž tvarovky pro napojení nového PVC potrubí DN150 na stávající potrubí. ",null,null,3]
[null,null,"Stoka \"E1\" PVC DN250 SN12:",null,0,null,null,null,null,null,null,null,"Stoka \"E1\" PVC DN250 SN12:"]
[null,null,"Přepojení za DRŠ DN425:6",null,6,null,null,null,null,null,null,null,"Přepojení za DRŠ DN425:6"]
[null,null,"Stoka \"E2\" PVC DN250 SN12:",null,0,null,null,null,null,null,null,null,"Stoka \"E2\" PVC DN250 SN12:"]
[null,null,"Přepojení za DRŠ DN425:11",null,11,null,null,null,null,null,null,null,"Přepojení za DRŠ DN425:11"]
[null,null,"Stoka \"E2-1\" PVC DN250 SN12:",null,0,null,null,null,null,null,null,null,"Stoka \"E2-1\" PVC DN250 SN12:"]
[null,null,"Přepojení za DRŠ DN425:4",null,4,null,null,null,null,null,null,null,"Přepojení za DRŠ DN425:4"]
[null,null,"Stoka \"E2-2\" PVC DN250 SN12:",null,0,null,null,null,null,null,null,null,"Stoka \"E2-2\" PVC DN250 SN12:"]
[null,null,"Přepojení za DRŠ DN425:1",null,1,null,null,null,null,null,null,null,"Přepojení za DRŠ DN425:1"]
[21,"892601121R00","Čištění kanalizační stoky do DN 200, do 15 m ","úsek",22,null,{"$f":"E303*F303","v":0},0,{"$f":"E303*H303","v":0},0,{"$f":"E303*J303","v":0},null,null,null,2,null,null,null,null,null,null,null,null,null,null,null,1,1,1,null,null,null,null,null,null,null,null,null,null,null,null,null,null,null,null,null,null,null,null,null,null,1,{"$f":"IF(AZ303=1,G303,0)","v":0},{"$f":"IF(AZ303=2,G303,0)","v":0},{"$f":"IF(AZ303=3,G303,0)","v":0},{"$f":"IF(AZ303=4,G303,0)","v":0},{"$f":"IF(AZ303=5,G303,0)","v":0},null,null,null,null,null,null,null,null,null,null,null,null,null,null,null,null,null,null,null,null,null,1,1]
[null,null,"V položce je zakalkulováno:",null,null,null,null,null,null,null,null,"V položce je zakalkulováno:",null,null,3]
[null,null,"a) otevření a uzavření revizních šachet a čisticích kusů",null,null,null,null,null,null,null,null,"a) otevření a uzavření revizních šachet a čisticích kusů",null,null,3]
[null,null,"b) natažení vysokotlakých hadic k místu odkud se bude kanalizace čistit",null,null,null,null,null,null,null,null,"b) natažení vysokotlakých hadic k místu odkud se bude kanalizace čistit",null,null,3]
[null,null,"c) vyčištění potrubí tlakovou vodou nebo motorovým pérem.",null,null,null,null,null,null,null,null,"c) vyčištění potrubí tlakovou vodou nebo motorovým pérem.",null,null,3]
[null,null,"Stoka \"E1\" PVC DN250 SN12:",null,0,null,null,null,null,null,null,null,"Stoka \"E1\" PVC DN250 SN12:"]
[null,null,"Přepojení za DRŠ DN425:6",null,6,null,null,null,null,null,null,null,"Přepojení za DRŠ DN425:6"]
[null,null,"Stoka \"E2\" PVC DN250 SN12:",null,0,null,null,null,null,null,null,null,"Stoka \"E2\" PVC DN250 SN12:"]
[null,null,"Přepojení za DRŠ DN425:11",null,11,null,null,null,null,null,null,null,"Přepojení za DRŠ DN425:11"]
[null,null,"Stoka \"E2-1\" PVC DN250 SN12:",null,0,null,null,null,null,null,null,null,"Stoka \"E2-1\" PVC DN250 SN12:"]
[null,null,"Přepojení za DRŠ DN425:4",null,4,null,null,null,null,null,null,null,"Přepojení za DRŠ DN425:4"]
[null,null,"Stoka \"E2-2\" PVC DN250 SN12:",null,0,null,null,null,null,null,null,null,"Stoka \"E2-2\" PVC DN250 SN12:"]
[null,null,"Přepojení za DRŠ DN425:1",null,1,null,null,null,null,null,null,null,"Přepojení za DRŠ DN425:1"]
[22,"892855111R00","Kontrola kanalizace TV kamerou do 15 m ","úsek",22,null,{"$f":"E316*F316","v":0},0,{"$f":"E316*H316","v":0},0,{"$f":"E316*J316","v":0},null,null,null,2,null,null,null,null,null,null,null,null,null,null,null,1,1,1,null,null,null,null,null,null,null,null,null,null,null,null,null,null,null,null,null,null,null,null,null,null,1,{"$f":"IF(AZ316=1,G316,0)","v":0},{"$f":"IF(AZ316=2,G316,0)","v":0},{"$f":"IF(AZ316=3,G316,0)","v":0},{"$f":"IF(AZ316=4,G316,0)","v":0},{"$f":"IF(AZ316=5,G316,0)","v":0},null,null,null,null,null,null,null,null,null,null,null,null,null,null,null,null,null,null,null,null,null,1,1]
[null,null,"Provedení kaberové prohlídky včetně dodání elektronického záznamu na CD zadavateli a tištěné dokumentace průběhu kamerové prohlídky",null,null,null,null,null,null,null,null,"Provedení kaberové prohlídky včetně dodání elektronického záznamu na CD zadavateli a tištěné dokumentace průběhu kamerové prohlídky",null,null,3]
[null,null,"Stoka \"E1\" PVC DN250 SN12:",null,0,null,null,null,null,null,null,null,"Stoka \"E1\" PVC DN250 SN12:"]
[null,null,"Přepojení za DRŠ DN425:6",null,6,null,null,null,null,null,null,null,"Přepojení za DRŠ DN425:6"]
[null,null,"Stoka \"E2\" PVC DN250 SN12:",null,0,null,null,null,null,null,null,null,"Stoka \"E2\" PVC DN250 SN12:"]
[null,null,"Přepojení za DRŠ DN425:11",null,11,null,null,null,null,null,null,null,"Přepojení za DRŠ DN425:11"]
[null,null,"Stoka \"E2-1\" PVC DN250 SN12:",null,0,null,null,null,null,null,null,null,"Stoka \"E2-1\" PVC DN250 SN12:"]
[null,null,"Přepojení za DRŠ DN425:4",null,4,null,null,null,null,null,null,null,"Přepojení za DRŠ DN425:4"]
[null,null,"Stoka \"E2-2\" PVC DN250 SN12:",null,0,null,null,null,null,null,null,null,"Stoka \"E2-2\" PVC DN250 SN12:"]
[null,null,"Přepojení za DRŠ DN425:1",null,1,null,null,null,null,null,null,null,"Přepojení za DRŠ DN425:1"]
[23,"894431331RBB","Šachta, D 425 mm, dl.šach.roury 3,0 m, přímá dno KG D 160 mm, poklop šedá litina 40 t","kus",22,null,{"$f":"E326*F326","v":0},0.10047,{"$f":"E326*H326","v":2.21034},0,{"$f":"E326*J326","v":0},null,null,null,2,null,null,null,null,null,null,null,null,null,null,null,1,1,1,null,null,null,null,null,null,null,null,null,null,null,null,null,null,null,null,null,null,null,null,null,null,1,{"$f":"IF(AZ326=1,G326,0)","v":0},{"$f":"IF(AZ326=2,G326,0)","v":0},{"$f":"IF(AZ326=3,G326,0)","v":0},{"$f":"IF(AZ326=4,G326,0)","v":0},{"$f":"IF(AZ326=5,G326,0)","v":0},null,null,null,null,null,null,null,null,null,null,null,null,null,null,null,null,null,null,null,null,null,1,1]
[null,null,"Plastové dno, šachta z korugované trouby, těsnění, šachtová roura teleskopická, rám do teleskopické trouby, poklop litinový.",null,null,null,null,null,null,null,null,"Plastové dno, šachta z korugované trouby, těsnění, šachtová roura teleskopická, rám do teleskopické trouby, poklop litinový.",null,null,3]
[null,null,"Stoka \"E1\" PVC DN250 SN12:",null,0,null,null,null,null,null,null,null,"Stoka \"E1\" PVC DN250 SN12:"]
[null,null,"DRŠ DN425:6",null,6,null,null,null,null,null,null,null,"DRŠ DN425:6"]
[null,null,"Začátek provozního součtu",null,0,null,null,null,null,null,null,null,"Začátek provozního součtu"]
[null,null,"Pro čp. 862 :1",null,1,null,null,null,null,null,null,null,"Pro čp. 862 :1"]
[null,null,"Pro čp. 872 do Š:1",null,1,null,null,null,null,null,null,null,"Pro čp. 872 do Š:1"]
[null,null,"Pro čp. 873:1",null,1,null,null,null,null,null,null,null,"Pro čp. 873:1"]
[null,null,"Pro čp. 860 do Š:1",null,1,null,null,null,null,null,null,null,"Pro čp. 860 do Š:1"]
[null,null,"Pro čp. 874:1",null,1,null,null,null,null,null,null,null,"Pro čp. 874:1"]
[null,null,"Pro čp. 859:1",null,1,null,null,null,null,null,null,null,"Pro čp. 859:1"]
[null,null,"Konec provozního součtu",null,6,null,null,null,null,null,null,null,"Konec provozního součtu"]
[null,null,"Stoka \"E2\" PVC DN250 SN12:",null,0,null,null,null,null,null,null,null,"Stoka \"E2\" PVC DN250 SN12:"]
[null,null,"DRŠ DN425:11",null,11,null,null,null,null,null,null,null,"DRŠ DN425:11"]
[null,null,"Začátek provozního součtu",null,0,null,null,null,null,null,null,null,"Začátek provozního součtu"]
[null,null,"Pro čp. 863:1",null,1,null,null,null,null,null,null,null,"Pro čp. 863:1"]
[null,null,"Pro čp. 871:1",null,1,null,null,null,null,null,null,null,"Pro čp. 871:1"]
[null,null,"Pro čp. 864 do Š:1",null,1,null,null,null,null,null,null,null,"Pro čp. 864 do Š:1"]
[null,null,"Pro čp. 870:1",null,1,null,null,null,null,null,null,null,"Pro čp. 870:1"]
[null,null,"Pro čp. 865:1",null,1,null,null,null,null,null,null,null,"Pro čp. 865:1"]
[null,null,"Pro čp. 869:1",null,1,null,null,null,null,null,null,null,"Pro čp. 869:1"]
[null,null,"Pro čp. 866:1",null,1,null,null,null,null,null,null,null,"Pro čp. 866:1"]
[null,null,"Pro čp. 868:1",null,1,null,null,null,null,null,null,null,"Pro čp. 868:1"]
[null,null,"Pro čp. 867 do Š:1",null,1,null,null,null,null,null,null,null,"Pro čp. 867 do Š:1"]
[null,null,"Pro čp. 899 do Š:1",null,1,null,null,null,null,null,null,null,"Pro čp. 899 do Š:1"]
[null,null,"Pro čp. 898:1",null,1,null,null,null,null,null,null,null,"Pro čp. 898:1"]
[null,null,"Konec provozního součtu",null,11,null,null,null,null,null,null,null,"Konec provozního součtu"]
[null,null,"Stoka \"E2-1\" PVC DN250 SN12:",null,0,null,null,null,null,null,null,null,"Stoka \"E2-1\" PVC DN250 SN12:"]
[null,null,"DRŠ DN425:4",null,4,null,null,null,null,null,null,null,"DRŠ DN425:4"]
[null,null,"Začátek provozního součtu",null,0,null,null,null,null,null,null,null,"Začátek provozního součtu"]
[null,null,"Pro čp. 894:1",null,1,null,null,null,null,null,null,null,"Pro čp. 894:1"]
[null,null,"Pro čp. 895:1",null,1,null,null,null,null,null,null,null,"Pro čp. 895:1"]
[null,null,"Pro čp. 818 do Š:1",null,1,null,null,null,null,null,null,null,"Pro čp. 818 do Š:1"]
[null,null,"Pro čp. 816 do Š:1",null,1,null,null,null,null,null,null,null,"Pro čp. 816 do Š:1"]
[null,null,"Konec provozního součtu",null,4,null,null,null,null,null,null,null,"Konec provozního součtu"]
[null,null,"Stoka \"E2-2\" PVC DN250 SN12:",null,0,null,null,null,null,null,null,null,"Stoka \"E2-2\" PVC DN250 SN12:"]
[null,null,"DRŠ DN425:1",null,1,null,null,null,null,null,null,null,"DRŠ DN425:1"]
[null,null,"Začátek provozního součtu",null,0,null,null,null,null,null,null,null,"Začátek provozního součtu"]
[null,null,"Pro čp. 896:1",null,1,null,null,null,null,null,null,null,"Pro čp. 896:1"]
[null,null,"0",null,0,null,null,null,null,null,null,null,0]
[null,null,"Konec provozního součtu",null,1,null,null,null,null,null,null,null,"Konec provozního součtu"]
[24,"899711122R00","Fólie výstražná z PVC šedá, šířka 30 cm ","m",130,null,{"$f":"E367*F367","v":0},0,{"$f":"E367*H367","v":0},0,{"$f":"E367*J367","v":0},null,null,null,2,null,null,null,null,null,null,null,null,null,null,null,1,1,1,null,null,null,null,null,null,null,null,null,null,null,null,null,null,null,null,null,null,null,null,null,null,1,{"$f":"IF(AZ367=1,G367,0)","v":0},{"$f":"IF(AZ367=2,G367,0)","v":0},{"$f":"IF(AZ367=3,G367,0)","v":0},{"$f":"IF(AZ367=4,G367,0)","v":0},{"$f":"IF(AZ367=5,G367,0)","v":0},null,null,null,null,null,null,null,null,null,null,null,null,null,null,null,null,null,null,null,null,null,1,1]
[null,null,"Stoka \"E1\" PVC DN250 SN12:",null,0,null,null,null,null,null,null,null,"Stoka \"E1\" PVC DN250 SN12:"]
[null,null,"Trubka  PVC DN160:27,00",null,27,null,null,null,null,null,null,null,"Trubka  PVC DN160:27,00"]
[null,null,"Rezerva 30%:27,00*0,3",null,8.1,null,null,null,null,null,null,null,"Rezerva 30%:27,00*0,3"]
[null,null,"Stoka \"E2\" PVC DN250 SN12:",null,0,null,null,null,null,null,null,null,"Stoka \"E2\" PVC DN250 SN12:"]
[null,null,"Trubka PVC DN160:50,00",null,50,null,null,null,null,null,null,null,"Trubka PVC DN160:50,00"]
[null,null,"Rezerva 30%:50,00*0,3",null,15,null,null,null,null,null,null,null,"Rezerva 30%:50,00*0,3"]
[null,null,"Stoka \"E2-1\" PVC DN250 SN12:",null,0,null,null,null,null,null,null,null,"Stoka \"E2-1\" PVC DN250 SN12:"]
[null,null,"Trubka PVC DN160:18,00",null,18,null,null,null,null,null,null,null,"Trubka PVC DN160:18,00"]
[null,null,"Rezerva 30%:18,00*0,3",null,5.4,null,null,null,null,null,null,null,"Rezerva 30%:18,00*0,3"]
[null,null,"Stoka \"E2-2\" PVC DN250 SN12:",null,0,null,null,null,null,null,null,null,"Stoka \"E2-2\" PVC DN250 SN12:"]
[null,null,"Trubka PVC DN160:5,00",null,5,null,null,null,null,null,null,null,"Trubka PVC DN160:5,00"]
[null,null,"Rezerva 30%:5,00*0,3",null,1.5,null,null,null,null,null,null,null,"Rezerva 30%:5,00*0,3"]
[25,"899 80-6500.RRX","Zrušení stávajících župm a septiků ","soubor",18,null,{"$f":"E380*F380","v":0},5,{"$f":"E380*H380","v":90},null,{"$f":"E380*J380","v":0},null,null,null,2,null,null,null,null,null,null,null,null,null,null,null,12,0,30,null,null,null,null,null,null,null,null,null,null,null,null,null,null,null,null,null,null,null,null,null,null,1,{"$f":"IF(AZ380=1,G380,0)","v":0},{"$f":"IF(AZ380=2,G380,0)","v":0},{"$f":"IF(AZ380=3,G380,0)","v":0},{"$f":"IF(AZ380=4,G380,0)","v":0},{"$f":"IF(AZ380=5,G380,0)","v":0},null,null,null,null,null,null,null,null,null,null,null,null,null,null,null,null,null,null,null,null,null,12,0]
[null,null,"Součástí položky je:",null,null,null,null,null,null,null,null,"Součástí položky je:",null,null,3]
[null,null,"- vyčerpání septiku nebo žumpy s odvozem kalů na ČOV",null,null,null,null,null,null,null,null,"- vyčerpání septiku nebo žumpy s odvozem kalů na ČOV",null,null,3]
[null,null,"- vydezinfikování septiku nebo žumpy",null,null,null,null,null,null,null,null,"- vydezinfikování septiku nebo žumpy",null,null,3]
[null,null,"- částečné odbourání septiku nebo žumpy do úrovně cca - 0,50 m nedo celé likvidace plastové konstrukce septiku s filtrem",null,null,null,null,null,null,null,null,"- částečné odbourání septiku nebo žumpy do úrovně cca - 0,50 m nedo celé likvidace plastové konstrukce septiku s filtrem",null,null,3]
[null,null,"- propojení potrubí pomocí trub PVC DN150 (200) včetlě provedení lože a obsypů",null,null,null,null,null,null,null,null,"- propojení potrubí pomocí trub PVC DN150 (200) včetlě provedení lože a obsypů",null,null,3]
[null,null,"- zasypání prostoru stávajícího septiku nebo žumpy zeminou",null,null,null,null,null,null,null,null,"- zasypání prostoru stávajícího septiku nebo žumpy zeminou",null,null,3]
[null,null,"- úpravy terénu ornicí",null,null,null,null,null,null,null,null,"- úpravy terénu ornicí",null,null,3]
[26,"286111904.R","Trubka kanalizační PVC QUANTUM SN 12 DN 160","m",133.9,null,{"$f":"E388*F388","v":0},5.1000000000000004E-3,{"$f":"E388*H388","v":0.68289000000000011},null,{"$f":"E388*J388","v":0},null,null,null,2,null,null,null,null,null,null,null,null,null,null,null,3,1,"286111904.R",null,null,null,null,null,null,null,null,null,null,null,null,null,null,null,null,null,null,null,null,null,null,1,{"$f":"IF(AZ388=1,G388,0)","v":0},{"$f":"IF(AZ388=2,G388,0)","v":0},{"$f":"IF(AZ388=3,G388,0)","v":0},{"$f":"IF(AZ388=4,G388,0)","v":0},{"$f":"IF(AZ388=5,G388,0)","v":0},null,null,null,null,null,null,null,null,null,null,null,null,null,null,null,null,null,null,null,null,null,3,1]
[null,null,"Jedná  se  o  plnostěnné kanalizační trubky DN 150 – DN 400, SN 12 kN/m2 , zvenčí  i  zevnitř  hladké. Jsou  opatřeny hrdlem,  v  němž  je  vložen vysoce  elastický  jazýčkový  kroužek.  konce  trubek  (dříků)  jsou opatřeny  zkosením  pod  úhlem  15°.  Způsob  použití  trubek  je  „U“  dle  normy  ČSN  EN  1401-1, tj. mimo budovy. Spolehlivá  funkce  těsnění  je  jištěna  výztužným  kroužkem  z  elastomeru.  Je  tak  zamezeno  vypad-nutí nebo vytlačení kroužku při manipulaci a montáži. Tento systém zaručuje při správné montáži ",null,null,null,null,null,null,null,null,"Jedná  se  o  plnostěnné kanalizační trubky DN 150 – DN 400, SN 12 kN/m2 , zvenčí  i  zevnitř  hladké. Jsou  opatřeny hrdlem,  v  němž  je  vložen vysoce  elastický  jazýčkový  kroužek.  konce  trubek  (dříků)  jsou opatřeny  zkosením  pod  úhlem  15°.  Způsob  použití  trubek  je  „U“  dle  normy  ČSN  EN  1401-1, tj. mimo budovy. Spolehlivá  funkce  těsnění  je  jištěna  výztužným  kroužkem  z  elastomeru.  Je  tak  zamezeno  vypad-nutí nebo vytlačení kroužku při manipulaci a montáži. Tento systém zaručuje při správné montáži ",null,null,3]
[null,null,"dokonalou  těsnost  do  výšky  vodního  sloupce  5  metrů.",null,null,null,null,null,null,null,null,"dokonalou  těsnost  do  výšky  vodního  sloupce  5  metrů.",null,null,3]
[null,null,"Teplota při pokládce: min. -10 °C, max. 50 °C",null,null,null,null,null,null,null,null,"Teplota při pokládce: min. -10 °C, max. 50 °C",null,null,3]
[null,null,"Max. teplota média: trvale do 40 °C, krátkodobě do 60 °C",null,null,null,null,null,null,null,null,"Max. teplota média: trvale do 40 °C, krátkodobě do 60 °C",null,null,3]
[null,null,"Orientační výška krytí: min. 0,5 m, max. 10 m",null,null,null,null,null,null,null,null,"Orientační výška krytí: min. 0,5 m, max. 10 m",null,null,3]
[null,null,"Max. rychlost média: 12 m/s",null,null,null,null,null,null,null,null,"Max. rychlost média: 12 m/s",null,null,3]
[null,null,"Stoka \"E1\" PVC DN250 SN12:",null,0,null,null,null,null,null,null,null,"Stoka \"E1\" PVC DN250 SN12:"]
[null,null,"Trubka  PVC DN160:27,00*1,03",null,27.81,null,null,null,null,null,null,null,"Trubka  PVC DN160:27,00*1,03"]
[null,null,"Rezerva 30%:27,00*0,3*1,03",null,8.343,null,null,null,null,null,null,null,"Rezerva 30%:27,00*0,3*1,03"]
[null,null,"Stoka \"E2\" PVC DN250 SN12:",null,0,null,null,null,null,null,null,null,"Stoka \"E2\" PVC DN250 SN12:"]
[null,null,"Trubka PVC DN160:50,00*1,03",null,51.5,null,null,null,null,null,null,null,"Trubka PVC DN160:50,00*1,03"]
[null,null,"Rezerva 30%:50,00*0,3*1,03",null,15.45,null,null,null,null,null,null,null,"Rezerva 30%:50,00*0,3*1,03"]
[null,null,"Stoka \"E2-1\" PVC DN250 SN12:",null,0,null,null,null,null,null,null,null,"Stoka \"E2-1\" PVC DN250 SN12:"]
[null,null,"Trubka PVC DN160:18,00*1,03",null,18.54,null,null,null,null,null,null,null,"Trubka PVC DN160:18,00*1,03"]
[null,null,"Rezerva 30%:18,00*0,3*1,03",null,5.5620000000000003,null,null,null,null,null,null,null,"Rezerva 30%:18,00*0,3*1,03"]
[null,null,"Stoka \"E2-2\" PVC DN250 SN12:",null,0,null,null,null,null,null,null,null,"Stoka \"E2-2\" PVC DN250 SN12:"]
[null,null,"Trubka PVC DN160:5,00*1,03",null,5.15,null,null,null,null,null,null,null,"Trubka PVC DN160:5,00*1,03"]
[null,null,"Rezerva 30%:5,00*0,3*1,03",null,1.5449999999999999,null,null,null,null,null,null,null,"Rezerva 30%:5,00*0,3*1,03"]
[27,"286506011.R","Koleno kanalizační PVC QUANTUM SDR 34 DN 160 Kolena DN160/15°, 30°, 45° a 90°","kus",59.884999999999998,null,{"$f":"E407*F407","v":0},9.7000000000000005E-4,{"$f":"E407*H407","v":5.808845E-2},null,{"$f":"E407*J407","v":0},null,null,null,2,null,null,null,null,null,null,null,null,null,null,null,3,1,"286506011.R",null,null,null,null,null,null,null,null,null,null,null,null,null,null,null,null,null,null,null,null,null,null,1,{"$f":"IF(AZ407=1,G407,0)","v":0},{"$f":"IF(AZ407=2,G407,0)","v":0},{"$f":"IF(AZ407=3,G407,0)","v":0},{"$f":"IF(AZ407=4,G407,0)","v":0},{"$f":"IF(AZ407=5,G407,0)","v":0},null,null,null,null,null,null,null,null,null,null,null,null,null,null,null,null,null,null,null,null,null,3,1]
[null,null,"Tvarovky kanalizačního systému PVC QUANTUM SDR 34",null,null,null,null,null,null,null,null,"Tvarovky kanalizačního systému PVC QUANTUM SDR 34",null,null,3]
[null,null,"Teplota při pokládce: min. -10 °C, max. 50 °C",null,null,null,null,null,null,null,null,"Teplota při pokládce: min. -10 °C, max. 50 °C",null,null,3]
[null,null,"Max. teplota média: trvale do 40 °C, krátkodobě do 60 °C",null,null,null,null,null,null,null,null,"Max. teplota média: trvale do 40 °C, krátkodobě do 60 °C",null,null,3]
[null,null,"Orientační výška krytí: min. 0,5 m, max. 10 m",null,null,null,null,null,null,null,null,"Orientační výška krytí: min. 0,5 m, max. 10 m",null,null,3]
[null,null,"Max. rychlost média: 12 m/s",null,null,null,null,null,null,null,null,"Max. rychlost média: 12 m/s",null,null,3]
[null,null,"Stoka \"E1\" PVC DN250 SN12:",null,0,null,null,null,null,null,null,null,"Stoka \"E1\" PVC DN250 SN12:"]
[null,null,"Koleno PVC DN150/15°, 30°,45°,90°:16*1,015",null,16.239999999999998,null,null,null,null,null,null,null,"Koleno PVC DN150/15°, 30°,45°,90°:16*1,015"]
[null,null,"Stoka \"E2\" PVC DN250 SN12:",null,0,null,null,null,null,null,null,null,"Stoka \"E2\" PVC DN250 SN12:"]
[null,null,"Koleno PVC DN150/15°, 30°,45°,90°:30*1,015",null,30.45,null,null,null,null,null,null,null,"Koleno PVC DN150/15°, 30°,45°,90°:30*1,015"]
[null,null,"Stoka \"E2-1\" PVC DN250 SN12:",null,0,null,null,null,null,null,null,null,"Stoka \"E2-1\" PVC DN250 SN12:"]
[null,null,"Koleno PVC DN150/15°, 30°,45°,90°:10*1,015",null,10.15,null,null,null,null,null,null,null,"Koleno PVC DN150/15°, 30°,45°,90°:10*1,015"]
[null,null,"Stoka \"E2-2\" PVC DN250 SN12:",null,0,null,null,null,null,null,null,null,"Stoka \"E2-2\" PVC DN250 SN12:"]
[null,null,"Koleno PVC DN150/15°, 30°,45°,90°:3*1,015",null,3.0449999999999999,null,null,null,null,null,null,null,"Koleno PVC DN150/15°, 30°,45°,90°:3*1,015"]
[null,"Celkem za","8 Trubní vedení",null,null,null,{"$f":"SUM(G208:G420)","v":0},null,{"$f":"SUM(I208:I420)","v":92.962028450000005},null,{"$f":"SUM(K208:K420)","v":0},null,null,null,4,null,null,null,null,null,null,null,null,null,null,null,null,null,null,null,null,null,null,null,null,null,null,null,null,null,null,null,null,null,null,null,null,null,null,null,null,null,{"$f":"SUM(BA208:BA420)","v":0},{"$f":"SUM(BB208:BB420)","v":0},{"$f":"SUM(BC208:BC420)","v":0},{"$f":"SUM(BD208:BD420)","v":0},{"$f":"SUM(BE208:BE420)","v":0}]
["Díl:","99","Staveništní přesun hmot",null,null,null,null,null,null,null,null,null,null,null,1]
[28,"998276101RXX","Přesun hmot, trubní vedení plastová, otevř. výkop pro celý rozsah objektu","t",524.17035245,null,{"$f":"E423*F423","v":0},0,{"$f":"E423*H423","v":0},null,{"$f":"E423*J423","v":0},null,null,null,2,null,null,null,null,null,null,null,null,null,null,null,7,1,2,null,null,null,null,null,null,null,null,null,null,null,null,null,null,null,null,null,null,null,null,null,null,1,{"$f":"IF(AZ423=1,G423,0)","v":0},{"$f":"IF(AZ423=2,G423,0)","v":0},{"$f":"IF(AZ423=3,G423,0)","v":0},{"$f":"IF(AZ423=4,G423,0)","v":0},{"$f":"IF(AZ423=5,G423,0)","v":0},null,null,null,null,null,null,null,null,null,null,null,null,null,null,null,null,null,null,null,null,null,7,1]
[null,null,"Staveništní doprava pro celý rozsah objektu - doprava zmeziskládek vybudovaného zařízení staveniště zhotovitele na jednotlivé části staveniště.",null,null,null,null,null,null,null,null,"Staveništní doprava pro celý rozsah objektu - doprava zmeziskládek vybudovaného zařízení staveniště zhotovitele na jednotlivé části staveniště.",null,null,3]
[null,"Celkem za","99 Staveništní přesun hmot",null,null,null,{"$f":"SUM(G422:G424)","v":0},null,{"$f":"SUM(I422:I424)","v":0},null,{"$f":"SUM(K422:K424)","v":0},null,null,null,4,null,null,null,null,null,null,null,null,null,null,null,null,null,null,null,null,null,null,null,null,null,null,null,null,null,null,null,null,null,null,null,null,null,null,null,null,null,{"$f":"SUM(BA422:BA424)","v":0},{"$f":"SUM(BB422:BB424)","v":0},{"$f":"SUM(BC422:BC424)","v":0},{"$f":"SUM(BD422:BD424)","v":0},{"$f":"SUM(BE422:BE424)","v":0}]

{"sheet":"1.E 08 1.E 08.6 KL","index":37,"n_rows":45,"n_cols":8,"rows_kept":45,"cut":false,"hidden":false,"merged":[[50,1,50,6],[29,5,29,6],[30,5,30,6],[31,5,31,6],[32,5,32,6],[33,5,33,6],[36,1,44,6],[45,1,45,6],[46,1,46,6],[47,1,47,6],[48,1,48,6],[49,1,49,6],[22,0,22,1],[7,2,7,4],[8,2,8,4],[9,2,9,4],[10,2,10,4],[11,2,11,4]]}
["POLOŽKOVÝ ROZPOČET"]
["Rozpočet",null,"1.E 08.6","Odvodnění komunikací",null,"JKSO ","827.21.A6"]
[]
["Objekt",null,null,null,null,"SKP "]
["1.E 08",null,"Kanalizace",null,null,"Měrná jednotka","m"]
["Stavba",null,null,null,null,"Počet jednotek",0]
["3403",null,"Jilemnice - Optimalizace VS a komunikace I.Etapa",null,null,"Náklady na m.j.",{"$f":"IF(G6=0,,ROUND((F30+F32)/G6,1))","v":0}]
["Projektant",null,"Vodohospodářsko - inženýrské služby spol. s r.o.",null,null,"Typ rozpočtu"]
["Zpracovatel projektu"]
["Objednatel",null,"Vodohospodářské sdružení Turnov"]
["Dodavatel",null,".",null,null,"Zakázkové číslo "]
["Rozpočtoval",null,null,null,null,"Počet listů"]
["ROZPOČTOVÉ NÁKLADY"]
["Základní rozpočtové náklady"]
[null,"HSV celkem",{"$f":"'1.E 08 1.E 08.6 Rek'!E12","v":0}]
["Z","PSV celkem",{"$f":"'1.E 08 1.E 08.6 Rek'!F12","v":0}]
["R","M práce celkem",{"$f":"'1.E 08 1.E 08.6 Rek'!H12","v":0}]
["N","M dodávky celkem",{"$f":"'1.E 08 1.E 08.6 Rek'!G12","v":0}]
["ZRN celkem",null,{"$f":"SUM(C15:C18)","v":0}]
[]
["HZS",null,{"$f":"'1.E 08 1.E 08.6 Rek'!I12","v":0}]
["ZRN+HZS",null,{"$f":"C19+C21","v":0}]
["ZRN+ost.náklady+HZS",null,{"$f":"C22+G23","v":0}]
["Vypracoval",null,null,"Za zhotovitele",null,"Za objednatele"]
["Jméno :",null,null,"Jméno :",null,"Jméno :"]
["Datum :",null,null,"Datum :",null,"Datum :"]
[]
["Podpis :",null,null,"Podpis:",null,"Podpis:"]
[]
["Základ pro DPH",null,21,"%  ",null,{"$f":"C23-F32","v":0}]
["DPH",null,{"$f":"C30","v":21},"% ",null,{"$f":"ROUND(PRODUCT(F30,C31/100),0)","v":0}]
["Základ pro DPH",null,0,"% ",null,0]
["DPH",null,{"$f":"C32","v":0},"% ",null,{"$f":"ROUND(PRODUCT(F32,C33/100),0)","v":0}]
["CENA ZA OBJEKT CELKEM",null,null,null,null,{"$f":"ROUND(SUM(F30:F33),0)","v":0}]
[]
["Poznámka :",null,null,null,null,null,null," "]
[null,null,null,null,null,null,null," "]
[null,null,null,null,null,null,null," "]
[null,null,null,null,null,null,null," "]
[null,null,null,null,null,null,null," "]
[null,null,null,null,null,null,null," "]
[null,null,null,null,null,null,null," "]
[null,null,null,null,null,null,null," "]
[null,null,null,null,null,null,null," "]
[null,null,null,null,null,null,null," "]

{"sheet":"1.E 08 1.E 08.6 Rek","index":38,"n_rows":12,"n_cols":9,"rows_kept":12,"cut":false,"hidden":false,"merged":[[0,0,0,1],[1,0,1,1],[1,6,1,8]]}
["Stavba :",null,"3403 Jilemnice - Optimalizace VS a komunikace",null,null,null,"Rozpočet :","1.E 08.6"]
["Objekt :",null,"1.E 08 Kanalizace",null,null,null,"Odvodnění komunikací"]
[]
["REKAPITULACE  STAVEBNÍCH  DÍLŮ"]
[]
[null,"Stavební díl",null,null,"HSV","PSV","Dodávka","Montáž","HZS"]
[{"$f":"'1.E 08 1.E 08.6 Pol'!B7","v":"1"},{"$f":"'1.E 08 1.E 08.6 Pol'!C7","v":"Zemní práce"},null,null,{"$f":"'1.E 08 1.E 08.6 Pol'!BA84","v":0},{"$f":"'1.E 08 1.E 08.6 Pol'!BB84","v":0},{"$f":"'1.E 08 1.E 08.6 Pol'!BC84","v":0},{"$f":"'1.E 08 1.E 08.6 Pol'!BD84","v":0},{"$f":"'1.E 08 1.E 08.6 Pol'!BE84","v":0}]
[{"$f":"'1.E 08 1.E 08.6 Pol'!B85","v":"45"},{"$f":"'1.E 08 1.E 08.6 Pol'!C85","v":"Podkladní a vedlejší konstrukce"},null,null,{"$f":"'1.E 08 1.E 08.6 Pol'!BA97","v":0},{"$f":"'1.E 08 1.E 08.6 Pol'!BB97","v":0},{"$f":"'1.E 08 1.E 08.6 Pol'!BC97","v":0},{"$f":"'1.E 08 1.E 08.6 Pol'!BD97","v":0},{"$f":"'1.E 08 1.E 08.6 Pol'!BE97","v":0}]
[{"$f":"'1.E 08 1.E 08.6 Pol'!B98","v":"5"},{"$f":"'1.E 08 1.E 08.6 Pol'!C98","v":"Komunikace"},null,null,{"$f":"'1.E 08 1.E 08.6 Pol'!BA103","v":0},{"$f":"'1.E 08 1.E 08.6 Pol'!BB103","v":0},{"$f":"'1.E 08 1.E 08.6 Pol'!BC103","v":0},{"$f":"'1.E 08 1.E 08.6 Pol'!BD103","v":0},{"$f":"'1.E 08 1.E 08.6 Pol'!BE103","v":0}]
[{"$f":"'1.E 08 1.E 08.6 Pol'!B104","v":"8"},{"$f":"'1.E 08 1.E 08.6 Pol'!C104","v":"Trubní vedení"},null,null,{"$f":"'1.E 08 1.E 08.6 Pol'!BA184","v":0},{"$f":"'1.E 08 1.E 08.6 Pol'!BB184","v":0},{"$f":"'1.E 08 1.E 08.6 Pol'!BC184","v":0},{"$f":"'1.E 08 1.E 08.6 Pol'!BD184","v":0},{"$f":"'1.E 08 1.E 08.6 Pol'!BE184","v":0}]
[{"$f":"'1.E 08 1.E 08.6 Pol'!B185","v":"99"},{"$f":"'1.E 08 1.E 08.6 Pol'!C185","v":"Staveništní přesun hmot"},null,null,{"$f":"'1.E 08 1.E 08.6 Pol'!BA188","v":0},{"$f":"'1.E 08 1.E 08.6 Pol'!BB188","v":0},{"$f":"'1.E 08 1.E 08.6 Pol'!BC188","v":0},{"$f":"'1.E 08 1.E 08.6 Pol'!BD188","v":0},{"$f":"'1.E 08 1.E 08.6 Pol'!BE188","v":0}]
[null,"CELKEM  OBJEKT",null,null,{"$f":"SUM(E7:E11)","v":0},{"$f":"SUM(F7:F11)","v":0},{"$f":"SUM(G7:G11)","v":0},{"$f":"SUM(H7:H11)","v":0},{"$f":"SUM(I7:I11)","v":0}]

{"sheet":"1.E 08 1.E 08.6 Pol","index":39,"n_rows":188,"n_cols":80,"rows_kept":188,"cut":false,"hidden":false,"merged":[[178,2,178,3],[179,2,179,3],[181,2,181,3],[182,2,182,3],[186,2,186,6],[169,2,169,3],[170,2,170,3],[172,2,172,3],[173,2,173,3],[175,2,175,3],[176,2,176,3],[163,2,163,6],[164,2,164,6],[165,2,165,6],[166,2,166,6],[167,2,167,6],[168,2,168,3],[155,2,155,3],[156,2,156,3],[157,2,157,3],[159,2,159,3],[160,2,160,3],[161,2,161,3],[147,2,147,3],[148,2,148,3],[149,2,149,3],[150,2,150,3],[152,2,152,3],[153,2,153,3],[141,2,141,3],[142,2,142,3],[143,2,143,3],[144,2,144,3],[145,2,145,3],[146,2,146,3],[135,2,135,3],[136,2,136,3],[137,2,137,3],[138,2,138,3],[139,2,139,3],[140,2,140,3],[129,2,129,6],[130,2,130,3],[131,2,131,3],[132,2,132,3],[133,2,133,3],[134,2,134,3],[121,2,121,3],[123,2,123,6],[124,2,124,3],[125,2,125,3],[126,2,126,3],[128,2,128,6],[115,2,115,6],[116,2,116,6],[117,2,117,6],[118,2,118,6],[119,2,119,3],[120,2,120,3],[105,2,105,6],[106,2,106,3],[107,2,107,3],[108,2,108,3],[110,2,110,6],[111,2,111,3],[112,2,112,3],[113,2,113,3],[91,2,91,3],[92,2,92,3],[94,2,94,3],[95,2,95,3],[99,2,99,3],[100,2,100,3],[101,2,101,3],[78,2,78,3],[79,2,79,3],[80,2,80,3],[82,2,82,3],[86,2,86,3],[87,2,87,3],[88,2,88,3],[90,2,90,6],[69,2,69,3],[71,2,71,3],[72,2,72,3],[73,2,73,3],[75,2,75,3],[76,2,76,3],[63,2,63,3],[64,2,64,3],[65,2,65,3],[66,2,66,3],[67,2,67,3],[68,2,68,3],[57,2,57,3],[58,2,58,3],[59,2,59,3],[60,2,60,3],[61,2,61,3],[62,2,62,3],[49,2,49,3],[50,2,50,3],[52,2,52,3],[53,2,53,3],[55,2,55,6],[56,2,56,6],[42,2,42,3],[43,2,43,3],[44,2,44,3],[46,2,46,3],[47,2,47,3],[48,2,48,3],[34,2,34,3],[36,2,36,6],[37,2,37,3],[38,2,38,3],[40,2,40,3],[41,2,41,3],[26,2,26,3],[27,2,27,3],[29,2,29,6],[30,2,30,3],[31,2,31,3],[33,2,33,3],[20,2,20,3],[21,2,21,3],[22,2,22,3],[23,2,23,3],[24,2,24,3],[13,2,13,6],[14,2,14,3],[15,2,15,3],[16,2,16,3],[17,2,17,3],[18,2,18,3],[0,0,0,6],[2,0,2,1],[3,0,3,1],[3,4,3,6],[8,2,8,6],[9,2,9,6],[10,2,10,3],[11,2,11,3],[19,2,19,3]]}
["Položkový rozpočet "]
[]
["Stavba :",null,"3403 Jilemnice - Optimalizace VS a komunikace",null,"Rozpočet:",{"$f":"'1.E 08 1.E 08.6 Rek'!H1","v":"1.E 08.6"}]
["Objekt :",null,"1.E 08 Kanalizace",null,{"$f":"'1.E 08 1.E 08.6 Rek'!G2","v":"Odvodnění komunikací"}]
[]
["P.č.","Číslo položky","Název položky","MJ","množství","cena / MJ","celkem (Kč)","Jednotková hmotnost","Celková hmotnost","Jednotková dem.hmot.","Celková dem.hmot."]
["Díl:","1","Zemní práce",null,null,null,null,null,null,null,null,null,null,null,1]
[1,"130001101RRX","Příplatek za ztížené hloubení v blízkosti vedení ","m3",24.48,null,{"$f":"E8*F8","v":0},0,{"$f":"E8*H8","v":0},0,{"$f":"E8*J8","v":0},null,null,null,2,null,null,null,null,null,null,null,null,null,null,null,1,1,1,null,null,null,null,null,null,null,null,null,null,null,null,null,null,null,null,null,null,null,null,null,null,1,{"$f":"IF(AZ8=1,G8,0)","v":0},{"$f":"IF(AZ8=2,G8,0)","v":0},{"$f":"IF(AZ8=3,G8,0)","v":0},{"$f":"IF(AZ8=4,G8,0)","v":0},{"$f":"IF(AZ8=5,G8,0)","v":0},null,null,null,null,null,null,null,null,null,null,null,null,null,null,null,null,null,null,null,null,null,1,1]
[null,null,"Včetně případných nutných dokopávem a ručního výkopu podél sousedících inženýrských sítí.",null,null,null,null,null,null,null,null,"Včetně případných nutných dokopávem a ručního výkopu podél sousedících inženýrských sítí.",null,null,3]
[null,null,"Součástí položky je i dočasné zajištění inženýrských sítí v prostoru výkopů (potrubí, kabely a pod.)",null,null,null,null,null,null,null,null,"Součástí položky je i dočasné zajištění inženýrských sítí v prostoru výkopů (potrubí, kabely a pod.)",null,null,3]
[null,null,"Výkopy:",null,0,null,null,null,null,null,null,null,"Výkopy:"]
[null,null,"V hornině tř. 3 - 5 - 30%:81,6000*0,3",null,24.48,null,null,null,null,null,null,null,"V hornině tř. 3 - 5 - 30%:81,6000*0,3"]
[2,"132201212R00","Hloubení rýh š.do 200 cm hor.3 do 1000m3,STROJNĚ ","m3",32.64,null,{"$f":"E13*F13","v":0},0,{"$f":"E13*H13","v":0},0,{"$f":"E13*J13","v":0},null,null,null,2,null,null,null,null,null,null,null,null,null,null,null,1,1,1,null,null,null,null,null,null,null,null,null,null,null,null,null,null,null,null,null,null,null,null,null,null,1,{"$f":"IF(AZ13=1,G13,0)","v":0},{"$f":"IF(AZ13=2,G13,0)","v":0},{"$f":"IF(AZ13=3,G13,0)","v":0},{"$f":"IF(AZ13=4,G13,0)","v":0},{"$f":"IF(AZ13=5,G13,0)","v":0},null,null,null,null,null,null,null,null,null,null,null,null,null,null,null,null,null,null,null,null,null,1,1]
[null,null,"Položka obsahuje hloubení rýh traktorbagrem, naložení výkopku na dopravní prostředek pro svislé, nebo vodorovné přemístění, popř. přemístění výkopku do 3 m (po povrchu území), případné zajištění rypadel polštáři, udržování pracoviště a ochranu výkopiště proti stékání srážkové vody z okolního terénu i s jejím odvodněním, nebo odvedením, přesekání a odstranění kořenů ve výkopišti, odstranění napadávek, urovnání dna výkopu.",null,null,null,null,null,null,null,null,"Položka obsahuje hloubení rýh traktorbagrem, naložení výkopku na dopravní prostředek pro svislé, nebo vodorovné přemístění, popř. přemístění výkopku do 3 m (po povrchu území), případné zajištění rypadel polštáři, udržování pracoviště a ochranu výkopiště proti stékání srážkové vody z okolního terénu i s jejím odvodněním, nebo odvedením, přesekání a odstranění kořenů ve výkopišti, odstranění napadávek, urovnání dna výkopu.",null,null,3]
[null,null,"Výkopy:",null,0,null,null,null,null,null,null,null,"Výkopy:"]
[null,null,"Začátek provozního součtu",null,0,null,null,null,null,null,null,null,"Začátek provozního součtu"]
[null,null,"Průměrná délka přípojky k UV PVC DN200 - 4,0 m:",null,0,null,null,null,null,null,null,null,"Průměrná délka přípojky k UV PVC DN200 - 4,0 m:"]
[null,null,"Průměrná hloubka výkopů pro UV 2,10 m:",null,0,null,null,null,null,null,null,null,"Průměrná hloubka výkopů pro UV 2,10 m:"]
[null,null,"103 - Ulice SPOJOVACÍ:6*4,00*0,80*2,10",null,40.32,null,null,null,null,null,null,null,"103 - Ulice SPOJOVACÍ:6*4,00*0,80*2,10"]
[null,null,"104 - Ulice ZA LÁZNĚMI:9*4,00*0,80*2,10",null,60.48,null,null,null,null,null,null,null,"104 - Ulice ZA LÁZNĚMI:9*4,00*0,80*2,10"]
[null,null,"Odpočet předpokládaného objemu konstrukce MK:",null,0,null,null,null,null,null,null,null,"Odpočet předpokládaného objemu konstrukce MK:"]
[null,null,"103 - Ulice SPOJOVACÍ:-6*4,00*0,80*0,40",null,-7.68,null,null,null,null,null,null,null,"103 - Ulice SPOJOVACÍ:-6*4,00*0,80*0,40"]
[null,null,"104 - Ulice ZA LÁZNĚMI:-9*4,00*0,80*0,40",null,-11.52,null,null,null,null,null,null,null,"104 - Ulice ZA LÁZNĚMI:-9*4,00*0,80*0,40"]
[null,null,"Konec provozního součtu",null,81.600000000000009,null,null,null,null,null,null,null,"Konec provozního součtu"]
[null,null,"V hornině tř. 3 - 40%:81,6000*0,4",null,32.64,null,null,null,null,null,null,null,"V hornině tř. 3 - 40%:81,6000*0,4"]
[3,"132201219R00","Přípl.za lepivost,hloubení rýh 200cm,hor.3,STROJNĚ ","m3",16.32,null,{"$f":"E26*F26","v":0},0,{"$f":"E26*H26","v":0},0,{"$f":"E26*J26","v":0},null,null,null,2,null,null,null,null,null,null,null,null,null,null,null,1,1,1,null,null,null,null,null,null,null,null,null,null,null,null,null,null,null,null,null,null,null,null,null,null,1,{"$f":"IF(AZ26=1,G26,0)","v":0},{"$f":"IF(AZ26=2,G26,0)","v":0},{"$f":"IF(AZ26=3,G26,0)","v":0},{"$f":"IF(AZ26=4,G26,0)","v":0},{"$f":"IF(AZ26=5,G26,0)","v":0},null,null,null,null,null,null,null,null,null,null,null,null,null,null,null,null,null,null,null,null,null,1,1]
[null,null,"Výkopy:",null,0,null,null,null,null,null,null,null,"Výkopy:"]
[null,null,"V hornině tř. 3 - 40%:81,6000*0,4*0,5",null,16.32,null,null,null,null,null,null,null,"V hornině tř. 3 - 40%:81,6000*0,4*0,5"]
[4,"132301212R00","Hloubení rýh š.do 200 cm hor.4 do 1000 m3, STROJNĚ ","m3",40.799999999999997,null,{"$f":"E29*F29","v":0},0,{"$f":"E29*H29","v":0},0,{"$f":"E29*J29","v":0},null,null,null,2,null,null,null,null,null,null,null,null,null,null,null,1,1,1,null,null,null,null,null,null,null,null,null,null,null,null,null,null,null,null,null,null,null,null,null,null,1,{"$f":"IF(AZ29=1,G29,0)","v":0},{"$f":"IF(AZ29=2,G29,0)","v":0},{"$f":"IF(AZ29=3,G29,0)","v":0},{"$f":"IF(AZ29=4,G29,0)","v":0},{"$f":"IF(AZ29=5,G29,0)","v":0},null,null,null,null,null,null,null,null,null,null,null,null,null,null,null,null,null,null,null,null,null,1,1]
[null,null,"Položka obsahuje hloubení rýh traktorbagrem, naložení výkopku na dopravní prostředek pro svislé, nebo vodorovné přemístění, popř. přemístění výkopku do 3 m (po povrchu území), případné zajištění rypadel polštáři, udržování pracoviště a ochranu výkopiště proti stékání srážkové vody z okolního terénu i s jejím odvodněním, nebo odvedením, přesekání a odstranění kořenů ve výkopišti, odstranění napadávek, urovnání dna výkopu.",null,null,null,null,null,null,null,null,"Položka obsahuje hloubení rýh traktorbagrem, naložení výkopku na dopravní prostředek pro svislé, nebo vodorovné přemístění, popř. přemístění výkopku do 3 m (po povrchu území), případné zajištění rypadel polštáři, udržování pracoviště a ochranu výkopiště proti stékání srážkové vody z okolního terénu i s jejím odvodněním, nebo odvedením, přesekání a odstranění kořenů ve výkopišti, odstranění napadávek, urovnání dna výkopu.",null,null,3]
[null,null,"Výkopy:",null,0,null,null,null,null,null,null,null,"Výkopy:"]
[null,null,"V hornině tř. 4 - 50%:81,6000*0,5",null,40.799999999999997,null,null,null,null,null,null,null,"V hornině tř. 4 - 50%:81,6000*0,5"]
[5,"132301219R00","Přípl.za lepivost,hloubení rýh 200cm,hor.4,STROJNĚ ","m3",20.399999999999999,null,{"$f":"E33*F33","v":0},0,{"$f":"E33*H33","v":0},0,{"$f":"E33*J33","v":0},null,null,null,2,null,null,null,null,null,null,null,null,null,null,null,1,1,1,null,null,null,null,null,null,null,null,null,null,null,null,null,null,null,null,null,null,null,null,null,null,1,{"$f":"IF(AZ33=1,G33,0)","v":0},{"$f":"IF(AZ33=2,G33,0)","v":0},{"$f":"IF(AZ33=3,G33,0)","v":0},{"$f":"IF(AZ33=4,G33,0)","v":0},{"$f":"IF(AZ33=5,G33,0)","v":0},null,null,null,null,null,null,null,null,null,null,null,null,null,null,null,null,null,null,null,null,null,1,1]
[null,null,"Výkopy:",null,0,null,null,null,null,null,null,null,"Výkopy:"]
[null,null,"V hornině tř. 4 - 50%:81,6000*0,5*0,5",null,20.399999999999999,null,null,null,null,null,null,null,"V hornině tř. 4 - 50%:81,6000*0,5*0,5"]
[6,"132401211RRX","Hloubení rýh šířky do 200 cm v hor.5 STROJNĚ včetně případného dolamování ve vrstvě do 0,5 m","m3",8.16,null,{"$f":"E36*F36","v":0},1.0410000000000001E-2,{"$f":"E36*H36","v":8.494560000000001E-2},0,{"$f":"E36*J36","v":0},null,null,null,2,null,null,null,null,null,null,null,null,null,null,null,1,1,1,null,null,null,null,null,null,null,null,null,null,null,null,null,null,null,null,null,null,null,null,null,null,1,{"$f":"IF(AZ36=1,G36,0)","v":0},{"$f":"IF(AZ36=2,G36,0)","v":0},{"$f":"IF(AZ36=3,G36,0)","v":0},{"$f":"IF(AZ36=4,G36,0)","v":0},{"$f":"IF(AZ36=5,G36,0)","v":0},null,null,null,null,null,null,null,null,null,null,null,null,null,null,null,null,null,null,null,null,null,1,1]
[null,null,"Položka obsahuje hloubení rýh traktorbagrem, naložení výkopku na dopravní prostředek pro svislé, nebo vodorovné přemístění, popř. přemístění výkopku do 3 m (po povrchu území), případné zajištění rypadel polštáři, udržování pracoviště a ochranu výkopiště proti stékání srážkové vody z okolního terénu i s jejím odvodněním, nebo odvedením, přesekání a odstranění kořenů ve výkopišti, odstranění napadávek, urovnání dna výkopu.včetně případného dolamování ve vrstvě do 0,5 m",null,null,null,null,null,null,null,null,"Položka obsahuje hloubení rýh traktorbagrem, naložení výkopku na dopravní prostředek pro svislé, nebo vodorovné přemístění, popř. přemístění výkopku do 3 m (po povrchu území), případné zajištění rypadel polštáři, udržování pracoviště a ochranu výkopiště proti stékání srážkové vody z okolního terénu i s jejím odvodněním, nebo odvedením, přesekání a odstranění kořenů ve výkopišti, odstranění napadávek, urovnání dna výkopu.včetně případného dolamování ve vrstvě do 0,5 m",null,null,3]
[null,null,"Výkopy:",null,0,null,null,null,null,null,null,null,"Výkopy:"]
[null,null,"V hornině tř. 5 - 10%:81,6000*0,1",null,8.16,null,null,null,null,null,null,null,"V hornině tř. 5 - 10%:81,6000*0,1"]
[7,"151101101R00","Pažení a rozepření stěn rýh - příložné - hl.do 2 m ","m2",252,null,{"$f":"E40*F40","v":0},9.8999999999999999E-4,{"$f":"E40*H40","v":0.24948000000000001},0,{"$f":"E40*J40","v":0},null,null,null,2,null,null,null,null,null,null,null,null,null,null,null,1,1,1,null,null,null,null,null,null,null,null,null,null,null,null,null,null,null,null,null,null,null,null,null,null,1,{"$f":"IF(AZ40=1,G40,0)","v":0},{"$f":"IF(AZ40=2,G40,0)","v":0},{"$f":"IF(AZ40=3,G40,0)","v":0},{"$f":"IF(AZ40=4,G40,0)","v":0},{"$f":"IF(AZ40=5,G40,0)","v":0},null,null,null,null,null,null,null,null,null,null,null,null,null,null,null,null,null,null,null,null,null,1,1]
[null,null,"Výkopy:",null,0,null,null,null,null,null,null,null,"Výkopy:"]
[null,null,"Průměrná délka přípojky k UV PVC DN200 - 4,0 m:",null,0,null,null,null,null,null,null,null,"Průměrná délka přípojky k UV PVC DN200 - 4,0 m:"]
[null,null,"Průměrná hloubka výkopů pro UV 2,10 m:",null,0,null,null,null,null,null,null,null,"Průměrná hloubka výkopů pro UV 2,10 m:"]
[null,null,"103 - Ulice SPOJOVACÍ:6*4,00*2,10*2",null,100.8,null,null,null,null,null,null,null,"103 - Ulice SPOJOVACÍ:6*4,00*2,10*2"]
[null,null,"104 - Ulice ZA LÁZNĚMI:9*4,00*2,10*2",null,151.19999999999999,null,null,null,null,null,null,null,"104 - Ulice ZA LÁZNĚMI:9*4,00*2,10*2"]
[8,"151101111R00","Odstranění pažení stěn rýh - příložné - hl. do 2 m ","m2",252,null,{"$f":"E46*F46","v":0},0,{"$f":"E46*H46","v":0},0,{"$f":"E46*J46","v":0},null,null,null,2,null,null,null,null,null,null,null,null,null,null,null,1,1,1,null,null,null,null,null,null,null,null,null,null,null,null,null,null,null,null,null,null,null,null,null,null,1,{"$f":"IF(AZ46=1,G46,0)","v":0},{"$f":"IF(AZ46=2,G46,0)","v":0},{"$f":"IF(AZ46=3,G46,0)","v":0},{"$f":"IF(AZ46=4,G46,0)","v":0},{"$f":"IF(AZ46=5,G46,0)","v":0},null,null,null,null,null,null,null,null,null,null,null,null,null,null,null,null,null,null,null,null,null,1,1]
[null,null,"Výkopy:",null,0,null,null,null,null,null,null,null,"Výkopy:"]
[null,null,"Průměrná délka přípojky k UV PVC DN200 - 4,0 m:",null,0,null,null,null,null,null,null,null,"Průměrná délka přípojky k UV PVC DN200 - 4,0 m:"]
[null,null,"Průměrná hloubka výkopů pro UV 2,10 m:",null,0,null,null,null,null,null,null,null,"Průměrná hloubka výkopů pro UV 2,10 m:"]
[null,null,"103 - Ulice SPOJOVACÍ:6*4,00*2,10*2",null,100.8,null,null,null,null,null,null,null,"103 - Ulice SPOJOVACÍ:6*4,00*2,10*2"]
[null,null,"104 - Ulice ZA LÁZNĚMI:9*4,00*2,10*2",null,151.19999999999999,null,null,null,null,null,null,null,"104 - Ulice ZA LÁZNĚMI:9*4,00*2,10*2"]
[9,"162701105RSZ","Vodorovné přemístění výkopku z hor.1-7 na skládku zhotovitele","m3",81.599999999999994,null,{"$f":"E52*F52","v":0},0,{"$f":"E52*H52","v":0},0,{"$f":"E52*J52","v":0},null,null,null,2,null,null,null,null,null,null,null,null,null,null,null,1,1,1,null,null,null,null,null,null,null,null,null,null,null,null,null,null,null,null,null,null,null,null,null,null,1,{"$f":"IF(AZ52=1,G52,0)","v":0},{"$f":"IF(AZ52=2,G52,0)","v":0},{"$f":"IF(AZ52=3,G52,0)","v":0},{"$f":"IF(AZ52=4,G52,0)","v":0},{"$f":"IF(AZ52=5,G52,0)","v":0},null,null,null,null,null,null,null,null,null,null,null,null,null,null,null,null,null,null,null,null,null,1,1]
[null,null,"Výkopy:",null,0,null,null,null,null,null,null,null,"Výkopy:"]
[null,null,"V hornině tř. 3 - 5:81,6000",null,81.599999999999994,null,null,null,null,null,null,null,"V hornině tř. 3 - 5:81,6000"]
[10,"174101101R00","Zásyp jam, rýh, šachet se zhutněním ","m3",47.774999999999999,null,{"$f":"E55*F55","v":0},0,{"$f":"E55*H55","v":0},0,{"$f":"E55*J55","v":0},null,null,null,2,null,null,null,null,null,null,null,null,null,null,null,1,1,1,null,null,null,null,null,null,null,null,null,null,null,null,null,null,null,null,null,null,null,null,null,null,1,{"$f":"IF(AZ55=1,G55,0)","v":0},{"$f":"IF(AZ55=2,G55,0)","v":0},{"$f":"IF(AZ55=3,G55,0)","v":0},{"$f":"IF(AZ55=4,G55,0)","v":0},{"$f":"IF(AZ55=5,G55,0)","v":0},null,null,null,null,null,null,null,null,null,null,null,null,null,null,null,null,null,null,null,null,null,1,1]
[null,null,"Položka obsahuje strojní přemístění materiálu pro zásyp ze vzdálenosti do 10 m od okraje zásypu.",null,null,null,null,null,null,null,null,"Položka obsahuje strojní přemístění materiálu pro zásyp ze vzdálenosti do 10 m od okraje zásypu.",null,null,3]
[null,null,null,null,null,null,null,null,null,null,null,null,null,null,3]
[null,null,"Zásypy ŠD fr. 0-63 mm:47,7750",null,47.774999999999999,null,null,null,null,null,null,null,"Zásypy ŠD fr. 0-63 mm:47,7750"]
[null,null,"Začátek provozního součtu",null,0,null,null,null,null,null,null,null,"Začátek provozního součtu"]
[null,null,"Výkopy:",null,0,null,null,null,null,null,null,null,"Výkopy:"]
[null,null,"Průměrná délka přípojky k UV PVC DN200 - 4,0 m:",null,0,null,null,null,null,null,null,null,"Průměrná délka přípojky k UV PVC DN200 - 4,0 m:"]
[null,null,"Průměrná hloubka výkopů pro UV 2,10 m:",null,0,null,null,null,null,null,null,null,"Průměrná hloubka výkopů pro UV 2,10 m:"]
[null,null,"103 - Ulice SPOJOVACÍ:6*4,00*0,80*2,10",null,40.32,null,null,null,null,null,null,null,"103 - Ulice SPOJOVACÍ:6*4,00*0,80*2,10"]
[null,null,"104 - Ulice ZA LÁZNĚMI:9*4,00*0,80*2,10",null,60.48,null,null,null,null,null,null,null,"104 - Ulice ZA LÁZNĚMI:9*4,00*0,80*2,10"]
[null,null,"Odpočet předpokládaného objemu konstrukce MK:",null,0,null,null,null,null,null,null,null,"Odpočet předpokládaného objemu konstrukce MK:"]
[null,null,"103 - Ulice SPOJOVACÍ:-6*4,00*0,80*0,40",null,-7.68,null,null,null,null,null,null,null,"103 - Ulice SPOJOVACÍ:-6*4,00*0,80*0,40"]
[null,null,"104 - Ulice ZA LÁZNĚMI:-9*4,00*0,80*0,40",null,-11.52,null,null,null,null,null,null,null,"104 - Ulice ZA LÁZNĚMI:-9*4,00*0,80*0,40"]
[null,null,"Orpočet objemu lože, potrubí a obsypů:-(6,00*4,00+9,00*4,00)*0,80*(0,15+0,20+0,30)",null,-31.2,null,null,null,null,null,null,null,"Orpočet objemu lože, potrubí a obsypů:-(6,00*4,00+9,00*4,00)*0,80*(0,15+0,20+0,30)"]
[null,null,"Odpočet objemu VU:-2,6250",null,-2.625,null,null,null,null,null,null,null,"Odpočet objemu VU:-2,6250"]
[null,null,"Konec provozního součtu",null,47.775000000000006,null,null,null,null,null,null,null,"Konec provozního součtu"]
[11,"175101101R00","Obsyp potrubí bez prohození sypaniny ","m3",22.114999999999998,null,{"$f":"E71*F71","v":0},0,{"$f":"E71*H71","v":0},0,{"$f":"E71*J71","v":0},null,null,null,2,null,null,null,null,null,null,null,null,null,null,null,1,1,1,null,null,null,null,null,null,null,null,null,null,null,null,null,null,null,null,null,null,null,null,null,null,1,{"$f":"IF(AZ71=1,G71,0)","v":0},{"$f":"IF(AZ71=2,G71,0)","v":0},{"$f":"IF(AZ71=3,G71,0)","v":0},{"$f":"IF(AZ71=4,G71,0)","v":0},{"$f":"IF(AZ71=5,G71,0)","v":0},null,null,null,null,null,null,null,null,null,null,null,null,null,null,null,null,null,null,null,null,null,1,1]
[null,null,"Průměrná délka přípojky k UV PVC DN200 - 4,0 m:",null,0,null,null,null,null,null,null,null,"Průměrná délka přípojky k UV PVC DN200 - 4,0 m:"]
[null,null,"103 - Ulice SPOJOVACÍ:6*4,00*(0,80*(0,20+0,30)-0,10^2*Pi)",null,8.8460000000000001,null,null,null,null,null,null,null,"103 - Ulice SPOJOVACÍ:6*4,00*(0,80*(0,20+0,30)-0,10^2*Pi)"]
[null,null,"104 - Ulice ZA LÁZNĚMI:9*4,00*(0,80*(0,20+0,30)-0,10^2*Pi)",null,13.269,null,null,null,null,null,null,null,"104 - Ulice ZA LÁZNĚMI:9*4,00*(0,80*(0,20+0,30)-0,10^2*Pi)"]
[12,"199000002R00","Poplatek za skládku horniny 1- 7 č. dle katal. odpadů 17 05 04","m3",81.599999999999994,null,{"$f":"E75*F75","v":0},0,{"$f":"E75*H75","v":0},0,{"$f":"E75*J75","v":0},null,null,null,2,null,null,null,null,null,null,null,null,null,null,null,1,1,1,null,null,null,null,null,null,null,null,null,null,null,null,null,null,null,null,null,null,null,null,null,null,1,{"$f":"IF(AZ75=1,G75,0)","v":0},{"$f":"IF(AZ75=2,G75,0)","v":0},{"$f":"IF(AZ75=3,G75,0)","v":0},{"$f":"IF(AZ75=4,G75,0)","v":0},{"$f":"IF(AZ75=5,G75,0)","v":0},null,null,null,null,null,null,null,null,null,null,null,null,null,null,null,null,null,null,null,null,null,1,1]
[null,null,"Výkopy:",null,0,null,null,null,null,null,null,null,"Výkopy:"]
[null,null,"V hornině tř. 3 - 5:81,6000",null,81.599999999999994,null,null,null,null,null,null,null,"V hornině tř. 3 - 5:81,6000"]
[13,"58337308.R","Štěrkopísek frakce 0-2 tř.B","t",44.069299999999998,null,{"$f":"E78*F78","v":0},1,{"$f":"E78*H78","v":44.069299999999998},null,{"$f":"E78*J78","v":0},null,null,null,2,null,null,null,null,null,null,null,null,null,null,null,3,1,"58337308.R",null,null,null,null,null,null,null,null,null,null,null,null,null,null,null,null,null,null,null,null,null,null,1,{"$f":"IF(AZ78=1,G78,0)","v":0},{"$f":"IF(AZ78=2,G78,0)","v":0},{"$f":"IF(AZ78=3,G78,0)","v":0},{"$f":"IF(AZ78=4,G78,0)","v":0},{"$f":"IF(AZ78=5,G78,0)","v":0},null,null,null,null,null,null,null,null,null,null,null,null,null,null,null,null,null,null,null,null,null,3,1]
[null,null,"Průměrná délka přípojky k UV PVC DN200 - 4,0 m:",null,0,null,null,null,null,null,null,null,"Průměrná délka přípojky k UV PVC DN200 - 4,0 m:"]
[null,null,"103 - Ulice SPOJOVACÍ:6*4,00*(0,80*(0,20+0,30)-0,10^2*Pi)*1,973*1,01",null,17.627700000000001,null,null,null,null,null,null,null,"103 - Ulice SPOJOVACÍ:6*4,00*(0,80*(0,20+0,30)-0,10^2*Pi)*1,973*1,01"]
[null,null,"104 - Ulice ZA LÁZNĚMI:9*4,00*(0,80*(0,20+0,30)-0,10^2*Pi)*1,973*1,01",null,26.441600000000001,null,null,null,null,null,null,null,"104 - Ulice ZA LÁZNĚMI:9*4,00*(0,80*(0,20+0,30)-0,10^2*Pi)*1,973*1,01"]
[14,"58344197R","Štěrkodrtě frakce 0-63 A","t",90.377399999999994,null,{"$f":"E82*F82","v":0},1,{"$f":"E82*H82","v":90.377399999999994},null,{"$f":"E82*J82","v":0},null,null,null,2,null,null,null,null,null,null,null,null,null,null,null,3,1,"58344197R",null,null,null,null,null,null,null,null,null,null,null,null,null,null,null,null,null,null,null,null,null,null,1,{"$f":"IF(AZ82=1,G82,0)","v":0},{"$f":"IF(AZ82=2,G82,0)","v":0},{"$f":"IF(AZ82=3,G82,0)","v":0},{"$f":"IF(AZ82=4,G82,0)","v":0},{"$f":"IF(AZ82=5,G82,0)","v":0},null,null,null,null,null,null,null,null,null,null,null,null,null,null,null,null,null,null,null,null,null,3,1]
[null,null,"Zásypy ŠD fr. 0-63 mm:47,7750*1,873*1,01",null,90.377399999999994,null,null,null,null,null,null,null,"Zásypy ŠD fr. 0-63 mm:47,7750*1,873*1,01"]
[null,"Celkem za","1 Zemní práce",null,null,null,{"$f":"SUM(G7:G83)","v":0},null,{"$f":"SUM(I7:I83)","v":134.7811256},null,{"$f":"SUM(K7:K83)","v":0},null,null,null,4,null,null,null,null,null,null,null,null,null,null,null,null,null,null,null,null,null,null,null,null,null,null,null,null,null,null,null,null,null,null,null,null,null,null,null,null,null,{"$f":"SUM(BA7:BA83)","v":0},{"$f":"SUM(BB7:BB83)","v":0},{"$f":"SUM(BC7:BC83)","v":0},{"$f":"SUM(BD7:BD83)","v":0},{"$f":"SUM(BE7:BE83)","v":0}]
["Díl:","45","Podkladní a vedlejší konstrukce",null,null,null,null,null,null,null,null,null,null,null,1]
[15,"451572111R00","Lože pod potrubí z kameniva těženého 0 - 4 mm ","m3",7.2,null,{"$f":"E86*F86","v":0},0.43051,{"$f":"E86*H86","v":3.099672},0,{"$f":"E86*J86","v":0},null,null,null,2,null,null,null,null,null,null,null,null,null,null,null,1,1,1,null,null,null,null,null,null,null,null,null,null,null,null,null,null,null,null,null,null,null,null,null,null,1,{"$f":"IF(AZ86=1,G86,0)","v":0},{"$f":"IF(AZ86=2,G86,0)","v":0},{"$f":"IF(AZ86=3,G86,0)","v":0},{"$f":"IF(AZ86=4,G86,0)","v":0},{"$f":"IF(AZ86=5,G86,0)","v":0},null,null,null,null,null,null,null,null,null,null,null,null,null,null,null,null,null,null,null,null,null,1,1]
[null,null,"Průměrná délka přípojky k UV PVC DN200 - 4,0 m:",null,0,null,null,null,null,null,null,null,"Průměrná délka přípojky k UV PVC DN200 - 4,0 m:"]
[null,null,"103 - Ulice SPOJOVACÍ:6*4,00*0,80*0,15",null,2.88,null,null,null,null,null,null,null,"103 - Ulice SPOJOVACÍ:6*4,00*0,80*0,15"]
[null,null,"104 - Ulice ZA LÁZNĚMI:9*4,00*0,80*0,15",null,4.32,null,null,null,null,null,null,null,"104 - Ulice ZA LÁZNĚMI:9*4,00*0,80*0,15"]
[16,"452112111R00","Osazení beton. prstenců pod poklopy,výšky do100 mm ","kus",15,null,{"$f":"E90*F90","v":0},6.6E-3,{"$f":"E90*H90","v":9.9000000000000005E-2},0,{"$f":"E90*J90","v":0},null,null,null,2,null,null,null,null,null,null,null,null,null,null,null,1,1,1,null,null,null,null,null,null,null,null,null,null,null,null,null,null,null,null,null,null,null,null,null,null,1,{"$f":"IF(AZ90=1,G90,0)","v":0},{"$f":"IF(AZ90=2,G90,0)","v":0},{"$f":"IF(AZ90=3,G90,0)","v":0},{"$f":"IF(AZ90=4,G90,0)","v":0},{"$f":"IF(AZ90=5,G90,0)","v":0},null,null,null,null,null,null,null,null,null,null,null,null,null,null,null,null,null,null,null,null,null,1,1]
[null,null,"Volba položky se řídí výškou prstence nebo rámu. V položkách nejsou zakalkulovány náklady na dodávku betonových výrobků;",null,null,null,null,null,null,null,null,"Volba položky se řídí výškou prstence nebo rámu. V položkách nejsou zakalkulovány náklady na dodávku betonových výrobků;",null,null,3]
[null,null,"103 - Ulice SPOJOVACÍ:6",null,6,null,null,null,null,null,null,null,"103 - Ulice SPOJOVACÍ:6"]
[null,null,"104 - Ulice ZA LÁZNĚMI:9",null,9,null,null,null,null,null,null,null,"104 - Ulice ZA LÁZNĚMI:9"]
[17,"59223864.R","Vpusť uliční TBV-Q 450/60/10a Vyrovnávací prstenec","kus",15.15,null,{"$f":"E94*F94","v":0},2.3E-2,{"$f":"E94*H94","v":0.34844999999999998},null,{"$f":"E94*J94","v":0},null,null,null,2,null,null,null,null,null,null,null,null,null,null,null,3,1,"59223864.R",null,null,null,null,null,null,null,null,null,null,null,null,null,null,null,null,null,null,null,null,null,null,1,{"$f":"IF(AZ94=1,G94,0)","v":0},{"$f":"IF(AZ94=2,G94,0)","v":0},{"$f":"IF(AZ94=3,G94,0)","v":0},{"$f":"IF(AZ94=4,G94,0)","v":0},{"$f":"IF(AZ94=5,G94,0)","v":0},null,null,null,null,null,null,null,null,null,null,null,null,null,null,null,null,null,null,null,null,null,3,1]
[null,null,"103 - Ulice SPOJOVACÍ:6*1,01",null,6.06,null,null,null,null,null,null,null,"103 - Ulice SPOJOVACÍ:6*1,01"]
[null,null,"104 - Ulice ZA LÁZNĚMI:9*1,01",null,9.09,null,null,null,null,null,null,null,"104 - Ulice ZA LÁZNĚMI:9*1,01"]
[null,"Celkem za","45 Podkladní a vedlejší konstrukce",null,null,null,{"$f":"SUM(G85:G96)","v":0},null,{"$f":"SUM(I85:I96)","v":3.5471220000000003},null,{"$f":"SUM(K85:K96)","v":0},null,null,null,4,null,null,null,null,null,null,null,null,null,null,null,null,null,null,null,null,null,null,null,null,null,null,null,null,null,null,null,null,null,null,null,null,null,null,null,null,null,{"$f":"SUM(BA85:BA96)","v":0},{"$f":"SUM(BB85:BB96)","v":0},{"$f":"SUM(BC85:BC96)","v":0},{"$f":"SUM(BD85:BD96)","v":0},{"$f":"SUM(BE85:BE96)","v":0}]
["Díl:","5","Komunikace",null,null,null,null,null,null,null,null,null,null,null,1]
[18,"572701119RRX","Provizorní zásyp rýh kam. hrubě drceným nebo recyk s následným odstraněním a odvozem","m3",19.2,null,{"$f":"E99*F99","v":0},1.4804999999999999,{"$f":"E99*H99","v":28.425599999999999},0,{"$f":"E99*J99","v":0},null,null,null,2,null,null,null,null,null,null,null,null,null,null,null,1,1,1,null,null,null,null,null,null,null,null,null,null,null,null,null,null,null,null,null,null,null,null,null,null,1,{"$f":"IF(AZ99=1,G99,0)","v":0},{"$f":"IF(AZ99=2,G99,0)","v":0},{"$f":"IF(AZ99=3,G99,0)","v":0},{"$f":"IF(AZ99=4,G99,0)","v":0},{"$f":"IF(AZ99=5,G99,0)","v":0},null,null,null,null,null,null,null,null,null,null,null,null,null,null,null,null,null,null,null,null,null,1,1]
[null,null,"Průměrná délka přípojky k UV PVC DN200 - 4,0 m:",null,0,null,null,null,null,null,null,null,"Průměrná délka přípojky k UV PVC DN200 - 4,0 m:"]
[null,null,"103 - Ulice SPOJOVACÍ:6*4,00*0,80*0,40",null,7.68,null,null,null,null,null,null,null,"103 - Ulice SPOJOVACÍ:6*4,00*0,80*0,40"]
[null,null,"104 - Ulice ZA LÁZNĚMI:9*4,00*0,80*0,40",null,11.52,null,null,null,null,null,null,null,"104 - Ulice ZA LÁZNĚMI:9*4,00*0,80*0,40"]
[null,"Celkem za","5 Komunikace",null,null,null,{"$f":"SUM(G98:G102)","v":0},null,{"$f":"SUM(I98:I102)","v":28.425599999999999},null,{"$f":"SUM(K98:K102)","v":0},null,null,null,4,null,null,null,null,null,null,null,null,null,null,null,null,null,null,null,null,null,null,null,null,null,null,null,null,null,null,null,null,null,null,null,null,null,null,null,null,null,{"$f":"SUM(BA98:BA102)","v":0},{"$f":"SUM(BB98:BB102)","v":0},{"$f":"SUM(BC98:BC102)","v":0},{"$f":"SUM(BD98:BD102)","v":0},{"$f":"SUM(BE98:BE102)","v":0}]
["Díl:","8","Trubní vedení",null,null,null,null,null,null,null,null,null,null,null,1]
[19,"871353121R00","Montáž trub z plastu, gumový kroužek, DN 200 ","m",60,null,{"$f":"E105*F105","v":0},1.0000000000000001E-5,{"$f":"E105*H105","v":6.0000000000000006E-4},0,{"$f":"E105*J105","v":0},null,null,null,2,null,null,null,null,null,null,null,null,null,null,null,1,1,1,null,null,null,null,null,null,null,null,null,null,null,null,null,null,null,null,null,null,null,null,null,null,1,{"$f":"IF(AZ105=1,G105,0)","v":0},{"$f":"IF(AZ105=2,G105,0)","v":0},{"$f":"IF(AZ105=3,G105,0)","v":0},{"$f":"IF(AZ105=4,G105,0)","v":0},{"$f":"IF(AZ105=5,G105,0)","v":0},null,null,null,null,null,null,null,null,null,null,null,null,null,null,null,null,null,null,null,null,null,1,1]
[null,null,"V položce je uvažováno s jedním spojem na 6 m potrubí. Položka je určena pro montáž potrubí z kanalizačních trub z plastu těsněných gumovým kroužkem v otevřeném výkopu ve sklonu do 20 %.",null,null,null,null,null,null,null,null,"V položce je uvažováno s jedním spojem na 6 m potrubí. Položka je určena pro montáž potrubí z kanalizačních trub z plastu těsněných gumovým kroužkem v otevřeném výkopu ve sklonu do 20 %.",null,null,3]
[null,null,"Průměrná délka přípojky k UV PVC DN200 - 4,0 m:",null,0,null,null,null,null,null,null,null,"Průměrná délka přípojky k UV PVC DN200 - 4,0 m:"]
[null,null,"103 - Ulice SPOJOVACÍ:6*4,00",null,24,null,null,null,null,null,null,null,"103 - Ulice SPOJOVACÍ:6*4,00"]
[null,null,"104 - Ulice ZA LÁZNĚMI:9*4,00",null,36,null,null,null,null,null,null,null,"104 - Ulice ZA LÁZNĚMI:9*4,00"]
[20,"877353123R00","Montáž tvarovek jednoos. plast. gum.kroužek DN 200 ","kus",30,null,{"$f":"E110*F110","v":0},2.0000000000000002E-5,{"$f":"E110*H110","v":6.0000000000000006E-4},0,{"$f":"E110*J110","v":0},null,null,null,2,null,null,null,null,null,null,null,null,null,null,null,1,1,1,null,null,null,null,null,null,null,null,null,null,null,null,null,null,null,null,null,null,null,null,null,null,1,{"$f":"IF(AZ110=1,G110,0)","v":0},{"$f":"IF(AZ110=2,G110,0)","v":0},{"$f":"IF(AZ110=3,G110,0)","v":0},{"$f":"IF(AZ110=4,G110,0)","v":0},{"$f":"IF(AZ110=5,G110,0)","v":0},null,null,null,null,null,null,null,null,null,null,null,null,null,null,null,null,null,null,null,null,null,1,1]
[null,null,"Položka je určena pro montáž tvarovek jednoosých na potrubí z kanalizačních trub z plastu těsněných gumovým kroužkem v otevřeném výkopu.",null,null,null,null,null,null,null,null,"Položka je určena pro montáž tvarovek jednoosých na potrubí z kanalizačních trub z plastu těsněných gumovým kroužkem v otevřeném výkopu.",null,null,3]
[null,null,"Průměrná délka přípojky k UV PVC DN200 - 4,0 m:",null,0,null,null,null,null,null,null,null,"Průměrná délka přípojky k UV PVC DN200 - 4,0 m:"]
[null,null,"103 - Ulice SPOJOVACÍ:6*2",null,12,null,null,null,null,null,null,null,"103 - Ulice SPOJOVACÍ:6*2"]
[null,null,"104 - Ulice ZA LÁZNĚMI:9*2",null,18,null,null,null,null,null,null,null,"104 - Ulice ZA LÁZNĚMI:9*2"]
[21,"892601121R00","Čištění kanalizační stoky do DN 200, do 15 m ","úsek",15,null,{"$f":"E115*F115","v":0},0,{"$f":"E115*H115","v":0},0,{"$f":"E115*J115","v":0},null,null,null,2,null,null,null,null,null,null,null,null,null,null,null,1,1,1,null,null,null,null,null,null,null,null,null,null,null,null,null,null,null,null,null,null,null,null,null,null,1,{"$f":"IF(AZ115=1,G115,0)","v":0},{"$f":"IF(AZ115=2,G115,0)","v":0},{"$f":"IF(AZ115=3,G115,0)","v":0},{"$f":"IF(AZ115=4,G115,0)","v":0},{"$f":"IF(AZ115=5,G115,0)","v":0},null,null,null,null,null,null,null,null,null,null,null,null,null,null,null,null,null,null,null,null,null,1,1]
[null,null,"V položce je zakalkulováno:",null,null,null,null,null,null,null,null,"V položce je zakalkulováno:",null,null,3]
[null,null,"a) otevření a uzavření revizních šachet a čisticích kusů",null,null,null,null,null,null,null,null,"a) otevření a uzavření revizních šachet a čisticích kusů",null,null,3]
[null,null,"b) natažení vysokotlakých hadic k místu odkud se bude kanalizace čistit",null,null,null,null,null,null,null,null,"b) natažení vysokotlakých hadic k místu odkud se bude kanalizace čistit",null,null,3]
[null,null,"c) vyčištění potrubí tlakovou vodou nebo motorovým pérem.",null,null,null,null,null,null,null,null,"c) vyčištění potrubí tlakovou vodou nebo motorovým pérem.",null,null,3]
[null,null,"Průměrná délka přípojky k UV PVC DN200 - 4,0 m:",null,0,null,null,null,null,null,null,null,"Průměrná délka přípojky k UV PVC DN200 - 4,0 m:"]
[null,null,"103 - Ulice SPOJOVACÍ:6",null,6,null,null,null,null,null,null,null,"103 - Ulice SPOJOVACÍ:6"]
[null,null,"104 - Ulice ZA LÁZNĚMI:9",null,9,null,null,null,null,null,null,null,"104 - Ulice ZA LÁZNĚMI:9"]
[22,"892855111R00","Kontrola kanalizace TV kamerou do 15 m ","úsek",15,null,{"$f":"E123*F123","v":0},0,{"$f":"E123*H123","v":0},0,{"$f":"E123*J123","v":0},null,null,null,2,null,null,null,null,null,null,null,null,null,null,null,1,1,1,null,null,null,null,null,null,null,null,null,null,null,null,null,null,null,null,null,null,null,null,null,null,1,{"$f":"IF(AZ123=1,G123,0)","v":0},{"$f":"IF(AZ123=2,G123,0)","v":0},{"$f":"IF(AZ123=3,G123,0)","v":0},{"$f":"IF(AZ123=4,G123,0)","v":0},{"$f":"IF(AZ123=5,G123,0)","v":0},null,null,null,null,null,null,null,null,null,null,null,null,null,null,null,null,null,null,null,null,null,1,1]
[null,null,"Provedení kaberové prohlídky včetně dodání elektronického záznamu na CD zadavateli a tištěné dokumentace průběhu kamerové prohlídky",null,null,null,null,null,null,null,null,"Provedení kaberové prohlídky včetně dodání elektronického záznamu na CD zadavateli a tištěné dokumentace průběhu kamerové prohlídky",null,null,3]
[null,null,"Průměrná délka přípojky k UV PVC DN200 - 4,0 m:",null,0,null,null,null,null,null,null,null,"Průměrná délka přípojky k UV PVC DN200 - 4,0 m:"]
[null,null,"103 - Ulice SPOJOVACÍ:6",null,6,null,null,null,null,null,null,null,"103 - Ulice SPOJOVACÍ:6"]
[null,null,"104 - Ulice ZA LÁZNĚMI:9",null,9,null,null,null,null,null,null,null,"104 - Ulice ZA LÁZNĚMI:9"]
[23,"895941311R00","Zřízení vpusti uliční z dílců typ UVB - 50 ","kus",15,null,{"$f":"E128*F128","v":0},0.14494000000000001,{"$f":"E128*H128","v":2.1741000000000001},0,{"$f":"E128*J128","v":0},null,null,null,2,null,null,null,null,null,null,null,null,null,null,null,1,1,1,null,null,null,null,null,null,null,null,null,null,null,null,null,null,null,null,null,null,null,null,null,null,1,{"$f":"IF(AZ128=1,G128,0)","v":0},{"$f":"IF(AZ128=2,G128,0)","v":0},{"$f":"IF(AZ128=3,G128,0)","v":0},{"$f":"IF(AZ128=4,G128,0)","v":0},{"$f":"IF(AZ128=5,G128,0)","v":0},null,null,null,null,null,null,null,null,null,null,null,null,null,null,null,null,null,null,null,null,null,1,1]
[null,null,"Položka je určena pro zřízení vpusti kanalizační uliční z betonových dílců.",null,null,null,null,null,null,null,null,"Položka je určena pro zřízení vpusti kanalizační uliční z betonových dílců.",null,null,3]
[null,null,"V položce jsou započteny i náklady na zřízení lože ze štěrkopísku.",null,null,null,null,null,null,null,null,"V položce jsou započteny i náklady na zřízení lože ze štěrkopísku.",null,null,3]
[null,null,"103 - Ulice SPOJOVACÍ:6",null,6,null,null,null,null,null,null,null,"103 - Ulice SPOJOVACÍ:6"]
[null,null,"Začátek provozního součtu",null,0,null,null,null,null,null,null,null,"Začátek provozního součtu"]
[null,null,"UV 30 do Š:1",null,1,null,null,null,null,null,null,null,"UV 30 do Š:1"]
[null,null,"UV 31:1",null,1,null,null,null,null,null,null,null,"UV 31:1"]
[null,null,"UV 32:1",null,1,null,null,null,null,null,null,null,"UV 32:1"]
[null,null,"UV 33 do Š:1",null,1,null,null,null,null,null,null,null,"UV 33 do Š:1"]
[null,null,"UV 34 :1",null,1,null,null,null,null,null,null,null,"UV 34 :1"]
[null,null,"UV 35 do Š:1",null,1,null,null,null,null,null,null,null,"UV 35 do Š:1"]
[null,null,"Konec provozního součtu",null,6,null,null,null,null,null,null,null,"Konec provozního součtu"]
[null,null,"104 - Ulice ZA LÁZNĚMI:9",null,9,null,null,null,null,null,null,null,"104 - Ulice ZA LÁZNĚMI:9"]
[null,null,"Začátek provozního součtu",null,0,null,null,null,null,null,null,null,"Začátek provozního součtu"]
[null,null,"UV 36 do Š:1",null,1,null,null,null,null,null,null,null,"UV 36 do Š:1"]
[null,null,"UV 37 do Š:1",null,1,null,null,null,null,null,null,null,"UV 37 do Š:1"]
[null,null,"UV 38 do Š:1",null,1,null,null,null,null,null,null,null,"UV 38 do Š:1"]
[null,null,"UV 39 do Š:1",null,1,null,null,null,null,null,null,null,"UV 39 do Š:1"]
[null,null,"UV 40:1",null,1,null,null,null,null,null,null,null,"UV 40:1"]
[null,null,"UV 41 do Š:1",null,1,null,null,null,null,null,null,null,"UV 41 do Š:1"]
[null,null,"UV 42 :1",null,1,null,null,null,null,null,null,null,"UV 42 :1"]
[null,null,"UV 43 do Š:1",null,1,null,null,null,null,null,null,null,"UV 43 do Š:1"]
[null,null,"UV 44 do Š:1",null,1,null,null,null,null,null,null,null,"UV 44 do Š:1"]
[null,null,"Konec provozního součtu",null,9,null,null,null,null,null,null,null,"Konec provozního součtu"]
[24,"899202111R00","Osazení mříží litinových s rámem do 100kg ","kus",15,null,{"$f":"E152*F152","v":0},9.3600000000000003E-3,{"$f":"E152*H152","v":0.1404},0,{"$f":"E152*J152","v":0},null,null,null,2,null,null,null,null,null,null,null,null,null,null,null,1,1,1,null,null,null,null,null,null,null,null,null,null,null,null,null,null,null,null,null,null,null,null,null,null,1,{"$f":"IF(AZ152=1,G152,0)","v":0},{"$f":"IF(AZ152=2,G152,0)","v":0},{"$f":"IF(AZ152=3,G152,0)","v":0},{"$f":"IF(AZ152=4,G152,0)","v":0},{"$f":"IF(AZ152=5,G152,0)","v":0},null,null,null,null,null,null,null,null,null,null,null,null,null,null,null,null,null,null,null,null,null,1,1]
[null,null,"103 - Ulice SPOJOVACÍ:6",null,6,null,null,null,null,null,null,null,"103 - Ulice SPOJOVACÍ:6"]
[null,null,"104 - Ulice ZA LÁZNĚMI:9",null,9,null,null,null,null,null,null,null,"104 - Ulice ZA LÁZNĚMI:9"]
[25,"899711122R00","Fólie výstražná z PVC šedá, šířka 30 cm ","m",60,null,{"$f":"E155*F155","v":0},0,{"$f":"E155*H155","v":0},0,{"$f":"E155*J155","v":0},null,null,null,2,null,null,null,null,null,null,null,null,null,null,null,1,1,1,null,null,null,null,null,null,null,null,null,null,null,null,null,null,null,null,null,null,null,null,null,null,1,{"$f":"IF(AZ155=1,G155,0)","v":0},{"$f":"IF(AZ155=2,G155,0)","v":0},{"$f":"IF(AZ155=3,G155,0)","v":0},{"$f":"IF(AZ155=4,G155,0)","v":0},{"$f":"IF(AZ155=5,G155,0)","v":0},null,null,null,null,null,null,null,null,null,null,null,null,null,null,null,null,null,null,null,null,null,1,1]
[null,null,"Průměrná délka přípojky k UV PVC DN200 - 4,0 m:",null,0,null,null,null,null,null,null,null,"Průměrná délka přípojky k UV PVC DN200 - 4,0 m:"]
[null,null,"103 - Ulice SPOJOVACÍ:6*4,00",null,24,null,null,null,null,null,null,null,"103 - Ulice SPOJOVACÍ:6*4,00"]
[null,null,"104 - Ulice ZA LÁZNĚMI:9*4,00",null,36,null,null,null,null,null,null,null,"104 - Ulice ZA LÁZNĚMI:9*4,00"]
[26,"286111914.R","Trubka kanalizační PVC QUANTUM SN 12 DN 200","m",61.8,null,{"$f":"E159*F159","v":0},7.1000000000000004E-3,{"$f":"E159*H159","v":0.43878},null,{"$f":"E159*J159","v":0},null,null,null,2,null,null,null,null,null,null,null,null,null,null,null,3,1,"286111914.R",null,null,null,null,null,null,null,null,null,null,null,null,null,null,null,null,null,null,null,null,null,null,1,{"$f":"IF(AZ159=1,G159,0)","v":0},{"$f":"IF(AZ159=2,G159,0)","v":0},{"$f":"IF(AZ159=3,G159,0)","v":0},{"$f":"IF(AZ159=4,G159,0)","v":0},{"$f":"IF(AZ159=5,G159,0)","v":0},null,null,null,null,null,null,null,null,null,null,null,null,null,null,null,null,null,null,null,null,null,3,1]
[null,null,"Průměrná délka přípojky k UV PVC DN200 - 4,0 m:",null,0,null,null,null,null,null,null,null,"Průměrná délka přípojky k UV PVC DN200 - 4,0 m:"]
[null,null,"103 - Ulice SPOJOVACÍ:6*4,00*1,03",null,24.72,null,null,null,null,null,null,null,"103 - Ulice SPOJOVACÍ:6*4,00*1,03"]
[null,null,"104 - Ulice ZA LÁZNĚMI:9*4,00*1,03",null,37.08,null,null,null,null,null,null,null,"104 - Ulice ZA LÁZNĚMI:9*4,00*1,03"]
[27,"286506012.R","Koleno kanalizační PVC QUANTUM SDR 34 DN 200 Kolena DN200/15°, 30°a 45°","kus",30.45,null,{"$f":"E163*F163","v":0},9.7000000000000005E-4,{"$f":"E163*H163","v":2.95365E-2},null,{"$f":"E163*J163","v":0},null,null,null,2,null,null,null,null,null,null,null,null,null,null,null,3,1,"286506012.R",null,null,null,null,null,null,null,null,null,null,null,null,null,null,null,null,null,null,null,null,null,null,1,{"$f":"IF(AZ163=1,G163,0)","v":0},{"$f":"IF(AZ163=2,G163,0)","v":0},{"$f":"IF(AZ163=3,G163,0)","v":0},{"$f":"IF(AZ163=4,G163,0)","v":0},{"$f":"IF(AZ163=5,G163,0)","v":0},null,null,null,null,null,null,null,null,null,null,null,null,null,null,null,null,null,null,null,null,null,3,1]
[null,null,"Tvarovky kanalizačního systému PVC QUANTUM SDR 34",null,null,null,null,null,null,null,null,"Tvarovky kanalizačního systému PVC QUANTUM SDR 34",null,null,3]
[null,null,"Teplota při pokládce: min. -10 °C, max. 50 °C",null,null,null,null,null,null,null,null,"Teplota při pokládce: min. -10 °C, max. 50 °C",null,null,3]
[null,null,"Max. teplota média: trvale do 40 °C, krátkodobě do 60 °C",null,null,null,null,null,null,null,null,"Max. teplota média: trvale do 40 °C, krátkodobě do 60 °C",null,null,3]
[null,null,"Orientační výška krytí: min. 0,5 m, max. 10 m",null,null,null,null,null,null,null,null,"Orientační výška krytí: min. 0,5 m, max. 10 m",null,null,3]
[null,null,"Max. rychlost média: 12 m/s",null,null,null,null,null,null,null,null,"Max. rychlost média: 12 m/s",null,null,3]
[null,null,"Průměrná délka přípojky k UV PVC DN200 - 4,0 m:",null,0,null,null,null,null,null,null,null,"Průměrná délka přípojky k UV PVC DN200 - 4,0 m:"]
[null,null,"103 - Ulice SPOJOVACÍ:6*2*1,015",null,12.18,null,null,null,null,null,null,null,"103 - Ulice SPOJOVACÍ:6*2*1,015"]
[null,null,"104 - Ulice ZA LÁZNĚMI:9*2*1,015",null,18.27,null,null,null,null,null,null,null,"104 - Ulice ZA LÁZNĚMI:9*2*1,015"]
[28,"55242118.R","Mříž litinová KM12P včetně kalového koše H600 mm","kus",15,null,{"$f":"E172*F172","v":0},6.8000000000000005E-2,{"$f":"E172*H172","v":1.02},null,{"$f":"E172*J172","v":0},null,null,null,2,null,null,null,null,null,null,null,null,null,null,null,3,1,"55242118.R",null,null,null,null,null,null,null,null,null,null,null,null,null,null,null,null,null,null,null,null,null,null,1,{"$f":"IF(AZ172=1,G172,0)","v":0},{"$f":"IF(AZ172=2,G172,0)","v":0},{"$f":"IF(AZ172=3,G172,0)","v":0},{"$f":"IF(AZ172=4,G172,0)","v":0},{"$f":"IF(AZ172=5,G172,0)","v":0},null,null,null,null,null,null,null,null,null,null,null,null,null,null,null,null,null,null,null,null,null,3,1]
[null,null,"103 - Ulice SPOJOVACÍ:6",null,6,null,null,null,null,null,null,null,"103 - Ulice SPOJOVACÍ:6"]
[null,null,"104 - Ulice ZA LÁZNĚMI:9",null,9,null,null,null,null,null,null,null,"104 - Ulice ZA LÁZNĚMI:9"]
[29,"592238522.R","Vpusť uliční TBV-Q 450/450/3d PVC DN200 Skruž s odtokem","kus",15.15,null,{"$f":"E175*F175","v":0},0.10299999999999999,{"$f":"E175*H175","v":1.5604499999999999},null,{"$f":"E175*J175","v":0},null,null,null,2,null,null,null,null,null,null,null,null,null,null,null,3,1,"592238522.R",null,null,null,null,null,null,null,null,null,null,null,null,null,null,null,null,null,null,null,null,null,null,1,{"$f":"IF(AZ175=1,G175,0)","v":0},{"$f":"IF(AZ175=2,G175,0)","v":0},{"$f":"IF(AZ175=3,G175,0)","v":0},{"$f":"IF(AZ175=4,G175,0)","v":0},{"$f":"IF(AZ175=5,G175,0)","v":0},null,null,null,null,null,null,null,null,null,null,null,null,null,null,null,null,null,null,null,null,null,3,1]
[null,null,"103 - Ulice SPOJOVACÍ:6*1,01",null,6.06,null,null,null,null,null,null,null,"103 - Ulice SPOJOVACÍ:6*1,01"]
[null,null,"104 - Ulice ZA LÁZNĚMI:9*1,01",null,9.09,null,null,null,null,null,null,null,"104 - Ulice ZA LÁZNĚMI:9*1,01"]
[30,"59223858.R","Vpusť uliční TBV-Q 450/295/5b Horní skruž","kus",15.15,null,{"$f":"E178*F178","v":0},5.7000000000000002E-2,{"$f":"E178*H178","v":0.86355000000000004},null,{"$f":"E178*J178","v":0},null,null,null,2,null,null,null,null,null,null,null,null,null,null,null,3,1,"59223858.R",null,null,null,null,null,null,null,null,null,null,null,null,null,null,null,null,null,null,null,null,null,null,1,{"$f":"IF(AZ178=1,G178,0)","v":0},{"$f":"IF(AZ178=2,G178,0)","v":0},{"$f":"IF(AZ178=3,G178,0)","v":0},{"$f":"IF(AZ178=4,G178,0)","v":0},{"$f":"IF(AZ178=5,G178,0)","v":0},null,null,null,null,null,null,null,null,null,null,null,null,null,null,null,null,null,null,null,null,null,3,1]
[null,null,"103 - Ulice SPOJOVACÍ:6*1,01",null,6.06,null,null,null,null,null,null,null,"103 - Ulice SPOJOVACÍ:6*1,01"]
[null,null,"104 - Ulice ZA LÁZNĚMI:9*1,01",null,9.09,null,null,null,null,null,null,null,"104 - Ulice ZA LÁZNĚMI:9*1,01"]
[31,"59223860.R","Vpusť uliční TBV-Q 450/300/2a Dno bez výtoku","kus",15.15,null,{"$f":"E181*F181","v":0},6.9000000000000006E-2,{"$f":"E181*H181","v":1.04535},null,{"$f":"E181*J181","v":0},null,null,null,2,null,null,null,null,null,null,null,null,null,null,null,3,1,"59223860.R",null,null,null,null,null,null,null,null,null,null,null,null,null,null,null,null,null,null,null,null,null,null,1,{"$f":"IF(AZ181=1,G181,0)","v":0},{"$f":"IF(AZ181=2,G181,0)","v":0},{"$f":"IF(AZ181=3,G181,0)","v":0},{"$f":"IF(AZ181=4,G181,0)","v":0},{"$f":"IF(AZ181=5,G181,0)","v":0},null,null,null,null,null,null,null,null,null,null,null,null,null,null,null,null,null,null,null,null,null,3,1]
[null,null,"103 - Ulice SPOJOVACÍ:6*1,01",null,6.06,null,null,null,null,null,null,null,"103 - Ulice SPOJOVACÍ:6*1,01"]
[null,null,"104 - Ulice ZA LÁZNĚMI:9*1,01",null,9.09,null,null,null,null,null,null,null,"104 - Ulice ZA LÁZNĚMI:9*1,01"]
[null,"Celkem za","8 Trubní vedení",null,null,null,{"$f":"SUM(G104:G183)","v":0},null,{"$f":"SUM(I104:I183)","v":7.2733664999999998},null,{"$f":"SUM(K104:K183)","v":0},null,null,null,4,null,null,null,null,null,null,null,null,null,null,null,null,null,null,null,null,null,null,null,null,null,null,null,null,null,null,null,null,null,null,null,null,null,null,null,null,null,{"$f":"SUM(BA104:BA183)","v":0},{"$f":"SUM(BB104:BB183)","v":0},{"$f":"SUM(BC104:BC183)","v":0},{"$f":"SUM(BD104:BD183)","v":0},{"$f":"SUM(BE104:BE183)","v":0}]
["Díl:","99","Staveništní přesun hmot",null,null,null,null,null,null,null,null,null,null,null,1]
[32,"998276101RXX","Přesun hmot, trubní vedení plastová, otevř. výkop pro celý rozsah objektu","t",174.02721410000001,null,{"$f":"E186*F186","v":0},0,{"$f":"E186*H186","v":0},null,{"$f":"E186*J186","v":0},null,null,null,2,null,null,null,null,null,null,null,null,null,null,null,7,1,2,null,null,null,null,null,null,null,null,null,null,null,null,null,null,null,null,null,null,null,null,null,null,1,{"$f":"IF(AZ186=1,G186,0)","v":0},{"$f":"IF(AZ186=2,G186,0)","v":0},{"$f":"IF(AZ186=3,G186,0)","v":0},{"$f":"IF(AZ186=4,G186,0)","v":0},{"$f":"IF(AZ186=5,G186,0)","v":0},null,null,null,null,null,null,null,null,null,null,null,null,null,null,null,null,null,null,null,null,null,7,1]
[null,null,"Staveništní doprava pro celý rozsah objektu - doprava zmeziskládek vybudovaného zařízení staveniště zhotovitele na jednotlivé části staveniště.",null,null,null,null,null,null,null,null,"Staveništní doprava pro celý rozsah objektu - doprava zmeziskládek vybudovaného zařízení staveniště zhotovitele na jednotlivé části staveniště.",null,null,3]
[null,"Celkem za","99 Staveništní přesun hmot",null,null,null,{"$f":"SUM(G185:G187)","v":0},null,{"$f":"SUM(I185:I187)","v":0},null,{"$f":"SUM(K185:K187)","v":0},null,null,null,4,null,null,null,null,null,null,null,null,null,null,null,null,null,null,null,null,null,null,null,null,null,null,null,null,null,null,null,null,null,null,null,null,null,null,null,null,null,{"$f":"SUM(BA185:BA187)","v":0},{"$f":"SUM(BB185:BB187)","v":0},{"$f":"SUM(BC185:BC187)","v":0},{"$f":"SUM(BD185:BD187)","v":0},{"$f":"SUM(BE185:BE187)","v":0}]

{"sheet":"OaVNS_I.Etapa","index":40,"n_rows":30,"n_cols":67,"rows_kept":30,"cut":false,"hidden":false,"merged":[[0,0,0,6],[2,0,2,1],[3,0,3,1],[3,4,3,6],[6,2,6,6]]}
["Položkový rozpočet "]
[]
["Stavba :",null,"3403 Jilemnice - Optimalizace VS a komunikace I.Etapa",null,"Rozpočet:","OaVNS_ I.Etapa"]
["Objekt :",null,"OaVNS - Ostatní a vedlejší náklady stavby "]
[]
["P.č.","Číslo položky","Název položky","MJ","množství","cena / MJ","celkem (Kč)","Jednotková hmotnost","Celková hmotnost","Jednotková dem.hmot.","Celková dem.hmot."]
["Díl:","950","Ostatní náklady stavby"]
[1,"950 99-0001.ONS","Zajištění prostoru a vybudování zařízení staveniště včetně potřebných staveništních komunikací","soubor",1,null,{"$f":"SUM(E8*F8)","v":0},8.6899999999999998E-3,{"$f":"E8*H8","v":8.6899999999999998E-3},0,{"$f":"E8*J8","v":0},null,null,null,null,null,null,null,null,null,null,null,null,null,null,null,null,null,null,null,null,null,null,null,null,null,null,null,null,null,null,null,null,null,null,null,null,null,null,null,null,null,null,null,null,null,null,null,null,null,null,null,null,null,null,1,1]
[2,"950 99-0003.ONS","Zajištění bezpečnosti při provádění stavby ve smyslu bezpečnosti práce i ochrany životního prostředí a zeleně","soubor",1,null,{"$f":"SUM(E9*F9)","v":0}]
[3,"950 99-0005.ONS","Vytýčení stavby a hranic pozemků při provádění stavby ","soubor",1,null,0]
[4,"950 99-0006.ONS","Zajištění včasného oznámení o zahájení prací majitelům pozemků a správců sítí dotčených stavbou","soubor",1,null,0]
[5,"950 99-0007.ONS","Spolupráce s vlastníky pozemků při případném uvolnění pozemků pro stavbu (např. skládky osobního materiálu vlastníků)","soubor",1,null,0,2.478E-2,{"$f":"E12*H12","v":2.478E-2},0,{"$f":"E12*J12","v":0},null,null,null,null,null,null,null,null,null,null,null,null,null,null,null,null,null,null,null,null,null,null,null,null,null,null,null,null,null,null,null,null,null,null,null,null,null,null,null,null,null,null,null,null,null,null,null,null,null,null,null,null,null,null,1,1]
[6,"950 99-0008.ONS","Zajištění vytýčení podzemních zařízení, a v případě jejich křížení či souběhu v otevřeném výkopu, jejich písemné předání zpět jejich správcům před zásypem","soubor",1,null,0]
[7,"950 99-0009.ONS","Vypracování a projednání návrhu dočasných dopravních opatření (případně i po etapách dle zvoleného postupu prací zhotovitelem)","soubor",1,null,0]
[8,"950 99-0010.ONS","Zajištění povolení zvláštního užívání komunikací v souladu s postupem výstavby,včetně správních poplatků a povolení k užívání dalších, stavbou dotčených pozemků   (skládky materiálu, mezideponie atd.)","soubor",1,null,0]
[9,"950 99-0011.ONS","Zřízení, údržba a likvidace dopravního opatření po dobu realizace stavby (případně i po etapách dle zvoleného postupu prací zhotovitelem)","soubor",1,null,0,0,{"$f":"E16*H16","v":0},0,{"$f":"E16*J16","v":0},null,null,null,null,null,null,null,null,null,null,null,null,null,null,null,null,null,null,null,null,null,null,null,null,null,null,null,null,null,null,null,null,null,null,null,null,null,null,null,null,null,null,null,null,null,null,null,null,null,null,null,null,null,null,1,1]
[10,"950 99-0013.ONS","Zajištění činnosti odpovědného geodeta zhotovitele","soubor",1,null,0]
[11,"950 99-0014.ONS","Zajištění činnosti odpovědného geologa zhotovitele","soubor",1,null,0]
[12,"950 99-0015.ONS","Zajištění čistoty na staveništi a v jeho okolí, zajištění každodenního čištění komunikací dotčených provozem zhotovitele","soubor",1,null,0]
[13,"950 99-0016.ONS","Fotodokumentace průběhu díla; zhotovitel zajistí a předá objednateli průběžnou fotodokumentaci realizace díla. Fotodokumentace bude dokladovat průběh díla a bude zejména dokumentovat části stavby a konstrukce před jejich zakrytím","soubor",1,null,0]
[14,"950 99-0017.ONS","Péče o nepředané objekty nebo jejich části a konstrukce stavby, jejich ošetřování a nutný rozsah pojištění","soubor",1,null,0,0,{"$f":"E21*H21","v":0},0,{"$f":"E21*J21","v":0},null,null,null,null,null,null,null,null,null,null,null,null,null,null,null,null,null,null,null,null,null,null,null,null,null,null,null,null,null,null,null,null,null,null,null,null,null,null,null,null,null,null,null,null,null,null,null,null,null,null,null,null,null,null,1,1]
[15,"950 99-0018.ONS","Zkoušky hutnění komunikací a rýh dle ČSN a EN","soubor",1,null,0]
[16,"950 99-0021.ONS","Inženýrská a kompletační činnost zhotovitele ","soubor",1,null,0]
[17,"950 99-0022.ONS","Zhotovení dokumentace skutečného provedení díla ","soubor",1,null,0]
[18,"950 99-0023.ONS","Geodetické zaměření stavby","soubor",1,null,0]
[19,"950 99-0024.ONS","Pasportizace objektů a komunikací před zahájením stavby včetně předání fotokokumentace investorovi stavby v digitální a tištěné podobě.","soubor",1,null,0]
[20,"950 99-0025.ONS","Provizorní zásobování vodou (cisterny)","soubor",1,null,0]
[20,"950 99-0027.ONS","Ostatní činnosti nutné ke zdárnému provedení díla, které jsou vymezeny zejména v technické specifikaci stavby","soubor",1,null,0]
[]
[null,"ONS Celkem",null,null,null,null,{"$f":"SUM(G8:G28)","v":0}]