{"text_format":"1","workbook":"xlsx","n_sheets":66,"sheets":["Stavba","01 01.01 KL","01 01.01 Rek","01 01.01 Pol","01 01.02 KL","01 01.02 Rek","01 01.02 Pol","01 01.03 KL","01 01.03 Rek","01 01.03 Pol","01 01.10 KL","01 01.10 Rek","01 01.10 Pol","01 01.11 KL","01 01.11 Rek","01 01.11 Pol","01 01.32 KL","01 01.32 Rek","01 01.32 Pol","01 01.33 KL","01 01.33 Rek","01 01.33 Pol","01 01.34 KL","01 01.34 Rek","01 01.34 Pol","02 02.01.1 KL","02 02.01.1 Rek","02 02.01.1 Pol","02 02.01.2 KL","02 02.01.2 Rek","02 02.01.2 Pol","02 02.01.3 KL","02 02.01.3 Rek","02 02.01.3 Pol","02 02.01.3 Elektro","02 02.03 KL","02 02.03 Rek","02 02.03 Pol","03 03.01 KL","03 03.01 Rek","03 03.01 Pol","05 05.01 KL","05 05.01 Rek","05 05.01 Pol","05 05.02 KL","05 05.02 Rek","05 05.02 Pol","05 05.03 KL","05 05.03 Rek","05 05.03 Pol","05 05.04 KL","05 05.04 Rek","05 05.04 Pol","06 06 KL","06 06 Rek","06 06 Pol","07 07.01 KL","07 07.01 Rek","07 07.01 Pol","07 07.02 KL","07 07.02 Rek","07 07.02 Pol","08 08.01 KL","08 08.01 Rek","08 08.01 Pol","OaVNS"],"not_rendered":{"charts":0,"images":0,"macros":0,"external_links":0,"defined_names":234,"comments":0,"pivot_tables":0},"unopened":[],"bounds":{"document_bytes":16777216,"sheet_cells":100000,"rows_first":2000,"rows_last":500,"rows_between":2000,"halvings":0,"cell_chars":16384,"cell_head_chars":4096},"cells_cut":0,"cells_raw":0,"read":"whole","date_system":"1900"}

{"sheet":"Stavba","index":0,"n_rows":64,"n_cols":10,"rows_kept":64,"cut":false,"hidden":false,"merged":[[18,8,18,9],[19,8,19,9],[20,8,20,9],[21,8,21,9],[22,8,22,9]]}
[]
[null,null,"Položkový rozpočet stavby",null,null,null,null,"Datum: "]
[null,null,null," "]
[]
[null,null,"Stavba :","3395","Kanalizace a ČOV Benešov u Semil_I.Etapa"]
[]
[null,null,"Objednatel : ","Vodohospodářské sdružení Turnov",null,null,null,"IČO :","49295934"]
[null,null,null,"Antonína Dvořáka 287",null,null,null,"DIČ :","CZ49295934"]
[null,null,"51101","Turnov"]
[]
[null,null,"Zhotovitel : ",".",null,null,null,"IČO :"]
[null,null,null,null,null,null,null,"DIČ :"]
[]
[null,null,"Za zhotovitele :",null,null,null,null,"Za objednatele :"]
[]
[null,null,"_______________",null,null,null,null,"_______________"]
[]
[null,null,null,null,null,null,null,null,null,"Rozpočtové náklady"]
[null,"Základ pro DPH",null,12,"%",null,null,null,{"$f":"ROUND(G38,0)","v":0}]
[null,"DPH ",null,{"$f":"SazbaDPH1","v":12},"%",null,null,null,{"$f":"ROUND(I19*D20/100,0)","v":0}]
[null,"Základ pro DPH",null,21,"%",null,null,null,{"$f":"ROUND(H38,0)","v":2000000}]
[null,"DPH ",null,{"$f":"SazbaDPH2","v":21},"%",null,null,null,{"$f":"ROUND(I21*D21/100,0)","v":420000}]
[null,"Cena celkem za stavbu",null,null,null,null,null,null,{"$f":"SUM(I19:I22)","v":2420000}]
[]
[]
[null,"Rekapitulace stavebních objektů a provozních souborů"]
[]
[null,"Číslo a název objektu / provozního souboru",null,null,null,"Cena celkem",{"$f":"CONCATENATE(\"Základ DPH \",SazbaDPH1,\" %\")","v":"Základ DPH 12 %"},{"$f":"CONCATENATE(\"Základ DPH \",SazbaDPH2,\" %\")","v":"Základ DPH 21 %"},"DPH celkem","%"]
[null,"01","Kanalizace",null,null,{"$f":"G29+H29+I29","v":0},0,{"$f":"SUM(H43:H50)","v":0},{"$f":"(G29*SazbaDPH1)/100+(H29*SazbaDPH2)/100","v":0},{"$f":"IF(CelkemObjekty=0,\"\",F29/CelkemObjekty*100)","v":0}]
[null,"02","Čerpací stanice",null,null,{"$f":"G30+H30+I30","v":0},0,{"$f":"SUM(H51:H54)","v":0},0,0]
[null,"03","Výtlačný řad",null,null,0,0,{"$f":"SUM(H55)","v":0},0,0]
[null,"05","Přeložky vodovodu",null,null,0,0,{"$f":"SUM(H56:H59)","v":0},0,0]
[null,"06","Kanalizační odbočky",null,null,0,0,{"$f":"SUM(H60)","v":0},0,0]
[null,"07","Přeložky dešťové kanalizace",null,null,0,0,{"$f":"SUM(H61:H62)","v":0},0,0]
[null,"08","Komunikace a chodníky",null,null,0,0,{"$f":"SUM(H63)","v":0},0,0]
[null,"OaVNS","Ostatní a vedlejší náklady stavby",null,null,0,0,{"$f":"SUM(OaVNS!G30)","v":0},0,0]
[null,"PR","Povinná rezerva",null,null,2420000,0,2000000,420000,100]
[null,"Celkem za stavbu",null,null,null,{"$f":"SUM(F29:F37)","v":2420000},{"$f":"SUM(G29:G37)","v":0},{"$f":"SUM(H29:H37)","v":2000000},{"$f":"SUM(I29:I37)","v":420000},{"$f":"IF(CelkemObjekty=0,\"\",F38/CelkemObjekty*100)","v":100}]
[]
[null,"Rekapitulace stavebních rozpočtů"]
[]
[null,"Číslo objektu","Číslo a název rozpočtu",null,null,"Cena celkem",{"$f":"CONCATENATE(\"Základ DPH \",SazbaDPH1,\" %\")","v":"Základ DPH 12 %"},{"$f":"CONCATENATE(\"Základ DPH \",SazbaDPH2,\" %\")","v":"Základ DPH 21 %"},"DPH celkem","%"]
[null,"01","01.01 Stoka \"A\" km 0,000 - 0,179.1",null,null,{"$f":"G43+H43+I43","v":0},0,{"$f":"SUM('01 01.01 KL'!C23)","v":0},{"$f":"(G43*SazbaDPH1)/100+(H43*SazbaDPH2)/100","v":0},{"$f":"IF(CelkemObjekty=0,\"\",F43/CelkemObjekty*100)","v":0}]
[null,"01","01.02 Stoka \"A.1\" km 0,000 - 0,532.3",null,null,{"$f":"G44+H44+I44","v":0},0,{"$f":"SUM('01 01.02 KL'!C23)","v":0},0,0]
[null,"01","01.03 Stoka \"A.1.1\" km 0,000 - 0,216.9",null,null,0,0,{"$f":"SUM('01 01.03 KL'!C23)","v":0},0,0]
[null,"01","01.10 Stoka \"B\" km 0,000 - 0,145.7",null,null,0,0,{"$f":"SUM('01 01.10 KL'!C23)","v":0},0,0]
[null,"01","01.11 Stoka \"B.1\" km 0,000 - 0,120.9",null,null,0,0,{"$f":"SUM('01 01.11 KL'!C23)","v":0},0,0]
[null,"01","01.32 Stoka \"H\" km 0,000 - 0,060.3",null,null,0,0,{"$f":"SUM('01 01.32 KL'!C23)","v":0},0,0]
[null,"01","01.33 Stoka \"I\" km 0,000 - 0,027.8",null,null,0,0,{"$f":"SUM('01 01.33 KL'!C23)","v":0},0,0]
[null,"01","01.34 Stoka \"J\" km 0,000 - 0,085.5",null,null,0,0,{"$f":"SUM('01 01.34 KL'!C23)","v":0},0,0]
[null,"02","02.01.1 Čerpací stanice \"A\"_Stavební část",null,null,0,0,{"$f":"SUM('02 02.01.1 KL'!C23)","v":0},0,0]
[null,"02","02.01.2 Čerpací stanice \"A\"_Strojní část",null,null,0,0,{"$f":"SUM('02 02.01.2 KL'!C23)","v":0},0,0]
[null,"02","02.01.3 Čerpací stanice \"A\"_Elektroinstalace a přípojka NN",null,null,0,0,{"$f":"SUM('02 02.01.3 KL'!C23)","v":0},0,0]
[null,"02","02.03 Bezpečnostní přepad",null,null,0,0,{"$f":"SUM('02 02.03 KL'!C23)","v":0},0,0]
[null,"03","03.01 Výtlačný řad \"A\" km 0,000 - 1,038.7",null,null,0,0,{"$f":"SUM('03 03.01 KL'!C23)","v":0},0,0]
[null,"05","05.01 Přeložky vodovodu \"V1, V3 a V4\"",null,null,0,0,{"$f":"SUM('05 05.01 KL'!C23)","v":0},0,0]
[null,"05","05.02 Vodovod \"V2\" a přeložka vodovodu \"V2\"",null,null,0,0,{"$f":"SUM('05 05.02 KL'!C23)","v":0},0,0]
[null,"05","05.03 Vodovodní přípojka pro ČS",null,null,0,0,{"$f":"SUM('05 05.03 KL'!C23)","v":0},0,0]
[null,"05","05.04 Vodovodní přípojky u V1 až  V4",null,null,0,0,{"$f":"SUM('05 05.04 KL'!C23)","v":0},0,0]
[null,"06","06 Kanalizační odbočky",null,null,0,0,{"$f":"SUM('06 06 KL'!C23)","v":0},0,0]
[null,"07","07.01 Přeložka dešťové kanalizace - Stoka \"A1\"",null,null,0,0,{"$f":"SUM('07 07.01 KL'!C23)","v":0},0,0]
[null,"07","07.02 Přeložka dešťové kanalizace - Stoka \"A1.1\"",null,null,0,0,{"$f":"SUM('07 07.02 KL'!C23)","v":0},0,0]
[null,"08","08.01 Oprava komunikací a chodníků",null,null,0,0,{"$f":"SUM('08 08.01 KL'!C23)","v":0},0,0]
[null,"Celkem za stavbu",null,null,null,{"$f":"SUM(F43:F63)","v":0},{"$f":"SUM(G43:G63)","v":0},{"$f":"SUM(H43:H63)","v":0},{"$f":"SUM(I43:I63)","v":0},{"$f":"IF(CelkemObjekty=0,\"\",F64/CelkemObjekty*100)","v":0}]

{"sheet":"01 01.01 KL","index":1,"n_rows":45,"n_cols":8,"rows_kept":45,"cut":false,"hidden":false,"merged":[[22,0,22,1],[7,2,7,4],[8,2,8,4],[9,2,9,4],[10,2,10,4],[11,2,11,4],[50,1,50,6],[29,5,29,6],[30,5,30,6],[31,5,31,6],[32,5,32,6],[33,5,33,6],[36,1,44,6],[45,1,45,6],[46,1,46,6],[47,1,47,6],[48,1,48,6],[49,1,49,6]]}
["POLOŽKOVÝ ROZPOČET"]
["Rozpočet",null,"01.01","Stoka \"A\" km 0,000 - 0,179.1",null,"JKSO ","827.21.A3"]
[]
["Objekt",null,null,null,null,"SKP "]
["01",null,"Kanalizace",null,null,"Měrná jednotka","m"]
["Stavba",null,null,null,null,"Počet jednotek",0]
["3395",null,"Kanalizace a ČOV Benešov u Semil",null,null,"Náklady na m.j.",{"$f":"IF(G6=0,,ROUND((F30+F32)/G6,1))","v":0}]
["Projektant",null,"Vodohospodářský rozvoj a výstavba a.s.",null,null,"Typ rozpočtu"]
["Zpracovatel projektu"]
["Objednatel",null,"Vodohospodářské sdružení Turnov"]
["Dodavatel",null,".",null,null,"Zakázkové číslo "]
["Rozpočtoval",null,null,null,null,"Počet listů"]
["ROZPOČTOVÉ NÁKLADY"]
["Základní rozpočtové náklady"]
[null,"HSV celkem",{"$f":"'01 01.01 Rek'!E14","v":0}]
["Z","PSV celkem",{"$f":"'01 01.01 Rek'!F14","v":0}]
["R","M práce celkem",{"$f":"'01 01.01 Rek'!H14","v":0}]
["N","M dodávky celkem",{"$f":"'01 01.01 Rek'!G14","v":0}]
["ZRN celkem",null,{"$f":"SUM(C15:C18)","v":0}]
[]
["HZS",null,{"$f":"'01 01.01 Rek'!I14","v":0}]
["ZRN+HZS",null,{"$f":"C19+C21","v":0}]
["ZRN+ost.náklady+HZS",null,{"$f":"C22+G23","v":0}]
["Vypracoval",null,null,"Za zhotovitele",null,"Za objednatele"]
["Jméno :",null,null,"Jméno :",null,"Jméno :"]
["Datum :",null,null,"Datum :",null,"Datum :"]
[]
["Podpis :",null,null,"Podpis:",null,"Podpis:"]
[]
["Základ pro DPH",null,21,"%  ",null,{"$f":"C23-F32","v":0}]
["DPH",null,{"$f":"C30","v":21},"% ",null,{"$f":"ROUND(PRODUCT(F30,C31/100),0)","v":0}]
["Základ pro DPH",null,0,"% ",null,0]
["DPH",null,{"$f":"C32","v":0},"% ",null,{"$f":"ROUND(PRODUCT(F32,C33/100),0)","v":0}]
["CENA ZA OBJEKT CELKEM",null,null,null,null,{"$f":"ROUND(SUM(F30:F33),0)","v":0}]
[]
["Poznámka :",null,null,null,null,null,null," "]
[null,null,null,null,null,null,null," "]
[null,null,null,null,null,null,null," "]
[null,null,null,null,null,null,null," "]
[null,null,null,null,null,null,null," "]
[null,null,null,null,null,null,null," "]
[null,null,null,null,null,null,null," "]
[null,null,null,null,null,null,null," "]
[null,null,null,null,null,null,null," "]
[null,null,null,null,null,null,null," "]

{"sheet":"01 01.01 Rek","index":2,"n_rows":14,"n_cols":9,"rows_kept":14,"cut":false,"hidden":false,"merged":[[0,0,0,1],[1,0,1,1],[1,6,1,8]]}
["Stavba :",null,"3395 Kanalizace a ČOV Benešov u Semil",null,null,null,"Rozpočet :","01.01"]
["Objekt :",null,"01 Kanalizace",null,null,null,"Stoka \"A\" km 0,000 - 0,179.1"]
[]
["REKAPITULACE  STAVEBNÍCH  DÍLŮ"]
[]
[null,"Stavební díl",null,null,"HSV","PSV","Dodávka","Montáž","HZS"]
[{"$f":"'01 01.01 Pol'!B7","v":"1"},{"$f":"'01 01.01 Pol'!C7","v":"Zemní práce"},null,null,{"$f":"'01 01.01 Pol'!BA92","v":0},{"$f":"'01 01.01 Pol'!BB92","v":0},{"$f":"'01 01.01 Pol'!BC92","v":0},{"$f":"'01 01.01 Pol'!BD92","v":0},{"$f":"'01 01.01 Pol'!BE92","v":0}]
[{"$f":"'01 01.01 Pol'!B93","v":"21"},{"$f":"'01 01.01 Pol'!C93","v":"Úprava podloží a základ.spáry"},null,null,{"$f":"'01 01.01 Pol'!BA97","v":0},{"$f":"'01 01.01 Pol'!BB97","v":0},{"$f":"'01 01.01 Pol'!BC97","v":0},{"$f":"'01 01.01 Pol'!BD97","v":0},{"$f":"'01 01.01 Pol'!BE97","v":0}]
[{"$f":"'01 01.01 Pol'!B98","v":"45"},{"$f":"'01 01.01 Pol'!C98","v":"Podkladní a vedlejší konstrukce"},null,null,{"$f":"'01 01.01 Pol'!BA123","v":0},{"$f":"'01 01.01 Pol'!BB123","v":0},{"$f":"'01 01.01 Pol'!BC123","v":0},{"$f":"'01 01.01 Pol'!BD123","v":0},{"$f":"'01 01.01 Pol'!BE123","v":0}]
[{"$f":"'01 01.01 Pol'!B124","v":"5"},{"$f":"'01 01.01 Pol'!C124","v":"Komunikace"},null,null,{"$f":"'01 01.01 Pol'!BA128","v":0},{"$f":"'01 01.01 Pol'!BB128","v":0},{"$f":"'01 01.01 Pol'!BC128","v":0},{"$f":"'01 01.01 Pol'!BD128","v":0},{"$f":"'01 01.01 Pol'!BE128","v":0}]
[{"$f":"'01 01.01 Pol'!B129","v":"8"},{"$f":"'01 01.01 Pol'!C129","v":"Trubní vedení"},null,null,{"$f":"'01 01.01 Pol'!BA257","v":0},{"$f":"'01 01.01 Pol'!BB257","v":0},{"$f":"'01 01.01 Pol'!BC257","v":0},{"$f":"'01 01.01 Pol'!BD257","v":0},{"$f":"'01 01.01 Pol'!BE257","v":0}]
[{"$f":"'01 01.01 Pol'!B258","v":"93"},{"$f":"'01 01.01 Pol'!C258","v":"Dokončovací práce inženýrských staveb"},null,null,{"$f":"'01 01.01 Pol'!BA274","v":0},{"$f":"'01 01.01 Pol'!BB274","v":0},{"$f":"'01 01.01 Pol'!BC274","v":0},{"$f":"'01 01.01 Pol'!BD274","v":0},{"$f":"'01 01.01 Pol'!BE274","v":0}]
[{"$f":"'01 01.01 Pol'!B275","v":"99"},{"$f":"'01 01.01 Pol'!C275","v":"Staveništní přesun hmot"},null,null,{"$f":"'01 01.01 Pol'!BA278","v":0},{"$f":"'01 01.01 Pol'!BB278","v":0},{"$f":"'01 01.01 Pol'!BC278","v":0},{"$f":"'01 01.01 Pol'!BD278","v":0},{"$f":"'01 01.01 Pol'!BE278","v":0}]
[null,"CELKEM  OBJEKT",null,null,{"$f":"SUM(E7:E13)","v":0},{"$f":"SUM(F7:F13)","v":0},{"$f":"SUM(G7:G13)","v":0},{"$f":"SUM(H7:H13)","v":0},{"$f":"SUM(I7:I13)","v":0}]

{"sheet":"01 01.01 Pol","index":3,"n_rows":278,"n_cols":80,"rows_kept":278,"cut":false,"hidden":false,"merged":[[13,2,13,3],[14,2,14,3],[15,2,15,3],[17,2,17,6],[18,2,18,3],[19,2,19,3],[0,0,0,6],[2,0,2,1],[3,0,3,1],[3,4,3,6],[8,2,8,6],[9,2,9,6],[11,2,11,6],[12,2,12,6],[26,2,26,3],[27,2,27,3],[28,2,28,3],[30,2,30,3],[31,2,31,3],[32,2,32,3],[20,2,20,3],[21,2,21,3],[22,2,22,3],[23,2,23,3],[24,2,24,3],[25,2,25,3],[41,2,41,3],[43,2,43,6],[44,2,44,3],[45,2,45,3],[46,2,46,3],[48,2,48,3],[34,2,34,6],[35,2,35,3],[36,2,36,3],[37,2,37,3],[39,2,39,3],[40,2,40,3],[56,2,56,3],[57,2,57,3],[58,2,58,3],[60,2,60,3],[61,2,61,3],[62,2,62,3],[49,2,49,3],[50,2,50,3],[51,2,51,3],[52,2,52,3],[54,2,54,3],[55,2,55,3],[70,2,70,3],[71,2,71,3],[72,2,72,3],[73,2,73,3],[75,2,75,3],[77,2,77,3],[64,2,64,6],[65,2,65,6],[66,2,66,3],[67,2,67,3],[68,2,68,3],[69,2,69,3],[86,2,86,3],[87,2,87,3],[88,2,88,3],[89,2,89,3],[90,2,90,3],[78,2,78,3],[79,2,79,3],[81,2,81,3],[83,2,83,3],[84,2,84,3],[85,2,85,3],[105,2,105,3],[106,2,106,3],[108,2,108,6],[109,2,109,3],[111,2,111,3],[112,2,112,3],[94,2,94,3],[95,2,95,3],[99,2,99,6],[100,2,100,3],[101,2,101,3],[102,2,102,3],[103,2,103,3],[125,2,125,3],[126,2,126,3],[130,2,130,6],[131,2,131,3],[132,2,132,3],[134,2,134,6],[114,2,114,3],[115,2,115,3],[117,2,117,3],[118,2,118,3],[120,2,120,3],[121,2,121,3],[142,2,142,3],[144,2,144,6],[145,2,145,3],[147,2,147,6],[148,2,148,6],[149,2,149,3],[135,2,135,3],[136,2,136,3],[138,2,138,6],[139,2,139,6],[140,2,140,6],[141,2,141,6],[158,2,158,6],[159,2,159,3],[160,2,160,3],[161,2,161,3],[163,2,163,6],[164,2,164,6],[150,2,150,3],[151,2,151,3],[153,2,153,6],[154,2,154,6],[155,2,155,3],[156,2,156,3],[172,2,172,6],[173,2,173,3],[174,2,174,3],[176,2,176,6],[178,2,178,3],[180,2,180,3],[165,2,165,6],[166,2,166,3],[167,2,167,3],[168,2,168,3],[170,2,170,6],[171,2,171,6],[190,2,190,3],[192,2,192,3],[193,2,193,3],[195,2,195,3],[196,2,196,3],[198,2,198,3],[181,2,181,3],[183,2,183,3],[184,2,184,3],[186,2,186,3],[187,2,187,3],[189,2,189,3],[208,2,208,6],[209,2,209,6],[210,2,210,6],[211,2,211,6],[212,2,212,6],[213,2,213,6],[199,2,199,3],[201,2,201,3],[202,2,202,3],[204,2,204,3],[205,2,205,3],[207,2,207,6],[221,2,221,6],[222,2,222,6],[223,2,223,6],[224,2,224,6],[225,2,225,6],[226,2,226,6],[214,2,214,6],[215,2,215,3],[216,2,216,3],[217,2,217,3],[219,2,219,6],[220,2,220,6],[234,2,234,6],[235,2,235,6],[236,2,236,6],[237,2,237,6],[238,2,238,3],[239,2,239,3],[227,2,227,3],[228,2,228,3],[230,2,230,6],[231,2,231,6],[232,2,232,6],[233,2,233,6],[247,2,247,6],[248,2,248,6],[249,2,249,6],[250,2,250,6],[251,2,251,3],[252,2,252,3],[241,2,241,6],[242,2,242,6],[243,2,243,6],[244,2,244,6],[245,2,245,6],[246,2,246,6],[272,2,272,6],[276,2,276,6],[265,2,265,6],[266,2,266,6],[267,2,267,6],[268,2,268,6],[270,2,270,6],[271,2,271,6],[254,2,254,3],[255,2,255,3],[259,2,259,6],[260,2,260,6],[261,2,261,6],[262,2,262,6],[263,2,263,6],[264,2,264,6]]}
["Položkový rozpočet "]
[]
["Stavba :",null,"3395 Kanalizace a ČOV Benešov u Semil",null,"Rozpočet:",{"$f":"'01 01.01 Rek'!H1","v":"01.01"}]
["Objekt :",null,"01 Kanalizace",null,{"$f":"'01 01.01 Rek'!G2","v":"Stoka \"A\" km 0,000 - 0,179.1"}]
[]
["P.č.","Číslo položky","Název položky","MJ","množství","cena / MJ","celkem (Kč)","Jednotková hmotnost","Celková hmotnost","Jednotková dem.hmot.","Celková dem.hmot."]
["Díl:","1","Zemní práce",null,null,null,null,null,null,null,null,null,null,null,1]
[1,"115101201RRX","Přečerpávání nebo převedení splašků a dešť. vod ","h",240,null,{"$f":"E8*F8","v":0},0,{"$f":"E8*H8","v":0},0,{"$f":"E8*J8","v":0},null,null,null,2,null,null,null,null,null,null,null,null,null,null,null,1,1,1,null,null,null,null,null,null,null,null,null,null,null,null,null,null,null,null,null,null,null,null,null,null,1,{"$f":"IF(AZ8=1,G8,0)","v":0},{"$f":"IF(AZ8=2,G8,0)","v":0},{"$f":"IF(AZ8=3,G8,0)","v":0},{"$f":"IF(AZ8=4,G8,0)","v":0},{"$f":"IF(AZ8=5,G8,0)","v":0},null,null,null,null,null,null,null,null,null,null,null,null,null,null,null,null,null,null,null,null,null,1,1]
[null,null,"Převedení a čerpání splašků nebo dešťových vod dle zvolené technologie zhotovitele stavby.",null,null,null,null,null,null,null,null,"Převedení a čerpání splašků nebo dešťových vod dle zvolené technologie zhotovitele stavby.",null,null,3]
[null,null,"(Množství bude určeno na stavbě dle skutečnosti)",null,null,null,null,null,null,null,null,"(Množství bude určeno na stavbě dle skutečnosti)",null,null,3]
[2,"130001101RRX","Příplatek za ztížené hloubení v blízkosti vedení ","m3",135.14660000000001,null,{"$f":"E11*F11","v":0},0,{"$f":"E11*H11","v":0},0,{"$f":"E11*J11","v":0},null,null,null,2,null,null,null,null,null,null,null,null,null,null,null,1,1,1,null,null,null,null,null,null,null,null,null,null,null,null,null,null,null,null,null,null,null,null,null,null,1,{"$f":"IF(AZ11=1,G11,0)","v":0},{"$f":"IF(AZ11=2,G11,0)","v":0},{"$f":"IF(AZ11=3,G11,0)","v":0},{"$f":"IF(AZ11=4,G11,0)","v":0},{"$f":"IF(AZ11=5,G11,0)","v":0},null,null,null,null,null,null,null,null,null,null,null,null,null,null,null,null,null,null,null,null,null,1,1]
[null,null,"Včetně případných nutných dokopávem a ručního výkopu podél sousedících inženýrských sítí.",null,null,null,null,null,null,null,null,"Včetně případných nutných dokopávem a ručního výkopu podél sousedících inženýrských sítí.",null,null,3]
[null,null,"Součástí položky je i dočasné zajištění inženýrských sítí v prostoru výkopů (potrubí, kabely a pod.)",null,null,null,null,null,null,null,null,"Součástí položky je i dočasné zajištění inženýrských sítí v prostoru výkopů (potrubí, kabely a pod.)",null,null,3]
[null,null,"Stoka \"A\" KT DN400:",null,0,null,null,null,null,null,null,null,"Stoka \"A\" KT DN400:"]
[null,null,"Výkopy:",null,0,null,null,null,null,null,null,null,"Výkopy:"]
[null,null,"v hornině tř. 3 - 5 - 22%:614,3026*0,22",null,135.14660000000001,null,null,null,null,null,null,null,"v hornině tř. 3 - 5 - 22%:614,3026*0,22"]
[3,"132201212R00","Hloubení rýh š.do 200 cm hor.3 do 1000m3,STROJNĚ ","m3",368.58159999999998,null,{"$f":"E17*F17","v":0},0,{"$f":"E17*H17","v":0},0,{"$f":"E17*J17","v":0},null,null,null,2,null,null,null,null,null,null,null,null,null,null,null,1,1,1,null,null,null,null,null,null,null,null,null,null,null,null,null,null,null,null,null,null,null,null,null,null,1,{"$f":"IF(AZ17=1,G17,0)","v":0},{"$f":"IF(AZ17=2,G17,0)","v":0},{"$f":"IF(AZ17=3,G17,0)","v":0},{"$f":"IF(AZ17=4,G17,0)","v":0},{"$f":"IF(AZ17=5,G17,0)","v":0},null,null,null,null,null,null,null,null,null,null,null,null,null,null,null,null,null,null,null,null,null,1,1]
[null,null,"Položka obsahuje hloubení rýh traktorbagrem, naložení výkopku na dopravní prostředek pro svislé, nebo vodorovné přemístění, popř. přemístění výkopku do 3 m (po povrchu území), případné zajištění rypadel polštáři, udržování pracoviště a ochranu výkopiště proti stékání srážkové vody z okolního terénu i s jejím odvodněním, nebo odvedením, přesekání a odstranění kořenů ve výkopišti, odstranění napadávek, urovnání dna výkopu.",null,null,null,null,null,null,null,null,"Položka obsahuje hloubení rýh traktorbagrem, naložení výkopku na dopravní prostředek pro svislé, nebo vodorovné přemístění, popř. přemístění výkopku do 3 m (po povrchu území), případné zajištění rypadel polštáři, udržování pracoviště a ochranu výkopiště proti stékání srážkové vody z okolního terénu i s jejím odvodněním, nebo odvedením, přesekání a odstranění kořenů ve výkopišti, odstranění napadávek, urovnání dna výkopu.",null,null,3]
[null,null,"Stoka \"A\" KT DN400:",null,0,null,null,null,null,null,null,null,"Stoka \"A\" KT DN400:"]
[null,null,"Výkopy:",null,0,null,null,null,null,null,null,null,"Výkopy:"]
[null,null,"Začátek provozního součtu",null,0,null,null,null,null,null,null,null,"Začátek provozního součtu"]
[null,null,"ČS - ŠA-0:7,60*1,30*(2,85+3,63)/2",null,32.011200000000002,null,null,null,null,null,null,null,"ČS - ŠA-0:7,60*1,30*(2,85+3,63)/2"]
[null,null,"ŠA-0 - ŠA-3:(79,40-7,60)*1,30*(3,63+2,99)/2",null,308.9554,null,null,null,null,null,null,null,"ŠA-0 - ŠA-3:(79,40-7,60)*1,30*(3,63+2,99)/2"]
[null,null,"ŠA-3 - ŠA-5:(179,10-76,40)*1,30*(2,99+2,74)/2",null,382.5061,null,null,null,null,null,null,null,"ŠA-3 - ŠA-5:(179,10-76,40)*1,30*(2,99+2,74)/2"]
[null,null,"Prohloubení pro RŠ:1,60*1,60*0,20*5",null,2.56,null,null,null,null,null,null,null,"Prohloubení pro RŠ:1,60*1,60*0,20*5"]
[null,null,"Rozšíření pro RŠ:1,60*(1,60-1,30)*12,26",null,5.8848000000000003,null,null,null,null,null,null,null,"Rozšíření pro RŠ:1,60*(1,60-1,30)*12,26"]
[null,null,"Odpočet objemu konstrukce komunikace:-(179,10*1,30+1,60*(1,60-1,30)*5)*0,50",null,-117.61499999999999,null,null,null,null,null,null,null,"Odpočet objemu konstrukce komunikace:-(179,10*1,30+1,60*(1,60-1,30)*5)*0,50"]
[null,null,"Konec provozního součtu",null,614.30250000000001,null,null,null,null,null,null,null,"Konec provozního součtu"]
[null,null,"v hornině tř. 3 - 60%:614,3026*0,6",null,368.58159999999998,null,null,null,null,null,null,null,"v hornině tř. 3 - 60%:614,3026*0,6"]
[4,"132201219R00","Přípl.za lepivost,hloubení rýh 200cm,hor.3,STROJNĚ ","m3",184.29079999999999,null,{"$f":"E30*F30","v":0},0,{"$f":"E30*H30","v":0},0,{"$f":"E30*J30","v":0},null,null,null,2,null,null,null,null,null,null,null,null,null,null,null,1,1,1,null,null,null,null,null,null,null,null,null,null,null,null,null,null,null,null,null,null,null,null,null,null,1,{"$f":"IF(AZ30=1,G30,0)","v":0},{"$f":"IF(AZ30=2,G30,0)","v":0},{"$f":"IF(AZ30=3,G30,0)","v":0},{"$f":"IF(AZ30=4,G30,0)","v":0},{"$f":"IF(AZ30=5,G30,0)","v":0},null,null,null,null,null,null,null,null,null,null,null,null,null,null,null,null,null,null,null,null,null,1,1]
[null,null,"Stoka \"A\" KT DN400:",null,0,null,null,null,null,null,null,null,"Stoka \"A\" KT DN400:"]
[null,null,"Výkopy:",null,0,null,null,null,null,null,null,null,"Výkopy:"]
[null,null,"v hornině tř. 3 - 60%:614,3026*0,6*0,5",null,184.29079999999999,null,null,null,null,null,null,null,"v hornině tř. 3 - 60%:614,3026*0,6*0,5"]
[5,"132301212R00","Hloubení rýh š.do 200 cm hor.4 do 1000 m3, STROJNĚ ","m3",184.29079999999999,null,{"$f":"E34*F34","v":0},0,{"$f":"E34*H34","v":0},0,{"$f":"E34*J34","v":0},null,null,null,2,null,null,null,null,null,null,null,null,null,null,null,1,1,1,null,null,null,null,null,null,null,null,null,null,null,null,null,null,null,null,null,null,null,null,null,null,1,{"$f":"IF(AZ34=1,G34,0)","v":0},{"$f":"IF(AZ34=2,G34,0)","v":0},{"$f":"IF(AZ34=3,G34,0)","v":0},{"$f":"IF(AZ34=4,G34,0)","v":0},{"$f":"IF(AZ34=5,G34,0)","v":0},null,null,null,null,null,null,null,null,null,null,null,null,null,null,null,null,null,null,null,null,null,1,1]
[null,null,"Položka obsahuje hloubení rýh traktorbagrem, naložení výkopku na dopravní prostředek pro svislé, nebo vodorovné přemístění, popř. přemístění výkopku do 3 m (po povrchu území), případné zajištění rypadel polštáři, udržování pracoviště a ochranu výkopiště proti stékání srážkové vody z okolního terénu i s jejím odvodněním, nebo odvedením, přesekání a odstranění kořenů ve výkopišti, odstranění napadávek, urovnání dna výkopu.",null,null,null,null,null,null,null,null,"Položka obsahuje hloubení rýh traktorbagrem, naložení výkopku na dopravní prostředek pro svislé, nebo vodorovné přemístění, popř. přemístění výkopku do 3 m (po povrchu území), případné zajištění rypadel polštáři, udržování pracoviště a ochranu výkopiště proti stékání srážkové vody z okolního terénu i s jejím odvodněním, nebo odvedením, přesekání a odstranění kořenů ve výkopišti, odstranění napadávek, urovnání dna výkopu.",null,null,3]
[null,null,"Stoka \"A\" KT DN400:",null,0,null,null,null,null,null,null,null,"Stoka \"A\" KT DN400:"]
[null,null,"Výkopy:",null,0,null,null,null,null,null,null,null,"Výkopy:"]
[null,null,"v hornině tř. 4 - 30%:614,3026*0,3",null,184.29079999999999,null,null,null,null,null,null,null,"v hornině tř. 4 - 30%:614,3026*0,3"]
[6,"132301219R00","Přípl.za lepivost,hloubení rýh 200cm,hor.4,STROJNĚ ","m3",92.145399999999995,null,{"$f":"E39*F39","v":0},0,{"$f":"E39*H39","v":0},0,{"$f":"E39*J39","v":0},null,null,null,2,null,null,null,null,null,null,null,null,null,null,null,1,1,1,null,null,null,null,null,null,null,null,null,null,null,null,null,null,null,null,null,null,null,null,null,null,1,{"$f":"IF(AZ39=1,G39,0)","v":0},{"$f":"IF(AZ39=2,G39,0)","v":0},{"$f":"IF(AZ39=3,G39,0)","v":0},{"$f":"IF(AZ39=4,G39,0)","v":0},{"$f":"IF(AZ39=5,G39,0)","v":0},null,null,null,null,null,null,null,null,null,null,null,null,null,null,null,null,null,null,null,null,null,1,1]
[null,null,"Stoka \"A\" KT DN400:",null,0,null,null,null,null,null,null,null,"Stoka \"A\" KT DN400:"]
[null,null,"Výkopy:",null,0,null,null,null,null,null,null,null,"Výkopy:"]
[null,null,"v hornině tř. 4 - 30%:614,3026*0,3*0,5",null,92.145399999999995,null,null,null,null,null,null,null,"v hornině tř. 4 - 30%:614,3026*0,3*0,5"]
[7,"132401211RRX","Hloubení rýh šířky do 200 cm v hor.5 STROJNĚ včetně případného dolamování ve vrstvě do 0,5 m","m3",61.430300000000003,null,{"$f":"E43*F43","v":0},1.0410000000000001E-2,{"$f":"E43*H43","v":0.63948942300000011},0,{"$f":"E43*J43","v":0},null,null,null,2,null,null,null,null,null,null,null,null,null,null,null,1,1,1,null,null,null,null,null,null,null,null,null,null,null,null,null,null,null,null,null,null,null,null,null,null,1,{"$f":"IF(AZ43=1,G43,0)","v":0},{"$f":"IF(AZ43=2,G43,0)","v":0},{"$f":"IF(AZ43=3,G43,0)","v":0},{"$f":"IF(AZ43=4,G43,0)","v":0},{"$f":"IF(AZ43=5,G43,0)","v":0},null,null,null,null,null,null,null,null,null,null,null,null,null,null,null,null,null,null,null,null,null,1,1]
[null,null,"Položka obsahuje hloubení rýh traktorbagrem, naložení výkopku na dopravní prostředek pro svislé, nebo vodorovné přemístění, popř. přemístění výkopku do 3 m (po povrchu území), případné zajištění rypadel polštáři, udržování pracoviště a ochranu výkopiště proti stékání srážkové vody z okolního terénu i s jejím odvodněním, nebo odvedením, přesekání a odstranění kořenů ve výkopišti, odstranění napadávek, urovnání dna výkopu.včetně případného dolamování ve vrstvě do 0,5 m",null,null,null,null,null,null,null,null,"Položka obsahuje hloubení rýh traktorbagrem, naložení výkopku na dopravní prostředek pro svislé, nebo vodorovné přemístění, popř. přemístění výkopku do 3 m (po povrchu území), případné zajištění rypadel polštáři, udržování pracoviště a ochranu výkopiště proti stékání srážkové vody z okolního terénu i s jejím odvodněním, nebo odvedením, přesekání a odstranění kořenů ve výkopišti, odstranění napadávek, urovnání dna výkopu.včetně případného dolamování ve vrstvě do 0,5 m",null,null,3]
[null,null,"Stoka \"A\" KT DN400:",null,0,null,null,null,null,null,null,null,"Stoka \"A\" KT DN400:"]
[null,null,"Výkopy:",null,0,null,null,null,null,null,null,null,"Výkopy:"]
[null,null,"v hornině tř. 5 - 10%:614,3026*0,1",null,61.430300000000003,null,null,null,null,null,null,null,"v hornině tř. 5 - 10%:614,3026*0,1"]
[8,"151101102R00","Pažení a rozepření stěn rýh - příložné - hl.do 4 m ","m2",1113.0350000000001,null,{"$f":"E48*F48","v":0},8.5999999999999998E-4,{"$f":"E48*H48","v":0.95721010000000006},0,{"$f":"E48*J48","v":0},null,null,null,2,null,null,null,null,null,null,null,null,null,null,null,1,1,1,null,null,null,null,null,null,null,null,null,null,null,null,null,null,null,null,null,null,null,null,null,null,1,{"$f":"IF(AZ48=1,G48,0)","v":0},{"$f":"IF(AZ48=2,G48,0)","v":0},{"$f":"IF(AZ48=3,G48,0)","v":0},{"$f":"IF(AZ48=4,G48,0)","v":0},{"$f":"IF(AZ48=5,G48,0)","v":0},null,null,null,null,null,null,null,null,null,null,null,null,null,null,null,null,null,null,null,null,null,1,1]
[null,null,"Stoka \"A\" KT DN400:",null,0,null,null,null,null,null,null,null,"Stoka \"A\" KT DN400:"]
[null,null,"Výkopy:",null,0,null,null,null,null,null,null,null,"Výkopy:"]
[null,null,"ČS - ŠA-0:7,60*(2,85+3,63)/2*2",null,49.247999999999998,null,null,null,null,null,null,null,"ČS - ŠA-0:7,60*(2,85+3,63)/2*2"]
[null,null,"ŠA-0 - ŠA-3:(79,40-7,60)*(3,63+2,99)/2*2",null,475.31599999999997,null,null,null,null,null,null,null,"ŠA-0 - ŠA-3:(79,40-7,60)*(3,63+2,99)/2*2"]
[null,null,"ŠA-3 - ŠA-5:(179,10-76,40)*(2,99+2,74)/2*2",null,588.471,null,null,null,null,null,null,null,"ŠA-3 - ŠA-5:(179,10-76,40)*(2,99+2,74)/2*2"]
[9,"151101112R00","Odstranění pažení stěn rýh - příložné - hl. do 4 m ","m2",1113.0350000000001,null,{"$f":"E54*F54","v":0},0,{"$f":"E54*H54","v":0},0,{"$f":"E54*J54","v":0},null,null,null,2,null,null,null,null,null,null,null,null,null,null,null,1,1,1,null,null,null,null,null,null,null,null,null,null,null,null,null,null,null,null,null,null,null,null,null,null,1,{"$f":"IF(AZ54=1,G54,0)","v":0},{"$f":"IF(AZ54=2,G54,0)","v":0},{"$f":"IF(AZ54=3,G54,0)","v":0},{"$f":"IF(AZ54=4,G54,0)","v":0},{"$f":"IF(AZ54=5,G54,0)","v":0},null,null,null,null,null,null,null,null,null,null,null,null,null,null,null,null,null,null,null,null,null,1,1]
[null,null,"Stoka \"A\" KT DN400:",null,0,null,null,null,null,null,null,null,"Stoka \"A\" KT DN400:"]
[null,null,"Výkopy:",null,0,null,null,null,null,null,null,null,"Výkopy:"]
[null,null,"ČS - ŠA-0:7,60*(2,85+3,63)/2*2",null,49.247999999999998,null,null,null,null,null,null,null,"ČS - ŠA-0:7,60*(2,85+3,63)/2*2"]
[null,null,"ŠA-0 - ŠA-3:(79,40-7,60)*(3,63+2,99)/2*2",null,475.31599999999997,null,null,null,null,null,null,null,"ŠA-0 - ŠA-3:(79,40-7,60)*(3,63+2,99)/2*2"]
[null,null,"ŠA-3 - ŠA-5:(179,10-76,40)*(2,99+2,74)/2*2",null,588.471,null,null,null,null,null,null,null,"ŠA-3 - ŠA-5:(179,10-76,40)*(2,99+2,74)/2*2"]
[10,"162701105RSZ","Vodorovné přemístění výkopku z hor.1-7 na skládku zhotovitele","m3",614.30259999999998,null,{"$f":"E60*F60","v":0},0,{"$f":"E60*H60","v":0},0,{"$f":"E60*J60","v":0},null,null,null,2,null,null,null,null,null,null,null,null,null,null,null,1,1,1,null,null,null,null,null,null,null,null,null,null,null,null,null,null,null,null,null,null,null,null,null,null,1,{"$f":"IF(AZ60=1,G60,0)","v":0},{"$f":"IF(AZ60=2,G60,0)","v":0},{"$f":"IF(AZ60=3,G60,0)","v":0},{"$f":"IF(AZ60=4,G60,0)","v":0},{"$f":"IF(AZ60=5,G60,0)","v":0},null,null,null,null,null,null,null,null,null,null,null,null,null,null,null,null,null,null,null,null,null,1,1]
[null,null,"Stoka \"A\" KT DN400:",null,0,null,null,null,null,null,null,null,"Stoka \"A\" KT DN400:"]
[null,null,"Výkopy:",null,0,null,null,null,null,null,null,null,"Výkopy:"]
[null,null,"v hornině tř. 3 - 5:614,3026",null,614.30259999999998,null,null,null,null,null,null,null,"v hornině tř. 3 - 5:614,3026"]
[11,"174101101R00","Zásyp jam, rýh, šachet se zhutněním ","m3",380.10180000000003,null,{"$f":"E64*F64","v":0},0,{"$f":"E64*H64","v":0},0,{"$f":"E64*J64","v":0},null,null,null,2,null,null,null,null,null,null,null,null,null,null,null,1,1,1,null,null,null,null,null,null,null,null,null,null,null,null,null,null,null,null,null,null,null,null,null,null,1,{"$f":"IF(AZ64=1,G64,0)","v":0},{"$f":"IF(AZ64=2,G64,0)","v":0},{"$f":"IF(AZ64=3,G64,0)","v":0},{"$f":"IF(AZ64=4,G64,0)","v":0},{"$f":"IF(AZ64=5,G64,0)","v":0},null,null,null,null,null,null,null,null,null,null,null,null,null,null,null,null,null,null,null,null,null,1,1]
[null,null,"Položka obsahuje strojní přemístění materiálu pro zásyp ze vzdálenosti do 10 m od okraje zásypu.",null,null,null,null,null,null,null,null,"Položka obsahuje strojní přemístění materiálu pro zásyp ze vzdálenosti do 10 m od okraje zásypu.",null,null,3]
[null,null,null,null,null,null,null,null,null,null,null,null,null,null,3]
[null,null,"Stoka \"A\" KT DN400:",null,0,null,null,null,null,null,null,null,"Stoka \"A\" KT DN400:"]
[null,null,"Zásypy ŠD fr. 0-63 mm:380,1018",null,380.10180000000003,null,null,null,null,null,null,null,"Zásypy ŠD fr. 0-63 mm:380,1018"]
[null,null,"Začátek provozního součtu",null,0,null,null,null,null,null,null,null,"Začátek provozního součtu"]
[null,null,"Výkopy:",null,0,null,null,null,null,null,null,null,"Výkopy:"]
[null,null,"v hornině tř. 3 - 5:614,3026",null,614.30259999999998,null,null,null,null,null,null,null,"v hornině tř. 3 - 5:614,3026"]
[null,null,"Odpočet objemu lože, potrubí a obsypů:-179,10*1,2168",null,-217.9289,null,null,null,null,null,null,null,"Odpočet objemu lože, potrubí a obsypů:-179,10*1,2168"]
[null,null,"Odpočet objemu RŠ:-16,2719",null,-16.271899999999999,null,null,null,null,null,null,null,"Odpočet objemu RŠ:-16,2719"]
[null,null,"Konec provozního součtu",null,380.10179999999997,null,null,null,null,null,null,null,"Konec provozního součtu"]
[12,"175101101R00","Obsyp potrubí bez prohození sypaniny ","m3",149.7276,null,{"$f":"E75*F75","v":0},0,{"$f":"E75*H75","v":0},0,{"$f":"E75*J75","v":0},null,null,null,2,null,null,null,null,null,null,null,null,null,null,null,1,1,1,null,null,null,null,null,null,null,null,null,null,null,null,null,null,null,null,null,null,null,null,null,null,1,{"$f":"IF(AZ75=1,G75,0)","v":0},{"$f":"IF(AZ75=2,G75,0)","v":0},{"$f":"IF(AZ75=3,G75,0)","v":0},{"$f":"IF(AZ75=4,G75,0)","v":0},{"$f":"IF(AZ75=5,G75,0)","v":0},null,null,null,null,null,null,null,null,null,null,null,null,null,null,null,null,null,null,null,null,null,1,1]
[null,null,"Stoka \"A\" KT DN400:179,10*0,836",null,149.7276,null,null,null,null,null,null,null,"Stoka \"A\" KT DN400:179,10*0,836"]
[13,"199000002R00","Poplatek za skládku horniny 1- 7 č. dle katal. odpadů 17 05 04","m3",614.30259999999998,null,{"$f":"E77*F77","v":0},0,{"$f":"E77*H77","v":0},0,{"$f":"E77*J77","v":0},null,null,null,2,null,null,null,null,null,null,null,null,null,null,null,1,1,1,null,null,null,null,null,null,null,null,null,null,null,null,null,null,null,null,null,null,null,null,null,null,1,{"$f":"IF(AZ77=1,G77,0)","v":0},{"$f":"IF(AZ77=2,G77,0)","v":0},{"$f":"IF(AZ77=3,G77,0)","v":0},{"$f":"IF(AZ77=4,G77,0)","v":0},{"$f":"IF(AZ77=5,G77,0)","v":0},null,null,null,null,null,null,null,null,null,null,null,null,null,null,null,null,null,null,null,null,null,1,1]
[null,null,"Stoka \"A\" KT DN400:",null,0,null,null,null,null,null,null,null,"Stoka \"A\" KT DN400:"]
[null,null,"Výkopy:",null,0,null,null,null,null,null,null,null,"Výkopy:"]
[null,null,"v hornině tř. 3 - 5:614,3026",null,614.30259999999998,null,null,null,null,null,null,null,"v hornině tř. 3 - 5:614,3026"]
[14,"58337308.R","Štěrkopísek frakce 0-2 tř.B","t",298.36669999999998,null,{"$f":"E81*F81","v":0},1,{"$f":"E81*H81","v":298.36669999999998},null,{"$f":"E81*J81","v":0},null,null,null,2,null,null,null,null,null,null,null,null,null,null,null,3,1,"58337308.R",null,null,null,null,null,null,null,null,null,null,null,null,null,null,null,null,null,null,null,null,null,null,1,{"$f":"IF(AZ81=1,G81,0)","v":0},{"$f":"IF(AZ81=2,G81,0)","v":0},{"$f":"IF(AZ81=3,G81,0)","v":0},{"$f":"IF(AZ81=4,G81,0)","v":0},{"$f":"IF(AZ81=5,G81,0)","v":0},null,null,null,null,null,null,null,null,null,null,null,null,null,null,null,null,null,null,null,null,null,3,1]
[null,null,"Stoka \"A\" KT DN400:179,10*0,836*1,973*1,01",null,298.36669999999998,null,null,null,null,null,null,null,"Stoka \"A\" KT DN400:179,10*0,836*1,973*1,01"]
[15,"58344197R","Štěrkodrtě frakce 0-63 A","t",719.05,null,{"$f":"E83*F83","v":0},1,{"$f":"E83*H83","v":719.05},null,{"$f":"E83*J83","v":0},null,null,null,2,null,null,null,null,null,null,null,null,null,null,null,3,1,"58344197R",null,null,null,null,null,null,null,null,null,null,null,null,null,null,null,null,null,null,null,null,null,null,1,{"$f":"IF(AZ83=1,G83,0)","v":0},{"$f":"IF(AZ83=2,G83,0)","v":0},{"$f":"IF(AZ83=3,G83,0)","v":0},{"$f":"IF(AZ83=4,G83,0)","v":0},{"$f":"IF(AZ83=5,G83,0)","v":0},null,null,null,null,null,null,null,null,null,null,null,null,null,null,null,null,null,null,null,null,null,3,1]
[null,null,"Stoka \"A\" KT DN400:",null,0,null,null,null,null,null,null,null,"Stoka \"A\" KT DN400:"]
[null,null,"Zásypy ŠD fr. 0-63 mm:380,1018*1,873*1,01",null,719.05,null,null,null,null,null,null,null,"Zásypy ŠD fr. 0-63 mm:380,1018*1,873*1,01"]
[null,null,"Začátek provozního součtu",null,0,null,null,null,null,null,null,null,"Začátek provozního součtu"]
[null,null,"Výkopy:",null,0,null,null,null,null,null,null,null,"Výkopy:"]
[null,null,"v hornině tř. 3 - 5:614,3026",null,614.30259999999998,null,null,null,null,null,null,null,"v hornině tř. 3 - 5:614,3026"]
[null,null,"Odpočet objemu lože, potrubí a obsypů:-179,10*1,2168",null,-217.9289,null,null,null,null,null,null,null,"Odpočet objemu lože, potrubí a obsypů:-179,10*1,2168"]
[null,null,"Odpočet objemu RŠ:-16,2719",null,-16.271899999999999,null,null,null,null,null,null,null,"Odpočet objemu RŠ:-16,2719"]
[null,null,"Konec provozního součtu",null,380.10179999999997,null,null,null,null,null,null,null,"Konec provozního součtu"]
[null,"Celkem za","1 Zemní práce",null,null,null,{"$f":"SUM(G7:G91)","v":0},null,{"$f":"SUM(I7:I91)","v":1019.0133995229999},null,{"$f":"SUM(K7:K91)","v":0},null,null,null,4,null,null,null,null,null,null,null,null,null,null,null,null,null,null,null,null,null,null,null,null,null,null,null,null,null,null,null,null,null,null,null,null,null,null,null,null,null,{"$f":"SUM(BA7:BA91)","v":0},{"$f":"SUM(BB7:BB91)","v":0},{"$f":"SUM(BC7:BC91)","v":0},{"$f":"SUM(BD7:BD91)","v":0},{"$f":"SUM(BE7:BE91)","v":0}]
["Díl:","21","Úprava podloží a základ.spáry",null,null,null,null,null,null,null,null,null,null,null,1]
[16,"212810010RAC","Trativody z PVC drenážních flexibilních trubek lože štěrkopísek a obsyp kamenivo, trubky d 100 mm","m",179.1,null,{"$f":"E94*F94","v":0},0.43651000000000001,{"$f":"E94*H94","v":78.178940999999995},0,{"$f":"E94*J94","v":0},null,null,null,2,null,null,null,null,null,null,null,null,null,null,null,1,1,1,null,null,null,null,null,null,null,null,null,null,null,null,null,null,null,null,null,null,null,null,null,null,1,{"$f":"IF(AZ94=1,G94,0)","v":0},{"$f":"IF(AZ94=2,G94,0)","v":0},{"$f":"IF(AZ94=3,G94,0)","v":0},{"$f":"IF(AZ94=4,G94,0)","v":0},{"$f":"IF(AZ94=5,G94,0)","v":0},null,null,null,null,null,null,null,null,null,null,null,null,null,null,null,null,null,null,null,null,null,1,1]
[null,null,"Stoka \"A\" KT DN400:",null,0,null,null,null,null,null,null,null,"Stoka \"A\" KT DN400:"]
[null,null,"Drenáž DN100:179,10",null,179.1,null,null,null,null,null,null,null,"Drenáž DN100:179,10"]
[null,"Celkem za","21 Úprava podloží a základ.spáry",null,null,null,{"$f":"SUM(G93:G96)","v":0},null,{"$f":"SUM(I93:I96)","v":78.178940999999995},null,{"$f":"SUM(K93:K96)","v":0},null,null,null,4,null,null,null,null,null,null,null,null,null,null,null,null,null,null,null,null,null,null,null,null,null,null,null,null,null,null,null,null,null,null,null,null,null,null,null,null,null,{"$f":"SUM(BA93:BA96)","v":0},{"$f":"SUM(BB93:BB96)","v":0},{"$f":"SUM(BC93:BC96)","v":0},{"$f":"SUM(BD93:BD96)","v":0},{"$f":"SUM(BE93:BE96)","v":0}]
["Díl:","45","Podkladní a vedlejší konstrukce",null,null,null,null,null,null,null,null,null,null,null,1]
[17,"452112111R00","Osazení beton. prstenců pod poklopy,výšky do100 mm ","kus",6,null,{"$f":"E99*F99","v":0},6.6E-3,{"$f":"E99*H99","v":3.9599999999999996E-2},0,{"$f":"E99*J99","v":0},null,null,null,2,null,null,null,null,null,null,null,null,null,null,null,1,1,1,null,null,null,null,null,null,null,null,null,null,null,null,null,null,null,null,null,null,null,null,null,null,1,{"$f":"IF(AZ99=1,G99,0)","v":0},{"$f":"IF(AZ99=2,G99,0)","v":0},{"$f":"IF(AZ99=3,G99,0)","v":0},{"$f":"IF(AZ99=4,G99,0)","v":0},{"$f":"IF(AZ99=5,G99,0)","v":0},null,null,null,null,null,null,null,null,null,null,null,null,null,null,null,null,null,null,null,null,null,1,1]
[null,null,"Volba položky se řídí výškou prstence nebo rámu. V položkách nejsou zakalkulovány náklady na dodávku betonových výrobků;",null,null,null,null,null,null,null,null,"Volba položky se řídí výškou prstence nebo rámu. V položkách nejsou zakalkulovány náklady na dodávku betonových výrobků;",null,null,3]
[null,null,"Stoka \"A\" KT DN400:",null,0,null,null,null,null,null,null,null,"Stoka \"A\" KT DN400:"]
[null,null,"VP H40:1",null,1,null,null,null,null,null,null,null,"VP H40:1"]
[null,null,"VP H60:2",null,2,null,null,null,null,null,null,null,"VP H60:2"]
[null,null,"VP H80:3",null,3,null,null,null,null,null,null,null,"VP H80:3"]
[18,"452112121R00","Osazení beton. prstenců pod poklopy,výšky do200 mm ","kus",6,null,{"$f":"E105*F105","v":0},6.6E-3,{"$f":"E105*H105","v":3.9599999999999996E-2},0,{"$f":"E105*J105","v":0},null,null,null,2,null,null,null,null,null,null,null,null,null,null,null,1,1,1,null,null,null,null,null,null,null,null,null,null,null,null,null,null,null,null,null,null,null,null,null,null,1,{"$f":"IF(AZ105=1,G105,0)","v":0},{"$f":"IF(AZ105=2,G105,0)","v":0},{"$f":"IF(AZ105=3,G105,0)","v":0},{"$f":"IF(AZ105=4,G105,0)","v":0},{"$f":"IF(AZ105=5,G105,0)","v":0},null,null,null,null,null,null,null,null,null,null,null,null,null,null,null,null,null,null,null,null,null,1,1]
[null,null,"Stoka \"A\" KT DN400:",null,0,null,null,null,null,null,null,null,"Stoka \"A\" KT DN400:"]
[null,null,"VP H120:6",null,6,null,null,null,null,null,null,null,"VP H120:6"]
[19,"452312131R00","Sedlové lože pod potrubí z betonu C 12/15 ","m3",60.535800000000002,null,{"$f":"E108*F108","v":0},2.5,{"$f":"E108*H108","v":151.33950000000002},0,{"$f":"E108*J108","v":0},null,null,null,2,null,null,null,null,null,null,null,null,null,null,null,1,1,1,null,null,null,null,null,null,null,null,null,null,null,null,null,null,null,null,null,null,null,null,null,null,1,{"$f":"IF(AZ108=1,G108,0)","v":0},{"$f":"IF(AZ108=2,G108,0)","v":0},{"$f":"IF(AZ108=3,G108,0)","v":0},{"$f":"IF(AZ108=4,G108,0)","v":0},{"$f":"IF(AZ108=5,G108,0)","v":0},null,null,null,null,null,null,null,null,null,null,null,null,null,null,null,null,null,null,null,null,null,1,1]
[null,null,"Položka je určena pro práce v otevřeném výkopu",null,null,null,null,null,null,null,null,"Položka je určena pro práce v otevřeném výkopu",null,null,3]
[null,null,"Stoka \"A\" KT DN400:179,10*0,338",null,60.535800000000002,null,null,null,null,null,null,null,"Stoka \"A\" KT DN400:179,10*0,338"]
[20,"59224346.A.R","Prstenec vyrovn šachetní TBW-Q.1 63/4","kus",1.01,null,{"$f":"E111*F111","v":0},2.8000000000000001E-2,{"$f":"E111*H111","v":2.828E-2},null,{"$f":"E111*J111","v":0},null,null,null,2,null,null,null,null,null,null,null,null,null,null,null,3,1,"59224346.A.R",null,null,null,null,null,null,null,null,null,null,null,null,null,null,null,null,null,null,null,null,null,null,1,{"$f":"IF(AZ111=1,G111,0)","v":0},{"$f":"IF(AZ111=2,G111,0)","v":0},{"$f":"IF(AZ111=3,G111,0)","v":0},{"$f":"IF(AZ111=4,G111,0)","v":0},{"$f":"IF(AZ111=5,G111,0)","v":0},null,null,null,null,null,null,null,null,null,null,null,null,null,null,null,null,null,null,null,null,null,3,1]
[null,null,"Stoka \"A\" KT DN400:",null,0,null,null,null,null,null,null,null,"Stoka \"A\" KT DN400:"]
[null,null,"VP H40:1*1,01",null,1.01,null,null,null,null,null,null,null,"VP H40:1*1,01"]
[21,"59224347.A.R","Prstenec vyrovn šachetní TBW-Q.1 63/6","kus",2.02,null,{"$f":"E114*F114","v":0},0.04,{"$f":"E114*H114","v":8.0799999999999997E-2},null,{"$f":"E114*J114","v":0},null,null,null,2,null,null,null,null,null,null,null,null,null,null,null,3,1,"59224347.A.R",null,null,null,null,null,null,null,null,null,null,null,null,null,null,null,null,null,null,null,null,null,null,1,{"$f":"IF(AZ114=1,G114,0)","v":0},{"$f":"IF(AZ114=2,G114,0)","v":0},{"$f":"IF(AZ114=3,G114,0)","v":0},{"$f":"IF(AZ114=4,G114,0)","v":0},{"$f":"IF(AZ114=5,G114,0)","v":0},null,null,null,null,null,null,null,null,null,null,null,null,null,null,null,null,null,null,null,null,null,3,1]
[null,null,"Stoka \"A\" KT DN400:",null,0,null,null,null,null,null,null,null,"Stoka \"A\" KT DN400:"]
[null,null,"VP H60:2*1,01",null,2.02,null,null,null,null,null,null,null,"VP H60:2*1,01"]
[22,"59224348.A.R","Prstenec vyrovn šachetní TBW-Q.1 63/8","kus",3.03,null,{"$f":"E117*F117","v":0},5.3999999999999999E-2,{"$f":"E117*H117","v":0.16361999999999999},null,{"$f":"E117*J117","v":0},null,null,null,2,null,null,null,null,null,null,null,null,null,null,null,3,1,"59224348.A.R",null,null,null,null,null,null,null,null,null,null,null,null,null,null,null,null,null,null,null,null,null,null,1,{"$f":"IF(AZ117=1,G117,0)","v":0},{"$f":"IF(AZ117=2,G117,0)","v":0},{"$f":"IF(AZ117=3,G117,0)","v":0},{"$f":"IF(AZ117=4,G117,0)","v":0},{"$f":"IF(AZ117=5,G117,0)","v":0},null,null,null,null,null,null,null,null,null,null,null,null,null,null,null,null,null,null,null,null,null,3,1]
[null,null,"Stoka \"A\" KT DN400:",null,0,null,null,null,null,null,null,null,"Stoka \"A\" KT DN400:"]
[null,null,"VP H80:3*1,01",null,3.03,null,null,null,null,null,null,null,"VP H80:3*1,01"]
[23,"59224350.A.R","Prstenec vyrovn šachetní TBW-Q.1 63/12","kus",6.06,null,{"$f":"E120*F120","v":0},8.1000000000000003E-2,{"$f":"E120*H120","v":0.49085999999999996},null,{"$f":"E120*J120","v":0},null,null,null,2,null,null,null,null,null,null,null,null,null,null,null,3,1,"59224350.A.R",null,null,null,null,null,null,null,null,null,null,null,null,null,null,null,null,null,null,null,null,null,null,1,{"$f":"IF(AZ120=1,G120,0)","v":0},{"$f":"IF(AZ120=2,G120,0)","v":0},{"$f":"IF(AZ120=3,G120,0)","v":0},{"$f":"IF(AZ120=4,G120,0)","v":0},{"$f":"IF(AZ120=5,G120,0)","v":0},null,null,null,null,null,null,null,null,null,null,null,null,null,null,null,null,null,null,null,null,null,3,1]
[null,null,"Stoka \"A\" KT DN400:",null,0,null,null,null,null,null,null,null,"Stoka \"A\" KT DN400:"]
[null,null,"VP H120:6*1,01",null,6.06,null,null,null,null,null,null,null,"VP H120:6*1,01"]
[null,"Celkem za","45 Podkladní a vedlejší konstrukce",null,null,null,{"$f":"SUM(G98:G122)","v":0},null,{"$f":"SUM(I98:I122)","v":152.18226000000001},null,{"$f":"SUM(K98:K122)","v":0},null,null,null,4,null,null,null,null,null,null,null,null,null,null,null,null,null,null,null,null,null,null,null,null,null,null,null,null,null,null,null,null,null,null,null,null,null,null,null,null,null,{"$f":"SUM(BA98:BA122)","v":0},{"$f":"SUM(BB98:BB122)","v":0},{"$f":"SUM(BC98:BC122)","v":0},{"$f":"SUM(BD98:BD122)","v":0},{"$f":"SUM(BE98:BE122)","v":0}]
["Díl:","5","Komunikace",null,null,null,null,null,null,null,null,null,null,null,1]
[24,"572701119RRX","Provizorní zásyp rýh kam. hrubě drceným nebo recyk s následným odstraněním a odvozem","m3",117.61499999999999,null,{"$f":"E125*F125","v":0},1.4804999999999999,{"$f":"E125*H125","v":174.12900749999997},0,{"$f":"E125*J125","v":0},null,null,null,2,null,null,null,null,null,null,null,null,null,null,null,1,1,1,null,null,null,null,null,null,null,null,null,null,null,null,null,null,null,null,null,null,null,null,null,null,1,{"$f":"IF(AZ125=1,G125,0)","v":0},{"$f":"IF(AZ125=2,G125,0)","v":0},{"$f":"IF(AZ125=3,G125,0)","v":0},{"$f":"IF(AZ125=4,G125,0)","v":0},{"$f":"IF(AZ125=5,G125,0)","v":0},null,null,null,null,null,null,null,null,null,null,null,null,null,null,null,null,null,null,null,null,null,1,1]
[null,null,"Stoka \"A\" KT DN400:",null,0,null,null,null,null,null,null,null,"Stoka \"A\" KT DN400:"]
[null,null,"Objem konstrukce komunikace:(179,10*1,30+1,60*(1,60-1,30)*5)*0,50",null,117.61499999999999,null,null,null,null,null,null,null,"Objem konstrukce komunikace:(179,10*1,30+1,60*(1,60-1,30)*5)*0,50"]
[null,"Celkem za","5 Komunikace",null,null,null,{"$f":"SUM(G124:G127)","v":0},null,{"$f":"SUM(I124:I127)","v":174.12900749999997},null,{"$f":"SUM(K124:K127)","v":0},null,null,null,4,null,null,null,null,null,null,null,null,null,null,null,null,null,null,null,null,null,null,null,null,null,null,null,null,null,null,null,null,null,null,null,null,null,null,null,null,null,{"$f":"SUM(BA124:BA127)","v":0},{"$f":"SUM(BB124:BB127)","v":0},{"$f":"SUM(BC124:BC127)","v":0},{"$f":"SUM(BD124:BD127)","v":0},{"$f":"SUM(BE124:BE127)","v":0}]
["Díl:","8","Trubní vedení",null,null,null,null,null,null,null,null,null,null,null,1]
[25,"831392121R00","Montáž trub kameninových, pryž. kroužek, DN 400 ","m",175.35,null,{"$f":"E130*F130","v":0},6.0000000000000002E-5,{"$f":"E130*H130","v":1.0520999999999999E-2},0,{"$f":"E130*J130","v":0},null,null,null,2,null,null,null,null,null,null,null,null,null,null,null,1,1,1,null,null,null,null,null,null,null,null,null,null,null,null,null,null,null,null,null,null,null,null,null,null,1,{"$f":"IF(AZ130=1,G130,0)","v":0},{"$f":"IF(AZ130=2,G130,0)","v":0},{"$f":"IF(AZ130=3,G130,0)","v":0},{"$f":"IF(AZ130=4,G130,0)","v":0},{"$f":"IF(AZ130=5,G130,0)","v":0},null,null,null,null,null,null,null,null,null,null,null,null,null,null,null,null,null,null,null,null,null,1,1]
[null,null,"Položka je určena pro montáž potrubí z trub kameninových s polyuretanovým spojem v otevřeném výkopu ve sklonu do 20 % včetně případné potřeby krácení trub.",null,null,null,null,null,null,null,null,"Položka je určena pro montáž potrubí z trub kameninových s polyuretanovým spojem v otevřeném výkopu ve sklonu do 20 % včetně případné potřeby krácení trub.",null,null,3]
[null,null,"Stoka \"A\" KT DN400:179,10",null,179.1,null,null,null,null,null,null,null,"Stoka \"A\" KT DN400:179,10"]
[null,null,"Odpočet - Odbočka DN400/200:-0,75*5",null,-3.75,null,null,null,null,null,null,null,"Odpočet - Odbočka DN400/200:-0,75*5"]
[26,"837391221R00","Montáž tvarov. kamenin. odboč. pryž. krouž. DN 400 ","kus",5,null,{"$f":"E134*F134","v":0},8.0000000000000007E-5,{"$f":"E134*H134","v":4.0000000000000002E-4},0,{"$f":"E134*J134","v":0},null,null,null,2,null,null,null,null,null,null,null,null,null,null,null,1,1,1,null,null,null,null,null,null,null,null,null,null,null,null,null,null,null,null,null,null,null,null,null,null,1,{"$f":"IF(AZ134=1,G134,0)","v":0},{"$f":"IF(AZ134=2,G134,0)","v":0},{"$f":"IF(AZ134=3,G134,0)","v":0},{"$f":"IF(AZ134=4,G134,0)","v":0},{"$f":"IF(AZ134=5,G134,0)","v":0},null,null,null,null,null,null,null,null,null,null,null,null,null,null,null,null,null,null,null,null,null,1,1]
[null,null,"Položka je určena pro montáž kameninových tvarovek odbočných těsněných pryžovými nebo polyuretanovými spoji na potrubí z trub kameninových v otevřeném výkopu.",null,null,null,null,null,null,null,null,"Položka je určena pro montáž kameninových tvarovek odbočných těsněných pryžovými nebo polyuretanovými spoji na potrubí z trub kameninových v otevřeném výkopu.",null,null,3]
[null,null,"Stoka \"A\" KT DN400:",null,0,null,null,null,null,null,null,null,"Stoka \"A\" KT DN400:"]
[null,null,"Odbočka DN400/200:5",null,5,null,null,null,null,null,null,null,"Odbočka DN400/200:5"]
[27,"892601154R00","Čištění kanalizační stoky do DN 500, nad 100 m ","m",179.1,null,{"$f":"E138*F138","v":0},0,{"$f":"E138*H138","v":0},0,{"$f":"E138*J138","v":0},null,null,null,2,null,null,null,null,null,null,null,null,null,null,null,1,0,0,null,null,null,null,null,null,null,null,null,null,null,null,null,null,null,null,null,null,null,null,null,null,1,{"$f":"IF(AZ138=1,G138,0)","v":0},{"$f":"IF(AZ138=2,G138,0)","v":0},{"$f":"IF(AZ138=3,G138,0)","v":0},{"$f":"IF(AZ138=4,G138,0)","v":0},{"$f":"IF(AZ138=5,G138,0)","v":0},null,null,null,null,null,null,null,null,null,null,null,null,null,null,null,null,null,null,null,null,null,1,0]
[null,null,"V položce je zakalkulováno:",null,null,null,null,null,null,null,null,"V položce je zakalkulováno:",null,null,3]
[null,null,"a) otevření a uzavření revizních šachet a čisticích kusů",null,null,null,null,null,null,null,null,"a) otevření a uzavření revizních šachet a čisticích kusů",null,null,3]
[null,null,"b) natažení vysokotlakých hadic k místu odkud se bude kanalizace čistit",null,null,null,null,null,null,null,null,"b) natažení vysokotlakých hadic k místu odkud se bude kanalizace čistit",null,null,3]
[null,null,"c) vyčištění potrubí tlakovou vodou nebo motorovým pérem.",null,null,null,null,null,null,null,null,"c) vyčištění potrubí tlakovou vodou nebo motorovým pérem.",null,null,3]
[null,null,"Stoka \"A\" KT DN400:179,10",null,179.1,null,null,null,null,null,null,null,"Stoka \"A\" KT DN400:179,10"]
[28,"892855115R00","Kontrola kanalizace TV kamerou do 500 m ","m",358.2,null,{"$f":"E144*F144","v":0},0,{"$f":"E144*H144","v":0},0,{"$f":"E144*J144","v":0},null,null,null,2,null,null,null,null,null,null,null,null,null,null,null,1,1,1,null,null,null,null,null,null,null,null,null,null,null,null,null,null,null,null,null,null,null,null,null,null,1,{"$f":"IF(AZ144=1,G144,0)","v":0},{"$f":"IF(AZ144=2,G144,0)","v":0},{"$f":"IF(AZ144=3,G144,0)","v":0},{"$f":"IF(AZ144=4,G144,0)","v":0},{"$f":"IF(AZ144=5,G144,0)","v":0},null,null,null,null,null,null,null,null,null,null,null,null,null,null,null,null,null,null,null,null,null,1,1]
[null,null,"Provedení kaberové prohlídky včetně dodání elektronického záznamu na CD zadavateli a tištěné dokumentace průběhu kamerové prohlídky",null,null,null,null,null,null,null,null,"Provedení kaberové prohlídky včetně dodání elektronického záznamu na CD zadavateli a tištěné dokumentace průběhu kamerové prohlídky",null,null,3]
[null,null,"Stoka \"A\" KT DN400:179,10*2",null,358.2,null,null,null,null,null,null,null,"Stoka \"A\" KT DN400:179,10*2"]
[29,"894421111RT1","Osazení betonových dílců šachet skruže rovné, na kroužek, do 0,5 t","kus",4,null,{"$f":"E147*F147","v":0},0,{"$f":"E147*H147","v":0},0,{"$f":"E147*J147","v":0},null,null,null,2,null,null,null,null,null,null,null,null,null,null,null,1,1,1,null,null,null,null,null,null,null,null,null,null,null,null,null,null,null,null,null,null,null,null,null,null,1,{"$f":"IF(AZ147=1,G147,0)","v":0},{"$f":"IF(AZ147=2,G147,0)","v":0},{"$f":"IF(AZ147=3,G147,0)","v":0},{"$f":"IF(AZ147=4,G147,0)","v":0},{"$f":"IF(AZ147=5,G147,0)","v":0},null,null,null,null,null,null,null,null,null,null,null,null,null,null,null,null,null,null,null,null,null,1,1]
[null,null,"Položka je určena pro osazení betonových dílců šachet dle DIN 4034, skruže rovné na kroužek, hmotnost do 0,5 t.",null,null,null,null,null,null,null,null,"Položka je určena pro osazení betonových dílců šachet dle DIN 4034, skruže rovné na kroužek, hmotnost do 0,5 t.",null,null,3]
[null,null,"V položce nejsou zakalkulovány náklady na dodání betonových dílců; dílce se oceňují ve specifikaci.",null,null,null,null,null,null,null,null,"V položce nejsou zakalkulovány náklady na dodání betonových dílců; dílce se oceňují ve specifikaci.",null,null,3]
[null,null,"Stoka \"A\" KT DN400:",null,0,null,null,null,null,null,null,null,"Stoka \"A\" KT DN400:"]
[null,null,"Skruž H250:2",null,2,null,null,null,null,null,null,null,"Skruž H250:2"]
[null,null,"Skruž H500:2",null,2,null,null,null,null,null,null,null,"Skruž H500:2"]
[30,"894421112RT1","Osazení betonových dílců šachet skruže rovné, na kroužek, do 1,4 t","kus",8,null,{"$f":"E153*F153","v":0},0,{"$f":"E153*H153","v":0},0,{"$f":"E153*J153","v":0},null,null,null,2,null,null,null,null,null,null,null,null,null,null,null,1,1,1,null,null,null,null,null,null,null,null,null,null,null,null,null,null,null,null,null,null,null,null,null,null,1,{"$f":"IF(AZ153=1,G153,0)","v":0},{"$f":"IF(AZ153=2,G153,0)","v":0},{"$f":"IF(AZ153=3,G153,0)","v":0},{"$f":"IF(AZ153=4,G153,0)","v":0},{"$f":"IF(AZ153=5,G153,0)","v":0},null,null,null,null,null,null,null,null,null,null,null,null,null,null,null,null,null,null,null,null,null,1,1]
[null,null,"Položka je určena pro osazení betonových dílců šachet dle DIN 4034, skruže rovné na kroužek, hmotnost přes 0,5 do 1,4 t.",null,null,null,null,null,null,null,null,"Položka je určena pro osazení betonových dílců šachet dle DIN 4034, skruže rovné na kroužek, hmotnost přes 0,5 do 1,4 t.",null,null,3]
[null,null,"V položce nejsou zakalkulovány náklady na dodání betonových dílců; dílce se oceňují ve specifikaci.",null,null,null,null,null,null,null,null,"V položce nejsou zakalkulovány náklady na dodání betonových dílců; dílce se oceňují ve specifikaci.",null,null,3]
[null,null,"Stoka \"A\" KT DN400:",null,0,null,null,null,null,null,null,null,"Stoka \"A\" KT DN400:"]
[null,null,"Skruž H1000:8",null,8,null,null,null,null,null,null,null,"Skruž H1000:8"]
[31,"894422111RT1","Osazení betonových dílců šachet skruže přechodové, na kroužek","kus",7,null,{"$f":"E158*F158","v":0},0,{"$f":"E158*H158","v":0},0,{"$f":"E158*J158","v":0},null,null,null,2,null,null,null,null,null,null,null,null,null,null,null,1,1,1,null,null,null,null,null,null,null,null,null,null,null,null,null,null,null,null,null,null,null,null,null,null,1,{"$f":"IF(AZ158=1,G158,0)","v":0},{"$f":"IF(AZ158=2,G158,0)","v":0},{"$f":"IF(AZ158=3,G158,0)","v":0},{"$f":"IF(AZ158=4,G158,0)","v":0},{"$f":"IF(AZ158=5,G158,0)","v":0},null,null,null,null,null,null,null,null,null,null,null,null,null,null,null,null,null,null,null,null,null,1,1]
[null,null,"Položka je určena pro osazení betonových dílců šachet dle DIN 4034, skruže přechodové, zákrytové, kónusy,... na kroužek.",null,null,null,null,null,null,null,null,"Položka je určena pro osazení betonových dílců šachet dle DIN 4034, skruže přechodové, zákrytové, kónusy,... na kroužek.",null,null,3]
[null,null,"Stoka \"A\" KT DN400:",null,0,null,null,null,null,null,null,null,"Stoka \"A\" KT DN400:"]
[null,null,"Kónus H580:6",null,6,null,null,null,null,null,null,null,"Kónus H580:6"]
[null,null,"ZD H170:1",null,1,null,null,null,null,null,null,null,"ZD H170:1"]
[32,"894423111RT1","Osazení betonových dílců šachet do 2,0 t šachtová dna, na kroužek, do 2,0 t","kus",6,null,{"$f":"E163*F163","v":0},0,{"$f":"E163*H163","v":0},0,{"$f":"E163*J163","v":0},null,null,null,2,null,null,null,null,null,null,null,null,null,null,null,1,1,1,null,null,null,null,null,null,null,null,null,null,null,null,null,null,null,null,null,null,null,null,null,null,1,{"$f":"IF(AZ163=1,G163,0)","v":0},{"$f":"IF(AZ163=2,G163,0)","v":0},{"$f":"IF(AZ163=3,G163,0)","v":0},{"$f":"IF(AZ163=4,G163,0)","v":0},{"$f":"IF(AZ163=5,G163,0)","v":0},null,null,null,null,null,null,null,null,null,null,null,null,null,null,null,null,null,null,null,null,null,1,1]
[null,null,"Položka je určena pro osazení betonových dílců šachet dle DIN 4034, šachtová dna na kroužek, hmotnost do 2,0 t.",null,null,null,null,null,null,null,null,"Položka je určena pro osazení betonových dílců šachet dle DIN 4034, šachtová dna na kroužek, hmotnost do 2,0 t.",null,null,3]
[null,null,"V položce nejsou zakalkulovány náklady na dodání betonových dílců;",null,null,null,null,null,null,null,null,"V položce nejsou zakalkulovány náklady na dodání betonových dílců;",null,null,3]
[null,null,"Součástí položky je i podbetonování šachtového dna betonem C12/15 v min. tl. 10 cm.",null,null,null,null,null,null,null,null,"Součástí položky je i podbetonování šachtového dna betonem C12/15 v min. tl. 10 cm.",null,null,3]
[null,null,"Stoka \"A\" KT DN400:",null,0,null,null,null,null,null,null,null,"Stoka \"A\" KT DN400:"]
[null,null,"ŠD H575:1",null,1,null,null,null,null,null,null,null,"ŠD H575:1"]
[null,null,"ŠD H675:5",null,5,null,null,null,null,null,null,null,"ŠD H675:5"]
[33,"894423112RT1","Osazení betonových dílců šachet do 3,0 t šachtová dna, na kroužek, do 3,0 t","kus",1,null,{"$f":"E170*F170","v":0},0,{"$f":"E170*H170","v":0},0,{"$f":"E170*J170","v":0},null,null,null,2,null,null,null,null,null,null,null,null,null,null,null,1,1,1,null,null,null,null,null,null,null,null,null,null,null,null,null,null,null,null,null,null,null,null,null,null,1,{"$f":"IF(AZ170=1,G170,0)","v":0},{"$f":"IF(AZ170=2,G170,0)","v":0},{"$f":"IF(AZ170=3,G170,0)","v":0},{"$f":"IF(AZ170=4,G170,0)","v":0},{"$f":"IF(AZ170=5,G170,0)","v":0},null,null,null,null,null,null,null,null,null,null,null,null,null,null,null,null,null,null,null,null,null,1,1]
[null,null,"Položka je určena pro osazení betonových dílců šachet dle DIN 4034, šachtová dna na kroužek, hmotnost do 2,0 t.",null,null,null,null,null,null,null,null,"Položka je určena pro osazení betonových dílců šachet dle DIN 4034, šachtová dna na kroužek, hmotnost do 2,0 t.",null,null,3]
[null,null,"V položce nejsou zakalkulovány náklady na dodání betonových dílců;",null,null,null,null,null,null,null,null,"V položce nejsou zakalkulovány náklady na dodání betonových dílců;",null,null,3]
[null,null,"Součástí položky je i podbetonování šachtového dna betonem C12/15 v min. tl. 10 cm.",null,null,null,null,null,null,null,null,"Součástí položky je i podbetonování šachtového dna betonem C12/15 v min. tl. 10 cm.",null,null,3]
[null,null,"Stoka \"A\" KT DN400:",null,0,null,null,null,null,null,null,null,"Stoka \"A\" KT DN400:"]
[null,null,"ŠD H1130:1",null,1,null,null,null,null,null,null,null,"ŠD H1130:1"]
[34,"899102111R00","Osazení poklopu s rámem do 100 kg ","kus",7,null,{"$f":"E176*F176","v":0},7.0200000000000002E-3,{"$f":"E176*H176","v":4.9140000000000003E-2},0,{"$f":"E176*J176","v":0},null,null,null,2,null,null,null,null,null,null,null,null,null,null,null,1,1,1,null,null,null,null,null,null,null,null,null,null,null,null,null,null,null,null,null,null,null,null,null,null,1,{"$f":"IF(AZ176=1,G176,0)","v":0},{"$f":"IF(AZ176=2,G176,0)","v":0},{"$f":"IF(AZ176=3,G176,0)","v":0},{"$f":"IF(AZ176=4,G176,0)","v":0},{"$f":"IF(AZ176=5,G176,0)","v":0},null,null,null,null,null,null,null,null,null,null,null,null,null,null,null,null,null,null,null,null,null,1,1]
[null,null,"Osazení provizorních poklopů během realizace stavby  (nefakturovaný materiál zhotovitele)",null,null,null,null,null,null,null,null,"Osazení provizorních poklopů během realizace stavby  (nefakturovaný materiál zhotovitele)",null,null,3]
[35,"899711122R00","Fólie výstražná z PVC šedá, šířka 30 cm ","m",179.1,null,{"$f":"E178*F178","v":0},0,{"$f":"E178*H178","v":0},0,{"$f":"E178*J178","v":0},null,null,null,2,null,null,null,null,null,null,null,null,null,null,null,1,1,1,null,null,null,null,null,null,null,null,null,null,null,null,null,null,null,null,null,null,null,null,null,null,1,{"$f":"IF(AZ178=1,G178,0)","v":0},{"$f":"IF(AZ178=2,G178,0)","v":0},{"$f":"IF(AZ178=3,G178,0)","v":0},{"$f":"IF(AZ178=4,G178,0)","v":0},{"$f":"IF(AZ178=5,G178,0)","v":0},null,null,null,null,null,null,null,null,null,null,null,null,null,null,null,null,null,null,null,null,null,1,1]
[null,null,"Stoka \"A\" KT DN400:179,10",null,179.1,null,null,null,null,null,null,null,"Stoka \"A\" KT DN400:179,10"]
[36,"592243541.R","Deska zákrytová TZK-Q.1 100-63/17","kus",1.01,null,{"$f":"E180*F180","v":0},0.43,{"$f":"E180*H180","v":0.43430000000000002},null,{"$f":"E180*J180","v":0},null,null,null,2,null,null,null,null,null,null,null,null,null,null,null,3,1,"592243541.R",null,null,null,null,null,null,null,null,null,null,null,null,null,null,null,null,null,null,null,null,null,null,1,{"$f":"IF(AZ180=1,G180,0)","v":0},{"$f":"IF(AZ180=2,G180,0)","v":0},{"$f":"IF(AZ180=3,G180,0)","v":0},{"$f":"IF(AZ180=4,G180,0)","v":0},{"$f":"IF(AZ180=5,G180,0)","v":0},null,null,null,null,null,null,null,null,null,null,null,null,null,null,null,null,null,null,null,null,null,3,1]
[null,null,"Stoka \"A\" KT DN400:",null,0,null,null,null,null,null,null,null,"Stoka \"A\" KT DN400:"]
[null,null,"ZD H170:1*1,01",null,1.01,null,null,null,null,null,null,null,"ZD H170:1*1,01"]
[37,"592243543.R","Kónus šachetní TBR-Q.1 100x63/58/12 KPS","kus",6.06,null,{"$f":"E183*F183","v":0},0.58499999999999996,{"$f":"E183*H183","v":3.5450999999999997},null,{"$f":"E183*J183","v":0},null,null,null,2,null,null,null,null,null,null,null,null,null,null,null,3,1,"592243543.R",null,null,null,null,null,null,null,null,null,null,null,null,null,null,null,null,null,null,null,null,null,null,1,{"$f":"IF(AZ183=1,G183,0)","v":0},{"$f":"IF(AZ183=2,G183,0)","v":0},{"$f":"IF(AZ183=3,G183,0)","v":0},{"$f":"IF(AZ183=4,G183,0)","v":0},{"$f":"IF(AZ183=5,G183,0)","v":0},null,null,null,null,null,null,null,null,null,null,null,null,null,null,null,null,null,null,null,null,null,3,1]
[null,null,"Stoka \"A\" KT DN400:",null,0,null,null,null,null,null,null,null,"Stoka \"A\" KT DN400:"]
[null,null,"Kónus H580:6*1,01",null,6.06,null,null,null,null,null,null,null,"Kónus H580:6*1,01"]
[38,"59224358.A.R","Skruž šachetní TBS-Q.1 100/25/12 PS","kus",2.02,null,{"$f":"E186*F186","v":0},0.25,{"$f":"E186*H186","v":0.505},null,{"$f":"E186*J186","v":0},null,null,null,2,null,null,null,null,null,null,null,null,null,null,null,3,1,"59224358.A.R",null,null,null,null,null,null,null,null,null,null,null,null,null,null,null,null,null,null,null,null,null,null,1,{"$f":"IF(AZ186=1,G186,0)","v":0},{"$f":"IF(AZ186=2,G186,0)","v":0},{"$f":"IF(AZ186=3,G186,0)","v":0},{"$f":"IF(AZ186=4,G186,0)","v":0},{"$f":"IF(AZ186=5,G186,0)","v":0},null,null,null,null,null,null,null,null,null,null,null,null,null,null,null,null,null,null,null,null,null,3,1]
[null,null,"Stoka \"A\" KT DN400:",null,0,null,null,null,null,null,null,null,"Stoka \"A\" KT DN400:"]
[null,null,"Skruž H250:2*1,01",null,2.02,null,null,null,null,null,null,null,"Skruž H250:2*1,01"]
[39,"59224361.A.R","Skruž šachetní TBS-Q.1 100/50/12 PS","kus",2.02,null,{"$f":"E189*F189","v":0},0.5,{"$f":"E189*H189","v":1.01},null,{"$f":"E189*J189","v":0},null,null,null,2,null,null,null,null,null,null,null,null,null,null,null,3,1,"59224361.A.R",null,null,null,null,null,null,null,null,null,null,null,null,null,null,null,null,null,null,null,null,null,null,1,{"$f":"IF(AZ189=1,G189,0)","v":0},{"$f":"IF(AZ189=2,G189,0)","v":0},{"$f":"IF(AZ189=3,G189,0)","v":0},{"$f":"IF(AZ189=4,G189,0)","v":0},{"$f":"IF(AZ189=5,G189,0)","v":0},null,null,null,null,null,null,null,null,null,null,null,null,null,null,null,null,null,null,null,null,null,3,1]
[null,null,"Stoka \"A\" KT DN400:",null,0,null,null,null,null,null,null,null,"Stoka \"A\" KT DN400:"]
[null,null,"Skruž H500:2*1,01",null,2.02,null,null,null,null,null,null,null,"Skruž H500:2*1,01"]
[40,"59224364.A.R","Skruž šachetní TBS-Q.1 100/100/12 PS","kus",8.08,null,{"$f":"E192*F192","v":0},1,{"$f":"E192*H192","v":8.08},null,{"$f":"E192*J192","v":0},null,null,null,2,null,null,null,null,null,null,null,null,null,null,null,3,1,"59224364.A.R",null,null,null,null,null,null,null,null,null,null,null,null,null,null,null,null,null,null,null,null,null,null,1,{"$f":"IF(AZ192=1,G192,0)","v":0},{"$f":"IF(AZ192=2,G192,0)","v":0},{"$f":"IF(AZ192=3,G192,0)","v":0},{"$f":"IF(AZ192=4,G192,0)","v":0},{"$f":"IF(AZ192=5,G192,0)","v":0},null,null,null,null,null,null,null,null,null,null,null,null,null,null,null,null,null,null,null,null,null,3,1]
[null,null,"Stoka \"A\" KT DN400:",null,0,null,null,null,null,null,null,null,"Stoka \"A\" KT DN400:"]
[null,null,"Skruž H1000:8*1,01",null,8.08,null,null,null,null,null,null,null,"Skruž H1000:8*1,01"]
[41,"59224371.A.R","Dno šachetní TBZ-Q.1 100/58 KOM V20 včetně kynety dle PD","kus",1.01,null,{"$f":"E195*F195","v":0},1.27,{"$f":"E195*H195","v":1.2827},null,{"$f":"E195*J195","v":0},null,null,null,2,null,null,null,null,null,null,null,null,null,null,null,3,1,"59224371.A.R",null,null,null,null,null,null,null,null,null,null,null,null,null,null,null,null,null,null,null,null,null,null,1,{"$f":"IF(AZ195=1,G195,0)","v":0},{"$f":"IF(AZ195=2,G195,0)","v":0},{"$f":"IF(AZ195=3,G195,0)","v":0},{"$f":"IF(AZ195=4,G195,0)","v":0},{"$f":"IF(AZ195=5,G195,0)","v":0},null,null,null,null,null,null,null,null,null,null,null,null,null,null,null,null,null,null,null,null,null,3,1]
[null,null,"Stoka \"A\" KT DN400:",null,0,null,null,null,null,null,null,null,"Stoka \"A\" KT DN400:"]
[null,null,"ŠD H575:1*1,01",null,1.01,null,null,null,null,null,null,null,"ŠD H575:1*1,01"]
[42,"59224373.A.R","Dno šachetní TBZ-Q.1 100/68 KOM V30 včetně kynety dle PD","kus",5.05,null,{"$f":"E198*F198","v":0},1.45,{"$f":"E198*H198","v":7.3224999999999998},null,{"$f":"E198*J198","v":0},null,null,null,2,null,null,null,null,null,null,null,null,null,null,null,3,1,"59224373.A.R",null,null,null,null,null,null,null,null,null,null,null,null,null,null,null,null,null,null,null,null,null,null,1,{"$f":"IF(AZ198=1,G198,0)","v":0},{"$f":"IF(AZ198=2,G198,0)","v":0},{"$f":"IF(AZ198=3,G198,0)","v":0},{"$f":"IF(AZ198=4,G198,0)","v":0},{"$f":"IF(AZ198=5,G198,0)","v":0},null,null,null,null,null,null,null,null,null,null,null,null,null,null,null,null,null,null,null,null,null,3,1]
[null,null,"Stoka \"A\" KT DN400:",null,0,null,null,null,null,null,null,null,"Stoka \"A\" KT DN400:"]
[null,null,"ŠD H675:5*1,01",null,5.05,null,null,null,null,null,null,null,"ŠD H675:5*1,01"]
[43,"59224377.A.R","Dno šachetní TBZ-Q.1 100/108 KOM V80 včetně kynety dle PD","kus",1.01,null,{"$f":"E201*F201","v":0},2.59,{"$f":"E201*H201","v":2.6158999999999999},null,{"$f":"E201*J201","v":0},null,null,null,2,null,null,null,null,null,null,null,null,null,null,null,3,1,"59224377.A.R",null,null,null,null,null,null,null,null,null,null,null,null,null,null,null,null,null,null,null,null,null,null,1,{"$f":"IF(AZ201=1,G201,0)","v":0},{"$f":"IF(AZ201=2,G201,0)","v":0},{"$f":"IF(AZ201=3,G201,0)","v":0},{"$f":"IF(AZ201=4,G201,0)","v":0},{"$f":"IF(AZ201=5,G201,0)","v":0},null,null,null,null,null,null,null,null,null,null,null,null,null,null,null,null,null,null,null,null,null,3,1]
[null,null,"Stoka \"A\" KT DN400:",null,0,null,null,null,null,null,null,null,"Stoka \"A\" KT DN400:"]
[null,null,"ŠD H1130:1*1,01",null,1.01,null,null,null,null,null,null,null,"ŠD H1130:1*1,01"]
[44,"59224380.R","Těsnění elastom pro šach díly EMT 100/1.7 - DN1000","kus",19.190000000000001,null,{"$f":"E204*F204","v":0},2E-3,{"$f":"E204*H204","v":3.8380000000000004E-2},null,{"$f":"E204*J204","v":0},null,null,null,2,null,null,null,null,null,null,null,null,null,null,null,3,1,"59224380.R",null,null,null,null,null,null,null,null,null,null,null,null,null,null,null,null,null,null,null,null,null,null,1,{"$f":"IF(AZ204=1,G204,0)","v":0},{"$f":"IF(AZ204=2,G204,0)","v":0},{"$f":"IF(AZ204=3,G204,0)","v":0},{"$f":"IF(AZ204=4,G204,0)","v":0},{"$f":"IF(AZ204=5,G204,0)","v":0},null,null,null,null,null,null,null,null,null,null,null,null,null,null,null,null,null,null,null,null,null,3,1]
[null,null,"Stoka \"A\" KT DN400:",null,0,null,null,null,null,null,null,null,"Stoka \"A\" KT DN400:"]
[null,null,"Těsnění DN1000:19*1,01",null,19.190000000000001,null,null,null,null,null,null,null,"Těsnění DN1000:19*1,01"]
[45,"59710700.A.R","Trouba kameninová hrdlová DN 400, l=2,50 m, FN 64","m",168.84520000000001,null,{"$f":"E207*F207","v":0},0.13600000000000001,{"$f":"E207*H207","v":22.962947200000002},null,{"$f":"E207*J207","v":0},null,null,null,2,null,null,null,null,null,null,null,null,null,null,null,3,1,"59710700.A.R",null,null,null,null,null,null,null,null,null,null,null,null,null,null,null,null,null,null,null,null,null,null,1,{"$f":"IF(AZ207=1,G207,0)","v":0},{"$f":"IF(AZ207=2,G207,0)","v":0},{"$f":"IF(AZ207=3,G207,0)","v":0},{"$f":"IF(AZ207=4,G207,0)","v":0},{"$f":"IF(AZ207=5,G207,0)","v":0},null,null,null,null,null,null,null,null,null,null,null,null,null,null,null,null,null,null,null,null,null,3,1]
[null,null,"Hrdlové trouby KeraBase pro použití v komunální a průmyslové kanalizační systémy.",null,null,null,null,null,null,null,null,"Hrdlové trouby KeraBase pro použití v komunální a průmyslové kanalizační systémy.",null,null,3]
[null,null,"Otevřený výkop, normální zatížení.",null,null,null,null,null,null,null,null,"Otevřený výkop, normální zatížení.",null,null,3]
[null,null,"DN 400",null,null,null,null,null,null,null,null,"DN 400",null,null,3]
[null,null,"Délka 250 cm",null,null,null,null,null,null,null,null,"Délka 250 cm",null,null,3]
[null,null,"FN 64 kN/m",null,null,null,null,null,null,null,null,"FN 64 kN/m",null,null,3]
[null,null,"Hmotnost 350 kg/ks",null,null,null,null,null,null,null,null,"Hmotnost 350 kg/ks",null,null,3]
[null,null,"Hrdlo K/S",null,null,null,null,null,null,null,null,"Hrdlo K/S",null,null,3]
[null,null,"Třída pevnosti 160",null,null,null,null,null,null,null,null,"Třída pevnosti 160",null,null,3]
[null,null,"Stoka \"A\" KT DN400:179,10*1,015",null,181.78649999999999,null,null,null,null,null,null,null,"Stoka \"A\" KT DN400:179,10*1,015"]
[null,null,"Odpočet - Odbočka DN400/200:-0,75*5*1,015",null,-3.8062,null,null,null,null,null,null,null,"Odpočet - Odbočka DN400/200:-0,75*5*1,015"]
[null,null,"Odpočet  - Tvarovky GA a GZ:-0,75*(6+6)*1,015",null,-9.1349999999999998,null,null,null,null,null,null,null,"Odpočet  - Tvarovky GA a GZ:-0,75*(6+6)*1,015"]
[46,"59710826.A.R","Trouba kameninová zkrácená GZ DN 400, FN 64","kus",6.09,null,{"$f":"E219*F219","v":0},0.115,{"$f":"E219*H219","v":0.70035000000000003},null,{"$f":"E219*J219","v":0},null,null,null,2,null,null,null,null,null,null,null,null,null,null,null,3,1,"59710826.A.R",null,null,null,null,null,null,null,null,null,null,null,null,null,null,null,null,null,null,null,null,null,null,1,{"$f":"IF(AZ219=1,G219,0)","v":0},{"$f":"IF(AZ219=2,G219,0)","v":0},{"$f":"IF(AZ219=3,G219,0)","v":0},{"$f":"IF(AZ219=4,G219,0)","v":0},{"$f":"IF(AZ219=5,G219,0)","v":0},null,null,null,null,null,null,null,null,null,null,null,null,null,null,null,null,null,null,null,null,null,3,1]
[null,null,"Zkrácené trouby KeraBase GZ pro použití v komunální a průmyslové kanalizační systémy.",null,null,null,null,null,null,null,null,"Zkrácené trouby KeraBase GZ pro použití v komunální a průmyslové kanalizační systémy.",null,null,3]
[null,null,"Otevřený výkop, normální zatížení.",null,null,null,null,null,null,null,null,"Otevřený výkop, normální zatížení.",null,null,3]
[null,null,"DN 400",null,null,null,null,null,null,null,null,"DN 400",null,null,3]
[null,null,"Délka 75 cm",null,null,null,null,null,null,null,null,"Délka 75 cm",null,null,3]
[null,null,"FN 64 kN/m",null,null,null,null,null,null,null,null,"FN 64 kN/m",null,null,3]
[null,null,"Hmotnost 115 kg/ks",null,null,null,null,null,null,null,null,"Hmotnost 115 kg/ks",null,null,3]
[null,null,"Hrdlo K",null,null,null,null,null,null,null,null,"Hrdlo K",null,null,3]
[null,null,"Třída pevnosti 160",null,null,null,null,null,null,null,null,"Třída pevnosti 160",null,null,3]
[null,null,"Stoka \"A\" KT DN400:",null,0,null,null,null,null,null,null,null,"Stoka \"A\" KT DN400:"]
[null,null,"Tvarovky GZ DN400:6*1,015",null,6.09,null,null,null,null,null,null,null,"Tvarovky GZ DN400:6*1,015"]
[47,"59710839.A.R","Trouba kameninová zkrácená GA DN 400, FN 64","kus",6.09,null,{"$f":"E230*F230","v":0},9.5000000000000001E-2,{"$f":"E230*H230","v":0.57855000000000001},null,{"$f":"E230*J230","v":0},null,null,null,2,null,null,null,null,null,null,null,null,null,null,null,3,1,"59710839.A.R",null,null,null,null,null,null,null,null,null,null,null,null,null,null,null,null,null,null,null,null,null,null,1,{"$f":"IF(AZ230=1,G230,0)","v":0},{"$f":"IF(AZ230=2,G230,0)","v":0},{"$f":"IF(AZ230=3,G230,0)","v":0},{"$f":"IF(AZ230=4,G230,0)","v":0},{"$f":"IF(AZ230=5,G230,0)","v":0},null,null,null,null,null,null,null,null,null,null,null,null,null,null,null,null,null,null,null,null,null,3,1]
[null,null,"Zkrácené trouby KeraBase GA pro použití v komunální a průmyslové kanalizační systémy.",null,null,null,null,null,null,null,null,"Zkrácené trouby KeraBase GA pro použití v komunální a průmyslové kanalizační systémy.",null,null,3]
[null,null,"Otevřený výkop, normální zatížení.",null,null,null,null,null,null,null,null,"Otevřený výkop, normální zatížení.",null,null,3]
[null,null,"DN 400",null,null,null,null,null,null,null,null,"DN 400",null,null,3]
[null,null,"Délka 75 cm",null,null,null,null,null,null,null,null,"Délka 75 cm",null,null,3]
[null,null,"FN 64 kN/m",null,null,null,null,null,null,null,null,"FN 64 kN/m",null,null,3]
[null,null,"Hmotnost 95 kg/ks",null,null,null,null,null,null,null,null,"Hmotnost 95 kg/ks",null,null,3]
[null,null,"Hrdlo K",null,null,null,null,null,null,null,null,"Hrdlo K",null,null,3]
[null,null,"Třída pevnosti 160",null,null,null,null,null,null,null,null,"Třída pevnosti 160",null,null,3]
[null,null,"Stoka \"A\" KT DN400:",null,0,null,null,null,null,null,null,null,"Stoka \"A\" KT DN400:"]
[null,null,"Tvarovky GA DN400:6*1,015",null,6.09,null,null,null,null,null,null,null,"Tvarovky GA DN400:6*1,015"]
[48,"59711561.R","Odbočka 90° kamenina hrdlová 400/200 FN 64/34","kus",5.0750000000000002,null,{"$f":"E241*F241","v":0},0.14499999999999999,{"$f":"E241*H241","v":0.73587499999999995},null,{"$f":"E241*J241","v":0},null,null,null,2,null,null,null,null,null,null,null,null,null,null,null,3,1,"59711561.R",null,null,null,null,null,null,null,null,null,null,null,null,null,null,null,null,null,null,null,null,null,null,1,{"$f":"IF(AZ241=1,G241,0)","v":0},{"$f":"IF(AZ241=2,G241,0)","v":0},{"$f":"IF(AZ241=3,G241,0)","v":0},{"$f":"IF(AZ241=4,G241,0)","v":0},{"$f":"IF(AZ241=5,G241,0)","v":0},null,null,null,null,null,null,null,null,null,null,null,null,null,null,null,null,null,null,null,null,null,3,1]
[null,null,"KeraBase odbočky 90° pro normální zatížení.",null,null,null,null,null,null,null,null,"KeraBase odbočky 90° pro normální zatížení.",null,null,3]
[null,null,"Specif. 90° pravá/levá",null,null,null,null,null,null,null,null,"Specif. 90° pravá/levá",null,null,3]
[null,null,"Profil DN 400/200",null,null,null,null,null,null,null,null,"Profil DN 400/200",null,null,3]
[null,null,"Délka 100 cm",null,null,null,null,null,null,null,null,"Délka 100 cm",null,null,3]
[null,null,"Třída pevnosti 160/-",null,null,null,null,null,null,null,null,"Třída pevnosti 160/-",null,null,3]
[null,null,"Mezní únosnost FN 64/34 kN/m",null,null,null,null,null,null,null,null,"Mezní únosnost FN 64/34 kN/m",null,null,3]
[null,null,"Hmotnost 145 kg/ks",null,null,null,null,null,null,null,null,"Hmotnost 145 kg/ks",null,null,3]
[null,null,"Hrdlo KL",null,null,null,null,null,null,null,null,"Hrdlo KL",null,null,3]
[null,null,"levá - bílé značení",null,null,null,null,null,null,null,null,"levá - bílé značení",null,null,3]
[null,null,"pravá - červené značení",null,null,null,null,null,null,null,null,"pravá - červené značení",null,null,3]
[null,null,"Stoka \"A\" KT DN400:",null,0,null,null,null,null,null,null,null,"Stoka \"A\" KT DN400:"]
[null,null,"Odbočka DN400/200:5*1,015",null,5.0750000000000002,null,null,null,null,null,null,null,"Odbočka DN400/200:5*1,015"]
[49,"59711607.R","P-kroužek pro DN400","kus",10.15,null,{"$f":"E254*F254","v":0},0,{"$f":"E254*H254","v":0},null,{"$f":"E254*J254","v":0},null,null,null,2,null,null,null,null,null,null,null,null,null,null,null,3,1,"59711607.R",null,null,null,null,null,null,null,null,null,null,null,null,null,null,null,null,null,null,null,null,null,null,1,{"$f":"IF(AZ254=1,G254,0)","v":0},{"$f":"IF(AZ254=2,G254,0)","v":0},{"$f":"IF(AZ254=3,G254,0)","v":0},{"$f":"IF(AZ254=4,G254,0)","v":0},{"$f":"IF(AZ254=5,G254,0)","v":0},null,null,null,null,null,null,null,null,null,null,null,null,null,null,null,null,null,null,null,null,null,3,1]
[null,null,"Stoka \"A\" KT DN400:",null,0,null,null,null,null,null,null,null,"Stoka \"A\" KT DN400:"]
[null,null,"P-kroužek DN400:10*1,015",null,10.15,null,null,null,null,null,null,null,"P-kroužek DN400:10*1,015"]
[null,"Celkem za","8 Trubní vedení",null,null,null,{"$f":"SUM(G129:G256)","v":0},null,{"$f":"SUM(I129:I256)","v":49.8716632},null,{"$f":"SUM(K129:K256)","v":0},null,null,null,4,null,null,null,null,null,null,null,null,null,null,null,null,null,null,null,null,null,null,null,null,null,null,null,null,null,null,null,null,null,null,null,null,null,null,null,null,null,{"$f":"SUM(BA129:BA256)","v":0},{"$f":"SUM(BB129:BB256)","v":0},{"$f":"SUM(BC129:BC256)","v":0},{"$f":"SUM(BD129:BD256)","v":0},{"$f":"SUM(BE129:BE256)","v":0}]
["Díl:","93","Dokončovací práce inženýrských staveb",null,null,null,null,null,null,null,null,null,null,null,1]
[50,"939421111RT1","Osazení samonivelač.kanalizač.poklopu za finišerem bez dodávky poklopu","kus",7,null,{"$f":"E259*F259","v":0},0.15425,{"$f":"E259*H259","v":1.07975},0,{"$f":"E259*J259","v":0},null,null,null,2,null,null,null,null,null,null,null,null,null,null,null,1,0,0,null,null,null,null,null,null,null,null,null,null,null,null,null,null,null,null,null,null,null,null,null,null,1,{"$f":"IF(AZ259=1,G259,0)","v":0},{"$f":"IF(AZ259=2,G259,0)","v":0},{"$f":"IF(AZ259=3,G259,0)","v":0},{"$f":"IF(AZ259=4,G259,0)","v":0},{"$f":"IF(AZ259=5,G259,0)","v":0},null,null,null,null,null,null,null,null,null,null,null,null,null,null,null,null,null,null,null,null,null,1,0]
[null,null,"Položka obsahuje:",null,null,null,null,null,null,null,null,"Položka obsahuje:",null,null,3]
[null,null," osazení prefabrikovaného betonového prstence do rychletuhnoucí vysokopevnostní malty (s dodávkou hmot)",null,null,null,null,null,null,null,null,"- osazení prefabrikovaného betonového prstence do rychletuhnoucí malty (s dodávkou hmot)",null,null,3]
[null,null,"- zalití prstence rychletuhnoucí zálivkou do výše prstence (s dodávkou hmoty)",null,null,null,null,null,null,null,null,"- zalití prstence rychletuhnoucí zálivkou do výše prstence (s dodávkou hmoty)",null,null,3]
[null,null,"- vložení kruhového bednění",null,null,null,null,null,null,null,null,"- vložení kruhového bednění",null,null,3]
[null,null,"- doplnění mezikruží asfaltovou směsí do výšky současné podkladní vrstvy, zhutnění",null,null,null,null,null,null,null,null,"- doplnění mezikruží asfaltovou směsí do výšky současné podkladní vrstvy, zhutnění",null,null,3]
[null,null,"- vyjmutí kruhového bednění",null,null,null,null,null,null,null,null,"- vyjmutí kruhového bednění",null,null,3]
[null,null,"- osazení poklopu a zatlačení",null,null,null,null,null,null,null,null,"- osazení poklopu a zatlačení",null,null,3]
[null,null,"  (následuje pokládka finální vrstvy vozovky - není součástí položky)",null,null,null,null,null,null,null,null,"  (následuje pokládka finální vrstvy vozovky - není součástí položky)",null,null,3]
[null,null,"- povytažení poklopu",null,null,null,null,null,null,null,null,"- povytažení poklopu",null,null,3]
[null,null,"- podsyp asfaltovou směsí, spuštění poklopu a zhutnění směsi",null,null,null,null,null,null,null,null,"- podsyp asfaltovou směsí, spuštění poklopu a zhutnění směsi",null,null,3]
[51,"55244414.R","Poklop celolitinový v samonivelační rámu KDM65 D400 SN600","kus",7,null,{"$f":"E270*F270","v":0},0.113,{"$f":"E270*H270","v":0.79100000000000004},null,{"$f":"E270*J270","v":0},null,null,null,2,null,null,null,null,null,null,null,null,null,null,null,3,1,"55244414.R",null,null,null,null,null,null,null,null,null,null,null,null,null,null,null,null,null,null,null,null,null,null,1,{"$f":"IF(AZ270=1,G270,0)","v":0},{"$f":"IF(AZ270=2,G270,0)","v":0},{"$f":"IF(AZ270=3,G270,0)","v":0},{"$f":"IF(AZ270=4,G270,0)","v":0},{"$f":"IF(AZ270=5,G270,0)","v":0},null,null,null,null,null,null,null,null,null,null,null,null,null,null,null,null,null,null,null,null,null,3,1]
[null,null,"Kanalizační kruhový celolitinový samonivelační poklop bez pantu, horizontální PUR tlumící vložka na rámu, horizontální a vertikální  PUR tlumící vložka na víku, bez pružinového zajištění víka v rámu ",null,null,null,null,null,null,null,null,"Kanalizační kruhový celolitinový samonivelační poklop bez pantu, horizontální PUR tlumící vložka na rámu, horizontální a vertikální  PUR tlumící vložka na víku, bez pružinového zajištění víka v rámu ",null,null,3]
[null,null,"KDM65 bez ventilace nebo s ventilací dle TS VHS Turnov",null,null,null,null,null,null,null,null,"KDM65 bez ventilace nebo s ventilací dle TS VHS Turnov",null,null,3]
[null,null,"Víko se znakem Města ",null,null,null,null,null,null,null,null,"Víko se znakem Města ",null,null,3]
[null,"Celkem za","93 Dokončovací práce inženýrských staveb",null,null,null,{"$f":"SUM(G258:G273)","v":0},null,{"$f":"SUM(I258:I273)","v":1.8707500000000001},null,{"$f":"SUM(K258:K273)","v":0},null,null,null,4,null,null,null,null,null,null,null,null,null,null,null,null,null,null,null,null,null,null,null,null,null,null,null,null,null,null,null,null,null,null,null,null,null,null,null,null,null,{"$f":"SUM(BA258:BA273)","v":0},{"$f":"SUM(BB258:BB273)","v":0},{"$f":"SUM(BC258:BC273)","v":0},{"$f":"SUM(BD258:BD273)","v":0},{"$f":"SUM(BE258:BE273)","v":0}]
["Díl:","99","Staveništní přesun hmot",null,null,null,null,null,null,null,null,null,null,null,1]
[52,"998275101RRX","Přesun hmot, kanalizace kameninové, otevřený výkop pro celý rozsah stavby","t",1475.2460212230001,null,{"$f":"E276*F276","v":0},0,{"$f":"E276*H276","v":0},null,{"$f":"E276*J276","v":0},null,null,null,2,null,null,null,null,null,null,null,null,null,null,null,7,1,2,null,null,null,null,null,null,null,null,null,null,null,null,null,null,null,null,null,null,null,null,null,null,1,{"$f":"IF(AZ276=1,G276,0)","v":0},{"$f":"IF(AZ276=2,G276,0)","v":0},{"$f":"IF(AZ276=3,G276,0)","v":0},{"$f":"IF(AZ276=4,G276,0)","v":0},{"$f":"IF(AZ276=5,G276,0)","v":0},null,null,null,null,null,null,null,null,null,null,null,null,null,null,null,null,null,null,null,null,null,7,1]
[null,null,"Staveništní doprava pro celý rozsah objektu - doprava zmeziskládek vybudovaného zařízení staveniště zhotovitele na jednotlivé části staveniště.",null,null,null,null,null,null,null,null,"Staveništní doprava pro celý rozsah objektu - doprava zmeziskládek vybudovaného zařízení staveniště zhotovitele na jednotlivé části staveniště.",null,null,3]
[null,"Celkem za","99 Staveništní přesun hmot",null,null,null,{"$f":"SUM(G275:G277)","v":0},null,{"$f":"SUM(I275:I277)","v":0},null,{"$f":"SUM(K275:K277)","v":0},null,null,null,4,null,null,null,null,null,null,null,null,null,null,null,null,null,null,null,null,null,null,null,null,null,null,null,null,null,null,null,null,null,null,null,null,null,null,null,null,null,{"$f":"SUM(BA275:BA277)","v":0},{"$f":"SUM(BB275:BB277)","v":0},{"$f":"SUM(BC275:BC277)","v":0},{"$f":"SUM(BD275:BD277)","v":0},{"$f":"SUM(BE275:BE277)","v":0}]

{"sheet":"01 01.02 KL","index":4,"n_rows":45,"n_cols":8,"rows_kept":45,"cut":false,"hidden":false,"merged":[[22,0,22,1],[7,2,7,4],[8,2,8,4],[9,2,9,4],[10,2,10,4],[11,2,11,4],[50,1,50,6],[29,5,29,6],[30,5,30,6],[31,5,31,6],[32,5,32,6],[33,5,33,6],[36,1,44,6],[45,1,45,6],[46,1,46,6],[47,1,47,6],[48,1,48,6],[49,1,49,6]]}
["POLOŽKOVÝ ROZPOČET"]
["Rozpočet",null,"01.02","Stoka \"A.1\" km 0,000 - 0,532.3",null,"JKSO ","827.21.A3"]
[]
["Objekt",null,null,null,null,"SKP "]
["01",null,"Kanalizace",null,null,"Měrná jednotka","m"]
["Stavba",null,null,null,null,"Počet jednotek",0]
["3395",null,"Kanalizace a ČOV Benešov u Semil",null,null,"Náklady na m.j.",{"$f":"IF(G6=0,,ROUND((F30+F32)/G6,1))","v":0}]
["Projektant",null,"Vodohospodářský rozvoj a výstavba a.s.",null,null,"Typ rozpočtu"]
["Zpracovatel projektu"]
["Objednatel",null,"Vodohospodářské sdružení Turnov"]
["Dodavatel",null,".",null,null,"Zakázkové číslo "]
["Rozpočtoval",null,null,null,null,"Počet listů"]
["ROZPOČTOVÉ NÁKLADY"]
["Základní rozpočtové náklady"]
[null,"HSV celkem",{"$f":"'01 01.02 Rek'!E14","v":0}]
["Z","PSV celkem",{"$f":"'01 01.02 Rek'!F14","v":0}]
["R","M práce celkem",{"$f":"'01 01.02 Rek'!H14","v":0}]
["N","M dodávky celkem",{"$f":"'01 01.02 Rek'!G14","v":0}]
["ZRN celkem",null,{"$f":"SUM(C15:C18)","v":0}]
[]
["HZS",null,{"$f":"'01 01.02 Rek'!I14","v":0}]
["ZRN+HZS",null,{"$f":"C19+C21","v":0}]
["ZRN+ost.náklady+HZS",null,{"$f":"C22+G23","v":0}]
["Vypracoval",null,null,"Za zhotovitele",null,"Za objednatele"]
["Jméno :",null,null,"Jméno :",null,"Jméno :"]
["Datum :",null,null,"Datum :",null,"Datum :"]
[]
["Podpis :",null,null,"Podpis:",null,"Podpis:"]
[]
["Základ pro DPH",null,21,"%  ",null,{"$f":"C23-F32","v":0}]
["DPH",null,{"$f":"C30","v":21},"% ",null,{"$f":"ROUND(PRODUCT(F30,C31/100),0)","v":0}]
["Základ pro DPH",null,0,"% ",null,0]
["DPH",null,{"$f":"C32","v":0},"% ",null,{"$f":"ROUND(PRODUCT(F32,C33/100),0)","v":0}]
["CENA ZA OBJEKT CELKEM",null,null,null,null,{"$f":"ROUND(SUM(F30:F33),0)","v":0}]
[]
["Poznámka :",null,null,null,null,null,null," "]
[null,null,null,null,null,null,null," "]
[null,null,null,null,null,null,null," "]
[null,null,null,null,null,null,null," "]
[null,null,null,null,null,null,null," "]
[null,null,null,null,null,null,null," "]
[null,null,null,null,null,null,null," "]
[null,null,null,null,null,null,null," "]
[null,null,null,null,null,null,null," "]
[null,null,null,null,null,null,null," "]

{"sheet":"01 01.02 Rek","index":5,"n_rows":14,"n_cols":9,"rows_kept":14,"cut":false,"hidden":false,"merged":[[0,0,0,1],[1,0,1,1],[1,6,1,8]]}
["Stavba :",null,"3395 Kanalizace a ČOV Benešov u Semil",null,null,null,"Rozpočet :","01.02"]
["Objekt :",null,"01 Kanalizace",null,null,null,"Stoka \"A.1\" km 0,000 - 0,532.3"]
[]
["REKAPITULACE  STAVEBNÍCH  DÍLŮ"]
[]
[null,"Stavební díl",null,null,"HSV","PSV","Dodávka","Montáž","HZS"]
[{"$f":"'01 01.02 Pol'!B7","v":"1"},{"$f":"'01 01.02 Pol'!C7","v":"Zemní práce"},null,null,{"$f":"'01 01.02 Pol'!BA114","v":0},{"$f":"'01 01.02 Pol'!BB114","v":0},{"$f":"'01 01.02 Pol'!BC114","v":0},{"$f":"'01 01.02 Pol'!BD114","v":0},{"$f":"'01 01.02 Pol'!BE114","v":0}]
[{"$f":"'01 01.02 Pol'!B115","v":"21"},{"$f":"'01 01.02 Pol'!C115","v":"Úprava podloží a základ.spáry"},null,null,{"$f":"'01 01.02 Pol'!BA119","v":0},{"$f":"'01 01.02 Pol'!BB119","v":0},{"$f":"'01 01.02 Pol'!BC119","v":0},{"$f":"'01 01.02 Pol'!BD119","v":0},{"$f":"'01 01.02 Pol'!BE119","v":0}]
[{"$f":"'01 01.02 Pol'!B120","v":"45"},{"$f":"'01 01.02 Pol'!C120","v":"Podkladní a vedlejší konstrukce"},null,null,{"$f":"'01 01.02 Pol'!BA153","v":0},{"$f":"'01 01.02 Pol'!BB153","v":0},{"$f":"'01 01.02 Pol'!BC153","v":0},{"$f":"'01 01.02 Pol'!BD153","v":0},{"$f":"'01 01.02 Pol'!BE153","v":0}]
[{"$f":"'01 01.02 Pol'!B154","v":"5"},{"$f":"'01 01.02 Pol'!C154","v":"Komunikace"},null,null,{"$f":"'01 01.02 Pol'!BA159","v":0},{"$f":"'01 01.02 Pol'!BB159","v":0},{"$f":"'01 01.02 Pol'!BC159","v":0},{"$f":"'01 01.02 Pol'!BD159","v":0},{"$f":"'01 01.02 Pol'!BE159","v":0}]
[{"$f":"'01 01.02 Pol'!B160","v":"8"},{"$f":"'01 01.02 Pol'!C160","v":"Trubní vedení"},null,null,{"$f":"'01 01.02 Pol'!BA299","v":0},{"$f":"'01 01.02 Pol'!BB299","v":0},{"$f":"'01 01.02 Pol'!BC299","v":0},{"$f":"'01 01.02 Pol'!BD299","v":0},{"$f":"'01 01.02 Pol'!BE299","v":0}]
[{"$f":"'01 01.02 Pol'!B300","v":"93"},{"$f":"'01 01.02 Pol'!C300","v":"Dokončovací práce inženýrských staveb"},null,null,{"$f":"'01 01.02 Pol'!BA316","v":0},{"$f":"'01 01.02 Pol'!BB316","v":0},{"$f":"'01 01.02 Pol'!BC316","v":0},{"$f":"'01 01.02 Pol'!BD316","v":0},{"$f":"'01 01.02 Pol'!BE316","v":0}]
[{"$f":"'01 01.02 Pol'!B317","v":"99"},{"$f":"'01 01.02 Pol'!C317","v":"Staveništní přesun hmot"},null,null,{"$f":"'01 01.02 Pol'!BA320","v":0},{"$f":"'01 01.02 Pol'!BB320","v":0},{"$f":"'01 01.02 Pol'!BC320","v":0},{"$f":"'01 01.02 Pol'!BD320","v":0},{"$f":"'01 01.02 Pol'!BE320","v":0}]
[null,"CELKEM  OBJEKT",null,null,{"$f":"SUM(E7:E13)","v":0},{"$f":"SUM(F7:F13)","v":0},{"$f":"SUM(G7:G13)","v":0},{"$f":"SUM(H7:H13)","v":0},{"$f":"SUM(I7:I13)","v":0}]

{"sheet":"01 01.02 Pol","index":6,"n_rows":320,"n_cols":80,"rows_kept":320,"cut":false,"hidden":false,"merged":[[13,2,13,3],[14,2,14,3],[15,2,15,3],[17,2,17,6],[18,2,18,3],[19,2,19,3],[0,0,0,6],[2,0,2,1],[3,0,3,1],[3,4,3,6],[8,2,8,6],[9,2,9,6],[11,2,11,6],[12,2,12,6],[26,2,26,3],[27,2,27,3],[28,2,28,3],[29,2,29,3],[30,2,30,3],[31,2,31,3],[20,2,20,3],[21,2,21,3],[22,2,22,3],[23,2,23,3],[24,2,24,3],[25,2,25,3],[40,2,40,3],[41,2,41,3],[43,2,43,3],[44,2,44,3],[45,2,45,3],[47,2,47,6],[32,2,32,3],[34,2,34,3],[35,2,35,3],[36,2,36,3],[38,2,38,6],[39,2,39,3],[55,2,55,3],[56,2,56,3],[57,2,57,3],[59,2,59,3],[60,2,60,3],[61,2,61,3],[48,2,48,3],[49,2,49,3],[50,2,50,3],[52,2,52,3],[53,2,53,3],[54,2,54,3],[69,2,69,3],[71,2,71,3],[72,2,72,3],[73,2,73,3],[74,2,74,3],[76,2,76,3],[62,2,62,3],[64,2,64,3],[65,2,65,3],[66,2,66,3],[67,2,67,3],[68,2,68,3],[84,2,84,3],[85,2,85,3],[86,2,86,3],[87,2,87,3],[88,2,88,3],[89,2,89,3],[77,2,77,3],[78,2,78,3],[80,2,80,6],[81,2,81,6],[82,2,82,3],[83,2,83,3],[98,2,98,3],[100,2,100,3],[101,2,101,3],[102,2,102,3],[104,2,104,3],[105,2,105,3],[90,2,90,3],[92,2,92,3],[93,2,93,3],[94,2,94,3],[96,2,96,3],[97,2,97,3],[112,2,112,3],[116,2,116,3],[117,2,117,3],[132,2,132,3],[134,2,134,6],[135,2,135,3],[136,2,136,3],[106,2,106,3],[107,2,107,3],[108,2,108,3],[109,2,109,3],[110,2,110,3],[111,2,111,3],[121,2,121,3],[122,2,122,3],[124,2,124,6],[125,2,125,3],[126,2,126,3],[127,2,127,3],[128,2,128,3],[129,2,129,3],[131,2,131,3],[147,2,147,3],[148,2,148,3],[150,2,150,3],[151,2,151,3],[155,2,155,3],[156,2,156,3],[157,2,157,3],[138,2,138,3],[139,2,139,3],[141,2,141,3],[142,2,142,3],[144,2,144,3],[145,2,145,3],[171,2,171,3],[172,2,172,3],[174,2,174,6],[175,2,175,6],[176,2,176,6],[177,2,177,6],[161,2,161,6],[162,2,162,3],[163,2,163,3],[165,2,165,3],[166,2,166,3],[168,2,168,6],[169,2,169,3],[170,2,170,3],[185,2,185,3],[187,2,187,6],[188,2,188,6],[189,2,189,3],[190,2,190,3],[191,2,191,3],[178,2,178,3],[179,2,179,3],[180,2,180,3],[182,2,182,6],[183,2,183,3],[184,2,184,3],[200,2,200,3],[202,2,202,6],[203,2,203,6],[204,2,204,6],[205,2,205,3],[206,2,206,3],[193,2,193,6],[194,2,194,6],[195,2,195,3],[196,2,196,3],[198,2,198,6],[199,2,199,3],[218,2,218,3],[219,2,219,3],[221,2,221,6],[222,2,222,6],[223,2,223,3],[224,2,224,3],[207,2,207,3],[209,2,209,6],[211,2,211,6],[213,2,213,6],[215,2,215,6],[217,2,217,3],[232,2,232,3],[233,2,233,3],[235,2,235,3],[236,2,236,3],[237,2,237,3],[239,2,239,3],[226,2,226,6],[227,2,227,6],[228,2,228,6],[229,2,229,6],[230,2,230,6],[231,2,231,3],[249,2,249,3],[251,2,251,3],[252,2,252,3],[254,2,254,3],[255,2,255,3],[257,2,257,3],[240,2,240,3],[242,2,242,3],[243,2,243,3],[245,2,245,3],[246,2,246,3],[248,2,248,3],[265,2,265,6],[266,2,266,6],[267,2,267,6],[268,2,268,6],[269,2,269,3],[270,2,270,3],[258,2,258,3],[260,2,260,6],[261,2,261,6],[262,2,262,6],[263,2,263,6],[264,2,264,6],[278,2,278,6],[279,2,279,6],[280,2,280,6],[281,2,281,3],[282,2,282,3],[284,2,284,6],[271,2,271,3],[273,2,273,6],[274,2,274,6],[275,2,275,6],[276,2,276,6],[277,2,277,6],[291,2,291,6],[292,2,292,6],[293,2,293,3],[294,2,294,3],[296,2,296,3],[297,2,297,3],[285,2,285,6],[286,2,286,6],[287,2,287,6],[288,2,288,6],[289,2,289,6],[290,2,290,6],[318,2,318,6],[309,2,309,6],[310,2,310,6],[312,2,312,6],[313,2,313,6],[314,2,314,6],[301,2,301,6],[302,2,302,6],[303,2,303,6],[304,2,304,6],[305,2,305,6],[306,2,306,6],[307,2,307,6],[308,2,308,6]]}
["Položkový rozpočet "]
[]
["Stavba :",null,"3395 Kanalizace a ČOV Benešov u Semil",null,"Rozpočet:",{"$f":"'01 01.02 Rek'!H1","v":"01.02"}]
["Objekt :",null,"01 Kanalizace",null,{"$f":"'01 01.02 Rek'!G2","v":"Stoka \"A.1\" km 0,000 - 0,532.3"}]
[]
["P.č.","Číslo položky","Název položky","MJ","množství","cena / MJ","celkem (Kč)","Jednotková hmotnost","Celková hmotnost","Jednotková dem.hmot.","Celková dem.hmot."]
["Díl:","1","Zemní práce",null,null,null,null,null,null,null,null,null,null,null,1]
[1,"115101201RRX","Přečerpávání nebo převedení splašků a dešť. vod ","h",520,null,{"$f":"E8*F8","v":0},0,{"$f":"E8*H8","v":0},0,{"$f":"E8*J8","v":0},null,null,null,2,null,null,null,null,null,null,null,null,null,null,null,1,1,1,null,null,null,null,null,null,null,null,null,null,null,null,null,null,null,null,null,null,null,null,null,null,1,{"$f":"IF(AZ8=1,G8,0)","v":0},{"$f":"IF(AZ8=2,G8,0)","v":0},{"$f":"IF(AZ8=3,G8,0)","v":0},{"$f":"IF(AZ8=4,G8,0)","v":0},{"$f":"IF(AZ8=5,G8,0)","v":0},null,null,null,null,null,null,null,null,null,null,null,null,null,null,null,null,null,null,null,null,null,1,1]
[null,null,"Převedení a čerpání splašků nebo dešťových vod dle zvolené technologie zhotovitele stavby.",null,null,null,null,null,null,null,null,"Převedení a čerpání splašků nebo dešťových vod dle zvolené technologie zhotovitele stavby.",null,null,3]
[null,null,"(Množství bude určeno na stavbě dle skutečnosti)",null,null,null,null,null,null,null,null,"(Množství bude určeno na stavbě dle skutečnosti)",null,null,3]
[2,"130001101RRX","Příplatek za ztížené hloubení v blízkosti vedení ","m3",188.48439999999999,null,{"$f":"E11*F11","v":0},0,{"$f":"E11*H11","v":0},0,{"$f":"E11*J11","v":0},null,null,null,2,null,null,null,null,null,null,null,null,null,null,null,1,1,1,null,null,null,null,null,null,null,null,null,null,null,null,null,null,null,null,null,null,null,null,null,null,1,{"$f":"IF(AZ11=1,G11,0)","v":0},{"$f":"IF(AZ11=2,G11,0)","v":0},{"$f":"IF(AZ11=3,G11,0)","v":0},{"$f":"IF(AZ11=4,G11,0)","v":0},{"$f":"IF(AZ11=5,G11,0)","v":0},null,null,null,null,null,null,null,null,null,null,null,null,null,null,null,null,null,null,null,null,null,1,1]
[null,null,"Včetně případných nutných dokopávem a ručního výkopu podél sousedících inženýrských sítí.",null,null,null,null,null,null,null,null,"Včetně případných nutných dokopávem a ručního výkopu podél sousedících inženýrských sítí.",null,null,3]
[null,null,"Součástí položky je i dočasné zajištění inženýrských sítí v prostoru výkopů (potrubí, kabely a pod.)",null,null,null,null,null,null,null,null,"Součástí položky je i dočasné zajištění inženýrských sítí v prostoru výkopů (potrubí, kabely a pod.)",null,null,3]
[null,null,"Stoka \"A.1\" KT DN300 a PVC DN315:",null,0,null,null,null,null,null,null,null,"Stoka \"A.1\" KT DN300 a PVC DN315:"]
[null,null,"Výkopy:",null,0,null,null,null,null,null,null,null,"Výkopy:"]
[null,null,"V hornině tř. 3 - 5 - 20%:942,4218*0,2",null,188.48439999999999,null,null,null,null,null,null,null,"V hornině tř. 3 - 5 - 20%:942,4218*0,2"]
[3,"132201212R00","Hloubení rýh š.do 200 cm hor.3 do 1000m3,STROJNĚ ","m3",565.45309999999995,null,{"$f":"E17*F17","v":0},0,{"$f":"E17*H17","v":0},0,{"$f":"E17*J17","v":0},null,null,null,2,null,null,null,null,null,null,null,null,null,null,null,1,1,1,null,null,null,null,null,null,null,null,null,null,null,null,null,null,null,null,null,null,null,null,null,null,1,{"$f":"IF(AZ17=1,G17,0)","v":0},{"$f":"IF(AZ17=2,G17,0)","v":0},{"$f":"IF(AZ17=3,G17,0)","v":0},{"$f":"IF(AZ17=4,G17,0)","v":0},{"$f":"IF(AZ17=5,G17,0)","v":0},null,null,null,null,null,null,null,null,null,null,null,null,null,null,null,null,null,null,null,null,null,1,1]
[null,null,"Položka obsahuje hloubení rýh traktorbagrem, naložení výkopku na dopravní prostředek pro svislé, nebo vodorovné přemístění, popř. přemístění výkopku do 3 m (po povrchu území), případné zajištění rypadel polštáři, udržování pracoviště a ochranu výkopiště proti stékání srážkové vody z okolního terénu i s jejím odvodněním, nebo odvedením, přesekání a odstranění kořenů ve výkopišti, odstranění napadávek, urovnání dna výkopu.",null,null,null,null,null,null,null,null,"Položka obsahuje hloubení rýh traktorbagrem, naložení výkopku na dopravní prostředek pro svislé, nebo vodorovné přemístění, popř. přemístění výkopku do 3 m (po povrchu území), případné zajištění rypadel polštáři, udržování pracoviště a ochranu výkopiště proti stékání srážkové vody z okolního terénu i s jejím odvodněním, nebo odvedením, přesekání a odstranění kořenů ve výkopišti, odstranění napadávek, urovnání dna výkopu.",null,null,3]
[null,null,"Stoka \"A.1\" KT DN300 a PVC DN315:",null,0,null,null,null,null,null,null,null,"Stoka \"A.1\" KT DN300 a PVC DN315:"]
[null,null,"Výkopy:",null,0,null,null,null,null,null,null,null,"Výkopy:"]
[null,null,"Začátek provozního součtu",null,0,null,null,null,null,null,null,null,"Začátek provozního součtu"]
[null,null,"ŠA-5 - ŠA.1-1:24,40*1,10*(2,75+1,90)/2",null,62.402999999999999,null,null,null,null,null,null,null,"ŠA-5 - ŠA.1-1:24,40*1,10*(2,75+1,90)/2"]
[null,null,"ŠA.1-1 - ŠA.1-7:(169,70-24,40)*1,10*(1,90+2,21)/2",null,328.45060000000001,null,null,null,null,null,null,null,"ŠA.1-1 - ŠA.1-7:(169,70-24,40)*1,10*(1,90+2,21)/2"]
[null,null,"ŠA.1-7 - ŠA.1-8:(189,90-169,70)*1,10*(2,21+2,56)/2",null,52.994700000000002,null,null,null,null,null,null,null,"ŠA.1-7 - ŠA.1-8:(189,90-169,70)*1,10*(2,21+2,56)/2"]
[null,null,"ŠA.1-8 - ŠA.1-10:(260,20-189,90)*1,10*(1,40+1,60)/2",null,115.995,null,null,null,null,null,null,null,"ŠA.1-8 - ŠA.1-10:(260,20-189,90)*1,10*(1,40+1,60)/2"]
[null,null,"ŠA.1-10 - ŠA.1-11:(266,20-260,20)*1,10*(1,60+4,11)/2",null,18.843,null,null,null,null,null,null,null,"ŠA.1-10 - ŠA.1-11:(266,20-260,20)*1,10*(1,60+4,11)/2"]
[null,null,"ŠA.1-11 - ŠA.1-21:(532,30-266,20)*1,1*(1,90+1,90)/2",null,556.149,null,null,null,null,null,null,null,"ŠA.1-11 - ŠA.1-21:(532,30-266,20)*1,1*(1,90+1,90)/2"]
[null,null,"Prohloubení pro RŠ:1,60*1,60*0,20*21",null,10.752000000000001,null,null,null,null,null,null,null,"Prohloubení pro RŠ:1,60*1,60*0,20*21"]
[null,null,"Rozšíření pro RŠ:1,60*(1,60-1,10)*33,16",null,26.527999999999999,null,null,null,null,null,null,null,"Rozšíření pro RŠ:1,60*(1,60-1,10)*33,16"]
[null,null,"Odpočet objemu konstrukce komunikace:-(245,80*1,10+(1,60*(1,60-1,10)*10))*0,45",null,-125.271,null,null,null,null,null,null,null,"Odpočet objemu konstrukce komunikace:-(245,80*1,10+(1,60*(1,60-1,10)*10))*0,45"]
[null,null,"-((532,30-245,80)*1,10+1,60*(1,60-1,10*11))*0,35",null,-104.4225,null,null,null,null,null,null,null,"-((532,30-245,80)*1,10+1,60*(1,60-1,10*11))*0,35"]
[null,null,"Konec provozního součtu",null,942.42179999999996,null,null,null,null,null,null,null,"Konec provozního součtu"]
[null,null,"V hornině tř. 3 - 60%:942,4218*0,6",null,565.45309999999995,null,null,null,null,null,null,null,"V hornině tř. 3 - 60%:942,4218*0,6"]
[4,"132201219R00","Přípl.za lepivost,hloubení rýh 200cm,hor.3,STROJNĚ ","m3",282.72649999999999,null,{"$f":"E34*F34","v":0},0,{"$f":"E34*H34","v":0},0,{"$f":"E34*J34","v":0},null,null,null,2,null,null,null,null,null,null,null,null,null,null,null,1,1,1,null,null,null,null,null,null,null,null,null,null,null,null,null,null,null,null,null,null,null,null,null,null,1,{"$f":"IF(AZ34=1,G34,0)","v":0},{"$f":"IF(AZ34=2,G34,0)","v":0},{"$f":"IF(AZ34=3,G34,0)","v":0},{"$f":"IF(AZ34=4,G34,0)","v":0},{"$f":"IF(AZ34=5,G34,0)","v":0},null,null,null,null,null,null,null,null,null,null,null,null,null,null,null,null,null,null,null,null,null,1,1]
[null,null,"Stoka \"A.1\" KT DN300 a PVC DN315:",null,0,null,null,null,null,null,null,null,"Stoka \"A.1\" KT DN300 a PVC DN315:"]
[null,null,"Výkopy:",null,0,null,null,null,null,null,null,null,"Výkopy:"]
[null,null,"V hornině tř. 3 - 60%:942,4218*0,6*0,5",null,282.72649999999999,null,null,null,null,null,null,null,"V hornině tř. 3 - 60%:942,4218*0,6*0,5"]
[5,"132301212R00","Hloubení rýh š.do 200 cm hor.4 do 1000 m3, STROJNĚ ","m3",282.72649999999999,null,{"$f":"E38*F38","v":0},0,{"$f":"E38*H38","v":0},0,{"$f":"E38*J38","v":0},null,null,null,2,null,null,null,null,null,null,null,null,null,null,null,1,1,1,null,null,null,null,null,null,null,null,null,null,null,null,null,null,null,null,null,null,null,null,null,null,1,{"$f":"IF(AZ38=1,G38,0)","v":0},{"$f":"IF(AZ38=2,G38,0)","v":0},{"$f":"IF(AZ38=3,G38,0)","v":0},{"$f":"IF(AZ38=4,G38,0)","v":0},{"$f":"IF(AZ38=5,G38,0)","v":0},null,null,null,null,null,null,null,null,null,null,null,null,null,null,null,null,null,null,null,null,null,1,1]
[null,null,"Položka obsahuje hloubení rýh traktorbagrem, naložení výkopku na dopravní prostředek pro svislé, nebo vodorovné přemístění, popř. přemístění výkopku do 3 m (po povrchu území), případné zajištění rypadel polštáři, udržování pracoviště a ochranu výkopiště proti stékání srážkové vody z okolního terénu i s jejím odvodněním, nebo odvedením, přesekání a odstranění kořenů ve výkopišti, odstranění napadávek, urovnání dna výkopu.",null,null,null,null,null,null,null,null,"Položka obsahuje hloubení rýh traktorbagrem, naložení výkopku na dopravní prostředek pro svislé, nebo vodorovné přemístění, popř. přemístění výkopku do 3 m (po povrchu území), případné zajištění rypadel polštáři, udržování pracoviště a ochranu výkopiště proti stékání srážkové vody z okolního terénu i s jejím odvodněním, nebo odvedením, přesekání a odstranění kořenů ve výkopišti, odstranění napadávek, urovnání dna výkopu.",null,null,3]
[null,null,"Stoka \"A.1\" KT DN300 a PVC DN315:",null,0,null,null,null,null,null,null,null,"Stoka \"A.1\" KT DN300 a PVC DN315:"]
[null,null,"Výkopy:",null,0,null,null,null,null,null,null,null,"Výkopy:"]
[null,null,"V hornině tř. 4 - 30%:942,4218*0,3",null,282.72649999999999,null,null,null,null,null,null,null,"V hornině tř. 4 - 30%:942,4218*0,3"]
[6,"132301219R00","Přípl.za lepivost,hloubení rýh 200cm,hor.4,STROJNĚ ","m3",141.36330000000001,null,{"$f":"E43*F43","v":0},0,{"$f":"E43*H43","v":0},0,{"$f":"E43*J43","v":0},null,null,null,2,null,null,null,null,null,null,null,null,null,null,null,1,1,1,null,null,null,null,null,null,null,null,null,null,null,null,null,null,null,null,null,null,null,null,null,null,1,{"$f":"IF(AZ43=1,G43,0)","v":0},{"$f":"IF(AZ43=2,G43,0)","v":0},{"$f":"IF(AZ43=3,G43,0)","v":0},{"$f":"IF(AZ43=4,G43,0)","v":0},{"$f":"IF(AZ43=5,G43,0)","v":0},null,null,null,null,null,null,null,null,null,null,null,null,null,null,null,null,null,null,null,null,null,1,1]
[null,null,"Stoka \"A.1\" KT DN300 a PVC DN315:",null,0,null,null,null,null,null,null,null,"Stoka \"A.1\" KT DN300 a PVC DN315:"]
[null,null,"Výkopy:",null,0,null,null,null,null,null,null,null,"Výkopy:"]
[null,null,"V hornině tř. 4 - 30%:942,4218*0,3*0,5",null,141.36330000000001,null,null,null,null,null,null,null,"V hornině tř. 4 - 30%:942,4218*0,3*0,5"]
[7,"132401211RRX","Hloubení rýh šířky do 200 cm v hor.5 STROJNĚ včetně případného dolamování ve vrstvě do 0,5 m","m3",94.242199999999997,null,{"$f":"E47*F47","v":0},1.0410000000000001E-2,{"$f":"E47*H47","v":0.98106130200000008},0,{"$f":"E47*J47","v":0},null,null,null,2,null,null,null,null,null,null,null,null,null,null,null,1,1,1,null,null,null,null,null,null,null,null,null,null,null,null,null,null,null,null,null,null,null,null,null,null,1,{"$f":"IF(AZ47=1,G47,0)","v":0},{"$f":"IF(AZ47=2,G47,0)","v":0},{"$f":"IF(AZ47=3,G47,0)","v":0},{"$f":"IF(AZ47=4,G47,0)","v":0},{"$f":"IF(AZ47=5,G47,0)","v":0},null,null,null,null,null,null,null,null,null,null,null,null,null,null,null,null,null,null,null,null,null,1,1]
[null,null,"Položka obsahuje hloubení rýh traktorbagrem, naložení výkopku na dopravní prostředek pro svislé, nebo vodorovné přemístění, popř. přemístění výkopku do 3 m (po povrchu území), případné zajištění rypadel polštáři, udržování pracoviště a ochranu výkopiště proti stékání srážkové vody z okolního terénu i s jejím odvodněním, nebo odvedením, přesekání a odstranění kořenů ve výkopišti, odstranění napadávek, urovnání dna výkopu.včetně případného dolamování ve vrstvě do 0,5 m",null,null,null,null,null,null,null,null,"Položka obsahuje hloubení rýh traktorbagrem, naložení výkopku na dopravní prostředek pro svislé, nebo vodorovné přemístění, popř. přemístění výkopku do 3 m (po povrchu území), případné zajištění rypadel polštáři, udržování pracoviště a ochranu výkopiště proti stékání srážkové vody z okolního terénu i s jejím odvodněním, nebo odvedením, přesekání a odstranění kořenů ve výkopišti, odstranění napadávek, urovnání dna výkopu.včetně případného dolamování ve vrstvě do 0,5 m",null,null,3]
[null,null,"Stoka \"A.1\" KT DN300 a PVC DN315:",null,0,null,null,null,null,null,null,null,"Stoka \"A.1\" KT DN300 a PVC DN315:"]
[null,null,"Výkopy:",null,0,null,null,null,null,null,null,null,"Výkopy:"]
[null,null,"V hornině tř. 5 - 10%:942,4218*0,1",null,94.242199999999997,null,null,null,null,null,null,null,"V hornině tř. 5 - 10%:942,4218*0,1"]
[8,"151101101R00","Pažení a rozepření stěn rýh - příložné - hl.do 2 m ","m2",1915.617,null,{"$f":"E52*F52","v":0},9.8999999999999999E-4,{"$f":"E52*H52","v":1.8964608299999999},0,{"$f":"E52*J52","v":0},null,null,null,2,null,null,null,null,null,null,null,null,null,null,null,1,1,1,null,null,null,null,null,null,null,null,null,null,null,null,null,null,null,null,null,null,null,null,null,null,1,{"$f":"IF(AZ52=1,G52,0)","v":0},{"$f":"IF(AZ52=2,G52,0)","v":0},{"$f":"IF(AZ52=3,G52,0)","v":0},{"$f":"IF(AZ52=4,G52,0)","v":0},{"$f":"IF(AZ52=5,G52,0)","v":0},null,null,null,null,null,null,null,null,null,null,null,null,null,null,null,null,null,null,null,null,null,1,1]
[null,null,"Stoka \"A.1\" KT DN300 a PVC DN315:",null,0,null,null,null,null,null,null,null,"Stoka \"A.1\" KT DN300 a PVC DN315:"]
[null,null,"Výkopy:",null,0,null,null,null,null,null,null,null,"Výkopy:"]
[null,null,"ŠA.1-1 - ŠA.1-7:(169,70-24,40)*(1,90+2,21)/2*2",null,597.18299999999999,null,null,null,null,null,null,null,"ŠA.1-1 - ŠA.1-7:(169,70-24,40)*(1,90+2,21)/2*2"]
[null,null,"ŠA.1-7 - ŠA.1-8:(189,90-169,70)*(2,21+2,56)/2*2",null,96.353999999999999,null,null,null,null,null,null,null,"ŠA.1-7 - ŠA.1-8:(189,90-169,70)*(2,21+2,56)/2*2"]
[null,null,"ŠA.1-8 - ŠA.1-10:(260,20-189,90)*(1,40+1,60)/2*2",null,210.9,null,null,null,null,null,null,null,"ŠA.1-8 - ŠA.1-10:(260,20-189,90)*(1,40+1,60)/2*2"]
[null,null,"ŠA.1-11 - ŠA.1-21:(532,30-266,20)*(1,90+1,90)/2*2",null,1011.18,null,null,null,null,null,null,null,"ŠA.1-11 - ŠA.1-21:(532,30-266,20)*(1,90+1,90)/2*2"]
[9,"151101102R00","Pažení a rozepření stěn rýh - příložné - hl.do 4 m ","m2",147.72,null,{"$f":"E59*F59","v":0},8.5999999999999998E-4,{"$f":"E59*H59","v":0.12703919999999999},0,{"$f":"E59*J59","v":0},null,null,null,2,null,null,null,null,null,null,null,null,null,null,null,1,1,1,null,null,null,null,null,null,null,null,null,null,null,null,null,null,null,null,null,null,null,null,null,null,1,{"$f":"IF(AZ59=1,G59,0)","v":0},{"$f":"IF(AZ59=2,G59,0)","v":0},{"$f":"IF(AZ59=3,G59,0)","v":0},{"$f":"IF(AZ59=4,G59,0)","v":0},{"$f":"IF(AZ59=5,G59,0)","v":0},null,null,null,null,null,null,null,null,null,null,null,null,null,null,null,null,null,null,null,null,null,1,1]
[null,null,"Stoka \"A.1\" KT DN300 a PVC DN315:",null,0,null,null,null,null,null,null,null,"Stoka \"A.1\" KT DN300 a PVC DN315:"]
[null,null,"Výkopy:",null,0,null,null,null,null,null,null,null,"Výkopy:"]
[null,null,"ŠA-5 - ŠA.1-1:24,40*(2,75+1,90)/2*2",null,113.46,null,null,null,null,null,null,null,"ŠA-5 - ŠA.1-1:24,40*(2,75+1,90)/2*2"]
[null,null,"ŠA.1-10 - ŠA.1-11:(266,20-260,20)*(1,60+4,11)/2*2",null,34.26,null,null,null,null,null,null,null,"ŠA.1-10 - ŠA.1-11:(266,20-260,20)*(1,60+4,11)/2*2"]
[10,"151101111R00","Odstranění pažení stěn rýh - příložné - hl. do 2 m ","m2",1915.617,null,{"$f":"E64*F64","v":0},0,{"$f":"E64*H64","v":0},0,{"$f":"E64*J64","v":0},null,null,null,2,null,null,null,null,null,null,null,null,null,null,null,1,1,1,null,null,null,null,null,null,null,null,null,null,null,null,null,null,null,null,null,null,null,null,null,null,1,{"$f":"IF(AZ64=1,G64,0)","v":0},{"$f":"IF(AZ64=2,G64,0)","v":0},{"$f":"IF(AZ64=3,G64,0)","v":0},{"$f":"IF(AZ64=4,G64,0)","v":0},{"$f":"IF(AZ64=5,G64,0)","v":0},null,null,null,null,null,null,null,null,null,null,null,null,null,null,null,null,null,null,null,null,null,1,1]
[null,null,"Stoka \"A.1\" KT DN300 a PVC DN315:",null,0,null,null,null,null,null,null,null,"Stoka \"A.1\" KT DN300 a PVC DN315:"]
[null,null,"Výkopy:",null,0,null,null,null,null,null,null,null,"Výkopy:"]
[null,null,"ŠA.1-1 - ŠA.1-7:(169,70-24,40)*(1,90+2,21)/2*2",null,597.18299999999999,null,null,null,null,null,null,null,"ŠA.1-1 - ŠA.1-7:(169,70-24,40)*(1,90+2,21)/2*2"]
[null,null,"ŠA.1-7 - ŠA.1-8:(189,90-169,70)*(2,21+2,56)/2*2",null,96.353999999999999,null,null,null,null,null,null,null,"ŠA.1-7 - ŠA.1-8:(189,90-169,70)*(2,21+2,56)/2*2"]
[null,null,"ŠA.1-8 - ŠA.1-10:(260,20-189,90)*(1,40+1,60)/2*2",null,210.9,null,null,null,null,null,null,null,"ŠA.1-8 - ŠA.1-10:(260,20-189,90)*(1,40+1,60)/2*2"]
[null,null,"ŠA.1-11 - ŠA.1-21:(532,30-266,20)*(1,90+1,90)/2*2",null,1011.18,null,null,null,null,null,null,null,"ŠA.1-11 - ŠA.1-21:(532,30-266,20)*(1,90+1,90)/2*2"]
[11,"151101112R00","Odstranění pažení stěn rýh - příložné - hl. do 4 m ","m2",147.72,null,{"$f":"E71*F71","v":0},0,{"$f":"E71*H71","v":0},0,{"$f":"E71*J71","v":0},null,null,null,2,null,null,null,null,null,null,null,null,null,null,null,1,1,1,null,null,null,null,null,null,null,null,null,null,null,null,null,null,null,null,null,null,null,null,null,null,1,{"$f":"IF(AZ71=1,G71,0)","v":0},{"$f":"IF(AZ71=2,G71,0)","v":0},{"$f":"IF(AZ71=3,G71,0)","v":0},{"$f":"IF(AZ71=4,G71,0)","v":0},{"$f":"IF(AZ71=5,G71,0)","v":0},null,null,null,null,null,null,null,null,null,null,null,null,null,null,null,null,null,null,null,null,null,1,1]
[null,null,"Stoka \"A.1\" KT DN300 a PVC DN315:",null,0,null,null,null,null,null,null,null,"Stoka \"A.1\" KT DN300 a PVC DN315:"]
[null,null,"Výkopy:",null,0,null,null,null,null,null,null,null,"Výkopy:"]
[null,null,"ŠA-5 - ŠA.1-1:24,40*(2,75+1,90)/2*2",null,113.46,null,null,null,null,null,null,null,"ŠA-5 - ŠA.1-1:24,40*(2,75+1,90)/2*2"]
[null,null,"ŠA.1-10 - ŠA.1-11:(266,20-260,20)*(1,60+4,11)/2*2",null,34.26,null,null,null,null,null,null,null,"ŠA.1-10 - ŠA.1-11:(266,20-260,20)*(1,60+4,11)/2*2"]
[12,"162701105RSZ","Vodorovné přemístění výkopku z hor.1-7 na skládku zhotovitele","m3",942.42179999999996,null,{"$f":"E76*F76","v":0},0,{"$f":"E76*H76","v":0},0,{"$f":"E76*J76","v":0},null,null,null,2,null,null,null,null,null,null,null,null,null,null,null,1,1,1,null,null,null,null,null,null,null,null,null,null,null,null,null,null,null,null,null,null,null,null,null,null,1,{"$f":"IF(AZ76=1,G76,0)","v":0},{"$f":"IF(AZ76=2,G76,0)","v":0},{"$f":"IF(AZ76=3,G76,0)","v":0},{"$f":"IF(AZ76=4,G76,0)","v":0},{"$f":"IF(AZ76=5,G76,0)","v":0},null,null,null,null,null,null,null,null,null,null,null,null,null,null,null,null,null,null,null,null,null,1,1]
[null,null,"Stoka \"A.1\" KT DN300 a PVC DN315:",null,0,null,null,null,null,null,null,null,"Stoka \"A.1\" KT DN300 a PVC DN315:"]
[null,null,"Výkopy:",null,0,null,null,null,null,null,null,null,"Výkopy:"]
[null,null,"V hornině tř. 3 - 5 :942,4218",null,942.42179999999996,null,null,null,null,null,null,null,"V hornině tř. 3 - 5 :942,4218"]
[13,"174101101R00","Zásyp jam, rýh, šachet se zhutněním ","m3",449.40640000000002,null,{"$f":"E80*F80","v":0},0,{"$f":"E80*H80","v":0},0,{"$f":"E80*J80","v":0},null,null,null,2,null,null,null,null,null,null,null,null,null,null,null,1,1,1,null,null,null,null,null,null,null,null,null,null,null,null,null,null,null,null,null,null,null,null,null,null,1,{"$f":"IF(AZ80=1,G80,0)","v":0},{"$f":"IF(AZ80=2,G80,0)","v":0},{"$f":"IF(AZ80=3,G80,0)","v":0},{"$f":"IF(AZ80=4,G80,0)","v":0},{"$f":"IF(AZ80=5,G80,0)","v":0},null,null,null,null,null,null,null,null,null,null,null,null,null,null,null,null,null,null,null,null,null,1,1]
[null,null,"Položka obsahuje strojní přemístění materiálu pro zásyp ze vzdálenosti do 10 m od okraje zásypu.",null,null,null,null,null,null,null,null,"Položka obsahuje strojní přemístění materiálu pro zásyp ze vzdálenosti do 10 m od okraje zásypu.",null,null,3]
[null,null,null,null,null,null,null,null,null,null,null,null,null,null,3]
[null,null,"Stoka \"A.1\" KT DN300 a PVC DN315:",null,0,null,null,null,null,null,null,null,"Stoka \"A.1\" KT DN300 a PVC DN315:"]
[null,null,"Zásypy ŠD fr. 0-63 mm:449,4064",null,449.40640000000002,null,null,null,null,null,null,null,"Zásypy ŠD fr. 0-63 mm:449,4064"]
[null,null,"Začátek provozního součtu",null,0,null,null,null,null,null,null,null,"Začátek provozního součtu"]
[null,null,"Výkopy:",null,0,null,null,null,null,null,null,null,"Výkopy:"]
[null,null,"V hornině tř. 3 - 5:942,4218",null,942.42179999999996,null,null,null,null,null,null,null,"V hornině tř. 3 - 5:942,4218"]
[null,null,"Odpočet objemu lože, potrubí a obsypů:-24,40*0,8855",null,-21.606200000000001,null,null,null,null,null,null,null,"Odpočet objemu lože, potrubí a obsypů:-24,40*0,8855"]
[null,null,"-(532,30-24,40)*1,10*(0,15+0,315+0,30)",null,-427.39789999999999,null,null,null,null,null,null,null,"-(532,30-24,40)*1,10*(0,15+0,315+0,30)"]
[null,null,"Odpočet objemu RŠ:-44,0113",null,-44.011299999999999,null,null,null,null,null,null,null,"Odpočet objemu RŠ:-44,0113"]
[null,null,"Konec provozního součtu",null,449.40639999999991,null,null,null,null,null,null,null,"Konec provozního součtu"]
[14,"175101101R00","Obsyp potrubí bez prohození sypaniny ","m3",316.21550000000002,null,{"$f":"E92*F92","v":0},0,{"$f":"E92*H92","v":0},0,{"$f":"E92*J92","v":0},null,null,null,2,null,null,null,null,null,null,null,null,null,null,null,1,1,1,null,null,null,null,null,null,null,null,null,null,null,null,null,null,null,null,null,null,null,null,null,null,1,{"$f":"IF(AZ92=1,G92,0)","v":0},{"$f":"IF(AZ92=2,G92,0)","v":0},{"$f":"IF(AZ92=3,G92,0)","v":0},{"$f":"IF(AZ92=4,G92,0)","v":0},{"$f":"IF(AZ92=5,G92,0)","v":0},null,null,null,null,null,null,null,null,null,null,null,null,null,null,null,null,null,null,null,null,null,1,1]
[null,null,"Stoka \"A.1\" KT DN300 a PVC DN315:",null,0,null,null,null,null,null,null,null,"Stoka \"A.1\" KT DN300 a PVC DN315:"]
[null,null,"KT DN300:24,50*0,5005",null,12.2622,null,null,null,null,null,null,null,"KT DN300:24,50*0,5005"]
[null,null,"PVC DN315:507,80*(1,10*(0,315+0,30)-0,1575^2*Pi)",null,303.95330000000001,null,null,null,null,null,null,null,"PVC DN315:507,80*(1,10*(0,315+0,30)-0,1575^2*Pi)"]
[15,"199000002R00","Poplatek za skládku horniny 1- 7 č. dle katal. odpadů 17 05 04","m3",942.42179999999996,null,{"$f":"E96*F96","v":0},0,{"$f":"E96*H96","v":0},0,{"$f":"E96*J96","v":0},null,null,null,2,null,null,null,null,null,null,null,null,null,null,null,1,1,1,null,null,null,null,null,null,null,null,null,null,null,null,null,null,null,null,null,null,null,null,null,null,1,{"$f":"IF(AZ96=1,G96,0)","v":0},{"$f":"IF(AZ96=2,G96,0)","v":0},{"$f":"IF(AZ96=3,G96,0)","v":0},{"$f":"IF(AZ96=4,G96,0)","v":0},{"$f":"IF(AZ96=5,G96,0)","v":0},null,null,null,null,null,null,null,null,null,null,null,null,null,null,null,null,null,null,null,null,null,1,1]
[null,null,"Stoka \"A.1\" KT DN300 a PVC DN315:",null,0,null,null,null,null,null,null,null,"Stoka \"A.1\" KT DN300 a PVC DN315:"]
[null,null,"Výkopy:",null,0,null,null,null,null,null,null,null,"Výkopy:"]
[null,null,"V hornině tř. 3 - 5 :942,4218",null,942.42179999999996,null,null,null,null,null,null,null,"V hornině tř. 3 - 5 :942,4218"]
[16,"58337308.R","Štěrkopísek frakce 0-2 tř.B","t",630.13220000000001,null,{"$f":"E100*F100","v":0},1,{"$f":"E100*H100","v":630.13220000000001},null,{"$f":"E100*J100","v":0},null,null,null,2,null,null,null,null,null,null,null,null,null,null,null,3,1,"58337308.R",null,null,null,null,null,null,null,null,null,null,null,null,null,null,null,null,null,null,null,null,null,null,1,{"$f":"IF(AZ100=1,G100,0)","v":0},{"$f":"IF(AZ100=2,G100,0)","v":0},{"$f":"IF(AZ100=3,G100,0)","v":0},{"$f":"IF(AZ100=4,G100,0)","v":0},{"$f":"IF(AZ100=5,G100,0)","v":0},null,null,null,null,null,null,null,null,null,null,null,null,null,null,null,null,null,null,null,null,null,3,1]
[null,null,"Stoka \"A.1\" KT DN300 a PVC DN315:",null,0,null,null,null,null,null,null,null,"Stoka \"A.1\" KT DN300 a PVC DN315:"]
[null,null,"KT DN300:24,50*0,5005*1,973*1,01",null,24.435400000000001,null,null,null,null,null,null,null,"KT DN300:24,50*0,5005*1,973*1,01"]
[null,null,"PVC DN315:507,80*(1,10*(0,315+0,30)-0,1575^2*Pi)*1,973*1,01",null,605.69680000000005,null,null,null,null,null,null,null,"PVC DN315:507,80*(1,10*(0,315+0,30)-0,1575^2*Pi)*1,973*1,01"]
[17,"58344197R","Štěrkodrtě frakce 0-63 A","t",850.15560000000005,null,{"$f":"E104*F104","v":0},1,{"$f":"E104*H104","v":850.15560000000005},null,{"$f":"E104*J104","v":0},null,null,null,2,null,null,null,null,null,null,null,null,null,null,null,3,1,"58344197R",null,null,null,null,null,null,null,null,null,null,null,null,null,null,null,null,null,null,null,null,null,null,1,{"$f":"IF(AZ104=1,G104,0)","v":0},{"$f":"IF(AZ104=2,G104,0)","v":0},{"$f":"IF(AZ104=3,G104,0)","v":0},{"$f":"IF(AZ104=4,G104,0)","v":0},{"$f":"IF(AZ104=5,G104,0)","v":0},null,null,null,null,null,null,null,null,null,null,null,null,null,null,null,null,null,null,null,null,null,3,1]
[null,null,"Stoka \"A.1\" KT DN300 a PVC DN315:",null,0,null,null,null,null,null,null,null,"Stoka \"A.1\" KT DN300 a PVC DN315:"]
[null,null,"Zásypy ŠD fr. 0-63 mm:449,4064*1,873*1,01",null,850.15560000000005,null,null,null,null,null,null,null,"Zásypy ŠD fr. 0-63 mm:449,4064*1,873*1,01"]
[null,null,"Začátek provozního součtu",null,0,null,null,null,null,null,null,null,"Začátek provozního součtu"]
[null,null,"Výkopy:",null,0,null,null,null,null,null,null,null,"Výkopy:"]
[null,null,"V hornině tř. 3 - 5:942,4218",null,942.42179999999996,null,null,null,null,null,null,null,"V hornině tř. 3 - 5:942,4218"]
[null,null,"Odpočet objemu lože, potrubí a obsypů:-24,40*0,8855",null,-21.606200000000001,null,null,null,null,null,null,null,"Odpočet objemu lože, potrubí a obsypů:-24,40*0,8855"]
[null,null,"-(532,30-24,40)*1,10*(0,15+0,315+0,30)",null,-427.39789999999999,null,null,null,null,null,null,null,"-(532,30-24,40)*1,10*(0,15+0,315+0,30)"]
[null,null,"Odpočet objemu RŠ:-44,0113",null,-44.011299999999999,null,null,null,null,null,null,null,"Odpočet objemu RŠ:-44,0113"]
[null,null,"Konec provozního součtu",null,449.40639999999991,null,null,null,null,null,null,null,"Konec provozního součtu"]
[null,"Celkem za","1 Zemní práce",null,null,null,{"$f":"SUM(G7:G113)","v":0},null,{"$f":"SUM(I7:I113)","v":1483.2923613319999},null,{"$f":"SUM(K7:K113)","v":0},null,null,null,4,null,null,null,null,null,null,null,null,null,null,null,null,null,null,null,null,null,null,null,null,null,null,null,null,null,null,null,null,null,null,null,null,null,null,null,null,null,{"$f":"SUM(BA7:BA113)","v":0},{"$f":"SUM(BB7:BB113)","v":0},{"$f":"SUM(BC7:BC113)","v":0},{"$f":"SUM(BD7:BD113)","v":0},{"$f":"SUM(BE7:BE113)","v":0}]
["Díl:","21","Úprava podloží a základ.spáry",null,null,null,null,null,null,null,null,null,null,null,1]
[18,"212810010RAC","Trativody z PVC drenážních flexibilních trubek lože štěrkopísek a obsyp kamenivo, trubky d 100 mm","m",278.04000000000002,null,{"$f":"E116*F116","v":0},0.43651000000000001,{"$f":"E116*H116","v":121.36724040000001},0,{"$f":"E116*J116","v":0},null,null,null,2,null,null,null,null,null,null,null,null,null,null,null,1,1,1,null,null,null,null,null,null,null,null,null,null,null,null,null,null,null,null,null,null,null,null,null,null,1,{"$f":"IF(AZ116=1,G116,0)","v":0},{"$f":"IF(AZ116=2,G116,0)","v":0},{"$f":"IF(AZ116=3,G116,0)","v":0},{"$f":"IF(AZ116=4,G116,0)","v":0},{"$f":"IF(AZ116=5,G116,0)","v":0},null,null,null,null,null,null,null,null,null,null,null,null,null,null,null,null,null,null,null,null,null,1,1]
[null,null,"Stoka \"A.1\" KT DN300 a PVC DN315:",null,0,null,null,null,null,null,null,null,"Stoka \"A.1\" KT DN300 a PVC DN315:"]
[null,null,"Drenáž DN100:24,50+507,08*0,5",null,278.04000000000002,null,null,null,null,null,null,null,"Drenáž DN100:24,50+507,08*0,5"]
[null,"Celkem za","21 Úprava podloží a základ.spáry",null,null,null,{"$f":"SUM(G115:G118)","v":0},null,{"$f":"SUM(I115:I118)","v":121.36724040000001},null,{"$f":"SUM(K115:K118)","v":0},null,null,null,4,null,null,null,null,null,null,null,null,null,null,null,null,null,null,null,null,null,null,null,null,null,null,null,null,null,null,null,null,null,null,null,null,null,null,null,null,null,{"$f":"SUM(BA115:BA118)","v":0},{"$f":"SUM(BB115:BB118)","v":0},{"$f":"SUM(BC115:BC118)","v":0},{"$f":"SUM(BD115:BD118)","v":0},{"$f":"SUM(BE115:BE118)","v":0}]
["Díl:","45","Podkladní a vedlejší konstrukce",null,null,null,null,null,null,null,null,null,null,null,1]
[19,"451572111R00","Lože pod potrubí z kameniva těženého 0 - 4 mm ","m3",83.787000000000006,null,{"$f":"E121*F121","v":0},0.43051,{"$f":"E121*H121","v":36.071141369999999},0,{"$f":"E121*J121","v":0},null,null,null,2,null,null,null,null,null,null,null,null,null,null,null,1,1,1,null,null,null,null,null,null,null,null,null,null,null,null,null,null,null,null,null,null,null,null,null,null,1,{"$f":"IF(AZ121=1,G121,0)","v":0},{"$f":"IF(AZ121=2,G121,0)","v":0},{"$f":"IF(AZ121=3,G121,0)","v":0},{"$f":"IF(AZ121=4,G121,0)","v":0},{"$f":"IF(AZ121=5,G121,0)","v":0},null,null,null,null,null,null,null,null,null,null,null,null,null,null,null,null,null,null,null,null,null,1,1]
[null,null,"Stoka \"A.1\" KT DN300 a PVC DN315:",null,0,null,null,null,null,null,null,null,"Stoka \"A.1\" KT DN300 a PVC DN315:"]
[null,null,"PVC DN315:507,80*1,10*0,15",null,83.787000000000006,null,null,null,null,null,null,null,"PVC DN315:507,80*1,10*0,15"]
[20,"452112111R00","Osazení beton. prstenců pod poklopy,výšky do100 mm ","kus",16,null,{"$f":"E124*F124","v":0},6.6E-3,{"$f":"E124*H124","v":0.1056},0,{"$f":"E124*J124","v":0},null,null,null,2,null,null,null,null,null,null,null,null,null,null,null,1,1,1,null,null,null,null,null,null,null,null,null,null,null,null,null,null,null,null,null,null,null,null,null,null,1,{"$f":"IF(AZ124=1,G124,0)","v":0},{"$f":"IF(AZ124=2,G124,0)","v":0},{"$f":"IF(AZ124=3,G124,0)","v":0},{"$f":"IF(AZ124=4,G124,0)","v":0},{"$f":"IF(AZ124=5,G124,0)","v":0},null,null,null,null,null,null,null,null,null,null,null,null,null,null,null,null,null,null,null,null,null,1,1]
[null,null,"Volba položky se řídí výškou prstence nebo rámu. V položkách nejsou zakalkulovány náklady na dodávku betonových výrobků;",null,null,null,null,null,null,null,null,"Volba položky se řídí výškou prstence nebo rámu. V položkách nejsou zakalkulovány náklady na dodávku betonových výrobků;",null,null,3]
[null,null,"Stoka \"A.1\" KT DN300 a PVC DN315:",null,0,null,null,null,null,null,null,null,"Stoka \"A.1\" KT DN300 a PVC DN315:"]
[null,null,"VP40:5",null,5,null,null,null,null,null,null,null,"VP40:5"]
[null,null,"VP60:1",null,1,null,null,null,null,null,null,null,"VP60:1"]
[null,null,"VP80:5",null,5,null,null,null,null,null,null,null,"VP80:5"]
[null,null,"VP100:5",null,5,null,null,null,null,null,null,null,"VP100:5"]
[21,"452112121R00","Osazení beton. prstenců pod poklopy,výšky do200 mm ","kus",12,null,{"$f":"E131*F131","v":0},6.6E-3,{"$f":"E131*H131","v":7.9199999999999993E-2},0,{"$f":"E131*J131","v":0},null,null,null,2,null,null,null,null,null,null,null,null,null,null,null,1,1,1,null,null,null,null,null,null,null,null,null,null,null,null,null,null,null,null,null,null,null,null,null,null,1,{"$f":"IF(AZ131=1,G131,0)","v":0},{"$f":"IF(AZ131=2,G131,0)","v":0},{"$f":"IF(AZ131=3,G131,0)","v":0},{"$f":"IF(AZ131=4,G131,0)","v":0},{"$f":"IF(AZ131=5,G131,0)","v":0},null,null,null,null,null,null,null,null,null,null,null,null,null,null,null,null,null,null,null,null,null,1,1]
[null,null,"Stoka \"A.1\" KT DN300 a PVC DN315:",null,0,null,null,null,null,null,null,null,"Stoka \"A.1\" KT DN300 a PVC DN315:"]
[null,null,"VP120:12",null,12,null,null,null,null,null,null,null,"VP120:12"]
[22,"452312131R00","Sedlové lože pod potrubí z betonu C 12/15 ","m3",7.0069999999999997,null,{"$f":"E134*F134","v":0},2.5,{"$f":"E134*H134","v":17.517499999999998},0,{"$f":"E134*J134","v":0},null,null,null,2,null,null,null,null,null,null,null,null,null,null,null,1,1,1,null,null,null,null,null,null,null,null,null,null,null,null,null,null,null,null,null,null,null,null,null,null,1,{"$f":"IF(AZ134=1,G134,0)","v":0},{"$f":"IF(AZ134=2,G134,0)","v":0},{"$f":"IF(AZ134=3,G134,0)","v":0},{"$f":"IF(AZ134=4,G134,0)","v":0},{"$f":"IF(AZ134=5,G134,0)","v":0},null,null,null,null,null,null,null,null,null,null,null,null,null,null,null,null,null,null,null,null,null,1,1]
[null,null,"Položka je určena pro práce v otevřeném výkopu",null,null,null,null,null,null,null,null,"Položka je určena pro práce v otevřeném výkopu",null,null,3]
[null,null,"Stoka \"A.1\" KT DN300 a PVC DN315:",null,0,null,null,null,null,null,null,null,"Stoka \"A.1\" KT DN300 a PVC DN315:"]
[null,null,"KT DN300:24,50*0,286",null,7.0069999999999997,null,null,null,null,null,null,null,"KT DN300:24,50*0,286"]
[23,"59224346.A.R","Prstenec vyrovn šachetní TBW-Q.1 63/4","kus",5.05,null,{"$f":"E138*F138","v":0},2.8000000000000001E-2,{"$f":"E138*H138","v":0.1414},null,{"$f":"E138*J138","v":0},null,null,null,2,null,null,null,null,null,null,null,null,null,null,null,3,1,"59224346.A.R",null,null,null,null,null,null,null,null,null,null,null,null,null,null,null,null,null,null,null,null,null,null,1,{"$f":"IF(AZ138=1,G138,0)","v":0},{"$f":"IF(AZ138=2,G138,0)","v":0},{"$f":"IF(AZ138=3,G138,0)","v":0},{"$f":"IF(AZ138=4,G138,0)","v":0},{"$f":"IF(AZ138=5,G138,0)","v":0},null,null,null,null,null,null,null,null,null,null,null,null,null,null,null,null,null,null,null,null,null,3,1]
[null,null,"Stoka \"A.1\" KT DN300 a PVC DN315:",null,0,null,null,null,null,null,null,null,"Stoka \"A.1\" KT DN300 a PVC DN315:"]
[null,null,"VP40:5*1,01",null,5.05,null,null,null,null,null,null,null,"VP40:5*1,01"]
[24,"59224347.A.R","Prstenec vyrovn šachetní TBW-Q.1 63/6","kus",1.01,null,{"$f":"E141*F141","v":0},0.04,{"$f":"E141*H141","v":4.0399999999999998E-2},null,{"$f":"E141*J141","v":0},null,null,null,2,null,null,null,null,null,null,null,null,null,null,null,3,1,"59224347.A.R",null,null,null,null,null,null,null,null,null,null,null,null,null,null,null,null,null,null,null,null,null,null,1,{"$f":"IF(AZ141=1,G141,0)","v":0},{"$f":"IF(AZ141=2,G141,0)","v":0},{"$f":"IF(AZ141=3,G141,0)","v":0},{"$f":"IF(AZ141=4,G141,0)","v":0},{"$f":"IF(AZ141=5,G141,0)","v":0},null,null,null,null,null,null,null,null,null,null,null,null,null,null,null,null,null,null,null,null,null,3,1]
[null,null,"Stoka \"A.1\" KT DN300 a PVC DN315:",null,0,null,null,null,null,null,null,null,"Stoka \"A.1\" KT DN300 a PVC DN315:"]
[null,null,"VP60:1*1,01",null,1.01,null,null,null,null,null,null,null,"VP60:1*1,01"]
[25,"59224348.A.R","Prstenec vyrovn šachetní TBW-Q.1 63/8","kus",5.05,null,{"$f":"E144*F144","v":0},5.3999999999999999E-2,{"$f":"E144*H144","v":0.2727},null,{"$f":"E144*J144","v":0},null,null,null,2,null,null,null,null,null,null,null,null,null,null,null,3,1,"59224348.A.R",null,null,null,null,null,null,null,null,null,null,null,null,null,null,null,null,null,null,null,null,null,null,1,{"$f":"IF(AZ144=1,G144,0)","v":0},{"$f":"IF(AZ144=2,G144,0)","v":0},{"$f":"IF(AZ144=3,G144,0)","v":0},{"$f":"IF(AZ144=4,G144,0)","v":0},{"$f":"IF(AZ144=5,G144,0)","v":0},null,null,null,null,null,null,null,null,null,null,null,null,null,null,null,null,null,null,null,null,null,3,1]
[null,null,"Stoka \"A.1\" KT DN300 a PVC DN315:",null,0,null,null,null,null,null,null,null,"Stoka \"A.1\" KT DN300 a PVC DN315:"]
[null,null,"VP80:5*1,01",null,5.05,null,null,null,null,null,null,null,"VP80:5*1,01"]
[26,"59224349.A.R","Prstenec vyrovn šachetní TBW-Q.1 63/10","kus",5.05,null,{"$f":"E147*F147","v":0},6.8000000000000005E-2,{"$f":"E147*H147","v":0.34340000000000004},null,{"$f":"E147*J147","v":0},null,null,null,2,null,null,null,null,null,null,null,null,null,null,null,3,1,"59224349.A.R",null,null,null,null,null,null,null,null,null,null,null,null,null,null,null,null,null,null,null,null,null,null,1,{"$f":"IF(AZ147=1,G147,0)","v":0},{"$f":"IF(AZ147=2,G147,0)","v":0},{"$f":"IF(AZ147=3,G147,0)","v":0},{"$f":"IF(AZ147=4,G147,0)","v":0},{"$f":"IF(AZ147=5,G147,0)","v":0},null,null,null,null,null,null,null,null,null,null,null,null,null,null,null,null,null,null,null,null,null,3,1]
[null,null,"Stoka \"A.1\" KT DN300 a PVC DN315:",null,0,null,null,null,null,null,null,null,"Stoka \"A.1\" KT DN300 a PVC DN315:"]
[null,null,"VP H100:5*1,01",null,5.05,null,null,null,null,null,null,null,"VP H100:5*1,01"]
[27,"59224350.A.R","Prstenec vyrovn šachetní TBW-Q.1 63/12","kus",12.12,null,{"$f":"E150*F150","v":0},8.1000000000000003E-2,{"$f":"E150*H150","v":0.98171999999999993},null,{"$f":"E150*J150","v":0},null,null,null,2,null,null,null,null,null,null,null,null,null,null,null,3,1,"59224350.A.R",null,null,null,null,null,null,null,null,null,null,null,null,null,null,null,null,null,null,null,null,null,null,1,{"$f":"IF(AZ150=1,G150,0)","v":0},{"$f":"IF(AZ150=2,G150,0)","v":0},{"$f":"IF(AZ150=3,G150,0)","v":0},{"$f":"IF(AZ150=4,G150,0)","v":0},{"$f":"IF(AZ150=5,G150,0)","v":0},null,null,null,null,null,null,null,null,null,null,null,null,null,null,null,null,null,null,null,null,null,3,1]
[null,null,"Stoka \"A.1\" KT DN300 a PVC DN315:",null,0,null,null,null,null,null,null,null,"Stoka \"A.1\" KT DN300 a PVC DN315:"]
[null,null,"VP H120:12*1,01",null,12.12,null,null,null,null,null,null,null,"VP H120:12*1,01"]
[null,"Celkem za","45 Podkladní a vedlejší konstrukce",null,null,null,{"$f":"SUM(G120:G152)","v":0},null,{"$f":"SUM(I120:I152)","v":55.553061370000002},null,{"$f":"SUM(K120:K152)","v":0},null,null,null,4,null,null,null,null,null,null,null,null,null,null,null,null,null,null,null,null,null,null,null,null,null,null,null,null,null,null,null,null,null,null,null,null,null,null,null,null,null,{"$f":"SUM(BA120:BA152)","v":0},{"$f":"SUM(BB120:BB152)","v":0},{"$f":"SUM(BC120:BC152)","v":0},{"$f":"SUM(BD120:BD152)","v":0},{"$f":"SUM(BE120:BE152)","v":0}]
["Díl:","5","Komunikace",null,null,null,null,null,null,null,null,null,null,null,1]
[28,"572701119RRX","Provizorní zásyp rýh kam. hrubě drceným nebo recyk s následným odstraněním a odvozem","m3",229.6935,null,{"$f":"E155*F155","v":0},1.4804999999999999,{"$f":"E155*H155","v":340.06122675},0,{"$f":"E155*J155","v":0},null,null,null,2,null,null,null,null,null,null,null,null,null,null,null,1,1,1,null,null,null,null,null,null,null,null,null,null,null,null,null,null,null,null,null,null,null,null,null,null,1,{"$f":"IF(AZ155=1,G155,0)","v":0},{"$f":"IF(AZ155=2,G155,0)","v":0},{"$f":"IF(AZ155=3,G155,0)","v":0},{"$f":"IF(AZ155=4,G155,0)","v":0},{"$f":"IF(AZ155=5,G155,0)","v":0},null,null,null,null,null,null,null,null,null,null,null,null,null,null,null,null,null,null,null,null,null,1,1]
[null,null,"Stoka \"A.1\" KT DN300 a PVC DN315:",null,0,null,null,null,null,null,null,null,"Stoka \"A.1\" KT DN300 a PVC DN315:"]
[null,null,"Objemu konstrukce komunikace:(245,80*1,10+(1,60*(1,60-1,10)*10))*0,45",null,125.271,null,null,null,null,null,null,null,"Objemu konstrukce komunikace:(245,80*1,10+(1,60*(1,60-1,10)*10))*0,45"]
[null,null,"((532,30-245,80)*1,10+1,60*(1,60-1,10*11))*0,35",null,104.4225,null,null,null,null,null,null,null,"((532,30-245,80)*1,10+1,60*(1,60-1,10*11))*0,35"]
[null,"Celkem za","5 Komunikace",null,null,null,{"$f":"SUM(G154:G158)","v":0},null,{"$f":"SUM(I154:I158)","v":340.06122675},null,{"$f":"SUM(K154:K158)","v":0},null,null,null,4,null,null,null,null,null,null,null,null,null,null,null,null,null,null,null,null,null,null,null,null,null,null,null,null,null,null,null,null,null,null,null,null,null,null,null,null,null,{"$f":"SUM(BA154:BA158)","v":0},{"$f":"SUM(BB154:BB158)","v":0},{"$f":"SUM(BC154:BC158)","v":0},{"$f":"SUM(BD154:BD158)","v":0},{"$f":"SUM(BE154:BE158)","v":0}]
["Díl:","8","Trubní vedení",null,null,null,null,null,null,null,null,null,null,null,1]
[29,"831372121R00","Montáž trub kameninových, pryž. kroužek, DN 300 ","m",24.5,null,{"$f":"E161*F161","v":0},4.0000000000000003E-5,{"$f":"E161*H161","v":9.8000000000000019E-4},0,{"$f":"E161*J161","v":0},null,null,null,2,null,null,null,null,null,null,null,null,null,null,null,1,1,1,null,null,null,null,null,null,null,null,null,null,null,null,null,null,null,null,null,null,null,null,null,null,1,{"$f":"IF(AZ161=1,G161,0)","v":0},{"$f":"IF(AZ161=2,G161,0)","v":0},{"$f":"IF(AZ161=3,G161,0)","v":0},{"$f":"IF(AZ161=4,G161,0)","v":0},{"$f":"IF(AZ161=5,G161,0)","v":0},null,null,null,null,null,null,null,null,null,null,null,null,null,null,null,null,null,null,null,null,null,1,1]
[null,null,"Položka je určena pro montáž potrubí z trub kameninových s polyuretanovým spojem v otevřeném výkopu ve sklonu do 20 % včetně případné potřeby krácení trub.",null,null,null,null,null,null,null,null,"Položka je určena pro montáž potrubí z trub kameninových s polyuretanovým spojem v otevřeném výkopu ve sklonu do 20 % včetně případné potřeby krácení trub.",null,null,3]
[null,null,"Stoka \"A.1\" KT DN300 a PVC DN315:",null,0,null,null,null,null,null,null,null,"Stoka \"A.1\" KT DN300 a PVC DN315:"]
[null,null,"KT DN300:24,50",null,24.5,null,null,null,null,null,null,null,"KT DN300:24,50"]
[30,"871373121R00","Montáž trub z plastu, gumový kroužek, DN 300 ","m",507.8,null,{"$f":"E165*F165","v":0},1.0000000000000001E-5,{"$f":"E165*H165","v":5.0780000000000009E-3},0,{"$f":"E165*J165","v":0},null,null,null,2,null,null,null,null,null,null,null,null,null,null,null,1,1,1,null,null,null,null,null,null,null,null,null,null,null,null,null,null,null,null,null,null,null,null,null,null,1,{"$f":"IF(AZ165=1,G165,0)","v":0},{"$f":"IF(AZ165=2,G165,0)","v":0},{"$f":"IF(AZ165=3,G165,0)","v":0},{"$f":"IF(AZ165=4,G165,0)","v":0},{"$f":"IF(AZ165=5,G165,0)","v":0},null,null,null,null,null,null,null,null,null,null,null,null,null,null,null,null,null,null,null,null,null,1,1]
[null,null,"Stoka \"A.1\" KT DN300 a PVC DN315:",null,0,null,null,null,null,null,null,null,"Stoka \"A.1\" KT DN300 a PVC DN315:"]
[null,null,"PVC DN315:507,80",null,507.8,null,null,null,null,null,null,null,"PVC DN315:507,80"]
[31,"877373121R00","Montáž tvarovek odboč. plast. gum. kroužek DN 300 ","kus",6,null,{"$f":"E168*F168","v":0},5.0000000000000002E-5,{"$f":"E168*H168","v":3.0000000000000003E-4},0,{"$f":"E168*J168","v":0},null,null,null,2,null,null,null,null,null,null,null,null,null,null,null,1,1,1,null,null,null,null,null,null,null,null,null,null,null,null,null,null,null,null,null,null,null,null,null,null,1,{"$f":"IF(AZ168=1,G168,0)","v":0},{"$f":"IF(AZ168=2,G168,0)","v":0},{"$f":"IF(AZ168=3,G168,0)","v":0},{"$f":"IF(AZ168=4,G168,0)","v":0},{"$f":"IF(AZ168=5,G168,0)","v":0},null,null,null,null,null,null,null,null,null,null,null,null,null,null,null,null,null,null,null,null,null,1,1]
[null,null,"Položka je určena pro montáž tvarovek odbočných na potrubí z kanalizačních trub z plastu těsněných gumovým kroužkem v otevřeném výkopu.",null,null,null,null,null,null,null,null,"Položka je určena pro montáž tvarovek odbočných na potrubí z kanalizačních trub z plastu těsněných gumovým kroužkem v otevřeném výkopu.",null,null,3]
[null,null,"Stoka \"A.1\" KT DN300 a PVC DN315:",null,0,null,null,null,null,null,null,null,"Stoka \"A.1\" KT DN300 a PVC DN315:"]
[null,null,"PVC DN315:",null,0,null,null,null,null,null,null,null,"PVC DN315:"]
[null,null,"Odbočka PVC DN315/160:4",null,4,null,null,null,null,null,null,null,"Odbočka PVC DN315/160:4"]
[null,null,"Odbočka PVC DN315/200:2",null,2,null,null,null,null,null,null,null,"Odbočka PVC DN315/200:2"]
[32,"892601154R00","Čištění kanalizační stoky do DN 500, nad 100 m ","m",532.29999999999995,null,{"$f":"E174*F174","v":0},0,{"$f":"E174*H174","v":0},0,{"$f":"E174*J174","v":0},null,null,null,2,null,null,null,null,null,null,null,null,null,null,null,1,0,0,null,null,null,null,null,null,null,null,null,null,null,null,null,null,null,null,null,null,null,null,null,null,1,{"$f":"IF(AZ174=1,G174,0)","v":0},{"$f":"IF(AZ174=2,G174,0)","v":0},{"$f":"IF(AZ174=3,G174,0)","v":0},{"$f":"IF(AZ174=4,G174,0)","v":0},{"$f":"IF(AZ174=5,G174,0)","v":0},null,null,null,null,null,null,null,null,null,null,null,null,null,null,null,null,null,null,null,null,null,1,0]
[null,null,"V položce je zakalkulováno:",null,null,null,null,null,null,null,null,"V položce je zakalkulováno:",null,null,3]
[null,null,"a) otevření a uzavření revizních šachet a čisticích kusů",null,null,null,null,null,null,null,null,"a) otevření a uzavření revizních šachet a čisticích kusů",null,null,3]
[null,null,"b) natažení vysokotlakých hadic k místu odkud se bude kanalizace čistit",null,null,null,null,null,null,null,null,"b) natažení vysokotlakých hadic k místu odkud se bude kanalizace čistit",null,null,3]
[null,null,"c) vyčištění potrubí tlakovou vodou nebo motorovým pérem.",null,null,null,null,null,null,null,null,"c) vyčištění potrubí tlakovou vodou nebo motorovým pérem.",null,null,3]
[null,null,"Stoka \"A.1\" KT DN300 a PVC DN315:",null,0,null,null,null,null,null,null,null,"Stoka \"A.1\" KT DN300 a PVC DN315:"]
[null,null,"KT DN300:24,50",null,24.5,null,null,null,null,null,null,null,"KT DN300:24,50"]
[null,null,"PVC DN315:507,80",null,507.8,null,null,null,null,null,null,null,"PVC DN315:507,80"]
[33,"892855115R00","Kontrola kanalizace TV kamerou do 500 m ","m",1064.5999999999999,null,{"$f":"E182*F182","v":0},0,{"$f":"E182*H182","v":0},0,{"$f":"E182*J182","v":0},null,null,null,2,null,null,null,null,null,null,null,null,null,null,null,1,1,1,null,null,null,null,null,null,null,null,null,null,null,null,null,null,null,null,null,null,null,null,null,null,1,{"$f":"IF(AZ182=1,G182,0)","v":0},{"$f":"IF(AZ182=2,G182,0)","v":0},{"$f":"IF(AZ182=3,G182,0)","v":0},{"$f":"IF(AZ182=4,G182,0)","v":0},{"$f":"IF(AZ182=5,G182,0)","v":0},null,null,null,null,null,null,null,null,null,null,null,null,null,null,null,null,null,null,null,null,null,1,1]
[null,null,"Provedení kaberové prohlídky včetně dodání elektronického záznamu na CD zadavateli a tištěné dokumentace průběhu kamerové prohlídky",null,null,null,null,null,null,null,null,"Provedení kaberové prohlídky včetně dodání elektronického záznamu na CD zadavateli a tištěné dokumentace průběhu kamerové prohlídky",null,null,3]
[null,null,"Stoka \"A.1\" KT DN300 a PVC DN315:",null,0,null,null,null,null,null,null,null,"Stoka \"A.1\" KT DN300 a PVC DN315:"]
[null,null,"KT DN300:24,50*2",null,49,null,null,null,null,null,null,null,"KT DN300:24,50*2"]
[null,null,"PVC DN315:507,80*2",null,1015.6,null,null,null,null,null,null,null,"PVC DN315:507,80*2"]
[34,"894421111RT1","Osazení betonových dílců šachet skruže rovné, na kroužek, do 0,5 t","kus",19,null,{"$f":"E187*F187","v":0},0,{"$f":"E187*H187","v":0},0,{"$f":"E187*J187","v":0},null,null,null,2,null,null,null,null,null,null,null,null,null,null,null,1,1,1,null,null,null,null,null,null,null,null,null,null,null,null,null,null,null,null,null,null,null,null,null,null,1,{"$f":"IF(AZ187=1,G187,0)","v":0},{"$f":"IF(AZ187=2,G187,0)","v":0},{"$f":"IF(AZ187=3,G187,0)","v":0},{"$f":"IF(AZ187=4,G187,0)","v":0},{"$f":"IF(AZ187=5,G187,0)","v":0},null,null,null,null,null,null,null,null,null,null,null,null,null,null,null,null,null,null,null,null,null,1,1]
[null,null,"Položka je určena pro osazení betonových dílců šachet dle DIN 4034, skruže rovné na kroužek, hmotnost do 0,5 t.",null,null,null,null,null,null,null,null,"Položka je určena pro osazení betonových dílců šachet dle DIN 4034, skruže rovné na kroužek, hmotnost do 0,5 t.",null,null,3]
[null,null,"V položce nejsou zakalkulovány náklady na dodání betonových dílců; dílce se oceňují ve specifikaci.",null,null,null,null,null,null,null,null,"V položce nejsou zakalkulovány náklady na dodání betonových dílců; dílce se oceňují ve specifikaci.",null,null,3]
[null,null,"Stoka \"A.1\" KT DN300 a PVC DN315:",null,0,null,null,null,null,null,null,null,"Stoka \"A.1\" KT DN300 a PVC DN315:"]
[null,null,"Skruž H250:12",null,12,null,null,null,null,null,null,null,"Skruž H250:12"]
[null,null,"Skruž H500:7",null,7,null,null,null,null,null,null,null,"Skruž H500:7"]
[35,"894421112RT1","Osazení betonových dílců šachet skruže rovné, na kroužek, do 1,4 t","kus",2,null,{"$f":"E193*F193","v":0},0,{"$f":"E193*H193","v":0},0,{"$f":"E193*J193","v":0},null,null,null,2,null,null,null,null,null,null,null,null,null,null,null,1,1,1,null,null,null,null,null,null,null,null,null,null,null,null,null,null,null,null,null,null,null,null,null,null,1,{"$f":"IF(AZ193=1,G193,0)","v":0},{"$f":"IF(AZ193=2,G193,0)","v":0},{"$f":"IF(AZ193=3,G193,0)","v":0},{"$f":"IF(AZ193=4,G193,0)","v":0},{"$f":"IF(AZ193=5,G193,0)","v":0},null,null,null,null,null,null,null,null,null,null,null,null,null,null,null,null,null,null,null,null,null,1,1]
[null,null,"Položka je určena pro osazení betonových dílců šachet dle DIN 4034, skruže rovné na kroužek, hmotnost přes 0,5 do 1,4 t.",null,null,null,null,null,null,null,null,"Položka je určena pro osazení betonových dílců šachet dle DIN 4034, skruže rovné na kroužek, hmotnost přes 0,5 do 1,4 t.",null,null,3]
[null,null,"V položce nejsou zakalkulovány náklady na dodání betonových dílců; dílce se oceňují ve specifikaci.",null,null,null,null,null,null,null,null,"V položce nejsou zakalkulovány náklady na dodání betonových dílců; dílce se oceňují ve specifikaci.",null,null,3]
[null,null,"Stoka \"A.1\" KT DN300 a PVC DN315:",null,0,null,null,null,null,null,null,null,"Stoka \"A.1\" KT DN300 a PVC DN315:"]
[null,null,"Skruž H1000:2",null,2,null,null,null,null,null,null,null,"Skruž H1000:2"]
[36,"894422111RT1","Osazení betonových dílců šachet skruže přechodové, na kroužek","kus",19,null,{"$f":"E198*F198","v":0},0,{"$f":"E198*H198","v":0},0,{"$f":"E198*J198","v":0},null,null,null,2,null,null,null,null,null,null,null,null,null,null,null,1,1,1,null,null,null,null,null,null,null,null,null,null,null,null,null,null,null,null,null,null,null,null,null,null,1,{"$f":"IF(AZ198=1,G198,0)","v":0},{"$f":"IF(AZ198=2,G198,0)","v":0},{"$f":"IF(AZ198=3,G198,0)","v":0},{"$f":"IF(AZ198=4,G198,0)","v":0},{"$f":"IF(AZ198=5,G198,0)","v":0},null,null,null,null,null,null,null,null,null,null,null,null,null,null,null,null,null,null,null,null,null,1,1]
[null,null,"Položka je určena pro osazení betonových dílců šachet dle DIN 4034, skruže přechodové, zákrytové, kónusy,... na kroužek.",null,null,null,null,null,null,null,null,"Položka je určena pro osazení betonových dílců šachet dle DIN 4034, skruže přechodové, zákrytové, kónusy,... na kroužek.",null,null,3]
[null,null,"Stoka \"A.1\" KT DN300 a PVC DN315:",null,0,null,null,null,null,null,null,null,"Stoka \"A.1\" KT DN300 a PVC DN315:"]
[null,null,"Kónus H580:19",null,19,null,null,null,null,null,null,null,"Kónus H580:19"]
[37,"894423111RT1","Osazení betonových dílců šachet do 2,0 t šachtová dna, na kroužek, do 2,0 t","kus",19,null,{"$f":"E202*F202","v":0},0,{"$f":"E202*H202","v":0},0,{"$f":"E202*J202","v":0},null,null,null,2,null,null,null,null,null,null,null,null,null,null,null,1,1,1,null,null,null,null,null,null,null,null,null,null,null,null,null,null,null,null,null,null,null,null,null,null,1,{"$f":"IF(AZ202=1,G202,0)","v":0},{"$f":"IF(AZ202=2,G202,0)","v":0},{"$f":"IF(AZ202=3,G202,0)","v":0},{"$f":"IF(AZ202=4,G202,0)","v":0},{"$f":"IF(AZ202=5,G202,0)","v":0},null,null,null,null,null,null,null,null,null,null,null,null,null,null,null,null,null,null,null,null,null,1,1]
[null,null,"Položka je určena pro osazení betonových dílců šachet dle DIN 4034, šachtová dna na kroužek, hmotnost do 2,0 t.",null,null,null,null,null,null,null,null,"Položka je určena pro osazení betonových dílců šachet dle DIN 4034, šachtová dna na kroužek, hmotnost do 2,0 t.",null,null,3]
[null,null,"V položce nejsou zakalkulovány náklady na dodání betonových dílců;",null,null,null,null,null,null,null,null,"V položce nejsou zakalkulovány náklady na dodání betonových dílců;",null,null,3]
[null,null,"Součástí položky je i podbetonování šachtového dna betonem C12/15 v min. tl. 10 cm.",null,null,null,null,null,null,null,null,"Součástí položky je i podbetonování šachtového dna betonem C12/15 v min. tl. 10 cm.",null,null,3]
[null,null,"Stoka \"A.1\" KT DN300 a PVC DN315:",null,0,null,null,null,null,null,null,null,"Stoka \"A.1\" KT DN300 a PVC DN315:"]
[null,null,"ŠD H575:10",null,10,null,null,null,null,null,null,null,"ŠD H575:10"]
[null,null,"ŠD H675:9",null,9,null,null,null,null,null,null,null,"ŠD H675:9"]
[38,"894431621RR7","Šachta brzdící \"REHAU\" pro DN315 Šachta SA.1-7","kus",1,null,{"$f":"E209*F209","v":0},0.53669999999999995,{"$f":"E209*H209","v":0.53669999999999995},0,{"$f":"E209*J209","v":0},null,null,null,2,null,null,null,null,null,null,null,null,null,null,null,1,1,1,null,null,null,null,null,null,null,null,null,null,null,null,null,null,null,null,null,null,null,null,null,null,1,{"$f":"IF(AZ209=1,G209,0)","v":0},{"$f":"IF(AZ209=2,G209,0)","v":0},{"$f":"IF(AZ209=3,G209,0)","v":0},{"$f":"IF(AZ209=4,G209,0)","v":0},{"$f":"IF(AZ209=5,G209,0)","v":0},null,null,null,null,null,null,null,null,null,null,null,null,null,null,null,null,null,null,null,null,null,1,1]
[null,null,"Provedení dle projektové dokumentace včetně dodávky zákrytové desky bez poklopu",null,null,null,null,null,null,null,null,"Provedení dle projektové dokumentace včetně dodávky zákrytové desky bez poklopu",null,null,3]
[39,"894431621RR8","Šachta brzdící \"REHAU\" pro DN315 Šachta SA.1-8","kus",1,null,{"$f":"E211*F211","v":0},0.53669999999999995,{"$f":"E211*H211","v":0.53669999999999995},0,{"$f":"E211*J211","v":0},null,null,null,2,null,null,null,null,null,null,null,null,null,null,null,1,1,1,null,null,null,null,null,null,null,null,null,null,null,null,null,null,null,null,null,null,null,null,null,null,1,{"$f":"IF(AZ211=1,G211,0)","v":0},{"$f":"IF(AZ211=2,G211,0)","v":0},{"$f":"IF(AZ211=3,G211,0)","v":0},{"$f":"IF(AZ211=4,G211,0)","v":0},{"$f":"IF(AZ211=5,G211,0)","v":0},null,null,null,null,null,null,null,null,null,null,null,null,null,null,null,null,null,null,null,null,null,1,1]
[null,null,"Provedení dle projektové dokumentace včetně dodávky zákrytové desky bez poklopu",null,null,null,null,null,null,null,null,"Provedení dle projektové dokumentace včetně dodávky zákrytové desky bez poklopu",null,null,3]
[40,"896290111RRX","Příplatek za vytvoření spadiště ","kus",1,null,{"$f":"E213*F213","v":0},1.17689,{"$f":"E213*H213","v":1.17689},0,{"$f":"E213*J213","v":0},null,null,null,2,null,null,null,null,null,null,null,null,null,null,null,1,1,1,null,null,null,null,null,null,null,null,null,null,null,null,null,null,null,null,null,null,null,null,null,null,1,{"$f":"IF(AZ213=1,G213,0)","v":0},{"$f":"IF(AZ213=2,G213,0)","v":0},{"$f":"IF(AZ213=3,G213,0)","v":0},{"$f":"IF(AZ213=4,G213,0)","v":0},{"$f":"IF(AZ213=5,G213,0)","v":0},null,null,null,null,null,null,null,null,null,null,null,null,null,null,null,null,null,null,null,null,null,1,1]
[null,null,"Součástí položky je montáž a dodávka potrubí a tvarovek dle PD včetně obetonování.",null,null,null,null,null,null,null,null,"Součástí položky je montáž a dodávka potrubí a tvarovek dle PD včetně obetonování.",null,null,3]
[41,"899102111R00","Osazení poklopu s rámem do 100 kg ","kus",21,null,{"$f":"E215*F215","v":0},7.0200000000000002E-3,{"$f":"E215*H215","v":0.14742},0,{"$f":"E215*J215","v":0},null,null,null,2,null,null,null,null,null,null,null,null,null,null,null,1,1,1,null,null,null,null,null,null,null,null,null,null,null,null,null,null,null,null,null,null,null,null,null,null,1,{"$f":"IF(AZ215=1,G215,0)","v":0},{"$f":"IF(AZ215=2,G215,0)","v":0},{"$f":"IF(AZ215=3,G215,0)","v":0},{"$f":"IF(AZ215=4,G215,0)","v":0},{"$f":"IF(AZ215=5,G215,0)","v":0},null,null,null,null,null,null,null,null,null,null,null,null,null,null,null,null,null,null,null,null,null,1,1]
[null,null,"Osazení provizorních poklopů během realizace stavby  (nefakturovaný materiál zhotovitele)",null,null,null,null,null,null,null,null,"Osazení provizorních poklopů během realizace stavby  (nefakturovaný materiál zhotovitele)",null,null,3]
[42,"899711122R00","Fólie výstražná z PVC šedá, šířka 30 cm ","m",532.29999999999995,null,{"$f":"E217*F217","v":0},0,{"$f":"E217*H217","v":0},0,{"$f":"E217*J217","v":0},null,null,null,2,null,null,null,null,null,null,null,null,null,null,null,1,1,1,null,null,null,null,null,null,null,null,null,null,null,null,null,null,null,null,null,null,null,null,null,null,1,{"$f":"IF(AZ217=1,G217,0)","v":0},{"$f":"IF(AZ217=2,G217,0)","v":0},{"$f":"IF(AZ217=3,G217,0)","v":0},{"$f":"IF(AZ217=4,G217,0)","v":0},{"$f":"IF(AZ217=5,G217,0)","v":0},null,null,null,null,null,null,null,null,null,null,null,null,null,null,null,null,null,null,null,null,null,1,1]
[null,null,"Stoka \"A.1\" KT DN300 a PVC DN315:",null,0,null,null,null,null,null,null,null,"Stoka \"A.1\" KT DN300 a PVC DN315:"]
[null,null,"KT DN300:24,50",null,24.5,null,null,null,null,null,null,null,"KT DN300:24,50"]
[null,null,"PVC DN315:507,80",null,507.8,null,null,null,null,null,null,null,"PVC DN315:507,80"]
[43,"286111934.R","Trubka kanalizační PVC QUANTUM SN 12 DN 315","m",523.03399999999999,null,{"$f":"E221*F221","v":0},1.0200000000000001E-3,{"$f":"E221*H221","v":0.53349468},null,{"$f":"E221*J221","v":0},null,null,null,2,null,null,null,null,null,null,null,null,null,null,null,3,1,"286111934.R",null,null,null,null,null,null,null,null,null,null,null,null,null,null,null,null,null,null,null,null,null,null,1,{"$f":"IF(AZ221=1,G221,0)","v":0},{"$f":"IF(AZ221=2,G221,0)","v":0},{"$f":"IF(AZ221=3,G221,0)","v":0},{"$f":"IF(AZ221=4,G221,0)","v":0},{"$f":"IF(AZ221=5,G221,0)","v":0},null,null,null,null,null,null,null,null,null,null,null,null,null,null,null,null,null,null,null,null,null,3,1]
[null,null,"Jedná  se  o  plnostěnné kanalizační trubky DN 150 – DN 400, SN 12 kN/m2 , zvenčí  i  zevnitř  hladké. Jsou  opatřeny hrdlem,  v  němž  je  vložen vysoce  elastický  jazýčkový  kroužek.  konce  trubek  (dříků)  jsou opatřeny  zkosením  pod  úhlem  15°.  Způsob  použití  trubek  je  „U“  dle  normy  ČSN  EN  1401-1, tj. mimo budovy. Spolehlivá  funkce  těsnění  je  jištěna  výztužným  kroužkem  z  elastomeru.  Je  tak  zamezeno  vypad-nutí nebo vytlačení kroužku při manipulaci a montáži. Tento systém zaručuje při správné montáži ",null,null,null,null,null,null,null,null,"Jedná  se  o  plnostěnné kanalizační trubky DN 150 – DN 400, SN 12 kN/m2 , zvenčí  i  zevnitř  hladké. Jsou  opatřeny hrdlem,  v  němž  je  vložen vysoce  elastický  jazýčkový  kroužek.  konce  trubek  (dříků)  jsou opatřeny  zkosením  pod  úhlem  15°.  Způsob  použití  trubek  je  „U“  dle  normy  ČSN  EN  1401-1, tj. mimo budovy. Spolehlivá  funkce  těsnění  je  jištěna  výztužným  kroužkem  z  elastomeru.  Je  tak  zamezeno  vypad-nutí nebo vytlačení kroužku při manipulaci a montáži. Tento systém zaručuje při správné montáži ",null,null,3]
[null,null,"dokonalou  těsnost  do  výšky  vodního  sloupce  5  metrů.",null,null,null,null,null,null,null,null,"dokonalou  těsnost  do  výšky  vodního  sloupce  5  metrů.",null,null,3]
[null,null,"Stoka \"A.1\" KT DN300 a PVC DN300:",null,0,null,null,null,null,null,null,null,"Stoka \"A.1\" KT DN300 a PVC DN300:"]
[null,null,"PVC DN300:507,80*1,03",null,523.03399999999999,null,null,null,null,null,null,null,"PVC DN300:507,80*1,03"]
[44,"286506131.R","Odbočka kanaliz. PVC QUANTUM SDR 34 DN 300/150/45°","kus",4.0599999999999996,null,{"$f":"E226*F226","v":0},6.13E-3,{"$f":"E226*H226","v":2.4887799999999998E-2},null,{"$f":"E226*J226","v":0},null,null,null,2,null,null,null,null,null,null,null,null,null,null,null,3,1,"286506131.R",null,null,null,null,null,null,null,null,null,null,null,null,null,null,null,null,null,null,null,null,null,null,1,{"$f":"IF(AZ226=1,G226,0)","v":0},{"$f":"IF(AZ226=2,G226,0)","v":0},{"$f":"IF(AZ226=3,G226,0)","v":0},{"$f":"IF(AZ226=4,G226,0)","v":0},{"$f":"IF(AZ226=5,G226,0)","v":0},null,null,null,null,null,null,null,null,null,null,null,null,null,null,null,null,null,null,null,null,null,3,1]
[null,null,"Tvarovky kanalizačního systému PVC QUANTUM SDR 34",null,null,null,null,null,null,null,null,"Tvarovky kanalizačního systému PVC QUANTUM SDR 34",null,null,3]
[null,null,"Teplota při pokládce: min. -10 °C, max. 50 °C",null,null,null,null,null,null,null,null,"Teplota při pokládce: min. -10 °C, max. 50 °C",null,null,3]
[null,null,"Max. teplota média: trvale do 40 °C, krátkodobě do 60 °C",null,null,null,null,null,null,null,null,"Max. teplota média: trvale do 40 °C, krátkodobě do 60 °C",null,null,3]
[null,null,"Orientační výška krytí: min. 0,5 m, max. 10 m",null,null,null,null,null,null,null,null,"Orientační výška krytí: min. 0,5 m, max. 10 m",null,null,3]
[null,null,"Max. rychlost média: 12 m/s",null,null,null,null,null,null,null,null,"Max. rychlost média: 12 m/s",null,null,3]
[null,null,"Stoka \"A.1\" KT DN300 a PVC DN315:",null,0,null,null,null,null,null,null,null,"Stoka \"A.1\" KT DN300 a PVC DN315:"]
[null,null,"PVC DN315:",null,0,null,null,null,null,null,null,null,"PVC DN315:"]
[null,null,"Odbočka PVC DN315/160:4*1,015",null,4.0599999999999996,null,null,null,null,null,null,null,"Odbočka PVC DN315/160:4*1,015"]
[45,"286506132.R","Odbočka kanaliz. PVC QUANTUM SDR 34 DN 300/200/45°","kus",2.0299999999999998,null,{"$f":"E235*F235","v":0},7.1700000000000002E-3,{"$f":"E235*H235","v":1.45551E-2},null,{"$f":"E235*J235","v":0},null,null,null,2,null,null,null,null,null,null,null,null,null,null,null,3,1,"286506132.R",null,null,null,null,null,null,null,null,null,null,null,null,null,null,null,null,null,null,null,null,null,null,1,{"$f":"IF(AZ235=1,G235,0)","v":0},{"$f":"IF(AZ235=2,G235,0)","v":0},{"$f":"IF(AZ235=3,G235,0)","v":0},{"$f":"IF(AZ235=4,G235,0)","v":0},{"$f":"IF(AZ235=5,G235,0)","v":0},null,null,null,null,null,null,null,null,null,null,null,null,null,null,null,null,null,null,null,null,null,3,1]
[null,null,"Stoka \"A.1\" KT DN300 a PVC DN315:",null,0,null,null,null,null,null,null,null,"Stoka \"A.1\" KT DN300 a PVC DN315:"]
[null,null,"PVC DN315:",null,0,null,null,null,null,null,null,null,"PVC DN315:"]
[null,null,"Odbočka PVC DN315/200:2*1,015",null,2.0299999999999998,null,null,null,null,null,null,null,"Odbočka PVC DN315/200:2*1,015"]
[46,"592243543.R","Kónus šachetní TBR-Q.1 100x63/58/12 KPS","kus",19.190000000000001,null,{"$f":"E239*F239","v":0},0.58499999999999996,{"$f":"E239*H239","v":11.226150000000001},null,{"$f":"E239*J239","v":0},null,null,null,2,null,null,null,null,null,null,null,null,null,null,null,3,1,"592243543.R",null,null,null,null,null,null,null,null,null,null,null,null,null,null,null,null,null,null,null,null,null,null,1,{"$f":"IF(AZ239=1,G239,0)","v":0},{"$f":"IF(AZ239=2,G239,0)","v":0},{"$f":"IF(AZ239=3,G239,0)","v":0},{"$f":"IF(AZ239=4,G239,0)","v":0},{"$f":"IF(AZ239=5,G239,0)","v":0},null,null,null,null,null,null,null,null,null,null,null,null,null,null,null,null,null,null,null,null,null,3,1]
[null,null,"Stoka \"A.1\" KT DN300 a PVC DN315:",null,0,null,null,null,null,null,null,null,"Stoka \"A.1\" KT DN300 a PVC DN315:"]
[null,null,"Kónus H580:19*1,01",null,19.190000000000001,null,null,null,null,null,null,null,"Kónus H580:19*1,01"]
[47,"59224358.A.R","Skruž šachetní TBS-Q.1 100/25/12 PS","kus",12.12,null,{"$f":"E242*F242","v":0},0.25,{"$f":"E242*H242","v":3.03},null,{"$f":"E242*J242","v":0},null,null,null,2,null,null,null,null,null,null,null,null,null,null,null,3,1,"59224358.A.R",null,null,null,null,null,null,null,null,null,null,null,null,null,null,null,null,null,null,null,null,null,null,1,{"$f":"IF(AZ242=1,G242,0)","v":0},{"$f":"IF(AZ242=2,G242,0)","v":0},{"$f":"IF(AZ242=3,G242,0)","v":0},{"$f":"IF(AZ242=4,G242,0)","v":0},{"$f":"IF(AZ242=5,G242,0)","v":0},null,null,null,null,null,null,null,null,null,null,null,null,null,null,null,null,null,null,null,null,null,3,1]
[null,null,"Stoka \"A.1\" KT DN300 a PVC DN315:",null,0,null,null,null,null,null,null,null,"Stoka \"A.1\" KT DN300 a PVC DN315:"]
[null,null,"Skruž H250:12*1,01",null,12.12,null,null,null,null,null,null,null,"Skruž H250:12*1,01"]
[48,"59224361.A.R","Skruž šachetní TBS-Q.1 100/50/12 PS","kus",7.07,null,{"$f":"E245*F245","v":0},0.5,{"$f":"E245*H245","v":3.5350000000000001},null,{"$f":"E245*J245","v":0},null,null,null,2,null,null,null,null,null,null,null,null,null,null,null,3,1,"59224361.A.R",null,null,null,null,null,null,null,null,null,null,null,null,null,null,null,null,null,null,null,null,null,null,1,{"$f":"IF(AZ245=1,G245,0)","v":0},{"$f":"IF(AZ245=2,G245,0)","v":0},{"$f":"IF(AZ245=3,G245,0)","v":0},{"$f":"IF(AZ245=4,G245,0)","v":0},{"$f":"IF(AZ245=5,G245,0)","v":0},null,null,null,null,null,null,null,null,null,null,null,null,null,null,null,null,null,null,null,null,null,3,1]
[null,null,"Stoka \"A.1\" KT DN300 a PVC DN315:",null,0,null,null,null,null,null,null,null,"Stoka \"A.1\" KT DN300 a PVC DN315:"]
[null,null,"Skruž H500:7*1,01",null,7.07,null,null,null,null,null,null,null,"Skruž H500:7*1,01"]
[49,"59224364.A.R","Skruž šachetní TBS-Q.1 100/100/12 PS","kus",2.02,null,{"$f":"E248*F248","v":0},1,{"$f":"E248*H248","v":2.02},null,{"$f":"E248*J248","v":0},null,null,null,2,null,null,null,null,null,null,null,null,null,null,null,3,1,"59224364.A.R",null,null,null,null,null,null,null,null,null,null,null,null,null,null,null,null,null,null,null,null,null,null,1,{"$f":"IF(AZ248=1,G248,0)","v":0},{"$f":"IF(AZ248=2,G248,0)","v":0},{"$f":"IF(AZ248=3,G248,0)","v":0},{"$f":"IF(AZ248=4,G248,0)","v":0},{"$f":"IF(AZ248=5,G248,0)","v":0},null,null,null,null,null,null,null,null,null,null,null,null,null,null,null,null,null,null,null,null,null,3,1]
[null,null,"Stoka \"A.1\" KT DN300 a PVC DN315:",null,0,null,null,null,null,null,null,null,"Stoka \"A.1\" KT DN300 a PVC DN315:"]
[null,null,"Skruž H1000:2*1,01",null,2.02,null,null,null,null,null,null,null,"Skruž H1000:2*1,01"]
[50,"59224371.A.R","Dno šachetní TBZ-Q.1 100/58 KOM V20 včetně kynety dle PD","kus",10.1,null,{"$f":"E251*F251","v":0},1.27,{"$f":"E251*H251","v":12.827},null,{"$f":"E251*J251","v":0},null,null,null,2,null,null,null,null,null,null,null,null,null,null,null,3,1,"59224371.A.R",null,null,null,null,null,null,null,null,null,null,null,null,null,null,null,null,null,null,null,null,null,null,1,{"$f":"IF(AZ251=1,G251,0)","v":0},{"$f":"IF(AZ251=2,G251,0)","v":0},{"$f":"IF(AZ251=3,G251,0)","v":0},{"$f":"IF(AZ251=4,G251,0)","v":0},{"$f":"IF(AZ251=5,G251,0)","v":0},null,null,null,null,null,null,null,null,null,null,null,null,null,null,null,null,null,null,null,null,null,3,1]
[null,null,"Stoka \"A.1\" KT DN300 a PVC DN315:",null,0,null,null,null,null,null,null,null,"Stoka \"A.1\" KT DN300 a PVC DN315:"]
[null,null,"ŠD H575:10*1,01",null,10.1,null,null,null,null,null,null,null,"ŠD H575:10*1,01"]
[51,"59224373.A.R","Dno šachetní TBZ-Q.1 100/68 KOM V30 včetně kynety dle PD","kus",9.09,null,{"$f":"E254*F254","v":0},1.45,{"$f":"E254*H254","v":13.180499999999999},null,{"$f":"E254*J254","v":0},null,null,null,2,null,null,null,null,null,null,null,null,null,null,null,3,1,"59224373.A.R",null,null,null,null,null,null,null,null,null,null,null,null,null,null,null,null,null,null,null,null,null,null,1,{"$f":"IF(AZ254=1,G254,0)","v":0},{"$f":"IF(AZ254=2,G254,0)","v":0},{"$f":"IF(AZ254=3,G254,0)","v":0},{"$f":"IF(AZ254=4,G254,0)","v":0},{"$f":"IF(AZ254=5,G254,0)","v":0},null,null,null,null,null,null,null,null,null,null,null,null,null,null,null,null,null,null,null,null,null,3,1]
[null,null,"Stoka \"A.1\" KT DN300 a PVC DN315:",null,0,null,null,null,null,null,null,null,"Stoka \"A.1\" KT DN300 a PVC DN315:"]
[null,null,"ŠD H675:9*1,01",null,9.09,null,null,null,null,null,null,null,"ŠD H675:9*1,01"]
[52,"59224380.R","Těsnění elastom pro šach díly EMT 100/1.7 - DN1000","kus",40.4,null,{"$f":"E257*F257","v":0},2E-3,{"$f":"E257*H257","v":8.0799999999999997E-2},null,{"$f":"E257*J257","v":0},null,null,null,2,null,null,null,null,null,null,null,null,null,null,null,3,1,"59224380.R",null,null,null,null,null,null,null,null,null,null,null,null,null,null,null,null,null,null,null,null,null,null,1,{"$f":"IF(AZ257=1,G257,0)","v":0},{"$f":"IF(AZ257=2,G257,0)","v":0},{"$f":"IF(AZ257=3,G257,0)","v":0},{"$f":"IF(AZ257=4,G257,0)","v":0},{"$f":"IF(AZ257=5,G257,0)","v":0},null,null,null,null,null,null,null,null,null,null,null,null,null,null,null,null,null,null,null,null,null,3,1]
[null,null,"Stoka \"A.1\" KT DN300 a PVC DN315:",null,0,null,null,null,null,null,null,null,"Stoka \"A.1\" KT DN300 a PVC DN315:"]
[null,null,"Těsnění DN1000:40*1,01",null,40.4,null,null,null,null,null,null,null,"Těsnění DN1000:40*1,01"]
[53,"59710699.A.R","Trouba kameninová hrdlová DN 300, l=2,50 m, FN 48","m",23.344999999999999,null,{"$f":"E260*F260","v":0},7.1999999999999995E-2,{"$f":"E260*H260","v":1.6808399999999999},null,{"$f":"E260*J260","v":0},null,null,null,2,null,null,null,null,null,null,null,null,null,null,null,3,1,"59710699.A.R",null,null,null,null,null,null,null,null,null,null,null,null,null,null,null,null,null,null,null,null,null,null,1,{"$f":"IF(AZ260=1,G260,0)","v":0},{"$f":"IF(AZ260=2,G260,0)","v":0},{"$f":"IF(AZ260=3,G260,0)","v":0},{"$f":"IF(AZ260=4,G260,0)","v":0},{"$f":"IF(AZ260=5,G260,0)","v":0},null,null,null,null,null,null,null,null,null,null,null,null,null,null,null,null,null,null,null,null,null,3,1]
[null,null,"Hrdlové trouby KeraBase pro použití v komunální a průmyslové kanalizační systémy.",null,null,null,null,null,null,null,null,"Hrdlové trouby KeraBase pro použití v komunální a průmyslové kanalizační systémy.",null,null,3]
[null,null,"Otevřený výkop, normální zatížení.",null,null,null,null,null,null,null,null,"Otevřený výkop, normální zatížení.",null,null,3]
[null,null,"DN 300",null,null,null,null,null,null,null,null,"DN 300",null,null,3]
[null,null,"Délka 250 cm",null,null,null,null,null,null,null,null,"Délka 250 cm",null,null,3]
[null,null,"FN 48 kN/m",null,null,null,null,null,null,null,null,"FN 48 kN/m",null,null,3]
[null,null,"Hmotnost 181 kg/ks",null,null,null,null,null,null,null,null,"Hmotnost 181 kg/ks",null,null,3]
[null,null,"Hrdlo K/S",null,null,null,null,null,null,null,null,"Hrdlo K/S",null,null,3]
[null,null,"Třída pevnosti 160",null,null,null,null,null,null,null,null,"Třída pevnosti 160",null,null,3]
[null,null,"trouba oboustranně glazována",null,null,null,null,null,null,null,null,"trouba oboustranně glazována",null,null,3]
[null,null,"Stoka \"A.1\" KT DN300 a PVC DN315:",null,0,null,null,null,null,null,null,null,"Stoka \"A.1\" KT DN300 a PVC DN315:"]
[null,null,"KT DN300:24,50*1,015",null,24.8675,null,null,null,null,null,null,null,"KT DN300:24,50*1,015"]
[null,null,"Odpočet  - Tvarovky GA a GZ:-0,75*(1+1)*1,015",null,-1.5225,null,null,null,null,null,null,null,"Odpočet  - Tvarovky GA a GZ:-0,75*(1+1)*1,015"]
[54,"59710824.A.R","Trouba kameninová zkrácená GZ DN 300, FN 48","kus",1.0149999999999999,null,{"$f":"E273*F273","v":0},5.6000000000000001E-2,{"$f":"E273*H273","v":5.6839999999999995E-2},null,{"$f":"E273*J273","v":0},null,null,null,2,null,null,null,null,null,null,null,null,null,null,null,3,1,"59710824.A.R",null,null,null,null,null,null,null,null,null,null,null,null,null,null,null,null,null,null,null,null,null,null,1,{"$f":"IF(AZ273=1,G273,0)","v":0},{"$f":"IF(AZ273=2,G273,0)","v":0},{"$f":"IF(AZ273=3,G273,0)","v":0},{"$f":"IF(AZ273=4,G273,0)","v":0},{"$f":"IF(AZ273=5,G273,0)","v":0},null,null,null,null,null,null,null,null,null,null,null,null,null,null,null,null,null,null,null,null,null,3,1]
[null,null,"Zkrácené trouby KeraBase GZ pro použití v komunální a průmyslové kanalizační systémy.",null,null,null,null,null,null,null,null,"Zkrácené trouby KeraBase GZ pro použití v komunální a průmyslové kanalizační systémy.",null,null,3]
[null,null,"Otevřený výkop, normální zatížení.",null,null,null,null,null,null,null,null,"Otevřený výkop, normální zatížení.",null,null,3]
[null,null,"DN 300",null,null,null,null,null,null,null,null,"DN 300",null,null,3]
[null,null,"Délka 60 cm",null,null,null,null,null,null,null,null,"Délka 60 cm",null,null,3]
[null,null,"FN 48 kN/m",null,null,null,null,null,null,null,null,"FN 48 kN/m",null,null,3]
[null,null,"Hmotnost 56 kg/ks",null,null,null,null,null,null,null,null,"Hmotnost 56 kg/ks",null,null,3]
[null,null,"Hrdlo K",null,null,null,null,null,null,null,null,"Hrdlo K",null,null,3]
[null,null,"Třída pevnosti 160",null,null,null,null,null,null,null,null,"Třída pevnosti 160",null,null,3]
[null,null,"Stoka \"A.1\" KT DN300 a PVC DN315:",null,0,null,null,null,null,null,null,null,"Stoka \"A.1\" KT DN300 a PVC DN315:"]
[null,null,"Tvarovky GZ DN300:1*1,015",null,1.0149999999999999,null,null,null,null,null,null,null,"Tvarovky GZ DN300:1*1,015"]
[55,"59710837.A.R","Trouba kameninová zkrácená GA DN 300, FN 48","kus",1.0149999999999999,null,{"$f":"E284*F284","v":0},4.4999999999999998E-2,{"$f":"E284*H284","v":4.5674999999999993E-2},null,{"$f":"E284*J284","v":0},null,null,null,2,null,null,null,null,null,null,null,null,null,null,null,3,1,"59710837.A.R",null,null,null,null,null,null,null,null,null,null,null,null,null,null,null,null,null,null,null,null,null,null,1,{"$f":"IF(AZ284=1,G284,0)","v":0},{"$f":"IF(AZ284=2,G284,0)","v":0},{"$f":"IF(AZ284=3,G284,0)","v":0},{"$f":"IF(AZ284=4,G284,0)","v":0},{"$f":"IF(AZ284=5,G284,0)","v":0},null,null,null,null,null,null,null,null,null,null,null,null,null,null,null,null,null,null,null,null,null,3,1]
[null,null,"Zkrácené trouby KeraBase GA pro použití v komunální a průmyslové kanalizační systémy.",null,null,null,null,null,null,null,null,"Zkrácené trouby KeraBase GA pro použití v komunální a průmyslové kanalizační systémy.",null,null,3]
[null,null,"Otevřený výkop, normální zatížení.",null,null,null,null,null,null,null,null,"Otevřený výkop, normální zatížení.",null,null,3]
[null,null,null,null,null,null,null,null,null,null,null,null,null,null,3]
[null,null,"DN 300",null,null,null,null,null,null,null,null,"DN 300",null,null,3]
[null,null,"Délka 60 cm",null,null,null,null,null,null,null,null,"Délka 60 cm",null,null,3]
[null,null,"FN 48 kN/m",null,null,null,null,null,null,null,null,"FN 48 kN/m",null,null,3]
[null,null,"Hmotnost 45 kg/ks",null,null,null,null,null,null,null,null,"Hmotnost 45 kg/ks",null,null,3]
[null,null,"Hrdlo K",null,null,null,null,null,null,null,null,"Hrdlo K",null,null,3]
[null,null,"Třída pevnosti 200",null,null,null,null,null,null,null,null,"Třída pevnosti 200",null,null,3]
[null,null,"Stoka \"A.1\" KT DN300 a PVC DN315:",null,0,null,null,null,null,null,null,null,"Stoka \"A.1\" KT DN300 a PVC DN315:"]
[null,null,"Tvarovky GA DN300:1*1,015",null,1.0149999999999999,null,null,null,null,null,null,null,"Tvarovky GA DN300:1*1,015"]
[56,"59711606.R","P-kroužek pro DN300","kus",2.0299999999999998,null,{"$f":"E296*F296","v":0},0,{"$f":"E296*H296","v":0},null,{"$f":"E296*J296","v":0},null,null,null,2,null,null,null,null,null,null,null,null,null,null,null,3,1,"59711606.R",null,null,null,null,null,null,null,null,null,null,null,null,null,null,null,null,null,null,null,null,null,null,1,{"$f":"IF(AZ296=1,G296,0)","v":0},{"$f":"IF(AZ296=2,G296,0)","v":0},{"$f":"IF(AZ296=3,G296,0)","v":0},{"$f":"IF(AZ296=4,G296,0)","v":0},{"$f":"IF(AZ296=5,G296,0)","v":0},null,null,null,null,null,null,null,null,null,null,null,null,null,null,null,null,null,null,null,null,null,3,1]
[null,null,"Stoka \"A.1\" KT DN300 a PVC DN315:",null,0,null,null,null,null,null,null,null,"Stoka \"A.1\" KT DN300 a PVC DN315:"]
[null,null,"P-kroužek DN300:2*1,015",null,2.0299999999999998,null,null,null,null,null,null,null,"P-kroužek DN300:2*1,015"]
[null,"Celkem za","8 Trubní vedení",null,null,null,{"$f":"SUM(G160:G298)","v":0},null,{"$f":"SUM(I160:I298)","v":50.659810580000006},null,{"$f":"SUM(K160:K298)","v":0},null,null,null,4,null,null,null,null,null,null,null,null,null,null,null,null,null,null,null,null,null,null,null,null,null,null,null,null,null,null,null,null,null,null,null,null,null,null,null,null,null,{"$f":"SUM(BA160:BA298)","v":0},{"$f":"SUM(BB160:BB298)","v":0},{"$f":"SUM(BC160:BC298)","v":0},{"$f":"SUM(BD160:BD298)","v":0},{"$f":"SUM(BE160:BE298)","v":0}]
["Díl:","93","Dokončovací práce inženýrských staveb",null,null,null,null,null,null,null,null,null,null,null,1]
[57,"939421111RT1","Osazení samonivelač.kanalizač.poklopu za finišerem bez dodávky poklopu","kus",21,null,{"$f":"E301*F301","v":0},0.15425,{"$f":"E301*H301","v":3.2392500000000002},0,{"$f":"E301*J301","v":0},null,null,null,2,null,null,null,null,null,null,null,null,null,null,null,1,0,0,null,null,null,null,null,null,null,null,null,null,null,null,null,null,null,null,null,null,null,null,null,null,1,{"$f":"IF(AZ301=1,G301,0)","v":0},{"$f":"IF(AZ301=2,G301,0)","v":0},{"$f":"IF(AZ301=3,G301,0)","v":0},{"$f":"IF(AZ301=4,G301,0)","v":0},{"$f":"IF(AZ301=5,G301,0)","v":0},null,null,null,null,null,null,null,null,null,null,null,null,null,null,null,null,null,null,null,null,null,1,0]
[null,null,"Položka obsahuje:",null,null,null,null,null,null,null,null,"Položka obsahuje:",null,null,3]
[null,null," osazení prefabrikovaného betonového prstence do rychletuhnoucí vysokopevnostní malty (s dodávkou hmot)",null,null,null,null,null,null,null,null,"- osazení prefabrikovaného betonového prstence do rychletuhnoucí malty (s dodávkou hmot)",null,null,3]
[null,null,"- zalití prstence rychletuhnoucí zálivkou do výše prstence (s dodávkou hmoty)",null,null,null,null,null,null,null,null,"- zalití prstence rychletuhnoucí zálivkou do výše prstence (s dodávkou hmoty)",null,null,3]
[null,null,"- vložení kruhového bednění",null,null,null,null,null,null,null,null,"- vložení kruhového bednění",null,null,3]
[null,null,"- doplnění mezikruží asfaltovou směsí do výšky současné podkladní vrstvy, zhutnění",null,null,null,null,null,null,null,null,"- doplnění mezikruží asfaltovou směsí do výšky současné podkladní vrstvy, zhutnění",null,null,3]
[null,null,"- vyjmutí kruhového bednění",null,null,null,null,null,null,null,null,"- vyjmutí kruhového bednění",null,null,3]
[null,null,"- osazení poklopu a zatlačení",null,null,null,null,null,null,null,null,"- osazení poklopu a zatlačení",null,null,3]
[null,null,"  (následuje pokládka finální vrstvy vozovky - není součástí položky)",null,null,null,null,null,null,null,null,"  (následuje pokládka finální vrstvy vozovky - není součástí položky)",null,null,3]
[null,null,"- povytažení poklopu",null,null,null,null,null,null,null,null,"- povytažení poklopu",null,null,3]
[null,null,"- podsyp asfaltovou směsí, spuštění poklopu a zhutnění směsi",null,null,null,null,null,null,null,null,"- podsyp asfaltovou směsí, spuštění poklopu a zhutnění směsi",null,null,3]
[58,"55244414.R","Poklop celolitinový v samonivelační rámu KDM65 D400 SN600","kus",21,null,{"$f":"E312*F312","v":0},0.113,{"$f":"E312*H312","v":2.3730000000000002},null,{"$f":"E312*J312","v":0},null,null,null,2,null,null,null,null,null,null,null,null,null,null,null,3,1,"55244414.R",null,null,null,null,null,null,null,null,null,null,null,null,null,null,null,null,null,null,null,null,null,null,1,{"$f":"IF(AZ312=1,G312,0)","v":0},{"$f":"IF(AZ312=2,G312,0)","v":0},{"$f":"IF(AZ312=3,G312,0)","v":0},{"$f":"IF(AZ312=4,G312,0)","v":0},{"$f":"IF(AZ312=5,G312,0)","v":0},null,null,null,null,null,null,null,null,null,null,null,null,null,null,null,null,null,null,null,null,null,3,1]
[null,null,"Kanalizační kruhový celolitinový samonivelační poklop bez pantu, horizontální PUR tlumící vložka na rámu, horizontální a vertikální  PUR tlumící vložka na víku, bez pružinového zajištění víka v rámu ",null,null,null,null,null,null,null,null,"Kanalizační kruhový celolitinový samonivelační poklop bez pantu, horizontální PUR tlumící vložka na rámu, horizontální a vertikální  PUR tlumící vložka na víku, bez pružinového zajištění víka v rámu ",null,null,3]
[null,null,"KDM65 bez ventilace nebo s ventilací dle TS VHS Turnov",null,null,null,null,null,null,null,null,"KDM65 bez ventilace nebo s ventilací dle TS VHS Turnov",null,null,3]
[null,null,"Víko se znakem Města ",null,null,null,null,null,null,null,null,"Víko se znakem Města ",null,null,3]
[null,"Celkem za","93 Dokončovací práce inženýrských staveb",null,null,null,{"$f":"SUM(G300:G315)","v":0},null,{"$f":"SUM(I300:I315)","v":5.6122500000000004},null,{"$f":"SUM(K300:K315)","v":0},null,null,null,4,null,null,null,null,null,null,null,null,null,null,null,null,null,null,null,null,null,null,null,null,null,null,null,null,null,null,null,null,null,null,null,null,null,null,null,null,null,{"$f":"SUM(BA300:BA315)","v":0},{"$f":"SUM(BB300:BB315)","v":0},{"$f":"SUM(BC300:BC315)","v":0},{"$f":"SUM(BD300:BD315)","v":0},{"$f":"SUM(BE300:BE315)","v":0}]
["Díl:","99","Staveništní přesun hmot",null,null,null,null,null,null,null,null,null,null,null,1]
[59,"998276101RXX","Přesun hmot, trubní vedení plastová, otevř. výkop pro celý rozsah objektu","t",2056.5459504320002,null,{"$f":"E318*F318","v":0},0,{"$f":"E318*H318","v":0},null,{"$f":"E318*J318","v":0},null,null,null,2,null,null,null,null,null,null,null,null,null,null,null,7,1,2,null,null,null,null,null,null,null,null,null,null,null,null,null,null,null,null,null,null,null,null,null,null,1,{"$f":"IF(AZ318=1,G318,0)","v":0},{"$f":"IF(AZ318=2,G318,0)","v":0},{"$f":"IF(AZ318=3,G318,0)","v":0},{"$f":"IF(AZ318=4,G318,0)","v":0},{"$f":"IF(AZ318=5,G318,0)","v":0},null,null,null,null,null,null,null,null,null,null,null,null,null,null,null,null,null,null,null,null,null,7,1]
[null,null,"Staveništní doprava pro celý rozsah objektu - doprava zmeziskládek vybudovaného zařízení staveniště zhotovitele na jednotlivé části staveniště.",null,null,null,null,null,null,null,null,"Staveništní doprava pro celý rozsah objektu - doprava zmeziskládek vybudovaného zařízení staveniště zhotovitele na jednotlivé části staveniště.",null,null,3]
[null,"Celkem za","99 Staveništní přesun hmot",null,null,null,{"$f":"SUM(G317:G319)","v":0},null,{"$f":"SUM(I317:I319)","v":0},null,{"$f":"SUM(K317:K319)","v":0},null,null,null,4,null,null,null,null,null,null,null,null,null,null,null,null,null,null,null,null,null,null,null,null,null,null,null,null,null,null,null,null,null,null,null,null,null,null,null,null,null,{"$f":"SUM(BA317:BA319)","v":0},{"$f":"SUM(BB317:BB319)","v":0},{"$f":"SUM(BC317:BC319)","v":0},{"$f":"SUM(BD317:BD319)","v":0},{"$f":"SUM(BE317:BE319)","v":0}]

{"sheet":"01 01.03 KL","index":7,"n_rows":45,"n_cols":8,"rows_kept":45,"cut":false,"hidden":false,"merged":[[22,0,22,1],[7,2,7,4],[8,2,8,4],[9,2,9,4],[10,2,10,4],[11,2,11,4],[50,1,50,6],[29,5,29,6],[30,5,30,6],[31,5,31,6],[32,5,32,6],[33,5,33,6],[36,1,44,6],[45,1,45,6],[46,1,46,6],[47,1,47,6],[48,1,48,6],[49,1,49,6]]}
["POLOŽKOVÝ ROZPOČET"]
["Rozpočet",null,"01.03","Stoka \"A.1.1\" km 0,000 - 0,216.9",null,"JKSO ","827.21.A3"]
[]
["Objekt",null,null,null,null,"SKP "]
["01",null,"Kanalizace",null,null,"Měrná jednotka","m"]
["Stavba",null,null,null,null,"Počet jednotek",0]
["3395",null,"Kanalizace a ČOV Benešov u Semil",null,null,"Náklady na m.j.",{"$f":"IF(G6=0,,ROUND((F30+F32)/G6,1))","v":0}]
["Projektant",null,"Vodohospodářský rozvoj a výstavba a.s.",null,null,"Typ rozpočtu"]
["Zpracovatel projektu"]
["Objednatel",null,"Vodohospodářské sdružení Turnov"]
["Dodavatel",null,".",null,null,"Zakázkové číslo "]
["Rozpočtoval",null,null,null,null,"Počet listů"]
["ROZPOČTOVÉ NÁKLADY"]
["Základní rozpočtové náklady"]
[null,"HSV celkem",{"$f":"'01 01.03 Rek'!E14","v":0}]
["Z","PSV celkem",{"$f":"'01 01.03 Rek'!F14","v":0}]
["R","M práce celkem",{"$f":"'01 01.03 Rek'!H14","v":0}]
["N","M dodávky celkem",{"$f":"'01 01.03 Rek'!G14","v":0}]
["ZRN celkem",null,{"$f":"SUM(C15:C18)","v":0}]
[]
["HZS",null,{"$f":"'01 01.03 Rek'!I14","v":0}]
["ZRN+HZS",null,{"$f":"C19+C21","v":0}]
["ZRN+ost.náklady+HZS",null,{"$f":"C22+G23","v":0}]
["Vypracoval",null,null,"Za zhotovitele",null,"Za objednatele"]
["Jméno :",null,null,"Jméno :",null,"Jméno :"]
["Datum :",null,null,"Datum :",null,"Datum :"]
[]
["Podpis :",null,null,"Podpis:",null,"Podpis:"]
[]
["Základ pro DPH",null,21,"%  ",null,{"$f":"C23-F32","v":0}]
["DPH",null,{"$f":"C30","v":21},"% ",null,{"$f":"ROUND(PRODUCT(F30,C31/100),0)","v":0}]
["Základ pro DPH",null,0,"% ",null,0]
["DPH",null,{"$f":"C32","v":0},"% ",null,{"$f":"ROUND(PRODUCT(F32,C33/100),0)","v":0}]
["CENA ZA OBJEKT CELKEM",null,null,null,null,{"$f":"ROUND(SUM(F30:F33),0)","v":0}]
[]
["Poznámka :",null,null,null,null,null,null," "]
[null,null,null,null,null,null,null," "]
[null,null,null,null,null,null,null," "]
[null,null,null,null,null,null,null," "]
[null,null,null,null,null,null,null," "]
[null,null,null,null,null,null,null," "]
[null,null,null,null,null,null,null," "]
[null,null,null,null,null,null,null," "]
[null,null,null,null,null,null,null," "]
[null,null,null,null,null,null,null," "]

{"sheet":"01 01.03 Rek","index":8,"n_rows":14,"n_cols":9,"rows_kept":14,"cut":false,"hidden":false,"merged":[[0,0,0,1],[1,0,1,1],[1,6,1,8]]}
["Stavba :",null,"3395 Kanalizace a ČOV Benešov u Semil",null,null,null,"Rozpočet :","01.03"]
["Objekt :",null,"01 Kanalizace",null,null,null,"Stoka \"A.1.1\" km 0,000 - 0,216.9"]
[]
["REKAPITULACE  STAVEBNÍCH  DÍLŮ"]
[]
[null,"Stavební díl",null,null,"HSV","PSV","Dodávka","Montáž","HZS"]
[{"$f":"'01 01.03 Pol'!B7","v":"1"},{"$f":"'01 01.03 Pol'!C7","v":"Zemní práce"},null,null,{"$f":"'01 01.03 Pol'!BA86","v":0},{"$f":"'01 01.03 Pol'!BB86","v":0},{"$f":"'01 01.03 Pol'!BC86","v":0},{"$f":"'01 01.03 Pol'!BD86","v":0},{"$f":"'01 01.03 Pol'!BE86","v":0}]
[{"$f":"'01 01.03 Pol'!B87","v":"21"},{"$f":"'01 01.03 Pol'!C87","v":"Úprava podloží a základ.spáry"},null,null,{"$f":"'01 01.03 Pol'!BA91","v":0},{"$f":"'01 01.03 Pol'!BB91","v":0},{"$f":"'01 01.03 Pol'!BC91","v":0},{"$f":"'01 01.03 Pol'!BD91","v":0},{"$f":"'01 01.03 Pol'!BE91","v":0}]
[{"$f":"'01 01.03 Pol'!B92","v":"45"},{"$f":"'01 01.03 Pol'!C92","v":"Podkladní a vedlejší konstrukce"},null,null,{"$f":"'01 01.03 Pol'!BA120","v":0},{"$f":"'01 01.03 Pol'!BB120","v":0},{"$f":"'01 01.03 Pol'!BC120","v":0},{"$f":"'01 01.03 Pol'!BD120","v":0},{"$f":"'01 01.03 Pol'!BE120","v":0}]
[{"$f":"'01 01.03 Pol'!B121","v":"5"},{"$f":"'01 01.03 Pol'!C121","v":"Komunikace"},null,null,{"$f":"'01 01.03 Pol'!BA125","v":0},{"$f":"'01 01.03 Pol'!BB125","v":0},{"$f":"'01 01.03 Pol'!BC125","v":0},{"$f":"'01 01.03 Pol'!BD125","v":0},{"$f":"'01 01.03 Pol'!BE125","v":0}]
[{"$f":"'01 01.03 Pol'!B126","v":"8"},{"$f":"'01 01.03 Pol'!C126","v":"Trubní vedení"},null,null,{"$f":"'01 01.03 Pol'!BA193","v":0},{"$f":"'01 01.03 Pol'!BB193","v":0},{"$f":"'01 01.03 Pol'!BC193","v":0},{"$f":"'01 01.03 Pol'!BD193","v":0},{"$f":"'01 01.03 Pol'!BE193","v":0}]
[{"$f":"'01 01.03 Pol'!B194","v":"93"},{"$f":"'01 01.03 Pol'!C194","v":"Dokončovací práce inženýrských staveb"},null,null,{"$f":"'01 01.03 Pol'!BA210","v":0},{"$f":"'01 01.03 Pol'!BB210","v":0},{"$f":"'01 01.03 Pol'!BC210","v":0},{"$f":"'01 01.03 Pol'!BD210","v":0},{"$f":"'01 01.03 Pol'!BE210","v":0}]
[{"$f":"'01 01.03 Pol'!B211","v":"99"},{"$f":"'01 01.03 Pol'!C211","v":"Staveništní přesun hmot"},null,null,{"$f":"'01 01.03 Pol'!BA214","v":0},{"$f":"'01 01.03 Pol'!BB214","v":0},{"$f":"'01 01.03 Pol'!BC214","v":0},{"$f":"'01 01.03 Pol'!BD214","v":0},{"$f":"'01 01.03 Pol'!BE214","v":0}]
[null,"CELKEM  OBJEKT",null,null,{"$f":"SUM(E7:E13)","v":0},{"$f":"SUM(F7:F13)","v":0},{"$f":"SUM(G7:G13)","v":0},{"$f":"SUM(H7:H13)","v":0},{"$f":"SUM(I7:I13)","v":0}]

{"sheet":"01 01.03 Pol","index":9,"n_rows":214,"n_cols":80,"rows_kept":214,"cut":false,"hidden":false,"merged":[[13,2,13,3],[14,2,14,3],[15,2,15,3],[17,2,17,6],[18,2,18,3],[19,2,19,3],[0,0,0,6],[2,0,2,1],[3,0,3,1],[3,4,3,6],[8,2,8,6],[9,2,9,6],[11,2,11,6],[12,2,12,6],[26,2,26,3],[28,2,28,3],[29,2,29,3],[30,2,30,3],[32,2,32,6],[33,2,33,3],[20,2,20,3],[21,2,21,3],[22,2,22,3],[23,2,23,3],[24,2,24,3],[25,2,25,3],[42,2,42,3],[43,2,43,3],[44,2,44,3],[46,2,46,3],[47,2,47,3],[48,2,48,3],[34,2,34,3],[35,2,35,3],[37,2,37,3],[38,2,38,3],[39,2,39,3],[41,2,41,6],[58,2,58,6],[59,2,59,6],[60,2,60,3],[61,2,61,3],[62,2,62,3],[63,2,63,3],[50,2,50,3],[51,2,51,3],[52,2,52,3],[54,2,54,3],[55,2,55,3],[56,2,56,3],[72,2,72,3],[73,2,73,3],[75,2,75,3],[77,2,77,3],[78,2,78,3],[79,2,79,3],[64,2,64,3],[65,2,65,3],[66,2,66,3],[67,2,67,3],[69,2,69,3],[71,2,71,3],[88,2,88,3],[89,2,89,3],[93,2,93,3],[95,2,95,6],[96,2,96,3],[97,2,97,3],[98,2,98,3],[80,2,80,3],[81,2,81,3],[82,2,82,3],[83,2,83,3],[84,2,84,3],[108,2,108,3],[109,2,109,3],[111,2,111,3],[112,2,112,3],[114,2,114,3],[115,2,115,3],[99,2,99,3],[100,2,100,3],[102,2,102,3],[103,2,103,3],[105,2,105,3],[106,2,106,3],[127,2,127,3],[129,2,129,6],[130,2,130,3],[131,2,131,3],[133,2,133,6],[134,2,134,6],[135,2,135,6],[136,2,136,6],[117,2,117,3],[118,2,118,3],[122,2,122,3],[123,2,123,3],[145,2,145,3],[146,2,146,3],[148,2,148,6],[149,2,149,3],[150,2,150,3],[152,2,152,6],[137,2,137,3],[139,2,139,6],[140,2,140,3],[142,2,142,6],[143,2,143,6],[144,2,144,3],[161,2,161,3],[163,2,163,6],[164,2,164,6],[165,2,165,3],[167,2,167,6],[168,2,168,6],[153,2,153,6],[154,2,154,6],[155,2,155,3],[156,2,156,3],[157,2,157,3],[159,2,159,6],[176,2,176,3],[178,2,178,3],[179,2,179,3],[181,2,181,3],[182,2,182,3],[184,2,184,3],[169,2,169,6],[170,2,170,6],[171,2,171,6],[172,2,172,3],[173,2,173,3],[175,2,175,3],[185,2,185,3],[187,2,187,3],[188,2,188,3],[190,2,190,3],[191,2,191,3],[204,2,204,6],[206,2,206,6],[207,2,207,6],[208,2,208,6],[212,2,212,6],[195,2,195,6],[196,2,196,6],[197,2,197,6],[198,2,198,6],[199,2,199,6],[200,2,200,6],[201,2,201,6],[202,2,202,6],[203,2,203,6]]}
["Položkový rozpočet "]
[]
["Stavba :",null,"3395 Kanalizace a ČOV Benešov u Semil",null,"Rozpočet:",{"$f":"'01 01.03 Rek'!H1","v":"01.03"}]
["Objekt :",null,"01 Kanalizace",null,{"$f":"'01 01.03 Rek'!G2","v":"Stoka \"A.1.1\" km 0,000 - 0,216.9"}]
[]
["P.č.","Číslo položky","Název položky","MJ","množství","cena / MJ","celkem (Kč)","Jednotková hmotnost","Celková hmotnost","Jednotková dem.hmot.","Celková dem.hmot."]
["Díl:","1","Zemní práce",null,null,null,null,null,null,null,null,null,null,null,1]
[1,"115101201RRX","Přečerpávání nebo převedení splašků a dešť. vod ","h",200,null,{"$f":"E8*F8","v":0},0,{"$f":"E8*H8","v":0},0,{"$f":"E8*J8","v":0},null,null,null,2,null,null,null,null,null,null,null,null,null,null,null,1,1,1,null,null,null,null,null,null,null,null,null,null,null,null,null,null,null,null,null,null,null,null,null,null,1,{"$f":"IF(AZ8=1,G8,0)","v":0},{"$f":"IF(AZ8=2,G8,0)","v":0},{"$f":"IF(AZ8=3,G8,0)","v":0},{"$f":"IF(AZ8=4,G8,0)","v":0},{"$f":"IF(AZ8=5,G8,0)","v":0},null,null,null,null,null,null,null,null,null,null,null,null,null,null,null,null,null,null,null,null,null,1,1]
[null,null,"Převedení a čerpání splašků nebo dešťových vod dle zvolené technologie zhotovitele stavby.",null,null,null,null,null,null,null,null,"Převedení a čerpání splašků nebo dešťových vod dle zvolené technologie zhotovitele stavby.",null,null,3]
[null,null,"(Množství bude určeno na stavbě dle skutečnosti)",null,null,null,null,null,null,null,null,"(Množství bude určeno na stavbě dle skutečnosti)",null,null,3]
[2,"130001101RRX","Příplatek za ztížené hloubení v blízkosti vedení ","m3",53.8874,null,{"$f":"E11*F11","v":0},0,{"$f":"E11*H11","v":0},0,{"$f":"E11*J11","v":0},null,null,null,2,null,null,null,null,null,null,null,null,null,null,null,1,1,1,null,null,null,null,null,null,null,null,null,null,null,null,null,null,null,null,null,null,null,null,null,null,1,{"$f":"IF(AZ11=1,G11,0)","v":0},{"$f":"IF(AZ11=2,G11,0)","v":0},{"$f":"IF(AZ11=3,G11,0)","v":0},{"$f":"IF(AZ11=4,G11,0)","v":0},{"$f":"IF(AZ11=5,G11,0)","v":0},null,null,null,null,null,null,null,null,null,null,null,null,null,null,null,null,null,null,null,null,null,1,1]
[null,null,"Včetně případných nutných dokopávem a ručního výkopu podél sousedících inženýrských sítí.",null,null,null,null,null,null,null,null,"Včetně případných nutných dokopávem a ručního výkopu podél sousedících inženýrských sítí.",null,null,3]
[null,null,"Součástí položky je i dočasné zajištění inženýrských sítí v prostoru výkopů (potrubí, kabely a pod.)",null,null,null,null,null,null,null,null,"Součástí položky je i dočasné zajištění inženýrských sítí v prostoru výkopů (potrubí, kabely a pod.)",null,null,3]
[null,null,"Stoka \"A.1-1\" PVC DN250:",null,0,null,null,null,null,null,null,null,"Stoka \"A.1-1\" PVC DN250:"]
[null,null,"Výkopy:",null,0,null,null,null,null,null,null,null,"Výkopy:"]
[null,null,"V hornině tř. 3 - 5 - 18%:299,3745*0,18",null,53.8874,null,null,null,null,null,null,null,"V hornině tř. 3 - 5 - 18%:299,3745*0,18"]
[3,"132201212R00","Hloubení rýh š.do 200 cm hor.3 do 1000m3,STROJNĚ ","m3",179.62469999999999,null,{"$f":"E17*F17","v":0},0,{"$f":"E17*H17","v":0},0,{"$f":"E17*J17","v":0},null,null,null,2,null,null,null,null,null,null,null,null,null,null,null,1,1,1,null,null,null,null,null,null,null,null,null,null,null,null,null,null,null,null,null,null,null,null,null,null,1,{"$f":"IF(AZ17=1,G17,0)","v":0},{"$f":"IF(AZ17=2,G17,0)","v":0},{"$f":"IF(AZ17=3,G17,0)","v":0},{"$f":"IF(AZ17=4,G17,0)","v":0},{"$f":"IF(AZ17=5,G17,0)","v":0},null,null,null,null,null,null,null,null,null,null,null,null,null,null,null,null,null,null,null,null,null,1,1]
[null,null,"Položka obsahuje hloubení rýh traktorbagrem, naložení výkopku na dopravní prostředek pro svislé, nebo vodorovné přemístění, popř. přemístění výkopku do 3 m (po povrchu území), případné zajištění rypadel polštáři, udržování pracoviště a ochranu výkopiště proti stékání srážkové vody z okolního terénu i s jejím odvodněním, nebo odvedením, přesekání a odstranění kořenů ve výkopišti, odstranění napadávek, urovnání dna výkopu.",null,null,null,null,null,null,null,null,"Položka obsahuje hloubení rýh traktorbagrem, naložení výkopku na dopravní prostředek pro svislé, nebo vodorovné přemístění, popř. přemístění výkopku do 3 m (po povrchu území), případné zajištění rypadel polštáři, udržování pracoviště a ochranu výkopiště proti stékání srážkové vody z okolního terénu i s jejím odvodněním, nebo odvedením, přesekání a odstranění kořenů ve výkopišti, odstranění napadávek, urovnání dna výkopu.",null,null,3]
[null,null,"Stoka \"A.1-1\" PVC DN250:",null,0,null,null,null,null,null,null,null,"Stoka \"A.1-1\" PVC DN250:"]
[null,null,"Výkopy:",null,0,null,null,null,null,null,null,null,"Výkopy:"]
[null,null,"Začátek provozního součtu",null,0,null,null,null,null,null,null,null,"Začátek provozního součtu"]
[null,null,"ŠA.1-3 - ŠA.1-1-10:216,90*0,90*(1,90+1,90)/2",null,370.899,null,null,null,null,null,null,null,"ŠA.1-3 - ŠA.1-1-10:216,90*0,90*(1,90+1,90)/2"]
[null,null,"Prohloubení pro RŠ:1,60*1,60*0,20*10",null,5.12,null,null,null,null,null,null,null,"Prohloubení pro RŠ:1,60*1,60*0,20*10"]
[null,null,"Rozšíření pro RŠ:1,60*(1,60-0,90)*14,50",null,16.239999999999998,null,null,null,null,null,null,null,"Rozšíření pro RŠ:1,60*(1,60-0,90)*14,50"]
[null,null,"Odpočet objemu konstrukce komunikace:-(216,90*0,90+(1,60*(1,60-0,90)*10))*0,45",null,-92.884500000000003,null,null,null,null,null,null,null,"Odpočet objemu konstrukce komunikace:-(216,90*0,90+(1,60*(1,60-0,90)*10))*0,45"]
[null,null,"Konec provozního součtu",null,299.37450000000001,null,null,null,null,null,null,null,"Konec provozního součtu"]
[null,null,"V hornině tř. 3 - 60%:299,3745*0,6",null,179.62469999999999,null,null,null,null,null,null,null,"V hornině tř. 3 - 60%:299,3745*0,6"]
[4,"132201219R00","Přípl.za lepivost,hloubení rýh 200cm,hor.3,STROJNĚ ","m3",89.812299999999993,null,{"$f":"E28*F28","v":0},0,{"$f":"E28*H28","v":0},0,{"$f":"E28*J28","v":0},null,null,null,2,null,null,null,null,null,null,null,null,null,null,null,1,1,1,null,null,null,null,null,null,null,null,null,null,null,null,null,null,null,null,null,null,null,null,null,null,1,{"$f":"IF(AZ28=1,G28,0)","v":0},{"$f":"IF(AZ28=2,G28,0)","v":0},{"$f":"IF(AZ28=3,G28,0)","v":0},{"$f":"IF(AZ28=4,G28,0)","v":0},{"$f":"IF(AZ28=5,G28,0)","v":0},null,null,null,null,null,null,null,null,null,null,null,null,null,null,null,null,null,null,null,null,null,1,1]
[null,null,"Stoka \"A.1-1\" PVC DN250:",null,0,null,null,null,null,null,null,null,"Stoka \"A.1-1\" PVC DN250:"]
[null,null,"Výkopy:",null,0,null,null,null,null,null,null,null,"Výkopy:"]
[null,null,"V hornině tř. 3 - 60%:299,3745*0,6*0,5",null,89.812299999999993,null,null,null,null,null,null,null,"V hornině tř. 3 - 60%:299,3745*0,6*0,5"]
[5,"132301212R00","Hloubení rýh š.do 200 cm hor.4 do 1000 m3, STROJNĚ ","m3",89.812299999999993,null,{"$f":"E32*F32","v":0},0,{"$f":"E32*H32","v":0},0,{"$f":"E32*J32","v":0},null,null,null,2,null,null,null,null,null,null,null,null,null,null,null,1,1,1,null,null,null,null,null,null,null,null,null,null,null,null,null,null,null,null,null,null,null,null,null,null,1,{"$f":"IF(AZ32=1,G32,0)","v":0},{"$f":"IF(AZ32=2,G32,0)","v":0},{"$f":"IF(AZ32=3,G32,0)","v":0},{"$f":"IF(AZ32=4,G32,0)","v":0},{"$f":"IF(AZ32=5,G32,0)","v":0},null,null,null,null,null,null,null,null,null,null,null,null,null,null,null,null,null,null,null,null,null,1,1]
[null,null,"Položka obsahuje hloubení rýh traktorbagrem, naložení výkopku na dopravní prostředek pro svislé, nebo vodorovné přemístění, popř. přemístění výkopku do 3 m (po povrchu území), případné zajištění rypadel polštáři, udržování pracoviště a ochranu výkopiště proti stékání srážkové vody z okolního terénu i s jejím odvodněním, nebo odvedením, přesekání a odstranění kořenů ve výkopišti, odstranění napadávek, urovnání dna výkopu.",null,null,null,null,null,null,null,null,"Položka obsahuje hloubení rýh traktorbagrem, naložení výkopku na dopravní prostředek pro svislé, nebo vodorovné přemístění, popř. přemístění výkopku do 3 m (po povrchu území), případné zajištění rypadel polštáři, udržování pracoviště a ochranu výkopiště proti stékání srážkové vody z okolního terénu i s jejím odvodněním, nebo odvedením, přesekání a odstranění kořenů ve výkopišti, odstranění napadávek, urovnání dna výkopu.",null,null,3]
[null,null,"Stoka \"A.1-1\" PVC DN250:",null,0,null,null,null,null,null,null,null,"Stoka \"A.1-1\" PVC DN250:"]
[null,null,"Výkopy:",null,0,null,null,null,null,null,null,null,"Výkopy:"]
[null,null,"V hornině tř. 4 - 30%:299,3745*0,3",null,89.812299999999993,null,null,null,null,null,null,null,"V hornině tř. 4 - 30%:299,3745*0,3"]
[6,"132301219R00","Přípl.za lepivost,hloubení rýh 200cm,hor.4,STROJNĚ ","m3",44.906199999999998,null,{"$f":"E37*F37","v":0},0,{"$f":"E37*H37","v":0},0,{"$f":"E37*J37","v":0},null,null,null,2,null,null,null,null,null,null,null,null,null,null,null,1,1,1,null,null,null,null,null,null,null,null,null,null,null,null,null,null,null,null,null,null,null,null,null,null,1,{"$f":"IF(AZ37=1,G37,0)","v":0},{"$f":"IF(AZ37=2,G37,0)","v":0},{"$f":"IF(AZ37=3,G37,0)","v":0},{"$f":"IF(AZ37=4,G37,0)","v":0},{"$f":"IF(AZ37=5,G37,0)","v":0},null,null,null,null,null,null,null,null,null,null,null,null,null,null,null,null,null,null,null,null,null,1,1]
[null,null,"Stoka \"A.1-1\" PVC DN250:",null,0,null,null,null,null,null,null,null,"Stoka \"A.1-1\" PVC DN250:"]
[null,null,"Výkopy:",null,0,null,null,null,null,null,null,null,"Výkopy:"]
[null,null,"V hornině tř. 4 - 30%:299,3745*0,3*0,5",null,44.906199999999998,null,null,null,null,null,null,null,"V hornině tř. 4 - 30%:299,3745*0,3*0,5"]
[7,"132401211RRX","Hloubení rýh šířky do 200 cm v hor.5 STROJNĚ včetně případného dolamování ve vrstvě do 0,5 m","m3",29.9375,null,{"$f":"E41*F41","v":0},1.0410000000000001E-2,{"$f":"E41*H41","v":0.31164937500000001},0,{"$f":"E41*J41","v":0},null,null,null,2,null,null,null,null,null,null,null,null,null,null,null,1,1,1,null,null,null,null,null,null,null,null,null,null,null,null,null,null,null,null,null,null,null,null,null,null,1,{"$f":"IF(AZ41=1,G41,0)","v":0},{"$f":"IF(AZ41=2,G41,0)","v":0},{"$f":"IF(AZ41=3,G41,0)","v":0},{"$f":"IF(AZ41=4,G41,0)","v":0},{"$f":"IF(AZ41=5,G41,0)","v":0},null,null,null,null,null,null,null,null,null,null,null,null,null,null,null,null,null,null,null,null,null,1,1]
[null,null,"Položka obsahuje hloubení rýh traktorbagrem, naložení výkopku na dopravní prostředek pro svislé, nebo vodorovné přemístění, popř. přemístění výkopku do 3 m (po povrchu území), případné zajištění rypadel polštáři, udržování pracoviště a ochranu výkopiště proti stékání srážkové vody z okolního terénu i s jejím odvodněním, nebo odvedením, přesekání a odstranění kořenů ve výkopišti, odstranění napadávek, urovnání dna výkopu.včetně případného dolamování ve vrstvě do 0,5 m",null,null,null,null,null,null,null,null,"Položka obsahuje hloubení rýh traktorbagrem, naložení výkopku na dopravní prostředek pro svislé, nebo vodorovné přemístění, popř. přemístění výkopku do 3 m (po povrchu území), případné zajištění rypadel polštáři, udržování pracoviště a ochranu výkopiště proti stékání srážkové vody z okolního terénu i s jejím odvodněním, nebo odvedením, přesekání a odstranění kořenů ve výkopišti, odstranění napadávek, urovnání dna výkopu.včetně případného dolamování ve vrstvě do 0,5 m",null,null,3]
[null,null,"Stoka \"A.1-1\" PVC DN250:",null,0,null,null,null,null,null,null,null,"Stoka \"A.1-1\" PVC DN250:"]
[null,null,"Výkopy:",null,0,null,null,null,null,null,null,null,"Výkopy:"]
[null,null,"V hornině tř. 5 - 10%:299,3745*0,1",null,29.9375,null,null,null,null,null,null,null,"V hornině tř. 5 - 10%:299,3745*0,1"]
[8,"151101101R00","Pažení a rozepření stěn rýh - příložné - hl.do 2 m ","m2",824.22,null,{"$f":"E46*F46","v":0},9.8999999999999999E-4,{"$f":"E46*H46","v":0.81597779999999998},0,{"$f":"E46*J46","v":0},null,null,null,2,null,null,null,null,null,null,null,null,null,null,null,1,1,1,null,null,null,null,null,null,null,null,null,null,null,null,null,null,null,null,null,null,null,null,null,null,1,{"$f":"IF(AZ46=1,G46,0)","v":0},{"$f":"IF(AZ46=2,G46,0)","v":0},{"$f":"IF(AZ46=3,G46,0)","v":0},{"$f":"IF(AZ46=4,G46,0)","v":0},{"$f":"IF(AZ46=5,G46,0)","v":0},null,null,null,null,null,null,null,null,null,null,null,null,null,null,null,null,null,null,null,null,null,1,1]
[null,null,"Stoka \"A.1-1\" PVC DN250:",null,0,null,null,null,null,null,null,null,"Stoka \"A.1-1\" PVC DN250:"]
[null,null,"Výkopy:",null,0,null,null,null,null,null,null,null,"Výkopy:"]
[null,null,"ŠA.1-3 - ŠA.1-1-10:216,90*(1,90+1,90)/2*2",null,824.22,null,null,null,null,null,null,null,"ŠA.1-3 - ŠA.1-1-10:216,90*(1,90+1,90)/2*2"]
[9,"151101111R00","Odstranění pažení stěn rýh - příložné - hl. do 2 m ","m2",824.22,null,{"$f":"E50*F50","v":0},0,{"$f":"E50*H50","v":0},0,{"$f":"E50*J50","v":0},null,null,null,2,null,null,null,null,null,null,null,null,null,null,null,1,1,1,null,null,null,null,null,null,null,null,null,null,null,null,null,null,null,null,null,null,null,null,null,null,1,{"$f":"IF(AZ50=1,G50,0)","v":0},{"$f":"IF(AZ50=2,G50,0)","v":0},{"$f":"IF(AZ50=3,G50,0)","v":0},{"$f":"IF(AZ50=4,G50,0)","v":0},{"$f":"IF(AZ50=5,G50,0)","v":0},null,null,null,null,null,null,null,null,null,null,null,null,null,null,null,null,null,null,null,null,null,1,1]
[null,null,"Stoka \"A.1-1\" PVC DN250:",null,0,null,null,null,null,null,null,null,"Stoka \"A.1-1\" PVC DN250:"]
[null,null,"Výkopy:",null,0,null,null,null,null,null,null,null,"Výkopy:"]
[null,null,"ŠA.1-3 - ŠA.1-1-10:216,90*(1,90+1,90)/2*2",null,824.22,null,null,null,null,null,null,null,"ŠA.1-3 - ŠA.1-1-10:216,90*(1,90+1,90)/2*2"]
[10,"162701105RSZ","Vodorovné přemístění výkopku z hor.1-7 na skládku zhotovitele","m3",299.37450000000001,null,{"$f":"E54*F54","v":0},0,{"$f":"E54*H54","v":0},0,{"$f":"E54*J54","v":0},null,null,null,2,null,null,null,null,null,null,null,null,null,null,null,1,1,1,null,null,null,null,null,null,null,null,null,null,null,null,null,null,null,null,null,null,null,null,null,null,1,{"$f":"IF(AZ54=1,G54,0)","v":0},{"$f":"IF(AZ54=2,G54,0)","v":0},{"$f":"IF(AZ54=3,G54,0)","v":0},{"$f":"IF(AZ54=4,G54,0)","v":0},{"$f":"IF(AZ54=5,G54,0)","v":0},null,null,null,null,null,null,null,null,null,null,null,null,null,null,null,null,null,null,null,null,null,1,1]
[null,null,"Stoka \"A.1-1\" PVC DN250:",null,0,null,null,null,null,null,null,null,"Stoka \"A.1-1\" PVC DN250:"]
[null,null,"Výkopy:",null,0,null,null,null,null,null,null,null,"Výkopy:"]
[null,null,"V hornině tř. 3 - 5 :299,3745",null,299.37450000000001,null,null,null,null,null,null,null,"V hornině tř. 3 - 5 :299,3745"]
[11,"174101101R00","Zásyp jam, rýh, šachet se zhutněním ","m3",143.48249999999999,null,{"$f":"E58*F58","v":0},0,{"$f":"E58*H58","v":0},0,{"$f":"E58*J58","v":0},null,null,null,2,null,null,null,null,null,null,null,null,null,null,null,1,1,1,null,null,null,null,null,null,null,null,null,null,null,null,null,null,null,null,null,null,null,null,null,null,1,{"$f":"IF(AZ58=1,G58,0)","v":0},{"$f":"IF(AZ58=2,G58,0)","v":0},{"$f":"IF(AZ58=3,G58,0)","v":0},{"$f":"IF(AZ58=4,G58,0)","v":0},{"$f":"IF(AZ58=5,G58,0)","v":0},null,null,null,null,null,null,null,null,null,null,null,null,null,null,null,null,null,null,null,null,null,1,1]
[null,null,"Položka obsahuje strojní přemístění materiálu pro zásyp ze vzdálenosti do 10 m od okraje zásypu.",null,null,null,null,null,null,null,null,"Položka obsahuje strojní přemístění materiálu pro zásyp ze vzdálenosti do 10 m od okraje zásypu.",null,null,3]
[null,null,null,null,null,null,null,null,null,null,null,null,null,null,3]
[null,null,"Stoka \"A.1-1\" PVC DN250:",null,0,null,null,null,null,null,null,null,"Stoka \"A.1-1\" PVC DN250:"]
[null,null,"Zásypy ŠD fr. 0-63 mm:143,4825",null,143.48249999999999,null,null,null,null,null,null,null,"Zásypy ŠD fr. 0-63 mm:143,4825"]
[null,null,"Začátek provozního součtu",null,0,null,null,null,null,null,null,null,"Začátek provozního součtu"]
[null,null,"Výkopy:",null,0,null,null,null,null,null,null,null,"Výkopy:"]
[null,null,"V hornině tř. 3 - 5:299,3745",null,299.37450000000001,null,null,null,null,null,null,null,"V hornině tř. 3 - 5:299,3745"]
[null,null,"Odpočet objemu lože, potrubí a obsypů:-216,90*0,90*(0,15+0,25+0,30)",null,-136.64699999999999,null,null,null,null,null,null,null,"Odpočet objemu lože, potrubí a obsypů:-216,90*0,90*(0,15+0,25+0,30)"]
[null,null,"Odpočet objemu RŠ:-19,2450",null,-19.245000000000001,null,null,null,null,null,null,null,"Odpočet objemu RŠ:-19,2450"]
[null,null,"Konec provozního součtu",null,143.48250000000002,null,null,null,null,null,null,null,"Konec provozního součtu"]
[12,"175101101R00","Obsyp potrubí bez prohození sypaniny ","m3",96.718400000000003,null,{"$f":"E69*F69","v":0},0,{"$f":"E69*H69","v":0},0,{"$f":"E69*J69","v":0},null,null,null,2,null,null,null,null,null,null,null,null,null,null,null,1,1,1,null,null,null,null,null,null,null,null,null,null,null,null,null,null,null,null,null,null,null,null,null,null,1,{"$f":"IF(AZ69=1,G69,0)","v":0},{"$f":"IF(AZ69=2,G69,0)","v":0},{"$f":"IF(AZ69=3,G69,0)","v":0},{"$f":"IF(AZ69=4,G69,0)","v":0},{"$f":"IF(AZ69=5,G69,0)","v":0},null,null,null,null,null,null,null,null,null,null,null,null,null,null,null,null,null,null,null,null,null,1,1]
[null,null,"Stoka \"A.1-1\" PVC DN250:216,90*(0,90*(0,25+0,30)-0,125^2*Pi)",null,96.718400000000003,null,null,null,null,null,null,null,"Stoka \"A.1-1\" PVC DN250:216,90*(0,90*(0,25+0,30)-0,125^2*Pi)"]
[13,"199000002R00","Poplatek za skládku horniny 1- 7 č. dle katal. odpadů 17 05 04","m3",299.37450000000001,null,{"$f":"E71*F71","v":0},0,{"$f":"E71*H71","v":0},0,{"$f":"E71*J71","v":0},null,null,null,2,null,null,null,null,null,null,null,null,null,null,null,1,1,1,null,null,null,null,null,null,null,null,null,null,null,null,null,null,null,null,null,null,null,null,null,null,1,{"$f":"IF(AZ71=1,G71,0)","v":0},{"$f":"IF(AZ71=2,G71,0)","v":0},{"$f":"IF(AZ71=3,G71,0)","v":0},{"$f":"IF(AZ71=4,G71,0)","v":0},{"$f":"IF(AZ71=5,G71,0)","v":0},null,null,null,null,null,null,null,null,null,null,null,null,null,null,null,null,null,null,null,null,null,1,1]
[null,null,"Stoka \"A.1-1\" PVC DN250:",null,0,null,null,null,null,null,null,null,"Stoka \"A.1-1\" PVC DN250:"]
[null,null,"Výkopy:",null,0,null,null,null,null,null,null,null,"Výkopy:"]
[null,null,"V hornině tř. 3 - 5 :299,3745",null,299.37450000000001,null,null,null,null,null,null,null,"V hornině tř. 3 - 5 :299,3745"]
[14,"58337308.R","Štěrkopísek frakce 0-2 tř.B","t",192.7337,null,{"$f":"E75*F75","v":0},1,{"$f":"E75*H75","v":192.7337},null,{"$f":"E75*J75","v":0},null,null,null,2,null,null,null,null,null,null,null,null,null,null,null,3,1,"58337308.R",null,null,null,null,null,null,null,null,null,null,null,null,null,null,null,null,null,null,null,null,null,null,1,{"$f":"IF(AZ75=1,G75,0)","v":0},{"$f":"IF(AZ75=2,G75,0)","v":0},{"$f":"IF(AZ75=3,G75,0)","v":0},{"$f":"IF(AZ75=4,G75,0)","v":0},{"$f":"IF(AZ75=5,G75,0)","v":0},null,null,null,null,null,null,null,null,null,null,null,null,null,null,null,null,null,null,null,null,null,3,1]
[null,null,"Stoka \"A.1-1\" PVC DN250:216,90*(0,90*(0,25+0,30)-0,125^2*Pi)*1,973*1,01",null,192.7337,null,null,null,null,null,null,null,"Stoka \"A.1-1\" PVC DN250:216,90*(0,90*(0,25+0,30)-0,125^2*Pi)*1,973*1,01"]
[15,"58344197R","Štěrkodrtě frakce 0-63 A","t",271.43009999999998,null,{"$f":"E77*F77","v":0},1,{"$f":"E77*H77","v":271.43009999999998},null,{"$f":"E77*J77","v":0},null,null,null,2,null,null,null,null,null,null,null,null,null,null,null,3,1,"58344197R",null,null,null,null,null,null,null,null,null,null,null,null,null,null,null,null,null,null,null,null,null,null,1,{"$f":"IF(AZ77=1,G77,0)","v":0},{"$f":"IF(AZ77=2,G77,0)","v":0},{"$f":"IF(AZ77=3,G77,0)","v":0},{"$f":"IF(AZ77=4,G77,0)","v":0},{"$f":"IF(AZ77=5,G77,0)","v":0},null,null,null,null,null,null,null,null,null,null,null,null,null,null,null,null,null,null,null,null,null,3,1]
[null,null,"Stoka \"A.1-1\" PVC DN250:",null,0,null,null,null,null,null,null,null,"Stoka \"A.1-1\" PVC DN250:"]
[null,null,"Zásypy ŠD fr. 0-63 mm:143,4825*1,873*1,01",null,271.43009999999998,null,null,null,null,null,null,null,"Zásypy ŠD fr. 0-63 mm:143,4825*1,873*1,01"]
[null,null,"Začátek provozního součtu",null,0,null,null,null,null,null,null,null,"Začátek provozního součtu"]
[null,null,"Výkopy:",null,0,null,null,null,null,null,null,null,"Výkopy:"]
[null,null,"V hornině tř. 3 - 5:299,3745",null,299.37450000000001,null,null,null,null,null,null,null,"V hornině tř. 3 - 5:299,3745"]
[null,null,"Odpočet objemu lože, potrubí a obsypů:-216,90*0,90*(0,15+0,25+0,30)",null,-136.64699999999999,null,null,null,null,null,null,null,"Odpočet objemu lože, potrubí a obsypů:-216,90*0,90*(0,15+0,25+0,30)"]
[null,null,"Odpočet objemu RŠ:-19,2450",null,-19.245000000000001,null,null,null,null,null,null,null,"Odpočet objemu RŠ:-19,2450"]
[null,null,"Konec provozního součtu",null,143.48250000000002,null,null,null,null,null,null,null,"Konec provozního součtu"]
[null,"Celkem za","1 Zemní práce",null,null,null,{"$f":"SUM(G7:G85)","v":0},null,{"$f":"SUM(I7:I85)","v":465.29142717499997},null,{"$f":"SUM(K7:K85)","v":0},null,null,null,4,null,null,null,null,null,null,null,null,null,null,null,null,null,null,null,null,null,null,null,null,null,null,null,null,null,null,null,null,null,null,null,null,null,null,null,null,null,{"$f":"SUM(BA7:BA85)","v":0},{"$f":"SUM(BB7:BB85)","v":0},{"$f":"SUM(BC7:BC85)","v":0},{"$f":"SUM(BD7:BD85)","v":0},{"$f":"SUM(BE7:BE85)","v":0}]
["Díl:","21","Úprava podloží a základ.spáry",null,null,null,null,null,null,null,null,null,null,null,1]
[16,"212810010RAC","Trativody z PVC drenážních flexibilních trubek lože štěrkopísek a obsyp kamenivo, trubky d 100 mm","m",58.45,null,{"$f":"E88*F88","v":0},0.43651000000000001,{"$f":"E88*H88","v":25.5140095},0,{"$f":"E88*J88","v":0},null,null,null,2,null,null,null,null,null,null,null,null,null,null,null,1,1,1,null,null,null,null,null,null,null,null,null,null,null,null,null,null,null,null,null,null,null,null,null,null,1,{"$f":"IF(AZ88=1,G88,0)","v":0},{"$f":"IF(AZ88=2,G88,0)","v":0},{"$f":"IF(AZ88=3,G88,0)","v":0},{"$f":"IF(AZ88=4,G88,0)","v":0},{"$f":"IF(AZ88=5,G88,0)","v":0},null,null,null,null,null,null,null,null,null,null,null,null,null,null,null,null,null,null,null,null,null,1,1]
[null,null,"Stoka \"A.1-1\" PVC DN250:",null,0,null,null,null,null,null,null,null,"Stoka \"A.1-1\" PVC DN250:"]
[null,null,"Drenáž DN100:116,90*0,5",null,58.45,null,null,null,null,null,null,null,"Drenáž DN100:116,90*0,5"]
[null,"Celkem za","21 Úprava podloží a základ.spáry",null,null,null,{"$f":"SUM(G87:G90)","v":0},null,{"$f":"SUM(I87:I90)","v":25.5140095},null,{"$f":"SUM(K87:K90)","v":0},null,null,null,4,null,null,null,null,null,null,null,null,null,null,null,null,null,null,null,null,null,null,null,null,null,null,null,null,null,null,null,null,null,null,null,null,null,null,null,null,null,{"$f":"SUM(BA87:BA90)","v":0},{"$f":"SUM(BB87:BB90)","v":0},{"$f":"SUM(BC87:BC90)","v":0},{"$f":"SUM(BD87:BD90)","v":0},{"$f":"SUM(BE87:BE90)","v":0}]
["Díl:","45","Podkladní a vedlejší konstrukce",null,null,null,null,null,null,null,null,null,null,null,1]
[17,"451572111R00","Lože pod potrubí z kameniva těženého 0 - 4 mm ","m3",29.281500000000001,null,{"$f":"E93*F93","v":0},0.43051,{"$f":"E93*H93","v":12.605978565000001},0,{"$f":"E93*J93","v":0},null,null,null,2,null,null,null,null,null,null,null,null,null,null,null,1,1,1,null,null,null,null,null,null,null,null,null,null,null,null,null,null,null,null,null,null,null,null,null,null,1,{"$f":"IF(AZ93=1,G93,0)","v":0},{"$f":"IF(AZ93=2,G93,0)","v":0},{"$f":"IF(AZ93=3,G93,0)","v":0},{"$f":"IF(AZ93=4,G93,0)","v":0},{"$f":"IF(AZ93=5,G93,0)","v":0},null,null,null,null,null,null,null,null,null,null,null,null,null,null,null,null,null,null,null,null,null,1,1]
[null,null,"Stoka \"A.1-1\" PVC DN250:216,90*0,90*0,15",null,29.281500000000001,null,null,null,null,null,null,null,"Stoka \"A.1-1\" PVC DN250:216,90*0,90*0,15"]
[18,"452112111R00","Osazení beton. prstenců pod poklopy,výšky do100 mm ","kus",11,null,{"$f":"E95*F95","v":0},6.6E-3,{"$f":"E95*H95","v":7.2599999999999998E-2},0,{"$f":"E95*J95","v":0},null,null,null,2,null,null,null,null,null,null,null,null,null,null,null,1,1,1,null,null,null,null,null,null,null,null,null,null,null,null,null,null,null,null,null,null,null,null,null,null,1,{"$f":"IF(AZ95=1,G95,0)","v":0},{"$f":"IF(AZ95=2,G95,0)","v":0},{"$f":"IF(AZ95=3,G95,0)","v":0},{"$f":"IF(AZ95=4,G95,0)","v":0},{"$f":"IF(AZ95=5,G95,0)","v":0},null,null,null,null,null,null,null,null,null,null,null,null,null,null,null,null,null,null,null,null,null,1,1]
[null,null,"Volba položky se řídí výškou prstence nebo rámu. V položkách nejsou zakalkulovány náklady na dodávku betonových výrobků;",null,null,null,null,null,null,null,null,"Volba položky se řídí výškou prstence nebo rámu. V položkách nejsou zakalkulovány náklady na dodávku betonových výrobků;",null,null,3]
[null,null,"Stoka \"A.1-1\" PVC DN250:",null,0,null,null,null,null,null,null,null,"Stoka \"A.1-1\" PVC DN250:"]
[null,null,"VP40:4",null,4,null,null,null,null,null,null,null,"VP40:4"]
[null,null,"VP60:3",null,3,null,null,null,null,null,null,null,"VP60:3"]
[null,null,"VP80:3",null,3,null,null,null,null,null,null,null,"VP80:3"]
[null,null,"VP100:1",null,1,null,null,null,null,null,null,null,"VP100:1"]
[19,"452112121R00","Osazení beton. prstenců pod poklopy,výšky do200 mm ","kus",2,null,{"$f":"E102*F102","v":0},6.6E-3,{"$f":"E102*H102","v":1.32E-2},0,{"$f":"E102*J102","v":0},null,null,null,2,null,null,null,null,null,null,null,null,null,null,null,1,1,1,null,null,null,null,null,null,null,null,null,null,null,null,null,null,null,null,null,null,null,null,null,null,1,{"$f":"IF(AZ102=1,G102,0)","v":0},{"$f":"IF(AZ102=2,G102,0)","v":0},{"$f":"IF(AZ102=3,G102,0)","v":0},{"$f":"IF(AZ102=4,G102,0)","v":0},{"$f":"IF(AZ102=5,G102,0)","v":0},null,null,null,null,null,null,null,null,null,null,null,null,null,null,null,null,null,null,null,null,null,1,1]
[null,null,"Stoka \"A.1-1\" PVC DN250:",null,0,null,null,null,null,null,null,null,"Stoka \"A.1-1\" PVC DN250:"]
[null,null,"VP120:2",null,2,null,null,null,null,null,null,null,"VP120:2"]
[20,"59224346.A.R","Prstenec vyrovn šachetní TBW-Q.1 63/4","kus",4.04,null,{"$f":"E105*F105","v":0},2.8000000000000001E-2,{"$f":"E105*H105","v":0.11312},null,{"$f":"E105*J105","v":0},null,null,null,2,null,null,null,null,null,null,null,null,null,null,null,3,1,"59224346.A.R",null,null,null,null,null,null,null,null,null,null,null,null,null,null,null,null,null,null,null,null,null,null,1,{"$f":"IF(AZ105=1,G105,0)","v":0},{"$f":"IF(AZ105=2,G105,0)","v":0},{"$f":"IF(AZ105=3,G105,0)","v":0},{"$f":"IF(AZ105=4,G105,0)","v":0},{"$f":"IF(AZ105=5,G105,0)","v":0},null,null,null,null,null,null,null,null,null,null,null,null,null,null,null,null,null,null,null,null,null,3,1]
[null,null,"Stoka \"A.1-1\" PVC DN250:",null,0,null,null,null,null,null,null,null,"Stoka \"A.1-1\" PVC DN250:"]
[null,null,"VP40:4*1,01",null,4.04,null,null,null,null,null,null,null,"VP40:4*1,01"]
[21,"59224347.A.R","Prstenec vyrovn šachetní TBW-Q.1 63/6","kus",3.03,null,{"$f":"E108*F108","v":0},0.04,{"$f":"E108*H108","v":0.12119999999999999},null,{"$f":"E108*J108","v":0},null,null,null,2,null,null,null,null,null,null,null,null,null,null,null,3,1,"59224347.A.R",null,null,null,null,null,null,null,null,null,null,null,null,null,null,null,null,null,null,null,null,null,null,1,{"$f":"IF(AZ108=1,G108,0)","v":0},{"$f":"IF(AZ108=2,G108,0)","v":0},{"$f":"IF(AZ108=3,G108,0)","v":0},{"$f":"IF(AZ108=4,G108,0)","v":0},{"$f":"IF(AZ108=5,G108,0)","v":0},null,null,null,null,null,null,null,null,null,null,null,null,null,null,null,null,null,null,null,null,null,3,1]
[null,null,"Stoka \"A.1-1\" PVC DN250:",null,0,null,null,null,null,null,null,null,"Stoka \"A.1-1\" PVC DN250:"]
[null,null,"VP60:3*1,01",null,3.03,null,null,null,null,null,null,null,"VP60:3*1,01"]
[22,"59224348.A.R","Prstenec vyrovn šachetní TBW-Q.1 63/8","kus",3.03,null,{"$f":"E111*F111","v":0},5.3999999999999999E-2,{"$f":"E111*H111","v":0.16361999999999999},null,{"$f":"E111*J111","v":0},null,null,null,2,null,null,null,null,null,null,null,null,null,null,null,3,1,"59224348.A.R",null,null,null,null,null,null,null,null,null,null,null,null,null,null,null,null,null,null,null,null,null,null,1,{"$f":"IF(AZ111=1,G111,0)","v":0},{"$f":"IF(AZ111=2,G111,0)","v":0},{"$f":"IF(AZ111=3,G111,0)","v":0},{"$f":"IF(AZ111=4,G111,0)","v":0},{"$f":"IF(AZ111=5,G111,0)","v":0},null,null,null,null,null,null,null,null,null,null,null,null,null,null,null,null,null,null,null,null,null,3,1]
[null,null,"Stoka \"A.1-1\" PVC DN250:",null,0,null,null,null,null,null,null,null,"Stoka \"A.1-1\" PVC DN250:"]
[null,null,"VP80:3*1,01",null,3.03,null,null,null,null,null,null,null,"VP80:3*1,01"]
[23,"59224349.A.R","Prstenec vyrovn šachetní TBW-Q.1 63/10","kus",1.01,null,{"$f":"E114*F114","v":0},6.8000000000000005E-2,{"$f":"E114*H114","v":6.8680000000000005E-2},null,{"$f":"E114*J114","v":0},null,null,null,2,null,null,null,null,null,null,null,null,null,null,null,3,1,"59224349.A.R",null,null,null,null,null,null,null,null,null,null,null,null,null,null,null,null,null,null,null,null,null,null,1,{"$f":"IF(AZ114=1,G114,0)","v":0},{"$f":"IF(AZ114=2,G114,0)","v":0},{"$f":"IF(AZ114=3,G114,0)","v":0},{"$f":"IF(AZ114=4,G114,0)","v":0},{"$f":"IF(AZ114=5,G114,0)","v":0},null,null,null,null,null,null,null,null,null,null,null,null,null,null,null,null,null,null,null,null,null,3,1]
[null,null,"Stoka \"A.1-1\" PVC DN250:",null,0,null,null,null,null,null,null,null,"Stoka \"A.1-1\" PVC DN250:"]
[null,null,"VP H100:1*1,01",null,1.01,null,null,null,null,null,null,null,"VP H100:1*1,01"]
[24,"59224350.A.R","Prstenec vyrovn šachetní TBW-Q.1 63/12","kus",2.02,null,{"$f":"E117*F117","v":0},8.1000000000000003E-2,{"$f":"E117*H117","v":0.16362000000000002},null,{"$f":"E117*J117","v":0},null,null,null,2,null,null,null,null,null,null,null,null,null,null,null,3,1,"59224350.A.R",null,null,null,null,null,null,null,null,null,null,null,null,null,null,null,null,null,null,null,null,null,null,1,{"$f":"IF(AZ117=1,G117,0)","v":0},{"$f":"IF(AZ117=2,G117,0)","v":0},{"$f":"IF(AZ117=3,G117,0)","v":0},{"$f":"IF(AZ117=4,G117,0)","v":0},{"$f":"IF(AZ117=5,G117,0)","v":0},null,null,null,null,null,null,null,null,null,null,null,null,null,null,null,null,null,null,null,null,null,3,1]
[null,null,"Stoka \"A.1-1\" PVC DN250:",null,0,null,null,null,null,null,null,null,"Stoka \"A.1-1\" PVC DN250:"]
[null,null,"VP H120:2*1,01",null,2.02,null,null,null,null,null,null,null,"VP H120:2*1,01"]
[null,"Celkem za","45 Podkladní a vedlejší konstrukce",null,null,null,{"$f":"SUM(G92:G119)","v":0},null,{"$f":"SUM(I92:I119)","v":13.322018565},null,{"$f":"SUM(K92:K119)","v":0},null,null,null,4,null,null,null,null,null,null,null,null,null,null,null,null,null,null,null,null,null,null,null,null,null,null,null,null,null,null,null,null,null,null,null,null,null,null,null,null,null,{"$f":"SUM(BA92:BA119)","v":0},{"$f":"SUM(BB92:BB119)","v":0},{"$f":"SUM(BC92:BC119)","v":0},{"$f":"SUM(BD92:BD119)","v":0},{"$f":"SUM(BE92:BE119)","v":0}]
["Díl:","5","Komunikace",null,null,null,null,null,null,null,null,null,null,null,1]
[25,"572701119RRX","Provizorní zásyp rýh kam. hrubě drceným nebo recyk s následným odstraněním a odvozem","m3",92.884500000000003,null,{"$f":"E122*F122","v":0},1.4804999999999999,{"$f":"E122*H122","v":137.51550225},0,{"$f":"E122*J122","v":0},null,null,null,2,null,null,null,null,null,null,null,null,null,null,null,1,1,1,null,null,null,null,null,null,null,null,null,null,null,null,null,null,null,null,null,null,null,null,null,null,1,{"$f":"IF(AZ122=1,G122,0)","v":0},{"$f":"IF(AZ122=2,G122,0)","v":0},{"$f":"IF(AZ122=3,G122,0)","v":0},{"$f":"IF(AZ122=4,G122,0)","v":0},{"$f":"IF(AZ122=5,G122,0)","v":0},null,null,null,null,null,null,null,null,null,null,null,null,null,null,null,null,null,null,null,null,null,1,1]
[null,null,"Stoka \"A.1-1\" PVC DN250:",null,0,null,null,null,null,null,null,null,"Stoka \"A.1-1\" PVC DN250:"]
[null,null,"Objem konstrukce komunikace:(216,90*0,90+(1,60*(1,60-0,90)*10))*0,45",null,92.884500000000003,null,null,null,null,null,null,null,"Objem konstrukce komunikace:(216,90*0,90+(1,60*(1,60-0,90)*10))*0,45"]
[null,"Celkem za","5 Komunikace",null,null,null,{"$f":"SUM(G121:G124)","v":0},null,{"$f":"SUM(I121:I124)","v":137.51550225},null,{"$f":"SUM(K121:K124)","v":0},null,null,null,4,null,null,null,null,null,null,null,null,null,null,null,null,null,null,null,null,null,null,null,null,null,null,null,null,null,null,null,null,null,null,null,null,null,null,null,null,null,{"$f":"SUM(BA121:BA124)","v":0},{"$f":"SUM(BB121:BB124)","v":0},{"$f":"SUM(BC121:BC124)","v":0},{"$f":"SUM(BD121:BD124)","v":0},{"$f":"SUM(BE121:BE124)","v":0}]
["Díl:","8","Trubní vedení",null,null,null,null,null,null,null,null,null,null,null,1]
[26,"871373121R00","Montáž trub z plastu, gumový kroužek, DN 300 ","m",216.9,null,{"$f":"E127*F127","v":0},1.0000000000000001E-5,{"$f":"E127*H127","v":2.1690000000000004E-3},0,{"$f":"E127*J127","v":0},null,null,null,2,null,null,null,null,null,null,null,null,null,null,null,1,1,1,null,null,null,null,null,null,null,null,null,null,null,null,null,null,null,null,null,null,null,null,null,null,1,{"$f":"IF(AZ127=1,G127,0)","v":0},{"$f":"IF(AZ127=2,G127,0)","v":0},{"$f":"IF(AZ127=3,G127,0)","v":0},{"$f":"IF(AZ127=4,G127,0)","v":0},{"$f":"IF(AZ127=5,G127,0)","v":0},null,null,null,null,null,null,null,null,null,null,null,null,null,null,null,null,null,null,null,null,null,1,1]
[null,null,"Stoka \"A.1-1\" PVC DN250:216,90",null,216.9,null,null,null,null,null,null,null,"Stoka \"A.1-1\" PVC DN250:216,90"]
[27,"877373121R00","Montáž tvarovek odboč. plast. gum. kroužek DN 300 ","kus",1,null,{"$f":"E129*F129","v":0},5.0000000000000002E-5,{"$f":"E129*H129","v":5.0000000000000002E-5},0,{"$f":"E129*J129","v":0},null,null,null,2,null,null,null,null,null,null,null,null,null,null,null,1,1,1,null,null,null,null,null,null,null,null,null,null,null,null,null,null,null,null,null,null,null,null,null,null,1,{"$f":"IF(AZ129=1,G129,0)","v":0},{"$f":"IF(AZ129=2,G129,0)","v":0},{"$f":"IF(AZ129=3,G129,0)","v":0},{"$f":"IF(AZ129=4,G129,0)","v":0},{"$f":"IF(AZ129=5,G129,0)","v":0},null,null,null,null,null,null,null,null,null,null,null,null,null,null,null,null,null,null,null,null,null,1,1]
[null,null,"Položka je určena pro montáž tvarovek odbočných na potrubí z kanalizačních trub z plastu těsněných gumovým kroužkem v otevřeném výkopu.",null,null,null,null,null,null,null,null,"Položka je určena pro montáž tvarovek odbočných na potrubí z kanalizačních trub z plastu těsněných gumovým kroužkem v otevřeném výkopu.",null,null,3]
[null,null,"Stoka \"A.1-1\" PVC DN250:",null,0,null,null,null,null,null,null,null,"Stoka \"A.1-1\" PVC DN250:"]
[null,null,"Odbočka PVC DN250/160:1",null,1,null,null,null,null,null,null,null,"Odbočka PVC DN250/160:1"]
[28,"892601154R00","Čištění kanalizační stoky do DN 500, nad 100 m ","m",216.9,null,{"$f":"E133*F133","v":0},0,{"$f":"E133*H133","v":0},0,{"$f":"E133*J133","v":0},null,null,null,2,null,null,null,null,null,null,null,null,null,null,null,1,0,0,null,null,null,null,null,null,null,null,null,null,null,null,null,null,null,null,null,null,null,null,null,null,1,{"$f":"IF(AZ133=1,G133,0)","v":0},{"$f":"IF(AZ133=2,G133,0)","v":0},{"$f":"IF(AZ133=3,G133,0)","v":0},{"$f":"IF(AZ133=4,G133,0)","v":0},{"$f":"IF(AZ133=5,G133,0)","v":0},null,null,null,null,null,null,null,null,null,null,null,null,null,null,null,null,null,null,null,null,null,1,0]
[null,null,"V položce je zakalkulováno:",null,null,null,null,null,null,null,null,"V položce je zakalkulováno:",null,null,3]
[null,null,"a) otevření a uzavření revizních šachet a čisticích kusů",null,null,null,null,null,null,null,null,"a) otevření a uzavření revizních šachet a čisticích kusů",null,null,3]
[null,null,"b) natažení vysokotlakých hadic k místu odkud se bude kanalizace čistit",null,null,null,null,null,null,null,null,"b) natažení vysokotlakých hadic k místu odkud se bude kanalizace čistit",null,null,3]
[null,null,"c) vyčištění potrubí tlakovou vodou nebo motorovým pérem.",null,null,null,null,null,null,null,null,"c) vyčištění potrubí tlakovou vodou nebo motorovým pérem.",null,null,3]
[null,null,"Stoka \"A.1-1\" PVC DN250:216,90",null,216.9,null,null,null,null,null,null,null,"Stoka \"A.1-1\" PVC DN250:216,90"]
[29,"892855115R00","Kontrola kanalizace TV kamerou do 500 m ","m",216.9,null,{"$f":"E139*F139","v":0},0,{"$f":"E139*H139","v":0},0,{"$f":"E139*J139","v":0},null,null,null,2,null,null,null,null,null,null,null,null,null,null,null,1,1,1,null,null,null,null,null,null,null,null,null,null,null,null,null,null,null,null,null,null,null,null,null,null,1,{"$f":"IF(AZ139=1,G139,0)","v":0},{"$f":"IF(AZ139=2,G139,0)","v":0},{"$f":"IF(AZ139=3,G139,0)","v":0},{"$f":"IF(AZ139=4,G139,0)","v":0},{"$f":"IF(AZ139=5,G139,0)","v":0},null,null,null,null,null,null,null,null,null,null,null,null,null,null,null,null,null,null,null,null,null,1,1]
[null,null,"Provedení kaberové prohlídky včetně dodání elektronického záznamu na CD zadavateli a tištěné dokumentace průběhu kamerové prohlídky",null,null,null,null,null,null,null,null,"Provedení kaberové prohlídky včetně dodání elektronického záznamu na CD zadavateli a tištěné dokumentace průběhu kamerové prohlídky",null,null,3]
[null,null,"Stoka \"A.1-1\" PVC DN250:216,90",null,216.9,null,null,null,null,null,null,null,"Stoka \"A.1-1\" PVC DN250:216,90"]
[30,"894421111RT1","Osazení betonových dílců šachet skruže rovné, na kroužek, do 0,5 t","kus",11,null,{"$f":"E142*F142","v":0},0,{"$f":"E142*H142","v":0},0,{"$f":"E142*J142","v":0},null,null,null,2,null,null,null,null,null,null,null,null,null,null,null,1,1,1,null,null,null,null,null,null,null,null,null,null,null,null,null,null,null,null,null,null,null,null,null,null,1,{"$f":"IF(AZ142=1,G142,0)","v":0},{"$f":"IF(AZ142=2,G142,0)","v":0},{"$f":"IF(AZ142=3,G142,0)","v":0},{"$f":"IF(AZ142=4,G142,0)","v":0},{"$f":"IF(AZ142=5,G142,0)","v":0},null,null,null,null,null,null,null,null,null,null,null,null,null,null,null,null,null,null,null,null,null,1,1]
[null,null,"Položka je určena pro osazení betonových dílců šachet dle DIN 4034, skruže rovné na kroužek, hmotnost do 0,5 t.",null,null,null,null,null,null,null,null,"Položka je určena pro osazení betonových dílců šachet dle DIN 4034, skruže rovné na kroužek, hmotnost do 0,5 t.",null,null,3]
[null,null,"V položce nejsou zakalkulovány náklady na dodání betonových dílců; dílce se oceňují ve specifikaci.",null,null,null,null,null,null,null,null,"V položce nejsou zakalkulovány náklady na dodání betonových dílců; dílce se oceňují ve specifikaci.",null,null,3]
[null,null,"Stoka \"A.1-1\" PVC DN250:",null,0,null,null,null,null,null,null,null,"Stoka \"A.1-1\" PVC DN250:"]
[null,null,"Skruž H250:2",null,2,null,null,null,null,null,null,null,"Skruž H250:2"]
[null,null,"Skruž H500:9",null,9,null,null,null,null,null,null,null,"Skruž H500:9"]
[31,"894422111RT1","Osazení betonových dílců šachet skruže přechodové, na kroužek","kus",10,null,{"$f":"E148*F148","v":0},0,{"$f":"E148*H148","v":0},0,{"$f":"E148*J148","v":0},null,null,null,2,null,null,null,null,null,null,null,null,null,null,null,1,1,1,null,null,null,null,null,null,null,null,null,null,null,null,null,null,null,null,null,null,null,null,null,null,1,{"$f":"IF(AZ148=1,G148,0)","v":0},{"$f":"IF(AZ148=2,G148,0)","v":0},{"$f":"IF(AZ148=3,G148,0)","v":0},{"$f":"IF(AZ148=4,G148,0)","v":0},{"$f":"IF(AZ148=5,G148,0)","v":0},null,null,null,null,null,null,null,null,null,null,null,null,null,null,null,null,null,null,null,null,null,1,1]
[null,null,"Položka je určena pro osazení betonových dílců šachet dle DIN 4034, skruže přechodové, zákrytové, kónusy,... na kroužek.",null,null,null,null,null,null,null,null,"Položka je určena pro osazení betonových dílců šachet dle DIN 4034, skruže přechodové, zákrytové, kónusy,... na kroužek.",null,null,3]
[null,null,"Stoka \"A.1-1\" PVC DN250:",null,0,null,null,null,null,null,null,null,"Stoka \"A.1-1\" PVC DN250:"]
[null,null,"Kónus H580:10",null,10,null,null,null,null,null,null,null,"Kónus H580:10"]
[32,"894423111RT1","Osazení betonových dílců šachet do 2,0 t šachtová dna, na kroužek, do 2,0 t","kus",10,null,{"$f":"E152*F152","v":0},0,{"$f":"E152*H152","v":0},0,{"$f":"E152*J152","v":0},null,null,null,2,null,null,null,null,null,null,null,null,null,null,null,1,1,1,null,null,null,null,null,null,null,null,null,null,null,null,null,null,null,null,null,null,null,null,null,null,1,{"$f":"IF(AZ152=1,G152,0)","v":0},{"$f":"IF(AZ152=2,G152,0)","v":0},{"$f":"IF(AZ152=3,G152,0)","v":0},{"$f":"IF(AZ152=4,G152,0)","v":0},{"$f":"IF(AZ152=5,G152,0)","v":0},null,null,null,null,null,null,null,null,null,null,null,null,null,null,null,null,null,null,null,null,null,1,1]
[null,null,"Položka je určena pro osazení betonových dílců šachet dle DIN 4034, šachtová dna na kroužek, hmotnost do 2,0 t.",null,null,null,null,null,null,null,null,"Položka je určena pro osazení betonových dílců šachet dle DIN 4034, šachtová dna na kroužek, hmotnost do 2,0 t.",null,null,3]
[null,null,"V položce nejsou zakalkulovány náklady na dodání betonových dílců;",null,null,null,null,null,null,null,null,"V položce nejsou zakalkulovány náklady na dodání betonových dílců;",null,null,3]
[null,null,"Součástí položky je i podbetonování šachtového dna betonem C12/15 v min. tl. 10 cm.",null,null,null,null,null,null,null,null,"Součástí položky je i podbetonování šachtového dna betonem C12/15 v min. tl. 10 cm.",null,null,3]
[null,null,"Stoka \"A.1-1\" PVC DN250:",null,0,null,null,null,null,null,null,null,"Stoka \"A.1-1\" PVC DN250:"]
[null,null,"ŠD H575:8",null,8,null,null,null,null,null,null,null,"ŠD H575:8"]
[null,null,"ŠD H675:2",null,2,null,null,null,null,null,null,null,"ŠD H675:2"]
[33,"899102111R00","Osazení poklopu s rámem do 100 kg ","kus",10,null,{"$f":"E159*F159","v":0},7.0200000000000002E-3,{"$f":"E159*H159","v":7.0199999999999999E-2},0,{"$f":"E159*J159","v":0},null,null,null,2,null,null,null,null,null,null,null,null,null,null,null,1,1,1,null,null,null,null,null,null,null,null,null,null,null,null,null,null,null,null,null,null,null,null,null,null,1,{"$f":"IF(AZ159=1,G159,0)","v":0},{"$f":"IF(AZ159=2,G159,0)","v":0},{"$f":"IF(AZ159=3,G159,0)","v":0},{"$f":"IF(AZ159=4,G159,0)","v":0},{"$f":"IF(AZ159=5,G159,0)","v":0},null,null,null,null,null,null,null,null,null,null,null,null,null,null,null,null,null,null,null,null,null,1,1]
[null,null,"Osazení provizorních poklopů během realizace stavby  (nefakturovaný materiál zhotovitele)",null,null,null,null,null,null,null,null,"Osazení provizorních poklopů během realizace stavby  (nefakturovaný materiál zhotovitele)",null,null,3]
[34,"899711122R00","Fólie výstražná z PVC šedá, šířka 30 cm ","m",216.9,null,{"$f":"E161*F161","v":0},0,{"$f":"E161*H161","v":0},0,{"$f":"E161*J161","v":0},null,null,null,2,null,null,null,null,null,null,null,null,null,null,null,1,1,1,null,null,null,null,null,null,null,null,null,null,null,null,null,null,null,null,null,null,null,null,null,null,1,{"$f":"IF(AZ161=1,G161,0)","v":0},{"$f":"IF(AZ161=2,G161,0)","v":0},{"$f":"IF(AZ161=3,G161,0)","v":0},{"$f":"IF(AZ161=4,G161,0)","v":0},{"$f":"IF(AZ161=5,G161,0)","v":0},null,null,null,null,null,null,null,null,null,null,null,null,null,null,null,null,null,null,null,null,null,1,1]
[null,null,"Stoka \"A.1-1\" PVC DN250:216,90",null,216.9,null,null,null,null,null,null,null,"Stoka \"A.1-1\" PVC DN250:216,90"]
[35,"286111923.A.R","Trubka kanalizační PVC QUANTUM SN 12 DN 250","kus",223.40700000000001,null,{"$f":"E163*F163","v":0},8.2000000000000007E-3,{"$f":"E163*H163","v":1.8319374000000002},null,{"$f":"E163*J163","v":0},null,null,null,2,null,null,null,null,null,null,null,null,null,null,null,3,1,"286111923.A.R",null,null,null,null,null,null,null,null,null,null,null,null,null,null,null,null,null,null,null,null,null,null,1,{"$f":"IF(AZ163=1,G163,0)","v":0},{"$f":"IF(AZ163=2,G163,0)","v":0},{"$f":"IF(AZ163=3,G163,0)","v":0},{"$f":"IF(AZ163=4,G163,0)","v":0},{"$f":"IF(AZ163=5,G163,0)","v":0},null,null,null,null,null,null,null,null,null,null,null,null,null,null,null,null,null,null,null,null,null,3,1]
[null,null,"Jedná  se  o  plnostěnné kanalizační trubky DN 150 – DN 400, SN 12 kN/m2 , zvenčí  i  zevnitř  hladké. Jsou  opatřeny hrdlem,  v  němž  je  vložen vysoce  elastický  jazýčkový  kroužek.  konce  trubek  (dříků)  jsou opatřeny  zkosením  pod  úhlem  15°.  Způsob  použití  trubek  je  „U“  dle  normy  ČSN  EN  1401-1, tj. mimo budovy. Spolehlivá  funkce  těsnění  je  jištěna  výztužným  kroužkem  z  elastomeru.  Je  tak  zamezeno  vypad-nutí nebo vytlačení kroužku při manipulaci a montáži. Tento systém zaručuje při správné montáži ",null,null,null,null,null,null,null,null,"Jedná  se  o  plnostěnné kanalizační trubky DN 150 – DN 400, SN 12 kN/m2 , zvenčí  i  zevnitř  hladké. Jsou  opatřeny hrdlem,  v  němž  je  vložen vysoce  elastický  jazýčkový  kroužek.  konce  trubek  (dříků)  jsou opatřeny  zkosením  pod  úhlem  15°.  Způsob  použití  trubek  je  „U“  dle  normy  ČSN  EN  1401-1, tj. mimo budovy. Spolehlivá  funkce  těsnění  je  jištěna  výztužným  kroužkem  z  elastomeru.  Je  tak  zamezeno  vypad-nutí nebo vytlačení kroužku při manipulaci a montáži. Tento systém zaručuje při správné montáži ",null,null,3]
[null,null,"dokonalou  těsnost  do  výšky  vodního  sloupce  5  metrů.",null,null,null,null,null,null,null,null,"dokonalou  těsnost  do  výšky  vodního  sloupce  5  metrů.",null,null,3]
[null,null,"Stoka \"A.1-1\" PVC DN250:216,90*1,03",null,223.40700000000001,null,null,null,null,null,null,null,"Stoka \"A.1-1\" PVC DN250:216,90*1,03"]
[36,"286506121.R","Odbočka kanaliz. PVC QUANTUM SDR 34 DN 250/150/45°","kus",1.0149999999999999,null,{"$f":"E167*F167","v":0},3.6700000000000001E-3,{"$f":"E167*H167","v":3.7250499999999997E-3},null,{"$f":"E167*J167","v":0},null,null,null,2,null,null,null,null,null,null,null,null,null,null,null,3,1,"286506121.R",null,null,null,null,null,null,null,null,null,null,null,null,null,null,null,null,null,null,null,null,null,null,1,{"$f":"IF(AZ167=1,G167,0)","v":0},{"$f":"IF(AZ167=2,G167,0)","v":0},{"$f":"IF(AZ167=3,G167,0)","v":0},{"$f":"IF(AZ167=4,G167,0)","v":0},{"$f":"IF(AZ167=5,G167,0)","v":0},null,null,null,null,null,null,null,null,null,null,null,null,null,null,null,null,null,null,null,null,null,3,1]
[null,null,"Tvarovky kanalizačního systému PVC QUANTUM SDR 34",null,null,null,null,null,null,null,null,"Tvarovky kanalizačního systému PVC QUANTUM SDR 34",null,null,3]
[null,null,"Teplota při pokládce: min. -10 °C, max. 50 °C",null,null,null,null,null,null,null,null,"Teplota při pokládce: min. -10 °C, max. 50 °C",null,null,3]
[null,null,"Max. teplota média: trvale do 40 °C, krátkodobě do 60 °C",null,null,null,null,null,null,null,null,"Max. teplota média: trvale do 40 °C, krátkodobě do 60 °C",null,null,3]
[null,null,"Orientační výška krytí: min. 0,5 m, max. 10 m",null,null,null,null,null,null,null,null,"Orientační výška krytí: min. 0,5 m, max. 10 m",null,null,3]
[null,null,"Max. rychlost média: 12 m/s",null,null,null,null,null,null,null,null,"Max. rychlost média: 12 m/s",null,null,3]
[null,null,"Stoka \"A.1-1\" PVC DN250:",null,0,null,null,null,null,null,null,null,"Stoka \"A.1-1\" PVC DN250:"]
[null,null,"Odbočka PVC DN250/160:1*1,015",null,1.0149999999999999,null,null,null,null,null,null,null,"Odbočka PVC DN250/160:1*1,015"]
[37,"592243543.R","Kónus šachetní TBR-Q.1 100x63/58/12 KPS","kus",10.1,null,{"$f":"E175*F175","v":0},0.58499999999999996,{"$f":"E175*H175","v":5.9084999999999992},null,{"$f":"E175*J175","v":0},null,null,null,2,null,null,null,null,null,null,null,null,null,null,null,3,1,"592243543.R",null,null,null,null,null,null,null,null,null,null,null,null,null,null,null,null,null,null,null,null,null,null,1,{"$f":"IF(AZ175=1,G175,0)","v":0},{"$f":"IF(AZ175=2,G175,0)","v":0},{"$f":"IF(AZ175=3,G175,0)","v":0},{"$f":"IF(AZ175=4,G175,0)","v":0},{"$f":"IF(AZ175=5,G175,0)","v":0},null,null,null,null,null,null,null,null,null,null,null,null,null,null,null,null,null,null,null,null,null,3,1]
[null,null,"Stoka \"A.1-1\" PVC DN250:",null,0,null,null,null,null,null,null,null,"Stoka \"A.1-1\" PVC DN250:"]
[null,null,"Kónus H580:10*1,01",null,10.1,null,null,null,null,null,null,null,"Kónus H580:10*1,01"]
[38,"59224358.A.R","Skruž šachetní TBS-Q.1 100/25/12 PS","kus",2.02,null,{"$f":"E178*F178","v":0},0.25,{"$f":"E178*H178","v":0.505},null,{"$f":"E178*J178","v":0},null,null,null,2,null,null,null,null,null,null,null,null,null,null,null,3,1,"59224358.A.R",null,null,null,null,null,null,null,null,null,null,null,null,null,null,null,null,null,null,null,null,null,null,1,{"$f":"IF(AZ178=1,G178,0)","v":0},{"$f":"IF(AZ178=2,G178,0)","v":0},{"$f":"IF(AZ178=3,G178,0)","v":0},{"$f":"IF(AZ178=4,G178,0)","v":0},{"$f":"IF(AZ178=5,G178,0)","v":0},null,null,null,null,null,null,null,null,null,null,null,null,null,null,null,null,null,null,null,null,null,3,1]
[null,null,"Stoka \"A.1-1\" PVC DN250:",null,0,null,null,null,null,null,null,null,"Stoka \"A.1-1\" PVC DN250:"]
[null,null,"Skruž H250:2*1,01",null,2.02,null,null,null,null,null,null,null,"Skruž H250:2*1,01"]
[39,"59224361.A.R","Skruž šachetní TBS-Q.1 100/50/12 PS","kus",9.09,null,{"$f":"E181*F181","v":0},0.5,{"$f":"E181*H181","v":4.5449999999999999},null,{"$f":"E181*J181","v":0},null,null,null,2,null,null,null,null,null,null,null,null,null,null,null,3,1,"59224361.A.R",null,null,null,null,null,null,null,null,null,null,null,null,null,null,null,null,null,null,null,null,null,null,1,{"$f":"IF(AZ181=1,G181,0)","v":0},{"$f":"IF(AZ181=2,G181,0)","v":0},{"$f":"IF(AZ181=3,G181,0)","v":0},{"$f":"IF(AZ181=4,G181,0)","v":0},{"$f":"IF(AZ181=5,G181,0)","v":0},null,null,null,null,null,null,null,null,null,null,null,null,null,null,null,null,null,null,null,null,null,3,1]
[null,null,"Stoka \"A.1-1\" PVC DN250:",null,0,null,null,null,null,null,null,null,"Stoka \"A.1-1\" PVC DN250:"]
[null,null,"Skruž H500:9*1,01",null,9.09,null,null,null,null,null,null,null,"Skruž H500:9*1,01"]
[40,"59224371.A.R","Dno šachetní TBZ-Q.1 100/58 KOM V20 včetně kynety dle PD","kus",8.08,null,{"$f":"E184*F184","v":0},1.27,{"$f":"E184*H184","v":10.2616},null,{"$f":"E184*J184","v":0},null,null,null,2,null,null,null,null,null,null,null,null,null,null,null,3,1,"59224371.A.R",null,null,null,null,null,null,null,null,null,null,null,null,null,null,null,null,null,null,null,null,null,null,1,{"$f":"IF(AZ184=1,G184,0)","v":0},{"$f":"IF(AZ184=2,G184,0)","v":0},{"$f":"IF(AZ184=3,G184,0)","v":0},{"$f":"IF(AZ184=4,G184,0)","v":0},{"$f":"IF(AZ184=5,G184,0)","v":0},null,null,null,null,null,null,null,null,null,null,null,null,null,null,null,null,null,null,null,null,null,3,1]
[null,null,"Stoka \"A.1-1\" PVC DN250:",null,0,null,null,null,null,null,null,null,"Stoka \"A.1-1\" PVC DN250:"]
[null,null,"ŠD H575:8*1,01",null,8.08,null,null,null,null,null,null,null,"ŠD H575:8*1,01"]
[41,"59224373.A.R","Dno šachetní TBZ-Q.1 100/68 KOM V30 včetně kynety dle PD","kus",2.02,null,{"$f":"E187*F187","v":0},1.45,{"$f":"E187*H187","v":2.9289999999999998},null,{"$f":"E187*J187","v":0},null,null,null,2,null,null,null,null,null,null,null,null,null,null,null,3,1,"59224373.A.R",null,null,null,null,null,null,null,null,null,null,null,null,null,null,null,null,null,null,null,null,null,null,1,{"$f":"IF(AZ187=1,G187,0)","v":0},{"$f":"IF(AZ187=2,G187,0)","v":0},{"$f":"IF(AZ187=3,G187,0)","v":0},{"$f":"IF(AZ187=4,G187,0)","v":0},{"$f":"IF(AZ187=5,G187,0)","v":0},null,null,null,null,null,null,null,null,null,null,null,null,null,null,null,null,null,null,null,null,null,3,1]
[null,null,"Stoka \"A.1-1\" PVC DN250:",null,0,null,null,null,null,null,null,null,"Stoka \"A.1-1\" PVC DN250:"]
[null,null,"ŠD H675:2*1,01",null,2.02,null,null,null,null,null,null,null,"ŠD H675:2*1,01"]
[42,"59224380.R","Těsnění elastom pro šach díly EMT 100/1.7 - DN1000","kus",21.21,null,{"$f":"E190*F190","v":0},2E-3,{"$f":"E190*H190","v":4.2419999999999999E-2},null,{"$f":"E190*J190","v":0},null,null,null,2,null,null,null,null,null,null,null,null,null,null,null,3,1,"59224380.R",null,null,null,null,null,null,null,null,null,null,null,null,null,null,null,null,null,null,null,null,null,null,1,{"$f":"IF(AZ190=1,G190,0)","v":0},{"$f":"IF(AZ190=2,G190,0)","v":0},{"$f":"IF(AZ190=3,G190,0)","v":0},{"$f":"IF(AZ190=4,G190,0)","v":0},{"$f":"IF(AZ190=5,G190,0)","v":0},null,null,null,null,null,null,null,null,null,null,null,null,null,null,null,null,null,null,null,null,null,3,1]
[null,null,"Stoka \"A.1-1\" PVC DN250:",null,0,null,null,null,null,null,null,null,"Stoka \"A.1-1\" PVC DN250:"]
[null,null,"Těsnění DN1000:21*1,01",null,21.21,null,null,null,null,null,null,null,"Těsnění DN1000:21*1,01"]
[null,"Celkem za","8 Trubní vedení",null,null,null,{"$f":"SUM(G126:G192)","v":0},null,{"$f":"SUM(I126:I192)","v":26.099601449999998},null,{"$f":"SUM(K126:K192)","v":0},null,null,null,4,null,null,null,null,null,null,null,null,null,null,null,null,null,null,null,null,null,null,null,null,null,null,null,null,null,null,null,null,null,null,null,null,null,null,null,null,null,{"$f":"SUM(BA126:BA192)","v":0},{"$f":"SUM(BB126:BB192)","v":0},{"$f":"SUM(BC126:BC192)","v":0},{"$f":"SUM(BD126:BD192)","v":0},{"$f":"SUM(BE126:BE192)","v":0}]
["Díl:","93","Dokončovací práce inženýrských staveb",null,null,null,null,null,null,null,null,null,null,null,1]
[43,"939421111RT1","Osazení samonivelač.kanalizač.poklopu za finišerem bez dodávky poklopu","kus",10,null,{"$f":"E195*F195","v":0},0.15425,{"$f":"E195*H195","v":1.5425},0,{"$f":"E195*J195","v":0},null,null,null,2,null,null,null,null,null,null,null,null,null,null,null,1,0,0,null,null,null,null,null,null,null,null,null,null,null,null,null,null,null,null,null,null,null,null,null,null,1,{"$f":"IF(AZ195=1,G195,0)","v":0},{"$f":"IF(AZ195=2,G195,0)","v":0},{"$f":"IF(AZ195=3,G195,0)","v":0},{"$f":"IF(AZ195=4,G195,0)","v":0},{"$f":"IF(AZ195=5,G195,0)","v":0},null,null,null,null,null,null,null,null,null,null,null,null,null,null,null,null,null,null,null,null,null,1,0]
[null,null,"Položka obsahuje:",null,null,null,null,null,null,null,null,"Položka obsahuje:",null,null,3]
[null,null," osazení prefabrikovaného betonového prstence do rychletuhnoucí vysokopevnostní malty (s dodávkou hmot)",null,null,null,null,null,null,null,null,"- osazení prefabrikovaného betonového prstence do rychletuhnoucí malty (s dodávkou hmot)",null,null,3]
[null,null,"- zalití prstence rychletuhnoucí zálivkou do výše prstence (s dodávkou hmoty)",null,null,null,null,null,null,null,null,"- zalití prstence rychletuhnoucí zálivkou do výše prstence (s dodávkou hmoty)",null,null,3]
[null,null,"- vložení kruhového bednění",null,null,null,null,null,null,null,null,"- vložení kruhového bednění",null,null,3]
[null,null,"- doplnění mezikruží asfaltovou směsí do výšky současné podkladní vrstvy, zhutnění",null,null,null,null,null,null,null,null,"- doplnění mezikruží asfaltovou směsí do výšky současné podkladní vrstvy, zhutnění",null,null,3]
[null,null,"- vyjmutí kruhového bednění",null,null,null,null,null,null,null,null,"- vyjmutí kruhového bednění",null,null,3]
[null,null,"- osazení poklopu a zatlačení",null,null,null,null,null,null,null,null,"- osazení poklopu a zatlačení",null,null,3]
[null,null,"  (následuje pokládka finální vrstvy vozovky - není součástí položky)",null,null,null,null,null,null,null,null,"  (následuje pokládka finální vrstvy vozovky - není součástí položky)",null,null,3]
[null,null,"- povytažení poklopu",null,null,null,null,null,null,null,null,"- povytažení poklopu",null,null,3]
[null,null,"- podsyp asfaltovou směsí, spuštění poklopu a zhutnění směsi",null,null,null,null,null,null,null,null,"- podsyp asfaltovou směsí, spuštění poklopu a zhutnění směsi",null,null,3]
[44,"55244414.R","Poklop celolitinový v samonivelační rámu KDM65 D400 SN600","kus",10,null,{"$f":"E206*F206","v":0},0.113,{"$f":"E206*H206","v":1.1300000000000001},null,{"$f":"E206*J206","v":0},null,null,null,2,null,null,null,null,null,null,null,null,null,null,null,3,1,"55244414.R",null,null,null,null,null,null,null,null,null,null,null,null,null,null,null,null,null,null,null,null,null,null,1,{"$f":"IF(AZ206=1,G206,0)","v":0},{"$f":"IF(AZ206=2,G206,0)","v":0},{"$f":"IF(AZ206=3,G206,0)","v":0},{"$f":"IF(AZ206=4,G206,0)","v":0},{"$f":"IF(AZ206=5,G206,0)","v":0},null,null,null,null,null,null,null,null,null,null,null,null,null,null,null,null,null,null,null,null,null,3,1]
[null,null,"Kanalizační kruhový celolitinový samonivelační poklop bez pantu, horizontální PUR tlumící vložka na rámu, horizontální a vertikální  PUR tlumící vložka na víku, bez pružinového zajištění víka v rámu ",null,null,null,null,null,null,null,null,"Kanalizační kruhový celolitinový samonivelační poklop bez pantu, horizontální PUR tlumící vložka na rámu, horizontální a vertikální  PUR tlumící vložka na víku, bez pružinového zajištění víka v rámu ",null,null,3]
[null,null,"KDM65 bez ventilace nebo s ventilací dle TS VHS Turnov",null,null,null,null,null,null,null,null,"KDM65 bez ventilace nebo s ventilací dle TS VHS Turnov",null,null,3]
[null,null,"Víko se znakem Města ",null,null,null,null,null,null,null,null,"Víko se znakem Města ",null,null,3]
[null,"Celkem za","93 Dokončovací práce inženýrských staveb",null,null,null,{"$f":"SUM(G194:G209)","v":0},null,{"$f":"SUM(I194:I209)","v":2.6725000000000003},null,{"$f":"SUM(K194:K209)","v":0},null,null,null,4,null,null,null,null,null,null,null,null,null,null,null,null,null,null,null,null,null,null,null,null,null,null,null,null,null,null,null,null,null,null,null,null,null,null,null,null,null,{"$f":"SUM(BA194:BA209)","v":0},{"$f":"SUM(BB194:BB209)","v":0},{"$f":"SUM(BC194:BC209)","v":0},{"$f":"SUM(BD194:BD209)","v":0},{"$f":"SUM(BE194:BE209)","v":0}]
["Díl:","99","Staveništní přesun hmot",null,null,null,null,null,null,null,null,null,null,null,1]
[45,"998276101RXX","Přesun hmot, trubní vedení plastová, otevř. výkop pro celý rozsah objektu","t",670.41505893999999,null,{"$f":"E212*F212","v":0},0,{"$f":"E212*H212","v":0},null,{"$f":"E212*J212","v":0},null,null,null,2,null,null,null,null,null,null,null,null,null,null,null,7,1,2,null,null,null,null,null,null,null,null,null,null,null,null,null,null,null,null,null,null,null,null,null,null,1,{"$f":"IF(AZ212=1,G212,0)","v":0},{"$f":"IF(AZ212=2,G212,0)","v":0},{"$f":"IF(AZ212=3,G212,0)","v":0},{"$f":"IF(AZ212=4,G212,0)","v":0},{"$f":"IF(AZ212=5,G212,0)","v":0},null,null,null,null,null,null,null,null,null,null,null,null,null,null,null,null,null,null,null,null,null,7,1]
[null,null,"Staveništní doprava pro celý rozsah objektu - doprava zmeziskládek vybudovaného zařízení staveniště zhotovitele na jednotlivé části staveniště.",null,null,null,null,null,null,null,null,"Staveništní doprava pro celý rozsah objektu - doprava zmeziskládek vybudovaného zařízení staveniště zhotovitele na jednotlivé části staveniště.",null,null,3]
[null,"Celkem za","99 Staveništní přesun hmot",null,null,null,{"$f":"SUM(G211:G213)","v":0},null,{"$f":"SUM(I211:I213)","v":0},null,{"$f":"SUM(K211:K213)","v":0},null,null,null,4,null,null,null,null,null,null,null,null,null,null,null,null,null,null,null,null,null,null,null,null,null,null,null,null,null,null,null,null,null,null,null,null,null,null,null,null,null,{"$f":"SUM(BA211:BA213)","v":0},{"$f":"SUM(BB211:BB213)","v":0},{"$f":"SUM(BC211:BC213)","v":0},{"$f":"SUM(BD211:BD213)","v":0},{"$f":"SUM(BE211:BE213)","v":0}]

{"sheet":"01 01.10 KL","index":10,"n_rows":45,"n_cols":8,"rows_kept":45,"cut":false,"hidden":false,"merged":[[22,0,22,1],[7,2,7,4],[8,2,8,4],[9,2,9,4],[10,2,10,4],[11,2,11,4],[50,1,50,6],[29,5,29,6],[30,5,30,6],[31,5,31,6],[32,5,32,6],[33,5,33,6],[36,1,44,6],[45,1,45,6],[46,1,46,6],[47,1,47,6],[48,1,48,6],[49,1,49,6]]}
["POLOŽKOVÝ ROZPOČET"]
["Rozpočet",null,"01.10","Stoka \"B\" km 0,000 - 0,145.7",null,"JKSO ","827.21.A3"]
[]
["Objekt",null,null,null,null,"SKP "]
["01",null,"Kanalizace",null,null,"Měrná jednotka","m"]
["Stavba",null,null,null,null,"Počet jednotek",0]
["3395",null,"Kanalizace a ČOV Benešov u Semil",null,null,"Náklady na m.j.",{"$f":"IF(G6=0,,ROUND((F30+F32)/G6,1))","v":0}]
["Projektant",null,"Vodohospodářský rozvoj a výstavba a.s.",null,null,"Typ rozpočtu"]
["Zpracovatel projektu"]
["Objednatel",null,"Vodohospodářské sdružení Turnov"]
["Dodavatel",null,".",null,null,"Zakázkové číslo "]
["Rozpočtoval",null,null,null,null,"Počet listů"]
["ROZPOČTOVÉ NÁKLADY"]
["Základní rozpočtové náklady"]
[null,"HSV celkem",{"$f":"'01 01.10 Rek'!E14","v":0}]
["Z","PSV celkem",{"$f":"'01 01.10 Rek'!F14","v":0}]
["R","M práce celkem",{"$f":"'01 01.10 Rek'!H14","v":0}]
["N","M dodávky celkem",{"$f":"'01 01.10 Rek'!G14","v":0}]
["ZRN celkem",null,{"$f":"SUM(C15:C18)","v":0}]
[]
["HZS",null,{"$f":"'01 01.10 Rek'!I14","v":0}]
["ZRN+HZS",null,{"$f":"C19+C21","v":0}]
["ZRN+ost.náklady+HZS",null,{"$f":"C22+G23","v":0}]
["Vypracoval",null,null,"Za zhotovitele",null,"Za objednatele"]
["Jméno :",null,null,"Jméno :",null,"Jméno :"]
["Datum :",null,null,"Datum :",null,"Datum :"]
[]
["Podpis :",null,null,"Podpis:",null,"Podpis:"]
[]
["Základ pro DPH",null,21,"%  ",null,{"$f":"C23-F32","v":0}]
["DPH",null,{"$f":"C30","v":21},"% ",null,{"$f":"ROUND(PRODUCT(F30,C31/100),0)","v":0}]
["Základ pro DPH",null,0,"% ",null,0]
["DPH",null,{"$f":"C32","v":0},"% ",null,{"$f":"ROUND(PRODUCT(F32,C33/100),0)","v":0}]
["CENA ZA OBJEKT CELKEM",null,null,null,null,{"$f":"ROUND(SUM(F30:F33),0)","v":0}]
[]
["Poznámka :",null,null,null,null,null,null," "]
[null,null,null,null,null,null,null," "]
[null,null,null,null,null,null,null," "]
[null,null,null,null,null,null,null," "]
[null,null,null,null,null,null,null," "]
[null,null,null,null,null,null,null," "]
[null,null,null,null,null,null,null," "]
[null,null,null,null,null,null,null," "]
[null,null,null,null,null,null,null," "]
[null,null,null,null,null,null,null," "]

{"sheet":"01 01.10 Rek","index":11,"n_rows":14,"n_cols":9,"rows_kept":14,"cut":false,"hidden":false,"merged":[[0,0,0,1],[1,0,1,1],[1,6,1,8]]}
["Stavba :",null,"3395 Kanalizace a ČOV Benešov u Semil",null,null,null,"Rozpočet :","01.10"]
["Objekt :",null,"01 Kanalizace",null,null,null,"Stoka \"B\" km 0,000 - 0,145.7"]
[]
["REKAPITULACE  STAVEBNÍCH  DÍLŮ"]
[]
[null,"Stavební díl",null,null,"HSV","PSV","Dodávka","Montáž","HZS"]
[{"$f":"'01 01.10 Pol'!B7","v":"1"},{"$f":"'01 01.10 Pol'!C7","v":"Zemní práce"},null,null,{"$f":"'01 01.10 Pol'!BA98","v":0},{"$f":"'01 01.10 Pol'!BB98","v":0},{"$f":"'01 01.10 Pol'!BC98","v":0},{"$f":"'01 01.10 Pol'!BD98","v":0},{"$f":"'01 01.10 Pol'!BE98","v":0}]
[{"$f":"'01 01.10 Pol'!B99","v":"21"},{"$f":"'01 01.10 Pol'!C99","v":"Úprava podloží a základ.spáry"},null,null,{"$f":"'01 01.10 Pol'!BA103","v":0},{"$f":"'01 01.10 Pol'!BB103","v":0},{"$f":"'01 01.10 Pol'!BC103","v":0},{"$f":"'01 01.10 Pol'!BD103","v":0},{"$f":"'01 01.10 Pol'!BE103","v":0}]
[{"$f":"'01 01.10 Pol'!B104","v":"45"},{"$f":"'01 01.10 Pol'!C104","v":"Podkladní a vedlejší konstrukce"},null,null,{"$f":"'01 01.10 Pol'!BA129","v":0},{"$f":"'01 01.10 Pol'!BB129","v":0},{"$f":"'01 01.10 Pol'!BC129","v":0},{"$f":"'01 01.10 Pol'!BD129","v":0},{"$f":"'01 01.10 Pol'!BE129","v":0}]
[{"$f":"'01 01.10 Pol'!B130","v":"5"},{"$f":"'01 01.10 Pol'!C130","v":"Komunikace"},null,null,{"$f":"'01 01.10 Pol'!BA134","v":0},{"$f":"'01 01.10 Pol'!BB134","v":0},{"$f":"'01 01.10 Pol'!BC134","v":0},{"$f":"'01 01.10 Pol'!BD134","v":0},{"$f":"'01 01.10 Pol'!BE134","v":0}]
[{"$f":"'01 01.10 Pol'!B135","v":"8"},{"$f":"'01 01.10 Pol'!C135","v":"Trubní vedení"},null,null,{"$f":"'01 01.10 Pol'!BA223","v":0},{"$f":"'01 01.10 Pol'!BB223","v":0},{"$f":"'01 01.10 Pol'!BC223","v":0},{"$f":"'01 01.10 Pol'!BD223","v":0},{"$f":"'01 01.10 Pol'!BE223","v":0}]
[{"$f":"'01 01.10 Pol'!B224","v":"93"},{"$f":"'01 01.10 Pol'!C224","v":"Dokončovací práce inženýrských staveb"},null,null,{"$f":"'01 01.10 Pol'!BA240","v":0},{"$f":"'01 01.10 Pol'!BB240","v":0},{"$f":"'01 01.10 Pol'!BC240","v":0},{"$f":"'01 01.10 Pol'!BD240","v":0},{"$f":"'01 01.10 Pol'!BE240","v":0}]
[{"$f":"'01 01.10 Pol'!B241","v":"99"},{"$f":"'01 01.10 Pol'!C241","v":"Staveništní přesun hmot"},null,null,{"$f":"'01 01.10 Pol'!BA244","v":0},{"$f":"'01 01.10 Pol'!BB244","v":0},{"$f":"'01 01.10 Pol'!BC244","v":0},{"$f":"'01 01.10 Pol'!BD244","v":0},{"$f":"'01 01.10 Pol'!BE244","v":0}]
[null,"CELKEM  OBJEKT",null,null,{"$f":"SUM(E7:E13)","v":0},{"$f":"SUM(F7:F13)","v":0},{"$f":"SUM(G7:G13)","v":0},{"$f":"SUM(H7:H13)","v":0},{"$f":"SUM(I7:I13)","v":0}]

{"sheet":"01 01.10 Pol","index":12,"n_rows":244,"n_cols":80,"rows_kept":244,"cut":false,"hidden":false,"merged":[[0,0,0,6],[2,0,2,1],[3,0,3,1],[3,4,3,6],[8,2,8,6],[9,2,9,6],[11,2,11,6],[12,2,12,6],[20,2,20,3],[21,2,21,3],[22,2,22,3],[23,2,23,3],[24,2,24,3],[25,2,25,3],[13,2,13,3],[14,2,14,3],[15,2,15,3],[17,2,17,6],[18,2,18,3],[19,2,19,3],[34,2,34,6],[35,2,35,3],[36,2,36,3],[37,2,37,3],[39,2,39,3],[40,2,40,3],[26,2,26,3],[27,2,27,3],[28,2,28,3],[30,2,30,3],[31,2,31,3],[32,2,32,3],[49,2,49,3],[50,2,50,3],[52,2,52,3],[53,2,53,3],[54,2,54,3],[55,2,55,3],[41,2,41,3],[43,2,43,6],[44,2,44,3],[45,2,45,3],[46,2,46,3],[48,2,48,3],[64,2,64,3],[66,2,66,3],[67,2,67,3],[68,2,68,3],[70,2,70,6],[71,2,71,6],[57,2,57,3],[58,2,58,3],[59,2,59,3],[61,2,61,3],[62,2,62,3],[63,2,63,3],[78,2,78,3],[79,2,79,3],[81,2,81,3],[83,2,83,3],[84,2,84,3],[85,2,85,3],[72,2,72,3],[73,2,73,3],[74,2,74,3],[75,2,75,3],[76,2,76,3],[77,2,77,3],[94,2,94,3],[95,2,95,3],[96,2,96,3],[100,2,100,3],[101,2,101,3],[87,2,87,3],[89,2,89,3],[90,2,90,3],[91,2,91,3],[92,2,92,3],[93,2,93,3],[115,2,115,3],[117,2,117,3],[118,2,118,3],[120,2,120,3],[121,2,121,3],[123,2,123,3],[105,2,105,6],[106,2,106,3],[107,2,107,3],[108,2,108,3],[109,2,109,3],[111,2,111,3],[112,2,112,3],[114,2,114,6],[136,2,136,6],[137,2,137,3],[139,2,139,6],[140,2,140,6],[141,2,141,6],[142,2,142,6],[143,2,143,3],[145,2,145,6],[124,2,124,3],[126,2,126,3],[127,2,127,3],[131,2,131,3],[132,2,132,3],[154,2,154,6],[155,2,155,3],[156,2,156,3],[158,2,158,6],[159,2,159,6],[160,2,160,6],[146,2,146,3],[148,2,148,6],[149,2,149,6],[150,2,150,3],[151,2,151,3],[152,2,152,3],[170,2,170,3],[172,2,172,3],[173,2,173,3],[175,2,175,3],[176,2,176,3],[178,2,178,3],[161,2,161,3],[162,2,162,3],[163,2,163,3],[165,2,165,6],[167,2,167,3],[169,2,169,3],[188,2,188,6],[189,2,189,6],[190,2,190,6],[191,2,191,6],[192,2,192,6],[193,2,193,6],[179,2,179,3],[181,2,181,3],[182,2,182,3],[184,2,184,3],[185,2,185,3],[187,2,187,6],[201,2,201,6],[202,2,202,6],[203,2,203,6],[204,2,204,6],[205,2,205,6],[206,2,206,3],[194,2,194,6],[195,2,195,3],[196,2,196,3],[198,2,198,6],[199,2,199,6],[200,2,200,6],[214,2,214,6],[215,2,215,6],[216,2,216,6],[217,2,217,3],[218,2,218,3],[220,2,220,3],[207,2,207,3],[209,2,209,6],[210,2,210,6],[211,2,211,6],[212,2,212,6],[213,2,213,6],[242,2,242,6],[232,2,232,6],[233,2,233,6],[234,2,234,6],[236,2,236,6],[237,2,237,6],[238,2,238,6],[221,2,221,3],[225,2,225,6],[226,2,226,6],[227,2,227,6],[228,2,228,6],[229,2,229,6],[230,2,230,6],[231,2,231,6]]}
["Položkový rozpočet "]
[]
["Stavba :",null,"3395 Kanalizace a ČOV Benešov u Semil",null,"Rozpočet:",{"$f":"'01 01.10 Rek'!H1","v":"01.10"}]
["Objekt :",null,"01 Kanalizace",null,{"$f":"'01 01.10 Rek'!G2","v":"Stoka \"B\" km 0,000 - 0,145.7"}]
[]
["P.č.","Číslo položky","Název položky","MJ","množství","cena / MJ","celkem (Kč)","Jednotková hmotnost","Celková hmotnost","Jednotková dem.hmot.","Celková dem.hmot."]
["Díl:","1","Zemní práce",null,null,null,null,null,null,null,null,null,null,null,1]
[1,"115101201RRX","Přečerpávání nebo převedení splašků a dešť. vod ","h",200,null,{"$f":"E8*F8","v":0},0,{"$f":"E8*H8","v":0},0,{"$f":"E8*J8","v":0},null,null,null,2,null,null,null,null,null,null,null,null,null,null,null,1,1,1,null,null,null,null,null,null,null,null,null,null,null,null,null,null,null,null,null,null,null,null,null,null,1,{"$f":"IF(AZ8=1,G8,0)","v":0},{"$f":"IF(AZ8=2,G8,0)","v":0},{"$f":"IF(AZ8=3,G8,0)","v":0},{"$f":"IF(AZ8=4,G8,0)","v":0},{"$f":"IF(AZ8=5,G8,0)","v":0},null,null,null,null,null,null,null,null,null,null,null,null,null,null,null,null,null,null,null,null,null,1,1]
[null,null,"Převedení a čerpání splašků nebo dešťových vod dle zvolené technologie zhotovitele stavby.",null,null,null,null,null,null,null,null,"Převedení a čerpání splašků nebo dešťových vod dle zvolené technologie zhotovitele stavby.",null,null,3]
[null,null,"(Množství bude určeno na stavbě dle skutečnosti)",null,null,null,null,null,null,null,null,"(Množství bude určeno na stavbě dle skutečnosti)",null,null,3]
[2,"130001101RRX","Příplatek za ztížené hloubení v blízkosti vedení ","m3",37.959000000000003,null,{"$f":"E11*F11","v":0},0,{"$f":"E11*H11","v":0},0,{"$f":"E11*J11","v":0},null,null,null,2,null,null,null,null,null,null,null,null,null,null,null,1,1,1,null,null,null,null,null,null,null,null,null,null,null,null,null,null,null,null,null,null,null,null,null,null,1,{"$f":"IF(AZ11=1,G11,0)","v":0},{"$f":"IF(AZ11=2,G11,0)","v":0},{"$f":"IF(AZ11=3,G11,0)","v":0},{"$f":"IF(AZ11=4,G11,0)","v":0},{"$f":"IF(AZ11=5,G11,0)","v":0},null,null,null,null,null,null,null,null,null,null,null,null,null,null,null,null,null,null,null,null,null,1,1]
[null,null,"Včetně případných nutných dokopávem a ručního výkopu podél sousedících inženýrských sítí.",null,null,null,null,null,null,null,null,"Včetně případných nutných dokopávem a ručního výkopu podél sousedících inženýrských sítí.",null,null,3]
[null,null,"Součástí položky je i dočasné zajištění inženýrských sítí v prostoru výkopů (potrubí, kabely a pod.)",null,null,null,null,null,null,null,null,"Součástí položky je i dočasné zajištění inženýrských sítí v prostoru výkopů (potrubí, kabely a pod.)",null,null,3]
[null,null,"Stoka \"B\" KT DN400:",null,0,null,null,null,null,null,null,null,"Stoka \"B\" KT DN400:"]
[null,null,"Výkopy:",null,0,null,null,null,null,null,null,null,"Výkopy:"]
[null,null,"V hornině tř. 3 - 5 - 10%:379,5901*0,1",null,37.959000000000003,null,null,null,null,null,null,null,"V hornině tř. 3 - 5 - 10%:379,5901*0,1"]
[3,"132201212R00","Hloubení rýh š.do 200 cm hor.3 do 1000m3,STROJNĚ ","m3",227.75409999999999,null,{"$f":"E17*F17","v":0},0,{"$f":"E17*H17","v":0},0,{"$f":"E17*J17","v":0},null,null,null,2,null,null,null,null,null,null,null,null,null,null,null,1,1,1,null,null,null,null,null,null,null,null,null,null,null,null,null,null,null,null,null,null,null,null,null,null,1,{"$f":"IF(AZ17=1,G17,0)","v":0},{"$f":"IF(AZ17=2,G17,0)","v":0},{"$f":"IF(AZ17=3,G17,0)","v":0},{"$f":"IF(AZ17=4,G17,0)","v":0},{"$f":"IF(AZ17=5,G17,0)","v":0},null,null,null,null,null,null,null,null,null,null,null,null,null,null,null,null,null,null,null,null,null,1,1]
[null,null,"Položka obsahuje hloubení rýh traktorbagrem, naložení výkopku na dopravní prostředek pro svislé, nebo vodorovné přemístění, popř. přemístění výkopku do 3 m (po povrchu území), případné zajištění rypadel polštáři, udržování pracoviště a ochranu výkopiště proti stékání srážkové vody z okolního terénu i s jejím odvodněním, nebo odvedením, přesekání a odstranění kořenů ve výkopišti, odstranění napadávek, urovnání dna výkopu.",null,null,null,null,null,null,null,null,"Položka obsahuje hloubení rýh traktorbagrem, naložení výkopku na dopravní prostředek pro svislé, nebo vodorovné přemístění, popř. přemístění výkopku do 3 m (po povrchu území), případné zajištění rypadel polštáři, udržování pracoviště a ochranu výkopiště proti stékání srážkové vody z okolního terénu i s jejím odvodněním, nebo odvedením, přesekání a odstranění kořenů ve výkopišti, odstranění napadávek, urovnání dna výkopu.",null,null,3]
[null,null,"Stoka \"B\" KT DN400:",null,0,null,null,null,null,null,null,null,"Stoka \"B\" KT DN400:"]
[null,null,"Výkopy:",null,0,null,null,null,null,null,null,null,"Výkopy:"]
[null,null,"Začátek provozního součtu",null,0,null,null,null,null,null,null,null,"Začátek provozního součtu"]
[null,null,"ŠA-0 - ŠB-1:48,50*1,30*(3,63+2,38)/2",null,189.46520000000001,null,null,null,null,null,null,null,"ŠA-0 - ŠB-1:48,50*1,30*(3,63+2,38)/2"]
[null,null,"ŠB-1 - ŠB-6:(137,70-48,50)*1,30*(2,38+2,05)/2",null,256.85140000000001,null,null,null,null,null,null,null,"ŠB-1 - ŠB-6:(137,70-48,50)*1,30*(2,38+2,05)/2"]
[null,null,"ŠB-6 - ŠB-7:(145,70-137,70)*1,30*(2,05+1,90)/2",null,20.54,null,null,null,null,null,null,null,"ŠB-6 - ŠB-7:(145,70-137,70)*1,30*(2,05+1,90)/2"]
[null,null,"Prohloubení pro RŠ:1,60*1,60*0,20*7",null,3.5840000000000001,null,null,null,null,null,null,null,"Prohloubení pro RŠ:1,60*1,60*0,20*7"]
[null,null,"Rozšíření pro RŠ:1,60*(1,60-1,30)*11,53",null,5.5343999999999998,null,null,null,null,null,null,null,"Rozšíření pro RŠ:1,60*(1,60-1,30)*11,53"]
[null,null,"Odpočet objemu konstrukce komunikace:-(145,70*1,30+1,60*(1,60-1,30)*7)*0,50",null,-96.385000000000005,null,null,null,null,null,null,null,"Odpočet objemu konstrukce komunikace:-(145,70*1,30+1,60*(1,60-1,30)*7)*0,50"]
[null,null,"Konec provozního součtu",null,379.59000000000003,null,null,null,null,null,null,null,"Konec provozního součtu"]
[null,null,"V hornině tř. 3 - 60%:379,5901*0,6",null,227.75409999999999,null,null,null,null,null,null,null,"V hornině tř. 3 - 60%:379,5901*0,6"]
[4,"132201219R00","Přípl.za lepivost,hloubení rýh 200cm,hor.3,STROJNĚ ","m3",113.877,null,{"$f":"E30*F30","v":0},0,{"$f":"E30*H30","v":0},0,{"$f":"E30*J30","v":0},null,null,null,2,null,null,null,null,null,null,null,null,null,null,null,1,1,1,null,null,null,null,null,null,null,null,null,null,null,null,null,null,null,null,null,null,null,null,null,null,1,{"$f":"IF(AZ30=1,G30,0)","v":0},{"$f":"IF(AZ30=2,G30,0)","v":0},{"$f":"IF(AZ30=3,G30,0)","v":0},{"$f":"IF(AZ30=4,G30,0)","v":0},{"$f":"IF(AZ30=5,G30,0)","v":0},null,null,null,null,null,null,null,null,null,null,null,null,null,null,null,null,null,null,null,null,null,1,1]
[null,null,"Stoka \"B\" KT DN400:",null,0,null,null,null,null,null,null,null,"Stoka \"B\" KT DN400:"]
[null,null,"Výkopy:",null,0,null,null,null,null,null,null,null,"Výkopy:"]
[null,null,"V hornině tř. 3 - 60%:379,5901*0,6*0,5",null,113.877,null,null,null,null,null,null,null,"V hornině tř. 3 - 60%:379,5901*0,6*0,5"]
[5,"132301212R00","Hloubení rýh š.do 200 cm hor.4 do 1000 m3, STROJNĚ ","m3",113.877,null,{"$f":"E34*F34","v":0},0,{"$f":"E34*H34","v":0},0,{"$f":"E34*J34","v":0},null,null,null,2,null,null,null,null,null,null,null,null,null,null,null,1,1,1,null,null,null,null,null,null,null,null,null,null,null,null,null,null,null,null,null,null,null,null,null,null,1,{"$f":"IF(AZ34=1,G34,0)","v":0},{"$f":"IF(AZ34=2,G34,0)","v":0},{"$f":"IF(AZ34=3,G34,0)","v":0},{"$f":"IF(AZ34=4,G34,0)","v":0},{"$f":"IF(AZ34=5,G34,0)","v":0},null,null,null,null,null,null,null,null,null,null,null,null,null,null,null,null,null,null,null,null,null,1,1]
[null,null,"Položka obsahuje hloubení rýh traktorbagrem, naložení výkopku na dopravní prostředek pro svislé, nebo vodorovné přemístění, popř. přemístění výkopku do 3 m (po povrchu území), případné zajištění rypadel polštáři, udržování pracoviště a ochranu výkopiště proti stékání srážkové vody z okolního terénu i s jejím odvodněním, nebo odvedením, přesekání a odstranění kořenů ve výkopišti, odstranění napadávek, urovnání dna výkopu.",null,null,null,null,null,null,null,null,"Položka obsahuje hloubení rýh traktorbagrem, naložení výkopku na dopravní prostředek pro svislé, nebo vodorovné přemístění, popř. přemístění výkopku do 3 m (po povrchu území), případné zajištění rypadel polštáři, udržování pracoviště a ochranu výkopiště proti stékání srážkové vody z okolního terénu i s jejím odvodněním, nebo odvedením, přesekání a odstranění kořenů ve výkopišti, odstranění napadávek, urovnání dna výkopu.",null,null,3]
[null,null,"Stoka \"B\" KT DN400:",null,0,null,null,null,null,null,null,null,"Stoka \"B\" KT DN400:"]
[null,null,"Výkopy:",null,0,null,null,null,null,null,null,null,"Výkopy:"]
[null,null,"V hornině tř. 4 - 30%:379,5901*0,3",null,113.877,null,null,null,null,null,null,null,"V hornině tř. 4 - 30%:379,5901*0,3"]
[6,"132301219R00","Přípl.za lepivost,hloubení rýh 200cm,hor.4,STROJNĚ ","m3",56.938499999999998,null,{"$f":"E39*F39","v":0},0,{"$f":"E39*H39","v":0},0,{"$f":"E39*J39","v":0},null,null,null,2,null,null,null,null,null,null,null,null,null,null,null,1,1,1,null,null,null,null,null,null,null,null,null,null,null,null,null,null,null,null,null,null,null,null,null,null,1,{"$f":"IF(AZ39=1,G39,0)","v":0},{"$f":"IF(AZ39=2,G39,0)","v":0},{"$f":"IF(AZ39=3,G39,0)","v":0},{"$f":"IF(AZ39=4,G39,0)","v":0},{"$f":"IF(AZ39=5,G39,0)","v":0},null,null,null,null,null,null,null,null,null,null,null,null,null,null,null,null,null,null,null,null,null,1,1]
[null,null,"Stoka \"B\" KT DN400:",null,0,null,null,null,null,null,null,null,"Stoka \"B\" KT DN400:"]
[null,null,"Výkopy:",null,0,null,null,null,null,null,null,null,"Výkopy:"]
[null,null,"V hornině tř. 4 - 30%:379,5901*0,3*0,5",null,56.938499999999998,null,null,null,null,null,null,null,"V hornině tř. 4 - 30%:379,5901*0,3*0,5"]
[7,"132401211RRX","Hloubení rýh šířky do 200 cm v hor.5 STROJNĚ včetně případného dolamování ve vrstvě do 0,5 m","m3",37.959000000000003,null,{"$f":"E43*F43","v":0},1.0410000000000001E-2,{"$f":"E43*H43","v":0.39515319000000004},0,{"$f":"E43*J43","v":0},null,null,null,2,null,null,null,null,null,null,null,null,null,null,null,1,1,1,null,null,null,null,null,null,null,null,null,null,null,null,null,null,null,null,null,null,null,null,null,null,1,{"$f":"IF(AZ43=1,G43,0)","v":0},{"$f":"IF(AZ43=2,G43,0)","v":0},{"$f":"IF(AZ43=3,G43,0)","v":0},{"$f":"IF(AZ43=4,G43,0)","v":0},{"$f":"IF(AZ43=5,G43,0)","v":0},null,null,null,null,null,null,null,null,null,null,null,null,null,null,null,null,null,null,null,null,null,1,1]
[null,null,"Položka obsahuje hloubení rýh traktorbagrem, naložení výkopku na dopravní prostředek pro svislé, nebo vodorovné přemístění, popř. přemístění výkopku do 3 m (po povrchu území), případné zajištění rypadel polštáři, udržování pracoviště a ochranu výkopiště proti stékání srážkové vody z okolního terénu i s jejím odvodněním, nebo odvedením, přesekání a odstranění kořenů ve výkopišti, odstranění napadávek, urovnání dna výkopu.včetně případného dolamování ve vrstvě do 0,5 m",null,null,null,null,null,null,null,null,"Položka obsahuje hloubení rýh traktorbagrem, naložení výkopku na dopravní prostředek pro svislé, nebo vodorovné přemístění, popř. přemístění výkopku do 3 m (po povrchu území), případné zajištění rypadel polštáři, udržování pracoviště a ochranu výkopiště proti stékání srážkové vody z okolního terénu i s jejím odvodněním, nebo odvedením, přesekání a odstranění kořenů ve výkopišti, odstranění napadávek, urovnání dna výkopu.včetně případného dolamování ve vrstvě do 0,5 m",null,null,3]
[null,null,"Stoka \"B\" KT DN400:",null,0,null,null,null,null,null,null,null,"Stoka \"B\" KT DN400:"]
[null,null,"Výkopy:",null,0,null,null,null,null,null,null,null,"Výkopy:"]
[null,null,"V hornině tř. 5 - 10%:379,5901*0,1",null,37.959000000000003,null,null,null,null,null,null,null,"V hornině tř. 5 - 10%:379,5901*0,1"]
[8,"151101101R00","Pažení a rozepření stěn rýh - příložné - hl.do 2 m ","m2",31.6,null,{"$f":"E48*F48","v":0},9.8999999999999999E-4,{"$f":"E48*H48","v":3.1283999999999999E-2},0,{"$f":"E48*J48","v":0},null,null,null,2,null,null,null,null,null,null,null,null,null,null,null,1,1,1,null,null,null,null,null,null,null,null,null,null,null,null,null,null,null,null,null,null,null,null,null,null,1,{"$f":"IF(AZ48=1,G48,0)","v":0},{"$f":"IF(AZ48=2,G48,0)","v":0},{"$f":"IF(AZ48=3,G48,0)","v":0},{"$f":"IF(AZ48=4,G48,0)","v":0},{"$f":"IF(AZ48=5,G48,0)","v":0},null,null,null,null,null,null,null,null,null,null,null,null,null,null,null,null,null,null,null,null,null,1,1]
[null,null,"Stoka \"B\" KT DN400:",null,0,null,null,null,null,null,null,null,"Stoka \"B\" KT DN400:"]
[null,null,"Výkopy:",null,0,null,null,null,null,null,null,null,"Výkopy:"]
[null,null,"ŠB-6 - ŠB-7:(145,70-137,70)*(2,05+1,90)/2*2",null,31.6,null,null,null,null,null,null,null,"ŠB-6 - ŠB-7:(145,70-137,70)*(2,05+1,90)/2*2"]
[9,"151101102R00","Pažení a rozepření stěn rýh - příložné - hl.do 4 m ","m2",686.64099999999996,null,{"$f":"E52*F52","v":0},8.5999999999999998E-4,{"$f":"E52*H52","v":0.59051125999999998},0,{"$f":"E52*J52","v":0},null,null,null,2,null,null,null,null,null,null,null,null,null,null,null,1,1,1,null,null,null,null,null,null,null,null,null,null,null,null,null,null,null,null,null,null,null,null,null,null,1,{"$f":"IF(AZ52=1,G52,0)","v":0},{"$f":"IF(AZ52=2,G52,0)","v":0},{"$f":"IF(AZ52=3,G52,0)","v":0},{"$f":"IF(AZ52=4,G52,0)","v":0},{"$f":"IF(AZ52=5,G52,0)","v":0},null,null,null,null,null,null,null,null,null,null,null,null,null,null,null,null,null,null,null,null,null,1,1]
[null,null,"Stoka \"B\" KT DN400:",null,0,null,null,null,null,null,null,null,"Stoka \"B\" KT DN400:"]
[null,null,"Výkopy:",null,0,null,null,null,null,null,null,null,"Výkopy:"]
[null,null,"ŠA-0 - ŠB-1:48,50*(3,63+2,38)/2*2",null,291.48500000000001,null,null,null,null,null,null,null,"ŠA-0 - ŠB-1:48,50*(3,63+2,38)/2*2"]
[null,null,"ŠB-1 - ŠB-6:(137,70-48,50)*(2,38+2,05)/2*2",null,395.15600000000001,null,null,null,null,null,null,null,"ŠB-1 - ŠB-6:(137,70-48,50)*(2,38+2,05)/2*2"]
[10,"151101111R00","Odstranění pažení stěn rýh - příložné - hl. do 2 m ","m2",31.6,null,{"$f":"E57*F57","v":0},0,{"$f":"E57*H57","v":0},0,{"$f":"E57*J57","v":0},null,null,null,2,null,null,null,null,null,null,null,null,null,null,null,1,1,1,null,null,null,null,null,null,null,null,null,null,null,null,null,null,null,null,null,null,null,null,null,null,1,{"$f":"IF(AZ57=1,G57,0)","v":0},{"$f":"IF(AZ57=2,G57,0)","v":0},{"$f":"IF(AZ57=3,G57,0)","v":0},{"$f":"IF(AZ57=4,G57,0)","v":0},{"$f":"IF(AZ57=5,G57,0)","v":0},null,null,null,null,null,null,null,null,null,null,null,null,null,null,null,null,null,null,null,null,null,1,1]
[null,null,"Stoka \"B\" KT DN400:",null,0,null,null,null,null,null,null,null,"Stoka \"B\" KT DN400:"]
[null,null,"Výkopy:",null,0,null,null,null,null,null,null,null,"Výkopy:"]
[null,null,"ŠB-6 - ŠB-7:(145,70-137,70)*(2,05+1,90)/2*2",null,31.6,null,null,null,null,null,null,null,"ŠB-6 - ŠB-7:(145,70-137,70)*(2,05+1,90)/2*2"]
[11,"151101112R00","Odstranění pažení stěn rýh - příložné - hl. do 4 m ","m2",686.64099999999996,null,{"$f":"E61*F61","v":0},0,{"$f":"E61*H61","v":0},0,{"$f":"E61*J61","v":0},null,null,null,2,null,null,null,null,null,null,null,null,null,null,null,1,1,1,null,null,null,null,null,null,null,null,null,null,null,null,null,null,null,null,null,null,null,null,null,null,1,{"$f":"IF(AZ61=1,G61,0)","v":0},{"$f":"IF(AZ61=2,G61,0)","v":0},{"$f":"IF(AZ61=3,G61,0)","v":0},{"$f":"IF(AZ61=4,G61,0)","v":0},{"$f":"IF(AZ61=5,G61,0)","v":0},null,null,null,null,null,null,null,null,null,null,null,null,null,null,null,null,null,null,null,null,null,1,1]
[null,null,"Stoka \"B\" KT DN400:",null,0,null,null,null,null,null,null,null,"Stoka \"B\" KT DN400:"]
[null,null,"Výkopy:",null,0,null,null,null,null,null,null,null,"Výkopy:"]
[null,null,"ŠA-0 - ŠB-1:48,50*(3,63+2,38)/2*2",null,291.48500000000001,null,null,null,null,null,null,null,"ŠA-0 - ŠB-1:48,50*(3,63+2,38)/2*2"]
[null,null,"ŠB-1 - ŠB-6:(137,70-48,50)*(2,38+2,05)/2*2",null,395.15600000000001,null,null,null,null,null,null,null,"ŠB-1 - ŠB-6:(137,70-48,50)*(2,38+2,05)/2*2"]
[12,"162701105RSZ","Vodorovné přemístění výkopku z hor.1-7 na skládku zhotovitele","m3",379.59010000000001,null,{"$f":"E66*F66","v":0},0,{"$f":"E66*H66","v":0},0,{"$f":"E66*J66","v":0},null,null,null,2,null,null,null,null,null,null,null,null,null,null,null,1,1,1,null,null,null,null,null,null,null,null,null,null,null,null,null,null,null,null,null,null,null,null,null,null,1,{"$f":"IF(AZ66=1,G66,0)","v":0},{"$f":"IF(AZ66=2,G66,0)","v":0},{"$f":"IF(AZ66=3,G66,0)","v":0},{"$f":"IF(AZ66=4,G66,0)","v":0},{"$f":"IF(AZ66=5,G66,0)","v":0},null,null,null,null,null,null,null,null,null,null,null,null,null,null,null,null,null,null,null,null,null,1,1]
[null,null,"Stoka \"B\" KT DN400:",null,0,null,null,null,null,null,null,null,"Stoka \"B\" KT DN400:"]
[null,null,"Výkopy:",null,0,null,null,null,null,null,null,null,"Výkopy:"]
[null,null,"V hornině tř. 3 - 5:379,5901",null,379.59010000000001,null,null,null,null,null,null,null,"V hornině tř. 3 - 5:379,5901"]
[13,"174101101R00","Zásyp jam, rýh, šachet se zhutněním ","m3",186.9992,null,{"$f":"E70*F70","v":0},0,{"$f":"E70*H70","v":0},0,{"$f":"E70*J70","v":0},null,null,null,2,null,null,null,null,null,null,null,null,null,null,null,1,1,1,null,null,null,null,null,null,null,null,null,null,null,null,null,null,null,null,null,null,null,null,null,null,1,{"$f":"IF(AZ70=1,G70,0)","v":0},{"$f":"IF(AZ70=2,G70,0)","v":0},{"$f":"IF(AZ70=3,G70,0)","v":0},{"$f":"IF(AZ70=4,G70,0)","v":0},{"$f":"IF(AZ70=5,G70,0)","v":0},null,null,null,null,null,null,null,null,null,null,null,null,null,null,null,null,null,null,null,null,null,1,1]
[null,null,"Položka obsahuje strojní přemístění materiálu pro zásyp ze vzdálenosti do 10 m od okraje zásypu.",null,null,null,null,null,null,null,null,"Položka obsahuje strojní přemístění materiálu pro zásyp ze vzdálenosti do 10 m od okraje zásypu.",null,null,3]
[null,null,null,null,null,null,null,null,null,null,null,null,null,null,3]
[null,null,"Stoka \"B\" KT DN400:",null,0,null,null,null,null,null,null,null,"Stoka \"B\" KT DN400:"]
[null,null,"Zásypy ŠD fr. 0-63 mm:186,9992",null,186.9992,null,null,null,null,null,null,null,"Zásypy ŠD fr. 0-63 mm:186,9992"]
[null,null,"Začátek provozního součtu",null,0,null,null,null,null,null,null,null,"Začátek provozního součtu"]
[null,null,"Výkopy:",null,0,null,null,null,null,null,null,null,"Výkopy:"]
[null,null,"V hornině tř. 3 - 5 - 10%:379,5901",null,379.59010000000001,null,null,null,null,null,null,null,"V hornině tř. 3 - 5 - 10%:379,5901"]
[null,null,"Odpočet objemu lože, potrubí a obsypů:-145,70*1,2168",null,-177.2878,null,null,null,null,null,null,null,"Odpočet objemu lože, potrubí a obsypů:-145,70*1,2168"]
[null,null,"Odpočet objemu RŠ:-15,3031",null,-15.303100000000001,null,null,null,null,null,null,null,"Odpočet objemu RŠ:-15,3031"]
[null,null,"Konec provozního součtu",null,186.9992,null,null,null,null,null,null,null,"Konec provozního součtu"]
[14,"175101101R00","Obsyp potrubí bez prohození sypaniny ","m3",121.8052,null,{"$f":"E81*F81","v":0},0,{"$f":"E81*H81","v":0},0,{"$f":"E81*J81","v":0},null,null,null,2,null,null,null,null,null,null,null,null,null,null,null,1,1,1,null,null,null,null,null,null,null,null,null,null,null,null,null,null,null,null,null,null,null,null,null,null,1,{"$f":"IF(AZ81=1,G81,0)","v":0},{"$f":"IF(AZ81=2,G81,0)","v":0},{"$f":"IF(AZ81=3,G81,0)","v":0},{"$f":"IF(AZ81=4,G81,0)","v":0},{"$f":"IF(AZ81=5,G81,0)","v":0},null,null,null,null,null,null,null,null,null,null,null,null,null,null,null,null,null,null,null,null,null,1,1]
[null,null,"Stoka \"B\" KT DN400:145,70*0,836",null,121.8052,null,null,null,null,null,null,null,"Stoka \"B\" KT DN400:145,70*0,836"]
[15,"199000002R00","Poplatek za skládku horniny 1- 7 č. dle katal. odpadů 17 05 04","m3",379.59010000000001,null,{"$f":"E83*F83","v":0},0,{"$f":"E83*H83","v":0},0,{"$f":"E83*J83","v":0},null,null,null,2,null,null,null,null,null,null,null,null,null,null,null,1,1,1,null,null,null,null,null,null,null,null,null,null,null,null,null,null,null,null,null,null,null,null,null,null,1,{"$f":"IF(AZ83=1,G83,0)","v":0},{"$f":"IF(AZ83=2,G83,0)","v":0},{"$f":"IF(AZ83=3,G83,0)","v":0},{"$f":"IF(AZ83=4,G83,0)","v":0},{"$f":"IF(AZ83=5,G83,0)","v":0},null,null,null,null,null,null,null,null,null,null,null,null,null,null,null,null,null,null,null,null,null,1,1]
[null,null,"Stoka \"B\" KT DN400:",null,0,null,null,null,null,null,null,null,"Stoka \"B\" KT DN400:"]
[null,null,"Výkopy:",null,0,null,null,null,null,null,null,null,"Výkopy:"]
[null,null,"V hornině tř. 3 - 5:379,5901",null,379.59010000000001,null,null,null,null,null,null,null,"V hornině tř. 3 - 5:379,5901"]
[16,"58337308.R","Štěrkopísek frakce 0-2 tř.B","t",242.72489999999999,null,{"$f":"E87*F87","v":0},1,{"$f":"E87*H87","v":242.72489999999999},null,{"$f":"E87*J87","v":0},null,null,null,2,null,null,null,null,null,null,null,null,null,null,null,3,1,"58337308.R",null,null,null,null,null,null,null,null,null,null,null,null,null,null,null,null,null,null,null,null,null,null,1,{"$f":"IF(AZ87=1,G87,0)","v":0},{"$f":"IF(AZ87=2,G87,0)","v":0},{"$f":"IF(AZ87=3,G87,0)","v":0},{"$f":"IF(AZ87=4,G87,0)","v":0},{"$f":"IF(AZ87=5,G87,0)","v":0},null,null,null,null,null,null,null,null,null,null,null,null,null,null,null,null,null,null,null,null,null,3,1]
[null,null,"Stoka \"B\" KT DN400:145,70*0,836*1,973*1,01",null,242.72489999999999,null,null,null,null,null,null,null,"Stoka \"B\" KT DN400:145,70*0,836*1,973*1,01"]
[17,"58344197R","Štěrkodrtě frakce 0-63 A","t",353.75200000000001,null,{"$f":"E89*F89","v":0},1,{"$f":"E89*H89","v":353.75200000000001},null,{"$f":"E89*J89","v":0},null,null,null,2,null,null,null,null,null,null,null,null,null,null,null,3,1,"58344197R",null,null,null,null,null,null,null,null,null,null,null,null,null,null,null,null,null,null,null,null,null,null,1,{"$f":"IF(AZ89=1,G89,0)","v":0},{"$f":"IF(AZ89=2,G89,0)","v":0},{"$f":"IF(AZ89=3,G89,0)","v":0},{"$f":"IF(AZ89=4,G89,0)","v":0},{"$f":"IF(AZ89=5,G89,0)","v":0},null,null,null,null,null,null,null,null,null,null,null,null,null,null,null,null,null,null,null,null,null,3,1]
[null,null,"Stoka \"B\" KT DN400:",null,0,null,null,null,null,null,null,null,"Stoka \"B\" KT DN400:"]
[null,null,"Zásypy ŠD fr. 0-63 mm:186,9992*1,873*1,01",null,353.75200000000001,null,null,null,null,null,null,null,"Zásypy ŠD fr. 0-63 mm:186,9992*1,873*1,01"]
[null,null,"Začátek provozního součtu",null,0,null,null,null,null,null,null,null,"Začátek provozního součtu"]
[null,null,"Výkopy:",null,0,null,null,null,null,null,null,null,"Výkopy:"]
[null,null,"V hornině tř. 3 - 5 - 10%:379,5901",null,379.59010000000001,null,null,null,null,null,null,null,"V hornině tř. 3 - 5 - 10%:379,5901"]
[null,null,"Odpočet objemu lože, potrubí a obsypů:-145,70*1,2168",null,-177.2878,null,null,null,null,null,null,null,"Odpočet objemu lože, potrubí a obsypů:-145,70*1,2168"]
[null,null,"Odpočet objemu RŠ:-15,3031",null,-15.303100000000001,null,null,null,null,null,null,null,"Odpočet objemu RŠ:-15,3031"]
[null,null,"Konec provozního součtu",null,186.9992,null,null,null,null,null,null,null,"Konec provozního součtu"]
[null,"Celkem za","1 Zemní práce",null,null,null,{"$f":"SUM(G7:G97)","v":0},null,{"$f":"SUM(I7:I97)","v":597.49384844999997},null,{"$f":"SUM(K7:K97)","v":0},null,null,null,4,null,null,null,null,null,null,null,null,null,null,null,null,null,null,null,null,null,null,null,null,null,null,null,null,null,null,null,null,null,null,null,null,null,null,null,null,null,{"$f":"SUM(BA7:BA97)","v":0},{"$f":"SUM(BB7:BB97)","v":0},{"$f":"SUM(BC7:BC97)","v":0},{"$f":"SUM(BD7:BD97)","v":0},{"$f":"SUM(BE7:BE97)","v":0}]
["Díl:","21","Úprava podloží a základ.spáry",null,null,null,null,null,null,null,null,null,null,null,1]
[18,"212810010RAC","Trativody z PVC drenážních flexibilních trubek lože štěrkopísek a obsyp kamenivo, trubky d 100 mm","m",145.69999999999999,null,{"$f":"E100*F100","v":0},0.43651000000000001,{"$f":"E100*H100","v":63.599506999999996},0,{"$f":"E100*J100","v":0},null,null,null,2,null,null,null,null,null,null,null,null,null,null,null,1,1,1,null,null,null,null,null,null,null,null,null,null,null,null,null,null,null,null,null,null,null,null,null,null,1,{"$f":"IF(AZ100=1,G100,0)","v":0},{"$f":"IF(AZ100=2,G100,0)","v":0},{"$f":"IF(AZ100=3,G100,0)","v":0},{"$f":"IF(AZ100=4,G100,0)","v":0},{"$f":"IF(AZ100=5,G100,0)","v":0},null,null,null,null,null,null,null,null,null,null,null,null,null,null,null,null,null,null,null,null,null,1,1]
[null,null,"Stoka \"B\" KT DN400:",null,0,null,null,null,null,null,null,null,"Stoka \"B\" KT DN400:"]
[null,null,"Drenáž DN100:145,70",null,145.69999999999999,null,null,null,null,null,null,null,"Drenáž DN100:145,70"]
[null,"Celkem za","21 Úprava podloží a základ.spáry",null,null,null,{"$f":"SUM(G99:G102)","v":0},null,{"$f":"SUM(I99:I102)","v":63.599506999999996},null,{"$f":"SUM(K99:K102)","v":0},null,null,null,4,null,null,null,null,null,null,null,null,null,null,null,null,null,null,null,null,null,null,null,null,null,null,null,null,null,null,null,null,null,null,null,null,null,null,null,null,null,{"$f":"SUM(BA99:BA102)","v":0},{"$f":"SUM(BB99:BB102)","v":0},{"$f":"SUM(BC99:BC102)","v":0},{"$f":"SUM(BD99:BD102)","v":0},{"$f":"SUM(BE99:BE102)","v":0}]
["Díl:","45","Podkladní a vedlejší konstrukce",null,null,null,null,null,null,null,null,null,null,null,1]
[19,"452112111R00","Osazení beton. prstenců pod poklopy,výšky do100 mm ","kus",8,null,{"$f":"E105*F105","v":0},6.6E-3,{"$f":"E105*H105","v":5.28E-2},0,{"$f":"E105*J105","v":0},null,null,null,2,null,null,null,null,null,null,null,null,null,null,null,1,1,1,null,null,null,null,null,null,null,null,null,null,null,null,null,null,null,null,null,null,null,null,null,null,1,{"$f":"IF(AZ105=1,G105,0)","v":0},{"$f":"IF(AZ105=2,G105,0)","v":0},{"$f":"IF(AZ105=3,G105,0)","v":0},{"$f":"IF(AZ105=4,G105,0)","v":0},{"$f":"IF(AZ105=5,G105,0)","v":0},null,null,null,null,null,null,null,null,null,null,null,null,null,null,null,null,null,null,null,null,null,1,1]
[null,null,"Volba položky se řídí výškou prstence nebo rámu. V položkách nejsou zakalkulovány náklady na dodávku betonových výrobků;",null,null,null,null,null,null,null,null,"Volba položky se řídí výškou prstence nebo rámu. V položkách nejsou zakalkulovány náklady na dodávku betonových výrobků;",null,null,3]
[null,null,"Stoka \"B\" KT DN400:",null,0,null,null,null,null,null,null,null,"Stoka \"B\" KT DN400:"]
[null,null,"VP H40:4",null,4,null,null,null,null,null,null,null,"VP H40:4"]
[null,null,"VP H60:1",null,1,null,null,null,null,null,null,null,"VP H60:1"]
[null,null,"VP H100:3",null,3,null,null,null,null,null,null,null,"VP H100:3"]
[20,"452112121R00","Osazení beton. prstenců pod poklopy,výšky do200 mm ","kus",4,null,{"$f":"E111*F111","v":0},6.6E-3,{"$f":"E111*H111","v":2.64E-2},0,{"$f":"E111*J111","v":0},null,null,null,2,null,null,null,null,null,null,null,null,null,null,null,1,1,1,null,null,null,null,null,null,null,null,null,null,null,null,null,null,null,null,null,null,null,null,null,null,1,{"$f":"IF(AZ111=1,G111,0)","v":0},{"$f":"IF(AZ111=2,G111,0)","v":0},{"$f":"IF(AZ111=3,G111,0)","v":0},{"$f":"IF(AZ111=4,G111,0)","v":0},{"$f":"IF(AZ111=5,G111,0)","v":0},null,null,null,null,null,null,null,null,null,null,null,null,null,null,null,null,null,null,null,null,null,1,1]
[null,null,"Stoka \"B\" KT DN400:",null,0,null,null,null,null,null,null,null,"Stoka \"B\" KT DN400:"]
[null,null,"VP H120:4",null,4,null,null,null,null,null,null,null,"VP H120:4"]
[21,"452312131R00","Sedlové lože pod potrubí z betonu C 12/15 ","m3",49.246600000000001,null,{"$f":"E114*F114","v":0},2.5,{"$f":"E114*H114","v":123.1165},0,{"$f":"E114*J114","v":0},null,null,null,2,null,null,null,null,null,null,null,null,null,null,null,1,1,1,null,null,null,null,null,null,null,null,null,null,null,null,null,null,null,null,null,null,null,null,null,null,1,{"$f":"IF(AZ114=1,G114,0)","v":0},{"$f":"IF(AZ114=2,G114,0)","v":0},{"$f":"IF(AZ114=3,G114,0)","v":0},{"$f":"IF(AZ114=4,G114,0)","v":0},{"$f":"IF(AZ114=5,G114,0)","v":0},null,null,null,null,null,null,null,null,null,null,null,null,null,null,null,null,null,null,null,null,null,1,1]
[null,null,"Položka je určena pro práce v otevřeném výkopu",null,null,null,null,null,null,null,null,"Položka je určena pro práce v otevřeném výkopu",null,null,3]
[null,null,"Stoka \"B\" KT DN400:145,70*0,338",null,49.246600000000001,null,null,null,null,null,null,null,"Stoka \"B\" KT DN400:145,70*0,338"]
[22,"59224346.A.R","Prstenec vyrovn šachetní TBW-Q.1 63/4","kus",4.04,null,{"$f":"E117*F117","v":0},2.8000000000000001E-2,{"$f":"E117*H117","v":0.11312},null,{"$f":"E117*J117","v":0},null,null,null,2,null,null,null,null,null,null,null,null,null,null,null,3,1,"59224346.A.R",null,null,null,null,null,null,null,null,null,null,null,null,null,null,null,null,null,null,null,null,null,null,1,{"$f":"IF(AZ117=1,G117,0)","v":0},{"$f":"IF(AZ117=2,G117,0)","v":0},{"$f":"IF(AZ117=3,G117,0)","v":0},{"$f":"IF(AZ117=4,G117,0)","v":0},{"$f":"IF(AZ117=5,G117,0)","v":0},null,null,null,null,null,null,null,null,null,null,null,null,null,null,null,null,null,null,null,null,null,3,1]
[null,null,"Stoka \"B\" KT DN400:",null,0,null,null,null,null,null,null,null,"Stoka \"B\" KT DN400:"]
[null,null,"VP H40:4*1,01",null,4.04,null,null,null,null,null,null,null,"VP H40:4*1,01"]
[23,"59224347.A.R","Prstenec vyrovn šachetní TBW-Q.1 63/6","kus",1.01,null,{"$f":"E120*F120","v":0},0.04,{"$f":"E120*H120","v":4.0399999999999998E-2},null,{"$f":"E120*J120","v":0},null,null,null,2,null,null,null,null,null,null,null,null,null,null,null,3,1,"59224347.A.R",null,null,null,null,null,null,null,null,null,null,null,null,null,null,null,null,null,null,null,null,null,null,1,{"$f":"IF(AZ120=1,G120,0)","v":0},{"$f":"IF(AZ120=2,G120,0)","v":0},{"$f":"IF(AZ120=3,G120,0)","v":0},{"$f":"IF(AZ120=4,G120,0)","v":0},{"$f":"IF(AZ120=5,G120,0)","v":0},null,null,null,null,null,null,null,null,null,null,null,null,null,null,null,null,null,null,null,null,null,3,1]
[null,null,"Stoka \"B\" KT DN400:",null,0,null,null,null,null,null,null,null,"Stoka \"B\" KT DN400:"]
[null,null,"VP H60:1*1,01",null,1.01,null,null,null,null,null,null,null,"VP H60:1*1,01"]
[24,"59224349.A.R","Prstenec vyrovn šachetní TBW-Q.1 63/10","kus",3.03,null,{"$f":"E123*F123","v":0},6.8000000000000005E-2,{"$f":"E123*H123","v":0.20604},null,{"$f":"E123*J123","v":0},null,null,null,2,null,null,null,null,null,null,null,null,null,null,null,3,1,"59224349.A.R",null,null,null,null,null,null,null,null,null,null,null,null,null,null,null,null,null,null,null,null,null,null,1,{"$f":"IF(AZ123=1,G123,0)","v":0},{"$f":"IF(AZ123=2,G123,0)","v":0},{"$f":"IF(AZ123=3,G123,0)","v":0},{"$f":"IF(AZ123=4,G123,0)","v":0},{"$f":"IF(AZ123=5,G123,0)","v":0},null,null,null,null,null,null,null,null,null,null,null,null,null,null,null,null,null,null,null,null,null,3,1]
[null,null,"Stoka \"B\" KT DN400:",null,0,null,null,null,null,null,null,null,"Stoka \"B\" KT DN400:"]
[null,null,"VP H100:3*1,01",null,3.03,null,null,null,null,null,null,null,"VP H100:3*1,01"]
[25,"59224350.A.R","Prstenec vyrovn šachetní TBW-Q.1 63/12","kus",4.04,null,{"$f":"E126*F126","v":0},8.1000000000000003E-2,{"$f":"E126*H126","v":0.32724000000000003},null,{"$f":"E126*J126","v":0},null,null,null,2,null,null,null,null,null,null,null,null,null,null,null,3,1,"59224350.A.R",null,null,null,null,null,null,null,null,null,null,null,null,null,null,null,null,null,null,null,null,null,null,1,{"$f":"IF(AZ126=1,G126,0)","v":0},{"$f":"IF(AZ126=2,G126,0)","v":0},{"$f":"IF(AZ126=3,G126,0)","v":0},{"$f":"IF(AZ126=4,G126,0)","v":0},{"$f":"IF(AZ126=5,G126,0)","v":0},null,null,null,null,null,null,null,null,null,null,null,null,null,null,null,null,null,null,null,null,null,3,1]
[null,null,"Stoka \"B\" KT DN400:",null,0,null,null,null,null,null,null,null,"Stoka \"B\" KT DN400:"]
[null,null,"VP H120:4*1,01",null,4.04,null,null,null,null,null,null,null,"VP H120:4*1,01"]
[null,"Celkem za","45 Podkladní a vedlejší konstrukce",null,null,null,{"$f":"SUM(G104:G128)","v":0},null,{"$f":"SUM(I104:I128)","v":123.88250000000001},null,{"$f":"SUM(K104:K128)","v":0},null,null,null,4,null,null,null,null,null,null,null,null,null,null,null,null,null,null,null,null,null,null,null,null,null,null,null,null,null,null,null,null,null,null,null,null,null,null,null,null,null,{"$f":"SUM(BA104:BA128)","v":0},{"$f":"SUM(BB104:BB128)","v":0},{"$f":"SUM(BC104:BC128)","v":0},{"$f":"SUM(BD104:BD128)","v":0},{"$f":"SUM(BE104:BE128)","v":0}]
["Díl:","5","Komunikace",null,null,null,null,null,null,null,null,null,null,null,1]
[26,"572701119RRX","Provizorní zásyp rýh kam. hrubě drceným nebo recyk s následným odstraněním a odvozem","m3",96.385000000000005,null,{"$f":"E131*F131","v":0},1.4804999999999999,{"$f":"E131*H131","v":142.6979925},0,{"$f":"E131*J131","v":0},null,null,null,2,null,null,null,null,null,null,null,null,null,null,null,1,1,1,null,null,null,null,null,null,null,null,null,null,null,null,null,null,null,null,null,null,null,null,null,null,1,{"$f":"IF(AZ131=1,G131,0)","v":0},{"$f":"IF(AZ131=2,G131,0)","v":0},{"$f":"IF(AZ131=3,G131,0)","v":0},{"$f":"IF(AZ131=4,G131,0)","v":0},{"$f":"IF(AZ131=5,G131,0)","v":0},null,null,null,null,null,null,null,null,null,null,null,null,null,null,null,null,null,null,null,null,null,1,1]
[null,null,"Stoka \"B\" KT DN400:",null,0,null,null,null,null,null,null,null,"Stoka \"B\" KT DN400:"]
[null,null,"Objemu konstrukce komunikace:(145,70*1,30+1,60*(1,60-1,30)*7)*0,50",null,96.385000000000005,null,null,null,null,null,null,null,"Objemu konstrukce komunikace:(145,70*1,30+1,60*(1,60-1,30)*7)*0,50"]
[null,"Celkem za","5 Komunikace",null,null,null,{"$f":"SUM(G130:G133)","v":0},null,{"$f":"SUM(I130:I133)","v":142.6979925},null,{"$f":"SUM(K130:K133)","v":0},null,null,null,4,null,null,null,null,null,null,null,null,null,null,null,null,null,null,null,null,null,null,null,null,null,null,null,null,null,null,null,null,null,null,null,null,null,null,null,null,null,{"$f":"SUM(BA130:BA133)","v":0},{"$f":"SUM(BB130:BB133)","v":0},{"$f":"SUM(BC130:BC133)","v":0},{"$f":"SUM(BD130:BD133)","v":0},{"$f":"SUM(BE130:BE133)","v":0}]
["Díl:","8","Trubní vedení",null,null,null,null,null,null,null,null,null,null,null,1]
[27,"831392121R00","Montáž trub kameninových, pryž. kroužek, DN 400 ","m",145.69999999999999,null,{"$f":"E136*F136","v":0},6.0000000000000002E-5,{"$f":"E136*H136","v":8.7419999999999998E-3},0,{"$f":"E136*J136","v":0},null,null,null,2,null,null,null,null,null,null,null,null,null,null,null,1,1,1,null,null,null,null,null,null,null,null,null,null,null,null,null,null,null,null,null,null,null,null,null,null,1,{"$f":"IF(AZ136=1,G136,0)","v":0},{"$f":"IF(AZ136=2,G136,0)","v":0},{"$f":"IF(AZ136=3,G136,0)","v":0},{"$f":"IF(AZ136=4,G136,0)","v":0},{"$f":"IF(AZ136=5,G136,0)","v":0},null,null,null,null,null,null,null,null,null,null,null,null,null,null,null,null,null,null,null,null,null,1,1]
[null,null,"Položka je určena pro montáž potrubí z trub kameninových s polyuretanovým spojem v otevřeném výkopu ve sklonu do 20 % včetně případné potřeby krácení trub.",null,null,null,null,null,null,null,null,"Položka je určena pro montáž potrubí z trub kameninových s polyuretanovým spojem v otevřeném výkopu ve sklonu do 20 % včetně případné potřeby krácení trub.",null,null,3]
[null,null,"Stoka \"B\" KT DN400:145,70",null,145.69999999999999,null,null,null,null,null,null,null,"Stoka \"B\" KT DN400:145,70"]
[28,"892601154R00","Čištění kanalizační stoky do DN 500, nad 100 m ","m",145.69999999999999,null,{"$f":"E139*F139","v":0},0,{"$f":"E139*H139","v":0},0,{"$f":"E139*J139","v":0},null,null,null,2,null,null,null,null,null,null,null,null,null,null,null,1,0,0,null,null,null,null,null,null,null,null,null,null,null,null,null,null,null,null,null,null,null,null,null,null,1,{"$f":"IF(AZ139=1,G139,0)","v":0},{"$f":"IF(AZ139=2,G139,0)","v":0},{"$f":"IF(AZ139=3,G139,0)","v":0},{"$f":"IF(AZ139=4,G139,0)","v":0},{"$f":"IF(AZ139=5,G139,0)","v":0},null,null,null,null,null,null,null,null,null,null,null,null,null,null,null,null,null,null,null,null,null,1,0]
[null,null,"V položce je zakalkulováno:",null,null,null,null,null,null,null,null,"V položce je zakalkulováno:",null,null,3]
[null,null,"a) otevření a uzavření revizních šachet a čisticích kusů",null,null,null,null,null,null,null,null,"a) otevření a uzavření revizních šachet a čisticích kusů",null,null,3]
[null,null,"b) natažení vysokotlakých hadic k místu odkud se bude kanalizace čistit",null,null,null,null,null,null,null,null,"b) natažení vysokotlakých hadic k místu odkud se bude kanalizace čistit",null,null,3]
[null,null,"c) vyčištění potrubí tlakovou vodou nebo motorovým pérem.",null,null,null,null,null,null,null,null,"c) vyčištění potrubí tlakovou vodou nebo motorovým pérem.",null,null,3]
[null,null,"Stoka \"B\" KT DN400:145,70",null,145.69999999999999,null,null,null,null,null,null,null,"Stoka \"B\" KT DN400:145,70"]
[29,"892855115R00","Kontrola kanalizace TV kamerou do 500 m ","m",291.39999999999998,null,{"$f":"E145*F145","v":0},0,{"$f":"E145*H145","v":0},0,{"$f":"E145*J145","v":0},null,null,null,2,null,null,null,null,null,null,null,null,null,null,null,1,1,1,null,null,null,null,null,null,null,null,null,null,null,null,null,null,null,null,null,null,null,null,null,null,1,{"$f":"IF(AZ145=1,G145,0)","v":0},{"$f":"IF(AZ145=2,G145,0)","v":0},{"$f":"IF(AZ145=3,G145,0)","v":0},{"$f":"IF(AZ145=4,G145,0)","v":0},{"$f":"IF(AZ145=5,G145,0)","v":0},null,null,null,null,null,null,null,null,null,null,null,null,null,null,null,null,null,null,null,null,null,1,1]
[null,null,"Provedení kaberové prohlídky včetně dodání elektronického záznamu na CD zadavateli a tištěné dokumentace průběhu kamerové prohlídky",null,null,null,null,null,null,null,null,"Provedení kaberové prohlídky včetně dodání elektronického záznamu na CD zadavateli a tištěné dokumentace průběhu kamerové prohlídky",null,null,3]
[null,null,"Stoka \"B\" KT DN400:145,70*2",null,291.39999999999998,null,null,null,null,null,null,null,"Stoka \"B\" KT DN400:145,70*2"]
[30,"894421111RT1","Osazení betonových dílců šachet skruže rovné, na kroužek, do 0,5 t","kus",8,null,{"$f":"E148*F148","v":0},0,{"$f":"E148*H148","v":0},0,{"$f":"E148*J148","v":0},null,null,null,2,null,null,null,null,null,null,null,null,null,null,null,1,1,1,null,null,null,null,null,null,null,null,null,null,null,null,null,null,null,null,null,null,null,null,null,null,1,{"$f":"IF(AZ148=1,G148,0)","v":0},{"$f":"IF(AZ148=2,G148,0)","v":0},{"$f":"IF(AZ148=3,G148,0)","v":0},{"$f":"IF(AZ148=4,G148,0)","v":0},{"$f":"IF(AZ148=5,G148,0)","v":0},null,null,null,null,null,null,null,null,null,null,null,null,null,null,null,null,null,null,null,null,null,1,1]
[null,null,"Položka je určena pro osazení betonových dílců šachet dle DIN 4034, skruže rovné na kroužek, hmotnost do 0,5 t.",null,null,null,null,null,null,null,null,"Položka je určena pro osazení betonových dílců šachet dle DIN 4034, skruže rovné na kroužek, hmotnost do 0,5 t.",null,null,3]
[null,null,"V položce nejsou zakalkulovány náklady na dodání betonových dílců; dílce se oceňují ve specifikaci.",null,null,null,null,null,null,null,null,"V položce nejsou zakalkulovány náklady na dodání betonových dílců; dílce se oceňují ve specifikaci.",null,null,3]
[null,null,"Stoka \"B\" KT DN400:",null,0,null,null,null,null,null,null,null,"Stoka \"B\" KT DN400:"]
[null,null,"Skruž H250:1",null,1,null,null,null,null,null,null,null,"Skruž H250:1"]
[null,null,"Skruž H500:7",null,7,null,null,null,null,null,null,null,"Skruž H500:7"]
[31,"894422111RT1","Osazení betonových dílců šachet skruže přechodové, na kroužek","kus",7,null,{"$f":"E154*F154","v":0},0,{"$f":"E154*H154","v":0},0,{"$f":"E154*J154","v":0},null,null,null,2,null,null,null,null,null,null,null,null,null,null,null,1,1,1,null,null,null,null,null,null,null,null,null,null,null,null,null,null,null,null,null,null,null,null,null,null,1,{"$f":"IF(AZ154=1,G154,0)","v":0},{"$f":"IF(AZ154=2,G154,0)","v":0},{"$f":"IF(AZ154=3,G154,0)","v":0},{"$f":"IF(AZ154=4,G154,0)","v":0},{"$f":"IF(AZ154=5,G154,0)","v":0},null,null,null,null,null,null,null,null,null,null,null,null,null,null,null,null,null,null,null,null,null,1,1]
[null,null,"Položka je určena pro osazení betonových dílců šachet dle DIN 4034, skruže přechodové, zákrytové, kónusy,... na kroužek.",null,null,null,null,null,null,null,null,"Položka je určena pro osazení betonových dílců šachet dle DIN 4034, skruže přechodové, zákrytové, kónusy,... na kroužek.",null,null,3]
[null,null,"Stoka \"B\" KT DN400:",null,0,null,null,null,null,null,null,null,"Stoka \"B\" KT DN400:"]
[null,null,"Kónus H580:7",null,7,null,null,null,null,null,null,null,"Kónus H580:7"]
[32,"894423111RT1","Osazení betonových dílců šachet do 2,0 t šachtová dna, na kroužek, do 2,0 t","kus",7,null,{"$f":"E158*F158","v":0},0,{"$f":"E158*H158","v":0},0,{"$f":"E158*J158","v":0},null,null,null,2,null,null,null,null,null,null,null,null,null,null,null,1,1,1,null,null,null,null,null,null,null,null,null,null,null,null,null,null,null,null,null,null,null,null,null,null,1,{"$f":"IF(AZ158=1,G158,0)","v":0},{"$f":"IF(AZ158=2,G158,0)","v":0},{"$f":"IF(AZ158=3,G158,0)","v":0},{"$f":"IF(AZ158=4,G158,0)","v":0},{"$f":"IF(AZ158=5,G158,0)","v":0},null,null,null,null,null,null,null,null,null,null,null,null,null,null,null,null,null,null,null,null,null,1,1]
[null,null,"Položka je určena pro osazení betonových dílců šachet dle DIN 4034, šachtová dna na kroužek, hmotnost do 2,0 t.",null,null,null,null,null,null,null,null,"Položka je určena pro osazení betonových dílců šachet dle DIN 4034, šachtová dna na kroužek, hmotnost do 2,0 t.",null,null,3]
[null,null,"V položce nejsou zakalkulovány náklady na dodání betonových dílců;",null,null,null,null,null,null,null,null,"V položce nejsou zakalkulovány náklady na dodání betonových dílců;",null,null,3]
[null,null,"Součástí položky je i podbetonování šachtového dna betonem C12/15 v min. tl. 10 cm.",null,null,null,null,null,null,null,null,"Součástí položky je i podbetonování šachtového dna betonem C12/15 v min. tl. 10 cm.",null,null,3]
[null,null,"Stoka \"B\" KT DN400:",null,0,null,null,null,null,null,null,null,"Stoka \"B\" KT DN400:"]
[null,null,"ŠD H575:1",null,1,null,null,null,null,null,null,null,"ŠD H575:1"]
[null,null,"ŠD H675:6",null,6,null,null,null,null,null,null,null,"ŠD H675:6"]
[33,"899102111R00","Osazení poklopu s rámem do 100 kg ","kus",7,null,{"$f":"E165*F165","v":0},7.0200000000000002E-3,{"$f":"E165*H165","v":4.9140000000000003E-2},0,{"$f":"E165*J165","v":0},null,null,null,2,null,null,null,null,null,null,null,null,null,null,null,1,1,1,null,null,null,null,null,null,null,null,null,null,null,null,null,null,null,null,null,null,null,null,null,null,1,{"$f":"IF(AZ165=1,G165,0)","v":0},{"$f":"IF(AZ165=2,G165,0)","v":0},{"$f":"IF(AZ165=3,G165,0)","v":0},{"$f":"IF(AZ165=4,G165,0)","v":0},{"$f":"IF(AZ165=5,G165,0)","v":0},null,null,null,null,null,null,null,null,null,null,null,null,null,null,null,null,null,null,null,null,null,1,1]
[null,null,"Osazení provizorních poklopů během realizace stavby  (nefakturovaný materiál zhotovitele)",null,null,null,null,null,null,null,null,"Osazení provizorních poklopů během realizace stavby  (nefakturovaný materiál zhotovitele)",null,null,3]
[34,"899711122R00","Fólie výstražná z PVC šedá, šířka 30 cm ","m",145.69999999999999,null,{"$f":"E167*F167","v":0},0,{"$f":"E167*H167","v":0},0,{"$f":"E167*J167","v":0},null,null,null,2,null,null,null,null,null,null,null,null,null,null,null,1,1,1,null,null,null,null,null,null,null,null,null,null,null,null,null,null,null,null,null,null,null,null,null,null,1,{"$f":"IF(AZ167=1,G167,0)","v":0},{"$f":"IF(AZ167=2,G167,0)","v":0},{"$f":"IF(AZ167=3,G167,0)","v":0},{"$f":"IF(AZ167=4,G167,0)","v":0},{"$f":"IF(AZ167=5,G167,0)","v":0},null,null,null,null,null,null,null,null,null,null,null,null,null,null,null,null,null,null,null,null,null,1,1]
[null,null,"Stoka \"B\" KT DN400:145,70",null,145.69999999999999,null,null,null,null,null,null,null,"Stoka \"B\" KT DN400:145,70"]
[35,"592243543.R","Kónus šachetní TBR-Q.1 100x63/58/12 KPS","kus",7.07,null,{"$f":"E169*F169","v":0},0.58499999999999996,{"$f":"E169*H169","v":4.1359500000000002},null,{"$f":"E169*J169","v":0},null,null,null,2,null,null,null,null,null,null,null,null,null,null,null,3,1,"592243543.R",null,null,null,null,null,null,null,null,null,null,null,null,null,null,null,null,null,null,null,null,null,null,1,{"$f":"IF(AZ169=1,G169,0)","v":0},{"$f":"IF(AZ169=2,G169,0)","v":0},{"$f":"IF(AZ169=3,G169,0)","v":0},{"$f":"IF(AZ169=4,G169,0)","v":0},{"$f":"IF(AZ169=5,G169,0)","v":0},null,null,null,null,null,null,null,null,null,null,null,null,null,null,null,null,null,null,null,null,null,3,1]
[null,null,"Stoka \"B\" KT DN400:",null,0,null,null,null,null,null,null,null,"Stoka \"B\" KT DN400:"]
[null,null,"Kónus H580:7*1,01",null,7.07,null,null,null,null,null,null,null,"Kónus H580:7*1,01"]
[36,"59224358.A.R","Skruž šachetní TBS-Q.1 100/25/12 PS","kus",1.01,null,{"$f":"E172*F172","v":0},0.25,{"$f":"E172*H172","v":0.2525},null,{"$f":"E172*J172","v":0},null,null,null,2,null,null,null,null,null,null,null,null,null,null,null,3,1,"59224358.A.R",null,null,null,null,null,null,null,null,null,null,null,null,null,null,null,null,null,null,null,null,null,null,1,{"$f":"IF(AZ172=1,G172,0)","v":0},{"$f":"IF(AZ172=2,G172,0)","v":0},{"$f":"IF(AZ172=3,G172,0)","v":0},{"$f":"IF(AZ172=4,G172,0)","v":0},{"$f":"IF(AZ172=5,G172,0)","v":0},null,null,null,null,null,null,null,null,null,null,null,null,null,null,null,null,null,null,null,null,null,3,1]
[null,null,"Stoka \"B\" KT DN400:",null,0,null,null,null,null,null,null,null,"Stoka \"B\" KT DN400:"]
[null,null,"Skruž H250:1*1,01",null,1.01,null,null,null,null,null,null,null,"Skruž H250:1*1,01"]
[37,"59224361.A.R","Skruž šachetní TBS-Q.1 100/50/12 PS","kus",7.07,null,{"$f":"E175*F175","v":0},0.5,{"$f":"E175*H175","v":3.5350000000000001},null,{"$f":"E175*J175","v":0},null,null,null,2,null,null,null,null,null,null,null,null,null,null,null,3,1,"59224361.A.R",null,null,null,null,null,null,null,null,null,null,null,null,null,null,null,null,null,null,null,null,null,null,1,{"$f":"IF(AZ175=1,G175,0)","v":0},{"$f":"IF(AZ175=2,G175,0)","v":0},{"$f":"IF(AZ175=3,G175,0)","v":0},{"$f":"IF(AZ175=4,G175,0)","v":0},{"$f":"IF(AZ175=5,G175,0)","v":0},null,null,null,null,null,null,null,null,null,null,null,null,null,null,null,null,null,null,null,null,null,3,1]
[null,null,"Stoka \"B\" KT DN400:",null,0,null,null,null,null,null,null,null,"Stoka \"B\" KT DN400:"]
[null,null,"Skruž H500:7*1,01",null,7.07,null,null,null,null,null,null,null,"Skruž H500:7*1,01"]
[38,"59224371.A.R","Dno šachetní TBZ-Q.1 100/58 KOM V20 včetně kynety dle PD","kus",1.01,null,{"$f":"E178*F178","v":0},1.27,{"$f":"E178*H178","v":1.2827},null,{"$f":"E178*J178","v":0},null,null,null,2,null,null,null,null,null,null,null,null,null,null,null,3,1,"59224371.A.R",null,null,null,null,null,null,null,null,null,null,null,null,null,null,null,null,null,null,null,null,null,null,1,{"$f":"IF(AZ178=1,G178,0)","v":0},{"$f":"IF(AZ178=2,G178,0)","v":0},{"$f":"IF(AZ178=3,G178,0)","v":0},{"$f":"IF(AZ178=4,G178,0)","v":0},{"$f":"IF(AZ178=5,G178,0)","v":0},null,null,null,null,null,null,null,null,null,null,null,null,null,null,null,null,null,null,null,null,null,3,1]
[null,null,"Stoka \"B\" KT DN400:",null,0,null,null,null,null,null,null,null,"Stoka \"B\" KT DN400:"]
[null,null,"ŠD H575:1*1,01",null,1.01,null,null,null,null,null,null,null,"ŠD H575:1*1,01"]
[39,"59224373.A.R","Dno šachetní TBZ-Q.1 100/68 KOM V30 včetně kynety dle PD","kus",6.06,null,{"$f":"E181*F181","v":0},1.45,{"$f":"E181*H181","v":8.786999999999999},null,{"$f":"E181*J181","v":0},null,null,null,2,null,null,null,null,null,null,null,null,null,null,null,3,1,"59224373.A.R",null,null,null,null,null,null,null,null,null,null,null,null,null,null,null,null,null,null,null,null,null,null,1,{"$f":"IF(AZ181=1,G181,0)","v":0},{"$f":"IF(AZ181=2,G181,0)","v":0},{"$f":"IF(AZ181=3,G181,0)","v":0},{"$f":"IF(AZ181=4,G181,0)","v":0},{"$f":"IF(AZ181=5,G181,0)","v":0},null,null,null,null,null,null,null,null,null,null,null,null,null,null,null,null,null,null,null,null,null,3,1]
[null,null,"Stoka \"B\" KT DN400:",null,0,null,null,null,null,null,null,null,"Stoka \"B\" KT DN400:"]
[null,null,"ŠD H675:6*1,01",null,6.06,null,null,null,null,null,null,null,"ŠD H675:6*1,01"]
[40,"59224380.R","Těsnění elastom pro šach díly EMT 100/1.7 - DN1000","kus",15.15,null,{"$f":"E184*F184","v":0},2E-3,{"$f":"E184*H184","v":3.0300000000000001E-2},null,{"$f":"E184*J184","v":0},null,null,null,2,null,null,null,null,null,null,null,null,null,null,null,3,1,"59224380.R",null,null,null,null,null,null,null,null,null,null,null,null,null,null,null,null,null,null,null,null,null,null,1,{"$f":"IF(AZ184=1,G184,0)","v":0},{"$f":"IF(AZ184=2,G184,0)","v":0},{"$f":"IF(AZ184=3,G184,0)","v":0},{"$f":"IF(AZ184=4,G184,0)","v":0},{"$f":"IF(AZ184=5,G184,0)","v":0},null,null,null,null,null,null,null,null,null,null,null,null,null,null,null,null,null,null,null,null,null,3,1]
[null,null,"Stoka \"B\" KT DN400:",null,0,null,null,null,null,null,null,null,"Stoka \"B\" KT DN400:"]
[null,null,"Těsnění DN1000:15*1,01",null,15.15,null,null,null,null,null,null,null,"Těsnění DN1000:15*1,01"]
[41,"59710700.A.R","Trouba kameninová hrdlová DN 400, l=2,50 m, FN 64","m",137.22800000000001,null,{"$f":"E187*F187","v":0},0.13600000000000001,{"$f":"E187*H187","v":18.663008000000001},null,{"$f":"E187*J187","v":0},null,null,null,2,null,null,null,null,null,null,null,null,null,null,null,3,1,"59710700.A.R",null,null,null,null,null,null,null,null,null,null,null,null,null,null,null,null,null,null,null,null,null,null,1,{"$f":"IF(AZ187=1,G187,0)","v":0},{"$f":"IF(AZ187=2,G187,0)","v":0},{"$f":"IF(AZ187=3,G187,0)","v":0},{"$f":"IF(AZ187=4,G187,0)","v":0},{"$f":"IF(AZ187=5,G187,0)","v":0},null,null,null,null,null,null,null,null,null,null,null,null,null,null,null,null,null,null,null,null,null,3,1]
[null,null,"Hrdlové trouby KeraBase pro použití v komunální a průmyslové kanalizační systémy.",null,null,null,null,null,null,null,null,"Hrdlové trouby KeraBase pro použití v komunální a průmyslové kanalizační systémy.",null,null,3]
[null,null,"Otevřený výkop, normální zatížení.",null,null,null,null,null,null,null,null,"Otevřený výkop, normální zatížení.",null,null,3]
[null,null,"DN 400",null,null,null,null,null,null,null,null,"DN 400",null,null,3]
[null,null,"Délka 250 cm",null,null,null,null,null,null,null,null,"Délka 250 cm",null,null,3]
[null,null,"FN 64 kN/m",null,null,null,null,null,null,null,null,"FN 64 kN/m",null,null,3]
[null,null,"Hmotnost 350 kg/ks",null,null,null,null,null,null,null,null,"Hmotnost 350 kg/ks",null,null,3]
[null,null,"Hrdlo K/S",null,null,null,null,null,null,null,null,"Hrdlo K/S",null,null,3]
[null,null,"Třída pevnosti 160",null,null,null,null,null,null,null,null,"Třída pevnosti 160",null,null,3]
[null,null,"Stoka \"B\" KT DN400:145,70*1,015",null,147.88550000000001,null,null,null,null,null,null,null,"Stoka \"B\" KT DN400:145,70*1,015"]
[null,null,"Odpočet  - Tvarovky GA a GZ:-0,75*(7+7)*1,015",null,-10.657500000000001,null,null,null,null,null,null,null,"Odpočet  - Tvarovky GA a GZ:-0,75*(7+7)*1,015"]
[42,"59710826.A.R","Trouba kameninová zkrácená GZ DN 400, FN 64","kus",7.1050000000000004,null,{"$f":"E198*F198","v":0},0.115,{"$f":"E198*H198","v":0.81707500000000011},null,{"$f":"E198*J198","v":0},null,null,null,2,null,null,null,null,null,null,null,null,null,null,null,3,1,"59710826.A.R",null,null,null,null,null,null,null,null,null,null,null,null,null,null,null,null,null,null,null,null,null,null,1,{"$f":"IF(AZ198=1,G198,0)","v":0},{"$f":"IF(AZ198=2,G198,0)","v":0},{"$f":"IF(AZ198=3,G198,0)","v":0},{"$f":"IF(AZ198=4,G198,0)","v":0},{"$f":"IF(AZ198=5,G198,0)","v":0},null,null,null,null,null,null,null,null,null,null,null,null,null,null,null,null,null,null,null,null,null,3,1]
[null,null,"Zkrácené trouby KeraBase GZ pro použití v komunální a průmyslové kanalizační systémy.",null,null,null,null,null,null,null,null,"Zkrácené trouby KeraBase GZ pro použití v komunální a průmyslové kanalizační systémy.",null,null,3]
[null,null,"Otevřený výkop, normální zatížení.",null,null,null,null,null,null,null,null,"Otevřený výkop, normální zatížení.",null,null,3]
[null,null,"DN 400",null,null,null,null,null,null,null,null,"DN 400",null,null,3]
[null,null,"Délka 75 cm",null,null,null,null,null,null,null,null,"Délka 75 cm",null,null,3]
[null,null,"FN 64 kN/m",null,null,null,null,null,null,null,null,"FN 64 kN/m",null,null,3]
[null,null,"Hmotnost 115 kg/ks",null,null,null,null,null,null,null,null,"Hmotnost 115 kg/ks",null,null,3]
[null,null,"Hrdlo K",null,null,null,null,null,null,null,null,"Hrdlo K",null,null,3]
[null,null,"Třída pevnosti 160",null,null,null,null,null,null,null,null,"Třída pevnosti 160",null,null,3]
[null,null,"Stoka \"B\" KT DN400:",null,0,null,null,null,null,null,null,null,"Stoka \"B\" KT DN400:"]
[null,null,"Tvarovky GZ DN400:7*1,015",null,7.1050000000000004,null,null,null,null,null,null,null,"Tvarovky GZ DN400:7*1,015"]
[43,"59710839.A.R","Trouba kameninová zkrácená GA DN 400, FN 64","kus",7.1050000000000004,null,{"$f":"E209*F209","v":0},9.5000000000000001E-2,{"$f":"E209*H209","v":0.6749750000000001},null,{"$f":"E209*J209","v":0},null,null,null,2,null,null,null,null,null,null,null,null,null,null,null,3,1,"59710839.A.R",null,null,null,null,null,null,null,null,null,null,null,null,null,null,null,null,null,null,null,null,null,null,1,{"$f":"IF(AZ209=1,G209,0)","v":0},{"$f":"IF(AZ209=2,G209,0)","v":0},{"$f":"IF(AZ209=3,G209,0)","v":0},{"$f":"IF(AZ209=4,G209,0)","v":0},{"$f":"IF(AZ209=5,G209,0)","v":0},null,null,null,null,null,null,null,null,null,null,null,null,null,null,null,null,null,null,null,null,null,3,1]
[null,null,"Zkrácené trouby KeraBase GA pro použití v komunální a průmyslové kanalizační systémy.",null,null,null,null,null,null,null,null,"Zkrácené trouby KeraBase GA pro použití v komunální a průmyslové kanalizační systémy.",null,null,3]
[null,null,"Otevřený výkop, normální zatížení.",null,null,null,null,null,null,null,null,"Otevřený výkop, normální zatížení.",null,null,3]
[null,null,"DN 400",null,null,null,null,null,null,null,null,"DN 400",null,null,3]
[null,null,"Délka 75 cm",null,null,null,null,null,null,null,null,"Délka 75 cm",null,null,3]
[null,null,"FN 64 kN/m",null,null,null,null,null,null,null,null,"FN 64 kN/m",null,null,3]
[null,null,"Hmotnost 95 kg/ks",null,null,null,null,null,null,null,null,"Hmotnost 95 kg/ks",null,null,3]
[null,null,"Hrdlo K",null,null,null,null,null,null,null,null,"Hrdlo K",null,null,3]
[null,null,"Třída pevnosti 160",null,null,null,null,null,null,null,null,"Třída pevnosti 160",null,null,3]
[null,null,"Stoka \"B\" KT DN400:",null,0,null,null,null,null,null,null,null,"Stoka \"B\" KT DN400:"]
[null,null,"Tvarovky GA DN400:7*1,015",null,7.1050000000000004,null,null,null,null,null,null,null,"Tvarovky GA DN400:7*1,015"]
[44,"59711607.R","P-kroužek pro DN400","kus",10.15,null,{"$f":"E220*F220","v":0},0,{"$f":"E220*H220","v":0},null,{"$f":"E220*J220","v":0},null,null,null,2,null,null,null,null,null,null,null,null,null,null,null,3,1,"59711607.R",null,null,null,null,null,null,null,null,null,null,null,null,null,null,null,null,null,null,null,null,null,null,1,{"$f":"IF(AZ220=1,G220,0)","v":0},{"$f":"IF(AZ220=2,G220,0)","v":0},{"$f":"IF(AZ220=3,G220,0)","v":0},{"$f":"IF(AZ220=4,G220,0)","v":0},{"$f":"IF(AZ220=5,G220,0)","v":0},null,null,null,null,null,null,null,null,null,null,null,null,null,null,null,null,null,null,null,null,null,3,1]
[null,null,"Stoka \"B\" KT DN400:",null,0,null,null,null,null,null,null,null,"Stoka \"B\" KT DN400:"]
[null,null,"P-kroužek DN400:10*1,015",null,10.15,null,null,null,null,null,null,null,"P-kroužek DN400:10*1,015"]
[null,"Celkem za","8 Trubní vedení",null,null,null,{"$f":"SUM(G135:G222)","v":0},null,{"$f":"SUM(I135:I222)","v":38.236390000000007},null,{"$f":"SUM(K135:K222)","v":0},null,null,null,4,null,null,null,null,null,null,null,null,null,null,null,null,null,null,null,null,null,null,null,null,null,null,null,null,null,null,null,null,null,null,null,null,null,null,null,null,null,{"$f":"SUM(BA135:BA222)","v":0},{"$f":"SUM(BB135:BB222)","v":0},{"$f":"SUM(BC135:BC222)","v":0},{"$f":"SUM(BD135:BD222)","v":0},{"$f":"SUM(BE135:BE222)","v":0}]
["Díl:","93","Dokončovací práce inženýrských staveb",null,null,null,null,null,null,null,null,null,null,null,1]
[45,"939421111RT1","Osazení samonivelač.kanalizač.poklopu za finišerem bez dodávky poklopu","kus",7,null,{"$f":"E225*F225","v":0},0.15425,{"$f":"E225*H225","v":1.07975},0,{"$f":"E225*J225","v":0},null,null,null,2,null,null,null,null,null,null,null,null,null,null,null,1,0,0,null,null,null,null,null,null,null,null,null,null,null,null,null,null,null,null,null,null,null,null,null,null,1,{"$f":"IF(AZ225=1,G225,0)","v":0},{"$f":"IF(AZ225=2,G225,0)","v":0},{"$f":"IF(AZ225=3,G225,0)","v":0},{"$f":"IF(AZ225=4,G225,0)","v":0},{"$f":"IF(AZ225=5,G225,0)","v":0},null,null,null,null,null,null,null,null,null,null,null,null,null,null,null,null,null,null,null,null,null,1,0]
[null,null,"Položka obsahuje:",null,null,null,null,null,null,null,null,"Položka obsahuje:",null,null,3]
[null,null," osazení prefabrikovaného betonového prstence do rychletuhnoucí vysokopevnostní malty (s dodávkou hmot)",null,null,null,null,null,null,null,null,"- osazení prefabrikovaného betonového prstence do rychletuhnoucí malty (s dodávkou hmot)",null,null,3]
[null,null,"- zalití prstence rychletuhnoucí zálivkou do výše prstence (s dodávkou hmoty)",null,null,null,null,null,null,null,null,"- zalití prstence rychletuhnoucí zálivkou do výše prstence (s dodávkou hmoty)",null,null,3]
[null,null,"- vložení kruhového bednění",null,null,null,null,null,null,null,null,"- vložení kruhového bednění",null,null,3]
[null,null,"- doplnění mezikruží asfaltovou směsí do výšky současné podkladní vrstvy, zhutnění",null,null,null,null,null,null,null,null,"- doplnění mezikruží asfaltovou směsí do výšky současné podkladní vrstvy, zhutnění",null,null,3]
[null,null,"- vyjmutí kruhového bednění",null,null,null,null,null,null,null,null,"- vyjmutí kruhového bednění",null,null,3]
[null,null,"- osazení poklopu a zatlačení",null,null,null,null,null,null,null,null,"- osazení poklopu a zatlačení",null,null,3]
[null,null,"  (následuje pokládka finální vrstvy vozovky - není součástí položky)",null,null,null,null,null,null,null,null,"  (následuje pokládka finální vrstvy vozovky - není součástí položky)",null,null,3]
[null,null,"- povytažení poklopu",null,null,null,null,null,null,null,null,"- povytažení poklopu",null,null,3]
[null,null,"- podsyp asfaltovou směsí, spuštění poklopu a zhutnění směsi",null,null,null,null,null,null,null,null,"- podsyp asfaltovou směsí, spuštění poklopu a zhutnění směsi",null,null,3]
[46,"55244414.R","Poklop celolitinový v samonivelační rámu KDM65 D400 SN600","kus",7,null,{"$f":"E236*F236","v":0},0.113,{"$f":"E236*H236","v":0.79100000000000004},null,{"$f":"E236*J236","v":0},null,null,null,2,null,null,null,null,null,null,null,null,null,null,null,3,1,"55244414.R",null,null,null,null,null,null,null,null,null,null,null,null,null,null,null,null,null,null,null,null,null,null,1,{"$f":"IF(AZ236=1,G236,0)","v":0},{"$f":"IF(AZ236=2,G236,0)","v":0},{"$f":"IF(AZ236=3,G236,0)","v":0},{"$f":"IF(AZ236=4,G236,0)","v":0},{"$f":"IF(AZ236=5,G236,0)","v":0},null,null,null,null,null,null,null,null,null,null,null,null,null,null,null,null,null,null,null,null,null,3,1]
[null,null,"Kanalizační kruhový celolitinový samonivelační poklop bez pantu, horizontální PUR tlumící vložka na rámu, horizontální a vertikální  PUR tlumící vložka na víku, bez pružinového zajištění víka v rámu ",null,null,null,null,null,null,null,null,"Kanalizační kruhový celolitinový samonivelační poklop bez pantu, horizontální PUR tlumící vložka na rámu, horizontální a vertikální  PUR tlumící vložka na víku, bez pružinového zajištění víka v rámu ",null,null,3]
[null,null,"KDM65 bez ventilace nebo s ventilací dle TS VHS Turnov",null,null,null,null,null,null,null,null,"KDM65 bez ventilace nebo s ventilací dle TS VHS Turnov",null,null,3]
[null,null,"Víko se znakem Města ",null,null,null,null,null,null,null,null,"Víko se znakem Města ",null,null,3]
[null,"Celkem za","93 Dokončovací práce inženýrských staveb",null,null,null,{"$f":"SUM(G224:G239)","v":0},null,{"$f":"SUM(I224:I239)","v":1.8707500000000001},null,{"$f":"SUM(K224:K239)","v":0},null,null,null,4,null,null,null,null,null,null,null,null,null,null,null,null,null,null,null,null,null,null,null,null,null,null,null,null,null,null,null,null,null,null,null,null,null,null,null,null,null,{"$f":"SUM(BA224:BA239)","v":0},{"$f":"SUM(BB224:BB239)","v":0},{"$f":"SUM(BC224:BC239)","v":0},{"$f":"SUM(BD224:BD239)","v":0},{"$f":"SUM(BE224:BE239)","v":0}]
["Díl:","99","Staveništní přesun hmot",null,null,null,null,null,null,null,null,null,null,null,1]
[47,"998275101RRX","Přesun hmot, kanalizace kameninové, otevřený výkop pro celý rozsah stavby","t",967.78098795000005,null,{"$f":"E242*F242","v":0},0,{"$f":"E242*H242","v":0},null,{"$f":"E242*J242","v":0},null,null,null,2,null,null,null,null,null,null,null,null,null,null,null,7,1,2,null,null,null,null,null,null,null,null,null,null,null,null,null,null,null,null,null,null,null,null,null,null,1,{"$f":"IF(AZ242=1,G242,0)","v":0},{"$f":"IF(AZ242=2,G242,0)","v":0},{"$f":"IF(AZ242=3,G242,0)","v":0},{"$f":"IF(AZ242=4,G242,0)","v":0},{"$f":"IF(AZ242=5,G242,0)","v":0},null,null,null,null,null,null,null,null,null,null,null,null,null,null,null,null,null,null,null,null,null,7,1]
[null,null,"Staveništní doprava pro celý rozsah objektu - doprava zmeziskládek vybudovaného zařízení staveniště zhotovitele na jednotlivé části staveniště.",null,null,null,null,null,null,null,null,"Staveništní doprava pro celý rozsah objektu - doprava zmeziskládek vybudovaného zařízení staveniště zhotovitele na jednotlivé části staveniště.",null,null,3]
[null,"Celkem za","99 Staveništní přesun hmot",null,null,null,{"$f":"SUM(G241:G243)","v":0},null,{"$f":"SUM(I241:I243)","v":0},null,{"$f":"SUM(K241:K243)","v":0},null,null,null,4,null,null,null,null,null,null,null,null,null,null,null,null,null,null,null,null,null,null,null,null,null,null,null,null,null,null,null,null,null,null,null,null,null,null,null,null,null,{"$f":"SUM(BA241:BA243)","v":0},{"$f":"SUM(BB241:BB243)","v":0},{"$f":"SUM(BC241:BC243)","v":0},{"$f":"SUM(BD241:BD243)","v":0},{"$f":"SUM(BE241:BE243)","v":0}]

{"sheet":"01 01.11 KL","index":13,"n_rows":45,"n_cols":8,"rows_kept":45,"cut":false,"hidden":false,"merged":[[22,0,22,1],[7,2,7,4],[8,2,8,4],[9,2,9,4],[10,2,10,4],[11,2,11,4],[50,1,50,6],[29,5,29,6],[30,5,30,6],[31,5,31,6],[32,5,32,6],[33,5,33,6],[36,1,44,6],[45,1,45,6],[46,1,46,6],[47,1,47,6],[48,1,48,6],[49,1,49,6]]}
["POLOŽKOVÝ ROZPOČET"]
["Rozpočet",null,"01.11","Stoka \"B.1\" km 0,000 - 0,120.9",null,"JKSO ","827.21.A3"]
[]
["Objekt",null,null,null,null,"SKP "]
["01",null,"Kanalizace",null,null,"Měrná jednotka","m"]
["Stavba",null,null,null,null,"Počet jednotek",0]
["3395",null,"Kanalizace a ČOV Benešov u Semil",null,null,"Náklady na m.j.",{"$f":"IF(G6=0,,ROUND((F30+F32)/G6,1))","v":0}]
["Projektant",null,"Vodohospodářský rozvoj a výstavba a.s.",null,null,"Typ rozpočtu"]
["Zpracovatel projektu"]
["Objednatel",null,"Vodohospodářské sdružení Turnov"]
["Dodavatel",null,".",null,null,"Zakázkové číslo "]
["Rozpočtoval",null,null,null,null,"Počet listů"]
["ROZPOČTOVÉ NÁKLADY"]
["Základní rozpočtové náklady"]
[null,"HSV celkem",{"$f":"'01 01.11 Rek'!E14","v":0}]
["Z","PSV celkem",{"$f":"'01 01.11 Rek'!F14","v":0}]
["R","M práce celkem",{"$f":"'01 01.11 Rek'!H14","v":0}]
["N","M dodávky celkem",{"$f":"'01 01.11 Rek'!G14","v":0}]
["ZRN celkem",null,{"$f":"SUM(C15:C18)","v":0}]
[]
["HZS",null,{"$f":"'01 01.11 Rek'!I14","v":0}]
["ZRN+HZS",null,{"$f":"C19+C21","v":0}]
["ZRN+ost.náklady+HZS",null,{"$f":"C22+G23","v":0}]
["Vypracoval",null,null,"Za zhotovitele",null,"Za objednatele"]
["Jméno :",null,null,"Jméno :",null,"Jméno :"]
["Datum :",null,null,"Datum :",null,"Datum :"]
[]
["Podpis :",null,null,"Podpis:",null,"Podpis:"]
[]
["Základ pro DPH",null,21,"%  ",null,{"$f":"C23-F32","v":0}]
["DPH",null,{"$f":"C30","v":21},"% ",null,{"$f":"ROUND(PRODUCT(F30,C31/100),0)","v":0}]
["Základ pro DPH",null,0,"% ",null,0]
["DPH",null,{"$f":"C32","v":0},"% ",null,{"$f":"ROUND(PRODUCT(F32,C33/100),0)","v":0}]
["CENA ZA OBJEKT CELKEM",null,null,null,null,{"$f":"ROUND(SUM(F30:F33),0)","v":0}]
[]
["Poznámka :",null,null,null,null,null,null," "]
[null,null,null,null,null,null,null," "]
[null,null,null,null,null,null,null," "]
[null,null,null,null,null,null,null," "]
[null,null,null,null,null,null,null," "]
[null,null,null,null,null,null,null," "]
[null,null,null,null,null,null,null," "]
[null,null,null,null,null,null,null," "]
[null,null,null,null,null,null,null," "]
[null,null,null,null,null,null,null," "]

{"sheet":"01 01.11 Rek","index":14,"n_rows":14,"n_cols":9,"rows_kept":14,"cut":false,"hidden":false,"merged":[[0,0,0,1],[1,0,1,1],[1,6,1,8]]}
["Stavba :",null,"3395 Kanalizace a ČOV Benešov u Semil",null,null,null,"Rozpočet :","01.11"]
["Objekt :",null,"01 Kanalizace",null,null,null,"Stoka \"B.1\" km 0,000 - 0,120.9"]
[]
["REKAPITULACE  STAVEBNÍCH  DÍLŮ"]
[]
[null,"Stavební díl",null,null,"HSV","PSV","Dodávka","Montáž","HZS"]
[{"$f":"'01 01.11 Pol'!B7","v":"1"},{"$f":"'01 01.11 Pol'!C7","v":"Zemní práce"},null,null,{"$f":"'01 01.11 Pol'!BA88","v":0},{"$f":"'01 01.11 Pol'!BB88","v":0},{"$f":"'01 01.11 Pol'!BC88","v":0},{"$f":"'01 01.11 Pol'!BD88","v":0},{"$f":"'01 01.11 Pol'!BE88","v":0}]
[{"$f":"'01 01.11 Pol'!B89","v":"21"},{"$f":"'01 01.11 Pol'!C89","v":"Úprava podloží a základ.spáry"},null,null,{"$f":"'01 01.11 Pol'!BA93","v":0},{"$f":"'01 01.11 Pol'!BB93","v":0},{"$f":"'01 01.11 Pol'!BC93","v":0},{"$f":"'01 01.11 Pol'!BD93","v":0},{"$f":"'01 01.11 Pol'!BE93","v":0}]
[{"$f":"'01 01.11 Pol'!B94","v":"45"},{"$f":"'01 01.11 Pol'!C94","v":"Podkladní a vedlejší konstrukce"},null,null,{"$f":"'01 01.11 Pol'!BA123","v":0},{"$f":"'01 01.11 Pol'!BB123","v":0},{"$f":"'01 01.11 Pol'!BC123","v":0},{"$f":"'01 01.11 Pol'!BD123","v":0},{"$f":"'01 01.11 Pol'!BE123","v":0}]
[{"$f":"'01 01.11 Pol'!B124","v":"5"},{"$f":"'01 01.11 Pol'!C124","v":"Komunikace"},null,null,{"$f":"'01 01.11 Pol'!BA128","v":0},{"$f":"'01 01.11 Pol'!BB128","v":0},{"$f":"'01 01.11 Pol'!BC128","v":0},{"$f":"'01 01.11 Pol'!BD128","v":0},{"$f":"'01 01.11 Pol'!BE128","v":0}]
[{"$f":"'01 01.11 Pol'!B129","v":"8"},{"$f":"'01 01.11 Pol'!C129","v":"Trubní vedení"},null,null,{"$f":"'01 01.11 Pol'!BA230","v":0},{"$f":"'01 01.11 Pol'!BB230","v":0},{"$f":"'01 01.11 Pol'!BC230","v":0},{"$f":"'01 01.11 Pol'!BD230","v":0},{"$f":"'01 01.11 Pol'!BE230","v":0}]
[{"$f":"'01 01.11 Pol'!B231","v":"93"},{"$f":"'01 01.11 Pol'!C231","v":"Dokončovací práce inženýrských staveb"},null,null,{"$f":"'01 01.11 Pol'!BA247","v":0},{"$f":"'01 01.11 Pol'!BB247","v":0},{"$f":"'01 01.11 Pol'!BC247","v":0},{"$f":"'01 01.11 Pol'!BD247","v":0},{"$f":"'01 01.11 Pol'!BE247","v":0}]
[{"$f":"'01 01.11 Pol'!B248","v":"99"},{"$f":"'01 01.11 Pol'!C248","v":"Staveništní přesun hmot"},null,null,{"$f":"'01 01.11 Pol'!BA251","v":0},{"$f":"'01 01.11 Pol'!BB251","v":0},{"$f":"'01 01.11 Pol'!BC251","v":0},{"$f":"'01 01.11 Pol'!BD251","v":0},{"$f":"'01 01.11 Pol'!BE251","v":0}]
[null,"CELKEM  OBJEKT",null,null,{"$f":"SUM(E7:E13)","v":0},{"$f":"SUM(F7:F13)","v":0},{"$f":"SUM(G7:G13)","v":0},{"$f":"SUM(H7:H13)","v":0},{"$f":"SUM(I7:I13)","v":0}]

{"sheet":"01 01.11 Pol","index":15,"n_rows":251,"n_cols":80,"rows_kept":251,"cut":false,"hidden":false,"merged":[[13,2,13,3],[14,2,14,3],[15,2,15,3],[17,2,17,6],[18,2,18,3],[19,2,19,3],[0,0,0,6],[2,0,2,1],[3,0,3,1],[3,4,3,6],[8,2,8,6],[9,2,9,6],[11,2,11,6],[12,2,12,6],[26,2,26,3],[28,2,28,3],[29,2,29,3],[30,2,30,3],[32,2,32,6],[33,2,33,3],[20,2,20,3],[21,2,21,3],[22,2,22,3],[23,2,23,3],[24,2,24,3],[25,2,25,3],[42,2,42,3],[43,2,43,3],[44,2,44,3],[46,2,46,3],[47,2,47,3],[48,2,48,3],[34,2,34,3],[35,2,35,3],[37,2,37,3],[38,2,38,3],[39,2,39,3],[41,2,41,6],[58,2,58,6],[59,2,59,6],[60,2,60,3],[61,2,61,3],[62,2,62,3],[63,2,63,3],[50,2,50,3],[51,2,51,3],[52,2,52,3],[54,2,54,3],[55,2,55,3],[56,2,56,3],[72,2,72,3],[73,2,73,3],[74,2,74,3],[76,2,76,3],[78,2,78,3],[79,2,79,3],[64,2,64,3],[65,2,65,3],[66,2,66,3],[67,2,67,3],[68,2,68,3],[70,2,70,3],[86,2,86,3],[90,2,90,3],[91,2,91,3],[106,2,106,3],[108,2,108,3],[109,2,109,3],[111,2,111,3],[80,2,80,3],[81,2,81,3],[82,2,82,3],[83,2,83,3],[84,2,84,3],[85,2,85,3],[95,2,95,6],[96,2,96,3],[97,2,97,3],[98,2,98,3],[99,2,99,3],[100,2,100,3],[102,2,102,3],[103,2,103,3],[105,2,105,6],[121,2,121,3],[125,2,125,3],[126,2,126,3],[141,2,141,3],[143,2,143,6],[144,2,144,3],[146,2,146,6],[112,2,112,3],[114,2,114,3],[115,2,115,3],[117,2,117,3],[118,2,118,3],[120,2,120,3],[147,2,147,6],[148,2,148,3],[149,2,149,3],[150,2,150,3],[152,2,152,6],[153,2,153,3],[130,2,130,6],[131,2,131,3],[133,2,133,6],[134,2,134,3],[135,2,135,3],[137,2,137,6],[138,2,138,6],[139,2,139,6],[140,2,140,6],[162,2,162,6],[164,2,164,3],[166,2,166,3],[167,2,167,3],[169,2,169,3],[170,2,170,3],[154,2,154,3],[156,2,156,6],[157,2,157,6],[158,2,158,6],[159,2,159,3],[160,2,160,3],[181,2,181,6],[182,2,182,6],[183,2,183,6],[184,2,184,6],[185,2,185,6],[186,2,186,6],[172,2,172,3],[173,2,173,3],[175,2,175,3],[176,2,176,3],[178,2,178,3],[179,2,179,3],[194,2,194,6],[195,2,195,6],[196,2,196,6],[197,2,197,6],[198,2,198,6],[199,2,199,6],[187,2,187,6],[188,2,188,6],[189,2,189,6],[190,2,190,3],[191,2,191,3],[192,2,192,3],[207,2,207,6],[208,2,208,6],[209,2,209,6],[210,2,210,6],[211,2,211,6],[212,2,212,6],[200,2,200,6],[201,2,201,6],[202,2,202,3],[203,2,203,3],[205,2,205,6],[206,2,206,6],[220,2,220,6],[221,2,221,6],[222,2,222,6],[223,2,223,6],[224,2,224,3],[225,2,225,3],[213,2,213,3],[214,2,214,3],[216,2,216,6],[217,2,217,6],[218,2,218,6],[219,2,219,6],[245,2,245,6],[249,2,249,6],[238,2,238,6],[239,2,239,6],[240,2,240,6],[241,2,241,6],[243,2,243,6],[244,2,244,6],[227,2,227,3],[228,2,228,3],[232,2,232,6],[233,2,233,6],[234,2,234,6],[235,2,235,6],[236,2,236,6],[237,2,237,6]]}
["Položkový rozpočet "]
[]
["Stavba :",null,"3395 Kanalizace a ČOV Benešov u Semil",null,"Rozpočet:",{"$f":"'01 01.11 Rek'!H1","v":"01.11"}]
["Objekt :",null,"01 Kanalizace",null,{"$f":"'01 01.11 Rek'!G2","v":"Stoka \"B.1\" km 0,000 - 0,120.9"}]
[]
["P.č.","Číslo položky","Název položky","MJ","množství","cena / MJ","celkem (Kč)","Jednotková hmotnost","Celková hmotnost","Jednotková dem.hmot.","Celková dem.hmot."]
["Díl:","1","Zemní práce",null,null,null,null,null,null,null,null,null,null,null,1]
[1,"115101201RRX","Přečerpávání nebo převedení splašků a dešť. vod ","h",160,null,{"$f":"E8*F8","v":0},0,{"$f":"E8*H8","v":0},0,{"$f":"E8*J8","v":0},null,null,null,2,null,null,null,null,null,null,null,null,null,null,null,1,1,1,null,null,null,null,null,null,null,null,null,null,null,null,null,null,null,null,null,null,null,null,null,null,1,{"$f":"IF(AZ8=1,G8,0)","v":0},{"$f":"IF(AZ8=2,G8,0)","v":0},{"$f":"IF(AZ8=3,G8,0)","v":0},{"$f":"IF(AZ8=4,G8,0)","v":0},{"$f":"IF(AZ8=5,G8,0)","v":0},null,null,null,null,null,null,null,null,null,null,null,null,null,null,null,null,null,null,null,null,null,1,1]
[null,null,"Převedení a čerpání splašků nebo dešťových vod dle zvolené technologie zhotovitele stavby.",null,null,null,null,null,null,null,null,"Převedení a čerpání splašků nebo dešťových vod dle zvolené technologie zhotovitele stavby.",null,null,3]
[null,null,"(Množství bude určeno na stavbě dle skutečnosti)",null,null,null,null,null,null,null,null,"(Množství bude určeno na stavbě dle skutečnosti)",null,null,3]
[2,"130001101RRX","Příplatek za ztížené hloubení v blízkosti vedení ","m3",16.223199999999999,null,{"$f":"E11*F11","v":0},0,{"$f":"E11*H11","v":0},0,{"$f":"E11*J11","v":0},null,null,null,2,null,null,null,null,null,null,null,null,null,null,null,1,1,1,null,null,null,null,null,null,null,null,null,null,null,null,null,null,null,null,null,null,null,null,null,null,1,{"$f":"IF(AZ11=1,G11,0)","v":0},{"$f":"IF(AZ11=2,G11,0)","v":0},{"$f":"IF(AZ11=3,G11,0)","v":0},{"$f":"IF(AZ11=4,G11,0)","v":0},{"$f":"IF(AZ11=5,G11,0)","v":0},null,null,null,null,null,null,null,null,null,null,null,null,null,null,null,null,null,null,null,null,null,1,1]
[null,null,"Včetně případných nutných dokopávem a ručního výkopu podél sousedících inženýrských sítí.",null,null,null,null,null,null,null,null,"Včetně případných nutných dokopávem a ručního výkopu podél sousedících inženýrských sítí.",null,null,3]
[null,null,"Součástí položky je i dočasné zajištění inženýrských sítí v prostoru výkopů (potrubí, kabely a pod.)",null,null,null,null,null,null,null,null,"Součástí položky je i dočasné zajištění inženýrských sítí v prostoru výkopů (potrubí, kabely a pod.)",null,null,3]
[null,null,"Stoka \"B.1\" KT DN250:",null,0,null,null,null,null,null,null,null,"Stoka \"B.1\" KT DN250:"]
[null,null,"Výkopy:",null,0,null,null,null,null,null,null,null,"Výkopy:"]
[null,null,"V hornině tř. 3 - 5 - 10%:162,2324*0,1",null,16.223199999999999,null,null,null,null,null,null,null,"V hornině tř. 3 - 5 - 10%:162,2324*0,1"]
[3,"132201212R00","Hloubení rýh š.do 200 cm hor.3 do 1000m3,STROJNĚ ","m3",97.339399999999998,null,{"$f":"E17*F17","v":0},0,{"$f":"E17*H17","v":0},0,{"$f":"E17*J17","v":0},null,null,null,2,null,null,null,null,null,null,null,null,null,null,null,1,1,1,null,null,null,null,null,null,null,null,null,null,null,null,null,null,null,null,null,null,null,null,null,null,1,{"$f":"IF(AZ17=1,G17,0)","v":0},{"$f":"IF(AZ17=2,G17,0)","v":0},{"$f":"IF(AZ17=3,G17,0)","v":0},{"$f":"IF(AZ17=4,G17,0)","v":0},{"$f":"IF(AZ17=5,G17,0)","v":0},null,null,null,null,null,null,null,null,null,null,null,null,null,null,null,null,null,null,null,null,null,1,1]
[null,null,"Položka obsahuje hloubení rýh traktorbagrem, naložení výkopku na dopravní prostředek pro svislé, nebo vodorovné přemístění, popř. přemístění výkopku do 3 m (po povrchu území), případné zajištění rypadel polštáři, udržování pracoviště a ochranu výkopiště proti stékání srážkové vody z okolního terénu i s jejím odvodněním, nebo odvedením, přesekání a odstranění kořenů ve výkopišti, odstranění napadávek, urovnání dna výkopu.",null,null,null,null,null,null,null,null,"Položka obsahuje hloubení rýh traktorbagrem, naložení výkopku na dopravní prostředek pro svislé, nebo vodorovné přemístění, popř. přemístění výkopku do 3 m (po povrchu území), případné zajištění rypadel polštáři, udržování pracoviště a ochranu výkopiště proti stékání srážkové vody z okolního terénu i s jejím odvodněním, nebo odvedením, přesekání a odstranění kořenů ve výkopišti, odstranění napadávek, urovnání dna výkopu.",null,null,3]
[null,null,"Stoka \"B.1\" KT DN250:",null,0,null,null,null,null,null,null,null,"Stoka \"B.1\" KT DN250:"]
[null,null,"Výkopy:",null,0,null,null,null,null,null,null,null,"Výkopy:"]
[null,null,"Začátek provozního součtu",null,0,null,null,null,null,null,null,null,"Začátek provozního součtu"]
[null,null,"ŠB-6 - ŠB.1-4:120,90*1,00*(2,05+1,55)/2",null,217.62,null,null,null,null,null,null,null,"ŠB-6 - ŠB.1-4:120,90*1,00*(2,05+1,55)/2"]
[null,null,"Prohloubení pro RŠ:1,60*1,60*0,20*4",null,2.048,null,null,null,null,null,null,null,"Prohloubení pro RŠ:1,60*1,60*0,20*4"]
[null,null,"Rozšíření pro RŠ:1,60*(1,60-1,00)*5,14",null,4.9344000000000001,null,null,null,null,null,null,null,"Rozšíření pro RŠ:1,60*(1,60-1,00)*5,14"]
[null,null,"Odpočet objemu konstrukce komunikace:-(120,90*1,00+1,60*(1,60-1,00)*4)*0,50",null,-62.37,null,null,null,null,null,null,null,"Odpočet objemu konstrukce komunikace:-(120,90*1,00+1,60*(1,60-1,00)*4)*0,50"]
[null,null,"Konec provozního součtu",null,162.23240000000001,null,null,null,null,null,null,null,"Konec provozního součtu"]
[null,null,"V hornině tř. 3 - 60%:162,2324*0,6",null,97.339399999999998,null,null,null,null,null,null,null,"V hornině tř. 3 - 60%:162,2324*0,6"]
[4,"132201219R00","Přípl.za lepivost,hloubení rýh 200cm,hor.3,STROJNĚ ","m3",48.669699999999999,null,{"$f":"E28*F28","v":0},0,{"$f":"E28*H28","v":0},0,{"$f":"E28*J28","v":0},null,null,null,2,null,null,null,null,null,null,null,null,null,null,null,1,1,1,null,null,null,null,null,null,null,null,null,null,null,null,null,null,null,null,null,null,null,null,null,null,1,{"$f":"IF(AZ28=1,G28,0)","v":0},{"$f":"IF(AZ28=2,G28,0)","v":0},{"$f":"IF(AZ28=3,G28,0)","v":0},{"$f":"IF(AZ28=4,G28,0)","v":0},{"$f":"IF(AZ28=5,G28,0)","v":0},null,null,null,null,null,null,null,null,null,null,null,null,null,null,null,null,null,null,null,null,null,1,1]
[null,null,"Stoka \"B.1\" KT DN250:",null,0,null,null,null,null,null,null,null,"Stoka \"B.1\" KT DN250:"]
[null,null,"Výkopy:",null,0,null,null,null,null,null,null,null,"Výkopy:"]
[null,null,"V hornině tř. 3 - 60%:162,2324*0,6*0,5",null,48.669699999999999,null,null,null,null,null,null,null,"V hornině tř. 3 - 60%:162,2324*0,6*0,5"]
[5,"132301212R00","Hloubení rýh š.do 200 cm hor.4 do 1000 m3, STROJNĚ ","m3",48.669699999999999,null,{"$f":"E32*F32","v":0},0,{"$f":"E32*H32","v":0},0,{"$f":"E32*J32","v":0},null,null,null,2,null,null,null,null,null,null,null,null,null,null,null,1,1,1,null,null,null,null,null,null,null,null,null,null,null,null,null,null,null,null,null,null,null,null,null,null,1,{"$f":"IF(AZ32=1,G32,0)","v":0},{"$f":"IF(AZ32=2,G32,0)","v":0},{"$f":"IF(AZ32=3,G32,0)","v":0},{"$f":"IF(AZ32=4,G32,0)","v":0},{"$f":"IF(AZ32=5,G32,0)","v":0},null,null,null,null,null,null,null,null,null,null,null,null,null,null,null,null,null,null,null,null,null,1,1]
[null,null,"Položka obsahuje hloubení rýh traktorbagrem, naložení výkopku na dopravní prostředek pro svislé, nebo vodorovné přemístění, popř. přemístění výkopku do 3 m (po povrchu území), případné zajištění rypadel polštáři, udržování pracoviště a ochranu výkopiště proti stékání srážkové vody z okolního terénu i s jejím odvodněním, nebo odvedením, přesekání a odstranění kořenů ve výkopišti, odstranění napadávek, urovnání dna výkopu.",null,null,null,null,null,null,null,null,"Položka obsahuje hloubení rýh traktorbagrem, naložení výkopku na dopravní prostředek pro svislé, nebo vodorovné přemístění, popř. přemístění výkopku do 3 m (po povrchu území), případné zajištění rypadel polštáři, udržování pracoviště a ochranu výkopiště proti stékání srážkové vody z okolního terénu i s jejím odvodněním, nebo odvedením, přesekání a odstranění kořenů ve výkopišti, odstranění napadávek, urovnání dna výkopu.",null,null,3]
[null,null,"Stoka \"B.1\" KT DN250:",null,0,null,null,null,null,null,null,null,"Stoka \"B.1\" KT DN250:"]
[null,null,"Výkopy:",null,0,null,null,null,null,null,null,null,"Výkopy:"]
[null,null,"V hornině tř. 4 - 30%:162,2324*0,3",null,48.669699999999999,null,null,null,null,null,null,null,"V hornině tř. 4 - 30%:162,2324*0,3"]
[6,"132301219R00","Přípl.za lepivost,hloubení rýh 200cm,hor.4,STROJNĚ ","m3",24.334900000000001,null,{"$f":"E37*F37","v":0},0,{"$f":"E37*H37","v":0},0,{"$f":"E37*J37","v":0},null,null,null,2,null,null,null,null,null,null,null,null,null,null,null,1,1,1,null,null,null,null,null,null,null,null,null,null,null,null,null,null,null,null,null,null,null,null,null,null,1,{"$f":"IF(AZ37=1,G37,0)","v":0},{"$f":"IF(AZ37=2,G37,0)","v":0},{"$f":"IF(AZ37=3,G37,0)","v":0},{"$f":"IF(AZ37=4,G37,0)","v":0},{"$f":"IF(AZ37=5,G37,0)","v":0},null,null,null,null,null,null,null,null,null,null,null,null,null,null,null,null,null,null,null,null,null,1,1]
[null,null,"Stoka \"B.1\" KT DN250:",null,0,null,null,null,null,null,null,null,"Stoka \"B.1\" KT DN250:"]
[null,null,"Výkopy:",null,0,null,null,null,null,null,null,null,"Výkopy:"]
[null,null,"V hornině tř. 4 - 30%:162,2324*0,3*0,5",null,24.334900000000001,null,null,null,null,null,null,null,"V hornině tř. 4 - 30%:162,2324*0,3*0,5"]
[7,"132401211RRX","Hloubení rýh šířky do 200 cm v hor.5 STROJNĚ včetně případného dolamování ve vrstvě do 0,5 m","m3",16.223199999999999,null,{"$f":"E41*F41","v":0},1.0410000000000001E-2,{"$f":"E41*H41","v":0.16888351199999999},0,{"$f":"E41*J41","v":0},null,null,null,2,null,null,null,null,null,null,null,null,null,null,null,1,1,1,null,null,null,null,null,null,null,null,null,null,null,null,null,null,null,null,null,null,null,null,null,null,1,{"$f":"IF(AZ41=1,G41,0)","v":0},{"$f":"IF(AZ41=2,G41,0)","v":0},{"$f":"IF(AZ41=3,G41,0)","v":0},{"$f":"IF(AZ41=4,G41,0)","v":0},{"$f":"IF(AZ41=5,G41,0)","v":0},null,null,null,null,null,null,null,null,null,null,null,null,null,null,null,null,null,null,null,null,null,1,1]
[null,null,"Položka obsahuje hloubení rýh traktorbagrem, naložení výkopku na dopravní prostředek pro svislé, nebo vodorovné přemístění, popř. přemístění výkopku do 3 m (po povrchu území), případné zajištění rypadel polštáři, udržování pracoviště a ochranu výkopiště proti stékání srážkové vody z okolního terénu i s jejím odvodněním, nebo odvedením, přesekání a odstranění kořenů ve výkopišti, odstranění napadávek, urovnání dna výkopu.včetně případného dolamování ve vrstvě do 0,5 m",null,null,null,null,null,null,null,null,"Položka obsahuje hloubení rýh traktorbagrem, naložení výkopku na dopravní prostředek pro svislé, nebo vodorovné přemístění, popř. přemístění výkopku do 3 m (po povrchu území), případné zajištění rypadel polštáři, udržování pracoviště a ochranu výkopiště proti stékání srážkové vody z okolního terénu i s jejím odvodněním, nebo odvedením, přesekání a odstranění kořenů ve výkopišti, odstranění napadávek, urovnání dna výkopu.včetně případného dolamování ve vrstvě do 0,5 m",null,null,3]
[null,null,"Stoka \"B.1\" KT DN250:",null,0,null,null,null,null,null,null,null,"Stoka \"B.1\" KT DN250:"]
[null,null,"Výkopy:",null,0,null,null,null,null,null,null,null,"Výkopy:"]
[null,null,"V hornině tř. 5 - 10%:162,2324*0,1",null,16.223199999999999,null,null,null,null,null,null,null,"V hornině tř. 5 - 10%:162,2324*0,1"]
[8,"151101101R00","Pažení a rozepření stěn rýh - příložné - hl.do 2 m ","m2",435.24,null,{"$f":"E46*F46","v":0},9.8999999999999999E-4,{"$f":"E46*H46","v":0.43088759999999998},0,{"$f":"E46*J46","v":0},null,null,null,2,null,null,null,null,null,null,null,null,null,null,null,1,1,1,null,null,null,null,null,null,null,null,null,null,null,null,null,null,null,null,null,null,null,null,null,null,1,{"$f":"IF(AZ46=1,G46,0)","v":0},{"$f":"IF(AZ46=2,G46,0)","v":0},{"$f":"IF(AZ46=3,G46,0)","v":0},{"$f":"IF(AZ46=4,G46,0)","v":0},{"$f":"IF(AZ46=5,G46,0)","v":0},null,null,null,null,null,null,null,null,null,null,null,null,null,null,null,null,null,null,null,null,null,1,1]
[null,null,"Stoka \"B.1\" KT DN250:",null,0,null,null,null,null,null,null,null,"Stoka \"B.1\" KT DN250:"]
[null,null,"Výkopy:",null,0,null,null,null,null,null,null,null,"Výkopy:"]
[null,null,"ŠB-6 - ŠB.1-4:120,90*(2,05+1,55)/2*2",null,435.24,null,null,null,null,null,null,null,"ŠB-6 - ŠB.1-4:120,90*(2,05+1,55)/2*2"]
[9,"151101111R00","Odstranění pažení stěn rýh - příložné - hl. do 2 m ","m2",435.24,null,{"$f":"E50*F50","v":0},0,{"$f":"E50*H50","v":0},0,{"$f":"E50*J50","v":0},null,null,null,2,null,null,null,null,null,null,null,null,null,null,null,1,1,1,null,null,null,null,null,null,null,null,null,null,null,null,null,null,null,null,null,null,null,null,null,null,1,{"$f":"IF(AZ50=1,G50,0)","v":0},{"$f":"IF(AZ50=2,G50,0)","v":0},{"$f":"IF(AZ50=3,G50,0)","v":0},{"$f":"IF(AZ50=4,G50,0)","v":0},{"$f":"IF(AZ50=5,G50,0)","v":0},null,null,null,null,null,null,null,null,null,null,null,null,null,null,null,null,null,null,null,null,null,1,1]
[null,null,"Stoka \"B.1\" KT DN250:",null,0,null,null,null,null,null,null,null,"Stoka \"B.1\" KT DN250:"]
[null,null,"Výkopy:",null,0,null,null,null,null,null,null,null,"Výkopy:"]
[null,null,"ŠB-6 - ŠB.1-4:120,90*(2,05+1,55)/2*2",null,435.24,null,null,null,null,null,null,null,"ŠB-6 - ŠB.1-4:120,90*(2,05+1,55)/2*2"]
[10,"162701105RSZ","Vodorovné přemístění výkopku z hor.1-7 na skládku zhotovitele","m3",162.23240000000001,null,{"$f":"E54*F54","v":0},0,{"$f":"E54*H54","v":0},0,{"$f":"E54*J54","v":0},null,null,null,2,null,null,null,null,null,null,null,null,null,null,null,1,1,1,null,null,null,null,null,null,null,null,null,null,null,null,null,null,null,null,null,null,null,null,null,null,1,{"$f":"IF(AZ54=1,G54,0)","v":0},{"$f":"IF(AZ54=2,G54,0)","v":0},{"$f":"IF(AZ54=3,G54,0)","v":0},{"$f":"IF(AZ54=4,G54,0)","v":0},{"$f":"IF(AZ54=5,G54,0)","v":0},null,null,null,null,null,null,null,null,null,null,null,null,null,null,null,null,null,null,null,null,null,1,1]
[null,null,"Stoka \"B.1\" KT DN250:",null,0,null,null,null,null,null,null,null,"Stoka \"B.1\" KT DN250:"]
[null,null,"Výkopy:",null,0,null,null,null,null,null,null,null,"Výkopy:"]
[null,null,"V hornině tř. 3 - 5:162,2324",null,162.23240000000001,null,null,null,null,null,null,null,"V hornině tř. 3 - 5:162,2324"]
[11,"174101101R00","Zásyp jam, rýh, šachet se zhutněním ","m3",64.735399999999998,null,{"$f":"E58*F58","v":0},0,{"$f":"E58*H58","v":0},0,{"$f":"E58*J58","v":0},null,null,null,2,null,null,null,null,null,null,null,null,null,null,null,1,1,1,null,null,null,null,null,null,null,null,null,null,null,null,null,null,null,null,null,null,null,null,null,null,1,{"$f":"IF(AZ58=1,G58,0)","v":0},{"$f":"IF(AZ58=2,G58,0)","v":0},{"$f":"IF(AZ58=3,G58,0)","v":0},{"$f":"IF(AZ58=4,G58,0)","v":0},{"$f":"IF(AZ58=5,G58,0)","v":0},null,null,null,null,null,null,null,null,null,null,null,null,null,null,null,null,null,null,null,null,null,1,1]
[null,null,"Položka obsahuje strojní přemístění materiálu pro zásyp ze vzdálenosti do 10 m od okraje zásypu.",null,null,null,null,null,null,null,null,"Položka obsahuje strojní přemístění materiálu pro zásyp ze vzdálenosti do 10 m od okraje zásypu.",null,null,3]
[null,null,null,null,null,null,null,null,null,null,null,null,null,null,3]
[null,null,"Stoka \"B.1\" KT DN250:",null,0,null,null,null,null,null,null,null,"Stoka \"B.1\" KT DN250:"]
[null,null,"Zásypy ŠD fr. - 0-63 mm:64,7354",null,64.735399999999998,null,null,null,null,null,null,null,"Zásypy ŠD fr. - 0-63 mm:64,7354"]
[null,null,"Začátek provozního součtu",null,0,null,null,null,null,null,null,null,"Začátek provozního součtu"]
[null,null,"Výkopy:",null,0,null,null,null,null,null,null,null,"Výkopy:"]
[null,null,"V hornině tř. 3 - 5:162,2324",null,162.23240000000001,null,null,null,null,null,null,null,"V hornině tř. 3 - 5:162,2324"]
[null,null,"Odpočet lože, potrubí a obsypů:-120,90*0,750",null,-90.674999999999997,null,null,null,null,null,null,null,"Odpočet lože, potrubí a obsypů:-120,90*0,750"]
[null,null,"Odpočet objemu RŠ:-6,8220",null,-6.8220000000000001,null,null,null,null,null,null,null,"Odpočet objemu RŠ:-6,8220"]
[null,null,"0",null,0,null,null,null,null,null,null,null,0]
[null,null,"Konec provozního součtu",null,64.735400000000013,null,null,null,null,null,null,null,"Konec provozního součtu"]
[12,"175101101R00","Obsyp potrubí bez prohození sypaniny ","m3",49.484400000000001,null,{"$f":"E70*F70","v":0},0,{"$f":"E70*H70","v":0},0,{"$f":"E70*J70","v":0},null,null,null,2,null,null,null,null,null,null,null,null,null,null,null,1,1,1,null,null,null,null,null,null,null,null,null,null,null,null,null,null,null,null,null,null,null,null,null,null,1,{"$f":"IF(AZ70=1,G70,0)","v":0},{"$f":"IF(AZ70=2,G70,0)","v":0},{"$f":"IF(AZ70=3,G70,0)","v":0},{"$f":"IF(AZ70=4,G70,0)","v":0},{"$f":"IF(AZ70=5,G70,0)","v":0},null,null,null,null,null,null,null,null,null,null,null,null,null,null,null,null,null,null,null,null,null,1,1]
[null,null,"Stoka \"B.1\" KT DN250:120,90*0,4093",null,49.484400000000001,null,null,null,null,null,null,null,"Stoka \"B.1\" KT DN250:120,90*0,4093"]
[13,"199000002R00","Poplatek za skládku horniny 1- 7 č. dle katal. odpadů 17 05 04","m3",815.0924,null,{"$f":"E72*F72","v":0},0,{"$f":"E72*H72","v":0},0,{"$f":"E72*J72","v":0},null,null,null,2,null,null,null,null,null,null,null,null,null,null,null,1,1,1,null,null,null,null,null,null,null,null,null,null,null,null,null,null,null,null,null,null,null,null,null,null,1,{"$f":"IF(AZ72=1,G72,0)","v":0},{"$f":"IF(AZ72=2,G72,0)","v":0},{"$f":"IF(AZ72=3,G72,0)","v":0},{"$f":"IF(AZ72=4,G72,0)","v":0},{"$f":"IF(AZ72=5,G72,0)","v":0},null,null,null,null,null,null,null,null,null,null,null,null,null,null,null,null,null,null,null,null,null,1,1]
[null,null,"Stoka \"B.1\" KT DN250:",null,0,null,null,null,null,null,null,null,"Stoka \"B.1\" KT DN250:"]
[null,null,"Výkopy:",null,0,null,null,null,null,null,null,null,"Výkopy:"]
[null,null,"V hornině tř. 3 - 5:815,0924",null,815.0924,null,null,null,null,null,null,null,"V hornině tř. 3 - 5:815,0924"]
[14,"58337308.R","Štěrkopísek frakce 0-2 tř.B","t",98.608999999999995,null,{"$f":"E76*F76","v":0},1,{"$f":"E76*H76","v":98.608999999999995},null,{"$f":"E76*J76","v":0},null,null,null,2,null,null,null,null,null,null,null,null,null,null,null,3,1,"58337308.R",null,null,null,null,null,null,null,null,null,null,null,null,null,null,null,null,null,null,null,null,null,null,1,{"$f":"IF(AZ76=1,G76,0)","v":0},{"$f":"IF(AZ76=2,G76,0)","v":0},{"$f":"IF(AZ76=3,G76,0)","v":0},{"$f":"IF(AZ76=4,G76,0)","v":0},{"$f":"IF(AZ76=5,G76,0)","v":0},null,null,null,null,null,null,null,null,null,null,null,null,null,null,null,null,null,null,null,null,null,3,1]
[null,null,"Stoka \"B.1\" KT DN250:120,90*0,4093*1,973*1,01",null,98.608999999999995,null,null,null,null,null,null,null,"Stoka \"B.1\" KT DN250:120,90*0,4093*1,973*1,01"]
[15,"58344197R","Štěrkodrtě frakce 0-63 A","t",122.4619,null,{"$f":"E78*F78","v":0},1,{"$f":"E78*H78","v":122.4619},null,{"$f":"E78*J78","v":0},null,null,null,2,null,null,null,null,null,null,null,null,null,null,null,3,1,"58344197R",null,null,null,null,null,null,null,null,null,null,null,null,null,null,null,null,null,null,null,null,null,null,1,{"$f":"IF(AZ78=1,G78,0)","v":0},{"$f":"IF(AZ78=2,G78,0)","v":0},{"$f":"IF(AZ78=3,G78,0)","v":0},{"$f":"IF(AZ78=4,G78,0)","v":0},{"$f":"IF(AZ78=5,G78,0)","v":0},null,null,null,null,null,null,null,null,null,null,null,null,null,null,null,null,null,null,null,null,null,3,1]
[null,null,"Stoka \"B.1\" KT DN250:",null,0,null,null,null,null,null,null,null,"Stoka \"B.1\" KT DN250:"]
[null,null,"Zásypy ŠD fr. - 0-63 mm:64,7354*1,873*1,01",null,122.4619,null,null,null,null,null,null,null,"Zásypy ŠD fr. - 0-63 mm:64,7354*1,873*1,01"]
[null,null,"Začátek provozního součtu",null,0,null,null,null,null,null,null,null,"Začátek provozního součtu"]
[null,null,"Výkopy:",null,0,null,null,null,null,null,null,null,"Výkopy:"]
[null,null,"V hornině tř. 3 - 5:162,2324",null,162.23240000000001,null,null,null,null,null,null,null,"V hornině tř. 3 - 5:162,2324"]
[null,null,"Odpočet lože, potrubí a obsypů:-120,90*0,750",null,-90.674999999999997,null,null,null,null,null,null,null,"Odpočet lože, potrubí a obsypů:-120,90*0,750"]
[null,null,"Odpočet objemu RŠ:-6,8220",null,-6.8220000000000001,null,null,null,null,null,null,null,"Odpočet objemu RŠ:-6,8220"]
[null,null,"0",null,0,null,null,null,null,null,null,null,0]
[null,null,"Konec provozního součtu",null,64.735400000000013,null,null,null,null,null,null,null,"Konec provozního součtu"]
[null,"Celkem za","1 Zemní práce",null,null,null,{"$f":"SUM(G7:G87)","v":0},null,{"$f":"SUM(I7:I87)","v":221.67067111199998},null,{"$f":"SUM(K7:K87)","v":0},null,null,null,4,null,null,null,null,null,null,null,null,null,null,null,null,null,null,null,null,null,null,null,null,null,null,null,null,null,null,null,null,null,null,null,null,null,null,null,null,null,{"$f":"SUM(BA7:BA87)","v":0},{"$f":"SUM(BB7:BB87)","v":0},{"$f":"SUM(BC7:BC87)","v":0},{"$f":"SUM(BD7:BD87)","v":0},{"$f":"SUM(BE7:BE87)","v":0}]
["Díl:","21","Úprava podloží a základ.spáry",null,null,null,null,null,null,null,null,null,null,null,1]
[16,"212810010RAC","Trativody z PVC drenážních flexibilních trubek lože štěrkopísek a obsyp kamenivo, trubky d 100 mm","m",120.9,null,{"$f":"E90*F90","v":0},0.43651000000000001,{"$f":"E90*H90","v":52.774059000000001},0,{"$f":"E90*J90","v":0},null,null,null,2,null,null,null,null,null,null,null,null,null,null,null,1,1,1,null,null,null,null,null,null,null,null,null,null,null,null,null,null,null,null,null,null,null,null,null,null,1,{"$f":"IF(AZ90=1,G90,0)","v":0},{"$f":"IF(AZ90=2,G90,0)","v":0},{"$f":"IF(AZ90=3,G90,0)","v":0},{"$f":"IF(AZ90=4,G90,0)","v":0},{"$f":"IF(AZ90=5,G90,0)","v":0},null,null,null,null,null,null,null,null,null,null,null,null,null,null,null,null,null,null,null,null,null,1,1]
[null,null,"Stoka \"B.1\" KT DN250:",null,0,null,null,null,null,null,null,null,"Stoka \"B.1\" KT DN250:"]
[null,null,"Drenáž DN100:120,90",null,120.9,null,null,null,null,null,null,null,"Drenáž DN100:120,90"]
[null,"Celkem za","21 Úprava podloží a základ.spáry",null,null,null,{"$f":"SUM(G89:G92)","v":0},null,{"$f":"SUM(I89:I92)","v":52.774059000000001},null,{"$f":"SUM(K89:K92)","v":0},null,null,null,4,null,null,null,null,null,null,null,null,null,null,null,null,null,null,null,null,null,null,null,null,null,null,null,null,null,null,null,null,null,null,null,null,null,null,null,null,null,{"$f":"SUM(BA89:BA92)","v":0},{"$f":"SUM(BB89:BB92)","v":0},{"$f":"SUM(BC89:BC92)","v":0},{"$f":"SUM(BD89:BD92)","v":0},{"$f":"SUM(BE89:BE92)","v":0}]
["Díl:","45","Podkladní a vedlejší konstrukce",null,null,null,null,null,null,null,null,null,null,null,1]
[17,"452112111R00","Osazení beton. prstenců pod poklopy,výšky do100 mm ","kus",4,null,{"$f":"E95*F95","v":0},6.6E-3,{"$f":"E95*H95","v":2.64E-2},0,{"$f":"E95*J95","v":0},null,null,null,2,null,null,null,null,null,null,null,null,null,null,null,1,1,1,null,null,null,null,null,null,null,null,null,null,null,null,null,null,null,null,null,null,null,null,null,null,1,{"$f":"IF(AZ95=1,G95,0)","v":0},{"$f":"IF(AZ95=2,G95,0)","v":0},{"$f":"IF(AZ95=3,G95,0)","v":0},{"$f":"IF(AZ95=4,G95,0)","v":0},{"$f":"IF(AZ95=5,G95,0)","v":0},null,null,null,null,null,null,null,null,null,null,null,null,null,null,null,null,null,null,null,null,null,1,1]
[null,null,"Volba položky se řídí výškou prstence nebo rámu. V položkách nejsou zakalkulovány náklady na dodávku betonových výrobků;",null,null,null,null,null,null,null,null,"Volba položky se řídí výškou prstence nebo rámu. V položkách nejsou zakalkulovány náklady na dodávku betonových výrobků;",null,null,3]
[null,null,"Stoka \"B.1\" KT DN250:",null,0,null,null,null,null,null,null,null,"Stoka \"B.1\" KT DN250:"]
[null,null,"VP H40:1",null,1,null,null,null,null,null,null,null,"VP H40:1"]
[null,null,"VP H60:1",null,1,null,null,null,null,null,null,null,"VP H60:1"]
[null,null,"VP H80:1",null,1,null,null,null,null,null,null,null,"VP H80:1"]
[null,null,"VP H100:1",null,1,null,null,null,null,null,null,null,"VP H100:1"]
[18,"452112121R00","Osazení beton. prstenců pod poklopy,výšky do200 mm ","kus",2,null,{"$f":"E102*F102","v":0},6.6E-3,{"$f":"E102*H102","v":1.32E-2},0,{"$f":"E102*J102","v":0},null,null,null,2,null,null,null,null,null,null,null,null,null,null,null,1,1,1,null,null,null,null,null,null,null,null,null,null,null,null,null,null,null,null,null,null,null,null,null,null,1,{"$f":"IF(AZ102=1,G102,0)","v":0},{"$f":"IF(AZ102=2,G102,0)","v":0},{"$f":"IF(AZ102=3,G102,0)","v":0},{"$f":"IF(AZ102=4,G102,0)","v":0},{"$f":"IF(AZ102=5,G102,0)","v":0},null,null,null,null,null,null,null,null,null,null,null,null,null,null,null,null,null,null,null,null,null,1,1]
[null,null,"Stoka \"B.1\" KT DN250:",null,0,null,null,null,null,null,null,null,"Stoka \"B.1\" KT DN250:"]
[null,null,"VP H120:2",null,2,null,null,null,null,null,null,null,"VP H120:2"]
[19,"452312131R00","Sedlové lože pod potrubí z betonu C 12/15 ","m3",32.643000000000001,null,{"$f":"E105*F105","v":0},2.5,{"$f":"E105*H105","v":81.607500000000002},0,{"$f":"E105*J105","v":0},null,null,null,2,null,null,null,null,null,null,null,null,null,null,null,1,1,1,null,null,null,null,null,null,null,null,null,null,null,null,null,null,null,null,null,null,null,null,null,null,1,{"$f":"IF(AZ105=1,G105,0)","v":0},{"$f":"IF(AZ105=2,G105,0)","v":0},{"$f":"IF(AZ105=3,G105,0)","v":0},{"$f":"IF(AZ105=4,G105,0)","v":0},{"$f":"IF(AZ105=5,G105,0)","v":0},null,null,null,null,null,null,null,null,null,null,null,null,null,null,null,null,null,null,null,null,null,1,1]
[null,null,"Položka je určena pro práce v otevřeném výkopu",null,null,null,null,null,null,null,null,"Položka je určena pro práce v otevřeném výkopu",null,null,3]
[null,null,"Stoka \"B.1\" KT DN250:120,90*0,270",null,32.643000000000001,null,null,null,null,null,null,null,"Stoka \"B.1\" KT DN250:120,90*0,270"]
[20,"59224346.A.R","Prstenec vyrovn šachetní TBW-Q.1 63/4","kus",1.01,null,{"$f":"E108*F108","v":0},2.8000000000000001E-2,{"$f":"E108*H108","v":2.828E-2},null,{"$f":"E108*J108","v":0},null,null,null,2,null,null,null,null,null,null,null,null,null,null,null,3,1,"59224346.A.R",null,null,null,null,null,null,null,null,null,null,null,null,null,null,null,null,null,null,null,null,null,null,1,{"$f":"IF(AZ108=1,G108,0)","v":0},{"$f":"IF(AZ108=2,G108,0)","v":0},{"$f":"IF(AZ108=3,G108,0)","v":0},{"$f":"IF(AZ108=4,G108,0)","v":0},{"$f":"IF(AZ108=5,G108,0)","v":0},null,null,null,null,null,null,null,null,null,null,null,null,null,null,null,null,null,null,null,null,null,3,1]
[null,null,"Stoka \"B.1\" KT DN250:",null,0,null,null,null,null,null,null,null,"Stoka \"B.1\" KT DN250:"]
[null,null,"VP H40:1*1,01",null,1.01,null,null,null,null,null,null,null,"VP H40:1*1,01"]
[21,"59224347.A.R","Prstenec vyrovn šachetní TBW-Q.1 63/6","kus",1.01,null,{"$f":"E111*F111","v":0},0.04,{"$f":"E111*H111","v":4.0399999999999998E-2},null,{"$f":"E111*J111","v":0},null,null,null,2,null,null,null,null,null,null,null,null,null,null,null,3,1,"59224347.A.R",null,null,null,null,null,null,null,null,null,null,null,null,null,null,null,null,null,null,null,null,null,null,1,{"$f":"IF(AZ111=1,G111,0)","v":0},{"$f":"IF(AZ111=2,G111,0)","v":0},{"$f":"IF(AZ111=3,G111,0)","v":0},{"$f":"IF(AZ111=4,G111,0)","v":0},{"$f":"IF(AZ111=5,G111,0)","v":0},null,null,null,null,null,null,null,null,null,null,null,null,null,null,null,null,null,null,null,null,null,3,1]
[null,null,"Stoka \"B.1\" KT DN250:",null,0,null,null,null,null,null,null,null,"Stoka \"B.1\" KT DN250:"]
[null,null,"VP H60:1*1,01",null,1.01,null,null,null,null,null,null,null,"VP H60:1*1,01"]
[22,"59224348.A.R","Prstenec vyrovn šachetní TBW-Q.1 63/8","kus",1.01,null,{"$f":"E114*F114","v":0},5.3999999999999999E-2,{"$f":"E114*H114","v":5.4539999999999998E-2},null,{"$f":"E114*J114","v":0},null,null,null,2,null,null,null,null,null,null,null,null,null,null,null,3,1,"59224348.A.R",null,null,null,null,null,null,null,null,null,null,null,null,null,null,null,null,null,null,null,null,null,null,1,{"$f":"IF(AZ114=1,G114,0)","v":0},{"$f":"IF(AZ114=2,G114,0)","v":0},{"$f":"IF(AZ114=3,G114,0)","v":0},{"$f":"IF(AZ114=4,G114,0)","v":0},{"$f":"IF(AZ114=5,G114,0)","v":0},null,null,null,null,null,null,null,null,null,null,null,null,null,null,null,null,null,null,null,null,null,3,1]
[null,null,"Stoka \"B.1\" KT DN250:",null,0,null,null,null,null,null,null,null,"Stoka \"B.1\" KT DN250:"]
[null,null,"VP H80:1*1,01",null,1.01,null,null,null,null,null,null,null,"VP H80:1*1,01"]
[23,"59224349.A.R","Prstenec vyrovn šachetní TBW-Q.1 63/10","kus",1.01,null,{"$f":"E117*F117","v":0},6.8000000000000005E-2,{"$f":"E117*H117","v":6.8680000000000005E-2},null,{"$f":"E117*J117","v":0},null,null,null,2,null,null,null,null,null,null,null,null,null,null,null,3,1,"59224349.A.R",null,null,null,null,null,null,null,null,null,null,null,null,null,null,null,null,null,null,null,null,null,null,1,{"$f":"IF(AZ117=1,G117,0)","v":0},{"$f":"IF(AZ117=2,G117,0)","v":0},{"$f":"IF(AZ117=3,G117,0)","v":0},{"$f":"IF(AZ117=4,G117,0)","v":0},{"$f":"IF(AZ117=5,G117,0)","v":0},null,null,null,null,null,null,null,null,null,null,null,null,null,null,null,null,null,null,null,null,null,3,1]
[null,null,"Stoka \"B.1\" KT DN250:",null,0,null,null,null,null,null,null,null,"Stoka \"B.1\" KT DN250:"]
[null,null,"VP H100:1*1,01",null,1.01,null,null,null,null,null,null,null,"VP H100:1*1,01"]
[24,"59224350.A.R","Prstenec vyrovn šachetní TBW-Q.1 63/12","kus",2.02,null,{"$f":"E120*F120","v":0},8.1000000000000003E-2,{"$f":"E120*H120","v":0.16362000000000002},null,{"$f":"E120*J120","v":0},null,null,null,2,null,null,null,null,null,null,null,null,null,null,null,3,1,"59224350.A.R",null,null,null,null,null,null,null,null,null,null,null,null,null,null,null,null,null,null,null,null,null,null,1,{"$f":"IF(AZ120=1,G120,0)","v":0},{"$f":"IF(AZ120=2,G120,0)","v":0},{"$f":"IF(AZ120=3,G120,0)","v":0},{"$f":"IF(AZ120=4,G120,0)","v":0},{"$f":"IF(AZ120=5,G120,0)","v":0},null,null,null,null,null,null,null,null,null,null,null,null,null,null,null,null,null,null,null,null,null,3,1]
[null,null,"Stoka \"B.1\" KT DN250:",null,0,null,null,null,null,null,null,null,"Stoka \"B.1\" KT DN250:"]
[null,null,"VP H120:2*1,01",null,2.02,null,null,null,null,null,null,null,"VP H120:2*1,01"]
[null,"Celkem za","45 Podkladní a vedlejší konstrukce",null,null,null,{"$f":"SUM(G94:G122)","v":0},null,{"$f":"SUM(I94:I122)","v":82.002619999999993},null,{"$f":"SUM(K94:K122)","v":0},null,null,null,4,null,null,null,null,null,null,null,null,null,null,null,null,null,null,null,null,null,null,null,null,null,null,null,null,null,null,null,null,null,null,null,null,null,null,null,null,null,{"$f":"SUM(BA94:BA122)","v":0},{"$f":"SUM(BB94:BB122)","v":0},{"$f":"SUM(BC94:BC122)","v":0},{"$f":"SUM(BD94:BD122)","v":0},{"$f":"SUM(BE94:BE122)","v":0}]
["Díl:","5","Komunikace",null,null,null,null,null,null,null,null,null,null,null,1]
[25,"572701119RRX","Provizorní zásyp rýh kam. hrubě drceným nebo recyk s následným odstraněním a odvozem","m3",62.37,null,{"$f":"E125*F125","v":0},1.4804999999999999,{"$f":"E125*H125","v":92.338784999999987},0,{"$f":"E125*J125","v":0},null,null,null,2,null,null,null,null,null,null,null,null,null,null,null,1,1,1,null,null,null,null,null,null,null,null,null,null,null,null,null,null,null,null,null,null,null,null,null,null,1,{"$f":"IF(AZ125=1,G125,0)","v":0},{"$f":"IF(AZ125=2,G125,0)","v":0},{"$f":"IF(AZ125=3,G125,0)","v":0},{"$f":"IF(AZ125=4,G125,0)","v":0},{"$f":"IF(AZ125=5,G125,0)","v":0},null,null,null,null,null,null,null,null,null,null,null,null,null,null,null,null,null,null,null,null,null,1,1]
[null,null,"Stoka \"B.1\" KT DN250:",null,0,null,null,null,null,null,null,null,"Stoka \"B.1\" KT DN250:"]
[null,null,"Objemu konstrukce komunikace:(120,90*1,00+1,60*(1,60-1,00)*4)*0,50",null,62.37,null,null,null,null,null,null,null,"Objemu konstrukce komunikace:(120,90*1,00+1,60*(1,60-1,00)*4)*0,50"]
[null,"Celkem za","5 Komunikace",null,null,null,{"$f":"SUM(G124:G127)","v":0},null,{"$f":"SUM(I124:I127)","v":92.338784999999987},null,{"$f":"SUM(K124:K127)","v":0},null,null,null,4,null,null,null,null,null,null,null,null,null,null,null,null,null,null,null,null,null,null,null,null,null,null,null,null,null,null,null,null,null,null,null,null,null,null,null,null,null,{"$f":"SUM(BA124:BA127)","v":0},{"$f":"SUM(BB124:BB127)","v":0},{"$f":"SUM(BC124:BC127)","v":0},{"$f":"SUM(BD124:BD127)","v":0},{"$f":"SUM(BE124:BE127)","v":0}]
["Díl:","8","Trubní vedení",null,null,null,null,null,null,null,null,null,null,null,1]
[26,"831362121R00","Montáž trub kameninových, pryž. kroužek, DN 250 ","m",120.9,null,{"$f":"E130*F130","v":0},3.0000000000000001E-5,{"$f":"E130*H130","v":3.6270000000000004E-3},0,{"$f":"E130*J130","v":0},null,null,null,2,null,null,null,null,null,null,null,null,null,null,null,1,1,1,null,null,null,null,null,null,null,null,null,null,null,null,null,null,null,null,null,null,null,null,null,null,1,{"$f":"IF(AZ130=1,G130,0)","v":0},{"$f":"IF(AZ130=2,G130,0)","v":0},{"$f":"IF(AZ130=3,G130,0)","v":0},{"$f":"IF(AZ130=4,G130,0)","v":0},{"$f":"IF(AZ130=5,G130,0)","v":0},null,null,null,null,null,null,null,null,null,null,null,null,null,null,null,null,null,null,null,null,null,1,1]
[null,null,"Položka je určena pro montáž potrubí z trub kameninových s polyuretanovým spojem v otevřeném výkopu ve sklonu do 20 % včetně případné potřeby krácení trub.",null,null,null,null,null,null,null,null,"Položka je určena pro montáž potrubí z trub kameninových s polyuretanovým spojem v otevřeném výkopu ve sklonu do 20 % včetně případné potřeby krácení trub.",null,null,3]
[null,null,"Stoka \"B.1\" KT DN250:120,90",null,120.9,null,null,null,null,null,null,null,"Stoka \"B.1\" KT DN250:120,90"]
[27,"837361221R00","Montáž tvarov. kamenin. odboč. pryž. krouž. DN 250 ","kus",2,null,{"$f":"E133*F133","v":0},6.0000000000000002E-5,{"$f":"E133*H133","v":1.2E-4},0,{"$f":"E133*J133","v":0},null,null,null,2,null,null,null,null,null,null,null,null,null,null,null,1,1,1,null,null,null,null,null,null,null,null,null,null,null,null,null,null,null,null,null,null,null,null,null,null,1,{"$f":"IF(AZ133=1,G133,0)","v":0},{"$f":"IF(AZ133=2,G133,0)","v":0},{"$f":"IF(AZ133=3,G133,0)","v":0},{"$f":"IF(AZ133=4,G133,0)","v":0},{"$f":"IF(AZ133=5,G133,0)","v":0},null,null,null,null,null,null,null,null,null,null,null,null,null,null,null,null,null,null,null,null,null,1,1]
[null,null,"Položka je určena pro montáž kameninových tvarovek odbočných těsněných pryžovými kroužky na potrubí z trub kameninových v otevřeném výkopu.",null,null,null,null,null,null,null,null,"Položka je určena pro montáž kameninových tvarovek odbočných těsněných pryžovými kroužky na potrubí z trub kameninových v otevřeném výkopu.",null,null,3]
[null,null,"Stoka \"B.1\" KT DN250:",null,0,null,null,null,null,null,null,null,"Stoka \"B.1\" KT DN250:"]
[null,null,"Odbočka KT DN250/150:2",null,2,null,null,null,null,null,null,null,"Odbočka KT DN250/150:2"]
[28,"892601154R00","Čištění kanalizační stoky do DN 500, nad 100 m ","m",120.9,null,{"$f":"E137*F137","v":0},0,{"$f":"E137*H137","v":0},0,{"$f":"E137*J137","v":0},null,null,null,2,null,null,null,null,null,null,null,null,null,null,null,1,0,0,null,null,null,null,null,null,null,null,null,null,null,null,null,null,null,null,null,null,null,null,null,null,1,{"$f":"IF(AZ137=1,G137,0)","v":0},{"$f":"IF(AZ137=2,G137,0)","v":0},{"$f":"IF(AZ137=3,G137,0)","v":0},{"$f":"IF(AZ137=4,G137,0)","v":0},{"$f":"IF(AZ137=5,G137,0)","v":0},null,null,null,null,null,null,null,null,null,null,null,null,null,null,null,null,null,null,null,null,null,1,0]
[null,null,"V položce je zakalkulováno:",null,null,null,null,null,null,null,null,"V položce je zakalkulováno:",null,null,3]
[null,null,"a) otevření a uzavření revizních šachet a čisticích kusů",null,null,null,null,null,null,null,null,"a) otevření a uzavření revizních šachet a čisticích kusů",null,null,3]
[null,null,"b) natažení vysokotlakých hadic k místu odkud se bude kanalizace čistit",null,null,null,null,null,null,null,null,"b) natažení vysokotlakých hadic k místu odkud se bude kanalizace čistit",null,null,3]
[null,null,"c) vyčištění potrubí tlakovou vodou nebo motorovým pérem.",null,null,null,null,null,null,null,null,"c) vyčištění potrubí tlakovou vodou nebo motorovým pérem.",null,null,3]
[null,null,"Stoka \"B.1\" KT DN250:120,90",null,120.9,null,null,null,null,null,null,null,"Stoka \"B.1\" KT DN250:120,90"]
[29,"892855115R00","Kontrola kanalizace TV kamerou do 500 m ","m",241.8,null,{"$f":"E143*F143","v":0},0,{"$f":"E143*H143","v":0},0,{"$f":"E143*J143","v":0},null,null,null,2,null,null,null,null,null,null,null,null,null,null,null,1,1,1,null,null,null,null,null,null,null,null,null,null,null,null,null,null,null,null,null,null,null,null,null,null,1,{"$f":"IF(AZ143=1,G143,0)","v":0},{"$f":"IF(AZ143=2,G143,0)","v":0},{"$f":"IF(AZ143=3,G143,0)","v":0},{"$f":"IF(AZ143=4,G143,0)","v":0},{"$f":"IF(AZ143=5,G143,0)","v":0},null,null,null,null,null,null,null,null,null,null,null,null,null,null,null,null,null,null,null,null,null,1,1]
[null,null,"Provedení kaberové prohlídky včetně dodání elektronického záznamu na CD zadavateli a tištěné dokumentace průběhu kamerové prohlídky",null,null,null,null,null,null,null,null,"Provedení kaberové prohlídky včetně dodání elektronického záznamu na CD zadavateli a tištěné dokumentace průběhu kamerové prohlídky",null,null,3]
[null,null,"Stoka \"B.1\" KT DN250:120,90*2",null,241.8,null,null,null,null,null,null,null,"Stoka \"B.1\" KT DN250:120,90*2"]
[30,"894421111RT1","Osazení betonových dílců šachet skruže rovné, na kroužek, do 0,5 t","kus",3,null,{"$f":"E146*F146","v":0},0,{"$f":"E146*H146","v":0},0,{"$f":"E146*J146","v":0},null,null,null,2,null,null,null,null,null,null,null,null,null,null,null,1,1,1,null,null,null,null,null,null,null,null,null,null,null,null,null,null,null,null,null,null,null,null,null,null,1,{"$f":"IF(AZ146=1,G146,0)","v":0},{"$f":"IF(AZ146=2,G146,0)","v":0},{"$f":"IF(AZ146=3,G146,0)","v":0},{"$f":"IF(AZ146=4,G146,0)","v":0},{"$f":"IF(AZ146=5,G146,0)","v":0},null,null,null,null,null,null,null,null,null,null,null,null,null,null,null,null,null,null,null,null,null,1,1]
[null,null,"Položka je určena pro osazení betonových dílců šachet dle DIN 4034, skruže rovné na kroužek, hmotnost do 0,5 t.",null,null,null,null,null,null,null,null,"Položka je určena pro osazení betonových dílců šachet dle DIN 4034, skruže rovné na kroužek, hmotnost do 0,5 t.",null,null,3]
[null,null,"V položce nejsou zakalkulovány náklady na dodání betonových dílců; dílce se oceňují ve specifikaci.",null,null,null,null,null,null,null,null,"V položce nejsou zakalkulovány náklady na dodání betonových dílců; dílce se oceňují ve specifikaci.",null,null,3]
[null,null,"Stoka \"B.1\" KT DN250:",null,0,null,null,null,null,null,null,null,"Stoka \"B.1\" KT DN250:"]
[null,null,"Skruž H250:2",null,2,null,null,null,null,null,null,null,"Skruž H250:2"]
[null,null,"Skruž H500:1",null,1,null,null,null,null,null,null,null,"Skruž H500:1"]
[31,"894422111RT1","Osazení betonových dílců šachet skruže přechodové, na kroužek","kus",4,null,{"$f":"E152*F152","v":0},0,{"$f":"E152*H152","v":0},0,{"$f":"E152*J152","v":0},null,null,null,2,null,null,null,null,null,null,null,null,null,null,null,1,1,1,null,null,null,null,null,null,null,null,null,null,null,null,null,null,null,null,null,null,null,null,null,null,1,{"$f":"IF(AZ152=1,G152,0)","v":0},{"$f":"IF(AZ152=2,G152,0)","v":0},{"$f":"IF(AZ152=3,G152,0)","v":0},{"$f":"IF(AZ152=4,G152,0)","v":0},{"$f":"IF(AZ152=5,G152,0)","v":0},null,null,null,null,null,null,null,null,null,null,null,null,null,null,null,null,null,null,null,null,null,1,1]
[null,null,"Položka je určena pro osazení betonových dílců šachet dle DIN 4034, skruže přechodové, zákrytové, kónusy,... na kroužek.",null,null,null,null,null,null,null,null,"Položka je určena pro osazení betonových dílců šachet dle DIN 4034, skruže přechodové, zákrytové, kónusy,... na kroužek.",null,null,3]
[null,null,"Stoka \"B.1\" KT DN250:",null,0,null,null,null,null,null,null,null,"Stoka \"B.1\" KT DN250:"]
[null,null,"Kónus H580:4",null,4,null,null,null,null,null,null,null,"Kónus H580:4"]
[32,"894423111RT1","Osazení betonových dílců šachet do 2,0 t šachtová dna, na kroužek, do 2,0 t","kus",4,null,{"$f":"E156*F156","v":0},0,{"$f":"E156*H156","v":0},0,{"$f":"E156*J156","v":0},null,null,null,2,null,null,null,null,null,null,null,null,null,null,null,1,1,1,null,null,null,null,null,null,null,null,null,null,null,null,null,null,null,null,null,null,null,null,null,null,1,{"$f":"IF(AZ156=1,G156,0)","v":0},{"$f":"IF(AZ156=2,G156,0)","v":0},{"$f":"IF(AZ156=3,G156,0)","v":0},{"$f":"IF(AZ156=4,G156,0)","v":0},{"$f":"IF(AZ156=5,G156,0)","v":0},null,null,null,null,null,null,null,null,null,null,null,null,null,null,null,null,null,null,null,null,null,1,1]
[null,null,"Položka je určena pro osazení betonových dílců šachet dle DIN 4034, šachtová dna na kroužek, hmotnost do 2,0 t.",null,null,null,null,null,null,null,null,"Položka je určena pro osazení betonových dílců šachet dle DIN 4034, šachtová dna na kroužek, hmotnost do 2,0 t.",null,null,3]
[null,null,"V položce nejsou zakalkulovány náklady na dodání betonových dílců;",null,null,null,null,null,null,null,null,"V položce nejsou zakalkulovány náklady na dodání betonových dílců;",null,null,3]
[null,null,"Součástí položky je i podbetonování šachtového dna betonem C12/15 v min. tl. 10 cm.",null,null,null,null,null,null,null,null,"Součástí položky je i podbetonování šachtového dna betonem C12/15 v min. tl. 10 cm.",null,null,3]
[null,null,"Stoka \"B.1\" KT DN250:",null,0,null,null,null,null,null,null,null,"Stoka \"B.1\" KT DN250:"]
[null,null,"ŠD H575:4",null,4,null,null,null,null,null,null,null,"ŠD H575:4"]
[33,"899102111R00","Osazení poklopu s rámem do 100 kg ","kus",4,null,{"$f":"E162*F162","v":0},7.0200000000000002E-3,{"$f":"E162*H162","v":2.8080000000000001E-2},0,{"$f":"E162*J162","v":0},null,null,null,2,null,null,null,null,null,null,null,null,null,null,null,1,1,1,null,null,null,null,null,null,null,null,null,null,null,null,null,null,null,null,null,null,null,null,null,null,1,{"$f":"IF(AZ162=1,G162,0)","v":0},{"$f":"IF(AZ162=2,G162,0)","v":0},{"$f":"IF(AZ162=3,G162,0)","v":0},{"$f":"IF(AZ162=4,G162,0)","v":0},{"$f":"IF(AZ162=5,G162,0)","v":0},null,null,null,null,null,null,null,null,null,null,null,null,null,null,null,null,null,null,null,null,null,1,1]
[null,null,"Osazení provizorních poklopů během realizace stavby  (nefakturovaný materiál zhotovitele)",null,null,null,null,null,null,null,null,"Osazení provizorních poklopů během realizace stavby  (nefakturovaný materiál zhotovitele)",null,null,3]
[34,"899711122R00","Fólie výstražná z PVC šedá, šířka 30 cm ","m",120.9,null,{"$f":"E164*F164","v":0},0,{"$f":"E164*H164","v":0},0,{"$f":"E164*J164","v":0},null,null,null,2,null,null,null,null,null,null,null,null,null,null,null,1,1,1,null,null,null,null,null,null,null,null,null,null,null,null,null,null,null,null,null,null,null,null,null,null,1,{"$f":"IF(AZ164=1,G164,0)","v":0},{"$f":"IF(AZ164=2,G164,0)","v":0},{"$f":"IF(AZ164=3,G164,0)","v":0},{"$f":"IF(AZ164=4,G164,0)","v":0},{"$f":"IF(AZ164=5,G164,0)","v":0},null,null,null,null,null,null,null,null,null,null,null,null,null,null,null,null,null,null,null,null,null,1,1]
[null,null,"Stoka \"B.1\" KT DN250:120,90",null,120.9,null,null,null,null,null,null,null,"Stoka \"B.1\" KT DN250:120,90"]
[35,"592243543.R","Kónus šachetní TBR-Q.1 100x63/58/12 KPS","kus",4.04,null,{"$f":"E166*F166","v":0},0.58499999999999996,{"$f":"E166*H166","v":2.3633999999999999},null,{"$f":"E166*J166","v":0},null,null,null,2,null,null,null,null,null,null,null,null,null,null,null,3,1,"592243543.R",null,null,null,null,null,null,null,null,null,null,null,null,null,null,null,null,null,null,null,null,null,null,1,{"$f":"IF(AZ166=1,G166,0)","v":0},{"$f":"IF(AZ166=2,G166,0)","v":0},{"$f":"IF(AZ166=3,G166,0)","v":0},{"$f":"IF(AZ166=4,G166,0)","v":0},{"$f":"IF(AZ166=5,G166,0)","v":0},null,null,null,null,null,null,null,null,null,null,null,null,null,null,null,null,null,null,null,null,null,3,1]
[null,null,"Stoka \"B.1\" KT DN250:",null,0,null,null,null,null,null,null,null,"Stoka \"B.1\" KT DN250:"]
[null,null,"Kónus H580:4*1,01",null,4.04,null,null,null,null,null,null,null,"Kónus H580:4*1,01"]
[36,"59224358.A.R","Skruž šachetní TBS-Q.1 100/25/12 PS","kus",2.02,null,{"$f":"E169*F169","v":0},0.25,{"$f":"E169*H169","v":0.505},null,{"$f":"E169*J169","v":0},null,null,null,2,null,null,null,null,null,null,null,null,null,null,null,3,1,"59224358.A.R",null,null,null,null,null,null,null,null,null,null,null,null,null,null,null,null,null,null,null,null,null,null,1,{"$f":"IF(AZ169=1,G169,0)","v":0},{"$f":"IF(AZ169=2,G169,0)","v":0},{"$f":"IF(AZ169=3,G169,0)","v":0},{"$f":"IF(AZ169=4,G169,0)","v":0},{"$f":"IF(AZ169=5,G169,0)","v":0},null,null,null,null,null,null,null,null,null,null,null,null,null,null,null,null,null,null,null,null,null,3,1]
[null,null,"Stoka \"B.1\" KT DN250:",null,0,null,null,null,null,null,null,null,"Stoka \"B.1\" KT DN250:"]
[null,null,"Skruž H250:2*1,01",null,2.02,null,null,null,null,null,null,null,"Skruž H250:2*1,01"]
[37,"59224361.A.R","Skruž šachetní TBS-Q.1 100/50/12 PS","kus",1.01,null,{"$f":"E172*F172","v":0},0.5,{"$f":"E172*H172","v":0.505},null,{"$f":"E172*J172","v":0},null,null,null,2,null,null,null,null,null,null,null,null,null,null,null,3,1,"59224361.A.R",null,null,null,null,null,null,null,null,null,null,null,null,null,null,null,null,null,null,null,null,null,null,1,{"$f":"IF(AZ172=1,G172,0)","v":0},{"$f":"IF(AZ172=2,G172,0)","v":0},{"$f":"IF(AZ172=3,G172,0)","v":0},{"$f":"IF(AZ172=4,G172,0)","v":0},{"$f":"IF(AZ172=5,G172,0)","v":0},null,null,null,null,null,null,null,null,null,null,null,null,null,null,null,null,null,null,null,null,null,3,1]
[null,null,"Stoka \"B.1\" KT DN250:",null,0,null,null,null,null,null,null,null,"Stoka \"B.1\" KT DN250:"]
[null,null,"Skruž H500:1*1,01",null,1.01,null,null,null,null,null,null,null,"Skruž H500:1*1,01"]
[38,"59224371.A.R","Dno šachetní TBZ-Q.1 100/58 KOM V20 včetně kynety dle PD","kus",4.04,null,{"$f":"E175*F175","v":0},1.27,{"$f":"E175*H175","v":5.1307999999999998},null,{"$f":"E175*J175","v":0},null,null,null,2,null,null,null,null,null,null,null,null,null,null,null,3,1,"59224371.A.R",null,null,null,null,null,null,null,null,null,null,null,null,null,null,null,null,null,null,null,null,null,null,1,{"$f":"IF(AZ175=1,G175,0)","v":0},{"$f":"IF(AZ175=2,G175,0)","v":0},{"$f":"IF(AZ175=3,G175,0)","v":0},{"$f":"IF(AZ175=4,G175,0)","v":0},{"$f":"IF(AZ175=5,G175,0)","v":0},null,null,null,null,null,null,null,null,null,null,null,null,null,null,null,null,null,null,null,null,null,3,1]
[null,null,"Stoka \"B.1\" KT DN250:",null,0,null,null,null,null,null,null,null,"Stoka \"B.1\" KT DN250:"]
[null,null,"ŠD H575:4*1,01",null,4.04,null,null,null,null,null,null,null,"ŠD H575:4*1,01"]
[39,"59224380.R","Těsnění elastom pro šach díly EMT 100/1.7 - DN1000","kus",7.07,null,{"$f":"E178*F178","v":0},2E-3,{"$f":"E178*H178","v":1.4140000000000002E-2},null,{"$f":"E178*J178","v":0},null,null,null,2,null,null,null,null,null,null,null,null,null,null,null,3,1,"59224380.R",null,null,null,null,null,null,null,null,null,null,null,null,null,null,null,null,null,null,null,null,null,null,1,{"$f":"IF(AZ178=1,G178,0)","v":0},{"$f":"IF(AZ178=2,G178,0)","v":0},{"$f":"IF(AZ178=3,G178,0)","v":0},{"$f":"IF(AZ178=4,G178,0)","v":0},{"$f":"IF(AZ178=5,G178,0)","v":0},null,null,null,null,null,null,null,null,null,null,null,null,null,null,null,null,null,null,null,null,null,3,1]
[null,null,"Stoka \"B.1\" KT DN250:",null,0,null,null,null,null,null,null,null,"Stoka \"B.1\" KT DN250:"]
[null,null,"Těsnění DN1000:7*1,01",null,7.07,null,null,null,null,null,null,null,"Těsnění DN1000:7*1,01"]
[40,"59710698.A","Trouba kameninová hrdlová DN 250, l=2,50 m, FN 40","m",116.8265,null,{"$f":"E181*F181","v":0},5.2999999999999999E-2,{"$f":"E181*H181","v":6.1918044999999999},null,{"$f":"E181*J181","v":0},null,null,null,2,null,null,null,null,null,null,null,null,null,null,null,3,1,"59710698.A",null,null,null,null,null,null,null,null,null,null,null,null,null,null,null,null,null,null,null,null,null,null,1,{"$f":"IF(AZ181=1,G181,0)","v":0},{"$f":"IF(AZ181=2,G181,0)","v":0},{"$f":"IF(AZ181=3,G181,0)","v":0},{"$f":"IF(AZ181=4,G181,0)","v":0},{"$f":"IF(AZ181=5,G181,0)","v":0},null,null,null,null,null,null,null,null,null,null,null,null,null,null,null,null,null,null,null,null,null,3,1]
[null,null,"Hrdlové trouby KeraBase pro použití v komunální a průmyslové kanalizační systémy.",null,null,null,null,null,null,null,null,"Hrdlové trouby KeraBase pro použití v komunální a průmyslové kanalizační systémy.",null,null,3]
[null,null,"Otevřený výkop, normální zatížení.",null,null,null,null,null,null,null,null,"Otevřený výkop, normální zatížení.",null,null,3]
[null,null,"DN 250",null,null,null,null,null,null,null,null,"DN 250",null,null,3]
[null,null,"Délka 250 cm",null,null,null,null,null,null,null,null,"Délka 250 cm",null,null,3]
[null,null,"FN 40 kN/m",null,null,null,null,null,null,null,null,"FN 40 kN/m",null,null,3]
[null,null,"Hmotnost 133 kg/ks",null,null,null,null,null,null,null,null,"Hmotnost 133 kg/ks",null,null,3]
[null,null,"Hrdlo K/S",null,null,null,null,null,null,null,null,"Hrdlo K/S",null,null,3]
[null,null,"Třída pevnosti 200",null,null,null,null,null,null,null,null,"Třída pevnosti 200",null,null,3]
[null,null,"trouba oboustranně glazována",null,null,null,null,null,null,null,null,"trouba oboustranně glazována",null,null,3]
[null,null,"Stoka \"B.1\" KT DN250:120,90*1,015",null,122.7135,null,null,null,null,null,null,null,"Stoka \"B.1\" KT DN250:120,90*1,015"]
[null,null,"Odpočet - Odbočky DN250/150:-0,50*2*1,015",null,-1.0149999999999999,null,null,null,null,null,null,null,"Odpočet - Odbočky DN250/150:-0,50*2*1,015"]
[null,null,"Odpočet - Tvarovky GA a GZ:-0,60*(4+4)*1,015",null,-4.8719999999999999,null,null,null,null,null,null,null,"Odpočet - Tvarovky GA a GZ:-0,60*(4+4)*1,015"]
[41,"59710821.A.R","Trouba kameninová zkrácená GZ DN 250, FN 40","kus",4.0599999999999996,null,{"$f":"E194*F194","v":0},4.1000000000000002E-2,{"$f":"E194*H194","v":0.16646},null,{"$f":"E194*J194","v":0},null,null,null,2,null,null,null,null,null,null,null,null,null,null,null,3,1,"59710821.A.R",null,null,null,null,null,null,null,null,null,null,null,null,null,null,null,null,null,null,null,null,null,null,1,{"$f":"IF(AZ194=1,G194,0)","v":0},{"$f":"IF(AZ194=2,G194,0)","v":0},{"$f":"IF(AZ194=3,G194,0)","v":0},{"$f":"IF(AZ194=4,G194,0)","v":0},{"$f":"IF(AZ194=5,G194,0)","v":0},null,null,null,null,null,null,null,null,null,null,null,null,null,null,null,null,null,null,null,null,null,3,1]
[null,null,"Zkrácené trouby KeraBase GZ pro použití v komunální a průmyslové kanalizační systémy.",null,null,null,null,null,null,null,null,"Zkrácené trouby KeraBase GZ pro použití v komunální a průmyslové kanalizační systémy.",null,null,3]
[null,null,"Otevřený výkop, normální zatížení.",null,null,null,null,null,null,null,null,"Otevřený výkop, normální zatížení.",null,null,3]
[null,null,"DN 250",null,null,null,null,null,null,null,null,"DN 250",null,null,3]
[null,null,"Délka 60 cm",null,null,null,null,null,null,null,null,"Délka 60 cm",null,null,3]
[null,null,"FN 40 kN/m",null,null,null,null,null,null,null,null,"FN 40 kN/m",null,null,3]
[null,null,"Hmotnost 41 kg/ks",null,null,null,null,null,null,null,null,"Hmotnost 41 kg/ks",null,null,3]
[null,null,"Hrdlo K",null,null,null,null,null,null,null,null,"Hrdlo K",null,null,3]
[null,null,"Třída pevnosti 160",null,null,null,null,null,null,null,null,"Třída pevnosti 160",null,null,3]
[null,null,"Stoka \"B.1\" KT DN250:",null,0,null,null,null,null,null,null,null,"Stoka \"B.1\" KT DN250:"]
[null,null,"Tvarovky GZ DN250:4*1,015",null,4.0599999999999996,null,null,null,null,null,null,null,"Tvarovky GZ DN250:4*1,015"]
[42,"59710835.A.R","Trouba kameninová zkrácená GA DN 250, FN 40","kus",4.0599999999999996,null,{"$f":"E205*F205","v":0},3.4000000000000002E-2,{"$f":"E205*H205","v":0.13804},null,{"$f":"E205*J205","v":0},null,null,null,2,null,null,null,null,null,null,null,null,null,null,null,3,1,"59710835.A.R",null,null,null,null,null,null,null,null,null,null,null,null,null,null,null,null,null,null,null,null,null,null,1,{"$f":"IF(AZ205=1,G205,0)","v":0},{"$f":"IF(AZ205=2,G205,0)","v":0},{"$f":"IF(AZ205=3,G205,0)","v":0},{"$f":"IF(AZ205=4,G205,0)","v":0},{"$f":"IF(AZ205=5,G205,0)","v":0},null,null,null,null,null,null,null,null,null,null,null,null,null,null,null,null,null,null,null,null,null,3,1]
[null,null,"Zkrácené trouby KeraBase GA pro použití v komunální a průmyslové kanalizační systémy.",null,null,null,null,null,null,null,null,"Zkrácené trouby KeraBase GA pro použití v komunální a průmyslové kanalizační systémy.",null,null,3]
[null,null,"Otevřený výkop, normální zatížení.",null,null,null,null,null,null,null,null,"Otevřený výkop, normální zatížení.",null,null,3]
[null,null,"DN 250",null,null,null,null,null,null,null,null,"DN 250",null,null,3]
[null,null,"Délka 60 cm",null,null,null,null,null,null,null,null,"Délka 60 cm",null,null,3]
[null,null,"FN 40 kN/m",null,null,null,null,null,null,null,null,"FN 40 kN/m",null,null,3]
[null,null,"Hmotnost 34 kg/ks",null,null,null,null,null,null,null,null,"Hmotnost 34 kg/ks",null,null,3]
[null,null,"Hrdlo K",null,null,null,null,null,null,null,null,"Hrdlo K",null,null,3]
[null,null,"Třída pevnosti 160",null,null,null,null,null,null,null,null,"Třída pevnosti 160",null,null,3]
[null,null,"Stoka \"B.1\" KT DN250:",null,0,null,null,null,null,null,null,null,"Stoka \"B.1\" KT DN250:"]
[null,null,"Tvarovky GA DN250:4*1,015",null,4.0599999999999996,null,null,null,null,null,null,null,"Tvarovky GA DN250:4*1,015"]
[43,"597115455.R","Odbočka 45° kamenina hrdlová 250/150 FN 40/34","kus",2,null,{"$f":"E216*F216","v":0},4.1000000000000002E-2,{"$f":"E216*H216","v":8.2000000000000003E-2},null,{"$f":"E216*J216","v":0},null,null,null,2,null,null,null,null,null,null,null,null,null,null,null,3,1,"597115455.R",null,null,null,null,null,null,null,null,null,null,null,null,null,null,null,null,null,null,null,null,null,null,1,{"$f":"IF(AZ216=1,G216,0)","v":0},{"$f":"IF(AZ216=2,G216,0)","v":0},{"$f":"IF(AZ216=3,G216,0)","v":0},{"$f":"IF(AZ216=4,G216,0)","v":0},{"$f":"IF(AZ216=5,G216,0)","v":0},null,null,null,null,null,null,null,null,null,null,null,null,null,null,null,null,null,null,null,null,null,3,1]
[null,null,"KeraBase odbočky 45° pro normální zatížení.",null,null,null,null,null,null,null,null,"KeraBase odbočky 45° pro normální zatížení.",null,null,3]
[null,null,"Specif. 45°",null,null,null,null,null,null,null,null,"Specif. 45°",null,null,3]
[null,null,"Profil DN 200/150",null,null,null,null,null,null,null,null,"Profil DN 200/150",null,null,3]
[null,null,"Délka 50 cm",null,null,null,null,null,null,null,null,"Délka 50 cm",null,null,3]
[null,null,"Třída pevnosti 200/-",null,null,null,null,null,null,null,null,"Třída pevnosti 200/-",null,null,3]
[null,null,"Mezní únosnost FN 40/34 kN/m",null,null,null,null,null,null,null,null,"Mezní únosnost FN 40/34 kN/m",null,null,3]
[null,null,"Hmotnost 32 kg/ks",null,null,null,null,null,null,null,null,"Hmotnost 32 kg/ks",null,null,3]
[null,null,"Hrdlo KL",null,null,null,null,null,null,null,null,"Hrdlo KL",null,null,3]
[null,null,"Stoka \"B.1\" KT DN250:",null,0,null,null,null,null,null,null,null,"Stoka \"B.1\" KT DN250:"]
[null,null,"Odbočka KT DN250/150:2",null,2,null,null,null,null,null,null,null,"Odbočka KT DN250/150:2"]
[44,"59711605.R","P-kroužek pro DN250","kus",6.09,null,{"$f":"E227*F227","v":0},0,{"$f":"E227*H227","v":0},null,{"$f":"E227*J227","v":0},null,null,null,2,null,null,null,null,null,null,null,null,null,null,null,3,1,"59711605.R",null,null,null,null,null,null,null,null,null,null,null,null,null,null,null,null,null,null,null,null,null,null,1,{"$f":"IF(AZ227=1,G227,0)","v":0},{"$f":"IF(AZ227=2,G227,0)","v":0},{"$f":"IF(AZ227=3,G227,0)","v":0},{"$f":"IF(AZ227=4,G227,0)","v":0},{"$f":"IF(AZ227=5,G227,0)","v":0},null,null,null,null,null,null,null,null,null,null,null,null,null,null,null,null,null,null,null,null,null,3,1]
[null,null,"Stoka \"B.1\" KT DN250:",null,0,null,null,null,null,null,null,null,"Stoka \"B.1\" KT DN250:"]
[null,null,"P-kroužek DN250:6*1,015",null,6.09,null,null,null,null,null,null,null,"P-kroužek DN250:6*1,015"]
[null,"Celkem za","8 Trubní vedení",null,null,null,{"$f":"SUM(G129:G229)","v":0},null,{"$f":"SUM(I129:I229)","v":15.1284715},null,{"$f":"SUM(K129:K229)","v":0},null,null,null,4,null,null,null,null,null,null,null,null,null,null,null,null,null,null,null,null,null,null,null,null,null,null,null,null,null,null,null,null,null,null,null,null,null,null,null,null,null,{"$f":"SUM(BA129:BA229)","v":0},{"$f":"SUM(BB129:BB229)","v":0},{"$f":"SUM(BC129:BC229)","v":0},{"$f":"SUM(BD129:BD229)","v":0},{"$f":"SUM(BE129:BE229)","v":0}]
["Díl:","93","Dokončovací práce inženýrských staveb",null,null,null,null,null,null,null,null,null,null,null,1]
[45,"939421111RT1","Osazení samonivelač.kanalizač.poklopu za finišerem bez dodávky poklopu","kus",4,null,{"$f":"E232*F232","v":0},0.15425,{"$f":"E232*H232","v":0.61699999999999999},0,{"$f":"E232*J232","v":0},null,null,null,2,null,null,null,null,null,null,null,null,null,null,null,1,0,0,null,null,null,null,null,null,null,null,null,null,null,null,null,null,null,null,null,null,null,null,null,null,1,{"$f":"IF(AZ232=1,G232,0)","v":0},{"$f":"IF(AZ232=2,G232,0)","v":0},{"$f":"IF(AZ232=3,G232,0)","v":0},{"$f":"IF(AZ232=4,G232,0)","v":0},{"$f":"IF(AZ232=5,G232,0)","v":0},null,null,null,null,null,null,null,null,null,null,null,null,null,null,null,null,null,null,null,null,null,1,0]
[null,null,"Položka obsahuje:",null,null,null,null,null,null,null,null,"Položka obsahuje:",null,null,3]
[null,null," osazení prefabrikovaného betonového prstence do rychletuhnoucí vysokopevnostní malty (s dodávkou hmot)",null,null,null,null,null,null,null,null,"- osazení prefabrikovaného betonového prstence do rychletuhnoucí malty (s dodávkou hmot)",null,null,3]
[null,null,"- zalití prstence rychletuhnoucí zálivkou do výše prstence (s dodávkou hmoty)",null,null,null,null,null,null,null,null,"- zalití prstence rychletuhnoucí zálivkou do výše prstence (s dodávkou hmoty)",null,null,3]
[null,null,"- vložení kruhového bednění",null,null,null,null,null,null,null,null,"- vložení kruhového bednění",null,null,3]
[null,null,"- doplnění mezikruží asfaltovou směsí do výšky současné podkladní vrstvy, zhutnění",null,null,null,null,null,null,null,null,"- doplnění mezikruží asfaltovou směsí do výšky současné podkladní vrstvy, zhutnění",null,null,3]
[null,null,"- vyjmutí kruhového bednění",null,null,null,null,null,null,null,null,"- vyjmutí kruhového bednění",null,null,3]
[null,null,"- osazení poklopu a zatlačení",null,null,null,null,null,null,null,null,"- osazení poklopu a zatlačení",null,null,3]
[null,null,"  (následuje pokládka finální vrstvy vozovky - není součástí položky)",null,null,null,null,null,null,null,null,"  (následuje pokládka finální vrstvy vozovky - není součástí položky)",null,null,3]
[null,null,"- povytažení poklopu",null,null,null,null,null,null,null,null,"- povytažení poklopu",null,null,3]
[null,null,"- podsyp asfaltovou směsí, spuštění poklopu a zhutnění směsi",null,null,null,null,null,null,null,null,"- podsyp asfaltovou směsí, spuštění poklopu a zhutnění směsi",null,null,3]
[46,"55244414.R","Poklop celolitinový v samonivelační rámu KDM65 D400 SN600","kus",4,null,{"$f":"E243*F243","v":0},0.113,{"$f":"E243*H243","v":0.45200000000000001},null,{"$f":"E243*J243","v":0},null,null,null,2,null,null,null,null,null,null,null,null,null,null,null,3,1,"55244414.R",null,null,null,null,null,null,null,null,null,null,null,null,null,null,null,null,null,null,null,null,null,null,1,{"$f":"IF(AZ243=1,G243,0)","v":0},{"$f":"IF(AZ243=2,G243,0)","v":0},{"$f":"IF(AZ243=3,G243,0)","v":0},{"$f":"IF(AZ243=4,G243,0)","v":0},{"$f":"IF(AZ243=5,G243,0)","v":0},null,null,null,null,null,null,null,null,null,null,null,null,null,null,null,null,null,null,null,null,null,3,1]
[null,null,"Kanalizační kruhový celolitinový samonivelační poklop bez pantu, horizontální PUR tlumící vložka na rámu, horizontální a vertikální  PUR tlumící vložka na víku, bez pružinového zajištění víka v rámu ",null,null,null,null,null,null,null,null,"Kanalizační kruhový celolitinový samonivelační poklop bez pantu, horizontální PUR tlumící vložka na rámu, horizontální a vertikální  PUR tlumící vložka na víku, bez pružinového zajištění víka v rámu ",null,null,3]
[null,null,"KDM65 bez ventilace nebo s ventilací dle TS VHS Turnov",null,null,null,null,null,null,null,null,"KDM65 bez ventilace nebo s ventilací dle TS VHS Turnov",null,null,3]
[null,null,"Víko se znakem Města ",null,null,null,null,null,null,null,null,"Víko se znakem Města ",null,null,3]
[null,"Celkem za","93 Dokončovací práce inženýrských staveb",null,null,null,{"$f":"SUM(G231:G246)","v":0},null,{"$f":"SUM(I231:I246)","v":1.069},null,{"$f":"SUM(K231:K246)","v":0},null,null,null,4,null,null,null,null,null,null,null,null,null,null,null,null,null,null,null,null,null,null,null,null,null,null,null,null,null,null,null,null,null,null,null,null,null,null,null,null,null,{"$f":"SUM(BA231:BA246)","v":0},{"$f":"SUM(BB231:BB246)","v":0},{"$f":"SUM(BC231:BC246)","v":0},{"$f":"SUM(BD231:BD246)","v":0},{"$f":"SUM(BE231:BE246)","v":0}]
["Díl:","99","Staveništní přesun hmot",null,null,null,null,null,null,null,null,null,null,null,1]
[47,"998275101RRX","Přesun hmot, kanalizace kameninové, otevřený výkop pro celý rozsah stavby","t",464.98360661200002,null,{"$f":"E249*F249","v":0},0,{"$f":"E249*H249","v":0},null,{"$f":"E249*J249","v":0},null,null,null,2,null,null,null,null,null,null,null,null,null,null,null,7,1,2,null,null,null,null,null,null,null,null,null,null,null,null,null,null,null,null,null,null,null,null,null,null,1,{"$f":"IF(AZ249=1,G249,0)","v":0},{"$f":"IF(AZ249=2,G249,0)","v":0},{"$f":"IF(AZ249=3,G249,0)","v":0},{"$f":"IF(AZ249=4,G249,0)","v":0},{"$f":"IF(AZ249=5,G249,0)","v":0},null,null,null,null,null,null,null,null,null,null,null,null,null,null,null,null,null,null,null,null,null,7,1]
[null,null,"Staveništní doprava pro celý rozsah objektu - doprava zmeziskládek vybudovaného zařízení staveniště zhotovitele na jednotlivé části staveniště.",null,null,null,null,null,null,null,null,"Staveništní doprava pro celý rozsah objektu - doprava zmeziskládek vybudovaného zařízení staveniště zhotovitele na jednotlivé části staveniště.",null,null,3]
[null,"Celkem za","99 Staveništní přesun hmot",null,null,null,{"$f":"SUM(G248:G250)","v":0},null,{"$f":"SUM(I248:I250)","v":0},null,{"$f":"SUM(K248:K250)","v":0},null,null,null,4,null,null,null,null,null,null,null,null,null,null,null,null,null,null,null,null,null,null,null,null,null,null,null,null,null,null,null,null,null,null,null,null,null,null,null,null,null,{"$f":"SUM(BA248:BA250)","v":0},{"$f":"SUM(BB248:BB250)","v":0},{"$f":"SUM(BC248:BC250)","v":0},{"$f":"SUM(BD248:BD250)","v":0},{"$f":"SUM(BE248:BE250)","v":0}]

{"sheet":"01 01.32 KL","index":16,"n_rows":45,"n_cols":8,"rows_kept":45,"cut":false,"hidden":false,"merged":[[22,0,22,1],[7,2,7,4],[8,2,8,4],[9,2,9,4],[10,2,10,4],[11,2,11,4],[50,1,50,6],[29,5,29,6],[30,5,30,6],[31,5,31,6],[32,5,32,6],[33,5,33,6],[36,1,44,6],[45,1,45,6],[46,1,46,6],[47,1,47,6],[48,1,48,6],[49,1,49,6]]}
["POLOŽKOVÝ ROZPOČET"]
["Rozpočet",null,"01.32","Stoka \"H\" km 0,000 - 0,060.3",null,"JKSO ","827.21.A3"]
[]
["Objekt",null,null,null,null,"SKP "]
["01",null,"Kanalizace",null,null,"Měrná jednotka","m"]
["Stavba",null,null,null,null,"Počet jednotek",0]
["3395",null,"Kanalizace a ČOV Benešov u Semil",null,null,"Náklady na m.j.",{"$f":"IF(G6=0,,ROUND((F30+F32)/G6,1))","v":0}]
["Projektant",null,"Vodohospodářský rozvoj a výstavba a.s.",null,null,"Typ rozpočtu"]
["Zpracovatel projektu"]
["Objednatel",null,"Vodohospodářské sdružení Turnov"]
["Dodavatel",null,".",null,null,"Zakázkové číslo "]
["Rozpočtoval",null,null,null,null,"Počet listů"]
["ROZPOČTOVÉ NÁKLADY"]
["Základní rozpočtové náklady"]
[null,"HSV celkem",{"$f":"'01 01.32 Rek'!E14","v":0}]
["Z","PSV celkem",{"$f":"'01 01.32 Rek'!F14","v":0}]
["R","M práce celkem",{"$f":"'01 01.32 Rek'!H14","v":0}]
["N","M dodávky celkem",{"$f":"'01 01.32 Rek'!G14","v":0}]
["ZRN celkem",null,{"$f":"SUM(C15:C18)","v":0}]
[]
["HZS",null,{"$f":"'01 01.32 Rek'!I14","v":0}]
["ZRN+HZS",null,{"$f":"C19+C21","v":0}]
["ZRN+ost.náklady+HZS",null,{"$f":"C22+G23","v":0}]
["Vypracoval",null,null,"Za zhotovitele",null,"Za objednatele"]
["Jméno :",null,null,"Jméno :",null,"Jméno :"]
["Datum :",null,null,"Datum :",null,"Datum :"]
[]
["Podpis :",null,null,"Podpis:",null,"Podpis:"]
[]
["Základ pro DPH",null,21,"%  ",null,{"$f":"C23-F32","v":0}]
["DPH",null,{"$f":"C30","v":21},"% ",null,{"$f":"ROUND(PRODUCT(F30,C31/100),0)","v":0}]
["Základ pro DPH",null,0,"% ",null,0]
["DPH",null,{"$f":"C32","v":0},"% ",null,{"$f":"ROUND(PRODUCT(F32,C33/100),0)","v":0}]
["CENA ZA OBJEKT CELKEM",null,null,null,null,{"$f":"ROUND(SUM(F30:F33),0)","v":0}]
[]
["Poznámka :",null,null,null,null,null,null," "]
[null,null,null,null,null,null,null," "]
[null,null,null,null,null,null,null," "]
[null,null,null,null,null,null,null," "]
[null,null,null,null,null,null,null," "]
[null,null,null,null,null,null,null," "]
[null,null,null,null,null,null,null," "]
[null,null,null,null,null,null,null," "]
[null,null,null,null,null,null,null," "]
[null,null,null,null,null,null,null," "]

{"sheet":"01 01.32 Rek","index":17,"n_rows":14,"n_cols":9,"rows_kept":14,"cut":false,"hidden":false,"merged":[[0,0,0,1],[1,0,1,1],[1,6,1,8]]}
["Stavba :",null,"3395 Kanalizace a ČOV Benešov u Semil",null,null,null,"Rozpočet :","01.32"]
["Objekt :",null,"01 Kanalizace",null,null,null,"Stoka \"H\" km 0,000 - 0,060.3"]
[]
["REKAPITULACE  STAVEBNÍCH  DÍLŮ"]
[]
[null,"Stavební díl",null,null,"HSV","PSV","Dodávka","Montáž","HZS"]
[{"$f":"'01 01.32 Pol'!B7","v":"1"},{"$f":"'01 01.32 Pol'!C7","v":"Zemní práce"},null,null,{"$f":"'01 01.32 Pol'!BA102","v":0},{"$f":"'01 01.32 Pol'!BB102","v":0},{"$f":"'01 01.32 Pol'!BC102","v":0},{"$f":"'01 01.32 Pol'!BD102","v":0},{"$f":"'01 01.32 Pol'!BE102","v":0}]
[{"$f":"'01 01.32 Pol'!B103","v":"21"},{"$f":"'01 01.32 Pol'!C103","v":"Úprava podloží a základ.spáry"},null,null,{"$f":"'01 01.32 Pol'!BA107","v":0},{"$f":"'01 01.32 Pol'!BB107","v":0},{"$f":"'01 01.32 Pol'!BC107","v":0},{"$f":"'01 01.32 Pol'!BD107","v":0},{"$f":"'01 01.32 Pol'!BE107","v":0}]
[{"$f":"'01 01.32 Pol'!B108","v":"45"},{"$f":"'01 01.32 Pol'!C108","v":"Podkladní a vedlejší konstrukce"},null,null,{"$f":"'01 01.32 Pol'!BA132","v":0},{"$f":"'01 01.32 Pol'!BB132","v":0},{"$f":"'01 01.32 Pol'!BC132","v":0},{"$f":"'01 01.32 Pol'!BD132","v":0},{"$f":"'01 01.32 Pol'!BE132","v":0}]
[{"$f":"'01 01.32 Pol'!B133","v":"5"},{"$f":"'01 01.32 Pol'!C133","v":"Komunikace"},null,null,{"$f":"'01 01.32 Pol'!BA137","v":0},{"$f":"'01 01.32 Pol'!BB137","v":0},{"$f":"'01 01.32 Pol'!BC137","v":0},{"$f":"'01 01.32 Pol'!BD137","v":0},{"$f":"'01 01.32 Pol'!BE137","v":0}]
[{"$f":"'01 01.32 Pol'!B138","v":"8"},{"$f":"'01 01.32 Pol'!C138","v":"Trubní vedení"},null,null,{"$f":"'01 01.32 Pol'!BA193","v":0},{"$f":"'01 01.32 Pol'!BB193","v":0},{"$f":"'01 01.32 Pol'!BC193","v":0},{"$f":"'01 01.32 Pol'!BD193","v":0},{"$f":"'01 01.32 Pol'!BE193","v":0}]
[{"$f":"'01 01.32 Pol'!B194","v":"93"},{"$f":"'01 01.32 Pol'!C194","v":"Dokončovací práce inženýrských staveb"},null,null,{"$f":"'01 01.32 Pol'!BA210","v":0},{"$f":"'01 01.32 Pol'!BB210","v":0},{"$f":"'01 01.32 Pol'!BC210","v":0},{"$f":"'01 01.32 Pol'!BD210","v":0},{"$f":"'01 01.32 Pol'!BE210","v":0}]
[{"$f":"'01 01.32 Pol'!B211","v":"99"},{"$f":"'01 01.32 Pol'!C211","v":"Staveništní přesun hmot"},null,null,{"$f":"'01 01.32 Pol'!BA214","v":0},{"$f":"'01 01.32 Pol'!BB214","v":0},{"$f":"'01 01.32 Pol'!BC214","v":0},{"$f":"'01 01.32 Pol'!BD214","v":0},{"$f":"'01 01.32 Pol'!BE214","v":0}]
[null,"CELKEM  OBJEKT",null,null,{"$f":"SUM(E7:E13)","v":0},{"$f":"SUM(F7:F13)","v":0},{"$f":"SUM(G7:G13)","v":0},{"$f":"SUM(H7:H13)","v":0},{"$f":"SUM(I7:I13)","v":0}]

{"sheet":"01 01.32 Pol","index":18,"n_rows":214,"n_cols":80,"rows_kept":214,"cut":false,"hidden":false,"merged":[[0,0,0,6],[2,0,2,1],[3,0,3,1],[3,4,3,6],[8,2,8,6],[9,2,9,6],[11,2,11,6],[12,2,12,6],[20,2,20,3],[21,2,21,3],[22,2,22,3],[23,2,23,3],[24,2,24,3],[25,2,25,3],[13,2,13,3],[14,2,14,3],[15,2,15,3],[17,2,17,6],[18,2,18,3],[19,2,19,3],[34,2,34,6],[35,2,35,3],[36,2,36,3],[37,2,37,3],[39,2,39,3],[40,2,40,3],[26,2,26,3],[27,2,27,3],[28,2,28,3],[30,2,30,3],[31,2,31,3],[32,2,32,3],[49,2,49,3],[50,2,50,3],[51,2,51,3],[52,2,52,3],[54,2,54,3],[55,2,55,3],[41,2,41,3],[43,2,43,6],[44,2,44,3],[45,2,45,3],[46,2,46,3],[48,2,48,3],[64,2,64,6],[65,2,65,6],[66,2,66,3],[67,2,67,3],[68,2,68,3],[69,2,69,3],[56,2,56,3],[57,2,57,3],[58,2,58,3],[60,2,60,3],[61,2,61,3],[62,2,62,3],[76,2,76,3],[77,2,77,3],[78,2,78,3],[80,2,80,3],[82,2,82,3],[83,2,83,3],[70,2,70,3],[71,2,71,3],[72,2,72,3],[73,2,73,3],[74,2,74,3],[75,2,75,3],[92,2,92,3],[93,2,93,3],[94,2,94,3],[95,2,95,3],[96,2,96,3],[97,2,97,3],[84,2,84,3],[86,2,86,3],[88,2,88,3],[89,2,89,3],[90,2,90,3],[91,2,91,3],[109,2,109,3],[111,2,111,6],[112,2,112,3],[113,2,113,3],[114,2,114,3],[115,2,115,3],[117,2,117,3],[118,2,118,3],[98,2,98,3],[99,2,99,3],[100,2,100,3],[104,2,104,3],[105,2,105,3],[129,2,129,3],[130,2,130,3],[134,2,134,3],[135,2,135,3],[120,2,120,3],[121,2,121,3],[123,2,123,3],[124,2,124,3],[126,2,126,3],[127,2,127,3],[150,2,150,6],[151,2,151,6],[152,2,152,3],[153,2,153,3],[155,2,155,6],[156,2,156,6],[139,2,139,3],[141,2,141,6],[142,2,142,6],[143,2,143,6],[144,2,144,6],[145,2,145,3],[147,2,147,6],[148,2,148,3],[165,2,165,6],[166,2,166,6],[167,2,167,3],[168,2,168,3],[170,2,170,6],[172,2,172,3],[157,2,157,3],[158,2,158,3],[160,2,160,6],[161,2,161,3],[162,2,162,3],[164,2,164,6],[182,2,182,3],[184,2,184,3],[185,2,185,3],[187,2,187,3],[188,2,188,3],[190,2,190,3],[174,2,174,6],[175,2,175,6],[176,2,176,3],[178,2,178,3],[179,2,179,3],[181,2,181,3],[212,2,212,6],[202,2,202,6],[203,2,203,6],[204,2,204,6],[206,2,206,6],[207,2,207,6],[208,2,208,6],[191,2,191,3],[195,2,195,6],[196,2,196,6],[197,2,197,6],[198,2,198,6],[199,2,199,6],[200,2,200,6],[201,2,201,6]]}
["Položkový rozpočet "]
[]
["Stavba :",null,"3395 Kanalizace a ČOV Benešov u Semil",null,"Rozpočet:",{"$f":"'01 01.32 Rek'!H1","v":"01.32"}]
["Objekt :",null,"01 Kanalizace",null,{"$f":"'01 01.32 Rek'!G2","v":"Stoka \"H\" km 0,000 - 0,060.3"}]
[]
["P.č.","Číslo položky","Název položky","MJ","množství","cena / MJ","celkem (Kč)","Jednotková hmotnost","Celková hmotnost","Jednotková dem.hmot.","Celková dem.hmot."]
["Díl:","1","Zemní práce",null,null,null,null,null,null,null,null,null,null,null,1]
[1,"115101201RRX","Přečerpávání nebo převedení splašků a dešť. vod ","h",50,null,{"$f":"E8*F8","v":0},0,{"$f":"E8*H8","v":0},0,{"$f":"E8*J8","v":0},null,null,null,2,null,null,null,null,null,null,null,null,null,null,null,1,1,1,null,null,null,null,null,null,null,null,null,null,null,null,null,null,null,null,null,null,null,null,null,null,1,{"$f":"IF(AZ8=1,G8,0)","v":0},{"$f":"IF(AZ8=2,G8,0)","v":0},{"$f":"IF(AZ8=3,G8,0)","v":0},{"$f":"IF(AZ8=4,G8,0)","v":0},{"$f":"IF(AZ8=5,G8,0)","v":0},null,null,null,null,null,null,null,null,null,null,null,null,null,null,null,null,null,null,null,null,null,1,1]
[null,null,"Převedení a čerpání splašků nebo dešťových vod dle zvolené technologie zhotovitele stavby.",null,null,null,null,null,null,null,null,"Převedení a čerpání splašků nebo dešťových vod dle zvolené technologie zhotovitele stavby.",null,null,3]
[null,null,"(Množství bude určeno na stavbě dle skutečnosti)",null,null,null,null,null,null,null,null,"(Množství bude určeno na stavbě dle skutečnosti)",null,null,3]
[2,"130001101RRX","Příplatek za ztížené hloubení v blízkosti vedení ","m3",5.5526999999999997,null,{"$f":"E11*F11","v":0},0,{"$f":"E11*H11","v":0},0,{"$f":"E11*J11","v":0},null,null,null,2,null,null,null,null,null,null,null,null,null,null,null,1,1,1,null,null,null,null,null,null,null,null,null,null,null,null,null,null,null,null,null,null,null,null,null,null,1,{"$f":"IF(AZ11=1,G11,0)","v":0},{"$f":"IF(AZ11=2,G11,0)","v":0},{"$f":"IF(AZ11=3,G11,0)","v":0},{"$f":"IF(AZ11=4,G11,0)","v":0},{"$f":"IF(AZ11=5,G11,0)","v":0},null,null,null,null,null,null,null,null,null,null,null,null,null,null,null,null,null,null,null,null,null,1,1]
[null,null,"Včetně případných nutných dokopávem a ručního výkopu podél sousedících inženýrských sítí.",null,null,null,null,null,null,null,null,"Včetně případných nutných dokopávem a ručního výkopu podél sousedících inženýrských sítí.",null,null,3]
[null,null,"Součástí položky je i dočasné zajištění inženýrských sítí v prostoru výkopů (potrubí, kabely a pod.)",null,null,null,null,null,null,null,null,"Součástí položky je i dočasné zajištění inženýrských sítí v prostoru výkopů (potrubí, kabely a pod.)",null,null,3]
[null,null,"Stoka \"H\" PVC DN250:",null,0,null,null,null,null,null,null,null,"Stoka \"H\" PVC DN250:"]
[null,null,"Výkopy:",null,0,null,null,null,null,null,null,null,"Výkopy:"]
[null,null,"V hornině tř. 3 - 5 - 6%:92,5447*0,06",null,5.5526999999999997,null,null,null,null,null,null,null,"V hornině tř. 3 - 5 - 6%:92,5447*0,06"]
[3,"132201212R00","Hloubení rýh š.do 200 cm hor.3 do 1000m3,STROJNĚ ","m3",55.526800000000001,null,{"$f":"E17*F17","v":0},0,{"$f":"E17*H17","v":0},0,{"$f":"E17*J17","v":0},null,null,null,2,null,null,null,null,null,null,null,null,null,null,null,1,1,1,null,null,null,null,null,null,null,null,null,null,null,null,null,null,null,null,null,null,null,null,null,null,1,{"$f":"IF(AZ17=1,G17,0)","v":0},{"$f":"IF(AZ17=2,G17,0)","v":0},{"$f":"IF(AZ17=3,G17,0)","v":0},{"$f":"IF(AZ17=4,G17,0)","v":0},{"$f":"IF(AZ17=5,G17,0)","v":0},null,null,null,null,null,null,null,null,null,null,null,null,null,null,null,null,null,null,null,null,null,1,1]
[null,null,"Položka obsahuje hloubení rýh traktorbagrem, naložení výkopku na dopravní prostředek pro svislé, nebo vodorovné přemístění, popř. přemístění výkopku do 3 m (po povrchu území), případné zajištění rypadel polštáři, udržování pracoviště a ochranu výkopiště proti stékání srážkové vody z okolního terénu i s jejím odvodněním, nebo odvedením, přesekání a odstranění kořenů ve výkopišti, odstranění napadávek, urovnání dna výkopu.",null,null,null,null,null,null,null,null,"Položka obsahuje hloubení rýh traktorbagrem, naložení výkopku na dopravní prostředek pro svislé, nebo vodorovné přemístění, popř. přemístění výkopku do 3 m (po povrchu území), případné zajištění rypadel polštáři, udržování pracoviště a ochranu výkopiště proti stékání srážkové vody z okolního terénu i s jejím odvodněním, nebo odvedením, přesekání a odstranění kořenů ve výkopišti, odstranění napadávek, urovnání dna výkopu.",null,null,3]
[null,null,"Stoka \"H\" PVC DN250:",null,0,null,null,null,null,null,null,null,"Stoka \"H\" PVC DN250:"]
[null,null,"Výkopy:",null,0,null,null,null,null,null,null,null,"Výkopy:"]
[null,null,"Začátek provozního součtu",null,0,null,null,null,null,null,null,null,"Začátek provozního součtu"]
[null,null,"ŠA.1-3 - ŠH-1:20,90*0,90*(1,75+1,70)/2",null,32.447299999999998,null,null,null,null,null,null,null,"ŠA.1-3 - ŠH-1:20,90*0,90*(1,75+1,70)/2"]
[null,null,"ŠH-1 - ŠH-2:(41,80-20,90)*0,90*(1,70+2,50)/2",null,39.500999999999998,null,null,null,null,null,null,null,"ŠH-1 - ŠH-2:(41,80-20,90)*0,90*(1,70+2,50)/2"]
[null,null,"ŠH-2 - ŠH-3:(60,30-41,80)*0,90*(2,50+1,80)/2",null,35.797499999999999,null,null,null,null,null,null,null,"ŠH-2 - ŠH-3:(60,30-41,80)*0,90*(2,50+1,80)/2"]
[null,null,"Prohloubení pro RŠ:1,60*1,60*0,20*3",null,1.536,null,null,null,null,null,null,null,"Prohloubení pro RŠ:1,60*1,60*0,20*3"]
[null,null,"Rozšíření pro RŠ:1,60*(1,60-0,90)*4,95",null,5.5439999999999996,null,null,null,null,null,null,null,"Rozšíření pro RŠ:1,60*(1,60-0,90)*4,95"]
[null,null,"Odpočet objemu konstrukce komunikace:-(60,30+1,60*(1,60-0,90)*3)*0,35",null,-22.280999999999999,null,null,null,null,null,null,null,"Odpočet objemu konstrukce komunikace:-(60,30+1,60*(1,60-0,90)*3)*0,35"]
[null,null,"Konec provozního součtu",null,92.544799999999981,null,null,null,null,null,null,null,"Konec provozního součtu"]
[null,null,"V hornině tř. 3 - 60%:92,5447*0,6",null,55.526800000000001,null,null,null,null,null,null,null,"V hornině tř. 3 - 60%:92,5447*0,6"]
[4,"132201219R00","Přípl.za lepivost,hloubení rýh 200cm,hor.3,STROJNĚ ","m3",27.763400000000001,null,{"$f":"E30*F30","v":0},0,{"$f":"E30*H30","v":0},0,{"$f":"E30*J30","v":0},null,null,null,2,null,null,null,null,null,null,null,null,null,null,null,1,1,1,null,null,null,null,null,null,null,null,null,null,null,null,null,null,null,null,null,null,null,null,null,null,1,{"$f":"IF(AZ30=1,G30,0)","v":0},{"$f":"IF(AZ30=2,G30,0)","v":0},{"$f":"IF(AZ30=3,G30,0)","v":0},{"$f":"IF(AZ30=4,G30,0)","v":0},{"$f":"IF(AZ30=5,G30,0)","v":0},null,null,null,null,null,null,null,null,null,null,null,null,null,null,null,null,null,null,null,null,null,1,1]
[null,null,"Stoka \"H\" PVC DN250:",null,0,null,null,null,null,null,null,null,"Stoka \"H\" PVC DN250:"]
[null,null,"Výkopy:",null,0,null,null,null,null,null,null,null,"Výkopy:"]
[null,null,"V hornině tř. 3 - 60%:92,5447*0,6*0,5",null,27.763400000000001,null,null,null,null,null,null,null,"V hornině tř. 3 - 60%:92,5447*0,6*0,5"]
[5,"132301212R00","Hloubení rýh š.do 200 cm hor.4 do 1000 m3, STROJNĚ ","m3",27.763400000000001,null,{"$f":"E34*F34","v":0},0,{"$f":"E34*H34","v":0},0,{"$f":"E34*J34","v":0},null,null,null,2,null,null,null,null,null,null,null,null,null,null,null,1,1,1,null,null,null,null,null,null,null,null,null,null,null,null,null,null,null,null,null,null,null,null,null,null,1,{"$f":"IF(AZ34=1,G34,0)","v":0},{"$f":"IF(AZ34=2,G34,0)","v":0},{"$f":"IF(AZ34=3,G34,0)","v":0},{"$f":"IF(AZ34=4,G34,0)","v":0},{"$f":"IF(AZ34=5,G34,0)","v":0},null,null,null,null,null,null,null,null,null,null,null,null,null,null,null,null,null,null,null,null,null,1,1]
[null,null,"Položka obsahuje hloubení rýh traktorbagrem, naložení výkopku na dopravní prostředek pro svislé, nebo vodorovné přemístění, popř. přemístění výkopku do 3 m (po povrchu území), případné zajištění rypadel polštáři, udržování pracoviště a ochranu výkopiště proti stékání srážkové vody z okolního terénu i s jejím odvodněním, nebo odvedením, přesekání a odstranění kořenů ve výkopišti, odstranění napadávek, urovnání dna výkopu.",null,null,null,null,null,null,null,null,"Položka obsahuje hloubení rýh traktorbagrem, naložení výkopku na dopravní prostředek pro svislé, nebo vodorovné přemístění, popř. přemístění výkopku do 3 m (po povrchu území), případné zajištění rypadel polštáři, udržování pracoviště a ochranu výkopiště proti stékání srážkové vody z okolního terénu i s jejím odvodněním, nebo odvedením, přesekání a odstranění kořenů ve výkopišti, odstranění napadávek, urovnání dna výkopu.",null,null,3]
[null,null,"Stoka \"H\" PVC DN250:",null,0,null,null,null,null,null,null,null,"Stoka \"H\" PVC DN250:"]
[null,null,"Výkopy:",null,0,null,null,null,null,null,null,null,"Výkopy:"]
[null,null,"V hornině tř. 4 - 30%:92,5447*0,3",null,27.763400000000001,null,null,null,null,null,null,null,"V hornině tř. 4 - 30%:92,5447*0,3"]
[6,"132301219R00","Přípl.za lepivost,hloubení rýh 200cm,hor.4,STROJNĚ ","m3",13.8817,null,{"$f":"E39*F39","v":0},0,{"$f":"E39*H39","v":0},0,{"$f":"E39*J39","v":0},null,null,null,2,null,null,null,null,null,null,null,null,null,null,null,1,1,1,null,null,null,null,null,null,null,null,null,null,null,null,null,null,null,null,null,null,null,null,null,null,1,{"$f":"IF(AZ39=1,G39,0)","v":0},{"$f":"IF(AZ39=2,G39,0)","v":0},{"$f":"IF(AZ39=3,G39,0)","v":0},{"$f":"IF(AZ39=4,G39,0)","v":0},{"$f":"IF(AZ39=5,G39,0)","v":0},null,null,null,null,null,null,null,null,null,null,null,null,null,null,null,null,null,null,null,null,null,1,1]
[null,null,"Stoka \"H\" PVC DN250:",null,0,null,null,null,null,null,null,null,"Stoka \"H\" PVC DN250:"]
[null,null,"Výkopy:",null,0,null,null,null,null,null,null,null,"Výkopy:"]
[null,null,"V hornině tř. 4 - 30%:92,5447*0,3*0,5",null,13.8817,null,null,null,null,null,null,null,"V hornině tř. 4 - 30%:92,5447*0,3*0,5"]
[7,"132401211RRX","Hloubení rýh šířky do 200 cm v hor.5 STROJNĚ včetně případného dolamování ve vrstvě do 0,5 m","m3",9.2545000000000002,null,{"$f":"E43*F43","v":0},1.0410000000000001E-2,{"$f":"E43*H43","v":9.6339345000000007E-2},0,{"$f":"E43*J43","v":0},null,null,null,2,null,null,null,null,null,null,null,null,null,null,null,1,1,1,null,null,null,null,null,null,null,null,null,null,null,null,null,null,null,null,null,null,null,null,null,null,1,{"$f":"IF(AZ43=1,G43,0)","v":0},{"$f":"IF(AZ43=2,G43,0)","v":0},{"$f":"IF(AZ43=3,G43,0)","v":0},{"$f":"IF(AZ43=4,G43,0)","v":0},{"$f":"IF(AZ43=5,G43,0)","v":0},null,null,null,null,null,null,null,null,null,null,null,null,null,null,null,null,null,null,null,null,null,1,1]
[null,null,"Položka obsahuje hloubení rýh traktorbagrem, naložení výkopku na dopravní prostředek pro svislé, nebo vodorovné přemístění, popř. přemístění výkopku do 3 m (po povrchu území), případné zajištění rypadel polštáři, udržování pracoviště a ochranu výkopiště proti stékání srážkové vody z okolního terénu i s jejím odvodněním, nebo odvedením, přesekání a odstranění kořenů ve výkopišti, odstranění napadávek, urovnání dna výkopu.včetně případného dolamování ve vrstvě do 0,5 m",null,null,null,null,null,null,null,null,"Položka obsahuje hloubení rýh traktorbagrem, naložení výkopku na dopravní prostředek pro svislé, nebo vodorovné přemístění, popř. přemístění výkopku do 3 m (po povrchu území), případné zajištění rypadel polštáři, udržování pracoviště a ochranu výkopiště proti stékání srážkové vody z okolního terénu i s jejím odvodněním, nebo odvedením, přesekání a odstranění kořenů ve výkopišti, odstranění napadávek, urovnání dna výkopu.včetně případného dolamování ve vrstvě do 0,5 m",null,null,3]
[null,null,"Stoka \"H\" PVC DN250:",null,0,null,null,null,null,null,null,null,"Stoka \"H\" PVC DN250:"]
[null,null,"Výkopy:",null,0,null,null,null,null,null,null,null,"Výkopy:"]
[null,null,"V hornině tř. 5 - 10%:92,5447*0,1",null,9.2545000000000002,null,null,null,null,null,null,null,"V hornině tř. 5 - 10%:92,5447*0,1"]
[8,"151101101R00","Pažení a rozepření stěn rýh - příložné - hl.do 2 m ","m2",239.435,null,{"$f":"E48*F48","v":0},9.8999999999999999E-4,{"$f":"E48*H48","v":0.23704064999999999},0,{"$f":"E48*J48","v":0},null,null,null,2,null,null,null,null,null,null,null,null,null,null,null,1,1,1,null,null,null,null,null,null,null,null,null,null,null,null,null,null,null,null,null,null,null,null,null,null,1,{"$f":"IF(AZ48=1,G48,0)","v":0},{"$f":"IF(AZ48=2,G48,0)","v":0},{"$f":"IF(AZ48=3,G48,0)","v":0},{"$f":"IF(AZ48=4,G48,0)","v":0},{"$f":"IF(AZ48=5,G48,0)","v":0},null,null,null,null,null,null,null,null,null,null,null,null,null,null,null,null,null,null,null,null,null,1,1]
[null,null,"Stoka \"H\" PVC DN250:",null,0,null,null,null,null,null,null,null,"Stoka \"H\" PVC DN250:"]
[null,null,"Výkopy:",null,0,null,null,null,null,null,null,null,"Výkopy:"]
[null,null,"ŠA.1-3 - ŠH-1:20,90*(1,75+1,70)/2*2",null,72.105000000000004,null,null,null,null,null,null,null,"ŠA.1-3 - ŠH-1:20,90*(1,75+1,70)/2*2"]
[null,null,"ŠH-1 - ŠH-2:(41,80-20,90)*(1,70+2,50)/2*2",null,87.78,null,null,null,null,null,null,null,"ŠH-1 - ŠH-2:(41,80-20,90)*(1,70+2,50)/2*2"]
[null,null,"ŠH-2 - ŠH-3:(60,30-41,80)*(2,50+1,80)/2*2",null,79.55,null,null,null,null,null,null,null,"ŠH-2 - ŠH-3:(60,30-41,80)*(2,50+1,80)/2*2"]
[9,"151101111R00","Odstranění pažení stěn rýh - příložné - hl. do 2 m ","m2",239.435,null,{"$f":"E54*F54","v":0},0,{"$f":"E54*H54","v":0},0,{"$f":"E54*J54","v":0},null,null,null,2,null,null,null,null,null,null,null,null,null,null,null,1,1,1,null,null,null,null,null,null,null,null,null,null,null,null,null,null,null,null,null,null,null,null,null,null,1,{"$f":"IF(AZ54=1,G54,0)","v":0},{"$f":"IF(AZ54=2,G54,0)","v":0},{"$f":"IF(AZ54=3,G54,0)","v":0},{"$f":"IF(AZ54=4,G54,0)","v":0},{"$f":"IF(AZ54=5,G54,0)","v":0},null,null,null,null,null,null,null,null,null,null,null,null,null,null,null,null,null,null,null,null,null,1,1]
[null,null,"Stoka \"H\" PVC DN250:",null,0,null,null,null,null,null,null,null,"Stoka \"H\" PVC DN250:"]
[null,null,"Výkopy:",null,0,null,null,null,null,null,null,null,"Výkopy:"]
[null,null,"ŠA.1-3 - ŠH-1:20,90*(1,75+1,70)/2*2",null,72.105000000000004,null,null,null,null,null,null,null,"ŠA.1-3 - ŠH-1:20,90*(1,75+1,70)/2*2"]
[null,null,"ŠH-1 - ŠH-2:(41,80-20,90)*(1,70+2,50)/2*2",null,87.78,null,null,null,null,null,null,null,"ŠH-1 - ŠH-2:(41,80-20,90)*(1,70+2,50)/2*2"]
[null,null,"ŠH-2 - ŠH-3:(60,30-41,80)*(2,50+1,80)/2*2",null,79.55,null,null,null,null,null,null,null,"ŠH-2 - ŠH-3:(60,30-41,80)*(2,50+1,80)/2*2"]
[10,"162701105RSZ","Vodorovné přemístění výkopku z hor.1-7 na skládku zhotovitele","m3",92.544700000000006,null,{"$f":"E60*F60","v":0},0,{"$f":"E60*H60","v":0},0,{"$f":"E60*J60","v":0},null,null,null,2,null,null,null,null,null,null,null,null,null,null,null,1,1,1,null,null,null,null,null,null,null,null,null,null,null,null,null,null,null,null,null,null,null,null,null,null,1,{"$f":"IF(AZ60=1,G60,0)","v":0},{"$f":"IF(AZ60=2,G60,0)","v":0},{"$f":"IF(AZ60=3,G60,0)","v":0},{"$f":"IF(AZ60=4,G60,0)","v":0},{"$f":"IF(AZ60=5,G60,0)","v":0},null,null,null,null,null,null,null,null,null,null,null,null,null,null,null,null,null,null,null,null,null,1,1]
[null,null,"Stoka \"H\" PVC DN250:",null,0,null,null,null,null,null,null,null,"Stoka \"H\" PVC DN250:"]
[null,null,"Výkopy:",null,0,null,null,null,null,null,null,null,"Výkopy:"]
[null,null,"V hornině tř. 3 - 5 :92,5447",null,92.544700000000006,null,null,null,null,null,null,null,"V hornině tř. 3 - 5 :92,5447"]
[11,"174101101R00","Zásyp jam, rýh, šachet se zhutněním ","m3",47.985900000000001,null,{"$f":"E64*F64","v":0},0,{"$f":"E64*H64","v":0},0,{"$f":"E64*J64","v":0},null,null,null,2,null,null,null,null,null,null,null,null,null,null,null,1,1,1,null,null,null,null,null,null,null,null,null,null,null,null,null,null,null,null,null,null,null,null,null,null,1,{"$f":"IF(AZ64=1,G64,0)","v":0},{"$f":"IF(AZ64=2,G64,0)","v":0},{"$f":"IF(AZ64=3,G64,0)","v":0},{"$f":"IF(AZ64=4,G64,0)","v":0},{"$f":"IF(AZ64=5,G64,0)","v":0},null,null,null,null,null,null,null,null,null,null,null,null,null,null,null,null,null,null,null,null,null,1,1]
[null,null,"Položka obsahuje strojní přemístění materiálu pro zásyp ze vzdálenosti do 10 m od okraje zásypu.",null,null,null,null,null,null,null,null,"Položka obsahuje strojní přemístění materiálu pro zásyp ze vzdálenosti do 10 m od okraje zásypu.",null,null,3]
[null,null,null,null,null,null,null,null,null,null,null,null,null,null,3]
[null,null,"Stoka \"H\" PVC DN250:",null,0,null,null,null,null,null,null,null,"Stoka \"H\" PVC DN250:"]
[null,null,"Zásypy ŠD fr. 0-63 mm:47,9859",null,47.985900000000001,null,null,null,null,null,null,null,"Zásypy ŠD fr. 0-63 mm:47,9859"]
[null,null,"Začátek provozního součtu",null,0,null,null,null,null,null,null,null,"Začátek provozního součtu"]
[null,null,"Výkopy:",null,0,null,null,null,null,null,null,null,"Výkopy:"]
[null,null,"ŠA.1-3 - ŠH-1:20,90*0,90*(1,75+1,70)/2",null,32.447299999999998,null,null,null,null,null,null,null,"ŠA.1-3 - ŠH-1:20,90*0,90*(1,75+1,70)/2"]
[null,null,"ŠH-1 - ŠH-2:(41,80-20,90)*0,90*(1,70+2,50)/2",null,39.500999999999998,null,null,null,null,null,null,null,"ŠH-1 - ŠH-2:(41,80-20,90)*0,90*(1,70+2,50)/2"]
[null,null,"ŠH-2 - ŠH-3:(60,30-41,80)*0,90*(2,50+1,80)/2",null,35.797499999999999,null,null,null,null,null,null,null,"ŠH-2 - ŠH-3:(60,30-41,80)*0,90*(2,50+1,80)/2"]
[null,null,"Prohloubení pro RŠ:1,60*1,60*0,20*3",null,1.536,null,null,null,null,null,null,null,"Prohloubení pro RŠ:1,60*1,60*0,20*3"]
[null,null,"Rozšíření pro RŠ:1,60*(1,60-0,90)*4,95",null,5.5439999999999996,null,null,null,null,null,null,null,"Rozšíření pro RŠ:1,60*(1,60-0,90)*4,95"]
[null,null,"Odpočet objemu konstrukce komunikace:-(60,30+1,60*(1,60-0,90)*3)*0,35",null,-22.280999999999999,null,null,null,null,null,null,null,"Odpočet objemu konstrukce komunikace:-(60,30+1,60*(1,60-0,90)*3)*0,35"]
[null,null,"Odpočet objemu lože, potrubí a obsypů:-60,30*0,90*(0,15+0,25+0,30)",null,-37.988999999999997,null,null,null,null,null,null,null,"Odpočet objemu lože, potrubí a obsypů:-60,30*0,90*(0,15+0,25+0,30)"]
[null,null,"Odpočet objemu RŠ:-6,5698",null,-6.5697999999999999,null,null,null,null,null,null,null,"Odpočet objemu RŠ:-6,5698"]
[null,null,"Konec provozního součtu",null,47.985999999999983,null,null,null,null,null,null,null,"Konec provozního součtu"]
[12,"175101101R00","Obsyp potrubí bez prohození sypaniny ","m3",26.888500000000001,null,{"$f":"E80*F80","v":0},0,{"$f":"E80*H80","v":0},0,{"$f":"E80*J80","v":0},null,null,null,2,null,null,null,null,null,null,null,null,null,null,null,1,1,1,null,null,null,null,null,null,null,null,null,null,null,null,null,null,null,null,null,null,null,null,null,null,1,{"$f":"IF(AZ80=1,G80,0)","v":0},{"$f":"IF(AZ80=2,G80,0)","v":0},{"$f":"IF(AZ80=3,G80,0)","v":0},{"$f":"IF(AZ80=4,G80,0)","v":0},{"$f":"IF(AZ80=5,G80,0)","v":0},null,null,null,null,null,null,null,null,null,null,null,null,null,null,null,null,null,null,null,null,null,1,1]
[null,null,"Stoka \"H\" PVC DN250:60,30*(0,90*(0,25+0,30)-0,125^2*Pi)",null,26.888500000000001,null,null,null,null,null,null,null,"Stoka \"H\" PVC DN250:60,30*(0,90*(0,25+0,30)-0,125^2*Pi)"]
[13,"199000002R00","Poplatek za skládku horniny 1- 7 č. dle katal. odpadů 17 05 04","m3",92.544700000000006,null,{"$f":"E82*F82","v":0},0,{"$f":"E82*H82","v":0},0,{"$f":"E82*J82","v":0},null,null,null,2,null,null,null,null,null,null,null,null,null,null,null,1,1,1,null,null,null,null,null,null,null,null,null,null,null,null,null,null,null,null,null,null,null,null,null,null,1,{"$f":"IF(AZ82=1,G82,0)","v":0},{"$f":"IF(AZ82=2,G82,0)","v":0},{"$f":"IF(AZ82=3,G82,0)","v":0},{"$f":"IF(AZ82=4,G82,0)","v":0},{"$f":"IF(AZ82=5,G82,0)","v":0},null,null,null,null,null,null,null,null,null,null,null,null,null,null,null,null,null,null,null,null,null,1,1]
[null,null,"Stoka \"H\" PVC DN250:",null,0,null,null,null,null,null,null,null,"Stoka \"H\" PVC DN250:"]
[null,null,"Výkopy:",null,0,null,null,null,null,null,null,null,"Výkopy:"]
[null,null,"V hornině tř. 3 - 5 :92,5447",null,92.544700000000006,null,null,null,null,null,null,null,"V hornině tř. 3 - 5 :92,5447"]
[14,"58337308.R","Štěrkopísek frakce 0-2 tř.B","t",53.581600000000002,null,{"$f":"E86*F86","v":0},1,{"$f":"E86*H86","v":53.581600000000002},null,{"$f":"E86*J86","v":0},null,null,null,2,null,null,null,null,null,null,null,null,null,null,null,3,1,"58337308.R",null,null,null,null,null,null,null,null,null,null,null,null,null,null,null,null,null,null,null,null,null,null,1,{"$f":"IF(AZ86=1,G86,0)","v":0},{"$f":"IF(AZ86=2,G86,0)","v":0},{"$f":"IF(AZ86=3,G86,0)","v":0},{"$f":"IF(AZ86=4,G86,0)","v":0},{"$f":"IF(AZ86=5,G86,0)","v":0},null,null,null,null,null,null,null,null,null,null,null,null,null,null,null,null,null,null,null,null,null,3,1]
[null,null,"Stoka \"H\" PVC DN250:60,30*(0,90*(0,25+0,30)-0,125^2*Pi)*1,973*1,01",null,53.581600000000002,null,null,null,null,null,null,null,"Stoka \"H\" PVC DN250:60,30*(0,90*(0,25+0,30)-0,125^2*Pi)*1,973*1,01"]
[15,"58344197R","Štěrkodrtě frakce 0-63 A","t",90.776399999999995,null,{"$f":"E88*F88","v":0},1,{"$f":"E88*H88","v":90.776399999999995},null,{"$f":"E88*J88","v":0},null,null,null,2,null,null,null,null,null,null,null,null,null,null,null,3,1,"58344197R",null,null,null,null,null,null,null,null,null,null,null,null,null,null,null,null,null,null,null,null,null,null,1,{"$f":"IF(AZ88=1,G88,0)","v":0},{"$f":"IF(AZ88=2,G88,0)","v":0},{"$f":"IF(AZ88=3,G88,0)","v":0},{"$f":"IF(AZ88=4,G88,0)","v":0},{"$f":"IF(AZ88=5,G88,0)","v":0},null,null,null,null,null,null,null,null,null,null,null,null,null,null,null,null,null,null,null,null,null,3,1]
[null,null,"Stoka \"H\" PVC DN250:",null,0,null,null,null,null,null,null,null,"Stoka \"H\" PVC DN250:"]
[null,null,"Zásypy ŠD fr. 0-63 mm:47,9859*1,873*1,01",null,90.776399999999995,null,null,null,null,null,null,null,"Zásypy ŠD fr. 0-63 mm:47,9859*1,873*1,01"]
[null,null,"Začátek provozního součtu",null,0,null,null,null,null,null,null,null,"Začátek provozního součtu"]
[null,null,"Výkopy:",null,0,null,null,null,null,null,null,null,"Výkopy:"]
[null,null,"ŠA.1-3 - ŠH-1:20,90*0,90*(1,75+1,70)/2",null,32.447299999999998,null,null,null,null,null,null,null,"ŠA.1-3 - ŠH-1:20,90*0,90*(1,75+1,70)/2"]
[null,null,"ŠH-1 - ŠH-2:(41,80-20,90)*0,90*(1,70+2,50)/2",null,39.500999999999998,null,null,null,null,null,null,null,"ŠH-1 - ŠH-2:(41,80-20,90)*0,90*(1,70+2,50)/2"]
[null,null,"ŠH-2 - ŠH-3:(60,30-41,80)*0,90*(2,50+1,80)/2",null,35.797499999999999,null,null,null,null,null,null,null,"ŠH-2 - ŠH-3:(60,30-41,80)*0,90*(2,50+1,80)/2"]
[null,null,"Prohloubení pro RŠ:1,60*1,60*0,20*3",null,1.536,null,null,null,null,null,null,null,"Prohloubení pro RŠ:1,60*1,60*0,20*3"]
[null,null,"Rozšíření pro RŠ:1,60*(1,60-0,90)*4,95",null,5.5439999999999996,null,null,null,null,null,null,null,"Rozšíření pro RŠ:1,60*(1,60-0,90)*4,95"]
[null,null,"Odpočet objemu konstrukce komunikace:-(60,30+1,60*(1,60-0,90)*3)*0,35",null,-22.280999999999999,null,null,null,null,null,null,null,"Odpočet objemu konstrukce komunikace:-(60,30+1,60*(1,60-0,90)*3)*0,35"]
[null,null,"Odpočet objemu lože, potrubí a obsypů:-60,30*0,90*(0,15+0,25+0,30)",null,-37.988999999999997,null,null,null,null,null,null,null,"Odpočet objemu lože, potrubí a obsypů:-60,30*0,90*(0,15+0,25+0,30)"]
[null,null,"Odpočet objemu RŠ:-6,5698",null,-6.5697999999999999,null,null,null,null,null,null,null,"Odpočet objemu RŠ:-6,5698"]
[null,null,"Konec provozního součtu",null,47.985999999999983,null,null,null,null,null,null,null,"Konec provozního součtu"]
[null,"Celkem za","1 Zemní práce",null,null,null,{"$f":"SUM(G7:G101)","v":0},null,{"$f":"SUM(I7:I101)","v":144.69137999500001},null,{"$f":"SUM(K7:K101)","v":0},null,null,null,4,null,null,null,null,null,null,null,null,null,null,null,null,null,null,null,null,null,null,null,null,null,null,null,null,null,null,null,null,null,null,null,null,null,null,null,null,null,{"$f":"SUM(BA7:BA101)","v":0},{"$f":"SUM(BB7:BB101)","v":0},{"$f":"SUM(BC7:BC101)","v":0},{"$f":"SUM(BD7:BD101)","v":0},{"$f":"SUM(BE7:BE101)","v":0}]
["Díl:","21","Úprava podloží a základ.spáry",null,null,null,null,null,null,null,null,null,null,null,1]
[16,"212810010RAC","Trativody z PVC drenážních flexibilních trubek lože štěrkopísek a obsyp kamenivo, trubky d 100 mm","m",58.45,null,{"$f":"E104*F104","v":0},0.43651000000000001,{"$f":"E104*H104","v":25.5140095},0,{"$f":"E104*J104","v":0},null,null,null,2,null,null,null,null,null,null,null,null,null,null,null,1,1,1,null,null,null,null,null,null,null,null,null,null,null,null,null,null,null,null,null,null,null,null,null,null,1,{"$f":"IF(AZ104=1,G104,0)","v":0},{"$f":"IF(AZ104=2,G104,0)","v":0},{"$f":"IF(AZ104=3,G104,0)","v":0},{"$f":"IF(AZ104=4,G104,0)","v":0},{"$f":"IF(AZ104=5,G104,0)","v":0},null,null,null,null,null,null,null,null,null,null,null,null,null,null,null,null,null,null,null,null,null,1,1]
[null,null,"Stoka \"A.1-1\" PVC DN250:",null,0,null,null,null,null,null,null,null,"Stoka \"A.1-1\" PVC DN250:"]
[null,null,"Drenáž DN100:116,90*0,5",null,58.45,null,null,null,null,null,null,null,"Drenáž DN100:116,90*0,5"]
[null,"Celkem za","21 Úprava podloží a základ.spáry",null,null,null,{"$f":"SUM(G103:G106)","v":0},null,{"$f":"SUM(I103:I106)","v":25.5140095},null,{"$f":"SUM(K103:K106)","v":0},null,null,null,4,null,null,null,null,null,null,null,null,null,null,null,null,null,null,null,null,null,null,null,null,null,null,null,null,null,null,null,null,null,null,null,null,null,null,null,null,null,{"$f":"SUM(BA103:BA106)","v":0},{"$f":"SUM(BB103:BB106)","v":0},{"$f":"SUM(BC103:BC106)","v":0},{"$f":"SUM(BD103:BD106)","v":0},{"$f":"SUM(BE103:BE106)","v":0}]
["Díl:","45","Podkladní a vedlejší konstrukce",null,null,null,null,null,null,null,null,null,null,null,1]
[17,"451572111R00","Lože pod potrubí z kameniva těženého 0 - 4 mm ","m3",8.1404999999999994,null,{"$f":"E109*F109","v":0},0.43051,{"$f":"E109*H109","v":3.5045666549999996},0,{"$f":"E109*J109","v":0},null,null,null,2,null,null,null,null,null,null,null,null,null,null,null,1,1,1,null,null,null,null,null,null,null,null,null,null,null,null,null,null,null,null,null,null,null,null,null,null,1,{"$f":"IF(AZ109=1,G109,0)","v":0},{"$f":"IF(AZ109=2,G109,0)","v":0},{"$f":"IF(AZ109=3,G109,0)","v":0},{"$f":"IF(AZ109=4,G109,0)","v":0},{"$f":"IF(AZ109=5,G109,0)","v":0},null,null,null,null,null,null,null,null,null,null,null,null,null,null,null,null,null,null,null,null,null,1,1]
[null,null,"Stoka \"H\" PVC DN250:60,30*0,90*0,15",null,8.1404999999999994,null,null,null,null,null,null,null,"Stoka \"H\" PVC DN250:60,30*0,90*0,15"]
[18,"452112111R00","Osazení beton. prstenců pod poklopy,výšky do100 mm ","kus",4,null,{"$f":"E111*F111","v":0},6.6E-3,{"$f":"E111*H111","v":2.64E-2},0,{"$f":"E111*J111","v":0},null,null,null,2,null,null,null,null,null,null,null,null,null,null,null,1,1,1,null,null,null,null,null,null,null,null,null,null,null,null,null,null,null,null,null,null,null,null,null,null,1,{"$f":"IF(AZ111=1,G111,0)","v":0},{"$f":"IF(AZ111=2,G111,0)","v":0},{"$f":"IF(AZ111=3,G111,0)","v":0},{"$f":"IF(AZ111=4,G111,0)","v":0},{"$f":"IF(AZ111=5,G111,0)","v":0},null,null,null,null,null,null,null,null,null,null,null,null,null,null,null,null,null,null,null,null,null,1,1]
[null,null,"Volba položky se řídí výškou prstence nebo rámu. V položkách nejsou zakalkulovány náklady na dodávku betonových výrobků;",null,null,null,null,null,null,null,null,"Volba položky se řídí výškou prstence nebo rámu. V položkách nejsou zakalkulovány náklady na dodávku betonových výrobků;",null,null,3]
[null,null,"Stoka \"H\" PVC DN250:",null,0,null,null,null,null,null,null,null,"Stoka \"H\" PVC DN250:"]
[null,null,"VP60:1",null,1,null,null,null,null,null,null,null,"VP60:1"]
[null,null,"VP80:2",null,2,null,null,null,null,null,null,null,"VP80:2"]
[null,null,"VP100:1",null,1,null,null,null,null,null,null,null,"VP100:1"]
[19,"452112121R00","Osazení beton. prstenců pod poklopy,výšky do200 mm ","kus",2,null,{"$f":"E117*F117","v":0},6.6E-3,{"$f":"E117*H117","v":1.32E-2},0,{"$f":"E117*J117","v":0},null,null,null,2,null,null,null,null,null,null,null,null,null,null,null,1,1,1,null,null,null,null,null,null,null,null,null,null,null,null,null,null,null,null,null,null,null,null,null,null,1,{"$f":"IF(AZ117=1,G117,0)","v":0},{"$f":"IF(AZ117=2,G117,0)","v":0},{"$f":"IF(AZ117=3,G117,0)","v":0},{"$f":"IF(AZ117=4,G117,0)","v":0},{"$f":"IF(AZ117=5,G117,0)","v":0},null,null,null,null,null,null,null,null,null,null,null,null,null,null,null,null,null,null,null,null,null,1,1]
[null,null,"Stoka \"H\" PVC DN250:",null,0,null,null,null,null,null,null,null,"Stoka \"H\" PVC DN250:"]
[null,null,"VP120:2",null,2,null,null,null,null,null,null,null,"VP120:2"]
[20,"59224347.A.R","Prstenec vyrovn šachetní TBW-Q.1 63/6","kus",1.01,null,{"$f":"E120*F120","v":0},0.04,{"$f":"E120*H120","v":4.0399999999999998E-2},null,{"$f":"E120*J120","v":0},null,null,null,2,null,null,null,null,null,null,null,null,null,null,null,3,1,"59224347.A.R",null,null,null,null,null,null,null,null,null,null,null,null,null,null,null,null,null,null,null,null,null,null,1,{"$f":"IF(AZ120=1,G120,0)","v":0},{"$f":"IF(AZ120=2,G120,0)","v":0},{"$f":"IF(AZ120=3,G120,0)","v":0},{"$f":"IF(AZ120=4,G120,0)","v":0},{"$f":"IF(AZ120=5,G120,0)","v":0},null,null,null,null,null,null,null,null,null,null,null,null,null,null,null,null,null,null,null,null,null,3,1]
[null,null,"Stoka \"H\" PVC DN250:",null,0,null,null,null,null,null,null,null,"Stoka \"H\" PVC DN250:"]
[null,null,"VP60:1*1,01",null,1.01,null,null,null,null,null,null,null,"VP60:1*1,01"]
[21,"59224348.A.R","Prstenec vyrovn šachetní TBW-Q.1 63/8","kus",2.02,null,{"$f":"E123*F123","v":0},5.3999999999999999E-2,{"$f":"E123*H123","v":0.10908},null,{"$f":"E123*J123","v":0},null,null,null,2,null,null,null,null,null,null,null,null,null,null,null,3,1,"59224348.A.R",null,null,null,null,null,null,null,null,null,null,null,null,null,null,null,null,null,null,null,null,null,null,1,{"$f":"IF(AZ123=1,G123,0)","v":0},{"$f":"IF(AZ123=2,G123,0)","v":0},{"$f":"IF(AZ123=3,G123,0)","v":0},{"$f":"IF(AZ123=4,G123,0)","v":0},{"$f":"IF(AZ123=5,G123,0)","v":0},null,null,null,null,null,null,null,null,null,null,null,null,null,null,null,null,null,null,null,null,null,3,1]
[null,null,"Stoka \"H\" PVC DN250:",null,0,null,null,null,null,null,null,null,"Stoka \"H\" PVC DN250:"]
[null,null,"VP80:2*1,01",null,2.02,null,null,null,null,null,null,null,"VP80:2*1,01"]
[22,"59224349.A.R","Prstenec vyrovn šachetní TBW-Q.1 63/10","kus",1.01,null,{"$f":"E126*F126","v":0},6.8000000000000005E-2,{"$f":"E126*H126","v":6.8680000000000005E-2},null,{"$f":"E126*J126","v":0},null,null,null,2,null,null,null,null,null,null,null,null,null,null,null,3,1,"59224349.A.R",null,null,null,null,null,null,null,null,null,null,null,null,null,null,null,null,null,null,null,null,null,null,1,{"$f":"IF(AZ126=1,G126,0)","v":0},{"$f":"IF(AZ126=2,G126,0)","v":0},{"$f":"IF(AZ126=3,G126,0)","v":0},{"$f":"IF(AZ126=4,G126,0)","v":0},{"$f":"IF(AZ126=5,G126,0)","v":0},null,null,null,null,null,null,null,null,null,null,null,null,null,null,null,null,null,null,null,null,null,3,1]
[null,null,"Stoka \"H\" PVC DN250:",null,0,null,null,null,null,null,null,null,"Stoka \"H\" PVC DN250:"]
[null,null,"VP H100:1*1,01",null,1.01,null,null,null,null,null,null,null,"VP H100:1*1,01"]
[23,"59224350.A.R","Prstenec vyrovn šachetní TBW-Q.1 63/12","kus",2.02,null,{"$f":"E129*F129","v":0},8.1000000000000003E-2,{"$f":"E129*H129","v":0.16362000000000002},null,{"$f":"E129*J129","v":0},null,null,null,2,null,null,null,null,null,null,null,null,null,null,null,3,1,"59224350.A.R",null,null,null,null,null,null,null,null,null,null,null,null,null,null,null,null,null,null,null,null,null,null,1,{"$f":"IF(AZ129=1,G129,0)","v":0},{"$f":"IF(AZ129=2,G129,0)","v":0},{"$f":"IF(AZ129=3,G129,0)","v":0},{"$f":"IF(AZ129=4,G129,0)","v":0},{"$f":"IF(AZ129=5,G129,0)","v":0},null,null,null,null,null,null,null,null,null,null,null,null,null,null,null,null,null,null,null,null,null,3,1]
[null,null,"Stoka \"H\" PVC DN250:",null,0,null,null,null,null,null,null,null,"Stoka \"H\" PVC DN250:"]
[null,null,"VP H120:2*1,01",null,2.02,null,null,null,null,null,null,null,"VP H120:2*1,01"]
[null,"Celkem za","45 Podkladní a vedlejší konstrukce",null,null,null,{"$f":"SUM(G108:G131)","v":0},null,{"$f":"SUM(I108:I131)","v":3.9259466549999997},null,{"$f":"SUM(K108:K131)","v":0},null,null,null,4,null,null,null,null,null,null,null,null,null,null,null,null,null,null,null,null,null,null,null,null,null,null,null,null,null,null,null,null,null,null,null,null,null,null,null,null,null,{"$f":"SUM(BA108:BA131)","v":0},{"$f":"SUM(BB108:BB131)","v":0},{"$f":"SUM(BC108:BC131)","v":0},{"$f":"SUM(BD108:BD131)","v":0},{"$f":"SUM(BE108:BE131)","v":0}]
["Díl:","5","Komunikace",null,null,null,null,null,null,null,null,null,null,null,1]
[24,"572701119RRX","Provizorní zásyp rýh kam. hrubě drceným nebo recyk s následným odstraněním a odvozem","m3",22.280999999999999,null,{"$f":"E134*F134","v":0},1.4804999999999999,{"$f":"E134*H134","v":32.9870205},0,{"$f":"E134*J134","v":0},null,null,null,2,null,null,null,null,null,null,null,null,null,null,null,1,1,1,null,null,null,null,null,null,null,null,null,null,null,null,null,null,null,null,null,null,null,null,null,null,1,{"$f":"IF(AZ134=1,G134,0)","v":0},{"$f":"IF(AZ134=2,G134,0)","v":0},{"$f":"IF(AZ134=3,G134,0)","v":0},{"$f":"IF(AZ134=4,G134,0)","v":0},{"$f":"IF(AZ134=5,G134,0)","v":0},null,null,null,null,null,null,null,null,null,null,null,null,null,null,null,null,null,null,null,null,null,1,1]
[null,null,"Stoka \"H\" PVC DN250:",null,0,null,null,null,null,null,null,null,"Stoka \"H\" PVC DN250:"]
[null,null,"Objem konstrukce komunikace:(60,30+1,60*(1,60-0,90)*3)*0,35",null,22.280999999999999,null,null,null,null,null,null,null,"Objem konstrukce komunikace:(60,30+1,60*(1,60-0,90)*3)*0,35"]
[null,"Celkem za","5 Komunikace",null,null,null,{"$f":"SUM(G133:G136)","v":0},null,{"$f":"SUM(I133:I136)","v":32.9870205},null,{"$f":"SUM(K133:K136)","v":0},null,null,null,4,null,null,null,null,null,null,null,null,null,null,null,null,null,null,null,null,null,null,null,null,null,null,null,null,null,null,null,null,null,null,null,null,null,null,null,null,null,{"$f":"SUM(BA133:BA136)","v":0},{"$f":"SUM(BB133:BB136)","v":0},{"$f":"SUM(BC133:BC136)","v":0},{"$f":"SUM(BD133:BD136)","v":0},{"$f":"SUM(BE133:BE136)","v":0}]
["Díl:","8","Trubní vedení",null,null,null,null,null,null,null,null,null,null,null,1]
[25,"871373121R00","Montáž trub z plastu, gumový kroužek, DN 300 ","m",60.3,null,{"$f":"E139*F139","v":0},1.0000000000000001E-5,{"$f":"E139*H139","v":6.0300000000000002E-4},0,{"$f":"E139*J139","v":0},null,null,null,2,null,null,null,null,null,null,null,null,null,null,null,1,1,1,null,null,null,null,null,null,null,null,null,null,null,null,null,null,null,null,null,null,null,null,null,null,1,{"$f":"IF(AZ139=1,G139,0)","v":0},{"$f":"IF(AZ139=2,G139,0)","v":0},{"$f":"IF(AZ139=3,G139,0)","v":0},{"$f":"IF(AZ139=4,G139,0)","v":0},{"$f":"IF(AZ139=5,G139,0)","v":0},null,null,null,null,null,null,null,null,null,null,null,null,null,null,null,null,null,null,null,null,null,1,1]
[null,null,"Stoka \"H\" PVC DN250:60,30",null,60.3,null,null,null,null,null,null,null,"Stoka \"H\" PVC DN250:60,30"]
[26,"892601154R00","Čištění kanalizační stoky do DN 500, nad 100 m ","m",60.3,null,{"$f":"E141*F141","v":0},0,{"$f":"E141*H141","v":0},0,{"$f":"E141*J141","v":0},null,null,null,2,null,null,null,null,null,null,null,null,null,null,null,1,0,0,null,null,null,null,null,null,null,null,null,null,null,null,null,null,null,null,null,null,null,null,null,null,1,{"$f":"IF(AZ141=1,G141,0)","v":0},{"$f":"IF(AZ141=2,G141,0)","v":0},{"$f":"IF(AZ141=3,G141,0)","v":0},{"$f":"IF(AZ141=4,G141,0)","v":0},{"$f":"IF(AZ141=5,G141,0)","v":0},null,null,null,null,null,null,null,null,null,null,null,null,null,null,null,null,null,null,null,null,null,1,0]
[null,null,"V položce je zakalkulováno:",null,null,null,null,null,null,null,null,"V položce je zakalkulováno:",null,null,3]
[null,null,"a) otevření a uzavření revizních šachet a čisticích kusů",null,null,null,null,null,null,null,null,"a) otevření a uzavření revizních šachet a čisticích kusů",null,null,3]
[null,null,"b) natažení vysokotlakých hadic k místu odkud se bude kanalizace čistit",null,null,null,null,null,null,null,null,"b) natažení vysokotlakých hadic k místu odkud se bude kanalizace čistit",null,null,3]
[null,null,"c) vyčištění potrubí tlakovou vodou nebo motorovým pérem.",null,null,null,null,null,null,null,null,"c) vyčištění potrubí tlakovou vodou nebo motorovým pérem.",null,null,3]
[null,null,"Stoka \"H\" PVC DN250:60,30",null,60.3,null,null,null,null,null,null,null,"Stoka \"H\" PVC DN250:60,30"]
[27,"892855115R00","Kontrola kanalizace TV kamerou do 500 m ","m",120.6,null,{"$f":"E147*F147","v":0},0,{"$f":"E147*H147","v":0},0,{"$f":"E147*J147","v":0},null,null,null,2,null,null,null,null,null,null,null,null,null,null,null,1,1,1,null,null,null,null,null,null,null,null,null,null,null,null,null,null,null,null,null,null,null,null,null,null,1,{"$f":"IF(AZ147=1,G147,0)","v":0},{"$f":"IF(AZ147=2,G147,0)","v":0},{"$f":"IF(AZ147=3,G147,0)","v":0},{"$f":"IF(AZ147=4,G147,0)","v":0},{"$f":"IF(AZ147=5,G147,0)","v":0},null,null,null,null,null,null,null,null,null,null,null,null,null,null,null,null,null,null,null,null,null,1,1]
[null,null,"Provedení kaberové prohlídky včetně dodání elektronického záznamu na CD zadavateli a tištěné dokumentace průběhu kamerové prohlídky",null,null,null,null,null,null,null,null,"Provedení kaberové prohlídky včetně dodání elektronického záznamu na CD zadavateli a tištěné dokumentace průběhu kamerové prohlídky",null,null,3]
[null,null,"Stoka \"H\" PVC DN250:60,30*2",null,120.6,null,null,null,null,null,null,null,"Stoka \"H\" PVC DN250:60,30*2"]
[28,"894421111RT1","Osazení betonových dílců šachet skruže rovné, na kroužek, do 0,5 t","kus",2,null,{"$f":"E150*F150","v":0},0,{"$f":"E150*H150","v":0},0,{"$f":"E150*J150","v":0},null,null,null,2,null,null,null,null,null,null,null,null,null,null,null,1,1,1,null,null,null,null,null,null,null,null,null,null,null,null,null,null,null,null,null,null,null,null,null,null,1,{"$f":"IF(AZ150=1,G150,0)","v":0},{"$f":"IF(AZ150=2,G150,0)","v":0},{"$f":"IF(AZ150=3,G150,0)","v":0},{"$f":"IF(AZ150=4,G150,0)","v":0},{"$f":"IF(AZ150=5,G150,0)","v":0},null,null,null,null,null,null,null,null,null,null,null,null,null,null,null,null,null,null,null,null,null,1,1]
[null,null,"Položka je určena pro osazení betonových dílců šachet dle DIN 4034, skruže rovné na kroužek, hmotnost do 0,5 t.",null,null,null,null,null,null,null,null,"Položka je určena pro osazení betonových dílců šachet dle DIN 4034, skruže rovné na kroužek, hmotnost do 0,5 t.",null,null,3]
[null,null,"V položce nejsou zakalkulovány náklady na dodání betonových dílců; dílce se oceňují ve specifikaci.",null,null,null,null,null,null,null,null,"V položce nejsou zakalkulovány náklady na dodání betonových dílců; dílce se oceňují ve specifikaci.",null,null,3]
[null,null,"Stoka \"H\" PVC DN250:",null,0,null,null,null,null,null,null,null,"Stoka \"H\" PVC DN250:"]
[null,null,"Skruž H250:2",null,2,null,null,null,null,null,null,null,"Skruž H250:2"]
[29,"894421112RT1","Osazení betonových dílců šachet skruže rovné, na kroužek, do 1,4 t","kus",1,null,{"$f":"E155*F155","v":0},0,{"$f":"E155*H155","v":0},0,{"$f":"E155*J155","v":0},null,null,null,2,null,null,null,null,null,null,null,null,null,null,null,1,1,1,null,null,null,null,null,null,null,null,null,null,null,null,null,null,null,null,null,null,null,null,null,null,1,{"$f":"IF(AZ155=1,G155,0)","v":0},{"$f":"IF(AZ155=2,G155,0)","v":0},{"$f":"IF(AZ155=3,G155,0)","v":0},{"$f":"IF(AZ155=4,G155,0)","v":0},{"$f":"IF(AZ155=5,G155,0)","v":0},null,null,null,null,null,null,null,null,null,null,null,null,null,null,null,null,null,null,null,null,null,1,1]
[null,null,"Položka je určena pro osazení betonových dílců šachet dle DIN 4034, skruže rovné na kroužek, hmotnost přes 0,5 do 1,4 t.",null,null,null,null,null,null,null,null,"Položka je určena pro osazení betonových dílců šachet dle DIN 4034, skruže rovné na kroužek, hmotnost přes 0,5 do 1,4 t.",null,null,3]
[null,null,"V položce nejsou zakalkulovány náklady na dodání betonových dílců; dílce se oceňují ve specifikaci.",null,null,null,null,null,null,null,null,"V položce nejsou zakalkulovány náklady na dodání betonových dílců; dílce se oceňují ve specifikaci.",null,null,3]
[null,null,"Stoka \"H\" PVC DN250:",null,0,null,null,null,null,null,null,null,"Stoka \"H\" PVC DN250:"]
[null,null,"Skruž H1000:1",null,1,null,null,null,null,null,null,null,"Skruž H1000:1"]
[30,"894422111RT1","Osazení betonových dílců šachet skruže přechodové, na kroužek","kus",3,null,{"$f":"E160*F160","v":0},0,{"$f":"E160*H160","v":0},0,{"$f":"E160*J160","v":0},null,null,null,2,null,null,null,null,null,null,null,null,null,null,null,1,1,1,null,null,null,null,null,null,null,null,null,null,null,null,null,null,null,null,null,null,null,null,null,null,1,{"$f":"IF(AZ160=1,G160,0)","v":0},{"$f":"IF(AZ160=2,G160,0)","v":0},{"$f":"IF(AZ160=3,G160,0)","v":0},{"$f":"IF(AZ160=4,G160,0)","v":0},{"$f":"IF(AZ160=5,G160,0)","v":0},null,null,null,null,null,null,null,null,null,null,null,null,null,null,null,null,null,null,null,null,null,1,1]
[null,null,"Položka je určena pro osazení betonových dílců šachet dle DIN 4034, skruže přechodové, zákrytové, kónusy,... na kroužek.",null,null,null,null,null,null,null,null,"Položka je určena pro osazení betonových dílců šachet dle DIN 4034, skruže přechodové, zákrytové, kónusy,... na kroužek.",null,null,3]
[null,null,"Stoka \"H\" PVC DN250:",null,0,null,null,null,null,null,null,null,"Stoka \"H\" PVC DN250:"]
[null,null,"Kónus H580:3",null,3,null,null,null,null,null,null,null,"Kónus H580:3"]
[31,"894423111RT1","Osazení betonových dílců šachet do 2,0 t šachtová dna, na kroužek, do 2,0 t","kus",3,null,{"$f":"E164*F164","v":0},0,{"$f":"E164*H164","v":0},0,{"$f":"E164*J164","v":0},null,null,null,2,null,null,null,null,null,null,null,null,null,null,null,1,1,1,null,null,null,null,null,null,null,null,null,null,null,null,null,null,null,null,null,null,null,null,null,null,1,{"$f":"IF(AZ164=1,G164,0)","v":0},{"$f":"IF(AZ164=2,G164,0)","v":0},{"$f":"IF(AZ164=3,G164,0)","v":0},{"$f":"IF(AZ164=4,G164,0)","v":0},{"$f":"IF(AZ164=5,G164,0)","v":0},null,null,null,null,null,null,null,null,null,null,null,null,null,null,null,null,null,null,null,null,null,1,1]
[null,null,"Položka je určena pro osazení betonových dílců šachet dle DIN 4034, šachtová dna na kroužek, hmotnost do 2,0 t.",null,null,null,null,null,null,null,null,"Položka je určena pro osazení betonových dílců šachet dle DIN 4034, šachtová dna na kroužek, hmotnost do 2,0 t.",null,null,3]
[null,null,"V položce nejsou zakalkulovány náklady na dodání betonových dílců;",null,null,null,null,null,null,null,null,"V položce nejsou zakalkulovány náklady na dodání betonových dílců;",null,null,3]
[null,null,"Součástí položky je i podbetonování šachtového dna betonem C12/15 v min. tl. 10 cm.",null,null,null,null,null,null,null,null,"Součástí položky je i podbetonování šachtového dna betonem C12/15 v min. tl. 10 cm.",null,null,3]
[null,null,"Stoka \"H\" PVC DN250:",null,0,null,null,null,null,null,null,null,"Stoka \"H\" PVC DN250:"]
[null,null,"ŠD H575:3",null,3,null,null,null,null,null,null,null,"ŠD H575:3"]
[32,"899102111R00","Osazení poklopu s rámem do 100 kg ","kus",3,null,{"$f":"E170*F170","v":0},7.0200000000000002E-3,{"$f":"E170*H170","v":2.1060000000000002E-2},0,{"$f":"E170*J170","v":0},null,null,null,2,null,null,null,null,null,null,null,null,null,null,null,1,1,1,null,null,null,null,null,null,null,null,null,null,null,null,null,null,null,null,null,null,null,null,null,null,1,{"$f":"IF(AZ170=1,G170,0)","v":0},{"$f":"IF(AZ170=2,G170,0)","v":0},{"$f":"IF(AZ170=3,G170,0)","v":0},{"$f":"IF(AZ170=4,G170,0)","v":0},{"$f":"IF(AZ170=5,G170,0)","v":0},null,null,null,null,null,null,null,null,null,null,null,null,null,null,null,null,null,null,null,null,null,1,1]
[null,null,"Osazení provizorních poklopů během realizace stavby  (nefakturovaný materiál zhotovitele)",null,null,null,null,null,null,null,null,"Osazení provizorních poklopů během realizace stavby  (nefakturovaný materiál zhotovitele)",null,null,3]
[33,"899711122R00","Fólie výstražná z PVC šedá, šířka 30 cm ","m",60.3,null,{"$f":"E172*F172","v":0},0,{"$f":"E172*H172","v":0},0,{"$f":"E172*J172","v":0},null,null,null,2,null,null,null,null,null,null,null,null,null,null,null,1,1,1,null,null,null,null,null,null,null,null,null,null,null,null,null,null,null,null,null,null,null,null,null,null,1,{"$f":"IF(AZ172=1,G172,0)","v":0},{"$f":"IF(AZ172=2,G172,0)","v":0},{"$f":"IF(AZ172=3,G172,0)","v":0},{"$f":"IF(AZ172=4,G172,0)","v":0},{"$f":"IF(AZ172=5,G172,0)","v":0},null,null,null,null,null,null,null,null,null,null,null,null,null,null,null,null,null,null,null,null,null,1,1]
[null,null,"Stoka \"H\" PVC DN250:60,30",null,60.3,null,null,null,null,null,null,null,"Stoka \"H\" PVC DN250:60,30"]
[34,"286111923.A.R","Trubka kanalizační PVC QUANTUM SN 12 DN 250","kus",62.109000000000002,null,{"$f":"E174*F174","v":0},8.2000000000000007E-3,{"$f":"E174*H174","v":0.50929380000000002},null,{"$f":"E174*J174","v":0},null,null,null,2,null,null,null,null,null,null,null,null,null,null,null,3,1,"286111923.A.R",null,null,null,null,null,null,null,null,null,null,null,null,null,null,null,null,null,null,null,null,null,null,1,{"$f":"IF(AZ174=1,G174,0)","v":0},{"$f":"IF(AZ174=2,G174,0)","v":0},{"$f":"IF(AZ174=3,G174,0)","v":0},{"$f":"IF(AZ174=4,G174,0)","v":0},{"$f":"IF(AZ174=5,G174,0)","v":0},null,null,null,null,null,null,null,null,null,null,null,null,null,null,null,null,null,null,null,null,null,3,1]
[null,null,"Jedná  se  o  plnostěnné kanalizační trubky DN 150 – DN 400, SN 12 kN/m2 , zvenčí  i  zevnitř  hladké. Jsou  opatřeny hrdlem,  v  němž  je  vložen vysoce  elastický  jazýčkový  kroužek.  konce  trubek  (dříků)  jsou opatřeny  zkosením  pod  úhlem  15°.  Způsob  použití  trubek  je  „U“  dle  normy  ČSN  EN  1401-1, tj. mimo budovy. Spolehlivá  funkce  těsnění  je  jištěna  výztužným  kroužkem  z  elastomeru.  Je  tak  zamezeno  vypad-nutí nebo vytlačení kroužku při manipulaci a montáži. Tento systém zaručuje při správné montáži ",null,null,null,null,null,null,null,null,"Jedná  se  o  plnostěnné kanalizační trubky DN 150 – DN 400, SN 12 kN/m2 , zvenčí  i  zevnitř  hladké. Jsou  opatřeny hrdlem,  v  němž  je  vložen vysoce  elastický  jazýčkový  kroužek.  konce  trubek  (dříků)  jsou opatřeny  zkosením  pod  úhlem  15°.  Způsob  použití  trubek  je  „U“  dle  normy  ČSN  EN  1401-1, tj. mimo budovy. Spolehlivá  funkce  těsnění  je  jištěna  výztužným  kroužkem  z  elastomeru.  Je  tak  zamezeno  vypad-nutí nebo vytlačení kroužku při manipulaci a montáži. Tento systém zaručuje při správné montáži ",null,null,3]
[null,null,"dokonalou  těsnost  do  výšky  vodního  sloupce  5  metrů.",null,null,null,null,null,null,null,null,"dokonalou  těsnost  do  výšky  vodního  sloupce  5  metrů.",null,null,3]
[null,null,"Stoka \"H\" PVC DN250:60,30*1,03",null,62.109000000000002,null,null,null,null,null,null,null,"Stoka \"H\" PVC DN250:60,30*1,03"]
[35,"592243543.R","Kónus šachetní TBR-Q.1 100x63/58/12 KPS","kus",3.03,null,{"$f":"E178*F178","v":0},0.58499999999999996,{"$f":"E178*H178","v":1.7725499999999998},null,{"$f":"E178*J178","v":0},null,null,null,2,null,null,null,null,null,null,null,null,null,null,null,3,1,"592243543.R",null,null,null,null,null,null,null,null,null,null,null,null,null,null,null,null,null,null,null,null,null,null,1,{"$f":"IF(AZ178=1,G178,0)","v":0},{"$f":"IF(AZ178=2,G178,0)","v":0},{"$f":"IF(AZ178=3,G178,0)","v":0},{"$f":"IF(AZ178=4,G178,0)","v":0},{"$f":"IF(AZ178=5,G178,0)","v":0},null,null,null,null,null,null,null,null,null,null,null,null,null,null,null,null,null,null,null,null,null,3,1]
[null,null,"Stoka \"H\" PVC DN250:",null,0,null,null,null,null,null,null,null,"Stoka \"H\" PVC DN250:"]
[null,null,"Kónus H580:3*1,01",null,3.03,null,null,null,null,null,null,null,"Kónus H580:3*1,01"]
[36,"59224358.A.R","Skruž šachetní TBS-Q.1 100/25/12 PS","kus",2.02,null,{"$f":"E181*F181","v":0},0.25,{"$f":"E181*H181","v":0.505},null,{"$f":"E181*J181","v":0},null,null,null,2,null,null,null,null,null,null,null,null,null,null,null,3,1,"59224358.A.R",null,null,null,null,null,null,null,null,null,null,null,null,null,null,null,null,null,null,null,null,null,null,1,{"$f":"IF(AZ181=1,G181,0)","v":0},{"$f":"IF(AZ181=2,G181,0)","v":0},{"$f":"IF(AZ181=3,G181,0)","v":0},{"$f":"IF(AZ181=4,G181,0)","v":0},{"$f":"IF(AZ181=5,G181,0)","v":0},null,null,null,null,null,null,null,null,null,null,null,null,null,null,null,null,null,null,null,null,null,3,1]
[null,null,"Stoka \"H\" PVC DN250:",null,0,null,null,null,null,null,null,null,"Stoka \"H\" PVC DN250:"]
[null,null,"Skruž H250:2*1,01",null,2.02,null,null,null,null,null,null,null,"Skruž H250:2*1,01"]
[37,"59224364.A.R","Skruž šachetní TBS-Q.1 100/100/12 PS","kus",1.01,null,{"$f":"E184*F184","v":0},1,{"$f":"E184*H184","v":1.01},null,{"$f":"E184*J184","v":0},null,null,null,2,null,null,null,null,null,null,null,null,null,null,null,3,1,"59224364.A.R",null,null,null,null,null,null,null,null,null,null,null,null,null,null,null,null,null,null,null,null,null,null,1,{"$f":"IF(AZ184=1,G184,0)","v":0},{"$f":"IF(AZ184=2,G184,0)","v":0},{"$f":"IF(AZ184=3,G184,0)","v":0},{"$f":"IF(AZ184=4,G184,0)","v":0},{"$f":"IF(AZ184=5,G184,0)","v":0},null,null,null,null,null,null,null,null,null,null,null,null,null,null,null,null,null,null,null,null,null,3,1]
[null,null,"Stoka \"H\" PVC DN250:",null,0,null,null,null,null,null,null,null,"Stoka \"H\" PVC DN250:"]
[null,null,"Skruž H1000:1*1,01",null,1.01,null,null,null,null,null,null,null,"Skruž H1000:1*1,01"]
[38,"59224371.A.R","Dno šachetní TBZ-Q.1 100/58 KOM V20 včetně kynety dle PD","kus",3.03,null,{"$f":"E187*F187","v":0},1.27,{"$f":"E187*H187","v":3.8480999999999996},null,{"$f":"E187*J187","v":0},null,null,null,2,null,null,null,null,null,null,null,null,null,null,null,3,1,"59224371.A.R",null,null,null,null,null,null,null,null,null,null,null,null,null,null,null,null,null,null,null,null,null,null,1,{"$f":"IF(AZ187=1,G187,0)","v":0},{"$f":"IF(AZ187=2,G187,0)","v":0},{"$f":"IF(AZ187=3,G187,0)","v":0},{"$f":"IF(AZ187=4,G187,0)","v":0},{"$f":"IF(AZ187=5,G187,0)","v":0},null,null,null,null,null,null,null,null,null,null,null,null,null,null,null,null,null,null,null,null,null,3,1]
[null,null,"Stoka \"H\" PVC DN250:",null,0,null,null,null,null,null,null,null,"Stoka \"H\" PVC DN250:"]
[null,null,"ŠD H575:3*1,01",null,3.03,null,null,null,null,null,null,null,"ŠD H575:3*1,01"]
[39,"59224380.R","Těsnění elastom pro šach díly EMT 100/1.7 - DN1000","kus",6.06,null,{"$f":"E190*F190","v":0},2E-3,{"$f":"E190*H190","v":1.2119999999999999E-2},null,{"$f":"E190*J190","v":0},null,null,null,2,null,null,null,null,null,null,null,null,null,null,null,3,1,"59224380.R",null,null,null,null,null,null,null,null,null,null,null,null,null,null,null,null,null,null,null,null,null,null,1,{"$f":"IF(AZ190=1,G190,0)","v":0},{"$f":"IF(AZ190=2,G190,0)","v":0},{"$f":"IF(AZ190=3,G190,0)","v":0},{"$f":"IF(AZ190=4,G190,0)","v":0},{"$f":"IF(AZ190=5,G190,0)","v":0},null,null,null,null,null,null,null,null,null,null,null,null,null,null,null,null,null,null,null,null,null,3,1]
[null,null,"Stoka \"H\" PVC DN250:",null,0,null,null,null,null,null,null,null,"Stoka \"H\" PVC DN250:"]
[null,null,"Těsnění DN1000:6*1,01",null,6.06,null,null,null,null,null,null,null,"Těsnění DN1000:6*1,01"]
[null,"Celkem za","8 Trubní vedení",null,null,null,{"$f":"SUM(G138:G192)","v":0},null,{"$f":"SUM(I138:I192)","v":7.6787267999999997},null,{"$f":"SUM(K138:K192)","v":0},null,null,null,4,null,null,null,null,null,null,null,null,null,null,null,null,null,null,null,null,null,null,null,null,null,null,null,null,null,null,null,null,null,null,null,null,null,null,null,null,null,{"$f":"SUM(BA138:BA192)","v":0},{"$f":"SUM(BB138:BB192)","v":0},{"$f":"SUM(BC138:BC192)","v":0},{"$f":"SUM(BD138:BD192)","v":0},{"$f":"SUM(BE138:BE192)","v":0}]
["Díl:","93","Dokončovací práce inženýrských staveb",null,null,null,null,null,null,null,null,null,null,null,1]
[40,"939421111RT1","Osazení samonivelač.kanalizač.poklopu za finišerem bez dodávky poklopu","kus",3,null,{"$f":"E195*F195","v":0},0.15425,{"$f":"E195*H195","v":0.46274999999999999},0,{"$f":"E195*J195","v":0},null,null,null,2,null,null,null,null,null,null,null,null,null,null,null,1,0,0,null,null,null,null,null,null,null,null,null,null,null,null,null,null,null,null,null,null,null,null,null,null,1,{"$f":"IF(AZ195=1,G195,0)","v":0},{"$f":"IF(AZ195=2,G195,0)","v":0},{"$f":"IF(AZ195=3,G195,0)","v":0},{"$f":"IF(AZ195=4,G195,0)","v":0},{"$f":"IF(AZ195=5,G195,0)","v":0},null,null,null,null,null,null,null,null,null,null,null,null,null,null,null,null,null,null,null,null,null,1,0]
[null,null,"Položka obsahuje:",null,null,null,null,null,null,null,null,"Položka obsahuje:",null,null,3]
[null,null," osazení prefabrikovaného betonového prstence do rychletuhnoucí vysokopevnostní malty (s dodávkou hmot)",null,null,null,null,null,null,null,null,"- osazení prefabrikovaného betonového prstence do rychletuhnoucí malty (s dodávkou hmot)",null,null,3]
[null,null,"- zalití prstence rychletuhnoucí zálivkou do výše prstence (s dodávkou hmoty)",null,null,null,null,null,null,null,null,"- zalití prstence rychletuhnoucí zálivkou do výše prstence (s dodávkou hmoty)",null,null,3]
[null,null,"- vložení kruhového bednění",null,null,null,null,null,null,null,null,"- vložení kruhového bednění",null,null,3]
[null,null,"- doplnění mezikruží asfaltovou směsí do výšky současné podkladní vrstvy, zhutnění",null,null,null,null,null,null,null,null,"- doplnění mezikruží asfaltovou směsí do výšky současné podkladní vrstvy, zhutnění",null,null,3]
[null,null,"- vyjmutí kruhového bednění",null,null,null,null,null,null,null,null,"- vyjmutí kruhového bednění",null,null,3]
[null,null,"- osazení poklopu a zatlačení",null,null,null,null,null,null,null,null,"- osazení poklopu a zatlačení",null,null,3]
[null,null,"  (následuje pokládka finální vrstvy vozovky - není součástí položky)",null,null,null,null,null,null,null,null,"  (následuje pokládka finální vrstvy vozovky - není součástí položky)",null,null,3]
[null,null,"- povytažení poklopu",null,null,null,null,null,null,null,null,"- povytažení poklopu",null,null,3]
[null,null,"- podsyp asfaltovou směsí, spuštění poklopu a zhutnění směsi",null,null,null,null,null,null,null,null,"- podsyp asfaltovou směsí, spuštění poklopu a zhutnění směsi",null,null,3]
[41,"55244414.R","Poklop celolitinový v samonivelační rámu KDM65 D400 SN600","kus",3,null,{"$f":"E206*F206","v":0},0.113,{"$f":"E206*H206","v":0.33900000000000002},null,{"$f":"E206*J206","v":0},null,null,null,2,null,null,null,null,null,null,null,null,null,null,null,3,1,"55244414.R",null,null,null,null,null,null,null,null,null,null,null,null,null,null,null,null,null,null,null,null,null,null,1,{"$f":"IF(AZ206=1,G206,0)","v":0},{"$f":"IF(AZ206=2,G206,0)","v":0},{"$f":"IF(AZ206=3,G206,0)","v":0},{"$f":"IF(AZ206=4,G206,0)","v":0},{"$f":"IF(AZ206=5,G206,0)","v":0},null,null,null,null,null,null,null,null,null,null,null,null,null,null,null,null,null,null,null,null,null,3,1]
[null,null,"Kanalizační kruhový celolitinový samonivelační poklop bez pantu, horizontální PUR tlumící vložka na rámu, horizontální a vertikální  PUR tlumící vložka na víku, bez pružinového zajištění víka v rámu ",null,null,null,null,null,null,null,null,"Kanalizační kruhový celolitinový samonivelační poklop bez pantu, horizontální PUR tlumící vložka na rámu, horizontální a vertikální  PUR tlumící vložka na víku, bez pružinového zajištění víka v rámu ",null,null,3]
[null,null,"KDM65 bez ventilace nebo s ventilací dle TS VHS Turnov",null,null,null,null,null,null,null,null,"KDM65 bez ventilace nebo s ventilací dle TS VHS Turnov",null,null,3]
[null,null,"Víko se znakem Města ",null,null,null,null,null,null,null,null,"Víko se znakem Města ",null,null,3]
[null,"Celkem za","93 Dokončovací práce inženýrských staveb",null,null,null,{"$f":"SUM(G194:G209)","v":0},null,{"$f":"SUM(I194:I209)","v":0.80174999999999996},null,{"$f":"SUM(K194:K209)","v":0},null,null,null,4,null,null,null,null,null,null,null,null,null,null,null,null,null,null,null,null,null,null,null,null,null,null,null,null,null,null,null,null,null,null,null,null,null,null,null,null,null,{"$f":"SUM(BA194:BA209)","v":0},{"$f":"SUM(BB194:BB209)","v":0},{"$f":"SUM(BC194:BC209)","v":0},{"$f":"SUM(BD194:BD209)","v":0},{"$f":"SUM(BE194:BE209)","v":0}]
["Díl:","99","Staveništní přesun hmot",null,null,null,null,null,null,null,null,null,null,null,1]
[42,"998276101RXX","Přesun hmot, trubní vedení plastová, otevř. výkop pro celý rozsah objektu","t",215.59883345,null,{"$f":"E212*F212","v":0},0,{"$f":"E212*H212","v":0},null,{"$f":"E212*J212","v":0},null,null,null,2,null,null,null,null,null,null,null,null,null,null,null,7,1,2,null,null,null,null,null,null,null,null,null,null,null,null,null,null,null,null,null,null,null,null,null,null,1,{"$f":"IF(AZ212=1,G212,0)","v":0},{"$f":"IF(AZ212=2,G212,0)","v":0},{"$f":"IF(AZ212=3,G212,0)","v":0},{"$f":"IF(AZ212=4,G212,0)","v":0},{"$f":"IF(AZ212=5,G212,0)","v":0},null,null,null,null,null,null,null,null,null,null,null,null,null,null,null,null,null,null,null,null,null,7,1]
[null,null,"Staveništní doprava pro celý rozsah objektu - doprava zmeziskládek vybudovaného zařízení staveniště zhotovitele na jednotlivé části staveniště.",null,null,null,null,null,null,null,null,"Staveništní doprava pro celý rozsah objektu - doprava zmeziskládek vybudovaného zařízení staveniště zhotovitele na jednotlivé části staveniště.",null,null,3]
[null,"Celkem za","99 Staveništní přesun hmot",null,null,null,{"$f":"SUM(G211:G213)","v":0},null,{"$f":"SUM(I211:I213)","v":0},null,{"$f":"SUM(K211:K213)","v":0},null,null,null,4,null,null,null,null,null,null,null,null,null,null,null,null,null,null,null,null,null,null,null,null,null,null,null,null,null,null,null,null,null,null,null,null,null,null,null,null,null,{"$f":"SUM(BA211:BA213)","v":0},{"$f":"SUM(BB211:BB213)","v":0},{"$f":"SUM(BC211:BC213)","v":0},{"$f":"SUM(BD211:BD213)","v":0},{"$f":"SUM(BE211:BE213)","v":0}]

{"sheet":"01 01.33 KL","index":19,"n_rows":45,"n_cols":8,"rows_kept":45,"cut":false,"hidden":false,"merged":[[22,0,22,1],[7,2,7,4],[8,2,8,4],[9,2,9,4],[10,2,10,4],[11,2,11,4],[50,1,50,6],[29,5,29,6],[30,5,30,6],[31,5,31,6],[32,5,32,6],[33,5,33,6],[36,1,44,6],[45,1,45,6],[46,1,46,6],[47,1,47,6],[48,1,48,6],[49,1,49,6]]}
["POLOŽKOVÝ ROZPOČET"]
["Rozpočet",null,"01.33","Stoka \"I\" km 0,000 - 0,027.8",null,"JKSO ","827.21.A3"]
[]
["Objekt",null,null,null,null,"SKP "]
["01",null,"Kanalizace",null,null,"Měrná jednotka","m"]
["Stavba",null,null,null,null,"Počet jednotek",0]
["3395",null,"Kanalizace a ČOV Benešov u Semil",null,null,"Náklady na m.j.",{"$f":"IF(G6=0,,ROUND((F30+F32)/G6,1))","v":0}]
["Projektant",null,"Vodohospodářský rozvoj a výstavba a.s.",null,null,"Typ rozpočtu"]
["Zpracovatel projektu"]
["Objednatel",null,"Vodohospodářské sdružení Turnov"]
["Dodavatel",null,".",null,null,"Zakázkové číslo "]
["Rozpočtoval",null,null,null,null,"Počet listů"]
["ROZPOČTOVÉ NÁKLADY"]
["Základní rozpočtové náklady"]
[null,"HSV celkem",{"$f":"'01 01.33 Rek'!E13","v":0}]
["Z","PSV celkem",{"$f":"'01 01.33 Rek'!F13","v":0}]
["R","M práce celkem",{"$f":"'01 01.33 Rek'!H13","v":0}]
["N","M dodávky celkem",{"$f":"'01 01.33 Rek'!G13","v":0}]
["ZRN celkem",null,{"$f":"SUM(C15:C18)","v":0}]
[]
["HZS",null,{"$f":"'01 01.33 Rek'!I13","v":0}]
["ZRN+HZS",null,{"$f":"C19+C21","v":0}]
["ZRN+ost.náklady+HZS",null,{"$f":"C22+G23","v":0}]
["Vypracoval",null,null,"Za zhotovitele",null,"Za objednatele"]
["Jméno :",null,null,"Jméno :",null,"Jméno :"]
["Datum :",null,null,"Datum :",null,"Datum :"]
[]
["Podpis :",null,null,"Podpis:",null,"Podpis:"]
[]
["Základ pro DPH",null,21,"%  ",null,{"$f":"C23-F32","v":0}]
["DPH",null,{"$f":"C30","v":21},"% ",null,{"$f":"ROUND(PRODUCT(F30,C31/100),0)","v":0}]
["Základ pro DPH",null,0,"% ",null,0]
["DPH",null,{"$f":"C32","v":0},"% ",null,{"$f":"ROUND(PRODUCT(F32,C33/100),0)","v":0}]
["CENA ZA OBJEKT CELKEM",null,null,null,null,{"$f":"ROUND(SUM(F30:F33),0)","v":0}]
[]
["Poznámka :",null,null,null,null,null,null," "]
[null,null,null,null,null,null,null," "]
[null,null,null,null,null,null,null," "]
[null,null,null,null,null,null,null," "]
[null,null,null,null,null,null,null," "]
[null,null,null,null,null,null,null," "]
[null,null,null,null,null,null,null," "]
[null,null,null,null,null,null,null," "]
[null,null,null,null,null,null,null," "]
[null,null,null,null,null,null,null," "]

{"sheet":"01 01.33 Rek","index":20,"n_rows":13,"n_cols":9,"rows_kept":13,"cut":false,"hidden":false,"merged":[[0,0,0,1],[1,0,1,1],[1,6,1,8]]}
["Stavba :",null,"3395 Kanalizace a ČOV Benešov u Semil",null,null,null,"Rozpočet :","01.33"]
["Objekt :",null,"01 Kanalizace",null,null,null,"Stoka \"I\" km 0,000 - 0,027.8"]
[]
["REKAPITULACE  STAVEBNÍCH  DÍLŮ"]
[]
[null,"Stavební díl",null,null,"HSV","PSV","Dodávka","Montáž","HZS"]
[{"$f":"'01 01.33 Pol'!B7","v":"1"},{"$f":"'01 01.33 Pol'!C7","v":"Zemní práce"},null,null,{"$f":"'01 01.33 Pol'!BA89","v":0},{"$f":"'01 01.33 Pol'!BB89","v":0},{"$f":"'01 01.33 Pol'!BC89","v":0},{"$f":"'01 01.33 Pol'!BD89","v":0},{"$f":"'01 01.33 Pol'!BE89","v":0}]
[{"$f":"'01 01.33 Pol'!B90","v":"21"},{"$f":"'01 01.33 Pol'!C90","v":"Úprava podloží a základ.spáry"},null,null,{"$f":"'01 01.33 Pol'!BA94","v":0},{"$f":"'01 01.33 Pol'!BB94","v":0},{"$f":"'01 01.33 Pol'!BC94","v":0},{"$f":"'01 01.33 Pol'!BD94","v":0},{"$f":"'01 01.33 Pol'!BE94","v":0}]
[{"$f":"'01 01.33 Pol'!B95","v":"45"},{"$f":"'01 01.33 Pol'!C95","v":"Podkladní a vedlejší konstrukce"},null,null,{"$f":"'01 01.33 Pol'!BA113","v":0},{"$f":"'01 01.33 Pol'!BB113","v":0},{"$f":"'01 01.33 Pol'!BC113","v":0},{"$f":"'01 01.33 Pol'!BD113","v":0},{"$f":"'01 01.33 Pol'!BE113","v":0}]
[{"$f":"'01 01.33 Pol'!B114","v":"8"},{"$f":"'01 01.33 Pol'!C114","v":"Trubní vedení"},null,null,{"$f":"'01 01.33 Pol'!BA171","v":0},{"$f":"'01 01.33 Pol'!BB171","v":0},{"$f":"'01 01.33 Pol'!BC171","v":0},{"$f":"'01 01.33 Pol'!BD171","v":0},{"$f":"'01 01.33 Pol'!BE171","v":0}]
[{"$f":"'01 01.33 Pol'!B172","v":"93"},{"$f":"'01 01.33 Pol'!C172","v":"Dokončovací práce inženýrských staveb"},null,null,{"$f":"'01 01.33 Pol'!BA188","v":0},{"$f":"'01 01.33 Pol'!BB188","v":0},{"$f":"'01 01.33 Pol'!BC188","v":0},{"$f":"'01 01.33 Pol'!BD188","v":0},{"$f":"'01 01.33 Pol'!BE188","v":0}]
[{"$f":"'01 01.33 Pol'!B189","v":"99"},{"$f":"'01 01.33 Pol'!C189","v":"Staveništní přesun hmot"},null,null,{"$f":"'01 01.33 Pol'!BA192","v":0},{"$f":"'01 01.33 Pol'!BB192","v":0},{"$f":"'01 01.33 Pol'!BC192","v":0},{"$f":"'01 01.33 Pol'!BD192","v":0},{"$f":"'01 01.33 Pol'!BE192","v":0}]
[null,"CELKEM  OBJEKT",null,null,{"$f":"SUM(E7:E12)","v":0},{"$f":"SUM(F7:F12)","v":0},{"$f":"SUM(G7:G12)","v":0},{"$f":"SUM(H7:H12)","v":0},{"$f":"SUM(I7:I12)","v":0}]

{"sheet":"01 01.33 Pol","index":21,"n_rows":192,"n_cols":80,"rows_kept":192,"cut":false,"hidden":false,"merged":[[14,2,14,6],[15,2,15,6],[16,2,16,3],[17,2,17,3],[18,2,18,3],[20,2,20,6],[0,0,0,6],[2,0,2,1],[3,0,3,1],[3,4,3,6],[8,2,8,6],[9,2,9,6],[11,2,11,3],[12,2,12,3],[27,2,27,3],[28,2,28,3],[29,2,29,3],[30,2,30,3],[32,2,32,3],[33,2,33,3],[21,2,21,3],[22,2,22,3],[23,2,23,3],[24,2,24,3],[25,2,25,3],[26,2,26,3],[42,2,42,3],[43,2,43,3],[45,2,45,6],[46,2,46,3],[47,2,47,3],[48,2,48,3],[34,2,34,3],[36,2,36,6],[37,2,37,3],[38,2,38,3],[39,2,39,3],[41,2,41,3],[57,2,57,3],[58,2,58,3],[60,2,60,3],[61,2,61,3],[62,2,62,3],[63,2,63,3],[50,2,50,3],[51,2,51,3],[52,2,52,3],[53,2,53,3],[55,2,55,3],[56,2,56,3],[71,2,71,3],[72,2,72,3],[73,2,73,3],[74,2,74,3],[75,2,75,3],[76,2,76,3],[65,2,65,6],[66,2,66,6],[67,2,67,3],[68,2,68,3],[69,2,69,3],[70,2,70,3],[85,2,85,3],[87,2,87,3],[91,2,91,3],[92,2,92,3],[77,2,77,3],[78,2,78,3],[80,2,80,3],[82,2,82,3],[83,2,83,3],[84,2,84,3],[107,2,107,3],[108,2,108,3],[110,2,110,3],[111,2,111,3],[115,2,115,3],[117,2,117,6],[118,2,118,6],[119,2,119,6],[96,2,96,3],[98,2,98,6],[99,2,99,3],[100,2,100,3],[101,2,101,3],[102,2,102,3],[104,2,104,3],[105,2,105,3],[128,2,128,3],[129,2,129,3],[131,2,131,6],[132,2,132,6],[133,2,133,3],[134,2,134,3],[120,2,120,6],[121,2,121,3],[123,2,123,6],[124,2,124,3],[126,2,126,6],[127,2,127,6],[143,2,143,3],[144,2,144,3],[146,2,146,6],[148,2,148,6],[150,2,150,3],[152,2,152,6],[136,2,136,6],[137,2,137,3],[138,2,138,3],[140,2,140,6],[141,2,141,6],[142,2,142,6],[162,2,162,3],[163,2,163,3],[165,2,165,3],[166,2,166,3],[168,2,168,3],[169,2,169,3],[153,2,153,6],[154,2,154,3],[156,2,156,3],[157,2,157,3],[159,2,159,3],[160,2,160,3],[190,2,190,6],[181,2,181,6],[182,2,182,6],[184,2,184,6],[185,2,185,6],[186,2,186,6],[173,2,173,6],[174,2,174,6],[175,2,175,6],[176,2,176,6],[177,2,177,6],[178,2,178,6],[179,2,179,6],[180,2,180,6]]}
["Položkový rozpočet "]
[]
["Stavba :",null,"3395 Kanalizace a ČOV Benešov u Semil",null,"Rozpočet:",{"$f":"'01 01.33 Rek'!H1","v":"01.33"}]
["Objekt :",null,"01 Kanalizace",null,{"$f":"'01 01.33 Rek'!G2","v":"Stoka \"I\" km 0,000 - 0,027.8"}]
[]
["P.č.","Číslo položky","Název položky","MJ","množství","cena / MJ","celkem (Kč)","Jednotková hmotnost","Celková hmotnost","Jednotková dem.hmot.","Celková dem.hmot."]
["Díl:","1","Zemní práce",null,null,null,null,null,null,null,null,null,null,null,1]
[1,"115101201RRX","Přečerpávání nebo převedení splašků a dešť. vod ","h",60,null,{"$f":"E8*F8","v":0},0,{"$f":"E8*H8","v":0},0,{"$f":"E8*J8","v":0},null,null,null,2,null,null,null,null,null,null,null,null,null,null,null,1,1,1,null,null,null,null,null,null,null,null,null,null,null,null,null,null,null,null,null,null,null,null,null,null,1,{"$f":"IF(AZ8=1,G8,0)","v":0},{"$f":"IF(AZ8=2,G8,0)","v":0},{"$f":"IF(AZ8=3,G8,0)","v":0},{"$f":"IF(AZ8=4,G8,0)","v":0},{"$f":"IF(AZ8=5,G8,0)","v":0},null,null,null,null,null,null,null,null,null,null,null,null,null,null,null,null,null,null,null,null,null,1,1]
[null,null,"Převedení a čerpání splašků nebo dešťových vod dle zvolené technologie zhotovitele stavby.",null,null,null,null,null,null,null,null,"Převedení a čerpání splašků nebo dešťových vod dle zvolené technologie zhotovitele stavby.",null,null,3]
[null,null,"(Množství bude určeno na stavbě dle skutečnosti)",null,null,null,null,null,null,null,null,"(Množství bude určeno na stavbě dle skutečnosti)",null,null,3]
[2,"121100002RAA","Sejmutí ornice a uložení na deponii zpětný přesun, rozprostření v tl. 20 cm","m3",18,null,{"$f":"E11*F11","v":0},0,{"$f":"E11*H11","v":0},0,{"$f":"E11*J11","v":0},null,null,null,2,null,null,null,null,null,null,null,null,null,null,null,1,1,1,null,null,null,null,null,null,null,null,null,null,null,null,null,null,null,null,null,null,null,null,null,null,1,{"$f":"IF(AZ11=1,G11,0)","v":0},{"$f":"IF(AZ11=2,G11,0)","v":0},{"$f":"IF(AZ11=3,G11,0)","v":0},{"$f":"IF(AZ11=4,G11,0)","v":0},{"$f":"IF(AZ11=5,G11,0)","v":0},null,null,null,null,null,null,null,null,null,null,null,null,null,null,null,null,null,null,null,null,null,1,1]
[null,null,"Stoka \"I\" PVC DN250:",null,0,null,null,null,null,null,null,null,"Stoka \"I\" PVC DN250:"]
[null,null,"Plocha ornice v pracovním prostoru:30,00*3,00*0,20",null,18,null,null,null,null,null,null,null,"Plocha ornice v pracovním prostoru:30,00*3,00*0,20"]
[3,"130001101RRX","Příplatek za ztížené hloubení v blízkosti vedení ","m3",2.4803000000000002,null,{"$f":"E14*F14","v":0},0,{"$f":"E14*H14","v":0},0,{"$f":"E14*J14","v":0},null,null,null,2,null,null,null,null,null,null,null,null,null,null,null,1,1,1,null,null,null,null,null,null,null,null,null,null,null,null,null,null,null,null,null,null,null,null,null,null,1,{"$f":"IF(AZ14=1,G14,0)","v":0},{"$f":"IF(AZ14=2,G14,0)","v":0},{"$f":"IF(AZ14=3,G14,0)","v":0},{"$f":"IF(AZ14=4,G14,0)","v":0},{"$f":"IF(AZ14=5,G14,0)","v":0},null,null,null,null,null,null,null,null,null,null,null,null,null,null,null,null,null,null,null,null,null,1,1]
[null,null,"Včetně případných nutných dokopávem a ručního výkopu podél sousedících inženýrských sítí.",null,null,null,null,null,null,null,null,"Včetně případných nutných dokopávem a ručního výkopu podél sousedících inženýrských sítí.",null,null,3]
[null,null,"Součástí položky je i dočasné zajištění inženýrských sítí v prostoru výkopů (potrubí, kabely a pod.)",null,null,null,null,null,null,null,null,"Součástí položky je i dočasné zajištění inženýrských sítí v prostoru výkopů (potrubí, kabely a pod.)",null,null,3]
[null,null,"Stoka \"I\" PVC DN250:",null,0,null,null,null,null,null,null,null,"Stoka \"I\" PVC DN250:"]
[null,null,"Výkopy:",null,0,null,null,null,null,null,null,null,"Výkopy:"]
[null,null,"V hornině tř. 3 - 5 - 5%:49,6060*0,05",null,2.4803000000000002,null,null,null,null,null,null,null,"V hornině tř. 3 - 5 - 5%:49,6060*0,05"]
[4,"132201212R00","Hloubení rýh š.do 200 cm hor.3 do 1000m3,STROJNĚ ","m3",29.7636,null,{"$f":"E20*F20","v":0},0,{"$f":"E20*H20","v":0},0,{"$f":"E20*J20","v":0},null,null,null,2,null,null,null,null,null,null,null,null,null,null,null,1,1,1,null,null,null,null,null,null,null,null,null,null,null,null,null,null,null,null,null,null,null,null,null,null,1,{"$f":"IF(AZ20=1,G20,0)","v":0},{"$f":"IF(AZ20=2,G20,0)","v":0},{"$f":"IF(AZ20=3,G20,0)","v":0},{"$f":"IF(AZ20=4,G20,0)","v":0},{"$f":"IF(AZ20=5,G20,0)","v":0},null,null,null,null,null,null,null,null,null,null,null,null,null,null,null,null,null,null,null,null,null,1,1]
[null,null,"Položka obsahuje hloubení rýh traktorbagrem, naložení výkopku na dopravní prostředek pro svislé, nebo vodorovné přemístění, popř. přemístění výkopku do 3 m (po povrchu území), případné zajištění rypadel polštáři, udržování pracoviště a ochranu výkopiště proti stékání srážkové vody z okolního terénu i s jejím odvodněním, nebo odvedením, přesekání a odstranění kořenů ve výkopišti, odstranění napadávek, urovnání dna výkopu.",null,null,null,null,null,null,null,null,"Položka obsahuje hloubení rýh traktorbagrem, naložení výkopku na dopravní prostředek pro svislé, nebo vodorovné přemístění, popř. přemístění výkopku do 3 m (po povrchu území), případné zajištění rypadel polštáři, udržování pracoviště a ochranu výkopiště proti stékání srážkové vody z okolního terénu i s jejím odvodněním, nebo odvedením, přesekání a odstranění kořenů ve výkopišti, odstranění napadávek, urovnání dna výkopu.",null,null,3]
[null,null,"Stoka \"I\" PVC DN250:",null,0,null,null,null,null,null,null,null,"Stoka \"I\" PVC DN250:"]
[null,null,"Výkopy:",null,0,null,null,null,null,null,null,null,"Výkopy:"]
[null,null,"Začátek provozního součtu",null,0,null,null,null,null,null,null,null,"Začátek provozního součtu"]
[null,null,"ŠA.1-8 - ŠI-1:10,80*0,90*(1,25+2,60)/2",null,18.710999999999999,null,null,null,null,null,null,null,"ŠA.1-8 - ŠI-1:10,80*0,90*(1,25+2,60)/2"]
[null,null,"ŠI-1 - ŠI-2:(27,80-10,80)*0,90*(1,40+2,50)/2",null,29.835000000000001,null,null,null,null,null,null,null,"ŠI-1 - ŠI-2:(27,80-10,80)*0,90*(1,40+2,50)/2"]
[null,null,"Prohloubení pro RŠ:1,60*1,60*0,20*2",null,1.024,null,null,null,null,null,null,null,"Prohloubení pro RŠ:1,60*1,60*0,20*2"]
[null,null,"Rozšíření pro RŠ:1,60*(1,60-0,90)*4,90",null,5.4880000000000004,null,null,null,null,null,null,null,"Rozšíření pro RŠ:1,60*(1,60-0,90)*4,90"]
[null,null,"Odpočet objemu ornice:-(27,80*0,90+(1,60*(1,60-0,90)*2))*0,20",null,-5.452,null,null,null,null,null,null,null,"Odpočet objemu ornice:-(27,80*0,90+(1,60*(1,60-0,90)*2))*0,20"]
[null,null,"Konec provozního součtu",null,49.606000000000002,null,null,null,null,null,null,null,"Konec provozního součtu"]
[null,null,"V hornině tř. 3 - 60%:49,6060*0,6",null,29.7636,null,null,null,null,null,null,null,"V hornině tř. 3 - 60%:49,6060*0,6"]
[5,"132201219R00","Přípl.za lepivost,hloubení rýh 200cm,hor.3,STROJNĚ ","m3",14.8818,null,{"$f":"E32*F32","v":0},0,{"$f":"E32*H32","v":0},0,{"$f":"E32*J32","v":0},null,null,null,2,null,null,null,null,null,null,null,null,null,null,null,1,1,1,null,null,null,null,null,null,null,null,null,null,null,null,null,null,null,null,null,null,null,null,null,null,1,{"$f":"IF(AZ32=1,G32,0)","v":0},{"$f":"IF(AZ32=2,G32,0)","v":0},{"$f":"IF(AZ32=3,G32,0)","v":0},{"$f":"IF(AZ32=4,G32,0)","v":0},{"$f":"IF(AZ32=5,G32,0)","v":0},null,null,null,null,null,null,null,null,null,null,null,null,null,null,null,null,null,null,null,null,null,1,1]
[null,null,"Stoka \"I\" PVC DN250:",null,0,null,null,null,null,null,null,null,"Stoka \"I\" PVC DN250:"]
[null,null,"Výkopy:",null,0,null,null,null,null,null,null,null,"Výkopy:"]
[null,null,"V hornině tř. 3 - 60%:49,6060*0,6*0,5",null,14.8818,null,null,null,null,null,null,null,"V hornině tř. 3 - 60%:49,6060*0,6*0,5"]
[6,"132301212R00","Hloubení rýh š.do 200 cm hor.4 do 1000 m3, STROJNĚ ","m3",14.8818,null,{"$f":"E36*F36","v":0},0,{"$f":"E36*H36","v":0},0,{"$f":"E36*J36","v":0},null,null,null,2,null,null,null,null,null,null,null,null,null,null,null,1,1,1,null,null,null,null,null,null,null,null,null,null,null,null,null,null,null,null,null,null,null,null,null,null,1,{"$f":"IF(AZ36=1,G36,0)","v":0},{"$f":"IF(AZ36=2,G36,0)","v":0},{"$f":"IF(AZ36=3,G36,0)","v":0},{"$f":"IF(AZ36=4,G36,0)","v":0},{"$f":"IF(AZ36=5,G36,0)","v":0},null,null,null,null,null,null,null,null,null,null,null,null,null,null,null,null,null,null,null,null,null,1,1]
[null,null,"Položka obsahuje hloubení rýh traktorbagrem, naložení výkopku na dopravní prostředek pro svislé, nebo vodorovné přemístění, popř. přemístění výkopku do 3 m (po povrchu území), případné zajištění rypadel polštáři, udržování pracoviště a ochranu výkopiště proti stékání srážkové vody z okolního terénu i s jejím odvodněním, nebo odvedením, přesekání a odstranění kořenů ve výkopišti, odstranění napadávek, urovnání dna výkopu.",null,null,null,null,null,null,null,null,"Položka obsahuje hloubení rýh traktorbagrem, naložení výkopku na dopravní prostředek pro svislé, nebo vodorovné přemístění, popř. přemístění výkopku do 3 m (po povrchu území), případné zajištění rypadel polštáři, udržování pracoviště a ochranu výkopiště proti stékání srážkové vody z okolního terénu i s jejím odvodněním, nebo odvedením, přesekání a odstranění kořenů ve výkopišti, odstranění napadávek, urovnání dna výkopu.",null,null,3]
[null,null,"Stoka \"I\" PVC DN250:",null,0,null,null,null,null,null,null,null,"Stoka \"I\" PVC DN250:"]
[null,null,"Výkopy:",null,0,null,null,null,null,null,null,null,"Výkopy:"]
[null,null,"V hornině tř. 4 - 30%:49,6060*0,3",null,14.8818,null,null,null,null,null,null,null,"V hornině tř. 4 - 30%:49,6060*0,3"]
[7,"132301219R00","Přípl.za lepivost,hloubení rýh 200cm,hor.4,STROJNĚ ","m3",7.4409000000000001,null,{"$f":"E41*F41","v":0},0,{"$f":"E41*H41","v":0},0,{"$f":"E41*J41","v":0},null,null,null,2,null,null,null,null,null,null,null,null,null,null,null,1,1,1,null,null,null,null,null,null,null,null,null,null,null,null,null,null,null,null,null,null,null,null,null,null,1,{"$f":"IF(AZ41=1,G41,0)","v":0},{"$f":"IF(AZ41=2,G41,0)","v":0},{"$f":"IF(AZ41=3,G41,0)","v":0},{"$f":"IF(AZ41=4,G41,0)","v":0},{"$f":"IF(AZ41=5,G41,0)","v":0},null,null,null,null,null,null,null,null,null,null,null,null,null,null,null,null,null,null,null,null,null,1,1]
[null,null,"Stoka \"I\" PVC DN250:",null,0,null,null,null,null,null,null,null,"Stoka \"I\" PVC DN250:"]
[null,null,"Výkopy:",null,0,null,null,null,null,null,null,null,"Výkopy:"]
[null,null,"V hornině tř. 4 - 30%:49,6060*0,3*0,5",null,7.4409000000000001,null,null,null,null,null,null,null,"V hornině tř. 4 - 30%:49,6060*0,3*0,5"]
[8,"132401211RRX","Hloubení rýh šířky do 200 cm v hor.5 STROJNĚ včetně případného dolamování ve vrstvě do 0,5 m","m3",4.9606000000000003,null,{"$f":"E45*F45","v":0},1.0410000000000001E-2,{"$f":"E45*H45","v":5.163984600000001E-2},0,{"$f":"E45*J45","v":0},null,null,null,2,null,null,null,null,null,null,null,null,null,null,null,1,1,1,null,null,null,null,null,null,null,null,null,null,null,null,null,null,null,null,null,null,null,null,null,null,1,{"$f":"IF(AZ45=1,G45,0)","v":0},{"$f":"IF(AZ45=2,G45,0)","v":0},{"$f":"IF(AZ45=3,G45,0)","v":0},{"$f":"IF(AZ45=4,G45,0)","v":0},{"$f":"IF(AZ45=5,G45,0)","v":0},null,null,null,null,null,null,null,null,null,null,null,null,null,null,null,null,null,null,null,null,null,1,1]
[null,null,"Položka obsahuje hloubení rýh traktorbagrem, naložení výkopku na dopravní prostředek pro svislé, nebo vodorovné přemístění, popř. přemístění výkopku do 3 m (po povrchu území), případné zajištění rypadel polštáři, udržování pracoviště a ochranu výkopiště proti stékání srážkové vody z okolního terénu i s jejím odvodněním, nebo odvedením, přesekání a odstranění kořenů ve výkopišti, odstranění napadávek, urovnání dna výkopu.včetně případného dolamování ve vrstvě do 0,5 m",null,null,null,null,null,null,null,null,"Položka obsahuje hloubení rýh traktorbagrem, naložení výkopku na dopravní prostředek pro svislé, nebo vodorovné přemístění, popř. přemístění výkopku do 3 m (po povrchu území), případné zajištění rypadel polštáři, udržování pracoviště a ochranu výkopiště proti stékání srážkové vody z okolního terénu i s jejím odvodněním, nebo odvedením, přesekání a odstranění kořenů ve výkopišti, odstranění napadávek, urovnání dna výkopu.včetně případného dolamování ve vrstvě do 0,5 m",null,null,3]
[null,null,"Stoka \"I\" PVC DN250:",null,0,null,null,null,null,null,null,null,"Stoka \"I\" PVC DN250:"]
[null,null,"Výkopy:",null,0,null,null,null,null,null,null,null,"Výkopy:"]
[null,null,"V hornině tř. 5 - 10%:49,6060*0,1",null,4.9606000000000003,null,null,null,null,null,null,null,"V hornině tř. 5 - 10%:49,6060*0,1"]
[9,"151101101R00","Pažení a rozepření stěn rýh - příložné - hl.do 2 m ","m2",107.88,null,{"$f":"E50*F50","v":0},9.8999999999999999E-4,{"$f":"E50*H50","v":0.1068012},0,{"$f":"E50*J50","v":0},null,null,null,2,null,null,null,null,null,null,null,null,null,null,null,1,1,1,null,null,null,null,null,null,null,null,null,null,null,null,null,null,null,null,null,null,null,null,null,null,1,{"$f":"IF(AZ50=1,G50,0)","v":0},{"$f":"IF(AZ50=2,G50,0)","v":0},{"$f":"IF(AZ50=3,G50,0)","v":0},{"$f":"IF(AZ50=4,G50,0)","v":0},{"$f":"IF(AZ50=5,G50,0)","v":0},null,null,null,null,null,null,null,null,null,null,null,null,null,null,null,null,null,null,null,null,null,1,1]
[null,null,"Stoka \"I\" PVC DN250:",null,0,null,null,null,null,null,null,null,"Stoka \"I\" PVC DN250:"]
[null,null,"Výkopy:",null,0,null,null,null,null,null,null,null,"Výkopy:"]
[null,null,"ŠA.1-8 - ŠI-1:10,80*(1,25+2,60)/2*2",null,41.58,null,null,null,null,null,null,null,"ŠA.1-8 - ŠI-1:10,80*(1,25+2,60)/2*2"]
[null,null,"ŠI-1 - ŠI-2:(27,80-10,80)*(1,40+2,50)/2*2",null,66.3,null,null,null,null,null,null,null,"ŠI-1 - ŠI-2:(27,80-10,80)*(1,40+2,50)/2*2"]
[10,"151101111R00","Odstranění pažení stěn rýh - příložné - hl. do 2 m ","m2",107.88,null,{"$f":"E55*F55","v":0},0,{"$f":"E55*H55","v":0},0,{"$f":"E55*J55","v":0},null,null,null,2,null,null,null,null,null,null,null,null,null,null,null,1,1,1,null,null,null,null,null,null,null,null,null,null,null,null,null,null,null,null,null,null,null,null,null,null,1,{"$f":"IF(AZ55=1,G55,0)","v":0},{"$f":"IF(AZ55=2,G55,0)","v":0},{"$f":"IF(AZ55=3,G55,0)","v":0},{"$f":"IF(AZ55=4,G55,0)","v":0},{"$f":"IF(AZ55=5,G55,0)","v":0},null,null,null,null,null,null,null,null,null,null,null,null,null,null,null,null,null,null,null,null,null,1,1]
[null,null,"Stoka \"I\" PVC DN250:",null,0,null,null,null,null,null,null,null,"Stoka \"I\" PVC DN250:"]
[null,null,"Výkopy:",null,0,null,null,null,null,null,null,null,"Výkopy:"]
[null,null,"ŠA.1-8 - ŠI-1:10,80*(1,25+2,60)/2*2",null,41.58,null,null,null,null,null,null,null,"ŠA.1-8 - ŠI-1:10,80*(1,25+2,60)/2*2"]
[null,null,"ŠI-1 - ŠI-2:(27,80-10,80)*(1,40+2,50)/2*2",null,66.3,null,null,null,null,null,null,null,"ŠI-1 - ŠI-2:(27,80-10,80)*(1,40+2,50)/2*2"]
[11,"162701105RSZ","Vodorovné přemístění výkopku z hor.1-7 na skládku zhotovitele","m3",24.1175,null,{"$f":"E60*F60","v":0},0,{"$f":"E60*H60","v":0},0,{"$f":"E60*J60","v":0},null,null,null,2,null,null,null,null,null,null,null,null,null,null,null,1,1,1,null,null,null,null,null,null,null,null,null,null,null,null,null,null,null,null,null,null,null,null,null,null,1,{"$f":"IF(AZ60=1,G60,0)","v":0},{"$f":"IF(AZ60=2,G60,0)","v":0},{"$f":"IF(AZ60=3,G60,0)","v":0},{"$f":"IF(AZ60=4,G60,0)","v":0},{"$f":"IF(AZ60=5,G60,0)","v":0},null,null,null,null,null,null,null,null,null,null,null,null,null,null,null,null,null,null,null,null,null,1,1]
[null,null,"Stoka \"I\" PVC DN250:",null,0,null,null,null,null,null,null,null,"Stoka \"I\" PVC DN250:"]
[null,null,"Výkopy:",null,0,null,null,null,null,null,null,null,"Výkopy:"]
[null,null,"V hornině tř. 3 - 5 :49,6060",null,49.606000000000002,null,null,null,null,null,null,null,"V hornině tř. 3 - 5 :49,6060"]
[null,null,"Odpočet zásypů zeminou:-25,4885",null,-25.488499999999998,null,null,null,null,null,null,null,"Odpočet zásypů zeminou:-25,4885"]
[12,"174101101R00","Zásyp jam, rýh, šachet se zhutněním ","m3",25.488499999999998,null,{"$f":"E65*F65","v":0},0,{"$f":"E65*H65","v":0},0,{"$f":"E65*J65","v":0},null,null,null,2,null,null,null,null,null,null,null,null,null,null,null,1,1,1,null,null,null,null,null,null,null,null,null,null,null,null,null,null,null,null,null,null,null,null,null,null,1,{"$f":"IF(AZ65=1,G65,0)","v":0},{"$f":"IF(AZ65=2,G65,0)","v":0},{"$f":"IF(AZ65=3,G65,0)","v":0},{"$f":"IF(AZ65=4,G65,0)","v":0},{"$f":"IF(AZ65=5,G65,0)","v":0},null,null,null,null,null,null,null,null,null,null,null,null,null,null,null,null,null,null,null,null,null,1,1]
[null,null,"Položka obsahuje strojní přemístění materiálu pro zásyp ze vzdálenosti do 10 m od okraje zásypu.",null,null,null,null,null,null,null,null,"Položka obsahuje strojní přemístění materiálu pro zásyp ze vzdálenosti do 10 m od okraje zásypu.",null,null,3]
[null,null,null,null,null,null,null,null,null,null,null,null,null,null,3]
[null,null,"Stoka \"I\" PVC DN250:",null,0,null,null,null,null,null,null,null,"Stoka \"I\" PVC DN250:"]
[null,null,"Zásypy zeminou:25,4885",null,25.488499999999998,null,null,null,null,null,null,null,"Zásypy zeminou:25,4885"]
[null,null,"Výkopy:",null,0,null,null,null,null,null,null,null,"Výkopy:"]
[null,null,"Začátek provozního součtu",null,0,null,null,null,null,null,null,null,"Začátek provozního součtu"]
[null,null,"ŠA.1-8 - ŠI-1:10,80*0,90*(1,25+2,60)/2",null,18.710999999999999,null,null,null,null,null,null,null,"ŠA.1-8 - ŠI-1:10,80*0,90*(1,25+2,60)/2"]
[null,null,"ŠI-1 - ŠI-2:(27,80-10,80)*0,90*(1,40+2,50)/2",null,29.835000000000001,null,null,null,null,null,null,null,"ŠI-1 - ŠI-2:(27,80-10,80)*0,90*(1,40+2,50)/2"]
[null,null,"Prohloubení pro RŠ:1,60*1,60*0,20*2",null,1.024,null,null,null,null,null,null,null,"Prohloubení pro RŠ:1,60*1,60*0,20*2"]
[null,null,"Rozšíření pro RŠ:1,60*(1,60-0,90)*4,90",null,5.4880000000000004,null,null,null,null,null,null,null,"Rozšíření pro RŠ:1,60*(1,60-0,90)*4,90"]
[null,null,"Odpočet objemu ornice:-(27,80*0,90+(1,60*(1,60-0,90)*2))*0,20",null,-5.452,null,null,null,null,null,null,null,"Odpočet objemu ornice:-(27,80*0,90+(1,60*(1,60-0,90)*2))*0,20"]
[null,null,"Odpočet obemu lože, potrubí a obsypů:-27,80*0,90*(0,15+0,25+0,30)",null,-17.513999999999999,null,null,null,null,null,null,null,"Odpočet obemu lože, potrubí a obsypů:-27,80*0,90*(0,15+0,25+0,30)"]
[null,null,"Odpočet objemu RŠ:-6,6035",null,-6.6035000000000004,null,null,null,null,null,null,null,"Odpočet objemu RŠ:-6,6035"]
[null,null,"Konec provozního součtu",null,25.488499999999998,null,null,null,null,null,null,null,"Konec provozního součtu"]
[13,"175101101R00","Obsyp potrubí bez prohození sypaniny ","m3",12.3964,null,{"$f":"E80*F80","v":0},0,{"$f":"E80*H80","v":0},0,{"$f":"E80*J80","v":0},null,null,null,2,null,null,null,null,null,null,null,null,null,null,null,1,1,1,null,null,null,null,null,null,null,null,null,null,null,null,null,null,null,null,null,null,null,null,null,null,1,{"$f":"IF(AZ80=1,G80,0)","v":0},{"$f":"IF(AZ80=2,G80,0)","v":0},{"$f":"IF(AZ80=3,G80,0)","v":0},{"$f":"IF(AZ80=4,G80,0)","v":0},{"$f":"IF(AZ80=5,G80,0)","v":0},null,null,null,null,null,null,null,null,null,null,null,null,null,null,null,null,null,null,null,null,null,1,1]
[null,null,"Stoka \"I\" PVC DN250:27,80*(0,90*(0,25+0,30)-0,125^2*Pi)",null,12.3964,null,null,null,null,null,null,null,"Stoka \"I\" PVC DN250:27,80*(0,90*(0,25+0,30)-0,125^2*Pi)"]
[14,"199000002R00","Poplatek za skládku horniny 1- 7 č. dle katal. odpadů 17 05 04","m3",24.1175,null,{"$f":"E82*F82","v":0},0,{"$f":"E82*H82","v":0},0,{"$f":"E82*J82","v":0},null,null,null,2,null,null,null,null,null,null,null,null,null,null,null,1,1,1,null,null,null,null,null,null,null,null,null,null,null,null,null,null,null,null,null,null,null,null,null,null,1,{"$f":"IF(AZ82=1,G82,0)","v":0},{"$f":"IF(AZ82=2,G82,0)","v":0},{"$f":"IF(AZ82=3,G82,0)","v":0},{"$f":"IF(AZ82=4,G82,0)","v":0},{"$f":"IF(AZ82=5,G82,0)","v":0},null,null,null,null,null,null,null,null,null,null,null,null,null,null,null,null,null,null,null,null,null,1,1]
[null,null,"Stoka \"I\" PVC DN250:",null,0,null,null,null,null,null,null,null,"Stoka \"I\" PVC DN250:"]
[null,null,"Výkopy:",null,0,null,null,null,null,null,null,null,"Výkopy:"]
[null,null,"V hornině tř. 3 - 5 :49,6060",null,49.606000000000002,null,null,null,null,null,null,null,"V hornině tř. 3 - 5 :49,6060"]
[null,null,"Odpočet zásypů zeminou:-25,4885",null,-25.488499999999998,null,null,null,null,null,null,null,"Odpočet zásypů zeminou:-25,4885"]
[15,"58337308.R","Štěrkopísek frakce 0-2 tř.B","t",24.7026,null,{"$f":"E87*F87","v":0},1,{"$f":"E87*H87","v":24.7026},null,{"$f":"E87*J87","v":0},null,null,null,2,null,null,null,null,null,null,null,null,null,null,null,3,1,"58337308.R",null,null,null,null,null,null,null,null,null,null,null,null,null,null,null,null,null,null,null,null,null,null,1,{"$f":"IF(AZ87=1,G87,0)","v":0},{"$f":"IF(AZ87=2,G87,0)","v":0},{"$f":"IF(AZ87=3,G87,0)","v":0},{"$f":"IF(AZ87=4,G87,0)","v":0},{"$f":"IF(AZ87=5,G87,0)","v":0},null,null,null,null,null,null,null,null,null,null,null,null,null,null,null,null,null,null,null,null,null,3,1]
[null,null,"Stoka \"I\" PVC DN250:27,80*(0,90*(0,25+0,30)-0,125^2*Pi)*1,973*1,01",null,24.7026,null,null,null,null,null,null,null,"Stoka \"I\" PVC DN250:27,80*(0,90*(0,25+0,30)-0,125^2*Pi)*1,973*1,01"]
[null,"Celkem za","1 Zemní práce",null,null,null,{"$f":"SUM(G7:G88)","v":0},null,{"$f":"SUM(I7:I88)","v":24.861041046},null,{"$f":"SUM(K7:K88)","v":0},null,null,null,4,null,null,null,null,null,null,null,null,null,null,null,null,null,null,null,null,null,null,null,null,null,null,null,null,null,null,null,null,null,null,null,null,null,null,null,null,null,{"$f":"SUM(BA7:BA88)","v":0},{"$f":"SUM(BB7:BB88)","v":0},{"$f":"SUM(BC7:BC88)","v":0},{"$f":"SUM(BD7:BD88)","v":0},{"$f":"SUM(BE7:BE88)","v":0}]
["Díl:","21","Úprava podloží a základ.spáry",null,null,null,null,null,null,null,null,null,null,null,1]
[16,"212810010RAC","Trativody z PVC drenážních flexibilních trubek lože štěrkopísek a obsyp kamenivo, trubky d 100 mm","m",27.8,null,{"$f":"E91*F91","v":0},0.43651000000000001,{"$f":"E91*H91","v":12.134978},0,{"$f":"E91*J91","v":0},null,null,null,2,null,null,null,null,null,null,null,null,null,null,null,1,1,1,null,null,null,null,null,null,null,null,null,null,null,null,null,null,null,null,null,null,null,null,null,null,1,{"$f":"IF(AZ91=1,G91,0)","v":0},{"$f":"IF(AZ91=2,G91,0)","v":0},{"$f":"IF(AZ91=3,G91,0)","v":0},{"$f":"IF(AZ91=4,G91,0)","v":0},{"$f":"IF(AZ91=5,G91,0)","v":0},null,null,null,null,null,null,null,null,null,null,null,null,null,null,null,null,null,null,null,null,null,1,1]
[null,null,"Stoka \"I\" PVC DN250:",null,0,null,null,null,null,null,null,null,"Stoka \"I\" PVC DN250:"]
[null,null,"Drenáž DN100:27,80",null,27.8,null,null,null,null,null,null,null,"Drenáž DN100:27,80"]
[null,"Celkem za","21 Úprava podloží a základ.spáry",null,null,null,{"$f":"SUM(G90:G93)","v":0},null,{"$f":"SUM(I90:I93)","v":12.134978},null,{"$f":"SUM(K90:K93)","v":0},null,null,null,4,null,null,null,null,null,null,null,null,null,null,null,null,null,null,null,null,null,null,null,null,null,null,null,null,null,null,null,null,null,null,null,null,null,null,null,null,null,{"$f":"SUM(BA90:BA93)","v":0},{"$f":"SUM(BB90:BB93)","v":0},{"$f":"SUM(BC90:BC93)","v":0},{"$f":"SUM(BD90:BD93)","v":0},{"$f":"SUM(BE90:BE93)","v":0}]
["Díl:","45","Podkladní a vedlejší konstrukce",null,null,null,null,null,null,null,null,null,null,null,1]
[17,"451572111R00","Lože pod potrubí z kameniva těženého 0 - 4 mm ","m3",3.8744999999999998,null,{"$f":"E96*F96","v":0},0.43051,{"$f":"E96*H96","v":1.6680109949999999},0,{"$f":"E96*J96","v":0},null,null,null,2,null,null,null,null,null,null,null,null,null,null,null,1,1,1,null,null,null,null,null,null,null,null,null,null,null,null,null,null,null,null,null,null,null,null,null,null,1,{"$f":"IF(AZ96=1,G96,0)","v":0},{"$f":"IF(AZ96=2,G96,0)","v":0},{"$f":"IF(AZ96=3,G96,0)","v":0},{"$f":"IF(AZ96=4,G96,0)","v":0},{"$f":"IF(AZ96=5,G96,0)","v":0},null,null,null,null,null,null,null,null,null,null,null,null,null,null,null,null,null,null,null,null,null,1,1]
[null,null,"Stoka \"I\" PVC DN250:28,70*0,90*0,15",null,3.8744999999999998,null,null,null,null,null,null,null,"Stoka \"I\" PVC DN250:28,70*0,90*0,15"]
[18,"452112111R00","Osazení beton. prstenců pod poklopy,výšky do100 mm ","kus",5,null,{"$f":"E98*F98","v":0},6.6E-3,{"$f":"E98*H98","v":3.3000000000000002E-2},0,{"$f":"E98*J98","v":0},null,null,null,2,null,null,null,null,null,null,null,null,null,null,null,1,1,1,null,null,null,null,null,null,null,null,null,null,null,null,null,null,null,null,null,null,null,null,null,null,1,{"$f":"IF(AZ98=1,G98,0)","v":0},{"$f":"IF(AZ98=2,G98,0)","v":0},{"$f":"IF(AZ98=3,G98,0)","v":0},{"$f":"IF(AZ98=4,G98,0)","v":0},{"$f":"IF(AZ98=5,G98,0)","v":0},null,null,null,null,null,null,null,null,null,null,null,null,null,null,null,null,null,null,null,null,null,1,1]
[null,null,"Volba položky se řídí výškou prstence nebo rámu. V položkách nejsou zakalkulovány náklady na dodávku betonových výrobků;",null,null,null,null,null,null,null,null,"Volba položky se řídí výškou prstence nebo rámu. V položkách nejsou zakalkulovány náklady na dodávku betonových výrobků;",null,null,3]
[null,null,"Stoka \"I\" PVC DN250:",null,0,null,null,null,null,null,null,null,"Stoka \"I\" PVC DN250:"]
[null,null,"VP40:1",null,1,null,null,null,null,null,null,null,"VP40:1"]
[null,null,"VP801:3",null,3,null,null,null,null,null,null,null,"VP801:3"]
[null,null,"VP100:1",null,1,null,null,null,null,null,null,null,"VP100:1"]
[19,"59224346.A.R","Prstenec vyrovn šachetní TBW-Q.1 63/4","kus",1.01,null,{"$f":"E104*F104","v":0},2.8000000000000001E-2,{"$f":"E104*H104","v":2.828E-2},null,{"$f":"E104*J104","v":0},null,null,null,2,null,null,null,null,null,null,null,null,null,null,null,3,1,"59224346.A.R",null,null,null,null,null,null,null,null,null,null,null,null,null,null,null,null,null,null,null,null,null,null,1,{"$f":"IF(AZ104=1,G104,0)","v":0},{"$f":"IF(AZ104=2,G104,0)","v":0},{"$f":"IF(AZ104=3,G104,0)","v":0},{"$f":"IF(AZ104=4,G104,0)","v":0},{"$f":"IF(AZ104=5,G104,0)","v":0},null,null,null,null,null,null,null,null,null,null,null,null,null,null,null,null,null,null,null,null,null,3,1]
[null,null,"Stoka \"I\" PVC DN250:",null,0,null,null,null,null,null,null,null,"Stoka \"I\" PVC DN250:"]
[null,null,"VP40:1*1,01",null,1.01,null,null,null,null,null,null,null,"VP40:1*1,01"]
[20,"59224348.A.R","Prstenec vyrovn šachetní TBW-Q.1 63/8","kus",1.01,null,{"$f":"E107*F107","v":0},5.3999999999999999E-2,{"$f":"E107*H107","v":5.4539999999999998E-2},null,{"$f":"E107*J107","v":0},null,null,null,2,null,null,null,null,null,null,null,null,null,null,null,3,1,"59224348.A.R",null,null,null,null,null,null,null,null,null,null,null,null,null,null,null,null,null,null,null,null,null,null,1,{"$f":"IF(AZ107=1,G107,0)","v":0},{"$f":"IF(AZ107=2,G107,0)","v":0},{"$f":"IF(AZ107=3,G107,0)","v":0},{"$f":"IF(AZ107=4,G107,0)","v":0},{"$f":"IF(AZ107=5,G107,0)","v":0},null,null,null,null,null,null,null,null,null,null,null,null,null,null,null,null,null,null,null,null,null,3,1]
[null,null,"Stoka \"I\" PVC DN250:",null,0,null,null,null,null,null,null,null,"Stoka \"I\" PVC DN250:"]
[null,null,"VP80:1*1,01",null,1.01,null,null,null,null,null,null,null,"VP80:1*1,01"]
[21,"59224349.A.R","Prstenec vyrovn šachetní TBW-Q.1 63/10","kus",1.01,null,{"$f":"E110*F110","v":0},6.8000000000000005E-2,{"$f":"E110*H110","v":6.8680000000000005E-2},null,{"$f":"E110*J110","v":0},null,null,null,2,null,null,null,null,null,null,null,null,null,null,null,3,1,"59224349.A.R",null,null,null,null,null,null,null,null,null,null,null,null,null,null,null,null,null,null,null,null,null,null,1,{"$f":"IF(AZ110=1,G110,0)","v":0},{"$f":"IF(AZ110=2,G110,0)","v":0},{"$f":"IF(AZ110=3,G110,0)","v":0},{"$f":"IF(AZ110=4,G110,0)","v":0},{"$f":"IF(AZ110=5,G110,0)","v":0},null,null,null,null,null,null,null,null,null,null,null,null,null,null,null,null,null,null,null,null,null,3,1]
[null,null,"Stoka \"I\" PVC DN250:",null,0,null,null,null,null,null,null,null,"Stoka \"I\" PVC DN250:"]
[null,null,"VP H100:1*1,01",null,1.01,null,null,null,null,null,null,null,"VP H100:1*1,01"]
[null,"Celkem za","45 Podkladní a vedlejší konstrukce",null,null,null,{"$f":"SUM(G95:G112)","v":0},null,{"$f":"SUM(I95:I112)","v":1.852510995},null,{"$f":"SUM(K95:K112)","v":0},null,null,null,4,null,null,null,null,null,null,null,null,null,null,null,null,null,null,null,null,null,null,null,null,null,null,null,null,null,null,null,null,null,null,null,null,null,null,null,null,null,{"$f":"SUM(BA95:BA112)","v":0},{"$f":"SUM(BB95:BB112)","v":0},{"$f":"SUM(BC95:BC112)","v":0},{"$f":"SUM(BD95:BD112)","v":0},{"$f":"SUM(BE95:BE112)","v":0}]
["Díl:","8","Trubní vedení",null,null,null,null,null,null,null,null,null,null,null,1]
[22,"871373121R00","Montáž trub z plastu, gumový kroužek, DN 300 ","m",27.8,null,{"$f":"E115*F115","v":0},1.0000000000000001E-5,{"$f":"E115*H115","v":2.7800000000000004E-4},0,{"$f":"E115*J115","v":0},null,null,null,2,null,null,null,null,null,null,null,null,null,null,null,1,1,1,null,null,null,null,null,null,null,null,null,null,null,null,null,null,null,null,null,null,null,null,null,null,1,{"$f":"IF(AZ115=1,G115,0)","v":0},{"$f":"IF(AZ115=2,G115,0)","v":0},{"$f":"IF(AZ115=3,G115,0)","v":0},{"$f":"IF(AZ115=4,G115,0)","v":0},{"$f":"IF(AZ115=5,G115,0)","v":0},null,null,null,null,null,null,null,null,null,null,null,null,null,null,null,null,null,null,null,null,null,1,1]
[null,null,"Stoka \"I\" PVC DN250:27,80",null,27.8,null,null,null,null,null,null,null,"Stoka \"I\" PVC DN250:27,80"]
[23,"892601154R00","Čištění kanalizační stoky do DN 500, nad 100 m ","m",27.8,null,{"$f":"E117*F117","v":0},0,{"$f":"E117*H117","v":0},0,{"$f":"E117*J117","v":0},null,null,null,2,null,null,null,null,null,null,null,null,null,null,null,1,0,0,null,null,null,null,null,null,null,null,null,null,null,null,null,null,null,null,null,null,null,null,null,null,1,{"$f":"IF(AZ117=1,G117,0)","v":0},{"$f":"IF(AZ117=2,G117,0)","v":0},{"$f":"IF(AZ117=3,G117,0)","v":0},{"$f":"IF(AZ117=4,G117,0)","v":0},{"$f":"IF(AZ117=5,G117,0)","v":0},null,null,null,null,null,null,null,null,null,null,null,null,null,null,null,null,null,null,null,null,null,1,0]
[null,null,"V položce je zakalkulováno:",null,null,null,null,null,null,null,null,"V položce je zakalkulováno:",null,null,3]
[null,null,"a) otevření a uzavření revizních šachet a čisticích kusů",null,null,null,null,null,null,null,null,"a) otevření a uzavření revizních šachet a čisticích kusů",null,null,3]
[null,null,"b) natažení vysokotlakých hadic k místu odkud se bude kanalizace čistit",null,null,null,null,null,null,null,null,"b) natažení vysokotlakých hadic k místu odkud se bude kanalizace čistit",null,null,3]
[null,null,"c) vyčištění potrubí tlakovou vodou nebo motorovým pérem.",null,null,null,null,null,null,null,null,"c) vyčištění potrubí tlakovou vodou nebo motorovým pérem.",null,null,3]
[null,null,"Stoka \"I\" PVC DN250:27,80",null,27.8,null,null,null,null,null,null,null,"Stoka \"I\" PVC DN250:27,80"]
[24,"892855115R00","Kontrola kanalizace TV kamerou do 500 m ","m",27.8,null,{"$f":"E123*F123","v":0},0,{"$f":"E123*H123","v":0},0,{"$f":"E123*J123","v":0},null,null,null,2,null,null,null,null,null,null,null,null,null,null,null,1,1,1,null,null,null,null,null,null,null,null,null,null,null,null,null,null,null,null,null,null,null,null,null,null,1,{"$f":"IF(AZ123=1,G123,0)","v":0},{"$f":"IF(AZ123=2,G123,0)","v":0},{"$f":"IF(AZ123=3,G123,0)","v":0},{"$f":"IF(AZ123=4,G123,0)","v":0},{"$f":"IF(AZ123=5,G123,0)","v":0},null,null,null,null,null,null,null,null,null,null,null,null,null,null,null,null,null,null,null,null,null,1,1]
[null,null,"Provedení kaberové prohlídky včetně dodání elektronického záznamu na CD zadavateli a tištěné dokumentace průběhu kamerové prohlídky",null,null,null,null,null,null,null,null,"Provedení kaberové prohlídky včetně dodání elektronického záznamu na CD zadavateli a tištěné dokumentace průběhu kamerové prohlídky",null,null,3]
[null,null,"Stoka \"I\" PVC DN250:27,80",null,27.8,null,null,null,null,null,null,null,"Stoka \"I\" PVC DN250:27,80"]
[25,"894421111RT1","Osazení betonových dílců šachet skruže rovné, na kroužek, do 0,5 t","kus",1,null,{"$f":"E126*F126","v":0},0,{"$f":"E126*H126","v":0},0,{"$f":"E126*J126","v":0},null,null,null,2,null,null,null,null,null,null,null,null,null,null,null,1,1,1,null,null,null,null,null,null,null,null,null,null,null,null,null,null,null,null,null,null,null,null,null,null,1,{"$f":"IF(AZ126=1,G126,0)","v":0},{"$f":"IF(AZ126=2,G126,0)","v":0},{"$f":"IF(AZ126=3,G126,0)","v":0},{"$f":"IF(AZ126=4,G126,0)","v":0},{"$f":"IF(AZ126=5,G126,0)","v":0},null,null,null,null,null,null,null,null,null,null,null,null,null,null,null,null,null,null,null,null,null,1,1]
[null,null,"Položka je určena pro osazení betonových dílců šachet dle DIN 4034, skruže rovné na kroužek, hmotnost do 0,5 t.",null,null,null,null,null,null,null,null,"Položka je určena pro osazení betonových dílců šachet dle DIN 4034, skruže rovné na kroužek, hmotnost do 0,5 t.",null,null,3]
[null,null,"V položce nejsou zakalkulovány náklady na dodání betonových dílců; dílce se oceňují ve specifikaci.",null,null,null,null,null,null,null,null,"V položce nejsou zakalkulovány náklady na dodání betonových dílců; dílce se oceňují ve specifikaci.",null,null,3]
[null,null,"Stoka \"I\" PVC DN250:",null,0,null,null,null,null,null,null,null,"Stoka \"I\" PVC DN250:"]
[null,null,"Skruž H250:1",null,1,null,null,null,null,null,null,null,"Skruž H250:1"]
[26,"894421112RT1","Osazení betonových dílců šachet skruže rovné, na kroužek, do 1,4 t","kus",2,null,{"$f":"E131*F131","v":0},0,{"$f":"E131*H131","v":0},0,{"$f":"E131*J131","v":0},null,null,null,2,null,null,null,null,null,null,null,null,null,null,null,1,1,1,null,null,null,null,null,null,null,null,null,null,null,null,null,null,null,null,null,null,null,null,null,null,1,{"$f":"IF(AZ131=1,G131,0)","v":0},{"$f":"IF(AZ131=2,G131,0)","v":0},{"$f":"IF(AZ131=3,G131,0)","v":0},{"$f":"IF(AZ131=4,G131,0)","v":0},{"$f":"IF(AZ131=5,G131,0)","v":0},null,null,null,null,null,null,null,null,null,null,null,null,null,null,null,null,null,null,null,null,null,1,1]
[null,null,"Položka je určena pro osazení betonových dílců šachet dle DIN 4034, skruže rovné na kroužek, hmotnost přes 0,5 do 1,4 t.",null,null,null,null,null,null,null,null,"Položka je určena pro osazení betonových dílců šachet dle DIN 4034, skruže rovné na kroužek, hmotnost přes 0,5 do 1,4 t.",null,null,3]
[null,null,"V položce nejsou zakalkulovány náklady na dodání betonových dílců; dílce se oceňují ve specifikaci.",null,null,null,null,null,null,null,null,"V položce nejsou zakalkulovány náklady na dodání betonových dílců; dílce se oceňují ve specifikaci.",null,null,3]
[null,null,"Stoka \"I\" PVC DN250:",null,0,null,null,null,null,null,null,null,"Stoka \"I\" PVC DN250:"]
[null,null,"Skruž H1000:2",null,2,null,null,null,null,null,null,null,"Skruž H1000:2"]
[27,"894422111RT1","Osazení betonových dílců šachet skruže přechodové, na kroužek","kus",2,null,{"$f":"E136*F136","v":0},0,{"$f":"E136*H136","v":0},0,{"$f":"E136*J136","v":0},null,null,null,2,null,null,null,null,null,null,null,null,null,null,null,1,1,1,null,null,null,null,null,null,null,null,null,null,null,null,null,null,null,null,null,null,null,null,null,null,1,{"$f":"IF(AZ136=1,G136,0)","v":0},{"$f":"IF(AZ136=2,G136,0)","v":0},{"$f":"IF(AZ136=3,G136,0)","v":0},{"$f":"IF(AZ136=4,G136,0)","v":0},{"$f":"IF(AZ136=5,G136,0)","v":0},null,null,null,null,null,null,null,null,null,null,null,null,null,null,null,null,null,null,null,null,null,1,1]
[null,null,"Položka je určena pro osazení betonových dílců šachet dle DIN 4034, skruže přechodové, zákrytové, kónusy,... na kroužek.",null,null,null,null,null,null,null,null,"Položka je určena pro osazení betonových dílců šachet dle DIN 4034, skruže přechodové, zákrytové, kónusy,... na kroužek.",null,null,3]
[null,null,"Stoka \"I\" PVC DN250:",null,0,null,null,null,null,null,null,null,"Stoka \"I\" PVC DN250:"]
[null,null,"Kónus H580:2",null,2,null,null,null,null,null,null,null,"Kónus H580:2"]
[28,"894423111RT1","Osazení betonových dílců šachet do 2,0 t šachtová dna, na kroužek, do 2,0 t","kus",2,null,{"$f":"E140*F140","v":0},0,{"$f":"E140*H140","v":0},0,{"$f":"E140*J140","v":0},null,null,null,2,null,null,null,null,null,null,null,null,null,null,null,1,1,1,null,null,null,null,null,null,null,null,null,null,null,null,null,null,null,null,null,null,null,null,null,null,1,{"$f":"IF(AZ140=1,G140,0)","v":0},{"$f":"IF(AZ140=2,G140,0)","v":0},{"$f":"IF(AZ140=3,G140,0)","v":0},{"$f":"IF(AZ140=4,G140,0)","v":0},{"$f":"IF(AZ140=5,G140,0)","v":0},null,null,null,null,null,null,null,null,null,null,null,null,null,null,null,null,null,null,null,null,null,1,1]
[null,null,"Položka je určena pro osazení betonových dílců šachet dle DIN 4034, šachtová dna na kroužek, hmotnost do 2,0 t.",null,null,null,null,null,null,null,null,"Položka je určena pro osazení betonových dílců šachet dle DIN 4034, šachtová dna na kroužek, hmotnost do 2,0 t.",null,null,3]
[null,null,"V položce nejsou zakalkulovány náklady na dodání betonových dílců;",null,null,null,null,null,null,null,null,"V položce nejsou zakalkulovány náklady na dodání betonových dílců;",null,null,3]
[null,null,"Součástí položky je i podbetonování šachtového dna betonem C12/15 v min. tl. 10 cm.",null,null,null,null,null,null,null,null,"Součástí položky je i podbetonování šachtového dna betonem C12/15 v min. tl. 10 cm.",null,null,3]
[null,null,"Stoka \"I\" PVC DN250:",null,0,null,null,null,null,null,null,null,"Stoka \"I\" PVC DN250:"]
[null,null,"ŠD H575:2",null,2,null,null,null,null,null,null,null,"ŠD H575:2"]
[29,"896290111RRX","Příplatek za vytvoření spadiště ","kus",1,null,{"$f":"E146*F146","v":0},1.17689,{"$f":"E146*H146","v":1.17689},0,{"$f":"E146*J146","v":0},null,null,null,2,null,null,null,null,null,null,null,null,null,null,null,1,1,1,null,null,null,null,null,null,null,null,null,null,null,null,null,null,null,null,null,null,null,null,null,null,1,{"$f":"IF(AZ146=1,G146,0)","v":0},{"$f":"IF(AZ146=2,G146,0)","v":0},{"$f":"IF(AZ146=3,G146,0)","v":0},{"$f":"IF(AZ146=4,G146,0)","v":0},{"$f":"IF(AZ146=5,G146,0)","v":0},null,null,null,null,null,null,null,null,null,null,null,null,null,null,null,null,null,null,null,null,null,1,1]
[null,null,"Součástí položky je montáž a dodávka potrubí a tvarovek dle PD včetně obetonování.",null,null,null,null,null,null,null,null,"Součástí položky je montáž a dodávka potrubí a tvarovek dle PD včetně obetonování.",null,null,3]
[30,"899102111R00","Osazení poklopu s rámem do 100 kg ","kus",2,null,{"$f":"E148*F148","v":0},7.0200000000000002E-3,{"$f":"E148*H148","v":1.404E-2},0,{"$f":"E148*J148","v":0},null,null,null,2,null,null,null,null,null,null,null,null,null,null,null,1,1,1,null,null,null,null,null,null,null,null,null,null,null,null,null,null,null,null,null,null,null,null,null,null,1,{"$f":"IF(AZ148=1,G148,0)","v":0},{"$f":"IF(AZ148=2,G148,0)","v":0},{"$f":"IF(AZ148=3,G148,0)","v":0},{"$f":"IF(AZ148=4,G148,0)","v":0},{"$f":"IF(AZ148=5,G148,0)","v":0},null,null,null,null,null,null,null,null,null,null,null,null,null,null,null,null,null,null,null,null,null,1,1]
[null,null,"Osazení provizorních poklopů během realizace stavby  (nefakturovaný materiál zhotovitele)",null,null,null,null,null,null,null,null,"Osazení provizorních poklopů během realizace stavby  (nefakturovaný materiál zhotovitele)",null,null,3]
[31,"899711122R00","Fólie výstražná z PVC šedá, šířka 30 cm ","m",27.8,null,{"$f":"E150*F150","v":0},0,{"$f":"E150*H150","v":0},0,{"$f":"E150*J150","v":0},null,null,null,2,null,null,null,null,null,null,null,null,null,null,null,1,1,1,null,null,null,null,null,null,null,null,null,null,null,null,null,null,null,null,null,null,null,null,null,null,1,{"$f":"IF(AZ150=1,G150,0)","v":0},{"$f":"IF(AZ150=2,G150,0)","v":0},{"$f":"IF(AZ150=3,G150,0)","v":0},{"$f":"IF(AZ150=4,G150,0)","v":0},{"$f":"IF(AZ150=5,G150,0)","v":0},null,null,null,null,null,null,null,null,null,null,null,null,null,null,null,null,null,null,null,null,null,1,1]
[null,null,"Stoka \"I\" PVC DN250:27,80",null,27.8,null,null,null,null,null,null,null,"Stoka \"I\" PVC DN250:27,80"]
[32,"286111923.A.R","Trubka kanalizační PVC QUANTUM SN 12 DN 250","kus",28.634,null,{"$f":"E152*F152","v":0},8.2000000000000007E-3,{"$f":"E152*H152","v":0.23479880000000003},null,{"$f":"E152*J152","v":0},null,null,null,2,null,null,null,null,null,null,null,null,null,null,null,3,1,"286111923.A.R",null,null,null,null,null,null,null,null,null,null,null,null,null,null,null,null,null,null,null,null,null,null,1,{"$f":"IF(AZ152=1,G152,0)","v":0},{"$f":"IF(AZ152=2,G152,0)","v":0},{"$f":"IF(AZ152=3,G152,0)","v":0},{"$f":"IF(AZ152=4,G152,0)","v":0},{"$f":"IF(AZ152=5,G152,0)","v":0},null,null,null,null,null,null,null,null,null,null,null,null,null,null,null,null,null,null,null,null,null,3,1]
[null,null,"Jedná  se  o  plnostěnné kanalizační trubky DN 150 – DN 400, SN 12 kN/m2 , zvenčí  i  zevnitř  hladké. Jsou  opatřeny hrdlem,  v  němž  je  vložen vysoce  elastický  jazýčkový  kroužek.  konce  trubek  (dříků)  jsou opatřeny  zkosením  pod  úhlem  15°.  Způsob  použití  trubek  je  „U“  dle  normy  ČSN  EN  1401-1, tj. mimo budovy. Spolehlivá  funkce  těsnění  je  jištěna  výztužným  kroužkem  z  elastomeru.  Je  tak  zamezeno  vypad-nutí nebo vytlačení kroužku při manipulaci a montáži. Tento systém zaručuje při správné montáži ",null,null,null,null,null,null,null,null,"Jedná  se  o  plnostěnné kanalizační trubky DN 150 – DN 400, SN 12 kN/m2 , zvenčí  i  zevnitř  hladké. Jsou  opatřeny hrdlem,  v  němž  je  vložen vysoce  elastický  jazýčkový  kroužek.  konce  trubek  (dříků)  jsou opatřeny  zkosením  pod  úhlem  15°.  Způsob  použití  trubek  je  „U“  dle  normy  ČSN  EN  1401-1, tj. mimo budovy. Spolehlivá  funkce  těsnění  je  jištěna  výztužným  kroužkem  z  elastomeru.  Je  tak  zamezeno  vypad-nutí nebo vytlačení kroužku při manipulaci a montáži. Tento systém zaručuje při správné montáži ",null,null,3]
[null,null,"dokonalou  těsnost  do  výšky  vodního  sloupce  5  metrů.",null,null,null,null,null,null,null,null,"dokonalou  těsnost  do  výšky  vodního  sloupce  5  metrů.",null,null,3]
[null,null,"Stoka \"I\" PVC DN250:27,80*1,03",null,28.634,null,null,null,null,null,null,null,"Stoka \"I\" PVC DN250:27,80*1,03"]
[33,"592243543.R","Kónus šachetní TBR-Q.1 100x63/58/12 KPS","kus",2.02,null,{"$f":"E156*F156","v":0},0.58499999999999996,{"$f":"E156*H156","v":1.1817},null,{"$f":"E156*J156","v":0},null,null,null,2,null,null,null,null,null,null,null,null,null,null,null,3,1,"592243543.R",null,null,null,null,null,null,null,null,null,null,null,null,null,null,null,null,null,null,null,null,null,null,1,{"$f":"IF(AZ156=1,G156,0)","v":0},{"$f":"IF(AZ156=2,G156,0)","v":0},{"$f":"IF(AZ156=3,G156,0)","v":0},{"$f":"IF(AZ156=4,G156,0)","v":0},{"$f":"IF(AZ156=5,G156,0)","v":0},null,null,null,null,null,null,null,null,null,null,null,null,null,null,null,null,null,null,null,null,null,3,1]
[null,null,"Stoka \"I\" PVC DN250:",null,0,null,null,null,null,null,null,null,"Stoka \"I\" PVC DN250:"]
[null,null,"Kónus H580:2*1,01",null,2.02,null,null,null,null,null,null,null,"Kónus H580:2*1,01"]
[34,"59224358.A.R","Skruž šachetní TBS-Q.1 100/25/12 PS","kus",1.01,null,{"$f":"E159*F159","v":0},0.25,{"$f":"E159*H159","v":0.2525},null,{"$f":"E159*J159","v":0},null,null,null,2,null,null,null,null,null,null,null,null,null,null,null,3,1,"59224358.A.R",null,null,null,null,null,null,null,null,null,null,null,null,null,null,null,null,null,null,null,null,null,null,1,{"$f":"IF(AZ159=1,G159,0)","v":0},{"$f":"IF(AZ159=2,G159,0)","v":0},{"$f":"IF(AZ159=3,G159,0)","v":0},{"$f":"IF(AZ159=4,G159,0)","v":0},{"$f":"IF(AZ159=5,G159,0)","v":0},null,null,null,null,null,null,null,null,null,null,null,null,null,null,null,null,null,null,null,null,null,3,1]
[null,null,"Stoka \"I\" PVC DN250:",null,0,null,null,null,null,null,null,null,"Stoka \"I\" PVC DN250:"]
[null,null,"Skruž H250:1*1,01",null,1.01,null,null,null,null,null,null,null,"Skruž H250:1*1,01"]
[35,"59224364.A.R","Skruž šachetní TBS-Q.1 100/100/12 PS","kus",2.02,null,{"$f":"E162*F162","v":0},1,{"$f":"E162*H162","v":2.02},null,{"$f":"E162*J162","v":0},null,null,null,2,null,null,null,null,null,null,null,null,null,null,null,3,1,"59224364.A.R",null,null,null,null,null,null,null,null,null,null,null,null,null,null,null,null,null,null,null,null,null,null,1,{"$f":"IF(AZ162=1,G162,0)","v":0},{"$f":"IF(AZ162=2,G162,0)","v":0},{"$f":"IF(AZ162=3,G162,0)","v":0},{"$f":"IF(AZ162=4,G162,0)","v":0},{"$f":"IF(AZ162=5,G162,0)","v":0},null,null,null,null,null,null,null,null,null,null,null,null,null,null,null,null,null,null,null,null,null,3,1]
[null,null,"Stoka \"I\" PVC DN250:",null,0,null,null,null,null,null,null,null,"Stoka \"I\" PVC DN250:"]
[null,null,"Skruž H1000:2*1,01",null,2.02,null,null,null,null,null,null,null,"Skruž H1000:2*1,01"]
[36,"59224371.A.R","Dno šachetní TBZ-Q.1 100/58 KOM V20 včetně kynety dle PD","kus",2.02,null,{"$f":"E165*F165","v":0},1.27,{"$f":"E165*H165","v":2.5653999999999999},null,{"$f":"E165*J165","v":0},null,null,null,2,null,null,null,null,null,null,null,null,null,null,null,3,1,"59224371.A.R",null,null,null,null,null,null,null,null,null,null,null,null,null,null,null,null,null,null,null,null,null,null,1,{"$f":"IF(AZ165=1,G165,0)","v":0},{"$f":"IF(AZ165=2,G165,0)","v":0},{"$f":"IF(AZ165=3,G165,0)","v":0},{"$f":"IF(AZ165=4,G165,0)","v":0},{"$f":"IF(AZ165=5,G165,0)","v":0},null,null,null,null,null,null,null,null,null,null,null,null,null,null,null,null,null,null,null,null,null,3,1]
[null,null,"Stoka \"I\" PVC DN250:",null,0,null,null,null,null,null,null,null,"Stoka \"I\" PVC DN250:"]
[null,null,"ŠD H575:2*1,01",null,2.02,null,null,null,null,null,null,null,"ŠD H575:2*1,01"]
[37,"59224380.R","Těsnění elastom pro šach díly EMT 100/1.7 - DN1000","kus",5.05,null,{"$f":"E168*F168","v":0},2E-3,{"$f":"E168*H168","v":1.01E-2},null,{"$f":"E168*J168","v":0},null,null,null,2,null,null,null,null,null,null,null,null,null,null,null,3,1,"59224380.R",null,null,null,null,null,null,null,null,null,null,null,null,null,null,null,null,null,null,null,null,null,null,1,{"$f":"IF(AZ168=1,G168,0)","v":0},{"$f":"IF(AZ168=2,G168,0)","v":0},{"$f":"IF(AZ168=3,G168,0)","v":0},{"$f":"IF(AZ168=4,G168,0)","v":0},{"$f":"IF(AZ168=5,G168,0)","v":0},null,null,null,null,null,null,null,null,null,null,null,null,null,null,null,null,null,null,null,null,null,3,1]
[null,null,"Stoka \"I\" PVC DN250:",null,0,null,null,null,null,null,null,null,"Stoka \"I\" PVC DN250:"]
[null,null,"Těsnění DN1000:5*1,01",null,5.05,null,null,null,null,null,null,null,"Těsnění DN1000:5*1,01"]
[null,"Celkem za","8 Trubní vedení",null,null,null,{"$f":"SUM(G114:G170)","v":0},null,{"$f":"SUM(I114:I170)","v":7.4557068000000006},null,{"$f":"SUM(K114:K170)","v":0},null,null,null,4,null,null,null,null,null,null,null,null,null,null,null,null,null,null,null,null,null,null,null,null,null,null,null,null,null,null,null,null,null,null,null,null,null,null,null,null,null,{"$f":"SUM(BA114:BA170)","v":0},{"$f":"SUM(BB114:BB170)","v":0},{"$f":"SUM(BC114:BC170)","v":0},{"$f":"SUM(BD114:BD170)","v":0},{"$f":"SUM(BE114:BE170)","v":0}]
["Díl:","93","Dokončovací práce inženýrských staveb",null,null,null,null,null,null,null,null,null,null,null,1]
[38,"939421111RT1","Osazení samonivelač.kanalizač.poklopu za finišerem bez dodávky poklopu","kus",2,null,{"$f":"E173*F173","v":0},0.15425,{"$f":"E173*H173","v":0.3085},0,{"$f":"E173*J173","v":0},null,null,null,2,null,null,null,null,null,null,null,null,null,null,null,1,0,0,null,null,null,null,null,null,null,null,null,null,null,null,null,null,null,null,null,null,null,null,null,null,1,{"$f":"IF(AZ173=1,G173,0)","v":0},{"$f":"IF(AZ173=2,G173,0)","v":0},{"$f":"IF(AZ173=3,G173,0)","v":0},{"$f":"IF(AZ173=4,G173,0)","v":0},{"$f":"IF(AZ173=5,G173,0)","v":0},null,null,null,null,null,null,null,null,null,null,null,null,null,null,null,null,null,null,null,null,null,1,0]
[null,null,"Položka obsahuje:",null,null,null,null,null,null,null,null,"Položka obsahuje:",null,null,3]
[null,null," osazení prefabrikovaného betonového prstence do rychletuhnoucí vysokopevnostní malty (s dodávkou hmot)",null,null,null,null,null,null,null,null,"- osazení prefabrikovaného betonového prstence do rychletuhnoucí malty (s dodávkou hmot)",null,null,3]
[null,null,"- zalití prstence rychletuhnoucí zálivkou do výše prstence (s dodávkou hmoty)",null,null,null,null,null,null,null,null,"- zalití prstence rychletuhnoucí zálivkou do výše prstence (s dodávkou hmoty)",null,null,3]
[null,null,"- vložení kruhového bednění",null,null,null,null,null,null,null,null,"- vložení kruhového bednění",null,null,3]
[null,null,"- doplnění mezikruží asfaltovou směsí do výšky současné podkladní vrstvy, zhutnění",null,null,null,null,null,null,null,null,"- doplnění mezikruží asfaltovou směsí do výšky současné podkladní vrstvy, zhutnění",null,null,3]
[null,null,"- vyjmutí kruhového bednění",null,null,null,null,null,null,null,null,"- vyjmutí kruhového bednění",null,null,3]
[null,null,"- osazení poklopu a zatlačení",null,null,null,null,null,null,null,null,"- osazení poklopu a zatlačení",null,null,3]
[null,null,"  (následuje pokládka finální vrstvy vozovky - není součástí položky)",null,null,null,null,null,null,null,null,"  (následuje pokládka finální vrstvy vozovky - není součástí položky)",null,null,3]
[null,null,"- povytažení poklopu",null,null,null,null,null,null,null,null,"- povytažení poklopu",null,null,3]
[null,null,"- podsyp asfaltovou směsí, spuštění poklopu a zhutnění směsi",null,null,null,null,null,null,null,null,"- podsyp asfaltovou směsí, spuštění poklopu a zhutnění směsi",null,null,3]
[39,"55244414.R","Poklop celolitinový v samonivelační rámu KDM65 D400 SN600","kus",2,null,{"$f":"E184*F184","v":0},0.113,{"$f":"E184*H184","v":0.22600000000000001},null,{"$f":"E184*J184","v":0},null,null,null,2,null,null,null,null,null,null,null,null,null,null,null,3,1,"55244414.R",null,null,null,null,null,null,null,null,null,null,null,null,null,null,null,null,null,null,null,null,null,null,1,{"$f":"IF(AZ184=1,G184,0)","v":0},{"$f":"IF(AZ184=2,G184,0)","v":0},{"$f":"IF(AZ184=3,G184,0)","v":0},{"$f":"IF(AZ184=4,G184,0)","v":0},{"$f":"IF(AZ184=5,G184,0)","v":0},null,null,null,null,null,null,null,null,null,null,null,null,null,null,null,null,null,null,null,null,null,3,1]
[null,null,"Kanalizační kruhový celolitinový samonivelační poklop bez pantu, horizontální PUR tlumící vložka na rámu, horizontální a vertikální  PUR tlumící vložka na víku, bez pružinového zajištění víka v rámu ",null,null,null,null,null,null,null,null,"Kanalizační kruhový celolitinový samonivelační poklop bez pantu, horizontální PUR tlumící vložka na rámu, horizontální a vertikální  PUR tlumící vložka na víku, bez pružinového zajištění víka v rámu ",null,null,3]
[null,null,"KDM65 bez ventilace nebo s ventilací dle TS VHS Turnov",null,null,null,null,null,null,null,null,"KDM65 bez ventilace nebo s ventilací dle TS VHS Turnov",null,null,3]
[null,null,"Víko se znakem Města ",null,null,null,null,null,null,null,null,"Víko se znakem Města ",null,null,3]
[null,"Celkem za","93 Dokončovací práce inženýrských staveb",null,null,null,{"$f":"SUM(G172:G187)","v":0},null,{"$f":"SUM(I172:I187)","v":0.53449999999999998},null,{"$f":"SUM(K172:K187)","v":0},null,null,null,4,null,null,null,null,null,null,null,null,null,null,null,null,null,null,null,null,null,null,null,null,null,null,null,null,null,null,null,null,null,null,null,null,null,null,null,null,null,{"$f":"SUM(BA172:BA187)","v":0},{"$f":"SUM(BB172:BB187)","v":0},{"$f":"SUM(BC172:BC187)","v":0},{"$f":"SUM(BD172:BD187)","v":0},{"$f":"SUM(BE172:BE187)","v":0}]
["Díl:","99","Staveništní přesun hmot",null,null,null,null,null,null,null,null,null,null,null,1]
[40,"998276101RXX","Přesun hmot, trubní vedení plastová, otevř. výkop pro celý rozsah objektu","t",46.838736840999999,null,{"$f":"E190*F190","v":0},0,{"$f":"E190*H190","v":0},null,{"$f":"E190*J190","v":0},null,null,null,2,null,null,null,null,null,null,null,null,null,null,null,7,1,2,null,null,null,null,null,null,null,null,null,null,null,null,null,null,null,null,null,null,null,null,null,null,1,{"$f":"IF(AZ190=1,G190,0)","v":0},{"$f":"IF(AZ190=2,G190,0)","v":0},{"$f":"IF(AZ190=3,G190,0)","v":0},{"$f":"IF(AZ190=4,G190,0)","v":0},{"$f":"IF(AZ190=5,G190,0)","v":0},null,null,null,null,null,null,null,null,null,null,null,null,null,null,null,null,null,null,null,null,null,7,1]
[null,null,"Staveništní doprava pro celý rozsah objektu - doprava zmeziskládek vybudovaného zařízení staveniště zhotovitele na jednotlivé části staveniště.",null,null,null,null,null,null,null,null,"Staveništní doprava pro celý rozsah objektu - doprava zmeziskládek vybudovaného zařízení staveniště zhotovitele na jednotlivé části staveniště.",null,null,3]
[null,"Celkem za","99 Staveništní přesun hmot",null,null,null,{"$f":"SUM(G189:G191)","v":0},null,{"$f":"SUM(I189:I191)","v":0},null,{"$f":"SUM(K189:K191)","v":0},null,null,null,4,null,null,null,null,null,null,null,null,null,null,null,null,null,null,null,null,null,null,null,null,null,null,null,null,null,null,null,null,null,null,null,null,null,null,null,null,null,{"$f":"SUM(BA189:BA191)","v":0},{"$f":"SUM(BB189:BB191)","v":0},{"$f":"SUM(BC189:BC191)","v":0},{"$f":"SUM(BD189:BD191)","v":0},{"$f":"SUM(BE189:BE191)","v":0}]

{"sheet":"01 01.34 KL","index":22,"n_rows":45,"n_cols":8,"rows_kept":45,"cut":false,"hidden":false,"merged":[[22,0,22,1],[7,2,7,4],[8,2,8,4],[9,2,9,4],[10,2,10,4],[11,2,11,4],[50,1,50,6],[29,5,29,6],[30,5,30,6],[31,5,31,6],[32,5,32,6],[33,5,33,6],[36,1,44,6],[45,1,45,6],[46,1,46,6],[47,1,47,6],[48,1,48,6],[49,1,49,6]]}
["POLOŽKOVÝ ROZPOČET"]
["Rozpočet",null,"01.34","Stoka \"J\" km 0,000 - 0,085.5",null,"JKSO ","827.21.A3"]
[]
["Objekt",null,null,null,null,"SKP "]
["01",null,"Kanalizace",null,null,"Měrná jednotka","m"]
["Stavba",null,null,null,null,"Počet jednotek",0]
["3395",null,"Kanalizace a ČOV Benešov u Semil",null,null,"Náklady na m.j.",{"$f":"IF(G6=0,,ROUND((F30+F32)/G6,1))","v":0}]
["Projektant",null,"Vodohospodářský rozvoj a výstavba a.s.",null,null,"Typ rozpočtu"]
["Zpracovatel projektu"]
["Objednatel",null,"Vodohospodářské sdružení Turnov"]
["Dodavatel",null,".",null,null,"Zakázkové číslo "]
["Rozpočtoval",null,null,null,null,"Počet listů"]
["ROZPOČTOVÉ NÁKLADY"]
["Základní rozpočtové náklady"]
[null,"HSV celkem",{"$f":"'01 01.34 Rek'!E14","v":0}]
["Z","PSV celkem",{"$f":"'01 01.34 Rek'!F14","v":0}]
["R","M práce celkem",{"$f":"'01 01.34 Rek'!H14","v":0}]
["N","M dodávky celkem",{"$f":"'01 01.34 Rek'!G14","v":0}]
["ZRN celkem",null,{"$f":"SUM(C15:C18)","v":0}]
[]
["HZS",null,{"$f":"'01 01.34 Rek'!I14","v":0}]
["ZRN+HZS",null,{"$f":"C19+C21","v":0}]
["ZRN+ost.náklady+HZS",null,{"$f":"C22+G23","v":0}]
["Vypracoval",null,null,"Za zhotovitele",null,"Za objednatele"]
["Jméno :",null,null,"Jméno :",null,"Jméno :"]
["Datum :",null,null,"Datum :",null,"Datum :"]
[]
["Podpis :",null,null,"Podpis:",null,"Podpis:"]
[]
["Základ pro DPH",null,21,"%  ",null,{"$f":"C23-F32","v":0}]
["DPH",null,{"$f":"C30","v":21},"% ",null,{"$f":"ROUND(PRODUCT(F30,C31/100),0)","v":0}]
["Základ pro DPH",null,0,"% ",null,0]
["DPH",null,{"$f":"C32","v":0},"% ",null,{"$f":"ROUND(PRODUCT(F32,C33/100),0)","v":0}]
["CENA ZA OBJEKT CELKEM",null,null,null,null,{"$f":"ROUND(SUM(F30:F33),0)","v":0}]
[]
["Poznámka :",null,null,null,null,null,null," "]
[null,null,null,null,null,null,null," "]
[null,null,null,null,null,null,null," "]
[null,null,null,null,null,null,null," "]
[null,null,null,null,null,null,null," "]
[null,null,null,null,null,null,null," "]
[null,null,null,null,null,null,null," "]
[null,null,null,null,null,null,null," "]
[null,null,null,null,null,null,null," "]
[null,null,null,null,null,null,null," "]

{"sheet":"01 01.34 Rek","index":23,"n_rows":14,"n_cols":9,"rows_kept":14,"cut":false,"hidden":false,"merged":[[0,0,0,1],[1,0,1,1],[1,6,1,8]]}
["Stavba :",null,"3395 Kanalizace a ČOV Benešov u Semil",null,null,null,"Rozpočet :","01.34"]
["Objekt :",null,"01 Kanalizace",null,null,null,"Stoka \"J\" km 0,000 - 0,085.5"]
[]
["REKAPITULACE  STAVEBNÍCH  DÍLŮ"]
[]
[null,"Stavební díl",null,null,"HSV","PSV","Dodávka","Montáž","HZS"]
[{"$f":"'01 01.34 Pol'!B7","v":"1"},{"$f":"'01 01.34 Pol'!C7","v":"Zemní práce"},null,null,{"$f":"'01 01.34 Pol'!BA116","v":0},{"$f":"'01 01.34 Pol'!BB116","v":0},{"$f":"'01 01.34 Pol'!BC116","v":0},{"$f":"'01 01.34 Pol'!BD116","v":0},{"$f":"'01 01.34 Pol'!BE116","v":0}]
[{"$f":"'01 01.34 Pol'!B117","v":"21"},{"$f":"'01 01.34 Pol'!C117","v":"Úprava podloží a základ.spáry"},null,null,{"$f":"'01 01.34 Pol'!BA121","v":0},{"$f":"'01 01.34 Pol'!BB121","v":0},{"$f":"'01 01.34 Pol'!BC121","v":0},{"$f":"'01 01.34 Pol'!BD121","v":0},{"$f":"'01 01.34 Pol'!BE121","v":0}]
[{"$f":"'01 01.34 Pol'!B122","v":"45"},{"$f":"'01 01.34 Pol'!C122","v":"Podkladní a vedlejší konstrukce"},null,null,{"$f":"'01 01.34 Pol'!BA140","v":0},{"$f":"'01 01.34 Pol'!BB140","v":0},{"$f":"'01 01.34 Pol'!BC140","v":0},{"$f":"'01 01.34 Pol'!BD140","v":0},{"$f":"'01 01.34 Pol'!BE140","v":0}]
[{"$f":"'01 01.34 Pol'!B141","v":"5"},{"$f":"'01 01.34 Pol'!C141","v":"Komunikace"},null,null,{"$f":"'01 01.34 Pol'!BA145","v":0},{"$f":"'01 01.34 Pol'!BB145","v":0},{"$f":"'01 01.34 Pol'!BC145","v":0},{"$f":"'01 01.34 Pol'!BD145","v":0},{"$f":"'01 01.34 Pol'!BE145","v":0}]
[{"$f":"'01 01.34 Pol'!B146","v":"8"},{"$f":"'01 01.34 Pol'!C146","v":"Trubní vedení"},null,null,{"$f":"'01 01.34 Pol'!BA206","v":0},{"$f":"'01 01.34 Pol'!BB206","v":0},{"$f":"'01 01.34 Pol'!BC206","v":0},{"$f":"'01 01.34 Pol'!BD206","v":0},{"$f":"'01 01.34 Pol'!BE206","v":0}]
[{"$f":"'01 01.34 Pol'!B207","v":"93"},{"$f":"'01 01.34 Pol'!C207","v":"Dokončovací práce inženýrských staveb"},null,null,{"$f":"'01 01.34 Pol'!BA223","v":0},{"$f":"'01 01.34 Pol'!BB223","v":0},{"$f":"'01 01.34 Pol'!BC223","v":0},{"$f":"'01 01.34 Pol'!BD223","v":0},{"$f":"'01 01.34 Pol'!BE223","v":0}]
[{"$f":"'01 01.34 Pol'!B224","v":"99"},{"$f":"'01 01.34 Pol'!C224","v":"Staveništní přesun hmot"},null,null,{"$f":"'01 01.34 Pol'!BA227","v":0},{"$f":"'01 01.34 Pol'!BB227","v":0},{"$f":"'01 01.34 Pol'!BC227","v":0},{"$f":"'01 01.34 Pol'!BD227","v":0},{"$f":"'01 01.34 Pol'!BE227","v":0}]
[null,"CELKEM  OBJEKT",null,null,{"$f":"SUM(E7:E13)","v":0},{"$f":"SUM(F7:F13)","v":0},{"$f":"SUM(G7:G13)","v":0},{"$f":"SUM(H7:H13)","v":0},{"$f":"SUM(I7:I13)","v":0}]

{"sheet":"01 01.34 Pol","index":24,"n_rows":227,"n_cols":80,"rows_kept":227,"cut":false,"hidden":false,"merged":[[14,2,14,6],[15,2,15,6],[16,2,16,3],[17,2,17,3],[18,2,18,3],[20,2,20,6],[0,0,0,6],[2,0,2,1],[3,0,3,1],[3,4,3,6],[8,2,8,6],[9,2,9,6],[11,2,11,3],[12,2,12,3],[27,2,27,3],[28,2,28,3],[29,2,29,3],[30,2,30,3],[31,2,31,3],[32,2,32,3],[21,2,21,3],[22,2,22,3],[23,2,23,3],[24,2,24,3],[25,2,25,3],[26,2,26,3],[41,2,41,3],[42,2,42,3],[44,2,44,3],[45,2,45,3],[46,2,46,3],[48,2,48,6],[33,2,33,3],[35,2,35,3],[36,2,36,3],[37,2,37,3],[39,2,39,6],[40,2,40,3],[56,2,56,3],[58,2,58,3],[59,2,59,3],[60,2,60,3],[61,2,61,3],[63,2,63,3],[49,2,49,3],[50,2,50,3],[51,2,51,3],[53,2,53,3],[54,2,54,3],[55,2,55,3],[71,2,71,3],[72,2,72,3],[73,2,73,3],[74,2,74,3],[75,2,75,3],[76,2,76,3],[64,2,64,3],[65,2,65,3],[66,2,66,3],[68,2,68,6],[69,2,69,6],[70,2,70,3],[83,2,83,3],[84,2,84,3],[85,2,85,3],[86,2,86,3],[87,2,87,3],[88,2,88,3],[77,2,77,3],[78,2,78,3],[79,2,79,3],[80,2,80,3],[81,2,81,3],[82,2,82,3],[97,2,97,3],[98,2,98,3],[99,2,99,3],[101,2,101,3],[103,2,103,3],[104,2,104,3],[89,2,89,3],[90,2,90,3],[91,2,91,3],[92,2,92,3],[94,2,94,3],[96,2,96,3],[111,2,111,3],[112,2,112,3],[113,2,113,3],[114,2,114,3],[118,2,118,3],[119,2,119,3],[105,2,105,3],[106,2,106,3],[107,2,107,3],[108,2,108,3],[109,2,109,3],[110,2,110,3],[134,2,134,3],[135,2,135,3],[137,2,137,3],[138,2,138,3],[142,2,142,3],[143,2,143,3],[123,2,123,3],[125,2,125,6],[126,2,126,3],[127,2,127,3],[128,2,128,3],[129,2,129,3],[131,2,131,3],[132,2,132,3],[158,2,158,6],[159,2,159,6],[160,2,160,6],[161,2,161,6],[162,2,162,3],[164,2,164,6],[147,2,147,6],[148,2,148,3],[149,2,149,3],[151,2,151,6],[152,2,152,6],[153,2,153,3],[154,2,154,3],[156,2,156,3],[173,2,173,3],[174,2,174,3],[175,2,175,3],[177,2,177,6],[178,2,178,6],[179,2,179,6],[165,2,165,3],[167,2,167,6],[168,2,168,6],[169,2,169,3],[170,2,170,3],[172,2,172,6],[190,2,190,6],[191,2,191,6],[192,2,192,3],[194,2,194,3],[195,2,195,3],[197,2,197,3],[180,2,180,3],[181,2,181,3],[183,2,183,6],[185,2,185,3],[187,2,187,3],[188,2,188,3],[198,2,198,3],[200,2,200,3],[201,2,201,3],[203,2,203,3],[204,2,204,3],[217,2,217,6],[219,2,219,6],[220,2,220,6],[221,2,221,6],[225,2,225,6],[208,2,208,6],[209,2,209,6],[210,2,210,6],[211,2,211,6],[212,2,212,6],[213,2,213,6],[214,2,214,6],[215,2,215,6],[216,2,216,6]]}
["Položkový rozpočet "]
[]
["Stavba :",null,"3395 Kanalizace a ČOV Benešov u Semil",null,"Rozpočet:",{"$f":"'01 01.34 Rek'!H1","v":"01.34"}]
["Objekt :",null,"01 Kanalizace",null,{"$f":"'01 01.34 Rek'!G2","v":"Stoka \"J\" km 0,000 - 0,085.5"}]
[]
["P.č.","Číslo položky","Název položky","MJ","množství","cena / MJ","celkem (Kč)","Jednotková hmotnost","Celková hmotnost","Jednotková dem.hmot.","Celková dem.hmot."]
["Díl:","1","Zemní práce",null,null,null,null,null,null,null,null,null,null,null,1]
[1,"115101201RRX","Přečerpávání nebo převedení splašků a dešť. vod ","h",60,null,{"$f":"E8*F8","v":0},0,{"$f":"E8*H8","v":0},0,{"$f":"E8*J8","v":0},null,null,null,2,null,null,null,null,null,null,null,null,null,null,null,1,1,1,null,null,null,null,null,null,null,null,null,null,null,null,null,null,null,null,null,null,null,null,null,null,1,{"$f":"IF(AZ8=1,G8,0)","v":0},{"$f":"IF(AZ8=2,G8,0)","v":0},{"$f":"IF(AZ8=3,G8,0)","v":0},{"$f":"IF(AZ8=4,G8,0)","v":0},{"$f":"IF(AZ8=5,G8,0)","v":0},null,null,null,null,null,null,null,null,null,null,null,null,null,null,null,null,null,null,null,null,null,1,1]
[null,null,"Převedení a čerpání splašků nebo dešťových vod dle zvolené technologie zhotovitele stavby.",null,null,null,null,null,null,null,null,"Převedení a čerpání splašků nebo dešťových vod dle zvolené technologie zhotovitele stavby.",null,null,3]
[null,null,"(Množství bude určeno na stavbě dle skutečnosti)",null,null,null,null,null,null,null,null,"(Množství bude určeno na stavbě dle skutečnosti)",null,null,3]
[2,"121100002RAA","Sejmutí ornice a uložení na deponii zpětný přesun, rozprostření v tl. 20 cm","m3",22.44,null,{"$f":"E11*F11","v":0},0,{"$f":"E11*H11","v":0},0,{"$f":"E11*J11","v":0},null,null,null,2,null,null,null,null,null,null,null,null,null,null,null,1,1,1,null,null,null,null,null,null,null,null,null,null,null,null,null,null,null,null,null,null,null,null,null,null,1,{"$f":"IF(AZ11=1,G11,0)","v":0},{"$f":"IF(AZ11=2,G11,0)","v":0},{"$f":"IF(AZ11=3,G11,0)","v":0},{"$f":"IF(AZ11=4,G11,0)","v":0},{"$f":"IF(AZ11=5,G11,0)","v":0},null,null,null,null,null,null,null,null,null,null,null,null,null,null,null,null,null,null,null,null,null,1,1]
[null,null,"Stoka \"H\" PVC DN250:",null,0,null,null,null,null,null,null,null,"Stoka \"H\" PVC DN250:"]
[null,null,"Objem ornice v pracovním prostoru:37,40*3,00*0,20",null,22.44,null,null,null,null,null,null,null,"Objem ornice v pracovním prostoru:37,40*3,00*0,20"]
[3,"130001101RRX","Příplatek za ztížené hloubení v blízkosti vedení ","m3",11.468999999999999,null,{"$f":"E14*F14","v":0},0,{"$f":"E14*H14","v":0},0,{"$f":"E14*J14","v":0},null,null,null,2,null,null,null,null,null,null,null,null,null,null,null,1,1,1,null,null,null,null,null,null,null,null,null,null,null,null,null,null,null,null,null,null,null,null,null,null,1,{"$f":"IF(AZ14=1,G14,0)","v":0},{"$f":"IF(AZ14=2,G14,0)","v":0},{"$f":"IF(AZ14=3,G14,0)","v":0},{"$f":"IF(AZ14=4,G14,0)","v":0},{"$f":"IF(AZ14=5,G14,0)","v":0},null,null,null,null,null,null,null,null,null,null,null,null,null,null,null,null,null,null,null,null,null,1,1]
[null,null,"Včetně případných nutných dokopávem a ručního výkopu podél sousedících inženýrských sítí.",null,null,null,null,null,null,null,null,"Včetně případných nutných dokopávem a ručního výkopu podél sousedících inženýrských sítí.",null,null,3]
[null,null,"Součástí položky je i dočasné zajištění inženýrských sítí v prostoru výkopů (potrubí, kabely a pod.)",null,null,null,null,null,null,null,null,"Součástí položky je i dočasné zajištění inženýrských sítí v prostoru výkopů (potrubí, kabely a pod.)",null,null,3]
[null,null,"Stoka \"H\" PVC DN250:",null,0,null,null,null,null,null,null,null,"Stoka \"H\" PVC DN250:"]
[null,null,"Výkopy:",null,0,null,null,null,null,null,null,null,"Výkopy:"]
[null,null,"V hornině tř. 3 - 5 - 15%:76,4600*0,15",null,11.468999999999999,null,null,null,null,null,null,null,"V hornině tř. 3 - 5 - 15%:76,4600*0,15"]
[4,"132201212R00","Hloubení rýh š.do 200 cm hor.3 do 1000m3,STROJNĚ ","m3",45.875999999999998,null,{"$f":"E20*F20","v":0},0,{"$f":"E20*H20","v":0},0,{"$f":"E20*J20","v":0},null,null,null,2,null,null,null,null,null,null,null,null,null,null,null,1,1,1,null,null,null,null,null,null,null,null,null,null,null,null,null,null,null,null,null,null,null,null,null,null,1,{"$f":"IF(AZ20=1,G20,0)","v":0},{"$f":"IF(AZ20=2,G20,0)","v":0},{"$f":"IF(AZ20=3,G20,0)","v":0},{"$f":"IF(AZ20=4,G20,0)","v":0},{"$f":"IF(AZ20=5,G20,0)","v":0},null,null,null,null,null,null,null,null,null,null,null,null,null,null,null,null,null,null,null,null,null,1,1]
[null,null,"Položka obsahuje hloubení rýh traktorbagrem, naložení výkopku na dopravní prostředek pro svislé, nebo vodorovné přemístění, popř. přemístění výkopku do 3 m (po povrchu území), případné zajištění rypadel polštáři, udržování pracoviště a ochranu výkopiště proti stékání srážkové vody z okolního terénu i s jejím odvodněním, nebo odvedením, přesekání a odstranění kořenů ve výkopišti, odstranění napadávek, urovnání dna výkopu.",null,null,null,null,null,null,null,null,"Položka obsahuje hloubení rýh traktorbagrem, naložení výkopku na dopravní prostředek pro svislé, nebo vodorovné přemístění, popř. přemístění výkopku do 3 m (po povrchu území), případné zajištění rypadel polštáři, udržování pracoviště a ochranu výkopiště proti stékání srážkové vody z okolního terénu i s jejím odvodněním, nebo odvedením, přesekání a odstranění kořenů ve výkopišti, odstranění napadávek, urovnání dna výkopu.",null,null,3]
[null,null,"Stoka \"H\" PVC DN250:",null,0,null,null,null,null,null,null,null,"Stoka \"H\" PVC DN250:"]
[null,null,"Výkopy:",null,0,null,null,null,null,null,null,null,"Výkopy:"]
[null,null,"Začátek provozního součtu",null,0,null,null,null,null,null,null,null,"Začátek provozního součtu"]
[null,null,"ŠB.1-4 - ŠJ-1:13,20*0,90*(1,40+1,70)/2",null,18.414000000000001,null,null,null,null,null,null,null,"ŠB.1-4 - ŠJ-1:13,20*0,90*(1,40+1,70)/2"]
[null,null,"ŠJ-1 - ŠJ-2:(32,90-13,20)*0,90*(1,70+1,50)/2",null,28.367999999999999,null,null,null,null,null,null,null,"ŠJ-1 - ŠJ-2:(32,90-13,20)*0,90*(1,70+1,50)/2"]
[null,null,"ŠJ-2 - Potok:(67,50-32,90)*0,90*(1,50+1,00)/2",null,38.924999999999997,null,null,null,null,null,null,null,"ŠJ-2 - Potok:(67,50-32,90)*0,90*(1,50+1,00)/2"]
[null,null,"Potok - ŠJ-4:(85,50-82,70)*0,90*(1,50+1,50)/2",null,3.78,null,null,null,null,null,null,null,"Potok - ŠJ-4:(85,50-82,70)*0,90*(1,50+1,50)/2"]
[null,null,"Prohloubení pro RŠ:1,60*1,60*0,20*4",null,2.048,null,null,null,null,null,null,null,"Prohloubení pro RŠ:1,60*1,60*0,20*4"]
[null,null,"Rozšíření pro RŠ:1,60*(1,60-0,90)*4,60",null,5.1520000000000001,null,null,null,null,null,null,null,"Rozšíření pro RŠ:1,60*(1,60-0,90)*4,60"]
[null,null,"Odpočet objemu konstrukce komunikace:-(32,90+1,60*(1,60-0,90)*2)*0,35",null,-12.298999999999999,null,null,null,null,null,null,null,"Odpočet objemu konstrukce komunikace:-(32,90+1,60*(1,60-0,90)*2)*0,35"]
[null,null,"Odpočet objemu ornice:-(37,40+(1,60*(1,60-0,90)*2))*0,20",null,-7.9279999999999999,null,null,null,null,null,null,null,"Odpočet objemu ornice:-(37,40+(1,60*(1,60-0,90)*2))*0,20"]
[null,null,"Konec provozního součtu",null,76.460000000000008,null,null,null,null,null,null,null,"Konec provozního součtu"]
[null,null,"V hornině tř. 3 - 60%:76,4600*0,6",null,45.875999999999998,null,null,null,null,null,null,null,"V hornině tř. 3 - 60%:76,4600*0,6"]
[5,"132201219R00","Přípl.za lepivost,hloubení rýh 200cm,hor.3,STROJNĚ ","m3",22.937999999999999,null,{"$f":"E35*F35","v":0},0,{"$f":"E35*H35","v":0},0,{"$f":"E35*J35","v":0},null,null,null,2,null,null,null,null,null,null,null,null,null,null,null,1,1,1,null,null,null,null,null,null,null,null,null,null,null,null,null,null,null,null,null,null,null,null,null,null,1,{"$f":"IF(AZ35=1,G35,0)","v":0},{"$f":"IF(AZ35=2,G35,0)","v":0},{"$f":"IF(AZ35=3,G35,0)","v":0},{"$f":"IF(AZ35=4,G35,0)","v":0},{"$f":"IF(AZ35=5,G35,0)","v":0},null,null,null,null,null,null,null,null,null,null,null,null,null,null,null,null,null,null,null,null,null,1,1]
[null,null,"Stoka \"H\" PVC DN250:",null,0,null,null,null,null,null,null,null,"Stoka \"H\" PVC DN250:"]
[null,null,"Výkopy:",null,0,null,null,null,null,null,null,null,"Výkopy:"]
[null,null,"V hornině tř. 3 - 60%:76,4600*0,6*0,5",null,22.937999999999999,null,null,null,null,null,null,null,"V hornině tř. 3 - 60%:76,4600*0,6*0,5"]
[6,"132301212R00","Hloubení rýh š.do 200 cm hor.4 do 1000 m3, STROJNĚ ","m3",22.937999999999999,null,{"$f":"E39*F39","v":0},0,{"$f":"E39*H39","v":0},0,{"$f":"E39*J39","v":0},null,null,null,2,null,null,null,null,null,null,null,null,null,null,null,1,1,1,null,null,null,null,null,null,null,null,null,null,null,null,null,null,null,null,null,null,null,null,null,null,1,{"$f":"IF(AZ39=1,G39,0)","v":0},{"$f":"IF(AZ39=2,G39,0)","v":0},{"$f":"IF(AZ39=3,G39,0)","v":0},{"$f":"IF(AZ39=4,G39,0)","v":0},{"$f":"IF(AZ39=5,G39,0)","v":0},null,null,null,null,null,null,null,null,null,null,null,null,null,null,null,null,null,null,null,null,null,1,1]
[null,null,"Položka obsahuje hloubení rýh traktorbagrem, naložení výkopku na dopravní prostředek pro svislé, nebo vodorovné přemístění, popř. přemístění výkopku do 3 m (po povrchu území), případné zajištění rypadel polštáři, udržování pracoviště a ochranu výkopiště proti stékání srážkové vody z okolního terénu i s jejím odvodněním, nebo odvedením, přesekání a odstranění kořenů ve výkopišti, odstranění napadávek, urovnání dna výkopu.",null,null,null,null,null,null,null,null,"Položka obsahuje hloubení rýh traktorbagrem, naložení výkopku na dopravní prostředek pro svislé, nebo vodorovné přemístění, popř. přemístění výkopku do 3 m (po povrchu území), případné zajištění rypadel polštáři, udržování pracoviště a ochranu výkopiště proti stékání srážkové vody z okolního terénu i s jejím odvodněním, nebo odvedením, přesekání a odstranění kořenů ve výkopišti, odstranění napadávek, urovnání dna výkopu.",null,null,3]
[null,null,"Stoka \"H\" PVC DN250:",null,0,null,null,null,null,null,null,null,"Stoka \"H\" PVC DN250:"]
[null,null,"Výkopy:",null,0,null,null,null,null,null,null,null,"Výkopy:"]
[null,null,"V hornině tř. 4 - 30%:76,4600*0,3",null,22.937999999999999,null,null,null,null,null,null,null,"V hornině tř. 4 - 30%:76,4600*0,3"]
[7,"132301219R00","Přípl.za lepivost,hloubení rýh 200cm,hor.4,STROJNĚ ","m3",11.468999999999999,null,{"$f":"E44*F44","v":0},0,{"$f":"E44*H44","v":0},0,{"$f":"E44*J44","v":0},null,null,null,2,null,null,null,null,null,null,null,null,null,null,null,1,1,1,null,null,null,null,null,null,null,null,null,null,null,null,null,null,null,null,null,null,null,null,null,null,1,{"$f":"IF(AZ44=1,G44,0)","v":0},{"$f":"IF(AZ44=2,G44,0)","v":0},{"$f":"IF(AZ44=3,G44,0)","v":0},{"$f":"IF(AZ44=4,G44,0)","v":0},{"$f":"IF(AZ44=5,G44,0)","v":0},null,null,null,null,null,null,null,null,null,null,null,null,null,null,null,null,null,null,null,null,null,1,1]
[null,null,"Stoka \"H\" PVC DN250:",null,0,null,null,null,null,null,null,null,"Stoka \"H\" PVC DN250:"]
[null,null,"Výkopy:",null,0,null,null,null,null,null,null,null,"Výkopy:"]
[null,null,"V hornině tř. 4 - 30%:76,4600*0,3*0,5",null,11.468999999999999,null,null,null,null,null,null,null,"V hornině tř. 4 - 30%:76,4600*0,3*0,5"]
[8,"132401211RRX","Hloubení rýh šířky do 200 cm v hor.5 STROJNĚ včetně případného dolamování ve vrstvě do 0,5 m","m3",7.6459999999999999,null,{"$f":"E48*F48","v":0},1.0410000000000001E-2,{"$f":"E48*H48","v":7.9594860000000003E-2},0,{"$f":"E48*J48","v":0},null,null,null,2,null,null,null,null,null,null,null,null,null,null,null,1,1,1,null,null,null,null,null,null,null,null,null,null,null,null,null,null,null,null,null,null,null,null,null,null,1,{"$f":"IF(AZ48=1,G48,0)","v":0},{"$f":"IF(AZ48=2,G48,0)","v":0},{"$f":"IF(AZ48=3,G48,0)","v":0},{"$f":"IF(AZ48=4,G48,0)","v":0},{"$f":"IF(AZ48=5,G48,0)","v":0},null,null,null,null,null,null,null,null,null,null,null,null,null,null,null,null,null,null,null,null,null,1,1]
[null,null,"Položka obsahuje hloubení rýh traktorbagrem, naložení výkopku na dopravní prostředek pro svislé, nebo vodorovné přemístění, popř. přemístění výkopku do 3 m (po povrchu území), případné zajištění rypadel polštáři, udržování pracoviště a ochranu výkopiště proti stékání srážkové vody z okolního terénu i s jejím odvodněním, nebo odvedením, přesekání a odstranění kořenů ve výkopišti, odstranění napadávek, urovnání dna výkopu.včetně případného dolamování ve vrstvě do 0,5 m",null,null,null,null,null,null,null,null,"Položka obsahuje hloubení rýh traktorbagrem, naložení výkopku na dopravní prostředek pro svislé, nebo vodorovné přemístění, popř. přemístění výkopku do 3 m (po povrchu území), případné zajištění rypadel polštáři, udržování pracoviště a ochranu výkopiště proti stékání srážkové vody z okolního terénu i s jejím odvodněním, nebo odvedením, přesekání a odstranění kořenů ve výkopišti, odstranění napadávek, urovnání dna výkopu.včetně případného dolamování ve vrstvě do 0,5 m",null,null,3]
[null,null,"Stoka \"H\" PVC DN250:",null,0,null,null,null,null,null,null,null,"Stoka \"H\" PVC DN250:"]
[null,null,"Výkopy:",null,0,null,null,null,null,null,null,null,"Výkopy:"]
[null,null,"V hornině tř. 5 - 10%:76,4600*0,1",null,7.6459999999999999,null,null,null,null,null,null,null,"V hornině tř. 5 - 10%:76,4600*0,1"]
[9,"151101101R00","Pažení a rozepření stěn rýh - příložné - hl.do 2 m ","m2",103.96,null,{"$f":"E53*F53","v":0},9.8999999999999999E-4,{"$f":"E53*H53","v":0.1029204},0,{"$f":"E53*J53","v":0},null,null,null,2,null,null,null,null,null,null,null,null,null,null,null,1,1,1,null,null,null,null,null,null,null,null,null,null,null,null,null,null,null,null,null,null,null,null,null,null,1,{"$f":"IF(AZ53=1,G53,0)","v":0},{"$f":"IF(AZ53=2,G53,0)","v":0},{"$f":"IF(AZ53=3,G53,0)","v":0},{"$f":"IF(AZ53=4,G53,0)","v":0},{"$f":"IF(AZ53=5,G53,0)","v":0},null,null,null,null,null,null,null,null,null,null,null,null,null,null,null,null,null,null,null,null,null,1,1]
[null,null,"Stoka \"H\" PVC DN250:",null,0,null,null,null,null,null,null,null,"Stoka \"H\" PVC DN250:"]
[null,null,"Výkopy:",null,0,null,null,null,null,null,null,null,"Výkopy:"]
[null,null,"ŠB.1-4 - ŠJ-1:13,20*(1,40+1,70)/2*2",null,40.92,null,null,null,null,null,null,null,"ŠB.1-4 - ŠJ-1:13,20*(1,40+1,70)/2*2"]
[null,null,"ŠJ-1 - ŠJ-2:(32,90-13,20)*(1,70+1,50)/2*2",null,63.04,null,null,null,null,null,null,null,"ŠJ-1 - ŠJ-2:(32,90-13,20)*(1,70+1,50)/2*2"]
[10,"151101111R00","Odstranění pažení stěn rýh - příložné - hl. do 2 m ","m2",103.96,null,{"$f":"E58*F58","v":0},0,{"$f":"E58*H58","v":0},0,{"$f":"E58*J58","v":0},null,null,null,2,null,null,null,null,null,null,null,null,null,null,null,1,1,1,null,null,null,null,null,null,null,null,null,null,null,null,null,null,null,null,null,null,null,null,null,null,1,{"$f":"IF(AZ58=1,G58,0)","v":0},{"$f":"IF(AZ58=2,G58,0)","v":0},{"$f":"IF(AZ58=3,G58,0)","v":0},{"$f":"IF(AZ58=4,G58,0)","v":0},{"$f":"IF(AZ58=5,G58,0)","v":0},null,null,null,null,null,null,null,null,null,null,null,null,null,null,null,null,null,null,null,null,null,1,1]
[null,null,"Stoka \"H\" PVC DN250:",null,0,null,null,null,null,null,null,null,"Stoka \"H\" PVC DN250:"]
[null,null,"Výkopy:",null,0,null,null,null,null,null,null,null,"Výkopy:"]
[null,null,"ŠB.1-4 - ŠJ-1:13,20*(1,40+1,70)/2*2",null,40.92,null,null,null,null,null,null,null,"ŠB.1-4 - ŠJ-1:13,20*(1,40+1,70)/2*2"]
[null,null,"ŠJ-1 - ŠJ-2:(32,90-13,20)*(1,70+1,50)/2*2",null,63.04,null,null,null,null,null,null,null,"ŠJ-1 - ŠJ-2:(32,90-13,20)*(1,70+1,50)/2*2"]
[11,"162701105RSZ","Vodorovné přemístění výkopku z hor.1-7 na skládku zhotovitele","m3",64.845200000000006,null,{"$f":"E63*F63","v":0},0,{"$f":"E63*H63","v":0},0,{"$f":"E63*J63","v":0},null,null,null,2,null,null,null,null,null,null,null,null,null,null,null,1,1,1,null,null,null,null,null,null,null,null,null,null,null,null,null,null,null,null,null,null,null,null,null,null,1,{"$f":"IF(AZ63=1,G63,0)","v":0},{"$f":"IF(AZ63=2,G63,0)","v":0},{"$f":"IF(AZ63=3,G63,0)","v":0},{"$f":"IF(AZ63=4,G63,0)","v":0},{"$f":"IF(AZ63=5,G63,0)","v":0},null,null,null,null,null,null,null,null,null,null,null,null,null,null,null,null,null,null,null,null,null,1,1]
[null,null,"Stoka \"H\" PVC DN250:",null,0,null,null,null,null,null,null,null,"Stoka \"H\" PVC DN250:"]
[null,null,"Výkopy:",null,0,null,null,null,null,null,null,null,"Výkopy:"]
[null,null,"V hornině tř. 3 - 5 :76,4600",null,76.459999999999994,null,null,null,null,null,null,null,"V hornině tř. 3 - 5 :76,4600"]
[null,null,"Odpočet zásypů zeminou:-11,6148",null,-11.614800000000001,null,null,null,null,null,null,null,"Odpočet zásypů zeminou:-11,6148"]
[12,"174101101R00","Zásyp jam, rýh, šachet se zhutněním ","m3",25.8782,null,{"$f":"E68*F68","v":0},0,{"$f":"E68*H68","v":0},0,{"$f":"E68*J68","v":0},null,null,null,2,null,null,null,null,null,null,null,null,null,null,null,1,1,1,null,null,null,null,null,null,null,null,null,null,null,null,null,null,null,null,null,null,null,null,null,null,1,{"$f":"IF(AZ68=1,G68,0)","v":0},{"$f":"IF(AZ68=2,G68,0)","v":0},{"$f":"IF(AZ68=3,G68,0)","v":0},{"$f":"IF(AZ68=4,G68,0)","v":0},{"$f":"IF(AZ68=5,G68,0)","v":0},null,null,null,null,null,null,null,null,null,null,null,null,null,null,null,null,null,null,null,null,null,1,1]
[null,null,"Položka obsahuje strojní přemístění materiálu pro zásyp ze vzdálenosti do 10 m od okraje zásypu.",null,null,null,null,null,null,null,null,"Položka obsahuje strojní přemístění materiálu pro zásyp ze vzdálenosti do 10 m od okraje zásypu.",null,null,3]
[null,null,null,null,null,null,null,null,null,null,null,null,null,null,3]
[null,null,"Stoka \"H\" PVC DN250:",null,0,null,null,null,null,null,null,null,"Stoka \"H\" PVC DN250:"]
[null,null,"Zásypy ŠD fr. 0-63 mm:14,2634",null,14.263400000000001,null,null,null,null,null,null,null,"Zásypy ŠD fr. 0-63 mm:14,2634"]
[null,null,"Začátek provozního součtu",null,0,null,null,null,null,null,null,null,"Začátek provozního součtu"]
[null,null,"Výkopy:",null,0,null,null,null,null,null,null,null,"Výkopy:"]
[null,null,"ŠB.1-4 - ŠJ-1:13,20*0,90*(1,40+1,70)/2",null,18.414000000000001,null,null,null,null,null,null,null,"ŠB.1-4 - ŠJ-1:13,20*0,90*(1,40+1,70)/2"]
[null,null,"ŠJ-1 - ŠJ-2:(32,90-13,20)*0,90*(1,70+1,50)/2",null,28.367999999999999,null,null,null,null,null,null,null,"ŠJ-1 - ŠJ-2:(32,90-13,20)*0,90*(1,70+1,50)/2"]
[null,null,"Prohloubení pro RŠ:1,60*1,60*0,20*2",null,1.024,null,null,null,null,null,null,null,"Prohloubení pro RŠ:1,60*1,60*0,20*2"]
[null,null,"Rozšíření pro RŠ:1,60*(1,60-0,90)*2,50",null,2.8,null,null,null,null,null,null,null,"Rozšíření pro RŠ:1,60*(1,60-0,90)*2,50"]
[null,null,"Odpočet objemu konstrukce komunikace:-(32,90+1,60*(1,60-0,90)*2)*0,35",null,-12.298999999999999,null,null,null,null,null,null,null,"Odpočet objemu konstrukce komunikace:-(32,90+1,60*(1,60-0,90)*2)*0,35"]
[null,null,"Odpočet objemu lože, potrubí a obsypů:-32,90*0,90*(0,15+0,25+0,30)",null,-20.727,null,null,null,null,null,null,null,"Odpočet objemu lože, potrubí a obsypů:-32,90*0,90*(0,15+0,25+0,30)"]
[null,null,"Odpočet objemu RŠ:-3,3166",null,-3.3166000000000002,null,null,null,null,null,null,null,"Odpočet objemu RŠ:-3,3166"]
[null,null,"Konec provozního součtu",null,14.263399999999994,null,null,null,null,null,null,null,"Konec provozního součtu"]
[null,null,"Zásypy zeminou:11,6148",null,11.614800000000001,null,null,null,null,null,null,null,"Zásypy zeminou:11,6148"]
[null,null,"Začátek provozního součtu",null,0,null,null,null,null,null,null,null,"Začátek provozního součtu"]
[null,null,"Výkopy:",null,0,null,null,null,null,null,null,null,"Výkopy:"]
[null,null,"ŠJ-2 - Potok:(67,50-32,90)*0,90*(1,50+1,00)/2",null,38.924999999999997,null,null,null,null,null,null,null,"ŠJ-2 - Potok:(67,50-32,90)*0,90*(1,50+1,00)/2"]
[null,null,"Potok - ŠJ-4:(85,50-82,70)*0,90*(1,50+1,50)/2",null,3.78,null,null,null,null,null,null,null,"Potok - ŠJ-4:(85,50-82,70)*0,90*(1,50+1,50)/2"]
[null,null,"Prohloubení pro RŠ:1,60*1,60*0,20*2",null,1.024,null,null,null,null,null,null,null,"Prohloubení pro RŠ:1,60*1,60*0,20*2"]
[null,null,"Rozšíření pro RŠ:1,60*(1,60-0,90)*2,10",null,2.3519999999999999,null,null,null,null,null,null,null,"Rozšíření pro RŠ:1,60*(1,60-0,90)*2,10"]
[null,null,"Odpočet objemu ornice:-(37,40+(1,60*(1,60-0,90)*2))*0,20",null,-7.9279999999999999,null,null,null,null,null,null,null,"Odpočet objemu ornice:-(37,40+(1,60*(1,60-0,90)*2))*0,20"]
[null,null,"Odpočet objemu lože, potrubí a obsypů:-(67,50-32,90+85,80-82,70)*0,90*(0,15+0,25+0,30)",null,-23.751000000000001,null,null,null,null,null,null,null,"Odpočet objemu lože, potrubí a obsypů:-(67,50-32,90+85,80-82,70)*0,90*(0,15+0,25+0,30)"]
[null,null,"Odpočet objemu RŠ:-2,7872",null,-2.7871999999999999,null,null,null,null,null,null,null,"Odpočet objemu RŠ:-2,7872"]
[null,null,"Konec provozního součtu",null,11.614799999999997,null,null,null,null,null,null,null,"Konec provozního součtu"]
[13,"175101101R00","Obsyp potrubí bez prohození sypaniny ","m3",31.8828,null,{"$f":"E94*F94","v":0},0,{"$f":"E94*H94","v":0},0,{"$f":"E94*J94","v":0},null,null,null,2,null,null,null,null,null,null,null,null,null,null,null,1,1,1,null,null,null,null,null,null,null,null,null,null,null,null,null,null,null,null,null,null,null,null,null,null,1,{"$f":"IF(AZ94=1,G94,0)","v":0},{"$f":"IF(AZ94=2,G94,0)","v":0},{"$f":"IF(AZ94=3,G94,0)","v":0},{"$f":"IF(AZ94=4,G94,0)","v":0},{"$f":"IF(AZ94=5,G94,0)","v":0},null,null,null,null,null,null,null,null,null,null,null,null,null,null,null,null,null,null,null,null,null,1,1]
[null,null,"Stoka \"J\" PVC DN250:(85,50-14,00)*(0,90*(0,25+0,30)-0,125^2*Pi)",null,31.8828,null,null,null,null,null,null,null,"Stoka \"J\" PVC DN250:(85,50-14,00)*(0,90*(0,25+0,30)-0,125^2*Pi)"]
[14,"199000002R00","Poplatek za skládku horniny 1- 7 č. dle katal. odpadů 17 05 04","m3",64.845200000000006,null,{"$f":"E96*F96","v":0},0,{"$f":"E96*H96","v":0},0,{"$f":"E96*J96","v":0},null,null,null,2,null,null,null,null,null,null,null,null,null,null,null,1,1,1,null,null,null,null,null,null,null,null,null,null,null,null,null,null,null,null,null,null,null,null,null,null,1,{"$f":"IF(AZ96=1,G96,0)","v":0},{"$f":"IF(AZ96=2,G96,0)","v":0},{"$f":"IF(AZ96=3,G96,0)","v":0},{"$f":"IF(AZ96=4,G96,0)","v":0},{"$f":"IF(AZ96=5,G96,0)","v":0},null,null,null,null,null,null,null,null,null,null,null,null,null,null,null,null,null,null,null,null,null,1,1]
[null,null,"Stoka \"H\" PVC DN250:",null,0,null,null,null,null,null,null,null,"Stoka \"H\" PVC DN250:"]
[null,null,"Výkopy:",null,0,null,null,null,null,null,null,null,"Výkopy:"]
[null,null,"V hornině tř. 3 - 5 :76,4600",null,76.459999999999994,null,null,null,null,null,null,null,"V hornině tř. 3 - 5 :76,4600"]
[null,null,"Odpočet zásypů zeminou:-11,6148",null,-11.614800000000001,null,null,null,null,null,null,null,"Odpočet zásypů zeminou:-11,6148"]
[15,"58337308.R","Štěrkopísek frakce 0-2 tř.B","t",63.533700000000003,null,{"$f":"E101*F101","v":0},1,{"$f":"E101*H101","v":63.533700000000003},null,{"$f":"E101*J101","v":0},null,null,null,2,null,null,null,null,null,null,null,null,null,null,null,3,1,"58337308.R",null,null,null,null,null,null,null,null,null,null,null,null,null,null,null,null,null,null,null,null,null,null,1,{"$f":"IF(AZ101=1,G101,0)","v":0},{"$f":"IF(AZ101=2,G101,0)","v":0},{"$f":"IF(AZ101=3,G101,0)","v":0},{"$f":"IF(AZ101=4,G101,0)","v":0},{"$f":"IF(AZ101=5,G101,0)","v":0},null,null,null,null,null,null,null,null,null,null,null,null,null,null,null,null,null,null,null,null,null,3,1]
[null,null,"Stoka \"J\" PVC DN250:(85,50-14,00)*(0,90*(0,25+0,30)-0,125^2*Pi)*1,973*1,01",null,63.533700000000003,null,null,null,null,null,null,null,"Stoka \"J\" PVC DN250:(85,50-14,00)*(0,90*(0,25+0,30)-0,125^2*Pi)*1,973*1,01"]
[16,"58344197R","Štěrkodrtě frakce 0-63 A","t",26.982500000000002,null,{"$f":"E103*F103","v":0},1,{"$f":"E103*H103","v":26.982500000000002},null,{"$f":"E103*J103","v":0},null,null,null,2,null,null,null,null,null,null,null,null,null,null,null,3,1,"58344197R",null,null,null,null,null,null,null,null,null,null,null,null,null,null,null,null,null,null,null,null,null,null,1,{"$f":"IF(AZ103=1,G103,0)","v":0},{"$f":"IF(AZ103=2,G103,0)","v":0},{"$f":"IF(AZ103=3,G103,0)","v":0},{"$f":"IF(AZ103=4,G103,0)","v":0},{"$f":"IF(AZ103=5,G103,0)","v":0},null,null,null,null,null,null,null,null,null,null,null,null,null,null,null,null,null,null,null,null,null,3,1]
[null,null,"Stoka \"H\" PVC DN250:",null,0,null,null,null,null,null,null,null,"Stoka \"H\" PVC DN250:"]
[null,null,"Zásypy ŠD fr. 0-63 mm:14,2634*1,873*1,01",null,26.982500000000002,null,null,null,null,null,null,null,"Zásypy ŠD fr. 0-63 mm:14,2634*1,873*1,01"]
[null,null,"Začátek provozního součtu",null,0,null,null,null,null,null,null,null,"Začátek provozního součtu"]
[null,null,"Výkopy:",null,0,null,null,null,null,null,null,null,"Výkopy:"]
[null,null,"ŠB.1-4 - ŠJ-1:13,20*0,90*(1,40+1,70)/2",null,18.414000000000001,null,null,null,null,null,null,null,"ŠB.1-4 - ŠJ-1:13,20*0,90*(1,40+1,70)/2"]
[null,null,"ŠJ-1 - ŠJ-2:(32,90-13,20)*0,90*(1,70+1,50)/2",null,28.367999999999999,null,null,null,null,null,null,null,"ŠJ-1 - ŠJ-2:(32,90-13,20)*0,90*(1,70+1,50)/2"]
[null,null,"Prohloubení pro RŠ:1,60*1,60*0,20*2",null,1.024,null,null,null,null,null,null,null,"Prohloubení pro RŠ:1,60*1,60*0,20*2"]
[null,null,"Rozšíření pro RŠ:1,60*(1,60-0,90)*2,50",null,2.8,null,null,null,null,null,null,null,"Rozšíření pro RŠ:1,60*(1,60-0,90)*2,50"]
[null,null,"Odpočet objemu konstrukce komunikace:-(32,90+1,60*(1,60-0,90)*2)*0,35",null,-12.298999999999999,null,null,null,null,null,null,null,"Odpočet objemu konstrukce komunikace:-(32,90+1,60*(1,60-0,90)*2)*0,35"]
[null,null,"Odpočet objemu lože, potrubí a obsypů:-32,90*0,90*(0,15+0,25+0,30)",null,-20.727,null,null,null,null,null,null,null,"Odpočet objemu lože, potrubí a obsypů:-32,90*0,90*(0,15+0,25+0,30)"]
[null,null,"Odpočet objemu RŠ:-3,3166",null,-3.3166000000000002,null,null,null,null,null,null,null,"Odpočet objemu RŠ:-3,3166"]
[null,null,"Konec provozního součtu",null,14.263399999999994,null,null,null,null,null,null,null,"Konec provozního součtu"]
[null,"Celkem za","1 Zemní práce",null,null,null,{"$f":"SUM(G7:G115)","v":0},null,{"$f":"SUM(I7:I115)","v":90.69871526},null,{"$f":"SUM(K7:K115)","v":0},null,null,null,4,null,null,null,null,null,null,null,null,null,null,null,null,null,null,null,null,null,null,null,null,null,null,null,null,null,null,null,null,null,null,null,null,null,null,null,null,null,{"$f":"SUM(BA7:BA115)","v":0},{"$f":"SUM(BB7:BB115)","v":0},{"$f":"SUM(BC7:BC115)","v":0},{"$f":"SUM(BD7:BD115)","v":0},{"$f":"SUM(BE7:BE115)","v":0}]
["Díl:","21","Úprava podloží a základ.spáry",null,null,null,null,null,null,null,null,null,null,null,1]
[17,"212810010RAC","Trativody z PVC drenážních flexibilních trubek lože štěrkopísek a obsyp kamenivo, trubky d 100 mm","m",88,null,{"$f":"E118*F118","v":0},0.43651000000000001,{"$f":"E118*H118","v":38.412880000000001},0,{"$f":"E118*J118","v":0},null,null,null,2,null,null,null,null,null,null,null,null,null,null,null,1,1,1,null,null,null,null,null,null,null,null,null,null,null,null,null,null,null,null,null,null,null,null,null,null,1,{"$f":"IF(AZ118=1,G118,0)","v":0},{"$f":"IF(AZ118=2,G118,0)","v":0},{"$f":"IF(AZ118=3,G118,0)","v":0},{"$f":"IF(AZ118=4,G118,0)","v":0},{"$f":"IF(AZ118=5,G118,0)","v":0},null,null,null,null,null,null,null,null,null,null,null,null,null,null,null,null,null,null,null,null,null,1,1]
[null,null,"Stoka \"J\" PVC DN250:",null,0,null,null,null,null,null,null,null,"Stoka \"J\" PVC DN250:"]
[null,null,"Drenáž DN100:88,00",null,88,null,null,null,null,null,null,null,"Drenáž DN100:88,00"]
[null,"Celkem za","21 Úprava podloží a základ.spáry",null,null,null,{"$f":"SUM(G117:G120)","v":0},null,{"$f":"SUM(I117:I120)","v":38.412880000000001},null,{"$f":"SUM(K117:K120)","v":0},null,null,null,4,null,null,null,null,null,null,null,null,null,null,null,null,null,null,null,null,null,null,null,null,null,null,null,null,null,null,null,null,null,null,null,null,null,null,null,null,null,{"$f":"SUM(BA117:BA120)","v":0},{"$f":"SUM(BB117:BB120)","v":0},{"$f":"SUM(BC117:BC120)","v":0},{"$f":"SUM(BD117:BD120)","v":0},{"$f":"SUM(BE117:BE120)","v":0}]
["Díl:","45","Podkladní a vedlejší konstrukce",null,null,null,null,null,null,null,null,null,null,null,1]
[18,"451572111R00","Lože pod potrubí z kameniva těženého 0 - 4 mm ","m3",9.6524999999999999,null,{"$f":"E123*F123","v":0},0.43051,{"$f":"E123*H123","v":4.1554977749999997},0,{"$f":"E123*J123","v":0},null,null,null,2,null,null,null,null,null,null,null,null,null,null,null,1,1,1,null,null,null,null,null,null,null,null,null,null,null,null,null,null,null,null,null,null,null,null,null,null,1,{"$f":"IF(AZ123=1,G123,0)","v":0},{"$f":"IF(AZ123=2,G123,0)","v":0},{"$f":"IF(AZ123=3,G123,0)","v":0},{"$f":"IF(AZ123=4,G123,0)","v":0},{"$f":"IF(AZ123=5,G123,0)","v":0},null,null,null,null,null,null,null,null,null,null,null,null,null,null,null,null,null,null,null,null,null,1,1]
[null,null,"Stoka \"J\" PVC DN250:(85,50-14,00)*0,90*0,15",null,9.6524999999999999,null,null,null,null,null,null,null,"Stoka \"J\" PVC DN250:(85,50-14,00)*0,90*0,15"]
[19,"452112111R00","Osazení beton. prstenců pod poklopy,výšky do100 mm ","kus",7,null,{"$f":"E125*F125","v":0},6.6E-3,{"$f":"E125*H125","v":4.6199999999999998E-2},0,{"$f":"E125*J125","v":0},null,null,null,2,null,null,null,null,null,null,null,null,null,null,null,1,1,1,null,null,null,null,null,null,null,null,null,null,null,null,null,null,null,null,null,null,null,null,null,null,1,{"$f":"IF(AZ125=1,G125,0)","v":0},{"$f":"IF(AZ125=2,G125,0)","v":0},{"$f":"IF(AZ125=3,G125,0)","v":0},{"$f":"IF(AZ125=4,G125,0)","v":0},{"$f":"IF(AZ125=5,G125,0)","v":0},null,null,null,null,null,null,null,null,null,null,null,null,null,null,null,null,null,null,null,null,null,1,1]
[null,null,"Volba položky se řídí výškou prstence nebo rámu. V položkách nejsou zakalkulovány náklady na dodávku betonových výrobků;",null,null,null,null,null,null,null,null,"Volba položky se řídí výškou prstence nebo rámu. V položkách nejsou zakalkulovány náklady na dodávku betonových výrobků;",null,null,3]
[null,null,"Stoka \"J\" PVC DN250:",null,0,null,null,null,null,null,null,null,"Stoka \"J\" PVC DN250:"]
[null,null,"VP60:1",null,1,null,null,null,null,null,null,null,"VP60:1"]
[null,null,"VP80:3",null,3,null,null,null,null,null,null,null,"VP80:3"]
[null,null,"VP100:3",null,3,null,null,null,null,null,null,null,"VP100:3"]
[20,"59224347.A.R","Prstenec vyrovn šachetní TBW-Q.1 63/6","kus",1.01,null,{"$f":"E131*F131","v":0},0.04,{"$f":"E131*H131","v":4.0399999999999998E-2},null,{"$f":"E131*J131","v":0},null,null,null,2,null,null,null,null,null,null,null,null,null,null,null,3,1,"59224347.A.R",null,null,null,null,null,null,null,null,null,null,null,null,null,null,null,null,null,null,null,null,null,null,1,{"$f":"IF(AZ131=1,G131,0)","v":0},{"$f":"IF(AZ131=2,G131,0)","v":0},{"$f":"IF(AZ131=3,G131,0)","v":0},{"$f":"IF(AZ131=4,G131,0)","v":0},{"$f":"IF(AZ131=5,G131,0)","v":0},null,null,null,null,null,null,null,null,null,null,null,null,null,null,null,null,null,null,null,null,null,3,1]
[null,null,"Stoka \"J\" PVC DN250:",null,0,null,null,null,null,null,null,null,"Stoka \"J\" PVC DN250:"]
[null,null,"VP60:1*1,01",null,1.01,null,null,null,null,null,null,null,"VP60:1*1,01"]
[21,"59224348.A.R","Prstenec vyrovn šachetní TBW-Q.1 63/8","kus",3.03,null,{"$f":"E134*F134","v":0},5.3999999999999999E-2,{"$f":"E134*H134","v":0.16361999999999999},null,{"$f":"E134*J134","v":0},null,null,null,2,null,null,null,null,null,null,null,null,null,null,null,3,1,"59224348.A.R",null,null,null,null,null,null,null,null,null,null,null,null,null,null,null,null,null,null,null,null,null,null,1,{"$f":"IF(AZ134=1,G134,0)","v":0},{"$f":"IF(AZ134=2,G134,0)","v":0},{"$f":"IF(AZ134=3,G134,0)","v":0},{"$f":"IF(AZ134=4,G134,0)","v":0},{"$f":"IF(AZ134=5,G134,0)","v":0},null,null,null,null,null,null,null,null,null,null,null,null,null,null,null,null,null,null,null,null,null,3,1]
[null,null,"Stoka \"J\" PVC DN250:",null,0,null,null,null,null,null,null,null,"Stoka \"J\" PVC DN250:"]
[null,null,"VP80:3*1,01",null,3.03,null,null,null,null,null,null,null,"VP80:3*1,01"]
[22,"59224349.A.R","Prstenec vyrovn šachetní TBW-Q.1 63/10","kus",3.03,null,{"$f":"E137*F137","v":0},6.8000000000000005E-2,{"$f":"E137*H137","v":0.20604},null,{"$f":"E137*J137","v":0},null,null,null,2,null,null,null,null,null,null,null,null,null,null,null,3,1,"59224349.A.R",null,null,null,null,null,null,null,null,null,null,null,null,null,null,null,null,null,null,null,null,null,null,1,{"$f":"IF(AZ137=1,G137,0)","v":0},{"$f":"IF(AZ137=2,G137,0)","v":0},{"$f":"IF(AZ137=3,G137,0)","v":0},{"$f":"IF(AZ137=4,G137,0)","v":0},{"$f":"IF(AZ137=5,G137,0)","v":0},null,null,null,null,null,null,null,null,null,null,null,null,null,null,null,null,null,null,null,null,null,3,1]
[null,null,"Stoka \"J\" PVC DN250:",null,0,null,null,null,null,null,null,null,"Stoka \"J\" PVC DN250:"]
[null,null,"VP H100:3*1,01",null,3.03,null,null,null,null,null,null,null,"VP H100:3*1,01"]
[null,"Celkem za","45 Podkladní a vedlejší konstrukce",null,null,null,{"$f":"SUM(G122:G139)","v":0},null,{"$f":"SUM(I122:I139)","v":4.6117577749999992},null,{"$f":"SUM(K122:K139)","v":0},null,null,null,4,null,null,null,null,null,null,null,null,null,null,null,null,null,null,null,null,null,null,null,null,null,null,null,null,null,null,null,null,null,null,null,null,null,null,null,null,null,{"$f":"SUM(BA122:BA139)","v":0},{"$f":"SUM(BB122:BB139)","v":0},{"$f":"SUM(BC122:BC139)","v":0},{"$f":"SUM(BD122:BD139)","v":0},{"$f":"SUM(BE122:BE139)","v":0}]
["Díl:","5","Komunikace",null,null,null,null,null,null,null,null,null,null,null,1]
[23,"572701119RRX","Provizorní zásyp rýh kam. hrubě drceným nebo recyk s následným odstraněním a odvozem","m3",12.298999999999999,null,{"$f":"E142*F142","v":0},1.4804999999999999,{"$f":"E142*H142","v":18.208669499999999},0,{"$f":"E142*J142","v":0},null,null,null,2,null,null,null,null,null,null,null,null,null,null,null,1,1,1,null,null,null,null,null,null,null,null,null,null,null,null,null,null,null,null,null,null,null,null,null,null,1,{"$f":"IF(AZ142=1,G142,0)","v":0},{"$f":"IF(AZ142=2,G142,0)","v":0},{"$f":"IF(AZ142=3,G142,0)","v":0},{"$f":"IF(AZ142=4,G142,0)","v":0},{"$f":"IF(AZ142=5,G142,0)","v":0},null,null,null,null,null,null,null,null,null,null,null,null,null,null,null,null,null,null,null,null,null,1,1]
[null,null,"Stoka \"H\" PVC DN250:",null,0,null,null,null,null,null,null,null,"Stoka \"H\" PVC DN250:"]
[null,null,"Objem konstrukce komunikace:(32,90+1,60*(1,60-0,90)*2)*0,35",null,12.298999999999999,null,null,null,null,null,null,null,"Objem konstrukce komunikace:(32,90+1,60*(1,60-0,90)*2)*0,35"]
[null,"Celkem za","5 Komunikace",null,null,null,{"$f":"SUM(G141:G144)","v":0},null,{"$f":"SUM(I141:I144)","v":18.208669499999999},null,{"$f":"SUM(K141:K144)","v":0},null,null,null,4,null,null,null,null,null,null,null,null,null,null,null,null,null,null,null,null,null,null,null,null,null,null,null,null,null,null,null,null,null,null,null,null,null,null,null,null,null,{"$f":"SUM(BA141:BA144)","v":0},{"$f":"SUM(BB141:BB144)","v":0},{"$f":"SUM(BC141:BC144)","v":0},{"$f":"SUM(BD141:BD144)","v":0},{"$f":"SUM(BE141:BE144)","v":0}]
["Díl:","8","Trubní vedení",null,null,null,null,null,null,null,null,null,null,null,1]
[24,"230200122RRX","Nasunutí potrubní sekce do ocel.chráničky, DN250 vč. D+M vymezovacích prvků a koncových manžet","m",19.600000000000001,null,{"$f":"E147*F147","v":0},2.9780000000000001E-2,{"$f":"E147*H147","v":0.5836880000000001},0,{"$f":"E147*J147","v":0},null,null,null,2,null,null,null,null,null,null,null,null,null,null,null,1,9,9,null,null,null,null,null,null,null,null,null,null,null,null,null,null,null,null,null,null,null,null,null,null,1,{"$f":"IF(AZ147=1,G147,0)","v":0},{"$f":"IF(AZ147=2,G147,0)","v":0},{"$f":"IF(AZ147=3,G147,0)","v":0},{"$f":"IF(AZ147=4,G147,0)","v":0},{"$f":"IF(AZ147=5,G147,0)","v":0},null,null,null,null,null,null,null,null,null,null,null,null,null,null,null,null,null,null,null,null,null,1,9]
[null,null,"Součástí položky je i dodávka a montáž vymezovacích prvků a koncových manžet dle projektové dokumentace a zateplení prostoru mezi ocelovou chráničkou DN500 a PVC potrubím DN250",null,null,null,null,null,null,null,null,"Součástí položky je i dodávka a montáž vymezovacích prvků a koncových manžet dle projektové dokumentace a zateplení prostoru mezi ocelovou chráničkou DN500 a PVC potrubím DN250",null,null,3]
[null,null,"Stoka \"J\" PVC DN250:",null,0,null,null,null,null,null,null,null,"Stoka \"J\" PVC DN250:"]
[null,null,"Pro potrubí v úseku dle PD - Chránička:19,60",null,19.600000000000001,null,null,null,null,null,null,null,"Pro potrubí v úseku dle PD - Chránička:19,60"]
[25,"430931003RX9","Most potrubní z trubek DN500, tl. stěny 10,0 mm ","m",19.600000000000001,null,{"$f":"E151*F151","v":0},0.26800000000000002,{"$f":"E151*H151","v":5.2528000000000006},0,{"$f":"E151*J151","v":0},null,null,null,2,null,null,null,null,null,null,null,null,null,null,null,1,9,9,null,null,null,null,null,null,null,null,null,null,null,null,null,null,null,null,null,null,null,null,null,null,1,{"$f":"IF(AZ151=1,G151,0)","v":0},{"$f":"IF(AZ151=2,G151,0)","v":0},{"$f":"IF(AZ151=3,G151,0)","v":0},{"$f":"IF(AZ151=4,G151,0)","v":0},{"$f":"IF(AZ151=5,G151,0)","v":0},null,null,null,null,null,null,null,null,null,null,null,null,null,null,null,null,null,null,null,null,null,1,9]
[null,null,"OK potrubních chrániček jsou svařované, dodané na montáž úplně sestavené včetně kotevních a podpěrných prvků, upevňovacích objímek a spojovacího a konevního materiálu.",null,null,null,null,null,null,null,null,"OK potrubních chrániček jsou svařované, dodané na montáž úplně sestavené včetně kotevních a podpěrných prvků, upevňovacích objímek a spojovacího a konevního materiálu.",null,null,3]
[null,null,"Součástí položky je i provedení ochranného nátěru chráničky a kotevních prvků dle PD.",null,null,null,null,null,null,null,null,"Součástí položky je i provedení ochranného nátěru chráničky a kotevních prvků dle PD.",null,null,3]
[null,null,"Stoka \"J\" PVC DN250:",null,0,null,null,null,null,null,null,null,"Stoka \"J\" PVC DN250:"]
[null,null,"Pro potrubí v úseku dle PD - Chránička :19,60",null,19.600000000000001,null,null,null,null,null,null,null,"Pro potrubí v úseku dle PD - Chránička :19,60"]
[26,"871373121R00","Montáž trub z plastu, gumový kroužek, DN 300 ","m",85.5,null,{"$f":"E156*F156","v":0},1.0000000000000001E-5,{"$f":"E156*H156","v":8.5500000000000007E-4},0,{"$f":"E156*J156","v":0},null,null,null,2,null,null,null,null,null,null,null,null,null,null,null,1,1,1,null,null,null,null,null,null,null,null,null,null,null,null,null,null,null,null,null,null,null,null,null,null,1,{"$f":"IF(AZ156=1,G156,0)","v":0},{"$f":"IF(AZ156=2,G156,0)","v":0},{"$f":"IF(AZ156=3,G156,0)","v":0},{"$f":"IF(AZ156=4,G156,0)","v":0},{"$f":"IF(AZ156=5,G156,0)","v":0},null,null,null,null,null,null,null,null,null,null,null,null,null,null,null,null,null,null,null,null,null,1,1]
[null,null,"Stoka \"J\" PVC DN250:85,50",null,85.5,null,null,null,null,null,null,null,"Stoka \"J\" PVC DN250:85,50"]
[27,"892601154R00","Čištění kanalizační stoky do DN 500, nad 100 m ","m",85.5,null,{"$f":"E158*F158","v":0},0,{"$f":"E158*H158","v":0},0,{"$f":"E158*J158","v":0},null,null,null,2,null,null,null,null,null,null,null,null,null,null,null,1,0,0,null,null,null,null,null,null,null,null,null,null,null,null,null,null,null,null,null,null,null,null,null,null,1,{"$f":"IF(AZ158=1,G158,0)","v":0},{"$f":"IF(AZ158=2,G158,0)","v":0},{"$f":"IF(AZ158=3,G158,0)","v":0},{"$f":"IF(AZ158=4,G158,0)","v":0},{"$f":"IF(AZ158=5,G158,0)","v":0},null,null,null,null,null,null,null,null,null,null,null,null,null,null,null,null,null,null,null,null,null,1,0]
[null,null,"V položce je zakalkulováno:",null,null,null,null,null,null,null,null,"V položce je zakalkulováno:",null,null,3]
[null,null,"a) otevření a uzavření revizních šachet a čisticích kusů",null,null,null,null,null,null,null,null,"a) otevření a uzavření revizních šachet a čisticích kusů",null,null,3]
[null,null,"b) natažení vysokotlakých hadic k místu odkud se bude kanalizace čistit",null,null,null,null,null,null,null,null,"b) natažení vysokotlakých hadic k místu odkud se bude kanalizace čistit",null,null,3]
[null,null,"c) vyčištění potrubí tlakovou vodou nebo motorovým pérem.",null,null,null,null,null,null,null,null,"c) vyčištění potrubí tlakovou vodou nebo motorovým pérem.",null,null,3]
[null,null,"Stoka \"J\" PVC DN250:85,50",null,85.5,null,null,null,null,null,null,null,"Stoka \"J\" PVC DN250:85,50"]
[28,"892855115R00","Kontrola kanalizace TV kamerou do 500 m ","m",171,null,{"$f":"E164*F164","v":0},0,{"$f":"E164*H164","v":0},0,{"$f":"E164*J164","v":0},null,null,null,2,null,null,null,null,null,null,null,null,null,null,null,1,1,1,null,null,null,null,null,null,null,null,null,null,null,null,null,null,null,null,null,null,null,null,null,null,1,{"$f":"IF(AZ164=1,G164,0)","v":0},{"$f":"IF(AZ164=2,G164,0)","v":0},{"$f":"IF(AZ164=3,G164,0)","v":0},{"$f":"IF(AZ164=4,G164,0)","v":0},{"$f":"IF(AZ164=5,G164,0)","v":0},null,null,null,null,null,null,null,null,null,null,null,null,null,null,null,null,null,null,null,null,null,1,1]
[null,null,"Provedení kaberové prohlídky včetně dodání elektronického záznamu na CD zadavateli a tištěné dokumentace průběhu kamerové prohlídky",null,null,null,null,null,null,null,null,"Provedení kaberové prohlídky včetně dodání elektronického záznamu na CD zadavateli a tištěné dokumentace průběhu kamerové prohlídky",null,null,3]
[null,null,"Stoka \"J\" PVC DN250:85,50*2",null,171,null,null,null,null,null,null,null,"Stoka \"J\" PVC DN250:85,50*2"]
[29,"894421111RT1","Osazení betonových dílců šachet skruže rovné, na kroužek, do 0,5 t","kus",1,null,{"$f":"E167*F167","v":0},0,{"$f":"E167*H167","v":0},0,{"$f":"E167*J167","v":0},null,null,null,2,null,null,null,null,null,null,null,null,null,null,null,1,1,1,null,null,null,null,null,null,null,null,null,null,null,null,null,null,null,null,null,null,null,null,null,null,1,{"$f":"IF(AZ167=1,G167,0)","v":0},{"$f":"IF(AZ167=2,G167,0)","v":0},{"$f":"IF(AZ167=3,G167,0)","v":0},{"$f":"IF(AZ167=4,G167,0)","v":0},{"$f":"IF(AZ167=5,G167,0)","v":0},null,null,null,null,null,null,null,null,null,null,null,null,null,null,null,null,null,null,null,null,null,1,1]
[null,null,"Položka je určena pro osazení betonových dílců šachet dle DIN 4034, skruže rovné na kroužek, hmotnost do 0,5 t.",null,null,null,null,null,null,null,null,"Položka je určena pro osazení betonových dílců šachet dle DIN 4034, skruže rovné na kroužek, hmotnost do 0,5 t.",null,null,3]
[null,null,"V položce nejsou zakalkulovány náklady na dodání betonových dílců; dílce se oceňují ve specifikaci.",null,null,null,null,null,null,null,null,"V položce nejsou zakalkulovány náklady na dodání betonových dílců; dílce se oceňují ve specifikaci.",null,null,3]
[null,null,"Stoka \"J\" PVC DN250:",null,0,null,null,null,null,null,null,null,"Stoka \"J\" PVC DN250:"]
[null,null,"Skruž H250:1",null,1,null,null,null,null,null,null,null,"Skruž H250:1"]
[30,"894422111RT1","Osazení betonových dílců šachet skruže přechodové, na kroužek","kus",4,null,{"$f":"E172*F172","v":0},0,{"$f":"E172*H172","v":0},0,{"$f":"E172*J172","v":0},null,null,null,2,null,null,null,null,null,null,null,null,null,null,null,1,1,1,null,null,null,null,null,null,null,null,null,null,null,null,null,null,null,null,null,null,null,null,null,null,1,{"$f":"IF(AZ172=1,G172,0)","v":0},{"$f":"IF(AZ172=2,G172,0)","v":0},{"$f":"IF(AZ172=3,G172,0)","v":0},{"$f":"IF(AZ172=4,G172,0)","v":0},{"$f":"IF(AZ172=5,G172,0)","v":0},null,null,null,null,null,null,null,null,null,null,null,null,null,null,null,null,null,null,null,null,null,1,1]
[null,null,"Položka je určena pro osazení betonových dílců šachet dle DIN 4034, skruže přechodové, zákrytové, kónusy,... na kroužek.",null,null,null,null,null,null,null,null,"Položka je určena pro osazení betonových dílců šachet dle DIN 4034, skruže přechodové, zákrytové, kónusy,... na kroužek.",null,null,3]
[null,null,"Stoka \"J\" PVC DN250:",null,0,null,null,null,null,null,null,null,"Stoka \"J\" PVC DN250:"]
[null,null,"Kónus H580:3",null,3,null,null,null,null,null,null,null,"Kónus H580:3"]
[null,null,"ZD H170:1",null,1,null,null,null,null,null,null,null,"ZD H170:1"]
[31,"894423111RT1","Osazení betonových dílců šachet do 2,0 t šachtová dna, na kroužek, do 2,0 t","kus",4,null,{"$f":"E177*F177","v":0},0,{"$f":"E177*H177","v":0},0,{"$f":"E177*J177","v":0},null,null,null,2,null,null,null,null,null,null,null,null,null,null,null,1,1,1,null,null,null,null,null,null,null,null,null,null,null,null,null,null,null,null,null,null,null,null,null,null,1,{"$f":"IF(AZ177=1,G177,0)","v":0},{"$f":"IF(AZ177=2,G177,0)","v":0},{"$f":"IF(AZ177=3,G177,0)","v":0},{"$f":"IF(AZ177=4,G177,0)","v":0},{"$f":"IF(AZ177=5,G177,0)","v":0},null,null,null,null,null,null,null,null,null,null,null,null,null,null,null,null,null,null,null,null,null,1,1]
[null,null,"Položka je určena pro osazení betonových dílců šachet dle DIN 4034, šachtová dna na kroužek, hmotnost do 2,0 t.",null,null,null,null,null,null,null,null,"Položka je určena pro osazení betonových dílců šachet dle DIN 4034, šachtová dna na kroužek, hmotnost do 2,0 t.",null,null,3]
[null,null,"V položce nejsou zakalkulovány náklady na dodání betonových dílců;",null,null,null,null,null,null,null,null,"V položce nejsou zakalkulovány náklady na dodání betonových dílců;",null,null,3]
[null,null,"Součástí položky je i podbetonování šachtového dna betonem C12/15 v min. tl. 10 cm.",null,null,null,null,null,null,null,null,"Součástí položky je i podbetonování šachtového dna betonem C12/15 v min. tl. 10 cm.",null,null,3]
[null,null,"Stoka \"J\" PVC DN250:",null,0,null,null,null,null,null,null,null,"Stoka \"J\" PVC DN250:"]
[null,null,"ŠD H575:4",null,4,null,null,null,null,null,null,null,"ŠD H575:4"]
[32,"899102111R00","Osazení poklopu s rámem do 100 kg ","kus",4,null,{"$f":"E183*F183","v":0},7.0200000000000002E-3,{"$f":"E183*H183","v":2.8080000000000001E-2},0,{"$f":"E183*J183","v":0},null,null,null,2,null,null,null,null,null,null,null,null,null,null,null,1,1,1,null,null,null,null,null,null,null,null,null,null,null,null,null,null,null,null,null,null,null,null,null,null,1,{"$f":"IF(AZ183=1,G183,0)","v":0},{"$f":"IF(AZ183=2,G183,0)","v":0},{"$f":"IF(AZ183=3,G183,0)","v":0},{"$f":"IF(AZ183=4,G183,0)","v":0},{"$f":"IF(AZ183=5,G183,0)","v":0},null,null,null,null,null,null,null,null,null,null,null,null,null,null,null,null,null,null,null,null,null,1,1]
[null,null,"Osazení provizorních poklopů během realizace stavby  (nefakturovaný materiál zhotovitele)",null,null,null,null,null,null,null,null,"Osazení provizorních poklopů během realizace stavby  (nefakturovaný materiál zhotovitele)",null,null,3]
[33,"899711122R00","Fólie výstražná z PVC šedá, šířka 30 cm ","m",71.5,null,{"$f":"E185*F185","v":0},0,{"$f":"E185*H185","v":0},0,{"$f":"E185*J185","v":0},null,null,null,2,null,null,null,null,null,null,null,null,null,null,null,1,1,1,null,null,null,null,null,null,null,null,null,null,null,null,null,null,null,null,null,null,null,null,null,null,1,{"$f":"IF(AZ185=1,G185,0)","v":0},{"$f":"IF(AZ185=2,G185,0)","v":0},{"$f":"IF(AZ185=3,G185,0)","v":0},{"$f":"IF(AZ185=4,G185,0)","v":0},{"$f":"IF(AZ185=5,G185,0)","v":0},null,null,null,null,null,null,null,null,null,null,null,null,null,null,null,null,null,null,null,null,null,1,1]
[null,null,"Stoka \"J\" PVC DN250:85,50-14,00",null,71.5,null,null,null,null,null,null,null,"Stoka \"J\" PVC DN250:85,50-14,00"]
[34,"14221300","Trubka bezešvá hladká 11353.1  DN500 a tl. 10,0 mm včetně nátěru dle PD","m",21.56,null,{"$f":"E187*F187","v":0},0.24160000000000001,{"$f":"E187*H187","v":5.2088960000000002},null,{"$f":"E187*J187","v":0},null,null,null,2,null,null,null,null,null,null,null,null,null,null,null,3,9,14221300,null,null,null,null,null,null,null,null,null,null,null,null,null,null,null,null,null,null,null,null,null,null,1,{"$f":"IF(AZ187=1,G187,0)","v":0},{"$f":"IF(AZ187=2,G187,0)","v":0},{"$f":"IF(AZ187=3,G187,0)","v":0},{"$f":"IF(AZ187=4,G187,0)","v":0},{"$f":"IF(AZ187=5,G187,0)","v":0},null,null,null,null,null,null,null,null,null,null,null,null,null,null,null,null,null,null,null,null,null,3,9]
[null,null,"Stoka \"J\" PVC DN250:",null,0,null,null,null,null,null,null,null,"Stoka \"J\" PVC DN250:"]
[null,null,"Pro potrubí v úseku dle PD - Chránička:19,60*1,1",null,21.56,null,null,null,null,null,null,null,"Pro potrubí v úseku dle PD - Chránička:19,60*1,1"]
[35,"286111923.A.R","Trubka kanalizační PVC QUANTUM SN 12 DN 250","kus",88.064999999999998,null,{"$f":"E190*F190","v":0},8.2000000000000007E-3,{"$f":"E190*H190","v":0.72213300000000002},null,{"$f":"E190*J190","v":0},null,null,null,2,null,null,null,null,null,null,null,null,null,null,null,3,1,"286111923.A.R",null,null,null,null,null,null,null,null,null,null,null,null,null,null,null,null,null,null,null,null,null,null,1,{"$f":"IF(AZ190=1,G190,0)","v":0},{"$f":"IF(AZ190=2,G190,0)","v":0},{"$f":"IF(AZ190=3,G190,0)","v":0},{"$f":"IF(AZ190=4,G190,0)","v":0},{"$f":"IF(AZ190=5,G190,0)","v":0},null,null,null,null,null,null,null,null,null,null,null,null,null,null,null,null,null,null,null,null,null,3,1]
[null,null,"Jedná  se  o  plnostěnné kanalizační trubky DN 150 – DN 400, SN 12 kN/m2 , zvenčí  i  zevnitř  hladké. Jsou  opatřeny hrdlem,  v  němž  je  vložen vysoce  elastický  jazýčkový  kroužek.  konce  trubek  (dříků)  jsou opatřeny  zkosením  pod  úhlem  15°.  Způsob  použití  trubek  je  „U“  dle  normy  ČSN  EN  1401-1, tj. mimo budovy. Spolehlivá  funkce  těsnění  je  jištěna  výztužným  kroužkem  z  elastomeru.  Je  tak  zamezeno  vypad-nutí nebo vytlačení kroužku při manipulaci a montáži. Tento systém zaručuje při správné montáži ",null,null,null,null,null,null,null,null,"Jedná  se  o  plnostěnné kanalizační trubky DN 150 – DN 400, SN 12 kN/m2 , zvenčí  i  zevnitř  hladké. Jsou  opatřeny hrdlem,  v  němž  je  vložen vysoce  elastický  jazýčkový  kroužek.  konce  trubek  (dříků)  jsou opatřeny  zkosením  pod  úhlem  15°.  Způsob  použití  trubek  je  „U“  dle  normy  ČSN  EN  1401-1, tj. mimo budovy. Spolehlivá  funkce  těsnění  je  jištěna  výztužným  kroužkem  z  elastomeru.  Je  tak  zamezeno  vypad-nutí nebo vytlačení kroužku při manipulaci a montáži. Tento systém zaručuje při správné montáži ",null,null,3]
[null,null,"dokonalou  těsnost  do  výšky  vodního  sloupce  5  metrů.",null,null,null,null,null,null,null,null,"dokonalou  těsnost  do  výšky  vodního  sloupce  5  metrů.",null,null,3]
[null,null,"Stoka \"J\" PVC DN250:85,50*1,03",null,88.064999999999998,null,null,null,null,null,null,null,"Stoka \"J\" PVC DN250:85,50*1,03"]
[36,"592243543.R","Kónus šachetní TBR-Q.1 100x63/58/12 KPS","kus",3.03,null,{"$f":"E194*F194","v":0},0.58499999999999996,{"$f":"E194*H194","v":1.7725499999999998},null,{"$f":"E194*J194","v":0},null,null,null,2,null,null,null,null,null,null,null,null,null,null,null,3,1,"592243543.R",null,null,null,null,null,null,null,null,null,null,null,null,null,null,null,null,null,null,null,null,null,null,1,{"$f":"IF(AZ194=1,G194,0)","v":0},{"$f":"IF(AZ194=2,G194,0)","v":0},{"$f":"IF(AZ194=3,G194,0)","v":0},{"$f":"IF(AZ194=4,G194,0)","v":0},{"$f":"IF(AZ194=5,G194,0)","v":0},null,null,null,null,null,null,null,null,null,null,null,null,null,null,null,null,null,null,null,null,null,3,1]
[null,null,"Stoka \"J\" PVC DN250:",null,0,null,null,null,null,null,null,null,"Stoka \"J\" PVC DN250:"]
[null,null,"Kónus H580:3*1,01",null,3.03,null,null,null,null,null,null,null,"Kónus H580:3*1,01"]
[37,"59224358.A.R","Skruž šachetní TBS-Q.1 100/25/12 PS","kus",1.01,null,{"$f":"E197*F197","v":0},0.25,{"$f":"E197*H197","v":0.2525},null,{"$f":"E197*J197","v":0},null,null,null,2,null,null,null,null,null,null,null,null,null,null,null,3,1,"59224358.A.R",null,null,null,null,null,null,null,null,null,null,null,null,null,null,null,null,null,null,null,null,null,null,1,{"$f":"IF(AZ197=1,G197,0)","v":0},{"$f":"IF(AZ197=2,G197,0)","v":0},{"$f":"IF(AZ197=3,G197,0)","v":0},{"$f":"IF(AZ197=4,G197,0)","v":0},{"$f":"IF(AZ197=5,G197,0)","v":0},null,null,null,null,null,null,null,null,null,null,null,null,null,null,null,null,null,null,null,null,null,3,1]
[null,null,"Stoka \"J\" PVC DN250:",null,0,null,null,null,null,null,null,null,"Stoka \"J\" PVC DN250:"]
[null,null,"Skruž H250:1*1,01",null,1.01,null,null,null,null,null,null,null,"Skruž H250:1*1,01"]
[38,"59224371.A.R","Dno šachetní TBZ-Q.1 100/58 KOM V20 včetně kynety dle PD","kus",4.04,null,{"$f":"E200*F200","v":0},1.27,{"$f":"E200*H200","v":5.1307999999999998},null,{"$f":"E200*J200","v":0},null,null,null,2,null,null,null,null,null,null,null,null,null,null,null,3,1,"59224371.A.R",null,null,null,null,null,null,null,null,null,null,null,null,null,null,null,null,null,null,null,null,null,null,1,{"$f":"IF(AZ200=1,G200,0)","v":0},{"$f":"IF(AZ200=2,G200,0)","v":0},{"$f":"IF(AZ200=3,G200,0)","v":0},{"$f":"IF(AZ200=4,G200,0)","v":0},{"$f":"IF(AZ200=5,G200,0)","v":0},null,null,null,null,null,null,null,null,null,null,null,null,null,null,null,null,null,null,null,null,null,3,1]
[null,null,"Stoka \"J\" PVC DN250:",null,0,null,null,null,null,null,null,null,"Stoka \"J\" PVC DN250:"]
[null,null,"ŠD H575:4*1,01",null,4.04,null,null,null,null,null,null,null,"ŠD H575:4*1,01"]
[39,"59224380.R","Těsnění elastom pro šach díly EMT 100/1.7 - DN1000","kus",5.05,null,{"$f":"E203*F203","v":0},2E-3,{"$f":"E203*H203","v":1.01E-2},null,{"$f":"E203*J203","v":0},null,null,null,2,null,null,null,null,null,null,null,null,null,null,null,3,1,"59224380.R",null,null,null,null,null,null,null,null,null,null,null,null,null,null,null,null,null,null,null,null,null,null,1,{"$f":"IF(AZ203=1,G203,0)","v":0},{"$f":"IF(AZ203=2,G203,0)","v":0},{"$f":"IF(AZ203=3,G203,0)","v":0},{"$f":"IF(AZ203=4,G203,0)","v":0},{"$f":"IF(AZ203=5,G203,0)","v":0},null,null,null,null,null,null,null,null,null,null,null,null,null,null,null,null,null,null,null,null,null,3,1]
[null,null,"Stoka \"J\" PVC DN250:",null,0,null,null,null,null,null,null,null,"Stoka \"J\" PVC DN250:"]
[null,null,"Těsnění DN1000:5*1,01",null,5.05,null,null,null,null,null,null,null,"Těsnění DN1000:5*1,01"]
[null,"Celkem za","8 Trubní vedení",null,null,null,{"$f":"SUM(G146:G205)","v":0},null,{"$f":"SUM(I146:I205)","v":18.962402000000001},null,{"$f":"SUM(K146:K205)","v":0},null,null,null,4,null,null,null,null,null,null,null,null,null,null,null,null,null,null,null,null,null,null,null,null,null,null,null,null,null,null,null,null,null,null,null,null,null,null,null,null,null,{"$f":"SUM(BA146:BA205)","v":0},{"$f":"SUM(BB146:BB205)","v":0},{"$f":"SUM(BC146:BC205)","v":0},{"$f":"SUM(BD146:BD205)","v":0},{"$f":"SUM(BE146:BE205)","v":0}]
["Díl:","93","Dokončovací práce inženýrských staveb",null,null,null,null,null,null,null,null,null,null,null,1]
[40,"939421111RT1","Osazení samonivelač.kanalizač.poklopu za finišerem bez dodávky poklopu","kus",4,null,{"$f":"E208*F208","v":0},0.15425,{"$f":"E208*H208","v":0.61699999999999999},0,{"$f":"E208*J208","v":0},null,null,null,2,null,null,null,null,null,null,null,null,null,null,null,1,0,0,null,null,null,null,null,null,null,null,null,null,null,null,null,null,null,null,null,null,null,null,null,null,1,{"$f":"IF(AZ208=1,G208,0)","v":0},{"$f":"IF(AZ208=2,G208,0)","v":0},{"$f":"IF(AZ208=3,G208,0)","v":0},{"$f":"IF(AZ208=4,G208,0)","v":0},{"$f":"IF(AZ208=5,G208,0)","v":0},null,null,null,null,null,null,null,null,null,null,null,null,null,null,null,null,null,null,null,null,null,1,0]
[null,null,"Položka obsahuje:",null,null,null,null,null,null,null,null,"Položka obsahuje:",null,null,3]
[null,null," osazení prefabrikovaného betonového prstence do rychletuhnoucí vysokopevnostní malty (s dodávkou hmot)",null,null,null,null,null,null,null,null,"- osazení prefabrikovaného betonového prstence do rychletuhnoucí malty (s dodávkou hmot)",null,null,3]
[null,null,"- zalití prstence rychletuhnoucí zálivkou do výše prstence (s dodávkou hmoty)",null,null,null,null,null,null,null,null,"- zalití prstence rychletuhnoucí zálivkou do výše prstence (s dodávkou hmoty)",null,null,3]
[null,null,"- vložení kruhového bednění",null,null,null,null,null,null,null,null,"- vložení kruhového bednění",null,null,3]
[null,null,"- doplnění mezikruží asfaltovou směsí do výšky současné podkladní vrstvy, zhutnění",null,null,null,null,null,null,null,null,"- doplnění mezikruží asfaltovou směsí do výšky současné podkladní vrstvy, zhutnění",null,null,3]
[null,null,"- vyjmutí kruhového bednění",null,null,null,null,null,null,null,null,"- vyjmutí kruhového bednění",null,null,3]
[null,null,"- osazení poklopu a zatlačení",null,null,null,null,null,null,null,null,"- osazení poklopu a zatlačení",null,null,3]
[null,null,"  (následuje pokládka finální vrstvy vozovky - není součástí položky)",null,null,null,null,null,null,null,null,"  (následuje pokládka finální vrstvy vozovky - není součástí položky)",null,null,3]
[null,null,"- povytažení poklopu",null,null,null,null,null,null,null,null,"- povytažení poklopu",null,null,3]
[null,null,"- podsyp asfaltovou směsí, spuštění poklopu a zhutnění směsi",null,null,null,null,null,null,null,null,"- podsyp asfaltovou směsí, spuštění poklopu a zhutnění směsi",null,null,3]
[41,"55244414.R","Poklop celolitinový v samonivelační rámu KDM65 D400 SN600","kus",4,null,{"$f":"E219*F219","v":0},0.113,{"$f":"E219*H219","v":0.45200000000000001},null,{"$f":"E219*J219","v":0},null,null,null,2,null,null,null,null,null,null,null,null,null,null,null,3,1,"55244414.R",null,null,null,null,null,null,null,null,null,null,null,null,null,null,null,null,null,null,null,null,null,null,1,{"$f":"IF(AZ219=1,G219,0)","v":0},{"$f":"IF(AZ219=2,G219,0)","v":0},{"$f":"IF(AZ219=3,G219,0)","v":0},{"$f":"IF(AZ219=4,G219,0)","v":0},{"$f":"IF(AZ219=5,G219,0)","v":0},null,null,null,null,null,null,null,null,null,null,null,null,null,null,null,null,null,null,null,null,null,3,1]
[null,null,"Kanalizační kruhový celolitinový samonivelační poklop bez pantu, horizontální PUR tlumící vložka na rámu, horizontální a vertikální  PUR tlumící vložka na víku, bez pružinového zajištění víka v rámu ",null,null,null,null,null,null,null,null,"Kanalizační kruhový celolitinový samonivelační poklop bez pantu, horizontální PUR tlumící vložka na rámu, horizontální a vertikální  PUR tlumící vložka na víku, bez pružinového zajištění víka v rámu ",null,null,3]
[null,null,"KDM65 bez ventilace nebo s ventilací dle TS VHS Turnov",null,null,null,null,null,null,null,null,"KDM65 bez ventilace nebo s ventilací dle TS VHS Turnov",null,null,3]
[null,null,"Víko se znakem Města ",null,null,null,null,null,null,null,null,"Víko se znakem Města ",null,null,3]
[null,"Celkem za","93 Dokončovací práce inženýrských staveb",null,null,null,{"$f":"SUM(G207:G222)","v":0},null,{"$f":"SUM(I207:I222)","v":1.069},null,{"$f":"SUM(K207:K222)","v":0},null,null,null,4,null,null,null,null,null,null,null,null,null,null,null,null,null,null,null,null,null,null,null,null,null,null,null,null,null,null,null,null,null,null,null,null,null,null,null,null,null,{"$f":"SUM(BA207:BA222)","v":0},{"$f":"SUM(BB207:BB222)","v":0},{"$f":"SUM(BC207:BC222)","v":0},{"$f":"SUM(BD207:BD222)","v":0},{"$f":"SUM(BE207:BE222)","v":0}]
["Díl:","99","Staveništní přesun hmot",null,null,null,null,null,null,null,null,null,null,null,1]
[42,"998276101RXX","Přesun hmot, trubní vedení plastová, otevř. výkop pro celý rozsah objektu","t",171.963424535,null,{"$f":"E225*F225","v":0},0,{"$f":"E225*H225","v":0},null,{"$f":"E225*J225","v":0},null,null,null,2,null,null,null,null,null,null,null,null,null,null,null,7,1,2,null,null,null,null,null,null,null,null,null,null,null,null,null,null,null,null,null,null,null,null,null,null,1,{"$f":"IF(AZ225=1,G225,0)","v":0},{"$f":"IF(AZ225=2,G225,0)","v":0},{"$f":"IF(AZ225=3,G225,0)","v":0},{"$f":"IF(AZ225=4,G225,0)","v":0},{"$f":"IF(AZ225=5,G225,0)","v":0},null,null,null,null,null,null,null,null,null,null,null,null,null,null,null,null,null,null,null,null,null,7,1]
[null,null,"Staveništní doprava pro celý rozsah objektu - doprava zmeziskládek vybudovaného zařízení staveniště zhotovitele na jednotlivé části staveniště.",null,null,null,null,null,null,null,null,"Staveništní doprava pro celý rozsah objektu - doprava zmeziskládek vybudovaného zařízení staveniště zhotovitele na jednotlivé části staveniště.",null,null,3]
[null,"Celkem za","99 Staveništní přesun hmot",null,null,null,{"$f":"SUM(G224:G226)","v":0},null,{"$f":"SUM(I224:I226)","v":0},null,{"$f":"SUM(K224:K226)","v":0},null,null,null,4,null,null,null,null,null,null,null,null,null,null,null,null,null,null,null,null,null,null,null,null,null,null,null,null,null,null,null,null,null,null,null,null,null,null,null,null,null,{"$f":"SUM(BA224:BA226)","v":0},{"$f":"SUM(BB224:BB226)","v":0},{"$f":"SUM(BC224:BC226)","v":0},{"$f":"SUM(BD224:BD226)","v":0},{"$f":"SUM(BE224:BE226)","v":0}]

{"sheet":"02 02.01.1 KL","index":25,"n_rows":45,"n_cols":8,"rows_kept":45,"cut":false,"hidden":false,"merged":[[22,0,22,1],[7,2,7,4],[8,2,8,4],[9,2,9,4],[10,2,10,4],[11,2,11,4],[50,1,50,6],[29,5,29,6],[30,5,30,6],[31,5,31,6],[32,5,32,6],[33,5,33,6],[36,1,44,6],[45,1,45,6],[46,1,46,6],[47,1,47,6],[48,1,48,6],[49,1,49,6]]}
["POLOŽKOVÝ ROZPOČET"]
["Rozpočet",null,"02.01.1","Čerpací stanice \"A\"_Stavební část",null,"JKSO ","814.19"]
[]
["Objekt",null,null,null,null,"SKP "]
["02",null,"Čerpací stanice",null,null,"Měrná jednotka","m3"]
["Stavba",null,null,null,null,"Počet jednotek",0]
["3395",null,"Kanalizace a ČOV Benešov u Semil",null,null,"Náklady na m.j.",{"$f":"IF(G6=0,,ROUND((F30+F32)/G6,1))","v":0}]
["Projektant",null,"Vodohospodářský rozvoj a výstavba a.s.",null,null,"Typ rozpočtu"]
["Zpracovatel projektu"]
["Objednatel",null,"Vodohospodářské sdružení Turnov"]
["Dodavatel",null,".",null,null,"Zakázkové číslo "]
["Rozpočtoval",null,null,null,null,"Počet listů"]
["ROZPOČTOVÉ NÁKLADY"]
["Základní rozpočtové náklady"]
[null,"HSV celkem",{"$f":"'02 02.01.1 Rek'!E15","v":0}]
["Z","PSV celkem",{"$f":"'02 02.01.1 Rek'!F15","v":0}]
["R","M práce celkem",{"$f":"'02 02.01.1 Rek'!H15","v":0}]
["N","M dodávky celkem",{"$f":"'02 02.01.1 Rek'!G15","v":0}]
["ZRN celkem",null,{"$f":"SUM(C15:C18)","v":0}]
[]
["HZS",null,{"$f":"'02 02.01.1 Rek'!I15","v":0}]
["ZRN+HZS",null,{"$f":"C19+C21","v":0}]
["ZRN+ost.náklady+HZS",null,{"$f":"C22+G23","v":0}]
["Vypracoval",null,null,"Za zhotovitele",null,"Za objednatele"]
["Jméno :",null,null,"Jméno :",null,"Jméno :"]
["Datum :",null,null,"Datum :",null,"Datum :"]
[]
["Podpis :",null,null,"Podpis:",null,"Podpis:"]
[]
["Základ pro DPH",null,21,"%  ",null,{"$f":"C23-F32","v":0}]
["DPH",null,{"$f":"C30","v":21},"% ",null,{"$f":"ROUND(PRODUCT(F30,C31/100),0)","v":0}]
["Základ pro DPH",null,0,"% ",null,0]
["DPH",null,{"$f":"C32","v":0},"% ",null,{"$f":"ROUND(PRODUCT(F32,C33/100),0)","v":0}]
["CENA ZA OBJEKT CELKEM",null,null,null,null,{"$f":"ROUND(SUM(F30:F33),0)","v":0}]
[]
["Poznámka :",null,null,null,null,null,null," "]
[null,null,null,null,null,null,null," "]
[null,null,null,null,null,null,null," "]
[null,null,null,null,null,null,null," "]
[null,null,null,null,null,null,null," "]
[null,null,null,null,null,null,null," "]
[null,null,null,null,null,null,null," "]
[null,null,null,null,null,null,null," "]
[null,null,null,null,null,null,null," "]
[null,null,null,null,null,null,null," "]

{"sheet":"02 02.01.1 Rek","index":26,"n_rows":15,"n_cols":9,"rows_kept":15,"cut":false,"hidden":false,"merged":[[0,0,0,1],[1,0,1,1],[1,6,1,8]]}
["Stavba :",null,"3395 Kanalizace a ČOV Benešov u Semil",null,null,null,"Rozpočet :","02.01.1"]
["Objekt :",null,"02 Čerpací stanice",null,null,null,"Čerpací stanice \"A\"_Stavební část"]
[]
["REKAPITULACE  STAVEBNÍCH  DÍLŮ"]
[]
[null,"Stavební díl",null,null,"HSV","PSV","Dodávka","Montáž","HZS"]
[{"$f":"'02 02.01.1 Pol'!B7","v":"1"},{"$f":"'02 02.01.1 Pol'!C7","v":"Zemní práce"},null,null,{"$f":"'02 02.01.1 Pol'!BA103","v":0},{"$f":"'02 02.01.1 Pol'!BB103","v":0},{"$f":"'02 02.01.1 Pol'!BC103","v":0},{"$f":"'02 02.01.1 Pol'!BD103","v":0},{"$f":"'02 02.01.1 Pol'!BE103","v":0}]
[{"$f":"'02 02.01.1 Pol'!B104","v":"2"},{"$f":"'02 02.01.1 Pol'!C104","v":"Základy a zvláštní zakládání"},null,null,{"$f":"'02 02.01.1 Pol'!BA114","v":0},{"$f":"'02 02.01.1 Pol'!BB114","v":0},{"$f":"'02 02.01.1 Pol'!BC114","v":0},{"$f":"'02 02.01.1 Pol'!BD114","v":0},{"$f":"'02 02.01.1 Pol'!BE114","v":0}]
[{"$f":"'02 02.01.1 Pol'!B115","v":"383"},{"$f":"'02 02.01.1 Pol'!C115","v":"Kompletní konstrukce ČS"},null,null,{"$f":"'02 02.01.1 Pol'!BA138","v":0},{"$f":"'02 02.01.1 Pol'!BB138","v":0},{"$f":"'02 02.01.1 Pol'!BC138","v":0},{"$f":"'02 02.01.1 Pol'!BD138","v":0},{"$f":"'02 02.01.1 Pol'!BE138","v":0}]
[{"$f":"'02 02.01.1 Pol'!B139","v":"5"},{"$f":"'02 02.01.1 Pol'!C139","v":"Komunikace"},null,null,{"$f":"'02 02.01.1 Pol'!BA152","v":0},{"$f":"'02 02.01.1 Pol'!BB152","v":0},{"$f":"'02 02.01.1 Pol'!BC152","v":0},{"$f":"'02 02.01.1 Pol'!BD152","v":0},{"$f":"'02 02.01.1 Pol'!BE152","v":0}]
[{"$f":"'02 02.01.1 Pol'!B153","v":"63"},{"$f":"'02 02.01.1 Pol'!C153","v":"Podlahy a podlahové konstrukce"},null,null,{"$f":"'02 02.01.1 Pol'!BA164","v":0},{"$f":"'02 02.01.1 Pol'!BB164","v":0},{"$f":"'02 02.01.1 Pol'!BC164","v":0},{"$f":"'02 02.01.1 Pol'!BD164","v":0},{"$f":"'02 02.01.1 Pol'!BE164","v":0}]
[{"$f":"'02 02.01.1 Pol'!B165","v":"90"},{"$f":"'02 02.01.1 Pol'!C165","v":"Oploceni"},null,null,{"$f":"'02 02.01.1 Pol'!BA174","v":0},{"$f":"'02 02.01.1 Pol'!BB174","v":0},{"$f":"'02 02.01.1 Pol'!BC174","v":0},{"$f":"'02 02.01.1 Pol'!BD174","v":0},{"$f":"'02 02.01.1 Pol'!BE174","v":0}]
[{"$f":"'02 02.01.1 Pol'!B175","v":"91"},{"$f":"'02 02.01.1 Pol'!C175","v":"Doplňující práce na komunikaci"},null,null,{"$f":"'02 02.01.1 Pol'!BA179","v":0},{"$f":"'02 02.01.1 Pol'!BB179","v":0},{"$f":"'02 02.01.1 Pol'!BC179","v":0},{"$f":"'02 02.01.1 Pol'!BD179","v":0},{"$f":"'02 02.01.1 Pol'!BE179","v":0}]
[{"$f":"'02 02.01.1 Pol'!B180","v":"99"},{"$f":"'02 02.01.1 Pol'!C180","v":"Staveništní přesun hmot"},null,null,{"$f":"'02 02.01.1 Pol'!BA182","v":0},{"$f":"'02 02.01.1 Pol'!BB182","v":0},{"$f":"'02 02.01.1 Pol'!BC182","v":0},{"$f":"'02 02.01.1 Pol'!BD182","v":0},{"$f":"'02 02.01.1 Pol'!BE182","v":0}]
[null,"CELKEM  OBJEKT",null,null,{"$f":"SUM(E7:E14)","v":0},{"$f":"SUM(F7:F14)","v":0},{"$f":"SUM(G7:G14)","v":0},{"$f":"SUM(H7:H14)","v":0},{"$f":"SUM(I7:I14)","v":0}]

{"sheet":"02 02.01.1 Pol","index":27,"n_rows":182,"n_cols":80,"rows_kept":182,"cut":false,"hidden":false,"merged":[[0,0,0,6],[2,0,2,1],[3,0,3,1],[3,4,3,6],[9,2,9,3],[10,2,10,3],[12,2,12,3],[13,2,13,3],[21,2,21,3],[22,2,22,3],[24,2,24,3],[25,2,25,3],[26,2,26,3],[27,2,27,3],[14,2,14,3],[15,2,15,3],[16,2,16,3],[18,2,18,3],[19,2,19,3],[20,2,20,3],[36,2,36,3],[37,2,37,3],[38,2,38,3],[39,2,39,3],[40,2,40,3],[42,2,42,6],[28,2,28,3],[30,2,30,3],[31,2,31,3],[32,2,32,3],[33,2,33,3],[34,2,34,3],[50,2,50,3],[51,2,51,3],[53,2,53,3],[54,2,54,3],[55,2,55,3],[56,2,56,3],[43,2,43,3],[44,2,44,3],[46,2,46,3],[47,2,47,3],[48,2,48,3],[49,2,49,3],[63,2,63,3],[64,2,64,3],[66,2,66,3],[67,2,67,3],[68,2,68,3],[69,2,69,3],[57,2,57,3],[58,2,58,3],[59,2,59,3],[60,2,60,3],[61,2,61,3],[62,2,62,3],[76,2,76,3],[77,2,77,3],[79,2,79,6],[80,2,80,3],[81,2,81,3],[82,2,82,3],[70,2,70,3],[71,2,71,3],[72,2,72,3],[73,2,73,3],[74,2,74,3],[75,2,75,3],[91,2,91,3],[92,2,92,3],[93,2,93,3],[94,2,94,3],[95,2,95,3],[96,2,96,3],[84,2,84,3],[85,2,85,3],[86,2,86,3],[87,2,87,3],[88,2,88,3],[89,2,89,3],[105,2,105,3],[106,2,106,3],[108,2,108,3],[109,2,109,3],[111,2,111,3],[112,2,112,3],[97,2,97,3],[98,2,98,3],[99,2,99,3],[100,2,100,3],[101,2,101,3],[124,2,124,6],[125,2,125,6],[126,2,126,6],[127,2,127,6],[128,2,128,6],[129,2,129,6],[116,2,116,6],[117,2,117,6],[118,2,118,6],[119,2,119,6],[120,2,120,6],[121,2,121,6],[122,2,122,6],[123,2,123,6],[136,2,136,3],[140,2,140,3],[141,2,141,3],[143,2,143,3],[144,2,144,3],[146,2,146,3],[147,2,147,3],[149,2,149,3],[130,2,130,6],[131,2,131,6],[132,2,132,6],[133,2,133,6],[134,2,134,6],[135,2,135,3],[176,2,176,3],[177,2,177,3],[166,2,166,6],[167,2,167,6],[168,2,168,6],[169,2,169,3],[170,2,170,3],[172,2,172,6],[150,2,150,3],[154,2,154,6],[155,2,155,3],[156,2,156,3],[158,2,158,3],[159,2,159,3],[161,2,161,3],[162,2,162,3]]}
["Položkový rozpočet "]
[]
["Stavba :",null,"3395 Kanalizace a ČOV Benešov u Semil",null,"Rozpočet:",{"$f":"'02 02.01.1 Rek'!H1","v":"02.01.1"}]
["Objekt :",null,"02 Čerpací stanice",null,{"$f":"'02 02.01.1 Rek'!G2","v":"Čerpací stanice \"A\"_Stavební část"}]
[]
["P.č.","Číslo položky","Název položky","MJ","množství","cena / MJ","celkem (Kč)","Jednotková hmotnost","Celková hmotnost","Jednotková dem.hmot.","Celková dem.hmot."]
["Díl:","1","Zemní práce",null,null,null,null,null,null,null,null,null,null,null,1]
[1,"115101201R00","Čerpání vody na výšku do 10 m, přítok do 500 l/min ","h",200,null,{"$f":"E8*F8","v":0},0,{"$f":"E8*H8","v":0},0,{"$f":"E8*J8","v":0},null,null,null,2,null,null,null,null,null,null,null,null,null,null,null,1,1,1,null,null,null,null,null,null,null,null,null,null,null,null,null,null,null,null,null,null,null,null,null,null,1,{"$f":"IF(AZ8=1,G8,0)","v":0},{"$f":"IF(AZ8=2,G8,0)","v":0},{"$f":"IF(AZ8=3,G8,0)","v":0},{"$f":"IF(AZ8=4,G8,0)","v":0},{"$f":"IF(AZ8=5,G8,0)","v":0},null,null,null,null,null,null,null,null,null,null,null,null,null,null,null,null,null,null,null,null,null,1,1]
[2,"121101100R00","Sejmutí ornice, pl. do 400 m2, přemístění do 50 m ","m3",32,null,{"$f":"E9*F9","v":0},0,{"$f":"E9*H9","v":0},0,{"$f":"E9*J9","v":0},null,null,null,2,null,null,null,null,null,null,null,null,null,null,null,1,1,1,null,null,null,null,null,null,null,null,null,null,null,null,null,null,null,null,null,null,null,null,null,null,1,{"$f":"IF(AZ9=1,G9,0)","v":0},{"$f":"IF(AZ9=2,G9,0)","v":0},{"$f":"IF(AZ9=3,G9,0)","v":0},{"$f":"IF(AZ9=4,G9,0)","v":0},{"$f":"IF(AZ9=5,G9,0)","v":0},null,null,null,null,null,null,null,null,null,null,null,null,null,null,null,null,null,null,null,null,null,1,1]
[null,null,"Čerpací šachta DN2500:",null,0,null,null,null,null,null,null,null,"Čerpací šachta DN2500:"]
[null,null,"Plocha pro realizaci stavby:20,00*8,00*0,20",null,32,null,null,null,null,null,null,null,"Plocha pro realizaci stavby:20,00*8,00*0,20"]
[3,"131201201R00","Hloubení zapažených jam v hor.3 do 100 m3 ","m3",73.5,null,{"$f":"E12*F12","v":0},0,{"$f":"E12*H12","v":0},0,{"$f":"E12*J12","v":0},null,null,null,2,null,null,null,null,null,null,null,null,null,null,null,1,1,1,null,null,null,null,null,null,null,null,null,null,null,null,null,null,null,null,null,null,null,null,null,null,1,{"$f":"IF(AZ12=1,G12,0)","v":0},{"$f":"IF(AZ12=2,G12,0)","v":0},{"$f":"IF(AZ12=3,G12,0)","v":0},{"$f":"IF(AZ12=4,G12,0)","v":0},{"$f":"IF(AZ12=5,G12,0)","v":0},null,null,null,null,null,null,null,null,null,null,null,null,null,null,null,null,null,null,null,null,null,1,1]
[null,null,"Čerpací šachta DN2500:",null,0,null,null,null,null,null,null,null,"Čerpací šachta DN2500:"]
[null,null,"Začátek provozního součtu",null,0,null,null,null,null,null,null,null,"Začátek provozního součtu"]
[null,null,"Výkopy:5,00*5,00*(5,10-0,20)",null,122.5,null,null,null,null,null,null,null,"Výkopy:5,00*5,00*(5,10-0,20)"]
[null,null,"Konec provozního součtu",null,122.5,null,null,null,null,null,null,null,"Konec provozního součtu"]
[null,null,"V hornině tř. 3 - 60%:122,50*0,6",null,73.5,null,null,null,null,null,null,null,"V hornině tř. 3 - 60%:122,50*0,6"]
[4,"131201209R00","Příplatek za lepivost - hloubení zapaž.jam v hor.3 ","m3",36.75,null,{"$f":"E18*F18","v":0},0,{"$f":"E18*H18","v":0},0,{"$f":"E18*J18","v":0},null,null,null,2,null,null,null,null,null,null,null,null,null,null,null,1,1,1,null,null,null,null,null,null,null,null,null,null,null,null,null,null,null,null,null,null,null,null,null,null,1,{"$f":"IF(AZ18=1,G18,0)","v":0},{"$f":"IF(AZ18=2,G18,0)","v":0},{"$f":"IF(AZ18=3,G18,0)","v":0},{"$f":"IF(AZ18=4,G18,0)","v":0},{"$f":"IF(AZ18=5,G18,0)","v":0},null,null,null,null,null,null,null,null,null,null,null,null,null,null,null,null,null,null,null,null,null,1,1]
[null,null,"Čerpací šachta DN2500:",null,0,null,null,null,null,null,null,null,"Čerpací šachta DN2500:"]
[null,null,"Začátek provozního součtu",null,0,null,null,null,null,null,null,null,"Začátek provozního součtu"]
[null,null,"Výkopy:5,00*5,00*(5,10-0,20)",null,122.5,null,null,null,null,null,null,null,"Výkopy:5,00*5,00*(5,10-0,20)"]
[null,null,"Konec provozního součtu",null,122.5,null,null,null,null,null,null,null,"Konec provozního součtu"]
[null,null,"V hornině tř. 3 - 60%:122,50*0,6*0,5",null,36.75,null,null,null,null,null,null,null,"V hornině tř. 3 - 60%:122,50*0,6*0,5"]
[5,"131301201R00","Hloubení zapažených jam v hor.4 do 100 m3 ","m3",36.75,null,{"$f":"E24*F24","v":0},0,{"$f":"E24*H24","v":0},0,{"$f":"E24*J24","v":0},null,null,null,2,null,null,null,null,null,null,null,null,null,null,null,1,1,1,null,null,null,null,null,null,null,null,null,null,null,null,null,null,null,null,null,null,null,null,null,null,1,{"$f":"IF(AZ24=1,G24,0)","v":0},{"$f":"IF(AZ24=2,G24,0)","v":0},{"$f":"IF(AZ24=3,G24,0)","v":0},{"$f":"IF(AZ24=4,G24,0)","v":0},{"$f":"IF(AZ24=5,G24,0)","v":0},null,null,null,null,null,null,null,null,null,null,null,null,null,null,null,null,null,null,null,null,null,1,1]
[null,null,"Čerpací šachta DN2500:",null,0,null,null,null,null,null,null,null,"Čerpací šachta DN2500:"]
[null,null,"Začátek provozního součtu",null,0,null,null,null,null,null,null,null,"Začátek provozního součtu"]
[null,null,"Výkopy:5,00*5,00*(5,10-0,20)",null,122.5,null,null,null,null,null,null,null,"Výkopy:5,00*5,00*(5,10-0,20)"]
[null,null,"Konec provozního součtu",null,122.5,null,null,null,null,null,null,null,"Konec provozního součtu"]
[null,null,"V hornině tř. 4 - 30%:122,50*0,3",null,36.75,null,null,null,null,null,null,null,"V hornině tř. 4 - 30%:122,50*0,3"]
[6,"131301209R00","Příplatek za lepivost - hloubení zapaž.jam v hor.4 ","m3",18.375,null,{"$f":"E30*F30","v":0},0,{"$f":"E30*H30","v":0},0,{"$f":"E30*J30","v":0},null,null,null,2,null,null,null,null,null,null,null,null,null,null,null,1,1,1,null,null,null,null,null,null,null,null,null,null,null,null,null,null,null,null,null,null,null,null,null,null,1,{"$f":"IF(AZ30=1,G30,0)","v":0},{"$f":"IF(AZ30=2,G30,0)","v":0},{"$f":"IF(AZ30=3,G30,0)","v":0},{"$f":"IF(AZ30=4,G30,0)","v":0},{"$f":"IF(AZ30=5,G30,0)","v":0},null,null,null,null,null,null,null,null,null,null,null,null,null,null,null,null,null,null,null,null,null,1,1]
[null,null,"Čerpací šachta DN2500:",null,0,null,null,null,null,null,null,null,"Čerpací šachta DN2500:"]
[null,null,"Začátek provozního součtu",null,0,null,null,null,null,null,null,null,"Začátek provozního součtu"]
[null,null,"Výkopy:5,00*5,00*(5,10-0,20)",null,122.5,null,null,null,null,null,null,null,"Výkopy:5,00*5,00*(5,10-0,20)"]
[null,null,"Konec provozního součtu",null,122.5,null,null,null,null,null,null,null,"Konec provozního součtu"]
[null,null,"V hornině tř. 4 - 30%:122,50*0,3*0,5",null,18.375,null,null,null,null,null,null,null,"V hornině tř. 4 - 30%:122,50*0,3*0,5"]
[7,"131401201R00","Hloubení zapažených jam v hor.5 do 100 m3 ","m3",12.25,null,{"$f":"E36*F36","v":0},3.5000000000000001E-3,{"$f":"E36*H36","v":4.2875000000000003E-2},0,{"$f":"E36*J36","v":0},null,null,null,2,null,null,null,null,null,null,null,null,null,null,null,1,1,1,null,null,null,null,null,null,null,null,null,null,null,null,null,null,null,null,null,null,null,null,null,null,1,{"$f":"IF(AZ36=1,G36,0)","v":0},{"$f":"IF(AZ36=2,G36,0)","v":0},{"$f":"IF(AZ36=3,G36,0)","v":0},{"$f":"IF(AZ36=4,G36,0)","v":0},{"$f":"IF(AZ36=5,G36,0)","v":0},null,null,null,null,null,null,null,null,null,null,null,null,null,null,null,null,null,null,null,null,null,1,1]
[null,null,"Čerpací šachta DN2500:",null,0,null,null,null,null,null,null,null,"Čerpací šachta DN2500:"]
[null,null,"Začátek provozního součtu",null,0,null,null,null,null,null,null,null,"Začátek provozního součtu"]
[null,null,"Výkopy:5,00*5,00*(5,10-0,20)",null,122.5,null,null,null,null,null,null,null,"Výkopy:5,00*5,00*(5,10-0,20)"]
[null,null,"Konec provozního součtu",null,122.5,null,null,null,null,null,null,null,"Konec provozního součtu"]
[null,null,"V hornině tř. 5 - 10%:122,50*0,1",null,12.25,null,null,null,null,null,null,null,"V hornině tř. 5 - 10%:122,50*0,1"]
[8,"151101555RRX","Pažení stěn výkopu v provedení dle PD Provedení pažení včetně jeho odstranění","m2",102,null,{"$f":"E42*F42","v":0},3.0720000000000001E-2,{"$f":"E42*H42","v":3.1334400000000002},0,{"$f":"E42*J42","v":0},null,null,null,2,null,null,null,null,null,null,null,null,null,null,null,1,1,1,null,null,null,null,null,null,null,null,null,null,null,null,null,null,null,null,null,null,null,null,null,null,1,{"$f":"IF(AZ42=1,G42,0)","v":0},{"$f":"IF(AZ42=2,G42,0)","v":0},{"$f":"IF(AZ42=3,G42,0)","v":0},{"$f":"IF(AZ42=4,G42,0)","v":0},{"$f":"IF(AZ42=5,G42,0)","v":0},null,null,null,null,null,null,null,null,null,null,null,null,null,null,null,null,null,null,null,null,null,1,1]
[null,null,"Pažení dle návrhu ve výkresu č. D6.6",null,null,null,null,null,null,null,null,"Pažení dle návrhu ve výkresu č. D6.6",null,null,3]
[null,null,"Čerpací šachta DN2500:",null,0,null,null,null,null,null,null,null,"Čerpací šachta DN2500:"]
[null,null,"Pažení výkopů:5,00*4*5,10",null,102,null,null,null,null,null,null,null,"Pažení výkopů:5,00*4*5,10"]
[9,"162701105RSZ","Vodorovné přemístění výkopku z hor.1-7 na skládku zhotovitele","m3",82.205699999999993,null,{"$f":"E46*F46","v":0},0,{"$f":"E46*H46","v":0},0,{"$f":"E46*J46","v":0},null,null,null,2,null,null,null,null,null,null,null,null,null,null,null,1,1,1,null,null,null,null,null,null,null,null,null,null,null,null,null,null,null,null,null,null,null,null,null,null,1,{"$f":"IF(AZ46=1,G46,0)","v":0},{"$f":"IF(AZ46=2,G46,0)","v":0},{"$f":"IF(AZ46=3,G46,0)","v":0},{"$f":"IF(AZ46=4,G46,0)","v":0},{"$f":"IF(AZ46=5,G46,0)","v":0},null,null,null,null,null,null,null,null,null,null,null,null,null,null,null,null,null,null,null,null,null,1,1]
[null,null,"Čerpací šachta DN2500:",null,0,null,null,null,null,null,null,null,"Čerpací šachta DN2500:"]
[null,null,"Začátek provozního součtu",null,0,null,null,null,null,null,null,null,"Začátek provozního součtu"]
[null,null,"Výkopy:5,00*5,00*(5,10-0,20)",null,122.5,null,null,null,null,null,null,null,"Výkopy:5,00*5,00*(5,10-0,20)"]
[null,null,"Konec provozního součtu",null,122.5,null,null,null,null,null,null,null,"Konec provozního součtu"]
[null,null,"V hornině tř. 3 - 5:122,50",null,122.5,null,null,null,null,null,null,null,"V hornině tř. 3 - 5:122,50"]
[null,null,"Odpočet obsypů zeminou:-80,5886*0,5",null,-40.2943,null,null,null,null,null,null,null,"Odpočet obsypů zeminou:-80,5886*0,5"]
[10,"175101201R00","Obsyp objektu bez prohození sypaniny ","m3",80.5886,null,{"$f":"E53*F53","v":0},0,{"$f":"E53*H53","v":0},0,{"$f":"E53*J53","v":0},null,null,null,2,null,null,null,null,null,null,null,null,null,null,null,1,1,1,null,null,null,null,null,null,null,null,null,null,null,null,null,null,null,null,null,null,null,null,null,null,1,{"$f":"IF(AZ53=1,G53,0)","v":0},{"$f":"IF(AZ53=2,G53,0)","v":0},{"$f":"IF(AZ53=3,G53,0)","v":0},{"$f":"IF(AZ53=4,G53,0)","v":0},{"$f":"IF(AZ53=5,G53,0)","v":0},null,null,null,null,null,null,null,null,null,null,null,null,null,null,null,null,null,null,null,null,null,1,1]
[null,null,"Čerpací šachta DN2500:",null,0,null,null,null,null,null,null,null,"Čerpací šachta DN2500:"]
[null,null,"Začátek provozního součtu",null,0,null,null,null,null,null,null,null,"Začátek provozního součtu"]
[null,null,"Výkopy:5,00*5,00*(5,10-0,20)",null,122.5,null,null,null,null,null,null,null,"Výkopy:5,00*5,00*(5,10-0,20)"]
[null,null,"Odpočet objemu konstrukcí:",null,0,null,null,null,null,null,null,null,"Odpočet objemu konstrukcí:"]
[null,null,"ŠD:-4,80*4,80*0,10",null,-2.3039999999999998,null,null,null,null,null,null,null,"ŠD:-4,80*4,80*0,10"]
[null,null,"Betonová deska :-4,80*4,80*0,15",null,-3.456,null,null,null,null,null,null,null,"Betonová deska :-4,80*4,80*0,15"]
[null,null,"Nádrž ČŠ:-1,40^2*Pi*4,58",null,-28.2014,null,null,null,null,null,null,null,"Nádrž ČŠ:-1,40^2*Pi*4,58"]
[null,null,"Odpočet části ZP:-5,00*5,00*0,27",null,-6.75,null,null,null,null,null,null,null,"Odpočet části ZP:-5,00*5,00*0,27"]
[null,null,"Odpočet základových konstrukcí:-2,00*2,00*(0,50-0,20)",null,-1.2,null,null,null,null,null,null,null,"Odpočet základových konstrukcí:-2,00*2,00*(0,50-0,20)"]
[null,null,"Konec provozního součtu",null,80.5886,null,null,null,null,null,null,null,"Konec provozního součtu"]
[null,null,"Z toho zásyp zeminou - 50%:80,5886*0,5",null,40.2943,null,null,null,null,null,null,null,"Z toho zásyp zeminou - 50%:80,5886*0,5"]
[null,null,"Z toho zásyp ŠD fr. 0-32 mm - 50%:80,5886*0,5",null,40.2943,null,null,null,null,null,null,null,"Z toho zásyp ŠD fr. 0-32 mm - 50%:80,5886*0,5"]
[11,"175101209R00","Příplatek za prohození sypaniny pro obsyp objektu ","m3",80.5886,null,{"$f":"E66*F66","v":0},0,{"$f":"E66*H66","v":0},0,{"$f":"E66*J66","v":0},null,null,null,2,null,null,null,null,null,null,null,null,null,null,null,1,1,1,null,null,null,null,null,null,null,null,null,null,null,null,null,null,null,null,null,null,null,null,null,null,1,{"$f":"IF(AZ66=1,G66,0)","v":0},{"$f":"IF(AZ66=2,G66,0)","v":0},{"$f":"IF(AZ66=3,G66,0)","v":0},{"$f":"IF(AZ66=4,G66,0)","v":0},{"$f":"IF(AZ66=5,G66,0)","v":0},null,null,null,null,null,null,null,null,null,null,null,null,null,null,null,null,null,null,null,null,null,1,1]
[null,null,"Čerpací šachta DN2500:",null,0,null,null,null,null,null,null,null,"Čerpací šachta DN2500:"]
[null,null,"Začátek provozního součtu",null,0,null,null,null,null,null,null,null,"Začátek provozního součtu"]
[null,null,"Výkopy:5,00*5,00*(5,10-0,20)",null,122.5,null,null,null,null,null,null,null,"Výkopy:5,00*5,00*(5,10-0,20)"]
[null,null,"Odpočet objemu konstrukcí:",null,0,null,null,null,null,null,null,null,"Odpočet objemu konstrukcí:"]
[null,null,"ŠD:-4,80*4,80*0,10",null,-2.3039999999999998,null,null,null,null,null,null,null,"ŠD:-4,80*4,80*0,10"]
[null,null,"Betonová deska :-4,80*4,80*0,15",null,-3.456,null,null,null,null,null,null,null,"Betonová deska :-4,80*4,80*0,15"]
[null,null,"Nádrž ČŠ:-1,40^2*Pi*4,58",null,-28.2014,null,null,null,null,null,null,null,"Nádrž ČŠ:-1,40^2*Pi*4,58"]
[null,null,"Odpočet části ZP:-5,00*5,00*0,27",null,-6.75,null,null,null,null,null,null,null,"Odpočet části ZP:-5,00*5,00*0,27"]
[null,null,"Odpočet základových konstrukcí:-2,00*2,00*(0,50-0,20)",null,-1.2,null,null,null,null,null,null,null,"Odpočet základových konstrukcí:-2,00*2,00*(0,50-0,20)"]
[null,null,"Konec provozního součtu",null,80.5886,null,null,null,null,null,null,null,"Konec provozního součtu"]
[null,null,"Z toho zásyp zeminou - 50%:80,5886*0,5",null,40.2943,null,null,null,null,null,null,null,"Z toho zásyp zeminou - 50%:80,5886*0,5"]
[null,null,"Z toho zásyp ŠD fr. 0-32 mm - 50%:80,5886*0,5",null,40.2943,null,null,null,null,null,null,null,"Z toho zásyp ŠD fr. 0-32 mm - 50%:80,5886*0,5"]
[12,"181300012RAA","Rozprostření ornice v rovině tloušťka 20 cm dovoz ornice ze vzdálenosti 500 m, osetí trávou","m2",106.24,null,{"$f":"E79*F79","v":0},3.0000000000000001E-5,{"$f":"E79*H79","v":3.1871999999999998E-3},0,{"$f":"E79*J79","v":0},null,null,null,2,null,null,null,null,null,null,null,null,null,null,null,1,1,1,null,null,null,null,null,null,null,null,null,null,null,null,null,null,null,null,null,null,null,null,null,null,1,{"$f":"IF(AZ79=1,G79,0)","v":0},{"$f":"IF(AZ79=2,G79,0)","v":0},{"$f":"IF(AZ79=3,G79,0)","v":0},{"$f":"IF(AZ79=4,G79,0)","v":0},{"$f":"IF(AZ79=5,G79,0)","v":0},null,null,null,null,null,null,null,null,null,null,null,null,null,null,null,null,null,null,null,null,null,1,1]
[null,null,"Včetně přesunu hmot.",null,null,null,null,null,null,null,null,"Včetně přesunu hmot.",null,null,3]
[null,null,"Čerpací šachta DN2500:",null,0,null,null,null,null,null,null,null,"Čerpací šachta DN2500:"]
[null,null,"Plocha pro realizaci stavby:20,00*8,00",null,160,null,null,null,null,null,null,null,"Plocha pro realizaci stavby:20,00*8,00"]
[null,null,"Odpočet zastavěné plochy :-11,20*4,80",null,-53.76,null,null,null,null,null,null,null,"Odpočet zastavěné plochy :-11,20*4,80"]
[13,"199000002R00","Poplatek za skládku horniny 1- 7 č. dle katal. odpadů 17 05 04","m3",82.205699999999993,null,{"$f":"E84*F84","v":0},0,{"$f":"E84*H84","v":0},0,{"$f":"E84*J84","v":0},null,null,null,2,null,null,null,null,null,null,null,null,null,null,null,1,1,1,null,null,null,null,null,null,null,null,null,null,null,null,null,null,null,null,null,null,null,null,null,null,1,{"$f":"IF(AZ84=1,G84,0)","v":0},{"$f":"IF(AZ84=2,G84,0)","v":0},{"$f":"IF(AZ84=3,G84,0)","v":0},{"$f":"IF(AZ84=4,G84,0)","v":0},{"$f":"IF(AZ84=5,G84,0)","v":0},null,null,null,null,null,null,null,null,null,null,null,null,null,null,null,null,null,null,null,null,null,1,1]
[null,null,"Čerpací šachta DN2500:",null,0,null,null,null,null,null,null,null,"Čerpací šachta DN2500:"]
[null,null,"Začátek provozního součtu",null,0,null,null,null,null,null,null,null,"Začátek provozního součtu"]
[null,null,"Výkopy:5,00*5,00*(5,10-0,20)",null,122.5,null,null,null,null,null,null,null,"Výkopy:5,00*5,00*(5,10-0,20)"]
[null,null,"Konec provozního součtu",null,122.5,null,null,null,null,null,null,null,"Konec provozního součtu"]
[null,null,"V hornině tř. 3 - 5:122,50",null,122.5,null,null,null,null,null,null,null,"V hornině tř. 3 - 5:122,50"]
[null,null,"Odpočet obsypů zeminou:-80,5886*0,5",null,-40.2943,null,null,null,null,null,null,null,"Odpočet obsypů zeminou:-80,5886*0,5"]
[14,"58344196R","Štěrkodrtě frakce 0-32 A","t",76.225899999999996,null,{"$f":"E91*F91","v":0},1,{"$f":"E91*H91","v":76.225899999999996},null,{"$f":"E91*J91","v":0},null,null,null,2,null,null,null,null,null,null,null,null,null,null,null,3,1,"58344196R",null,null,null,null,null,null,null,null,null,null,null,null,null,null,null,null,null,null,null,null,null,null,1,{"$f":"IF(AZ91=1,G91,0)","v":0},{"$f":"IF(AZ91=2,G91,0)","v":0},{"$f":"IF(AZ91=3,G91,0)","v":0},{"$f":"IF(AZ91=4,G91,0)","v":0},{"$f":"IF(AZ91=5,G91,0)","v":0},null,null,null,null,null,null,null,null,null,null,null,null,null,null,null,null,null,null,null,null,null,3,1]
[null,null,"Čerpací šachta DN2500:",null,0,null,null,null,null,null,null,null,"Čerpací šachta DN2500:"]
[null,null,"Začátek provozního součtu",null,0,null,null,null,null,null,null,null,"Začátek provozního součtu"]
[null,null,"Výkopy:5,00*5,00*(5,10-0,20)",null,122.5,null,null,null,null,null,null,null,"Výkopy:5,00*5,00*(5,10-0,20)"]
[null,null,"Odpočet objemu konstrukcí:",null,0,null,null,null,null,null,null,null,"Odpočet objemu konstrukcí:"]
[null,null,"ŠD:-4,80*4,80*0,10",null,-2.3039999999999998,null,null,null,null,null,null,null,"ŠD:-4,80*4,80*0,10"]
[null,null,"Betonová deska :-4,80*4,80*0,15",null,-3.456,null,null,null,null,null,null,null,"Betonová deska :-4,80*4,80*0,15"]
[null,null,"Nádrž ČŠ:-1,40^2*Pi*4,58",null,-28.2014,null,null,null,null,null,null,null,"Nádrž ČŠ:-1,40^2*Pi*4,58"]
[null,null,"Odpočet části ZP:-5,00*5,00*0,27",null,-6.75,null,null,null,null,null,null,null,"Odpočet části ZP:-5,00*5,00*0,27"]
[null,null,"Odpočet základových konstrukcí:-2,00*2,00*(0,50-0,20)",null,-1.2,null,null,null,null,null,null,null,"Odpočet základových konstrukcí:-2,00*2,00*(0,50-0,20)"]
[null,null,"Konec provozního součtu",null,80.5886,null,null,null,null,null,null,null,"Konec provozního součtu"]
[null,null,"Z toho zásyp ŠD fr. 0-32 mm - 50%:80,5886*0,5*1,873*1,01",null,76.225899999999996,null,null,null,null,null,null,null,"Z toho zásyp ŠD fr. 0-32 mm - 50%:80,5886*0,5*1,873*1,01"]
[null,"Celkem za","1 Zemní práce",null,null,null,{"$f":"SUM(G7:G102)","v":0},null,{"$f":"SUM(I7:I102)","v":79.405402199999997},null,{"$f":"SUM(K7:K102)","v":0},null,null,null,4,null,null,null,null,null,null,null,null,null,null,null,null,null,null,null,null,null,null,null,null,null,null,null,null,null,null,null,null,null,null,null,null,null,null,null,null,null,{"$f":"SUM(BA7:BA102)","v":0},{"$f":"SUM(BB7:BB102)","v":0},{"$f":"SUM(BC7:BC102)","v":0},{"$f":"SUM(BD7:BD102)","v":0},{"$f":"SUM(BE7:BE102)","v":0}]
["Díl:","2","Základy a zvláštní zakládání",null,null,null,null,null,null,null,null,null,null,null,1]
[15,"271531111R00","Polštář základu z kameniva hr. drceného 16-63 mm ","m3",2.3039999999999998,null,{"$f":"E105*F105","v":0},2.16,{"$f":"E105*H105","v":4.9766399999999997},0,{"$f":"E105*J105","v":0},null,null,null,2,null,null,null,null,null,null,null,null,null,null,null,1,1,1,null,null,null,null,null,null,null,null,null,null,null,null,null,null,null,null,null,null,null,null,null,null,1,{"$f":"IF(AZ105=1,G105,0)","v":0},{"$f":"IF(AZ105=2,G105,0)","v":0},{"$f":"IF(AZ105=3,G105,0)","v":0},{"$f":"IF(AZ105=4,G105,0)","v":0},{"$f":"IF(AZ105=5,G105,0)","v":0},null,null,null,null,null,null,null,null,null,null,null,null,null,null,null,null,null,null,null,null,null,1,1]
[null,null,"Čerpací šachta DN2500:",null,0,null,null,null,null,null,null,null,"Čerpací šachta DN2500:"]
[null,null,"Podklad pod podkladní betonovou mazaninu:4,80*4,80*0,10",null,2.3039999999999998,null,null,null,null,null,null,null,"Podklad pod podkladní betonovou mazaninu:4,80*4,80*0,10"]
[16,"273320050RAA","Základová deska ŽB z betonu C 25/30, vč.bednění výztuž 90 kg/m3, štěrkopískový polštář 15 cm","m3",2,null,{"$f":"E108*F108","v":0},3.6634199999999999,{"$f":"E108*H108","v":7.3268399999999998},0,{"$f":"E108*J108","v":0},null,null,null,2,null,null,null,null,null,null,null,null,null,null,null,1,1,1,null,null,null,null,null,null,null,null,null,null,null,null,null,null,null,null,null,null,null,null,null,null,1,{"$f":"IF(AZ108=1,G108,0)","v":0},{"$f":"IF(AZ108=2,G108,0)","v":0},{"$f":"IF(AZ108=3,G108,0)","v":0},{"$f":"IF(AZ108=4,G108,0)","v":0},{"$f":"IF(AZ108=5,G108,0)","v":0},null,null,null,null,null,null,null,null,null,null,null,null,null,null,null,null,null,null,null,null,null,1,1]
[null,null,"Čerpací šachta DN2500:",null,0,null,null,null,null,null,null,null,"Čerpací šachta DN2500:"]
[null,null,"Základová deska pro \"Dvouplášťovou nádrž\":2,00*2,00*0,50",null,2,null,null,null,null,null,null,null,"Základová deska pro \"Dvouplášťovou nádrž\":2,00*2,00*0,50"]
[17,"275320050RRX","Základová patka ŽB z betonu C 30/37 vč. bednění výztuž 90 kg/m3","m3",9.8000000000000004E-2,null,{"$f":"E111*F111","v":0},3.29677,{"$f":"E111*H111","v":0.32308345999999999},0,{"$f":"E111*J111","v":0},null,null,null,2,null,null,null,null,null,null,null,null,null,null,null,1,1,1,null,null,null,null,null,null,null,null,null,null,null,null,null,null,null,null,null,null,null,null,null,null,1,{"$f":"IF(AZ111=1,G111,0)","v":0},{"$f":"IF(AZ111=2,G111,0)","v":0},{"$f":"IF(AZ111=3,G111,0)","v":0},{"$f":"IF(AZ111=4,G111,0)","v":0},{"$f":"IF(AZ111=5,G111,0)","v":0},null,null,null,null,null,null,null,null,null,null,null,null,null,null,null,null,null,null,null,null,null,1,1]
[null,null,"Čerpací šachta DN2500:",null,0,null,null,null,null,null,null,null,"Čerpací šachta DN2500:"]
[null,null,"Základová patka pro \"Jeřábek\":0,35*0,35*0,80",null,9.8000000000000004E-2,null,null,null,null,null,null,null,"Základová patka pro \"Jeřábek\":0,35*0,35*0,80"]
[null,"Celkem za","2 Základy a zvláštní zakládání",null,null,null,{"$f":"SUM(G104:G113)","v":0},null,{"$f":"SUM(I104:I113)","v":12.62656346},null,{"$f":"SUM(K104:K113)","v":0},null,null,null,4,null,null,null,null,null,null,null,null,null,null,null,null,null,null,null,null,null,null,null,null,null,null,null,null,null,null,null,null,null,null,null,null,null,null,null,null,null,{"$f":"SUM(BA104:BA113)","v":0},{"$f":"SUM(BB104:BB113)","v":0},{"$f":"SUM(BC104:BC113)","v":0},{"$f":"SUM(BD104:BD113)","v":0},{"$f":"SUM(BE104:BE113)","v":0}]
["Díl:","383","Kompletní konstrukce ČS",null,null,null,null,null,null,null,null,null,null,null,1]
[18,"894410040RAC","Čerpací šachta z betonových dílců DN2500 Provedení dle v.č. D.6.1","kpl",1,null,{"$f":"E116*F116","v":0},25.343699999999998,{"$f":"E116*H116","v":25.343699999999998},0,{"$f":"E116*J116","v":0},null,null,null,2,null,null,null,null,null,null,null,null,null,null,null,1,1,1,null,null,null,null,null,null,null,null,null,null,null,null,null,null,null,null,null,null,null,null,null,null,1,{"$f":"IF(AZ116=1,G116,0)","v":0},{"$f":"IF(AZ116=2,G116,0)","v":0},{"$f":"IF(AZ116=3,G116,0)","v":0},{"$f":"IF(AZ116=4,G116,0)","v":0},{"$f":"IF(AZ116=5,G116,0)","v":0},null,null,null,null,null,null,null,null,null,null,null,null,null,null,null,null,null,null,null,null,null,1,1]
[null,null,"V položce je zakalkulováno: ",null,null,null,null,null,null,null,null,"V položce je zakalkulováno: ",null,null,3]
[null,null,"- Zřízení šachety z betonových dílců ",null,null,null,null,null,null,null,null,"- Zřízení šachety z betonových dílců ",null,null,3]
[null,null,"Dno                     PNK-Q.1 250/200 BZP",null,null,null,null,null,null,null,null,"Dno                     PNK-Q.1 250/200 BZP",null,null,3]
[null,null,"Skruž                   PNK-Q.1 250/200 BZP",null,null,null,null,null,null,null,null,"Skruž                   PNK-Q.1 250/200 BZP",null,null,3]
[null,null,"Skruž                   PNK-Q.1 250/50 BZP",null,null,null,null,null,null,null,null,"Skruž                   PNK-Q.1 250/50 BZP",null,null,3]
[null,null,"Zákratová deska PNK-Q.1 250/20 ZDP s integrovaným poklopem 800x800 mm (vodozdorný, pachutěsný a uzamikatelný) D400",null,null,null,null,null,null,null,null,"Zákratová deska PNK-Q.1 250/20 ZDP s integrovaným poklopem 800x800 mm (vodozdorný, pachutěsný a uzamikatelný) D400",null,null,3]
[null,null,"Součástí položky je dodávka příslušných těsnících prvků prefa dílců.",null,null,null,null,null,null,null,null,"Součástí položky je dodávka příslušných těsnících prvků prefa dílců.",null,null,3]
[null,null,"- Vztlaková betonová pojistka šschty z C30/37",null,null,null,null,null,null,null,null,"- Vztlaková betonová pojistka šschty z C30/37",null,null,3]
[null,null,"- Vytvoření a utěsnění prostupů pro napojení šachty na sítě",null,null,null,null,null,null,null,null,"- Vytvoření a utěsnění prostupů pro napojení šachty na sítě",null,null,3]
[null,null,"1x výtlak PE D140 ",null,null,null,null,null,null,null,null,"1x výtlak PE D140 ",null,null,3]
[null,null,"1x potrubí nátoku PVC DN200 + redukce PVC DN315/200",null,null,null,null,null,null,null,null,"1x potrubí nátoku PVC DN200 + redukce PVC DN315/200",null,null,3]
[null,null,"1x havarijní přeped PVC DN200",null,null,null,null,null,null,null,null,"1x havarijní přeped PVC DN200",null,null,3]
[null,null,"2x chránička pro elektroinstalace DN80",null,null,null,null,null,null,null,null,"2x chránička pro elektroinstalace DN80",null,null,3]
[null,null,"1x chránička pro elektroinstalaci DN50",null,null,null,null,null,null,null,null,"1x chránička pro elektroinstalaci DN50",null,null,3]
[null,null,"1x prostip pro odvětrání DN150",null,null,null,null,null,null,null,null,"1x prostip pro odvětrání DN150",null,null,3]
[null,null,"- Vytvarování dna šachty betonem C25/30 dle projektové dokumentace.",null,null,null,null,null,null,null,null,"- Vytvarování dna šachty betonem C25/30 dle projektové dokumentace.",null,null,3]
[null,null,"- Dodávka montáž nerezového žebříku včetně výsuvných madel v celkovém  provedení dle příslušné ČSN - dékla 425 cm.",null,null,null,null,null,null,null,null,"- Dodávka montáž nerezového žebříku včetně výsuvných madel v celkovém  provedení dle příslušné ČSN - dékla 425 cm.",null,null,3]
[null,null,"- Dodávka a montáž odvětrávacího potrubí PVC DN150 v celkové délce 13,0 m včetně zakončení potrubí dle projektocé dokumentace.",null,null,null,null,null,null,null,null,"- Dodávka a montáž odvětrávacího potrubí PVC DN150 v celkové délce 13,0 m včetně zakončení potrubí dle projektocé dokumentace.",null,null,3]
[null,null,"Součástí položky je i provedení hydroizolace dle návrhu v projektové dokumentaci a provedení příslušné tlakové zkoušky nádrže dle ŠN 75 0905.",null,null,null,null,null,null,null,null,"Součástí položky je i provedení hydroizolace dle návrhu v projektové dokumentaci a provedení příslušné tlakové zkoušky nádrže dle ŠN 75 0905.",null,null,3]
[null,null,"Čerpací šachta DN2500:",null,0,null,null,null,null,null,null,null,"Čerpací šachta DN2500:"]
[null,null,"Kompletní provedení stavební části ČS:1",null,1,null,null,null,null,null,null,null,"Kompletní provedení stavební části ČS:1"]
[null,"Celkem za","383 Kompletní konstrukce ČS",null,null,null,{"$f":"SUM(G115:G137)","v":0},null,{"$f":"SUM(I115:I137)","v":25.343699999999998},null,{"$f":"SUM(K115:K137)","v":0},null,null,null,4,null,null,null,null,null,null,null,null,null,null,null,null,null,null,null,null,null,null,null,null,null,null,null,null,null,null,null,null,null,null,null,null,null,null,null,null,null,{"$f":"SUM(BA115:BA137)","v":0},{"$f":"SUM(BB115:BB137)","v":0},{"$f":"SUM(BC115:BC137)","v":0},{"$f":"SUM(BD115:BD137)","v":0},{"$f":"SUM(BE115:BE137)","v":0}]
["Díl:","5","Komunikace",null,null,null,null,null,null,null,null,null,null,null,1]
[19,"564851113R00","Podklad ze štěrkodrti po zhutnění tloušťky 17 cm ","m2",67.2,null,{"$f":"E140*F140","v":0},0.4284,{"$f":"E140*H140","v":28.78848},0,{"$f":"E140*J140","v":0},null,null,null,2,null,null,null,null,null,null,null,null,null,null,null,1,1,1,null,null,null,null,null,null,null,null,null,null,null,null,null,null,null,null,null,null,null,null,null,null,1,{"$f":"IF(AZ140=1,G140,0)","v":0},{"$f":"IF(AZ140=2,G140,0)","v":0},{"$f":"IF(AZ140=3,G140,0)","v":0},{"$f":"IF(AZ140=4,G140,0)","v":0},{"$f":"IF(AZ140=5,G140,0)","v":0},null,null,null,null,null,null,null,null,null,null,null,null,null,null,null,null,null,null,null,null,null,1,1]
[null,null,"Čerpací šachta DN2500:",null,0,null,null,null,null,null,null,null,"Čerpací šachta DN2500:"]
[null,null,"Zpevněná plocha:12,00*5,60",null,67.2,null,null,null,null,null,null,null,"Zpevněná plocha:12,00*5,60"]
[20,"567122114R00","Podklad z kameniva zpev.cementem SC C8/10 tl.15 cm ","m2",53.76,null,{"$f":"E143*F143","v":0},0.38313999999999998,{"$f":"E143*H143","v":20.597606399999997},0,{"$f":"E143*J143","v":0},null,null,null,2,null,null,null,null,null,null,null,null,null,null,null,1,1,1,null,null,null,null,null,null,null,null,null,null,null,null,null,null,null,null,null,null,null,null,null,null,1,{"$f":"IF(AZ143=1,G143,0)","v":0},{"$f":"IF(AZ143=2,G143,0)","v":0},{"$f":"IF(AZ143=3,G143,0)","v":0},{"$f":"IF(AZ143=4,G143,0)","v":0},{"$f":"IF(AZ143=5,G143,0)","v":0},null,null,null,null,null,null,null,null,null,null,null,null,null,null,null,null,null,null,null,null,null,1,1]
[null,null,"Čerpací šachta DN2500:",null,0,null,null,null,null,null,null,null,"Čerpací šachta DN2500:"]
[null,null,"Zpevněná plocha:11,20*4,80",null,53.76,null,null,null,null,null,null,null,"Zpevněná plocha:11,20*4,80"]
[21,"591211111R00","Kladení dlažby drobné kostky,lože z kamen.tl. 5 cm ","m2",43.602499999999999,null,{"$f":"E146*F146","v":0},0.11,{"$f":"E146*H146","v":4.7962749999999996},0,{"$f":"E146*J146","v":0},null,null,null,2,null,null,null,null,null,null,null,null,null,null,null,1,1,1,null,null,null,null,null,null,null,null,null,null,null,null,null,null,null,null,null,null,null,null,null,null,1,{"$f":"IF(AZ146=1,G146,0)","v":0},{"$f":"IF(AZ146=2,G146,0)","v":0},{"$f":"IF(AZ146=3,G146,0)","v":0},{"$f":"IF(AZ146=4,G146,0)","v":0},{"$f":"IF(AZ146=5,G146,0)","v":0},null,null,null,null,null,null,null,null,null,null,null,null,null,null,null,null,null,null,null,null,null,1,1]
[null,null,"Čerpací šachta DN2500:",null,0,null,null,null,null,null,null,null,"Čerpací šachta DN2500:"]
[null,null,"Zpevněná plocha:11,20*4,80-2,00*2,00-1,40^2*Pi",null,43.602499999999999,null,null,null,null,null,null,null,"Zpevněná plocha:11,20*4,80-2,00*2,00-1,40^2*Pi"]
[22,"58380129.R","Kostka dlažební drobná 10/12 štípaná Itř. 1t=4,0m2","t",11.4457,null,{"$f":"E149*F149","v":0},1,{"$f":"E149*H149","v":11.4457},null,{"$f":"E149*J149","v":0},null,null,null,2,null,null,null,null,null,null,null,null,null,null,null,3,1,"58380129.R",null,null,null,null,null,null,null,null,null,null,null,null,null,null,null,null,null,null,null,null,null,null,1,{"$f":"IF(AZ149=1,G149,0)","v":0},{"$f":"IF(AZ149=2,G149,0)","v":0},{"$f":"IF(AZ149=3,G149,0)","v":0},{"$f":"IF(AZ149=4,G149,0)","v":0},{"$f":"IF(AZ149=5,G149,0)","v":0},null,null,null,null,null,null,null,null,null,null,null,null,null,null,null,null,null,null,null,null,null,3,1]
[null,null,"Čerpací šachta DN2500:",null,0,null,null,null,null,null,null,null,"Čerpací šachta DN2500:"]
[null,null,"Zpevněná plocha:(11,20*4,80-2,00*2,00-1,40^2*Pi)/4,00*1,05",null,11.4457,null,null,null,null,null,null,null,"Zpevněná plocha:(11,20*4,80-2,00*2,00-1,40^2*Pi)/4,00*1,05"]
[null,"Celkem za","5 Komunikace",null,null,null,{"$f":"SUM(G139:G151)","v":0},null,{"$f":"SUM(I139:I151)","v":65.628061399999993},null,{"$f":"SUM(K139:K151)","v":0},null,null,null,4,null,null,null,null,null,null,null,null,null,null,null,null,null,null,null,null,null,null,null,null,null,null,null,null,null,null,null,null,null,null,null,null,null,null,null,null,null,{"$f":"SUM(BA139:BA151)","v":0},{"$f":"SUM(BB139:BB151)","v":0},{"$f":"SUM(BC139:BC151)","v":0},{"$f":"SUM(BD139:BD151)","v":0},{"$f":"SUM(BE139:BE151)","v":0}]
["Díl:","63","Podlahy a podlahové konstrukce",null,null,null,null,null,null,null,null,null,null,null,1]
[23,"631315511R00","Mazanina betonová tl. 12 - 24 cm C 12/15 ","m3",3.456,null,{"$f":"E154*F154","v":0},2.5249999999999999,{"$f":"E154*H154","v":8.7263999999999999},0,{"$f":"E154*J154","v":0},null,null,null,2,null,null,null,null,null,null,null,null,null,null,null,1,1,1,null,null,null,null,null,null,null,null,null,null,null,null,null,null,null,null,null,null,null,null,null,null,1,{"$f":"IF(AZ154=1,G154,0)","v":0},{"$f":"IF(AZ154=2,G154,0)","v":0},{"$f":"IF(AZ154=3,G154,0)","v":0},{"$f":"IF(AZ154=4,G154,0)","v":0},{"$f":"IF(AZ154=5,G154,0)","v":0},null,null,null,null,null,null,null,null,null,null,null,null,null,null,null,null,null,null,null,null,null,1,1]
[null,null,"Včetně vytvoření dilatačních spár, bez zaplnění.",null,null,null,null,null,null,null,null,"Včetně vytvoření dilatačních spár, bez zaplnění.",null,null,3]
[null,null,"Čerpací šachta DN2500:",null,0,null,null,null,null,null,null,null,"Čerpací šachta DN2500:"]
[null,null,"Podklad beton pod ČŠ:4,80*4,80*0,15",null,3.456,null,null,null,null,null,null,null,"Podklad beton pod ČŠ:4,80*4,80*0,15"]
[24,"631319175R00","Příplatek za stržení povrchu mazaniny tl. 24 cm ","m3",3.456,null,{"$f":"E158*F158","v":0},0,{"$f":"E158*H158","v":0},0,{"$f":"E158*J158","v":0},null,null,null,2,null,null,null,null,null,null,null,null,null,null,null,1,1,1,null,null,null,null,null,null,null,null,null,null,null,null,null,null,null,null,null,null,null,null,null,null,1,{"$f":"IF(AZ158=1,G158,0)","v":0},{"$f":"IF(AZ158=2,G158,0)","v":0},{"$f":"IF(AZ158=3,G158,0)","v":0},{"$f":"IF(AZ158=4,G158,0)","v":0},{"$f":"IF(AZ158=5,G158,0)","v":0},null,null,null,null,null,null,null,null,null,null,null,null,null,null,null,null,null,null,null,null,null,1,1]
[null,null,"Čerpací šachta DN2500:",null,0,null,null,null,null,null,null,null,"Čerpací šachta DN2500:"]
[null,null,"Podklad beton pod ČŠ:4,80*4,80*0,15",null,3.456,null,null,null,null,null,null,null,"Podklad beton pod ČŠ:4,80*4,80*0,15"]
[25,"631361921RU2","Výztuž mazanin svařovanou sítí průměr drátu 10,0, oka 150/150 mm KZ70","t",0.28199999999999997,null,{"$f":"E161*F161","v":0},1.0636300000000001,{"$f":"E161*H161","v":0.29994366},0,{"$f":"E161*J161","v":0},null,null,null,2,null,null,null,null,null,null,null,null,null,null,null,1,1,1,null,null,null,null,null,null,null,null,null,null,null,null,null,null,null,null,null,null,null,null,null,null,1,{"$f":"IF(AZ161=1,G161,0)","v":0},{"$f":"IF(AZ161=2,G161,0)","v":0},{"$f":"IF(AZ161=3,G161,0)","v":0},{"$f":"IF(AZ161=4,G161,0)","v":0},{"$f":"IF(AZ161=5,G161,0)","v":0},null,null,null,null,null,null,null,null,null,null,null,null,null,null,null,null,null,null,null,null,null,1,1]
[null,null,"Čerpací šachta DN2500:",null,0,null,null,null,null,null,null,null,"Čerpací šachta DN2500:"]
[null,null,"Podklad beton pod ČŠ:4,80*4,80*0,0102*1,2",null,0.28199999999999997,null,null,null,null,null,null,null,"Podklad beton pod ČŠ:4,80*4,80*0,0102*1,2"]
[null,"Celkem za","63 Podlahy a podlahové konstrukce",null,null,null,{"$f":"SUM(G153:G163)","v":0},null,{"$f":"SUM(I153:I163)","v":9.0263436600000002},null,{"$f":"SUM(K153:K163)","v":0},null,null,null,4,null,null,null,null,null,null,null,null,null,null,null,null,null,null,null,null,null,null,null,null,null,null,null,null,null,null,null,null,null,null,null,null,null,null,null,null,null,{"$f":"SUM(BA153:BA163)","v":0},{"$f":"SUM(BB153:BB163)","v":0},{"$f":"SUM(BC153:BC163)","v":0},{"$f":"SUM(BD153:BD163)","v":0},{"$f":"SUM(BE153:BE163)","v":0}]
["Díl:","90","Oploceni",null,null,null,null,null,null,null,null,null,null,null,1]
[26,"900401222RRX","Plot z sítě Nylofor 3D (Zn+Pvc) oko 50x200 mm včetně podhrabové desky, sloupku a základů","m",38.4,null,{"$f":"E166*F166","v":0},0.64012999999999998,{"$f":"E166*H166","v":24.580991999999998},0,{"$f":"E166*J166","v":0},null,null,null,2,null,null,null,null,null,null,null,null,null,null,null,1,1,1,null,null,null,null,null,null,null,null,null,null,null,null,null,null,null,null,null,null,null,null,null,null,1,{"$f":"IF(AZ166=1,G166,0)","v":0},{"$f":"IF(AZ166=2,G166,0)","v":0},{"$f":"IF(AZ166=3,G166,0)","v":0},{"$f":"IF(AZ166=4,G166,0)","v":0},{"$f":"IF(AZ166=5,G166,0)","v":0},null,null,null,null,null,null,null,null,null,null,null,null,null,null,null,null,null,null,null,null,null,1,1]
[null,null,"Oplocení dle projektové dokumentace v.č. D.6.2",null,null,null,null,null,null,null,null,"Oplocení dle projektové dokumentace v.č. D.6.2",null,null,3]
[null,null,"Výška oplocení včetně podhabové desky - 1,60 m",null,null,null,null,null,null,null,null,"Výška oplocení včetně podhabové desky - 1,60 m",null,null,3]
[null,null,"Výška podhrabové desky 0,30 m",null,null,null,null,null,null,null,null,"Výška podhrabové desky 0,30 m",null,null,3]
[null,null,"Čerpací šachta DN2500:",null,0,null,null,null,null,null,null,null,"Čerpací šachta DN2500:"]
[null,null,"Oplocení ČS:38,40",null,38.4,null,null,null,null,null,null,null,"Oplocení ČS:38,40"]
[27,"900401231RRX","Vrata 360x1,60 m včetně sloupů a základů ","kpl",1,null,{"$f":"E172*F172","v":0},0,{"$f":"E172*H172","v":0},0,{"$f":"E172*J172","v":0},null,null,null,2,null,null,null,null,null,null,null,null,null,null,null,1,1,1,null,null,null,null,null,null,null,null,null,null,null,null,null,null,null,null,null,null,null,null,null,null,1,{"$f":"IF(AZ172=1,G172,0)","v":0},{"$f":"IF(AZ172=2,G172,0)","v":0},{"$f":"IF(AZ172=3,G172,0)","v":0},{"$f":"IF(AZ172=4,G172,0)","v":0},{"$f":"IF(AZ172=5,G172,0)","v":0},null,null,null,null,null,null,null,null,null,null,null,null,null,null,null,null,null,null,null,null,null,1,1]
[null,null,"Vrata v provedení dle projektové dokumentace s výplní 3D včetně kování a fab",null,null,null,null,null,null,null,null,"Vrata v provedení dle projektové dokumentace s výplní 3D včetně kování a fab",null,null,3]
[null,"Celkem za","90 Oploceni",null,null,null,{"$f":"SUM(G165:G173)","v":0},null,{"$f":"SUM(I165:I173)","v":24.580991999999998},null,{"$f":"SUM(K165:K173)","v":0},null,null,null,4,null,null,null,null,null,null,null,null,null,null,null,null,null,null,null,null,null,null,null,null,null,null,null,null,null,null,null,null,null,null,null,null,null,null,null,null,null,{"$f":"SUM(BA165:BA173)","v":0},{"$f":"SUM(BB165:BB173)","v":0},{"$f":"SUM(BC165:BC173)","v":0},{"$f":"SUM(BD165:BD173)","v":0},{"$f":"SUM(BE165:BE173)","v":0}]
["Díl:","91","Doplňující práce na komunikaci",null,null,null,null,null,null,null,null,null,null,null,1]
[28,"917862114RU2","Osazení stojat. obrub.bet. s opěrou,lože z C 25/30 včetně obrubníku ABO 100/15/25","m",32,null,{"$f":"E176*F176","v":0},0.26980999999999999,{"$f":"E176*H176","v":8.6339199999999998},0,{"$f":"E176*J176","v":0},null,null,null,2,null,null,null,null,null,null,null,null,null,null,null,1,1,1,null,null,null,null,null,null,null,null,null,null,null,null,null,null,null,null,null,null,null,null,null,null,1,{"$f":"IF(AZ176=1,G176,0)","v":0},{"$f":"IF(AZ176=2,G176,0)","v":0},{"$f":"IF(AZ176=3,G176,0)","v":0},{"$f":"IF(AZ176=4,G176,0)","v":0},{"$f":"IF(AZ176=5,G176,0)","v":0},null,null,null,null,null,null,null,null,null,null,null,null,null,null,null,null,null,null,null,null,null,1,1]
[null,null,"Čerpací šachta DN2500:",null,0,null,null,null,null,null,null,null,"Čerpací šachta DN2500:"]
[null,null,"Zpevněná plocha:(11,20+4,80)*2",null,32,null,null,null,null,null,null,null,"Zpevněná plocha:(11,20+4,80)*2"]
[null,"Celkem za","91 Doplňující práce na komunikaci",null,null,null,{"$f":"SUM(G175:G178)","v":0},null,{"$f":"SUM(I175:I178)","v":8.6339199999999998},null,{"$f":"SUM(K175:K178)","v":0},null,null,null,4,null,null,null,null,null,null,null,null,null,null,null,null,null,null,null,null,null,null,null,null,null,null,null,null,null,null,null,null,null,null,null,null,null,null,null,null,null,{"$f":"SUM(BA175:BA178)","v":0},{"$f":"SUM(BB175:BB178)","v":0},{"$f":"SUM(BC175:BC178)","v":0},{"$f":"SUM(BD175:BD178)","v":0},{"$f":"SUM(BE175:BE178)","v":0}]
["Díl:","99","Staveništní přesun hmot",null,null,null,null,null,null,null,null,null,null,null,1]
[29,"998144471R00","Přesun hmot, jímky a nádrže pozemní výšky do 25 m ","t",225.24498272,null,{"$f":"E181*F181","v":0},0,{"$f":"E181*H181","v":0},null,{"$f":"E181*J181","v":0},null,null,null,2,null,null,null,null,null,null,null,null,null,null,null,7,1,2,null,null,null,null,null,null,null,null,null,null,null,null,null,null,null,null,null,null,null,null,null,null,1,{"$f":"IF(AZ181=1,G181,0)","v":0},{"$f":"IF(AZ181=2,G181,0)","v":0},{"$f":"IF(AZ181=3,G181,0)","v":0},{"$f":"IF(AZ181=4,G181,0)","v":0},{"$f":"IF(AZ181=5,G181,0)","v":0},null,null,null,null,null,null,null,null,null,null,null,null,null,null,null,null,null,null,null,null,null,7,1]
[null,"Celkem za","99 Staveništní přesun hmot",null,null,null,{"$f":"SUM(G180:G181)","v":0},null,{"$f":"SUM(I180:I181)","v":0},null,{"$f":"SUM(K180:K181)","v":0},null,null,null,4,null,null,null,null,null,null,null,null,null,null,null,null,null,null,null,null,null,null,null,null,null,null,null,null,null,null,null,null,null,null,null,null,null,null,null,null,null,{"$f":"SUM(BA180:BA181)","v":0},{"$f":"SUM(BB180:BB181)","v":0},{"$f":"SUM(BC180:BC181)","v":0},{"$f":"SUM(BD180:BD181)","v":0},{"$f":"SUM(BE180:BE181)","v":0}]

{"sheet":"02 02.01.2 KL","index":28,"n_rows":45,"n_cols":8,"rows_kept":45,"cut":false,"hidden":false,"merged":[[22,0,22,1],[7,2,7,4],[8,2,8,4],[9,2,9,4],[10,2,10,4],[11,2,11,4],[50,1,50,6],[29,5,29,6],[30,5,30,6],[31,5,31,6],[32,5,32,6],[33,5,33,6],[36,1,44,6],[45,1,45,6],[46,1,46,6],[47,1,47,6],[48,1,48,6],[49,1,49,6]]}
["POLOŽKOVÝ ROZPOČET"]
["Rozpočet",null,"02.01.2","Čerpací stanice \"A\"_Strojní část",null,"JKSO ","814.19"]
[]
["Objekt",null,null,null,null,"SKP "]
["02",null,"Čerpací stanice",null,null,"Měrná jednotka","m3"]
["Stavba",null,null,null,null,"Počet jednotek",0]
["3395",null,"Kanalizace a ČOV Benešov u Semil",null,null,"Náklady na m.j.",{"$f":"IF(G6=0,,ROUND((F30+F32)/G6,1))","v":0}]
["Projektant",null,"Vodohospodářský rozvoj a výstavba a.s.",null,null,"Typ rozpočtu"]
["Zpracovatel projektu"]
["Objednatel",null,"Vodohospodářské sdružení Turnov"]
["Dodavatel",null,".",null,null,"Zakázkové číslo "]
["Rozpočtoval",null,null,null,null,"Počet listů"]
["ROZPOČTOVÉ NÁKLADY"]
["Základní rozpočtové náklady"]
[null,"HSV celkem",{"$f":"'02 02.01.2 Rek'!E8","v":0}]
["Z","PSV celkem",{"$f":"'02 02.01.2 Rek'!F8","v":0}]
["R","M práce celkem",{"$f":"'02 02.01.2 Rek'!H8","v":0}]
["N","M dodávky celkem",{"$f":"'02 02.01.2 Rek'!G8","v":0}]
["ZRN celkem",null,{"$f":"SUM(C15:C18)","v":0}]
[]
["HZS",null,{"$f":"'02 02.01.2 Rek'!I8","v":0}]
["ZRN+HZS",null,{"$f":"C19+C21","v":0}]
["ZRN+ost.náklady+HZS",null,{"$f":"C22+G23","v":0}]
["Vypracoval",null,null,"Za zhotovitele",null,"Za objednatele"]
["Jméno :",null,null,"Jméno :",null,"Jméno :"]
["Datum :",null,null,"Datum :",null,"Datum :"]
[]
["Podpis :",null,null,"Podpis:",null,"Podpis:"]
[]
["Základ pro DPH",null,21,"%  ",null,{"$f":"C23-F32","v":0}]
["DPH",null,{"$f":"C30","v":21},"% ",null,{"$f":"ROUND(PRODUCT(F30,C31/100),0)","v":0}]
["Základ pro DPH",null,0,"% ",null,0]
["DPH",null,{"$f":"C32","v":0},"% ",null,{"$f":"ROUND(PRODUCT(F32,C33/100),0)","v":0}]
["CENA ZA OBJEKT CELKEM",null,null,null,null,{"$f":"ROUND(SUM(F30:F33),0)","v":0}]
[]
["Poznámka :",null,null,null,null,null,null," "]
[null,null,null,null,null,null,null," "]
[null,null,null,null,null,null,null," "]
[null,null,null,null,null,null,null," "]
[null,null,null,null,null,null,null," "]
[null,null,null,null,null,null,null," "]
[null,null,null,null,null,null,null," "]
[null,null,null,null,null,null,null," "]
[null,null,null,null,null,null,null," "]
[null,null,null,null,null,null,null," "]

{"sheet":"02 02.01.2 Rek","index":29,"n_rows":8,"n_cols":9,"rows_kept":8,"cut":false,"hidden":false,"merged":[[0,0,0,1],[1,0,1,1],[1,6,1,8]]}
["Stavba :",null,"3395 Kanalizace a ČOV Benešov u Semil",null,null,null,"Rozpočet :","02.01.2"]
["Objekt :",null,"02 Čerpací stanice",null,null,null,"Čerpací stanice \"A\"_Strojní část"]
[]
["REKAPITULACE  STAVEBNÍCH  DÍLŮ"]
[]
[null,"Stavební díl",null,null,"HSV","PSV","Dodávka","Montáž","HZS"]
[{"$f":"'02 02.01.2 Pol'!B7","v":"8.ČS"},{"$f":"'02 02.01.2 Pol'!C7","v":"Čerpací stanice - Technologie"},null,null,{"$f":"'02 02.01.2 Pol'!BA111","v":0},{"$f":"'02 02.01.2 Pol'!BB111","v":0},{"$f":"'02 02.01.2 Pol'!BC111","v":0},{"$f":"'02 02.01.2 Pol'!BD111","v":0},{"$f":"'02 02.01.2 Pol'!BE111","v":0}]
[null,"CELKEM  OBJEKT",null,null,{"$f":"SUM(E7:E7)","v":0},{"$f":"SUM(F7:F7)","v":0},{"$f":"SUM(G7:G7)","v":0},{"$f":"SUM(H7:H7)","v":0},{"$f":"SUM(I7:I7)","v":0}]

{"sheet":"02 02.01.2 Pol","index":30,"n_rows":111,"n_cols":80,"rows_kept":111,"cut":false,"hidden":false,"merged":[[0,0,0,6],[2,0,2,1],[3,0,3,1],[3,4,3,6],[8,2,8,6],[9,2,9,6],[10,2,10,6],[11,2,11,6],[18,2,18,6],[19,2,19,6],[20,2,20,6],[21,2,21,6],[22,2,22,6],[23,2,23,6],[12,2,12,6],[13,2,13,6],[14,2,14,6],[15,2,15,6],[16,2,16,6],[17,2,17,6],[30,2,30,6],[31,2,31,6],[32,2,32,6],[33,2,33,6],[34,2,34,6],[35,2,35,6],[24,2,24,6],[25,2,25,6],[26,2,26,6],[27,2,27,6],[28,2,28,6],[29,2,29,6],[42,2,42,6],[43,2,43,6],[44,2,44,3],[45,2,45,3],[47,2,47,6],[48,2,48,6],[36,2,36,6],[37,2,37,6],[38,2,38,6],[39,2,39,6],[40,2,40,6],[41,2,41,6],[55,2,55,6],[56,2,56,6],[57,2,57,6],[58,2,58,6],[59,2,59,6],[60,2,60,6],[49,2,49,6],[50,2,50,6],[51,2,51,6],[52,2,52,6],[53,2,53,6],[54,2,54,6],[67,2,67,6],[68,2,68,6],[69,2,69,6],[70,2,70,6],[71,2,71,6],[72,2,72,6],[61,2,61,6],[62,2,62,6],[63,2,63,6],[64,2,64,6],[65,2,65,6],[66,2,66,6],[79,2,79,6],[80,2,80,6],[81,2,81,6],[82,2,82,6],[83,2,83,6],[84,2,84,6],[73,2,73,6],[74,2,74,6],[75,2,75,6],[76,2,76,6],[77,2,77,6],[78,2,78,6],[91,2,91,6],[92,2,92,6],[93,2,93,6],[94,2,94,6],[95,2,95,6],[96,2,96,6],[85,2,85,6],[86,2,86,6],[87,2,87,6],[88,2,88,6],[89,2,89,6],[90,2,90,6],[109,2,109,3],[103,2,103,6],[104,2,104,6],[105,2,105,6],[106,2,106,6],[107,2,107,6],[108,2,108,3],[97,2,97,6],[98,2,98,6],[99,2,99,6],[100,2,100,6],[101,2,101,6],[102,2,102,6]]}
["Položkový rozpočet "]
[]
["Stavba :",null,"3395 Kanalizace a ČOV Benešov u Semil",null,"Rozpočet:",{"$f":"'02 02.01.2 Rek'!H1","v":"02.01.2"}]
["Objekt :",null,"02 Čerpací stanice",null,{"$f":"'02 02.01.2 Rek'!G2","v":"Čerpací stanice \"A\"_Strojní část"}]
[]
["P.č.","Číslo položky","Název položky","MJ","množství","cena / MJ","celkem (Kč)","Jednotková hmotnost","Celková hmotnost","Jednotková dem.hmot.","Celková dem.hmot."]
["Díl:","8.ČS","Čerpací stanice - Technologie",null,null,null,null,null,null,null,null,null,null,null,1]
[1,"8ČS 1000-01.RRX","Dodávka a montáž \"Techologie ČS vč. rozvaděče RM\" dle projektové dokumentace","kpl",1,null,{"$f":"E8*F8","v":0},0,{"$f":"E8*H8","v":0},null,{"$f":"E8*J8","v":0},null,null,null,2,null,null,null,null,null,null,null,null,null,null,null,11,1,2,null,null,null,null,null,null,null,null,null,null,null,null,null,null,null,null,null,null,null,null,null,null,1,{"$f":"IF(AZ8=1,G8,0)","v":0},{"$f":"IF(AZ8=2,G8,0)","v":0},{"$f":"IF(AZ8=3,G8,0)","v":0},{"$f":"IF(AZ8=4,G8,0)","v":0},{"$f":"IF(AZ8=5,G8,0)","v":0},null,null,null,null,null,null,null,null,null,null,null,null,null,null,null,null,null,null,null,null,null,11,1]
[null,null,"1.\tTechnologie čerpacích stanic EMUPORT typ EMUport CORE 60.2-16/540 se separací pevných látek se dvěma separačními komorami, uzávěry nátoku do každé separační komory, akumulační nádrž s odvětráním, výtlaky čerpadel se zpětnými klapkami a uzávěry výtlaku, čistící a revizní otvor. Materiálové provedení ČS je PEHD -> vysoká odolnost proti korozi a dlouhá životnost. Veškeré šroubové spoje jsou z nerezové oceli. ",null,null,null,null,null,null,null,null,"1.\tTechnologie čerpacích stanic EMUPORT typ EMUport CORE 60.2-16/540 se separací pevných látek se dvěma separačními komorami, uzávěry nátoku do každé separační komory, akumulační nádrž s odvětráním, výtlaky čerpadel se zpětnými klapkami a uzávěry výtlaku, čistící a revizní otvor. Materiálové provedení ČS je PEHD -> vysoká odolnost proti korozi a dlouhá životnost. Veškeré šroubové spoje jsou z nerezové oceli. ",null,null,3]
[null,null,"2.\tDvojice provozních ponorných čerpadel (IP 68) s příslušenstvím, instalace v suché jímce, délka kabelu 20 m, ochrany: tepelná ochrana vinutí motoru, čidlo průsaku mechanickou ucpávkou, dvojitá mechanická ucpávka umístěná v kazetě. V případě zaplavení šachty může čerpací stanice bez problému pracovat. ",null,null,null,null,null,null,null,null,"2.\tDvojice provozních ponorných čerpadel (IP 68) s příslušenstvím, instalace v suché jímce, délka kabelu 20 m, ochrany: tepelná ochrana vinutí motoru, čidlo průsaku mechanickou ucpávkou, dvojitá mechanická ucpávka umístěná v kazetě. V případě zaplavení šachty může čerpací stanice bez problému pracovat. ",null,null,3]
[null,null,"3.\tUzávěr přítoku do ČS - šoupátko DN200, ovládání ruční z místa, umístění v šachtě ČS",null,null,null,null,null,null,null,null,"3.\tUzávěr přítoku do ČS - šoupátko DN200, ovládání ruční z místa, umístění v šachtě ČS",null,null,3]
[null,null,"4.\tProplach sběrné nádrže z výtlaku, ovládání ručním kohoutem 5/4\" (zamezení tvorby jemného sedimentu ve sběrné nádrži ČS)",null,null,null,null,null,null,null,null,"4.\tProplach sběrné nádrže z výtlaku, ovládání ručním kohoutem 5/4\" (zamezení tvorby jemného sedimentu ve sběrné nádrži ČS)",null,null,3]
[null,null,"5.\tPomocné čerpadlo úkapů včetně elektrod pro automatiku provozu, potrubí a dalšího příslušenství pro čerpání úkapů v šachtě.",null,null,null,null,null,null,null,null,"5.\tPomocné čerpadlo úkapů včetně elektrod pro automatiku provozu, potrubí a dalšího příslušenství pro čerpání úkapů v šachtě.",null,null,3]
[null,null,"6.\tČidlo měření hladiny: hydrostatická sonda (rozsah 0-2,5 m v.sl.), délka kabelu 20 m.",null,null,null,null,null,null,null,null,"6.\tČidlo měření hladiny: hydrostatická sonda (rozsah 0-2,5 m v.sl.), délka kabelu 20 m.",null,null,3]
[null,null,"7.\tOdvětrání sběrné nádrže DN 70 s hadicí včetně spojovacího kusu (DN 100) pro připojení čerpadla úkapů (DN 32). ",null,null,null,null,null,null,null,null,"7.\tOdvětrání sběrné nádrže DN 70 s hadicí včetně spojovacího kusu (DN 100) pro připojení čerpadla úkapů (DN 32). ",null,null,3]
[null,null,"8.\tHlavní uzávěr výtlaku DN100 + indukční průtokoměr DN100 s oddělenou jednotkou umístěnou v rozvaděči",null,null,null,null,null,null,null,null,"8.\tHlavní uzávěr výtlaku DN100 + indukční průtokoměr DN100 s oddělenou jednotkou umístěnou v rozvaděči",null,null,3]
[null,null,"9.\tOsvětlení šachty včetně vypínače ve vstupním komínku šachty, koncový spínač na poklopu šachty, nucené odvětrání šachty inline ventilátorem v potrubí odvětrání šachty (ovládání vypínačem společně se světlem)",null,null,null,null,null,null,null,null,"9.\tOsvětlení šachty včetně vypínače ve vstupním komínku šachty, koncový spínač na poklopu šachty, nucené odvětrání šachty inline ventilátorem v potrubí odvětrání šachty (ovládání vypínačem společně se světlem)",null,null,3]
[null,null,"10.\tPřípojka proplachu výtlačného potrubí STORZ C + uzávěr DN50",null,null,null,null,null,null,null,null,"10.\tPřípojka proplachu výtlačného potrubí STORZ C + uzávěr DN50",null,null,3]
[null,null,null,null,null,null,null,null,null,null,null,null,null,null,3]
[null,null,"11.\ttechnologický rozvaděč tvořený plastovou závěsnou skříní Thalassa ",null,null,null,null,null,null,null,null,"11.\ttechnologický rozvaděč tvořený plastovou závěsnou skříní Thalassa ",null,null,3]
[null,null,"(pro umístění do zděného pilíře s uzamykatelnými dveřmi, předpokládaný požadovaný vnitřní prostor cca. 1400 x 1200x 400 mm šxvxhl) obsahující:",null,null,null,null,null,null,null,null,"(pro umístění do zděného pilíře s uzamykatelnými dveřmi, předpokládaný požadovaný vnitřní prostor cca. 1400 x 1200x 400 mm šxvxhl) obsahující:",null,null,3]
[null,null,"- hlavní vypínač v kombinaci s přepínačem sítí (síť - 0 - záložní zdroj)",null,null,null,null,null,null,null,null,"- hlavní vypínač v kombinaci s přepínačem sítí (síť - 0 - záložní zdroj)",null,null,3]
[null,null,"- proudové chrániče, jističe a vývody pro napájení pomocného čerpadla, osvětlení,",null,null,null,null,null,null,null,null,"- proudové chrániče, jističe a vývody pro napájení pomocného čerpadla, osvětlení,",null,null,3]
[null,null,"ventilátoru, průtokoměru a zařízení pro přenosy.",null,null,null,null,null,null,null,null,"ventilátoru, průtokoměru a zařízení pro přenosy.",null,null,3]
[null,null,"- 2x softstartéry pro spínání čerpadel (4 kW) včetně jistících prvků",null,null,null,null,null,null,null,null,"- 2x softstartéry pro spínání čerpadel (4 kW) včetně jistících prvků",null,null,3]
[null,null,"- svodiče přepětí třídy B+C+D",null,null,null,null,null,null,null,null,"- svodiče přepětí třídy B+C+D",null,null,3]
[null,null,"- přepěťové ochrany na analogových vstupech (4-20mA)",null,null,null,null,null,null,null,null,"- přepěťové ochrany na analogových vstupech (4-20mA)",null,null,3]
[null,null,"- kompenzaci účiníku",null,null,null,null,null,null,null,null,"- kompenzaci účiníku",null,null,3]
[null,null,"- relé pro monitorování elektrické sítě",null,null,null,null,null,null,null,null,"- relé pro monitorování elektrické sítě",null,null,3]
[null,null,"- hladinové relé pro spínání pomocného čerpadla pomocí elektrod",null,null,null,null,null,null,null,null,"- hladinové relé pro spínání pomocného čerpadla pomocí elektrod",null,null,3]
[null,null,"- relé hlídání zaplavení suchého prostoru šachty pomocí elektrod",null,null,null,null,null,null,null,null,"- relé hlídání zaplavení suchého prostoru šachty pomocí elektrod",null,null,3]
[null,null,"- vytápění, osvětlení rozváděče a koncový spínač vstupu do rozvaděče",null,null,null,null,null,null,null,null,"- vytápění, osvětlení rozváděče a koncový spínač vstupu do rozvaděče",null,null,3]
[null,null,"- hlídání průsaku mech. ucpávkami čerpadel (NIV 101/A)",null,null,null,null,null,null,null,null,"- hlídání průsaku mech. ucpávkami čerpadel (NIV 101/A)",null,null,3]
[null,null,"- oddělovací transformátor 230VAC, napájecí zdroj 24VDC, pomocná relé",null,null,null,null,null,null,null,null,"- oddělovací transformátor 230VAC, napájecí zdroj 24VDC, pomocná relé",null,null,3]
[null,null,"- kombinovanou zásuvku 400/230V/16A na boku rozvaděče",null,null,null,null,null,null,null,null,"- kombinovanou zásuvku 400/230V/16A na boku rozvaděče",null,null,3]
[null,null,"- přívodku pro napájení z náhradního zdroje 400V/ 32A na boku rozvaděče",null,null,null,null,null,null,null,null,"- přívodku pro napájení z náhradního zdroje 400V/ 32A na boku rozvaděče",null,null,3]
[null,null,"- řídící jednotku ",null,null,null,null,null,null,null,null,"- řídící jednotku ",null,null,3]
[null,null,"- ovladače, přepínače, signalizaci provozních a poruchových stavů, 2 ampérmetry a",null,null,null,null,null,null,null,null,"- ovladače, přepínače, signalizaci provozních a poruchových stavů, 2 ampérmetry a",null,null,3]
[null,null,"voltmetr na dveřích rozvaděče",null,null,null,null,null,null,null,null,"voltmetr na dveřích rozvaděče",null,null,3]
[null,null,"- nastavení délky čerpacího cyklu - ochrana proti zanesení separační komory",null,null,null,null,null,null,null,null,"- nastavení délky čerpacího cyklu - ochrana proti zanesení separační komory",null,null,3]
[null,null,"- signál pro dávkování chemie při čerpání čerpadla (na beznapěťové svorky) při chodu čerpadla",null,null,null,null,null,null,null,null,"- signál pro dávkování chemie při čerpání čerpadla (na beznapěťové svorky) při chodu čerpadla",null,null,3]
[null,null,"12.\tDoprava na stavbu, bez složení a uskladnění ",null,null,null,null,null,null,null,null,"12.\tDoprava na stavbu, bez složení a uskladnění ",null,null,3]
[null,null,"13.\tUvedení ČS do provozu, dokumentace ČS, zaškolení obsluhy",null,null,null,null,null,null,null,null,"13.\tUvedení ČS do provozu, dokumentace ČS, zaškolení obsluhy",null,null,3]
[null,null,"14.           Dodábvka a montáž stacionárního otočného jeřábu s garantovanou nosností 200 kg v provedení dle projektové dokumentace",null,null,null,null,null,null,null,null,"14.           Dodábvka a montáž stacionárního otočného jeřábu s garantovanou nosností 200 kg v provedení dle projektové dokumentace",null,null,3]
[null,null,"Čerpací stanice - technologie:",null,0,null,null,null,null,null,null,null,"Čerpací stanice - technologie:"]
[null,null,"Dvouplášťová nádrž na síran:1",null,1,null,null,null,null,null,null,null,"Dvouplášťová nádrž na síran:1"]
[2,"8ČS 1000-02.RRX","Dodávka a montáž \"Dvouplášťové nádrže pro síran\" ","kpl",1,null,{"$f":"E47*F47","v":0},0,{"$f":"E47*H47","v":0},null,{"$f":"E47*J47","v":0},null,null,null,2,null,null,null,null,null,null,null,null,null,null,null,11,1,1,null,null,null,null,null,null,null,null,null,null,null,null,null,null,null,null,null,null,null,null,null,null,1,{"$f":"IF(AZ47=1,G47,0)","v":0},{"$f":"IF(AZ47=2,G47,0)","v":0},{"$f":"IF(AZ47=3,G47,0)","v":0},{"$f":"IF(AZ47=4,G47,0)","v":0},{"$f":"IF(AZ47=5,G47,0)","v":0},null,null,null,null,null,null,null,null,null,null,null,null,null,null,null,null,null,null,null,null,null,11,1]
[null,null,"Vertikální válcová nádrž, vyrobená z deskového materiálu PE-100 černé barvy, ",null,null,null,null,null,null,null,null,"Vertikální válcová nádrž, vyrobená z deskového materiálu PE-100 černé barvy, ",null,null,3]
[null,null,"s rovným dnem a kuželovou střechou, určená k instalaci ve venkovním prostředí ",null,null,null,null,null,null,null,null,"s rovným dnem a kuželovou střechou, určená k instalaci ve venkovním prostředí ",null,null,3]
[null,null,"(ČR) na rovném, pevném a únosném podkladu, (např. betonová deska). ",null,null,null,null,null,null,null,null,"(ČR) na rovném, pevném a únosném podkladu, (např. betonová deska). ",null,null,3]
[null,null,"Není určena pro instalaci v oblasti ohrožené zemětřesením. ",null,null,null,null,null,null,null,null,"Není určena pro instalaci v oblasti ohrožené zemětřesením. ",null,null,3]
[null,null,"Není určena pro instalaci v prostředí s nebezpečím výbuchu (ATEX). ",null,null,null,null,null,null,null,null,"Není určena pro instalaci v prostředí s nebezpečím výbuchu (ATEX). ",null,null,3]
[null,null,"Dodávka zahrnuje vertikální válcovou záchytnou nádrž, vyrobenou ze stejného ",null,null,null,null,null,null,null,null,"Dodávka zahrnuje vertikální válcovou záchytnou nádrž, vyrobenou ze stejného ",null,null,3]
[null,null,"materiálu. ",null,null,null,null,null,null,null,null,"materiálu. ",null,null,3]
[null,null,"Statický výpočet dle DVS2205, s navrhovanou životností 25 let. ",null,null,null,null,null,null,null,null,"Statický výpočet dle DVS2205, s navrhovanou životností 25 let. ",null,null,3]
[null,null,"Skladovaná látka: Fe2(SO4)3 ",null,null,null,null,null,null,null,null,"Skladovaná látka: Fe2(SO4)3 ",null,null,3]
[null,null,"Hustota: <=1,56 kg/dm3 ",null,null,null,null,null,null,null,null,"Hustota: <=1,56 kg/dm3 ",null,null,3]
[null,null,"Provozní podmínky: ",null,null,null,null,null,null,null,null,"Provozní podmínky: ",null,null,3]
[null,null,"-teplota media: <=30°C ",null,null,null,null,null,null,null,null,"-teplota media: <=30°C ",null,null,3]
[null,null,"-beztlaký provoz ",null,null,null,null,null,null,null,null,"-beztlaký provoz ",null,null,3]
[null,null,"-okolní teplota: <=30°C ",null,null,null,null,null,null,null,null,"-okolní teplota: <=30°C ",null,null,3]
[null,null,"Užitný objem: 1m3 (95% výšky) ",null,null,null,null,null,null,null,null,"Užitný objem: 1m3 (95% výšky) ",null,null,3]
[null,null,"Rozměry skladovací nádrže: ",null,null,null,null,null,null,null,null,"Rozměry skladovací nádrže: ",null,null,3]
[null,null,"Vnitřní průměr : 1200 mm ",null,null,null,null,null,null,null,null,"Vnitřní průměr : 1200 mm ",null,null,3]
[null,null,"Výška válce : 970 mm ",null,null,null,null,null,null,null,null,"Výška válce : 970 mm ",null,null,3]
[null,null,"Celková výška : ca. 2020 mm (včetně dávkovací skříně) ",null,null,null,null,null,null,null,null,"Celková výška : ca. 2020 mm (včetně dávkovací skříně) ",null,null,3]
[null,null,"Rozměry záchytné nádrže: ",null,null,null,null,null,null,null,null,"Rozměry záchytné nádrže: ",null,null,3]
[null,null,"Vnitřní průměr : 1410 mm ",null,null,null,null,null,null,null,null,"Vnitřní průměr : 1410 mm ",null,null,3]
[null,null,"Průměr dna: 1480mm ",null,null,null,null,null,null,null,null,"Průměr dna: 1480mm ",null,null,3]
[null,null,"Výška valce : 800 mm ",null,null,null,null,null,null,null,null,"Výška valce : 800 mm ",null,null,3]
[null,null,"Hmotnost prázdné nádrže : ca. 0,2t ",null,null,null,null,null,null,null,null,"Hmotnost prázdné nádrže : ca. 0,2t ",null,null,3]
[null,null,"Komponenty: ",null,null,null,null,null,null,null,null,"Komponenty: ",null,null,3]
[null,null,"1x inspekční otvor d150 se šroubovacím víkem, ve střeše, uzamykatelný ",null,null,null,null,null,null,null,null,"1x inspekční otvor d150 se šroubovacím víkem, ve střeše, uzamykatelný ",null,null,3]
[null,null,"1x odvětrání s krytkou DN65, ve střeše ",null,null,null,null,null,null,null,null,"1x odvětrání s krytkou DN65, ve střeše ",null,null,3]
[null,null,"1x volná příruba DN50 ve střeše, pod střechou uvnitř nádrže s kolenem 45",null,null,null,null,null,null,null,null,"1x volná příruba DN50 ve střeše, pod střechou uvnitř nádrže s kolenem 45",null,null,3]
[null,null,"1x plnicí potrubí DN50 PE-HD, s ručním kohoutem PVC, zpětným ventilem PVC a ",null,null,null,null,null,null,null,null,"1x plnicí potrubí DN50 PE-HD, s ručním kohoutem PVC, zpětným ventilem PVC a ",null,null,3]
[null,null,"koncovkou pro tankovací vozy VK50 (EN14420-6), pod přípojným bodem ",null,null,null,null,null,null,null,null,"koncovkou pro tankovací vozy VK50 (EN14420-6), pod přípojným bodem ",null,null,3]
[null,null,"s odkapovou vaničkou s výpustným ventilem DN10 ",null,null,null,null,null,null,null,null,"s odkapovou vaničkou s výpustným ventilem DN10 ",null,null,3]
[null,null,"1x mechanický stavoznak s dvěma bistabilními kontakty a orientační stupnici ",null,null,null,null,null,null,null,null,"1x mechanický stavoznak s dvěma bistabilními kontakty a orientační stupnici ",null,null,3]
[null,null,"(značeno po 0,2m3) ",null,null,null,null,null,null,null,null,"(značeno po 0,2m3) ",null,null,3]
[null,null,"1x příprava pro umístění dávkovací skříně",null,null,null,null,null,null,null,null,"1x příprava pro umístění dávkovací skříně",null,null,3]
[null,null,"1x prázdná dávkovací skříň PE-100 s rozměry 800x485xh800mm; ve skříni ",null,null,null,null,null,null,null,null,"1x prázdná dávkovací skříň PE-100 s rozměry 800x485xh800mm; ve skříni ",null,null,3]
[null,null,"příprava pro sací linky ",null,null,null,null,null,null,null,null,"příprava pro sací linky ",null,null,3]
[null,null,"1x zastřešení prostoru záchytné nádrže s držákem sondy průsaku a inspekčním ",null,null,null,null,null,null,null,null,"1x zastřešení prostoru záchytné nádrže s držákem sondy průsaku a inspekčním ",null,null,3]
[null,null,"otvorem DN80 ",null,null,null,null,null,null,null,null,"otvorem DN80 ",null,null,3]
[null,null,"2x jeřábové oko skladovací nádrže ",null,null,null,null,null,null,null,null,"2x jeřábové oko skladovací nádrže ",null,null,3]
[null,null,"2x jeřábové oko záchytné nádrže ",null,null,null,null,null,null,null,null,"2x jeřábové oko záchytné nádrže ",null,null,3]
[null,null,"1x typový štítek skladovací nádrže ",null,null,null,null,null,null,null,null,"1x typový štítek skladovací nádrže ",null,null,3]
[null,null,"1x typový štítek záchytné nádrže ",null,null,null,null,null,null,null,null,"1x typový štítek záchytné nádrže ",null,null,3]
[null,null,"1x sada kotevních patek (dodávka bez kotevních šroubů) ",null,null,null,null,null,null,null,null,"1x sada kotevních patek (dodávka bez kotevních šroubů) ",null,null,3]
[null,null,"1x CAD výkres k schválení, v českém jazyce ",null,null,null,null,null,null,null,null,"1x CAD výkres k schválení, v českém jazyce ",null,null,3]
[null,null,"1x statický výpočet dle směrnice DVS2205 ",null,null,null,null,null,null,null,null,"1x statický výpočet dle směrnice DVS2205 ",null,null,3]
[null,null,"1x průsaková sonda a monitoring průsaku ",null,null,null,null,null,null,null,null,"1x průsaková sonda a monitoring průsaku ",null,null,3]
[null,null," Průsaková sonda: ",null,null,null,null,null,null,null,null," Průsaková sonda: ",null,null,3]
[null,null," plovákový princip, instalována skrz závitové hrdlo G2“ v držáku na záchytné ",null,null,null,null,null,null,null,null," plovákový princip, instalována skrz závitové hrdlo G2“ v držáku na záchytné ",null,null,3]
[null,null," nádrži. ",null,null,null,null,null,null,null,null," nádrži. ",null,null,3]
[null,null," Alarm: ",null,null,null,null,null,null,null,null," Alarm: ",null,null,3]
[null,null," světelná a akustická signalizace, instalováno na PE-HD konzolce na ",null,null,null,null,null,null,null,null," světelná a akustická signalizace, instalováno na PE-HD konzolce na ",null,null,3]
[null,null," stěně záchytné nádrže. Signál ze sondy průsaku spouští maják a hlasitou ",null,null,null,null,null,null,null,null," stěně záchytné nádrže. Signál ze sondy průsaku spouští maják a hlasitou ",null,null,3]
[null,null," sirénu, na zařízení je tlačítko reset. ",null,null,null,null,null,null,null,null," sirénu, na zařízení je tlačítko reset. ",null,null,3]
[null,null,"1x dávkovací čerpadlo BT4B1602PPE2… stanoveno odhadem",null,null,null,null,null,null,null,null,"1x dávkovací čerpadlo BT4B1602PPE2… stanoveno odhadem",null,null,3]
[null,null," s rel.výstupem poruchy, se vstřikovacím ventilem, s MFV ventilem, ",null,null,null,null,null,null,null,null," s rel.výstupem poruchy, se vstřikovacím ventilem, s MFV ventilem, ",null,null,3]
[null,null," s universálním řídícím kabelem ",null,null,null,null,null,null,null,null," s universálním řídícím kabelem ",null,null,3]
[null,null," 230V/50Hz, 1 l/h @ 16 bar, ruční řízení nebo beznapěťovým pulsním signálem ",null,null,null,null,null,null,null,null," 230V/50Hz, 1 l/h @ 16 bar, ruční řízení nebo beznapěťovým pulsním signálem ",null,null,3]
[null,null," Instalováno uvnitř prázdné skříně na nádrži. ",null,null,null,null,null,null,null,null," Instalováno uvnitř prázdné skříně na nádrži. ",null,null,3]
[null,null," 1x topení 230V/500W AC a termostat 0 - 40°C ",null,null,null,null,null,null,null,null," 1x topení 230V/500W AC a termostat 0 - 40°C ",null,null,3]
[null,null,"1x svorkovnicová skříňka",null,null,null,null,null,null,null,null,"1x svorkovnicová skříňka",null,null,3]
[null,null,"Součástí dodávky nádrže je i doávka a položení havarijního potrubí DN150 se zaústěním do betonové šachty.",null,null,null,null,null,null,null,null,"Součástí dodávky nádrže je i doávka a položení havarijního potrubí DN150 se zaústěním do betonové šachty.",null,null,3]
[null,null,"Čerpací stanice - technologie:",null,0,null,null,null,null,null,null,null,"Čerpací stanice - technologie:"]
[null,null,"Dvouplášťová nádrž na síran:1",null,1,null,null,null,null,null,null,null,"Dvouplášťová nádrž na síran:1"]
[null,"Celkem za","8.ČS Čerpací stanice - Technologie",null,null,null,{"$f":"SUM(G7:G110)","v":0},null,{"$f":"SUM(I7:I110)","v":0},null,{"$f":"SUM(K7:K110)","v":0},null,null,null,4,null,null,null,null,null,null,null,null,null,null,null,null,null,null,null,null,null,null,null,null,null,null,null,null,null,null,null,null,null,null,null,null,null,null,null,null,null,{"$f":"SUM(BA7:BA110)","v":0},{"$f":"SUM(BB7:BB110)","v":0},{"$f":"SUM(BC7:BC110)","v":0},{"$f":"SUM(BD7:BD110)","v":0},{"$f":"SUM(BE7:BE110)","v":0}]

{"sheet":"02 02.01.3 KL","index":31,"n_rows":45,"n_cols":8,"rows_kept":45,"cut":false,"hidden":false,"merged":[[22,0,22,1],[7,2,7,4],[8,2,8,4],[9,2,9,4],[10,2,10,4],[11,2,11,4],[50,1,50,6],[29,5,29,6],[30,5,30,6],[31,5,31,6],[32,5,32,6],[33,5,33,6],[36,1,44,6],[45,1,45,6],[46,1,46,6],[47,1,47,6],[48,1,48,6],[49,1,49,6]]}
["POLOŽKOVÝ ROZPOČET"]
["Rozpočet",null,"02.01.3","Čerpací stanice \"A\"_Elektroinstalace a přípojka NN",null,"JKSO ","814.19"]
[]
["Objekt",null,null,null,null,"SKP "]
["02",null,"Čerpací stanice",null,null,"Měrná jednotka","m3"]
["Stavba",null,null,null,null,"Počet jednotek",0]
["3395",null,"Kanalizace a ČOV Benešov u Semil",null,null,"Náklady na m.j.",{"$f":"IF(G6=0,,ROUND((F30+F32)/G6,1))","v":0}]
["Projektant",null,"Vodohospodářský rozvoj a výstavba a.s.",null,null,"Typ rozpočtu"]
["Zpracovatel projektu"]
["Objednatel",null,"Vodohospodářské sdružení Turnov"]
["Dodavatel",null,".",null,null,"Zakázkové číslo "]
["Rozpočtoval",null,null,null,null,"Počet listů"]
["ROZPOČTOVÉ NÁKLADY"]
["Základní rozpočtové náklady"]
[null,"HSV celkem",{"$f":"'02 02.01.3 Rek'!E8","v":0}]
["Z","PSV celkem",{"$f":"'02 02.01.3 Rek'!F8","v":0}]
["R","M práce celkem",{"$f":"'02 02.01.3 Rek'!H8","v":0}]
["N","M dodávky celkem",{"$f":"'02 02.01.3 Rek'!G8","v":0}]
["ZRN celkem",null,{"$f":"SUM(C15:C18)","v":0}]
[]
["HZS",null,{"$f":"'02 02.01.3 Rek'!I8","v":0}]
["ZRN+HZS",null,{"$f":"C19+C21","v":0}]
["ZRN+ost.náklady+HZS",null,{"$f":"C22+G23","v":0}]
["Vypracoval",null,null,"Za zhotovitele",null,"Za objednatele"]
["Jméno :",null,null,"Jméno :",null,"Jméno :"]
["Datum :",null,null,"Datum :",null,"Datum :"]
[]
["Podpis :",null,null,"Podpis:",null,"Podpis:"]
[]
["Základ pro DPH",null,21,"%  ",null,{"$f":"C23-F32","v":0}]
["DPH",null,{"$f":"C30","v":21},"% ",null,{"$f":"ROUND(PRODUCT(F30,C31/100),0)","v":0}]
["Základ pro DPH",null,0,"% ",null,0]
["DPH",null,{"$f":"C32","v":0},"% ",null,{"$f":"ROUND(PRODUCT(F32,C33/100),0)","v":0}]
["CENA ZA OBJEKT CELKEM",null,null,null,null,{"$f":"ROUND(SUM(F30:F33),0)","v":0}]
[]
["Poznámka :",null,null,null,null,null,null," "]
[null,null,null,null,null,null,null," "]
[null,null,null,null,null,null,null," "]
[null,null,null,null,null,null,null," "]
[null,null,null,null,null,null,null," "]
[null,null,null,null,null,null,null," "]
[null,null,null,null,null,null,null," "]
[null,null,null,null,null,null,null," "]
[null,null,null,null,null,null,null," "]
[null,null,null,null,null,null,null," "]

{"sheet":"02 02.01.3 Rek","index":32,"n_rows":8,"n_cols":9,"rows_kept":8,"cut":false,"hidden":false,"merged":[[0,0,0,1],[1,0,1,1],[1,6,1,8]]}
["Stavba :",null,"3395 Kanalizace a ČOV Benešov u Semil",null,null,null,"Rozpočet :","02.01.3"]
["Objekt :",null,"02 Čerpací stanice",null,null,null,"Čerpací stanice \"A\"_Elektroinstalace a přípojka NN"]
[]
["REKAPITULACE  STAVEBNÍCH  DÍLŮ"]
[]
[null,"Stavební díl",null,null,"HSV","PSV","Dodávka","Montáž","HZS"]
[{"$f":"'02 02.01.3 Pol'!B7","v":"M21ČS"},{"$f":"'02 02.01.3 Pol'!C7","v":"Elektroinstalace ČS včetně přípojky NN"},null,null,{"$f":"'02 02.01.3 Pol'!BA9","v":0},{"$f":"'02 02.01.3 Pol'!BB9","v":0},{"$f":"'02 02.01.3 Pol'!BC9","v":0},{"$f":"'02 02.01.3 Pol'!BD9","v":0},{"$f":"'02 02.01.3 Pol'!BE9","v":0}]
[null,"CELKEM  OBJEKT",null,null,{"$f":"SUM(E7:E7)","v":0},{"$f":"SUM(F7:F7)","v":0},{"$f":"SUM(G7:G7)","v":0},{"$f":"SUM(H7:H7)","v":0},{"$f":"SUM(I7:I7)","v":0}]

{"sheet":"02 02.01.3 Pol","index":33,"n_rows":9,"n_cols":80,"rows_kept":9,"cut":false,"hidden":false,"merged":[[0,0,0,6],[2,0,2,1],[3,0,3,1],[3,4,3,6]]}
["Položkový rozpočet "]
[]
["Stavba :",null,"3395 Kanalizace a ČOV Benešov u Semil",null,"Rozpočet:",{"$f":"'02 02.01.3 Rek'!H1","v":"02.01.3"}]
["Objekt :",null,"02 Čerpací stanice",null,{"$f":"'02 02.01.3 Rek'!G2","v":"Čerpací stanice \"A\"_Elektroinstalace a přípojka NN"}]
[]
["P.č.","Číslo položky","Název položky","MJ","množství","cena / MJ","celkem (Kč)","Jednotková hmotnost","Celková hmotnost","Jednotková dem.hmot.","Celková dem.hmot."]
["Díl:","M21ČS","Elektroinstalace ČS včetně přípojky NN",null,null,null,null,null,null,null,null,null,null,null,1]
[1,"M21 ČS-0001.SUB","Dodovka a montáž elektroinstalace pro ČS provedení dle PD (samostatná příloha)","kpl",1,{"$f":"SUM('02 02.01.3 Elektro'!G15)","v":0},{"$f":"E8*F8","v":0},0,{"$f":"E8*H8","v":0},null,{"$f":"E8*J8","v":0},null,null,null,2,null,null,null,null,null,null,null,null,null,null,null,11,3,1,null,null,null,null,null,null,null,null,null,null,null,null,null,null,null,null,null,null,null,null,null,null,4,{"$f":"IF(AZ8=1,G8,0)","v":0},{"$f":"IF(AZ8=2,G8,0)","v":0},{"$f":"IF(AZ8=3,G8,0)","v":0},{"$f":"IF(AZ8=4,G8,0)","v":0},{"$f":"IF(AZ8=5,G8,0)","v":0},null,null,null,null,null,null,null,null,null,null,null,null,null,null,null,null,null,null,null,null,null,11,3]
[null,"Celkem za","M21ČS Elektroinstalace ČS včetně přípojky NN",null,null,null,{"$f":"SUM(G7:G8)","v":0},null,{"$f":"SUM(I7:I8)","v":0},null,{"$f":"SUM(K7:K8)","v":0},null,null,null,4,null,null,null,null,null,null,null,null,null,null,null,null,null,null,null,null,null,null,null,null,null,null,null,null,null,null,null,null,null,null,null,null,null,null,null,null,null,{"$f":"SUM(BA7:BA8)","v":0},{"$f":"SUM(BB7:BB8)","v":0},{"$f":"SUM(BC7:BC8)","v":0},{"$f":"SUM(BD7:BD8)","v":0},{"$f":"SUM(BE7:BE8)","v":0}]

{"sheet":"02 02.01.3 Elektro","index":34,"n_rows":200,"n_cols":15,"rows_kept":200,"cut":false,"hidden":false,"merged":[]}
[]
[null,null,"Akce    : ČSOV Benešov u Semil"]
[null," ","Objekt : ČSOV u Terezy - elektročást",null,null,null,null,null,null,null,null,null,null,null,";;"]
[null,null,"Zak. č. : 5292/002 (P192/24)"]
[null,null,"Datum : březen 2024"]
[]
[null,null,"Rekapitulace:"]
[]
[null,1,"Rozváděč RM 1 dle specifikace č. 1",1,"kpl.",{"$f":"G107","v":0},{"$f":"D9*F9","v":0}]
[null,2,"Elektromateriál dle specifikace č. 2",1,"kpl.",{"$f":"G160","v":0},0]
[null,3,"Elektromontáže",120,"hod.",0,0]
[null,4,"Stavební výpomoce dle specifikace č. 3",1,"kpl.",{"$f":"G172","v":0},0]
[null,5,"Zemní práce dle specifikace č. 4",1,"kpl.",{"$f":"G188","v":0},{"$f":"D38*F13","v":0}]
[null,6,"Ostatní náklady dle specifikace č. 5",1,"kpl.",{"$f":"G200","v":0},0]
[null,null,"Cena celkem bez DPH",null,null,null,{"$f":"SUM(G9:G14)","v":0}]
[]
[null,null,"Rekapitulace:"]
[]
[null,1,"skříň Schneider Thalassa, typ NSYPLA10103G",1,"ks",null,{"$f":"D19*F19","v":0}]
[null,2,"montážní deska NSYPM1010",1,"ks",null,0]
[null,3,"sada závěsných úchytu NSYFMPLA",1,"ks",null,0]
[null,4,"kapsa na dokumentaci A4, NSYDPA4",1,"ks",null,0]
[null,5,"hlavní vypínač VSN32 2204 C8-V-NVZ2R, 400 V, 32A, 4P",1,"ks",null,0]
[null,6,"svodič přepětí FLP-12,5V/3",1,"ks",null,0]
[null,7,"pojistkový odpínač třípólový, 32A, 10 x 38 mm",1,"ks",null,0]
[null,8,"pojistka válcová 10 x 38 mm, gG, 2A",3,"ks",null,0]
[null,9,"fázové relé RM17TG20",1,"ks",null,0]
[null,10,"proudový chránič PF7-40/4/003-A",1,"ks",null,0]
[null,11,"proud. chránič s nadproud. spouští PFL7-10/1N/C//003-A",1,"ks",null,0]
[null,14,"jistič iC60H 1P 2A C",3,"ks",null,0]
[null,15,"jistič iC60H 1P 4A C",2,"ks",null,0]
[null,16,"jistič iC60H 1P 6A D",2,"ks",null,0]
[null,17,"jistič iC60H 1P 10A C",2,"ks",null,0]
[null,18,"jistič iC60H 1P 16A C",1,"ks",null,0]
[null,19,"jistič iC60H 3P 16A C",1,"ks",null,0]
[null,20,"pomocný kontakt iOF",3,"ks",null,0]
[null,21,"zásuvka 250V/16A na DIN lištu, iPC",1,"ks",null,0]
[null,22,"termostat na DIN lištu, NSYCCOTHC",1,"ks",null,0]
[null,23,"topné tělísko na DIN lištu NSYCR50WU2C",1,"ks",null,0]
[null,24,"motorový spínač GV2P14, 6 - 10 A",2,"ks",null,0]
[null,25,"pomocný kontakt GVAN 11",2,"ks",null,0]
[null,26,"stykač LC1D18P7",2,"ks",null,0]
[null,27,"pomocné relé RSB2A080P7PV",4,"ks",null,0]
[null,28,"pomocné relé RSB2A080BDPV",4,"ks",null,0]
[null,29,"softstartér Danfoss MCD 202-007-T7-CV3",2,"ks",null,{"$f":"D45*F45","v":0}]
[null,30,"hladinové relé RM35LM33MW",3,"ks",null,{"$f":"D46*F46","v":0}]
[null,31,"ovládač Harmony, typ XB5AD21 kpl,",1,"ks",null,0]
[null,32,"ovládač Harmony, typ XB5AD33 kpl,",4,"ks",null,0]
[null,33,"spínací jednotka ZBE101",2,"ks",null,0]
[null,34,"hlavice Harmony, typ ZBV013S, bílá",5,"ks",null,0]
[null,35,"polosestava LED Harmony ZB5AVB1",2,"ks",null,0]
[null,36,"polosestava LED Harmony ZB5AVM1",3,"ks",null,0]
[null,37,"hlavice Harmony, typ ZBV043S, rudá",6,"ks",null,0]
[null,38,"polosestava LED Harmony ZB5AVB4",5,"ks",null,0]
[null,39,"polosestava LED Harmony ZB5AVM4",1,"ks",null,0]
[null,40,"hlavice Harmony, typ ZBV053S, oranžová",1,"ks",null,0]
[null,41,"polosestava LED Harmony ZB5AVB5",1,"ks",null,0]
[null,42,"zdroj 24 V DC, ABLS1A24031, 3,13A, 75W",1,"ks",null,0]
[null,43,"zdroj DRC- 60A, 13,8V/2,8A",1,"ks",null,0]
[null,44,"baterie SA-214/1,3, 12V, 1,3A",1,"ks",null,0]
[null,45,"držák trubičkových pojistek ASK 1/N",13,"ks",null,0]
[null,46,"pojistka trubičková F 100 mA",10,"ks",null,0]
[null,47,"pojistka trubičková F 200 mA",1,"ks",null,0]
[null,48,"pojistka trubičková T 1,6 A",1,"ks",null,0]
[null,49,"pojistka trubičková T 2 A",1,"ks",null,0]
[null,50,"PLC Modicon M221, 230 V 40 I/O, Ethernet, TM221CE40R",1,"ks",null,0]
[null,51,"zásuvný modul RS 242/485 pro PLC TN2X1, TMC2SL1",1,"ks",null,0]
[null,52,"paměťová karta TMA SD1",1,"ks",null,0]
[null,53,"modul 8mi analogových vstupů TM3AI8",1,"ks",null,0]
[null,54,"graf. panel Magelis s dotykovou obrazovkou, HMI ST6200",1,"ks",null,0]
[null,55,"switch MCSESU053FN0",1,"ks",null,0]
[null,56,"radiový modem MC14DV",1,"ks",null,0]
[null,57,"radiostanice TS-D200 UHF1, 400-440 MHz",1,"ks",null,0]
[null,58,"propojovací kabel Magelis COM1 (RJ45) a Modicon (RJ45), XBT Z9980",2,"ks",null,0]
[null,59,"propojovací kabel PLC – modem, RS 485",1,"ks",null,0]
[null,60,"propojovací kabel DB15FM, radiostanice – modem",1,"ks",null,0]
[null,61,"svorka řadová WDU 10",3,"ks",null,0]
[null,62,"svorka dvojitá OTL 35-2 zž",1,"ks",null,0]
[null,66,"svorka řadová WDU 6",3,"ks",null,0]
[null,67,"svorka řadová WDU 6 BL",1,"ks",null,0]
[null,68,"svorka řadová WPE 6",1,"ks",null,0]
[null,69,"svorka řadová WDU 4",27,"ks",null,0]
[null,70,"svorka řadová WDU 4 BL",9,"ks",null,{"$f":"D83*F83","v":0}]
[null,71,"svorka řadová WPE 4 ",11,"ks",null,0]
[null,72,"svorka řadová WDU 2,5",49,"ks",null,0]
[null,73,"svorka řadová WPE 2,5 ",11,"ks",null,0]
[null,74,"svorka koncová na DIN lištu",12,"ks",null,0]
[null,75,"přípojnice N 15, IP 20",2,"ks",null,0]
[null,76,"přípojnice PE 15, IP 20",2,"ks",null,0]
[null,77,"vývodka Bimed Pg 21 ",1,"ks",null,0]
[null,78,"matice Bimed Pg 21 ",1,"ks",null,0]
[null,79,"vývodka Bimed Pg 16",4,"ks",null,0]
[null,80,"matice Bimed Pg 16",4,"ks",null,0]
[null,81,"vývodka Bimed Pg 13,5",10,"ks",null,0]
[null,82,"matice Bimed Pg 13,5",4,"ks",null,0]
[null,83,"vývodka Bimed Pg 11",9,"ks",null,0]
[null,84,"ucpávka Bimed Pz 11",1,"ks",null,0]
[null,85,"matice Bimed Pg 11",10,"ks",null,0]
[null,86,"elektroinstalační žlaby 40 x 60 mm děrované pro vodiče",7,"m",null,0]
[null,87,"DIN lišta TS35",5,"m",null,0]
[null,88,"podpěra DIN lišty šikmá",6,"ks",null,0]
[null,89,"sada popisných a výstražných štítků",1,"kpl.",null,0]
[null,null,"základní materiál celkem",null,null,null,{"$f":"SUM(G19:G102)","v":0}]
[null,90,"materiál drobný (vodiče, koncovky, popisy, bužírky apod.)",5,"%",{"$f":"G103","v":0},{"$f":"F104*D104/100","v":0}]
[null,null,"Materiál celkem",null,null,null,{"$f":"SUM(G103:G104)","v":0}]
[null,91,"výroba rozváděče",18,"%",{"$f":"G105","v":0},{"$f":"D106*F106/100","v":0}]
[null,null,"Cena celkem bez DPH",null,null,null,{"$f":"SUM(G105:G106)","v":0}]
[]
[]
[null,null," "]
[null,2,"Specifikace č. 2 - Elektromateriál:"]
[]
[null,"pol.","popis","počet ","jedn.","cena/jedn.","cena celkem"]
[null,1,"pojistka nožová PH00 - 50 A",3,"ks",null,{"$f":"D114*F114","v":0}]
[null,2,"elektroměrový pilíř z termoplastu, 3fáz., 1S, IP44",1,"ks",null,0]
[null,3,"jistič  3x 25A/B, 10 kA",1,"ks",null,0]
[null,4,"anténní stožár nerez - 3 m",1,"ks",null,0]
[null,5,"anténa SA 410.3",1,"ks",null,0]
[null,6,"držák antény univerzální",1,"ks",null,0]
[null,7,"anténní svod RG-213/U - 8 m s konektory",1,"kpl.",null,0]
[null,8,"ekvipotenciální přípojnice HOP",1,"ks",null,{"$f":"D121*F121","v":0}]
[null,9,"plovák Nivofloat NWN-110-1",1,"ks",null,0]
[null,10,"nerezový řetěz s uchycením pro plvák",1,"kpl.",null,0]
[null,11,"přívodka nástěnná 400V/32A/5P/IP44",1,"ks",null,{"$f":"D124*F124","v":0}]
[null,12,"zásuvka nástěnná 400V/16A/5P/IP44",1,"ks",null,{"$f":"D125*F125","v":0}]
[null,13,"zásuvka nástěnná 250V/16A/IP44",1,"ks",null,{"$f":"D126*F126","v":0}]
[null,14,"termostat FTR-E 3121, IP65",1,"ks",null,{"$f":"D127*F127","v":0}]
[null,15,"magnetický spínač SA-204 s rozpínacím kontaktem",2,"ks",null,0]
[null,16,"svítidlo LED nástěnné 230V/30W, IP66",1,"ks",null,0]
[null,17,"kabel LiYCY 2x 0,75",22,"m",null,{"$f":"D130*F130","v":0}]
[null,18,"kabel LiYCY 4x 0,75",32,"m",null,{"$f":"D131*F131","v":0}]
[null,19,"kabel LiYCY 10x 0,75",16,"m",null,{"$f":"D132*F132","v":0}]
[null,20,"kabel H05VV-F 3x 1,5",14,"m",null,{"$f":"D133*F133","v":0}]
[null,21,"kabel CYKY-J 3x 1,5",22,"m",null,{"$f":"D134*F134","v":0}]
[null,22,"kabel CYKY-J 3x 2,5",52,"m",null,{"$f":"D135*F135","v":0}]
[null,23,"kabel CYKY-J 5x 2,5",4,"m",null,0]
[null,24,"kabel CYKY-J 5x 6",4,"m",null,0]
[null,25,"kabel CYKY-J 4x 10",12,"m",null,{"$f":"D138*F138","v":0}]
[null,26,"trubka elektroinstalační tuhá 25 mm včetně příslušenství",15,"m",null,0]
[null,27,"chránička elektroinstalační plastová ohebná 22 mm",6,"m",null,0]
[null,28,"krabice odbočná nástěnná, IP55",8,"ks",null,{"$f":"D141*F141","v":0}]
[null,29,"vodič CY 6 zelenožlutý",61,"m",null,0]
[null,30,"vodič CY 10 zelenožlutý",3,"m",null,{"$f":"D143*F143","v":0}]
[null,31,"vodič CY 16 zelenožlutý",2,"m",null,{"$f":"D144*F144","v":0}]
[null,32,"svorka ochranného pospojování",16,"ks",null,{"$f":"D145*F145","v":0}]
[null,33,"chránička Kopoflex 63",8,"m",null,{"$f":"D146*F146","v":0}]
[null,34,"chránička Kopoflex 90",34,"m",null,{"$f":"D147*F147","v":0}]
[null,35,"FeZn drát 10 mm",12,"m",null,{"$f":"D148*F148","v":0}]
[null,36,"FeZn pásek 30 x 4 mm",38,"m",null,{"$f":"D149*F149","v":0}]
[null,37,"svorka SR 02 s izolací",2,"ks",null,0]
[null,38,"svorka SR 03 s izolací",2,"ks",null,0]
[null,39,"svorka SS s izolací",2,"ks",null,{"$f":"D152*F152","v":0}]
[null,40,"svorka ST5",1,"ks",null,0]
[null,41,"svorka SZ",1,"ks",null,0]
[null,42,"ochranná trubka svodu s držáky",1,"kpl.",null,0]
[null,43,"označovací štíttek svodu",1,"ks",null,0]
[null,44,"plastová zakrývací deska 150 x 1000 mm",26,"ks",null,0]
[null,null,"materiál základní celkem",null,null,null,{"$f":"SUM(G114:G157)","v":0}]
[null,45,"materiál drobný",5,"%",{"$f":"G158","v":0},{"$f":"D159*F159/100","v":0}]
[null,null,"Materiál celkem"," ",null,null,{"$f":"SUM(G158:G159)","v":0}]
[]
[]
[]
[]
[null,4,"Specifikace č. 3 - Stavební výpomoce:"]
[]
[null,"pol.","popis","počet ","jedn.","cena/jedn.","cena celkem"]
[null,1,"pilíř elektro",1,"kpl.",null,{"$f":"D168*F168","v":0}]
[null,2,"utěsnení prostupu do průměru 100 mm proti pronikání vlhkosti/pachů",5,"ks",null,{"$f":"D169*F169","v":0}]
[null,null,"Součet",null,null,null,{"$f":"SUM(G168:G169)","v":0}]
[null,3,"PPV",5,"%",{"$f":"G170","v":0},{"$f":"D171*F171/100","v":0}]
[null,null,"Celkem",null,null,null,{"$f":"SUM(G170:G171)","v":0}]
[]
[null,5,"Specifikace č. 4 - Zemní práce:"]
[]
[null,"pol.","popis","počet ","jedn.","cena/jedn.","cena celkem"]
[null,1,"vytýčení stávajících podzemních sítí",1,"kpl.",null,{"$f":"D177*F177","v":0}]
[null,2,"výkop rýhy 35 x 50 cm",15,"m",null,{"$f":"D178*F178","v":0}]
[null,3,"výkop rýhy 35 x 100 cm",21,"m",null,0]
[null,4,"zřízení pískového kabelového lože 2x 10 cm na šířku 35 cm",15,"m",null,0]
[null,5,"zához rýhy 35 x30 cm s hutněním po vrstrvách tl. do 20 cm",8,"m",null,0]
[null,6,"zához rýhy 35 x 100 cm",24,"m",null,0]
[null,7,"zához rýhy 35 x 100 cm s hutněním po vrstrvách 20 cm",12,"m",null,0]
[null,8,"rozhrnutí přebytečné zeminy na místě stavby",1.1000000000000001,"m3",null,{"$f":"D184*F184","v":0}]
[null,9,"úprava povrchu rýhy s osetím",12,"m2",null,{"$f":"D185*F185","v":0}]
[null,null,"Součet",null,null,null,{"$f":"SUM(G177:G185)","v":0}]
[null,10,"PPV",5,"%",{"$f":"G186","v":0},{"$f":"D187*F187/100","v":0}]
[null,null,"Celkem",null,null,null,{"$f":"SUM(G186:G187)","v":0}]
[]
[null,6,"Specifikace č. 5 - Ostatní práce:"]
[]
[null,"pol.","popis","počet ","jedn.","cena/jedn.","cena celkem"]
[null,1,"provedení výchozí revize elektrického zařízení a uzemnění",1,"ks",null,{"$f":"D193*F193","v":0}]
[null,2,"zajištění stanoviska TIČR",1,"ks",null,{"$f":"D194*F194","v":0}]
[null,3,"ostatní nespecifikované práce",16,"hod.",null,{"$f":"D195*F195","v":0}]
[null,4,"doprava",1,"kpl.",null,{"$f":"D196*F196","v":0}]
[null,5,"zpracování dokumentace skutečného stavu",1,"kpl.",null,0]
[null,6,"vypracování software, jeho aplikace a zprovoznění komunikace s VHD",1,"kpl.",null,0]
[null,7,"geodetické zaměření kabelových tras",1,"kpl.",null,0]
[null,null,"Celkem",null,null,null,{"$f":"SUM(G193:G199)","v":0}]

{"sheet":"02 02.03 KL","index":35,"n_rows":45,"n_cols":8,"rows_kept":45,"cut":false,"hidden":false,"merged":[[22,0,22,1],[7,2,7,4],[8,2,8,4],[9,2,9,4],[10,2,10,4],[11,2,11,4],[50,1,50,6],[29,5,29,6],[30,5,30,6],[31,5,31,6],[32,5,32,6],[33,5,33,6],[36,1,44,6],[45,1,45,6],[46,1,46,6],[47,1,47,6],[48,1,48,6],[49,1,49,6]]}
["POLOŽKOVÝ ROZPOČET"]
["Rozpočet",null,"02.03","Bezpečnostní přepad",null,"JKSO ","814.19"]
[]
["Objekt",null,null,null,null,"SKP "]
["02",null,"Čerpací stanice",null,null,"Měrná jednotka","m3"]
["Stavba",null,null,null,null,"Počet jednotek",0]
["3395",null,"Kanalizace a ČOV Benešov u Semil",null,null,"Náklady na m.j.",{"$f":"IF(G6=0,,ROUND((F30+F32)/G6,1))","v":0}]
["Projektant",null,"Vodohospodářský rozvoj a výstavba a.s.",null,null,"Typ rozpočtu"]
["Zpracovatel projektu"]
["Objednatel",null,"Vodohospodářské sdružení Turnov"]
["Dodavatel",null,".",null,null,"Zakázkové číslo "]
["Rozpočtoval",null,null,null,null,"Počet listů"]
["ROZPOČTOVÉ NÁKLADY"]
["Základní rozpočtové náklady"]
[null,"HSV celkem",{"$f":"'02 02.03 Rek'!E11","v":0}]
["Z","PSV celkem",{"$f":"'02 02.03 Rek'!F11","v":0}]
["R","M práce celkem",{"$f":"'02 02.03 Rek'!H11","v":0}]
["N","M dodávky celkem",{"$f":"'02 02.03 Rek'!G11","v":0}]
["ZRN celkem",null,{"$f":"SUM(C15:C18)","v":0}]
[]
["HZS",null,{"$f":"'02 02.03 Rek'!I11","v":0}]
["ZRN+HZS",null,{"$f":"C19+C21","v":0}]
["ZRN+ost.náklady+HZS",null,{"$f":"C22+G23","v":0}]
["Vypracoval",null,null,"Za zhotovitele",null,"Za objednatele"]
["Jméno :",null,null,"Jméno :",null,"Jméno :"]
["Datum :",null,null,"Datum :",null,"Datum :"]
[]
["Podpis :",null,null,"Podpis:",null,"Podpis:"]
[]
["Základ pro DPH",null,21,"%  ",null,{"$f":"C23-F32","v":0}]
["DPH",null,{"$f":"C30","v":21},"% ",null,{"$f":"ROUND(PRODUCT(F30,C31/100),0)","v":0}]
["Základ pro DPH",null,0,"% ",null,0]
["DPH",null,{"$f":"C32","v":0},"% ",null,{"$f":"ROUND(PRODUCT(F32,C33/100),0)","v":0}]
["CENA ZA OBJEKT CELKEM",null,null,null,null,{"$f":"ROUND(SUM(F30:F33),0)","v":0}]
[]
["Poznámka :",null,null,null,null,null,null," "]
[null,null,null,null,null,null,null," "]
[null,null,null,null,null,null,null," "]
[null,null,null,null,null,null,null," "]
[null,null,null,null,null,null,null," "]
[null,null,null,null,null,null,null," "]
[null,null,null,null,null,null,null," "]
[null,null,null,null,null,null,null," "]
[null,null,null,null,null,null,null," "]
[null,null,null,null,null,null,null," "]

{"sheet":"02 02.03 Rek","index":36,"n_rows":11,"n_cols":9,"rows_kept":11,"cut":false,"hidden":false,"merged":[[0,0,0,1],[1,0,1,1],[1,6,1,8]]}
["Stavba :",null,"3395 Kanalizace a ČOV Benešov u Semil",null,null,null,"Rozpočet :","02.03"]
["Objekt :",null,"02 Čerpací stanice",null,null,null,"Bezpečnostní přepad"]
[]
["REKAPITULACE  STAVEBNÍCH  DÍLŮ"]
[]
[null,"Stavební díl",null,null,"HSV","PSV","Dodávka","Montáž","HZS"]
[{"$f":"'02 02.03 Pol'!B7","v":"1"},{"$f":"'02 02.03 Pol'!C7","v":"Zemní práce"},null,null,{"$f":"'02 02.03 Pol'!BA89","v":0},{"$f":"'02 02.03 Pol'!BB89","v":0},{"$f":"'02 02.03 Pol'!BC89","v":0},{"$f":"'02 02.03 Pol'!BD89","v":0},{"$f":"'02 02.03 Pol'!BE89","v":0}]
[{"$f":"'02 02.03 Pol'!B90","v":"45"},{"$f":"'02 02.03 Pol'!C90","v":"Podkladní a vedlejší konstrukce"},null,null,{"$f":"'02 02.03 Pol'!BA104","v":0},{"$f":"'02 02.03 Pol'!BB104","v":0},{"$f":"'02 02.03 Pol'!BC104","v":0},{"$f":"'02 02.03 Pol'!BD104","v":0},{"$f":"'02 02.03 Pol'!BE104","v":0}]
[{"$f":"'02 02.03 Pol'!B105","v":"8"},{"$f":"'02 02.03 Pol'!C105","v":"Trubní vedení"},null,null,{"$f":"'02 02.03 Pol'!BA166","v":0},{"$f":"'02 02.03 Pol'!BB166","v":0},{"$f":"'02 02.03 Pol'!BC166","v":0},{"$f":"'02 02.03 Pol'!BD166","v":0},{"$f":"'02 02.03 Pol'!BE166","v":0}]
[{"$f":"'02 02.03 Pol'!B167","v":"99"},{"$f":"'02 02.03 Pol'!C167","v":"Staveništní přesun hmot"},null,null,{"$f":"'02 02.03 Pol'!BA170","v":0},{"$f":"'02 02.03 Pol'!BB170","v":0},{"$f":"'02 02.03 Pol'!BC170","v":0},{"$f":"'02 02.03 Pol'!BD170","v":0},{"$f":"'02 02.03 Pol'!BE170","v":0}]
[null,"CELKEM  OBJEKT",null,null,{"$f":"SUM(E7:E10)","v":0},{"$f":"SUM(F7:F10)","v":0},{"$f":"SUM(G7:G10)","v":0},{"$f":"SUM(H7:H10)","v":0},{"$f":"SUM(I7:I10)","v":0}]

{"sheet":"02 02.03 Pol","index":37,"n_rows":170,"n_cols":80,"rows_kept":170,"cut":false,"hidden":false,"merged":[[14,2,14,6],[15,2,15,6],[16,2,16,3],[17,2,17,3],[18,2,18,3],[20,2,20,6],[0,0,0,6],[2,0,2,1],[3,0,3,1],[3,4,3,6],[8,2,8,6],[9,2,9,6],[11,2,11,3],[12,2,12,3],[27,2,27,3],[28,2,28,3],[29,2,29,3],[30,2,30,3],[32,2,32,3],[33,2,33,3],[21,2,21,3],[22,2,22,3],[23,2,23,3],[24,2,24,3],[25,2,25,3],[26,2,26,3],[42,2,42,3],[43,2,43,3],[45,2,45,6],[46,2,46,3],[47,2,47,3],[48,2,48,3],[34,2,34,3],[36,2,36,6],[37,2,37,3],[38,2,38,3],[39,2,39,3],[41,2,41,3],[57,2,57,3],[58,2,58,3],[60,2,60,3],[61,2,61,3],[62,2,62,3],[63,2,63,3],[50,2,50,3],[51,2,51,3],[52,2,52,3],[53,2,53,3],[55,2,55,3],[56,2,56,3],[71,2,71,3],[72,2,72,3],[73,2,73,3],[74,2,74,3],[75,2,75,3],[76,2,76,3],[65,2,65,6],[66,2,66,6],[67,2,67,3],[68,2,68,3],[69,2,69,3],[70,2,70,3],[85,2,85,3],[87,2,87,3],[91,2,91,3],[93,2,93,6],[94,2,94,3],[95,2,95,3],[96,2,96,3],[98,2,98,3],[77,2,77,3],[78,2,78,3],[80,2,80,3],[82,2,82,3],[83,2,83,3],[84,2,84,3],[112,2,112,6],[113,2,113,3],[115,2,115,3],[117,2,117,6],[118,2,118,6],[119,2,119,3],[99,2,99,3],[101,2,101,3],[102,2,102,3],[106,2,106,6],[107,2,107,3],[109,2,109,6],[110,2,110,6],[111,2,111,6],[128,2,128,3],[129,2,129,3],[131,2,131,6],[132,2,132,6],[133,2,133,6],[134,2,134,3],[120,2,120,3],[122,2,122,6],[123,2,123,6],[124,2,124,3],[125,2,125,3],[127,2,127,6],[144,2,144,6],[145,2,145,6],[146,2,146,6],[147,2,147,6],[148,2,148,6],[149,2,149,3],[135,2,135,3],[137,2,137,6],[138,2,138,6],[140,2,140,3],[142,2,142,6],[143,2,143,6],[160,2,160,3],[161,2,161,3],[163,2,163,3],[164,2,164,3],[168,2,168,6],[151,2,151,3],[152,2,152,3],[154,2,154,3],[155,2,155,3],[157,2,157,3],[158,2,158,3]]}
["Položkový rozpočet "]
[]
["Stavba :",null,"3395 Kanalizace a ČOV Benešov u Semil",null,"Rozpočet:",{"$f":"'02 02.03 Rek'!H1","v":"02.03"}]
["Objekt :",null,"02 Čerpací stanice",null,{"$f":"'02 02.03 Rek'!G2","v":"Bezpečnostní přepad"}]
[]
["P.č.","Číslo položky","Název položky","MJ","množství","cena / MJ","celkem (Kč)","Jednotková hmotnost","Celková hmotnost","Jednotková dem.hmot.","Celková dem.hmot."]
["Díl:","1","Zemní práce",null,null,null,null,null,null,null,null,null,null,null,1]
[1,"115101201RRX","Přečerpávání nebo převedení splašků a dešť. vod ","h",40,null,{"$f":"E8*F8","v":0},0,{"$f":"E8*H8","v":0},0,{"$f":"E8*J8","v":0},null,null,null,2,null,null,null,null,null,null,null,null,null,null,null,1,1,1,null,null,null,null,null,null,null,null,null,null,null,null,null,null,null,null,null,null,null,null,null,null,1,{"$f":"IF(AZ8=1,G8,0)","v":0},{"$f":"IF(AZ8=2,G8,0)","v":0},{"$f":"IF(AZ8=3,G8,0)","v":0},{"$f":"IF(AZ8=4,G8,0)","v":0},{"$f":"IF(AZ8=5,G8,0)","v":0},null,null,null,null,null,null,null,null,null,null,null,null,null,null,null,null,null,null,null,null,null,1,1]
[null,null,"Převedení a čerpání splašků nebo dešťových vod dle zvolené technologie zhotovitele stavby.",null,null,null,null,null,null,null,null,"Převedení a čerpání splašků nebo dešťových vod dle zvolené technologie zhotovitele stavby.",null,null,3]
[null,null,"(Množství bude určeno na stavbě dle skutečnosti)",null,null,null,null,null,null,null,null,"(Množství bude určeno na stavbě dle skutečnosti)",null,null,3]
[2,"121100002RAA","Sejmutí ornice a uložení na deponii zpětný přesun, rozprostření v tl. 20 cm","m3",21,null,{"$f":"E11*F11","v":0},0,{"$f":"E11*H11","v":0},0,{"$f":"E11*J11","v":0},null,null,null,2,null,null,null,null,null,null,null,null,null,null,null,1,1,1,null,null,null,null,null,null,null,null,null,null,null,null,null,null,null,null,null,null,null,null,null,null,1,{"$f":"IF(AZ11=1,G11,0)","v":0},{"$f":"IF(AZ11=2,G11,0)","v":0},{"$f":"IF(AZ11=3,G11,0)","v":0},{"$f":"IF(AZ11=4,G11,0)","v":0},{"$f":"IF(AZ11=5,G11,0)","v":0},null,null,null,null,null,null,null,null,null,null,null,null,null,null,null,null,null,null,null,null,null,1,1]
[null,null,"Bezpečnostní přepad PVC DN200:",null,0,null,null,null,null,null,null,null,"Bezpečnostní přepad PVC DN200:"]
[null,null,"Objemu ornice v pravocním prostoru:35,00*3,00*0,20",null,21,null,null,null,null,null,null,null,"Objemu ornice v pravocním prostoru:35,00*3,00*0,20"]
[3,"130001101RRX","Příplatek za ztížené hloubení v blízkosti vedení ","m3",7.8555999999999999,null,{"$f":"E14*F14","v":0},0,{"$f":"E14*H14","v":0},0,{"$f":"E14*J14","v":0},null,null,null,2,null,null,null,null,null,null,null,null,null,null,null,1,1,1,null,null,null,null,null,null,null,null,null,null,null,null,null,null,null,null,null,null,null,null,null,null,1,{"$f":"IF(AZ14=1,G14,0)","v":0},{"$f":"IF(AZ14=2,G14,0)","v":0},{"$f":"IF(AZ14=3,G14,0)","v":0},{"$f":"IF(AZ14=4,G14,0)","v":0},{"$f":"IF(AZ14=5,G14,0)","v":0},null,null,null,null,null,null,null,null,null,null,null,null,null,null,null,null,null,null,null,null,null,1,1]
[null,null,"Včetně případných nutných dokopávem a ručního výkopu podél sousedících inženýrských sítí.",null,null,null,null,null,null,null,null,"Včetně případných nutných dokopávem a ručního výkopu podél sousedících inženýrských sítí.",null,null,3]
[null,null,"Součástí položky je i dočasné zajištění inženýrských sítí v prostoru výkopů (potrubí, kabely a pod.)",null,null,null,null,null,null,null,null,"Součástí položky je i dočasné zajištění inženýrských sítí v prostoru výkopů (potrubí, kabely a pod.)",null,null,3]
[null,null,"Bezpečnostní přepad PVC DN200:",null,0,null,null,null,null,null,null,null,"Bezpečnostní přepad PVC DN200:"]
[null,null,"Výkopy:",null,0,null,null,null,null,null,null,null,"Výkopy:"]
[null,null,"V hornině tř. 3 - 5 - 10%:78,5560*0,1",null,7.8555999999999999,null,null,null,null,null,null,null,"V hornině tř. 3 - 5 - 10%:78,5560*0,1"]
[4,"132201212R00","Hloubení rýh š.do 200 cm hor.3 do 1000m3,STROJNĚ ","m3",47.133600000000001,null,{"$f":"E20*F20","v":0},0,{"$f":"E20*H20","v":0},0,{"$f":"E20*J20","v":0},null,null,null,2,null,null,null,null,null,null,null,null,null,null,null,1,1,1,null,null,null,null,null,null,null,null,null,null,null,null,null,null,null,null,null,null,null,null,null,null,1,{"$f":"IF(AZ20=1,G20,0)","v":0},{"$f":"IF(AZ20=2,G20,0)","v":0},{"$f":"IF(AZ20=3,G20,0)","v":0},{"$f":"IF(AZ20=4,G20,0)","v":0},{"$f":"IF(AZ20=5,G20,0)","v":0},null,null,null,null,null,null,null,null,null,null,null,null,null,null,null,null,null,null,null,null,null,1,1]
[null,null,"Položka obsahuje hloubení rýh traktorbagrem, naložení výkopku na dopravní prostředek pro svislé, nebo vodorovné přemístění, popř. přemístění výkopku do 3 m (po povrchu území), případné zajištění rypadel polštáři, udržování pracoviště a ochranu výkopiště proti stékání srážkové vody z okolního terénu i s jejím odvodněním, nebo odvedením, přesekání a odstranění kořenů ve výkopišti, odstranění napadávek, urovnání dna výkopu.",null,null,null,null,null,null,null,null,"Položka obsahuje hloubení rýh traktorbagrem, naložení výkopku na dopravní prostředek pro svislé, nebo vodorovné přemístění, popř. přemístění výkopku do 3 m (po povrchu území), případné zajištění rypadel polštáři, udržování pracoviště a ochranu výkopiště proti stékání srážkové vody z okolního terénu i s jejím odvodněním, nebo odvedením, přesekání a odstranění kořenů ve výkopišti, odstranění napadávek, urovnání dna výkopu.",null,null,3]
[null,null,"Bezpečnostní přepad PVC DN200:",null,0,null,null,null,null,null,null,null,"Bezpečnostní přepad PVC DN200:"]
[null,null,"Výkopy:",null,0,null,null,null,null,null,null,null,"Výkopy:"]
[null,null,"Začátek provozního součtu",null,0,null,null,null,null,null,null,null,"Začátek provozního součtu"]
[null,null,"Průměrná hloubka cca 2,50 m:",null,0,null,null,null,null,null,null,null,"Průměrná hloubka cca 2,50 m:"]
[null,null,"ČS - napojení na Š:35,00*1,00*(2,50-0,20)",null,80.5,null,null,null,null,null,null,null,"ČS - napojení na Š:35,00*1,00*(2,50-0,20)"]
[null,null,"Prohloubení pro RŠ:1,60*1,60*0,20*2",null,1.024,null,null,null,null,null,null,null,"Prohloubení pro RŠ:1,60*1,60*0,20*2"]
[null,null,"Rozšíření pro RŠ:1,60*(1,60-1,00)*4,60",null,4.4160000000000004,null,null,null,null,null,null,null,"Rozšíření pro RŠ:1,60*(1,60-1,00)*4,60"]
[null,null,"Odpočet objemu ornice:-(35,00*1,00+(1,60*(1,60-1,00)*2))*0,20",null,-7.3840000000000003,null,null,null,null,null,null,null,"Odpočet objemu ornice:-(35,00*1,00+(1,60*(1,60-1,00)*2))*0,20"]
[null,null,"Konec provozního součtu",null,78.555999999999997,null,null,null,null,null,null,null,"Konec provozního součtu"]
[null,null,"V hornině tř. 3 - 60%:78,5560*0,6",null,47.133600000000001,null,null,null,null,null,null,null,"V hornině tř. 3 - 60%:78,5560*0,6"]
[5,"132201219R00","Přípl.za lepivost,hloubení rýh 200cm,hor.3,STROJNĚ ","m3",23.566800000000001,null,{"$f":"E32*F32","v":0},0,{"$f":"E32*H32","v":0},0,{"$f":"E32*J32","v":0},null,null,null,2,null,null,null,null,null,null,null,null,null,null,null,1,1,1,null,null,null,null,null,null,null,null,null,null,null,null,null,null,null,null,null,null,null,null,null,null,1,{"$f":"IF(AZ32=1,G32,0)","v":0},{"$f":"IF(AZ32=2,G32,0)","v":0},{"$f":"IF(AZ32=3,G32,0)","v":0},{"$f":"IF(AZ32=4,G32,0)","v":0},{"$f":"IF(AZ32=5,G32,0)","v":0},null,null,null,null,null,null,null,null,null,null,null,null,null,null,null,null,null,null,null,null,null,1,1]
[null,null,"Bezpečnostní přepad PVC DN200:",null,0,null,null,null,null,null,null,null,"Bezpečnostní přepad PVC DN200:"]
[null,null,"Výkopy:",null,0,null,null,null,null,null,null,null,"Výkopy:"]
[null,null,"V hornině tř. 3 - 60%:78,5560*0,6*0,5",null,23.566800000000001,null,null,null,null,null,null,null,"V hornině tř. 3 - 60%:78,5560*0,6*0,5"]
[6,"132301212R00","Hloubení rýh š.do 200 cm hor.4 do 1000 m3, STROJNĚ ","m3",23.566800000000001,null,{"$f":"E36*F36","v":0},0,{"$f":"E36*H36","v":0},0,{"$f":"E36*J36","v":0},null,null,null,2,null,null,null,null,null,null,null,null,null,null,null,1,1,1,null,null,null,null,null,null,null,null,null,null,null,null,null,null,null,null,null,null,null,null,null,null,1,{"$f":"IF(AZ36=1,G36,0)","v":0},{"$f":"IF(AZ36=2,G36,0)","v":0},{"$f":"IF(AZ36=3,G36,0)","v":0},{"$f":"IF(AZ36=4,G36,0)","v":0},{"$f":"IF(AZ36=5,G36,0)","v":0},null,null,null,null,null,null,null,null,null,null,null,null,null,null,null,null,null,null,null,null,null,1,1]
[null,null,"Položka obsahuje hloubení rýh traktorbagrem, naložení výkopku na dopravní prostředek pro svislé, nebo vodorovné přemístění, popř. přemístění výkopku do 3 m (po povrchu území), případné zajištění rypadel polštáři, udržování pracoviště a ochranu výkopiště proti stékání srážkové vody z okolního terénu i s jejím odvodněním, nebo odvedením, přesekání a odstranění kořenů ve výkopišti, odstranění napadávek, urovnání dna výkopu.",null,null,null,null,null,null,null,null,"Položka obsahuje hloubení rýh traktorbagrem, naložení výkopku na dopravní prostředek pro svislé, nebo vodorovné přemístění, popř. přemístění výkopku do 3 m (po povrchu území), případné zajištění rypadel polštáři, udržování pracoviště a ochranu výkopiště proti stékání srážkové vody z okolního terénu i s jejím odvodněním, nebo odvedením, přesekání a odstranění kořenů ve výkopišti, odstranění napadávek, urovnání dna výkopu.",null,null,3]
[null,null,"Bezpečnostní přepad PVC DN200:",null,0,null,null,null,null,null,null,null,"Bezpečnostní přepad PVC DN200:"]
[null,null,"Výkopy:",null,0,null,null,null,null,null,null,null,"Výkopy:"]
[null,null,"V hornině tř. 4 - 30%:78,5560*0,3",null,23.566800000000001,null,null,null,null,null,null,null,"V hornině tř. 4 - 30%:78,5560*0,3"]
[7,"132301219R00","Přípl.za lepivost,hloubení rýh 200cm,hor.4,STROJNĚ ","m3",11.7834,null,{"$f":"E41*F41","v":0},0,{"$f":"E41*H41","v":0},0,{"$f":"E41*J41","v":0},null,null,null,2,null,null,null,null,null,null,null,null,null,null,null,1,1,1,null,null,null,null,null,null,null,null,null,null,null,null,null,null,null,null,null,null,null,null,null,null,1,{"$f":"IF(AZ41=1,G41,0)","v":0},{"$f":"IF(AZ41=2,G41,0)","v":0},{"$f":"IF(AZ41=3,G41,0)","v":0},{"$f":"IF(AZ41=4,G41,0)","v":0},{"$f":"IF(AZ41=5,G41,0)","v":0},null,null,null,null,null,null,null,null,null,null,null,null,null,null,null,null,null,null,null,null,null,1,1]
[null,null,"Bezpečnostní přepad PVC DN200:",null,0,null,null,null,null,null,null,null,"Bezpečnostní přepad PVC DN200:"]
[null,null,"Výkopy:",null,0,null,null,null,null,null,null,null,"Výkopy:"]
[null,null,"V hornině tř. 4 - 30%:78,5560*0,3*0,5",null,11.7834,null,null,null,null,null,null,null,"V hornině tř. 4 - 30%:78,5560*0,3*0,5"]
[8,"132401211RRX","Hloubení rýh šířky do 200 cm v hor.5 STROJNĚ včetně případného dolamování ve vrstvě do 0,5 m","m3",7.8555999999999999,null,{"$f":"E45*F45","v":0},1.0410000000000001E-2,{"$f":"E45*H45","v":8.1776796000000013E-2},0,{"$f":"E45*J45","v":0},null,null,null,2,null,null,null,null,null,null,null,null,null,null,null,1,1,1,null,null,null,null,null,null,null,null,null,null,null,null,null,null,null,null,null,null,null,null,null,null,1,{"$f":"IF(AZ45=1,G45,0)","v":0},{"$f":"IF(AZ45=2,G45,0)","v":0},{"$f":"IF(AZ45=3,G45,0)","v":0},{"$f":"IF(AZ45=4,G45,0)","v":0},{"$f":"IF(AZ45=5,G45,0)","v":0},null,null,null,null,null,null,null,null,null,null,null,null,null,null,null,null,null,null,null,null,null,1,1]
[null,null,"Položka obsahuje hloubení rýh traktorbagrem, naložení výkopku na dopravní prostředek pro svislé, nebo vodorovné přemístění, popř. přemístění výkopku do 3 m (po povrchu území), případné zajištění rypadel polštáři, udržování pracoviště a ochranu výkopiště proti stékání srážkové vody z okolního terénu i s jejím odvodněním, nebo odvedením, přesekání a odstranění kořenů ve výkopišti, odstranění napadávek, urovnání dna výkopu.včetně případného dolamování ve vrstvě do 0,5 m",null,null,null,null,null,null,null,null,"Položka obsahuje hloubení rýh traktorbagrem, naložení výkopku na dopravní prostředek pro svislé, nebo vodorovné přemístění, popř. přemístění výkopku do 3 m (po povrchu území), případné zajištění rypadel polštáři, udržování pracoviště a ochranu výkopiště proti stékání srážkové vody z okolního terénu i s jejím odvodněním, nebo odvedením, přesekání a odstranění kořenů ve výkopišti, odstranění napadávek, urovnání dna výkopu.včetně případného dolamování ve vrstvě do 0,5 m",null,null,3]
[null,null,"Bezpečnostní přepad PVC DN200:",null,0,null,null,null,null,null,null,null,"Bezpečnostní přepad PVC DN200:"]
[null,null,"Výkopy:",null,0,null,null,null,null,null,null,null,"Výkopy:"]
[null,null,"V hornině tř. 5 - 10%:78,5560*0,1",null,7.8555999999999999,null,null,null,null,null,null,null,"V hornině tř. 5 - 10%:78,5560*0,1"]
[9,"151101102R00","Pažení a rozepření stěn rýh - příložné - hl.do 4 m ","m2",175,null,{"$f":"E50*F50","v":0},8.5999999999999998E-4,{"$f":"E50*H50","v":0.15049999999999999},0,{"$f":"E50*J50","v":0},null,null,null,2,null,null,null,null,null,null,null,null,null,null,null,1,1,1,null,null,null,null,null,null,null,null,null,null,null,null,null,null,null,null,null,null,null,null,null,null,1,{"$f":"IF(AZ50=1,G50,0)","v":0},{"$f":"IF(AZ50=2,G50,0)","v":0},{"$f":"IF(AZ50=3,G50,0)","v":0},{"$f":"IF(AZ50=4,G50,0)","v":0},{"$f":"IF(AZ50=5,G50,0)","v":0},null,null,null,null,null,null,null,null,null,null,null,null,null,null,null,null,null,null,null,null,null,1,1]
[null,null,"Bezpečnostní přepad PVC DN200:",null,0,null,null,null,null,null,null,null,"Bezpečnostní přepad PVC DN200:"]
[null,null,"Výkopy:",null,0,null,null,null,null,null,null,null,"Výkopy:"]
[null,null,"Průměrná hloubka cca 2,50 m:",null,0,null,null,null,null,null,null,null,"Průměrná hloubka cca 2,50 m:"]
[null,null,"ČS - napojení na Š:35,00*2,50*2",null,175,null,null,null,null,null,null,null,"ČS - napojení na Š:35,00*2,50*2"]
[10,"151101112R00","Odstranění pažení stěn rýh - příložné - hl. do 4 m ","m2",175,null,{"$f":"E55*F55","v":0},0,{"$f":"E55*H55","v":0},0,{"$f":"E55*J55","v":0},null,null,null,2,null,null,null,null,null,null,null,null,null,null,null,1,1,1,null,null,null,null,null,null,null,null,null,null,null,null,null,null,null,null,null,null,null,null,null,null,1,{"$f":"IF(AZ55=1,G55,0)","v":0},{"$f":"IF(AZ55=2,G55,0)","v":0},{"$f":"IF(AZ55=3,G55,0)","v":0},{"$f":"IF(AZ55=4,G55,0)","v":0},{"$f":"IF(AZ55=5,G55,0)","v":0},null,null,null,null,null,null,null,null,null,null,null,null,null,null,null,null,null,null,null,null,null,1,1]
[null,null,"Bezpečnostní přepad PVC DN200:",null,0,null,null,null,null,null,null,null,"Bezpečnostní přepad PVC DN200:"]
[null,null,"Výkopy:",null,0,null,null,null,null,null,null,null,"Výkopy:"]
[null,null,"Průměrná hloubka cca 2,50 m:",null,0,null,null,null,null,null,null,null,"Průměrná hloubka cca 2,50 m:"]
[null,null,"ČS - napojení na Š:35,00*2,50*2",null,175,null,null,null,null,null,null,null,"ČS - napojení na Š:35,00*2,50*2"]
[11,"162701105RSZ","Vodorovné přemístění výkopku z hor.1-7 na skládku zhotovitele","m3",29.386199999999999,null,{"$f":"E60*F60","v":0},0,{"$f":"E60*H60","v":0},0,{"$f":"E60*J60","v":0},null,null,null,2,null,null,null,null,null,null,null,null,null,null,null,1,1,1,null,null,null,null,null,null,null,null,null,null,null,null,null,null,null,null,null,null,null,null,null,null,1,{"$f":"IF(AZ60=1,G60,0)","v":0},{"$f":"IF(AZ60=2,G60,0)","v":0},{"$f":"IF(AZ60=3,G60,0)","v":0},{"$f":"IF(AZ60=4,G60,0)","v":0},{"$f":"IF(AZ60=5,G60,0)","v":0},null,null,null,null,null,null,null,null,null,null,null,null,null,null,null,null,null,null,null,null,null,1,1]
[null,null,"Bezpečnostní přepad PVC DN200:",null,0,null,null,null,null,null,null,null,"Bezpečnostní přepad PVC DN200:"]
[null,null,"Výkopy:",null,0,null,null,null,null,null,null,null,"Výkopy:"]
[null,null,"V hornině tř. 3 - 5 :78,5560",null,78.555999999999997,null,null,null,null,null,null,null,"V hornině tř. 3 - 5 :78,5560"]
[null,null,"Odpočet zásypů zeminou:-49,1698",null,-49.169800000000002,null,null,null,null,null,null,null,"Odpočet zásypů zeminou:-49,1698"]
[12,"174101101R00","Zásyp jam, rýh, šachet se zhutněním ","m3",49.169800000000002,null,{"$f":"E65*F65","v":0},0,{"$f":"E65*H65","v":0},0,{"$f":"E65*J65","v":0},null,null,null,2,null,null,null,null,null,null,null,null,null,null,null,1,1,1,null,null,null,null,null,null,null,null,null,null,null,null,null,null,null,null,null,null,null,null,null,null,1,{"$f":"IF(AZ65=1,G65,0)","v":0},{"$f":"IF(AZ65=2,G65,0)","v":0},{"$f":"IF(AZ65=3,G65,0)","v":0},{"$f":"IF(AZ65=4,G65,0)","v":0},{"$f":"IF(AZ65=5,G65,0)","v":0},null,null,null,null,null,null,null,null,null,null,null,null,null,null,null,null,null,null,null,null,null,1,1]
[null,null,"Položka obsahuje strojní přemístění materiálu pro zásyp ze vzdálenosti do 10 m od okraje zásypu.",null,null,null,null,null,null,null,null,"Položka obsahuje strojní přemístění materiálu pro zásyp ze vzdálenosti do 10 m od okraje zásypu.",null,null,3]
[null,null,null,null,null,null,null,null,null,null,null,null,null,null,3]
[null,null,"Bezpečnostní přepad PVC DN200:",null,0,null,null,null,null,null,null,null,"Bezpečnostní přepad PVC DN200:"]
[null,null,"Zásypy zeminou:49,1698",null,49.169800000000002,null,null,null,null,null,null,null,"Zásypy zeminou:49,1698"]
[null,null,"Výkopy:",null,0,null,null,null,null,null,null,null,"Výkopy:"]
[null,null,"Začátek provozního součtu",null,0,null,null,null,null,null,null,null,"Začátek provozního součtu"]
[null,null,"Průměrná hloubka cca 2,50 m:",null,0,null,null,null,null,null,null,null,"Průměrná hloubka cca 2,50 m:"]
[null,null,"ČS - napojení na Š:35,00*1,00*(2,50-0,20)",null,80.5,null,null,null,null,null,null,null,"ČS - napojení na Š:35,00*1,00*(2,50-0,20)"]
[null,null,"Prohloubení pro RŠ:1,60*1,60*0,20*2",null,1.024,null,null,null,null,null,null,null,"Prohloubení pro RŠ:1,60*1,60*0,20*2"]
[null,null,"Rozšíření pro RŠ:1,60*(1,60-1,00)*4,60",null,4.4160000000000004,null,null,null,null,null,null,null,"Rozšíření pro RŠ:1,60*(1,60-1,00)*4,60"]
[null,null,"Odpočet objemu ornice:-(35,00*1,00+(1,60*(1,60-1,00)*2))*0,20",null,-7.3840000000000003,null,null,null,null,null,null,null,"Odpočet objemu ornice:-(35,00*1,00+(1,60*(1,60-1,00)*2))*0,20"]
[null,null,"Odpočet objemu lože, potrubí a obsypů:-35,00*1,00*(0,15+0,20+0,30)",null,-22.75,null,null,null,null,null,null,null,"Odpočet objemu lože, potrubí a obsypů:-35,00*1,00*(0,15+0,20+0,30)"]
[null,null,"Odpočet objemu RŠ:-6,6362",null,-6.6361999999999997,null,null,null,null,null,null,null,"Odpočet objemu RŠ:-6,6362"]
[null,null,"Konec provozního součtu",null,49.169799999999995,null,null,null,null,null,null,null,"Konec provozního součtu"]
[13,"175101101R00","Obsyp potrubí bez prohození sypaniny ","m3",16.400400000000001,null,{"$f":"E80*F80","v":0},0,{"$f":"E80*H80","v":0},0,{"$f":"E80*J80","v":0},null,null,null,2,null,null,null,null,null,null,null,null,null,null,null,1,1,1,null,null,null,null,null,null,null,null,null,null,null,null,null,null,null,null,null,null,null,null,null,null,1,{"$f":"IF(AZ80=1,G80,0)","v":0},{"$f":"IF(AZ80=2,G80,0)","v":0},{"$f":"IF(AZ80=3,G80,0)","v":0},{"$f":"IF(AZ80=4,G80,0)","v":0},{"$f":"IF(AZ80=5,G80,0)","v":0},null,null,null,null,null,null,null,null,null,null,null,null,null,null,null,null,null,null,null,null,null,1,1]
[null,null,"Bezpečnostní přepad PVC DN200:35,00*(1,00*(0,20+0,30)-0,10^2*Pi)",null,16.400400000000001,null,null,null,null,null,null,null,"Bezpečnostní přepad PVC DN200:35,00*(1,00*(0,20+0,30)-0,10^2*Pi)"]
[14,"199000002R00","Poplatek za skládku horniny 1- 7 č. dle katal. odpadů 17 05 04","m3",29.386199999999999,null,{"$f":"E82*F82","v":0},0,{"$f":"E82*H82","v":0},0,{"$f":"E82*J82","v":0},null,null,null,2,null,null,null,null,null,null,null,null,null,null,null,1,1,1,null,null,null,null,null,null,null,null,null,null,null,null,null,null,null,null,null,null,null,null,null,null,1,{"$f":"IF(AZ82=1,G82,0)","v":0},{"$f":"IF(AZ82=2,G82,0)","v":0},{"$f":"IF(AZ82=3,G82,0)","v":0},{"$f":"IF(AZ82=4,G82,0)","v":0},{"$f":"IF(AZ82=5,G82,0)","v":0},null,null,null,null,null,null,null,null,null,null,null,null,null,null,null,null,null,null,null,null,null,1,1]
[null,null,"Bezpečnostní přepad PVC DN200:",null,0,null,null,null,null,null,null,null,"Bezpečnostní přepad PVC DN200:"]
[null,null,"Výkopy:",null,0,null,null,null,null,null,null,null,"Výkopy:"]
[null,null,"V hornině tř. 3 - 5 :78,5560",null,78.555999999999997,null,null,null,null,null,null,null,"V hornině tř. 3 - 5 :78,5560"]
[null,null,"Odpočet zásypů zeminou:-49,1698",null,-49.169800000000002,null,null,null,null,null,null,null,"Odpočet zásypů zeminou:-49,1698"]
[15,"58337308.R","Štěrkopísek frakce 0-2 tř.B","t",32.681699999999999,null,{"$f":"E87*F87","v":0},1,{"$f":"E87*H87","v":32.681699999999999},null,{"$f":"E87*J87","v":0},null,null,null,2,null,null,null,null,null,null,null,null,null,null,null,3,1,"58337308.R",null,null,null,null,null,null,null,null,null,null,null,null,null,null,null,null,null,null,null,null,null,null,1,{"$f":"IF(AZ87=1,G87,0)","v":0},{"$f":"IF(AZ87=2,G87,0)","v":0},{"$f":"IF(AZ87=3,G87,0)","v":0},{"$f":"IF(AZ87=4,G87,0)","v":0},{"$f":"IF(AZ87=5,G87,0)","v":0},null,null,null,null,null,null,null,null,null,null,null,null,null,null,null,null,null,null,null,null,null,3,1]
[null,null,"Bezpečnostní přepad PVC DN200:35,00*(1,00*(0,20+0,30)-0,10^2*Pi)*1,973*1,01",null,32.681699999999999,null,null,null,null,null,null,null,"Bezpečnostní přepad PVC DN200:35,00*(1,00*(0,20+0,30)-0,10^2*Pi)*1,973*1,01"]
[null,"Celkem za","1 Zemní práce",null,null,null,{"$f":"SUM(G7:G88)","v":0},null,{"$f":"SUM(I7:I88)","v":32.913976796},null,{"$f":"SUM(K7:K88)","v":0},null,null,null,4,null,null,null,null,null,null,null,null,null,null,null,null,null,null,null,null,null,null,null,null,null,null,null,null,null,null,null,null,null,null,null,null,null,null,null,null,null,{"$f":"SUM(BA7:BA88)","v":0},{"$f":"SUM(BB7:BB88)","v":0},{"$f":"SUM(BC7:BC88)","v":0},{"$f":"SUM(BD7:BD88)","v":0},{"$f":"SUM(BE7:BE88)","v":0}]
["Díl:","45","Podkladní a vedlejší konstrukce",null,null,null,null,null,null,null,null,null,null,null,1]
[16,"451572111R00","Lože pod potrubí z kameniva těženého 0 - 4 mm ","m3",5.25,null,{"$f":"E91*F91","v":0},0.43051,{"$f":"E91*H91","v":2.2601775000000002},0,{"$f":"E91*J91","v":0},null,null,null,2,null,null,null,null,null,null,null,null,null,null,null,1,1,1,null,null,null,null,null,null,null,null,null,null,null,null,null,null,null,null,null,null,null,null,null,null,1,{"$f":"IF(AZ91=1,G91,0)","v":0},{"$f":"IF(AZ91=2,G91,0)","v":0},{"$f":"IF(AZ91=3,G91,0)","v":0},{"$f":"IF(AZ91=4,G91,0)","v":0},{"$f":"IF(AZ91=5,G91,0)","v":0},null,null,null,null,null,null,null,null,null,null,null,null,null,null,null,null,null,null,null,null,null,1,1]
[null,null,"Bezpečnostní přepad PVC DN200:35,00*1,00*0,15",null,5.25,null,null,null,null,null,null,null,"Bezpečnostní přepad PVC DN200:35,00*1,00*0,15"]
[17,"452112111R00","Osazení beton. prstenců pod poklopy,výšky do100 mm ","kus",4,null,{"$f":"E93*F93","v":0},6.6E-3,{"$f":"E93*H93","v":2.64E-2},0,{"$f":"E93*J93","v":0},null,null,null,2,null,null,null,null,null,null,null,null,null,null,null,1,1,1,null,null,null,null,null,null,null,null,null,null,null,null,null,null,null,null,null,null,null,null,null,null,1,{"$f":"IF(AZ93=1,G93,0)","v":0},{"$f":"IF(AZ93=2,G93,0)","v":0},{"$f":"IF(AZ93=3,G93,0)","v":0},{"$f":"IF(AZ93=4,G93,0)","v":0},{"$f":"IF(AZ93=5,G93,0)","v":0},null,null,null,null,null,null,null,null,null,null,null,null,null,null,null,null,null,null,null,null,null,1,1]
[null,null,"Volba položky se řídí výškou prstence nebo rámu. V položkách nejsou zakalkulovány náklady na dodávku betonových výrobků;",null,null,null,null,null,null,null,null,"Volba položky se řídí výškou prstence nebo rámu. V položkách nejsou zakalkulovány náklady na dodávku betonových výrobků;",null,null,3]
[null,null,"Bezpečnostní přepad PVC DN200:",null,0,null,null,null,null,null,null,null,"Bezpečnostní přepad PVC DN200:"]
[null,null,"VP H80:3",null,3,null,null,null,null,null,null,null,"VP H80:3"]
[null,null,"VP H100:1",null,1,null,null,null,null,null,null,null,"VP H100:1"]
[18,"59224348.A.R","Prstenec vyrovn šachetní TBW-Q.1 63/8","kus",3.03,null,{"$f":"E98*F98","v":0},5.3999999999999999E-2,{"$f":"E98*H98","v":0.16361999999999999},null,{"$f":"E98*J98","v":0},null,null,null,2,null,null,null,null,null,null,null,null,null,null,null,3,1,"59224348.A.R",null,null,null,null,null,null,null,null,null,null,null,null,null,null,null,null,null,null,null,null,null,null,1,{"$f":"IF(AZ98=1,G98,0)","v":0},{"$f":"IF(AZ98=2,G98,0)","v":0},{"$f":"IF(AZ98=3,G98,0)","v":0},{"$f":"IF(AZ98=4,G98,0)","v":0},{"$f":"IF(AZ98=5,G98,0)","v":0},null,null,null,null,null,null,null,null,null,null,null,null,null,null,null,null,null,null,null,null,null,3,1]
[null,null,"Bezpečnostní přepad PVC DN200:",null,0,null,null,null,null,null,null,null,"Bezpečnostní přepad PVC DN200:"]
[null,null,"VP H80:3*1,01",null,3.03,null,null,null,null,null,null,null,"VP H80:3*1,01"]
[19,"59224349.A.R","Prstenec vyrovn šachetní TBW-Q.1 63/10","kus",1.01,null,{"$f":"E101*F101","v":0},6.8000000000000005E-2,{"$f":"E101*H101","v":6.8680000000000005E-2},null,{"$f":"E101*J101","v":0},null,null,null,2,null,null,null,null,null,null,null,null,null,null,null,3,1,"59224349.A.R",null,null,null,null,null,null,null,null,null,null,null,null,null,null,null,null,null,null,null,null,null,null,1,{"$f":"IF(AZ101=1,G101,0)","v":0},{"$f":"IF(AZ101=2,G101,0)","v":0},{"$f":"IF(AZ101=3,G101,0)","v":0},{"$f":"IF(AZ101=4,G101,0)","v":0},{"$f":"IF(AZ101=5,G101,0)","v":0},null,null,null,null,null,null,null,null,null,null,null,null,null,null,null,null,null,null,null,null,null,3,1]
[null,null,"Bezpečnostní přepad PVC DN200:",null,0,null,null,null,null,null,null,null,"Bezpečnostní přepad PVC DN200:"]
[null,null,"VP H100:1*1,01",null,1.01,null,null,null,null,null,null,null,"VP H100:1*1,01"]
[null,"Celkem za","45 Podkladní a vedlejší konstrukce",null,null,null,{"$f":"SUM(G90:G103)","v":0},null,{"$f":"SUM(I90:I103)","v":2.5188775000000003},null,{"$f":"SUM(K90:K103)","v":0},null,null,null,4,null,null,null,null,null,null,null,null,null,null,null,null,null,null,null,null,null,null,null,null,null,null,null,null,null,null,null,null,null,null,null,null,null,null,null,null,null,{"$f":"SUM(BA90:BA103)","v":0},{"$f":"SUM(BB90:BB103)","v":0},{"$f":"SUM(BC90:BC103)","v":0},{"$f":"SUM(BD90:BD103)","v":0},{"$f":"SUM(BE90:BE103)","v":0}]
["Díl:","8","Trubní vedení",null,null,null,null,null,null,null,null,null,null,null,1]
[20,"871353121R00","Montáž trub z plastu, gumový kroužek, DN 200 ","m",35,null,{"$f":"E106*F106","v":0},1.0000000000000001E-5,{"$f":"E106*H106","v":3.5000000000000005E-4},0,{"$f":"E106*J106","v":0},null,null,null,2,null,null,null,null,null,null,null,null,null,null,null,1,1,1,null,null,null,null,null,null,null,null,null,null,null,null,null,null,null,null,null,null,null,null,null,null,1,{"$f":"IF(AZ106=1,G106,0)","v":0},{"$f":"IF(AZ106=2,G106,0)","v":0},{"$f":"IF(AZ106=3,G106,0)","v":0},{"$f":"IF(AZ106=4,G106,0)","v":0},{"$f":"IF(AZ106=5,G106,0)","v":0},null,null,null,null,null,null,null,null,null,null,null,null,null,null,null,null,null,null,null,null,null,1,1]
[null,null,"V položce je uvažováno s jedním spojem na 6 m potrubí. Položka je určena pro montáž potrubí z kanalizačních trub z plastu těsněných gumovým kroužkem v otevřeném výkopu ve sklonu do 20 %.",null,null,null,null,null,null,null,null,"V položce je uvažováno s jedním spojem na 6 m potrubí. Položka je určena pro montáž potrubí z kanalizačních trub z plastu těsněných gumovým kroužkem v otevřeném výkopu ve sklonu do 20 %.",null,null,3]
[null,null,"Bezpečnostní přepad PVC DN200:35,00",null,35,null,null,null,null,null,null,null,"Bezpečnostní přepad PVC DN200:35,00"]
[21,"892601122R00","Čištění kanalizační stoky do DN 200, do 50 m ","m",35,null,{"$f":"E109*F109","v":0},0,{"$f":"E109*H109","v":0},0,{"$f":"E109*J109","v":0},null,null,null,2,null,null,null,null,null,null,null,null,null,null,null,1,1,1,null,null,null,null,null,null,null,null,null,null,null,null,null,null,null,null,null,null,null,null,null,null,1,{"$f":"IF(AZ109=1,G109,0)","v":0},{"$f":"IF(AZ109=2,G109,0)","v":0},{"$f":"IF(AZ109=3,G109,0)","v":0},{"$f":"IF(AZ109=4,G109,0)","v":0},{"$f":"IF(AZ109=5,G109,0)","v":0},null,null,null,null,null,null,null,null,null,null,null,null,null,null,null,null,null,null,null,null,null,1,1]
[null,null,"V položce je zakalkulováno:",null,null,null,null,null,null,null,null,"V položce je zakalkulováno:",null,null,3]
[null,null,"a) otevření a uzavření revizních šachet a čisticích kusů",null,null,null,null,null,null,null,null,"a) otevření a uzavření revizních šachet a čisticích kusů",null,null,3]
[null,null,"b) natažení vysokotlakých hadic k místu odkud se bude kanalizace čistit",null,null,null,null,null,null,null,null,"b) natažení vysokotlakých hadic k místu odkud se bude kanalizace čistit",null,null,3]
[null,null,"c) vyčištění potrubí tlakovou vodou nebo motorovým pérem.",null,null,null,null,null,null,null,null,"c) vyčištění potrubí tlakovou vodou nebo motorovým pérem.",null,null,3]
[null,null,"Bezpečnostní přepad PVC DN200:35,00",null,35,null,null,null,null,null,null,null,"Bezpečnostní přepad PVC DN200:35,00"]
[22,"892855112R00","Kontrola kanalizace TV kamerou do 50 m ","m",70,null,{"$f":"E115*F115","v":0},0,{"$f":"E115*H115","v":0},0,{"$f":"E115*J115","v":0},null,null,null,2,null,null,null,null,null,null,null,null,null,null,null,1,1,1,null,null,null,null,null,null,null,null,null,null,null,null,null,null,null,null,null,null,null,null,null,null,1,{"$f":"IF(AZ115=1,G115,0)","v":0},{"$f":"IF(AZ115=2,G115,0)","v":0},{"$f":"IF(AZ115=3,G115,0)","v":0},{"$f":"IF(AZ115=4,G115,0)","v":0},{"$f":"IF(AZ115=5,G115,0)","v":0},null,null,null,null,null,null,null,null,null,null,null,null,null,null,null,null,null,null,null,null,null,1,1]
[null,null,"Bezpečnostní přepad PVC DN200:35,00*2",null,70,null,null,null,null,null,null,null,"Bezpečnostní přepad PVC DN200:35,00*2"]
[23,"894421111RT1","Osazení betonových dílců šachet skruže rovné, na kroužek, do 0,5 t","kus",1,null,{"$f":"E117*F117","v":0},0,{"$f":"E117*H117","v":0},0,{"$f":"E117*J117","v":0},null,null,null,2,null,null,null,null,null,null,null,null,null,null,null,1,1,1,null,null,null,null,null,null,null,null,null,null,null,null,null,null,null,null,null,null,null,null,null,null,1,{"$f":"IF(AZ117=1,G117,0)","v":0},{"$f":"IF(AZ117=2,G117,0)","v":0},{"$f":"IF(AZ117=3,G117,0)","v":0},{"$f":"IF(AZ117=4,G117,0)","v":0},{"$f":"IF(AZ117=5,G117,0)","v":0},null,null,null,null,null,null,null,null,null,null,null,null,null,null,null,null,null,null,null,null,null,1,1]
[null,null,"Položka je určena pro osazení betonových dílců šachet dle DIN 4034, skruže rovné na kroužek, hmotnost do 0,5 t.",null,null,null,null,null,null,null,null,"Položka je určena pro osazení betonových dílců šachet dle DIN 4034, skruže rovné na kroužek, hmotnost do 0,5 t.",null,null,3]
[null,null,"V položce nejsou zakalkulovány náklady na dodání betonových dílců; dílce se oceňují ve specifikaci.",null,null,null,null,null,null,null,null,"V položce nejsou zakalkulovány náklady na dodání betonových dílců; dílce se oceňují ve specifikaci.",null,null,3]
[null,null,"Bezpečnostní přepad PVC DN200:",null,0,null,null,null,null,null,null,null,"Bezpečnostní přepad PVC DN200:"]
[null,null,"Skruž H250:1",null,1,null,null,null,null,null,null,null,"Skruž H250:1"]
[24,"894421112RT1","Osazení betonových dílců šachet skruže rovné, na kroužek, do 1,4 t","kus",2,null,{"$f":"E122*F122","v":0},0,{"$f":"E122*H122","v":0},0,{"$f":"E122*J122","v":0},null,null,null,2,null,null,null,null,null,null,null,null,null,null,null,1,1,1,null,null,null,null,null,null,null,null,null,null,null,null,null,null,null,null,null,null,null,null,null,null,1,{"$f":"IF(AZ122=1,G122,0)","v":0},{"$f":"IF(AZ122=2,G122,0)","v":0},{"$f":"IF(AZ122=3,G122,0)","v":0},{"$f":"IF(AZ122=4,G122,0)","v":0},{"$f":"IF(AZ122=5,G122,0)","v":0},null,null,null,null,null,null,null,null,null,null,null,null,null,null,null,null,null,null,null,null,null,1,1]
[null,null,"Položka je určena pro osazení betonových dílců šachet dle DIN 4034, skruže rovné na kroužek, hmotnost přes 0,5 do 1,4 t.",null,null,null,null,null,null,null,null,"Položka je určena pro osazení betonových dílců šachet dle DIN 4034, skruže rovné na kroužek, hmotnost přes 0,5 do 1,4 t.",null,null,3]
[null,null,"V položce nejsou zakalkulovány náklady na dodání betonových dílců; dílce se oceňují ve specifikaci.",null,null,null,null,null,null,null,null,"V položce nejsou zakalkulovány náklady na dodání betonových dílců; dílce se oceňují ve specifikaci.",null,null,3]
[null,null,"Bezpečnostní přepad PVC DN200:",null,0,null,null,null,null,null,null,null,"Bezpečnostní přepad PVC DN200:"]
[null,null,"Skruž H1000:2",null,2,null,null,null,null,null,null,null,"Skruž H1000:2"]
[25,"894422111RT1","Osazení betonových dílců šachet skruže přechodové, na kroužek","kus",2,null,{"$f":"E127*F127","v":0},0,{"$f":"E127*H127","v":0},0,{"$f":"E127*J127","v":0},null,null,null,2,null,null,null,null,null,null,null,null,null,null,null,1,1,1,null,null,null,null,null,null,null,null,null,null,null,null,null,null,null,null,null,null,null,null,null,null,1,{"$f":"IF(AZ127=1,G127,0)","v":0},{"$f":"IF(AZ127=2,G127,0)","v":0},{"$f":"IF(AZ127=3,G127,0)","v":0},{"$f":"IF(AZ127=4,G127,0)","v":0},{"$f":"IF(AZ127=5,G127,0)","v":0},null,null,null,null,null,null,null,null,null,null,null,null,null,null,null,null,null,null,null,null,null,1,1]
[null,null,"Položka je určena pro osazení betonových dílců šachet dle DIN 4034, skruže přechodové, zákrytové, kónusy,... na kroužek.",null,null,null,null,null,null,null,null,"Položka je určena pro osazení betonových dílců šachet dle DIN 4034, skruže přechodové, zákrytové, kónusy,... na kroužek.",null,null,3]
[null,null,"Bezpečnostní přepad PVC DN200:",null,0,null,null,null,null,null,null,null,"Bezpečnostní přepad PVC DN200:"]
[null,null,"Kónus H580:2",null,2,null,null,null,null,null,null,null,"Kónus H580:2"]
[26,"894423111RT1","Osazení betonových dílců šachet do 2,0 t šachtová dna, na kroužek, do 2,0 t","kus",2,null,{"$f":"E131*F131","v":0},0,{"$f":"E131*H131","v":0},0,{"$f":"E131*J131","v":0},null,null,null,2,null,null,null,null,null,null,null,null,null,null,null,1,1,1,null,null,null,null,null,null,null,null,null,null,null,null,null,null,null,null,null,null,null,null,null,null,1,{"$f":"IF(AZ131=1,G131,0)","v":0},{"$f":"IF(AZ131=2,G131,0)","v":0},{"$f":"IF(AZ131=3,G131,0)","v":0},{"$f":"IF(AZ131=4,G131,0)","v":0},{"$f":"IF(AZ131=5,G131,0)","v":0},null,null,null,null,null,null,null,null,null,null,null,null,null,null,null,null,null,null,null,null,null,1,1]
[null,null,"Položka je určena pro osazení betonových dílců šachet dle DIN 4034, šachtová dna na kroužek, hmotnost do 2,0 t.",null,null,null,null,null,null,null,null,"Položka je určena pro osazení betonových dílců šachet dle DIN 4034, šachtová dna na kroužek, hmotnost do 2,0 t.",null,null,3]
[null,null,"V položce nejsou zakalkulovány náklady na dodání betonových dílců;",null,null,null,null,null,null,null,null,"V položce nejsou zakalkulovány náklady na dodání betonových dílců;",null,null,3]
[null,null,"Součástí položky je i podbetonování šachtového dna betonem C12/15 v min. tl. 10 cm.",null,null,null,null,null,null,null,null,"Součástí položky je i podbetonování šachtového dna betonem C12/15 v min. tl. 10 cm.",null,null,3]
[null,null,"Bezpečnostní přepad PVC DN200:",null,0,null,null,null,null,null,null,null,"Bezpečnostní přepad PVC DN200:"]
[null,null,"Šachtové dno H575:2",null,2,null,null,null,null,null,null,null,"Šachtové dno H575:2"]
[27,"899103111RT2","Osazení poklopu s rámem do 150 kg včetně dodávky poklopu lit. kruhového DN610","kus",2,null,{"$f":"E137*F137","v":0},0.122,{"$f":"E137*H137","v":0.24399999999999999},0,{"$f":"E137*J137","v":0},null,null,null,2,null,null,null,null,null,null,null,null,null,null,null,1,1,1,null,null,null,null,null,null,null,null,null,null,null,null,null,null,null,null,null,null,null,null,null,null,1,{"$f":"IF(AZ137=1,G137,0)","v":0},{"$f":"IF(AZ137=2,G137,0)","v":0},{"$f":"IF(AZ137=3,G137,0)","v":0},{"$f":"IF(AZ137=4,G137,0)","v":0},{"$f":"IF(AZ137=5,G137,0)","v":0},null,null,null,null,null,null,null,null,null,null,null,null,null,null,null,null,null,null,null,null,null,1,1]
[null,null,"Například poklop KBB01 B125 typ BEGU/BEGU bez odvětrání dle TS VHS Turnov",null,null,null,null,null,null,null,null,"Například poklop KBB01 B125 typ BEGU/BEGU bez odvětrání dle TS VHS Turnov",null,null,3]
[null,null,"Víko se znakem Města ",null,null,null,null,null,null,null,null,"Víko se znakem Města ",null,null,3]
[28,"899711122R00","Fólie výstražná z PVC šedá, šířka 30 cm ","m",35,null,{"$f":"E140*F140","v":0},0,{"$f":"E140*H140","v":0},0,{"$f":"E140*J140","v":0},null,null,null,2,null,null,null,null,null,null,null,null,null,null,null,1,1,1,null,null,null,null,null,null,null,null,null,null,null,null,null,null,null,null,null,null,null,null,null,null,1,{"$f":"IF(AZ140=1,G140,0)","v":0},{"$f":"IF(AZ140=2,G140,0)","v":0},{"$f":"IF(AZ140=3,G140,0)","v":0},{"$f":"IF(AZ140=4,G140,0)","v":0},{"$f":"IF(AZ140=5,G140,0)","v":0},null,null,null,null,null,null,null,null,null,null,null,null,null,null,null,null,null,null,null,null,null,1,1]
[null,null,"Bezpečnostní přepad PVC DN200:35,00",null,35,null,null,null,null,null,null,null,"Bezpečnostní přepad PVC DN200:35,00"]
[29,"286111914.R","Trubka kanalizační PVC QUANTUM SN 12 DN 200","m",36.049999999999997,null,{"$f":"E142*F142","v":0},7.1000000000000004E-3,{"$f":"E142*H142","v":0.25595499999999999},null,{"$f":"E142*J142","v":0},null,null,null,2,null,null,null,null,null,null,null,null,null,null,null,3,1,"286111914.R",null,null,null,null,null,null,null,null,null,null,null,null,null,null,null,null,null,null,null,null,null,null,1,{"$f":"IF(AZ142=1,G142,0)","v":0},{"$f":"IF(AZ142=2,G142,0)","v":0},{"$f":"IF(AZ142=3,G142,0)","v":0},{"$f":"IF(AZ142=4,G142,0)","v":0},{"$f":"IF(AZ142=5,G142,0)","v":0},null,null,null,null,null,null,null,null,null,null,null,null,null,null,null,null,null,null,null,null,null,3,1]
[null,null,"Jedná  se  o  plnostěnné kanalizační trubky DN 150 – DN 400, SN 12 kN/m2 , zvenčí  i  zevnitř  hladké. Jsou  opatřeny hrdlem,  v  němž  je  vložen vysoce  elastický  jazýčkový  kroužek.  konce  trubek  (dříků)  jsou opatřeny  zkosením  pod  úhlem  15°.  Způsob  použití  trubek  je  „U“  dle  normy  ČSN  EN  1401-1, tj. mimo budovy. Spolehlivá  funkce  těsnění  je  jištěna  výztužným  kroužkem  z  elastomeru.  Je  tak  zamezeno  vypad-nutí nebo vytlačení kroužku při manipulaci a montáži. Tento systém zaručuje při správné montáži ",null,null,null,null,null,null,null,null,"Jedná  se  o  plnostěnné kanalizační trubky DN 150 – DN 400, SN 12 kN/m2 , zvenčí  i  zevnitř  hladké. Jsou  opatřeny hrdlem,  v  němž  je  vložen vysoce  elastický  jazýčkový  kroužek.  konce  trubek  (dříků)  jsou opatřeny  zkosením  pod  úhlem  15°.  Způsob  použití  trubek  je  „U“  dle  normy  ČSN  EN  1401-1, tj. mimo budovy. Spolehlivá  funkce  těsnění  je  jištěna  výztužným  kroužkem  z  elastomeru.  Je  tak  zamezeno  vypad-nutí nebo vytlačení kroužku při manipulaci a montáži. Tento systém zaručuje při správné montáži ",null,null,3]
[null,null,"dokonalou  těsnost  do  výšky  vodního  sloupce  5  metrů.",null,null,null,null,null,null,null,null,"dokonalou  těsnost  do  výšky  vodního  sloupce  5  metrů.",null,null,3]
[null,null,null,null,null,null,null,null,null,null,null,null,null,null,3]
[null,null,"Teplota při pokládce: min. -10 °C, max. 50 °C",null,null,null,null,null,null,null,null,"Teplota při pokládce: min. -10 °C, max. 50 °C",null,null,3]
[null,null,"Max. teplota média: trvale do 40 °C, krátkodobě do 60 °C",null,null,null,null,null,null,null,null,"Max. teplota média: trvale do 40 °C, krátkodobě do 60 °C",null,null,3]
[null,null,"Orientační výška krytí: min. 0,5 m, max. 10 m",null,null,null,null,null,null,null,null,"Orientační výška krytí: min. 0,5 m, max. 10 m",null,null,3]
[null,null,"Max. rychlost média: 12 m/s",null,null,null,null,null,null,null,null,"Max. rychlost média: 12 m/s",null,null,3]
[null,null,"Bezpečnostní přepad PVC DN200:35,00*1,03",null,36.049999999999997,null,null,null,null,null,null,null,"Bezpečnostní přepad PVC DN200:35,00*1,03"]
[30,"592243543.R","Kónus šachetní TBR-Q.1 100x63/58/12 KPS","kus",2.02,null,{"$f":"E151*F151","v":0},0.58499999999999996,{"$f":"E151*H151","v":1.1817},null,{"$f":"E151*J151","v":0},null,null,null,2,null,null,null,null,null,null,null,null,null,null,null,3,1,"592243543.R",null,null,null,null,null,null,null,null,null,null,null,null,null,null,null,null,null,null,null,null,null,null,1,{"$f":"IF(AZ151=1,G151,0)","v":0},{"$f":"IF(AZ151=2,G151,0)","v":0},{"$f":"IF(AZ151=3,G151,0)","v":0},{"$f":"IF(AZ151=4,G151,0)","v":0},{"$f":"IF(AZ151=5,G151,0)","v":0},null,null,null,null,null,null,null,null,null,null,null,null,null,null,null,null,null,null,null,null,null,3,1]
[null,null,"Bezpečnostní přepad PVC DN200:",null,0,null,null,null,null,null,null,null,"Bezpečnostní přepad PVC DN200:"]
[null,null,"Kónus H580:2*1,01",null,2.02,null,null,null,null,null,null,null,"Kónus H580:2*1,01"]
[31,"59224358.A.R","Skruž šachetní TBS-Q.1 100/25/12 PS","kus",1.01,null,{"$f":"E154*F154","v":0},0.25,{"$f":"E154*H154","v":0.2525},null,{"$f":"E154*J154","v":0},null,null,null,2,null,null,null,null,null,null,null,null,null,null,null,3,1,"59224358.A.R",null,null,null,null,null,null,null,null,null,null,null,null,null,null,null,null,null,null,null,null,null,null,1,{"$f":"IF(AZ154=1,G154,0)","v":0},{"$f":"IF(AZ154=2,G154,0)","v":0},{"$f":"IF(AZ154=3,G154,0)","v":0},{"$f":"IF(AZ154=4,G154,0)","v":0},{"$f":"IF(AZ154=5,G154,0)","v":0},null,null,null,null,null,null,null,null,null,null,null,null,null,null,null,null,null,null,null,null,null,3,1]
[null,null,"Bezpečnostní přepad PVC DN200:",null,0,null,null,null,null,null,null,null,"Bezpečnostní přepad PVC DN200:"]
[null,null,"Skruž H250:1*1,01",null,1.01,null,null,null,null,null,null,null,"Skruž H250:1*1,01"]
[32,"59224364.A.R","Skruž šachetní TBS-Q.1 100/100/12 PS","kus",2.02,null,{"$f":"E157*F157","v":0},1,{"$f":"E157*H157","v":2.02},null,{"$f":"E157*J157","v":0},null,null,null,2,null,null,null,null,null,null,null,null,null,null,null,3,1,"59224364.A.R",null,null,null,null,null,null,null,null,null,null,null,null,null,null,null,null,null,null,null,null,null,null,1,{"$f":"IF(AZ157=1,G157,0)","v":0},{"$f":"IF(AZ157=2,G157,0)","v":0},{"$f":"IF(AZ157=3,G157,0)","v":0},{"$f":"IF(AZ157=4,G157,0)","v":0},{"$f":"IF(AZ157=5,G157,0)","v":0},null,null,null,null,null,null,null,null,null,null,null,null,null,null,null,null,null,null,null,null,null,3,1]
[null,null,"Bezpečnostní přepad PVC DN200:",null,0,null,null,null,null,null,null,null,"Bezpečnostní přepad PVC DN200:"]
[null,null,"Skruž H1000:2*1,01",null,2.02,null,null,null,null,null,null,null,"Skruž H1000:2*1,01"]
[33,"59224374.A.R","Dno šachetní TBZ-Q.1 100/58 KOM V20 včetně kynety dle PD","kus",2.02,null,{"$f":"E160*F160","v":0},1.27,{"$f":"E160*H160","v":2.5653999999999999},null,{"$f":"E160*J160","v":0},null,null,null,2,null,null,null,null,null,null,null,null,null,null,null,3,1,"59224374.A.R",null,null,null,null,null,null,null,null,null,null,null,null,null,null,null,null,null,null,null,null,null,null,1,{"$f":"IF(AZ160=1,G160,0)","v":0},{"$f":"IF(AZ160=2,G160,0)","v":0},{"$f":"IF(AZ160=3,G160,0)","v":0},{"$f":"IF(AZ160=4,G160,0)","v":0},{"$f":"IF(AZ160=5,G160,0)","v":0},null,null,null,null,null,null,null,null,null,null,null,null,null,null,null,null,null,null,null,null,null,3,1]
[null,null,"Bezpečnostní přepad PVC DN200:",null,0,null,null,null,null,null,null,null,"Bezpečnostní přepad PVC DN200:"]
[null,null,"Šachtové dno H575:2*1,01",null,2.02,null,null,null,null,null,null,null,"Šachtové dno H575:2*1,01"]
[34,"59224380.R","Těsnění elastom pro šach díly EMT 100/1.7 - DN1000","kus",5.05,null,{"$f":"E163*F163","v":0},2E-3,{"$f":"E163*H163","v":1.01E-2},null,{"$f":"E163*J163","v":0},null,null,null,2,null,null,null,null,null,null,null,null,null,null,null,3,1,"59224380.R",null,null,null,null,null,null,null,null,null,null,null,null,null,null,null,null,null,null,null,null,null,null,1,{"$f":"IF(AZ163=1,G163,0)","v":0},{"$f":"IF(AZ163=2,G163,0)","v":0},{"$f":"IF(AZ163=3,G163,0)","v":0},{"$f":"IF(AZ163=4,G163,0)","v":0},{"$f":"IF(AZ163=5,G163,0)","v":0},null,null,null,null,null,null,null,null,null,null,null,null,null,null,null,null,null,null,null,null,null,3,1]
[null,null,"Bezpečnostní přepad PVC DN200:",null,0,null,null,null,null,null,null,null,"Bezpečnostní přepad PVC DN200:"]
[null,null,"Těsnění DN1000:5*1,01",null,5.05,null,null,null,null,null,null,null,"Těsnění DN1000:5*1,01"]
[null,"Celkem za","8 Trubní vedení",null,null,null,{"$f":"SUM(G105:G165)","v":0},null,{"$f":"SUM(I105:I165)","v":6.5300050000000001},null,{"$f":"SUM(K105:K165)","v":0},null,null,null,4,null,null,null,null,null,null,null,null,null,null,null,null,null,null,null,null,null,null,null,null,null,null,null,null,null,null,null,null,null,null,null,null,null,null,null,null,null,{"$f":"SUM(BA105:BA165)","v":0},{"$f":"SUM(BB105:BB165)","v":0},{"$f":"SUM(BC105:BC165)","v":0},{"$f":"SUM(BD105:BD165)","v":0},{"$f":"SUM(BE105:BE165)","v":0}]
["Díl:","99","Staveništní přesun hmot",null,null,null,null,null,null,null,null,null,null,null,1]
[35,"998276101RXX","Přesun hmot, trubní vedení plastová, otevř. výkop pro celý rozsah objektu","t",41.962859295999998,null,{"$f":"E168*F168","v":0},0,{"$f":"E168*H168","v":0},null,{"$f":"E168*J168","v":0},null,null,null,2,null,null,null,null,null,null,null,null,null,null,null,7,1,2,null,null,null,null,null,null,null,null,null,null,null,null,null,null,null,null,null,null,null,null,null,null,1,{"$f":"IF(AZ168=1,G168,0)","v":0},{"$f":"IF(AZ168=2,G168,0)","v":0},{"$f":"IF(AZ168=3,G168,0)","v":0},{"$f":"IF(AZ168=4,G168,0)","v":0},{"$f":"IF(AZ168=5,G168,0)","v":0},null,null,null,null,null,null,null,null,null,null,null,null,null,null,null,null,null,null,null,null,null,7,1]
[null,null,"Staveništní doprava pro celý rozsah objektu - doprava zmeziskládek vybudovaného zařízení staveniště zhotovitele na jednotlivé části staveniště.",null,null,null,null,null,null,null,null,"Staveništní doprava pro celý rozsah objektu - doprava zmeziskládek vybudovaného zařízení staveniště zhotovitele na jednotlivé části staveniště.",null,null,3]
[null,"Celkem za","99 Staveništní přesun hmot",null,null,null,{"$f":"SUM(G167:G169)","v":0},null,{"$f":"SUM(I167:I169)","v":0},null,{"$f":"SUM(K167:K169)","v":0},null,null,null,4,null,null,null,null,null,null,null,null,null,null,null,null,null,null,null,null,null,null,null,null,null,null,null,null,null,null,null,null,null,null,null,null,null,null,null,null,null,{"$f":"SUM(BA167:BA169)","v":0},{"$f":"SUM(BB167:BB169)","v":0},{"$f":"SUM(BC167:BC169)","v":0},{"$f":"SUM(BD167:BD169)","v":0},{"$f":"SUM(BE167:BE169)","v":0}]

{"sheet":"03 03.01 KL","index":38,"n_rows":45,"n_cols":8,"rows_kept":45,"cut":false,"hidden":false,"merged":[[22,0,22,1],[7,2,7,4],[8,2,8,4],[9,2,9,4],[10,2,10,4],[11,2,11,4],[50,1,50,6],[29,5,29,6],[30,5,30,6],[31,5,31,6],[32,5,32,6],[33,5,33,6],[36,1,44,6],[45,1,45,6],[46,1,46,6],[47,1,47,6],[48,1,48,6],[49,1,49,6]]}
["POLOŽKOVÝ ROZPOČET"]
["Rozpočet",null,"03.01","Výtlačný řad \"A\" km 0,000 - 1,038.7",null,"JKSO ","827.21.A2"]
[]
["Objekt",null,null,null,null,"SKP "]
["03",null,"Výtlačný řad",null,null,"Měrná jednotka","m"]
["Stavba",null,null,null,null,"Počet jednotek",0]
["3395",null,"Kanalizace a ČOV Benešov u Semil",null,null,"Náklady na m.j.",{"$f":"IF(G6=0,,ROUND((F30+F32)/G6,1))","v":0}]
["Projektant",null,"Vodohospodářský rozvoj a výstavba a.s.",null,null,"Typ rozpočtu"]
["Zpracovatel projektu"]
["Objednatel",null,"Vodohospodářské sdružení Turnov"]
["Dodavatel",null,".",null,null,"Zakázkové číslo "]
["Rozpočtoval",null,null,null,null,"Počet listů"]
["ROZPOČTOVÉ NÁKLADY"]
["Základní rozpočtové náklady"]
[null,"HSV celkem",{"$f":"'03 03.01 Rek'!E14","v":0}]
["Z","PSV celkem",{"$f":"'03 03.01 Rek'!F14","v":0}]
["R","M práce celkem",{"$f":"'03 03.01 Rek'!H14","v":0}]
["N","M dodávky celkem",{"$f":"'03 03.01 Rek'!G14","v":0}]
["ZRN celkem",null,{"$f":"SUM(C15:C18)","v":0}]
[]
["HZS",null,{"$f":"'03 03.01 Rek'!I14","v":0}]
["ZRN+HZS",null,{"$f":"C19+C21","v":0}]
["ZRN+ost.náklady+HZS",null,{"$f":"C22+G23","v":0}]
["Vypracoval",null,null,"Za zhotovitele",null,"Za objednatele"]
["Jméno :",null,null,"Jméno :",null,"Jméno :"]
["Datum :",null,null,"Datum :",null,"Datum :"]
[]
["Podpis :",null,null,"Podpis:",null,"Podpis:"]
[]
["Základ pro DPH",null,21,"%  ",null,{"$f":"C23-F32","v":0}]
["DPH",null,{"$f":"C30","v":21},"% ",null,{"$f":"ROUND(PRODUCT(F30,C31/100),0)","v":0}]
["Základ pro DPH",null,0,"% ",null,0]
["DPH",null,{"$f":"C32","v":0},"% ",null,{"$f":"ROUND(PRODUCT(F32,C33/100),0)","v":0}]
["CENA ZA OBJEKT CELKEM",null,null,null,null,{"$f":"ROUND(SUM(F30:F33),0)","v":0}]
[]
["Poznámka :",null,null,null,null,null,null," "]
[null,null,null,null,null,null,null," "]
[null,null,null,null,null,null,null," "]
[null,null,null,null,null,null,null," "]
[null,null,null,null,null,null,null," "]
[null,null,null,null,null,null,null," "]
[null,null,null,null,null,null,null," "]
[null,null,null,null,null,null,null," "]
[null,null,null,null,null,null,null," "]
[null,null,null,null,null,null,null," "]

{"sheet":"03 03.01 Rek","index":39,"n_rows":14,"n_cols":9,"rows_kept":14,"cut":false,"hidden":false,"merged":[[0,0,0,1],[1,0,1,1],[1,6,1,8]]}
["Stavba :",null,"3395 Kanalizace a ČOV Benešov u Semil",null,null,null,"Rozpočet :","03.01"]
["Objekt :",null,"03 Výtlačný řad",null,null,null,"Výtlačný řad \"A\" km 0,000 - 1,038.7"]
[]
["REKAPITULACE  STAVEBNÍCH  DÍLŮ"]
[]
[null,"Stavební díl",null,null,"HSV","PSV","Dodávka","Montáž","HZS"]
[{"$f":"'03 03.01 Pol'!B7","v":"1"},{"$f":"'03 03.01 Pol'!C7","v":"Zemní práce"},null,null,{"$f":"'03 03.01 Pol'!BA95","v":0},{"$f":"'03 03.01 Pol'!BB95","v":0},{"$f":"'03 03.01 Pol'!BC95","v":0},{"$f":"'03 03.01 Pol'!BD95","v":0},{"$f":"'03 03.01 Pol'!BE95","v":0}]
[{"$f":"'03 03.01 Pol'!B96","v":"2"},{"$f":"'03 03.01 Pol'!C96","v":"Základy a zvláštní zakládání"},null,null,{"$f":"'03 03.01 Pol'!BA102","v":0},{"$f":"'03 03.01 Pol'!BB102","v":0},{"$f":"'03 03.01 Pol'!BC102","v":0},{"$f":"'03 03.01 Pol'!BD102","v":0},{"$f":"'03 03.01 Pol'!BE102","v":0}]
[{"$f":"'03 03.01 Pol'!B103","v":"45"},{"$f":"'03 03.01 Pol'!C103","v":"Podkladní a vedlejší konstrukce"},null,null,{"$f":"'03 03.01 Pol'!BA126","v":0},{"$f":"'03 03.01 Pol'!BB126","v":0},{"$f":"'03 03.01 Pol'!BC126","v":0},{"$f":"'03 03.01 Pol'!BD126","v":0},{"$f":"'03 03.01 Pol'!BE126","v":0}]
[{"$f":"'03 03.01 Pol'!B127","v":"5"},{"$f":"'03 03.01 Pol'!C127","v":"Komunikace"},null,null,{"$f":"'03 03.01 Pol'!BA132","v":0},{"$f":"'03 03.01 Pol'!BB132","v":0},{"$f":"'03 03.01 Pol'!BC132","v":0},{"$f":"'03 03.01 Pol'!BD132","v":0},{"$f":"'03 03.01 Pol'!BE132","v":0}]
[{"$f":"'03 03.01 Pol'!B133","v":"8"},{"$f":"'03 03.01 Pol'!C133","v":"Trubní vedení"},null,null,{"$f":"'03 03.01 Pol'!BA389","v":0},{"$f":"'03 03.01 Pol'!BB389","v":0},{"$f":"'03 03.01 Pol'!BC389","v":0},{"$f":"'03 03.01 Pol'!BD389","v":0},{"$f":"'03 03.01 Pol'!BE389","v":0}]
[{"$f":"'03 03.01 Pol'!B390","v":"93"},{"$f":"'03 03.01 Pol'!C390","v":"Dokončovací práce inženýrských staveb"},null,null,{"$f":"'03 03.01 Pol'!BA464","v":0},{"$f":"'03 03.01 Pol'!BB464","v":0},{"$f":"'03 03.01 Pol'!BC464","v":0},{"$f":"'03 03.01 Pol'!BD464","v":0},{"$f":"'03 03.01 Pol'!BE464","v":0}]
[{"$f":"'03 03.01 Pol'!B465","v":"99"},{"$f":"'03 03.01 Pol'!C465","v":"Staveništní přesun hmot"},null,null,{"$f":"'03 03.01 Pol'!BA468","v":0},{"$f":"'03 03.01 Pol'!BB468","v":0},{"$f":"'03 03.01 Pol'!BC468","v":0},{"$f":"'03 03.01 Pol'!BD468","v":0},{"$f":"'03 03.01 Pol'!BE468","v":0}]
[null,"CELKEM  OBJEKT",null,null,{"$f":"SUM(E7:E13)","v":0},{"$f":"SUM(F7:F13)","v":0},{"$f":"SUM(G7:G13)","v":0},{"$f":"SUM(H7:H13)","v":0},{"$f":"SUM(I7:I13)","v":0}]

{"sheet":"03 03.01 Pol","index":40,"n_rows":468,"n_cols":80,"rows_kept":468,"cut":false,"hidden":false,"merged":[[13,2,13,3],[15,2,15,6],[16,2,16,6],[17,2,17,3],[18,2,18,3],[19,2,19,3],[0,0,0,6],[2,0,2,1],[3,0,3,1],[3,4,3,6],[8,2,8,6],[9,2,9,6],[11,2,11,3],[12,2,12,3],[27,2,27,3],[28,2,28,3],[29,2,29,3],[30,2,30,3],[32,2,32,3],[33,2,33,3],[21,2,21,6],[22,2,22,3],[23,2,23,3],[24,2,24,3],[25,2,25,3],[26,2,26,3],[42,2,42,3],[43,2,43,3],[45,2,45,6],[46,2,46,3],[47,2,47,3],[48,2,48,3],[34,2,34,3],[36,2,36,6],[37,2,37,3],[38,2,38,3],[39,2,39,3],[41,2,41,3],[58,2,58,3],[59,2,59,3],[60,2,60,3],[61,2,61,3],[63,2,63,6],[64,2,64,6],[50,2,50,3],[51,2,51,3],[52,2,52,3],[54,2,54,3],[55,2,55,3],[56,2,56,3],[71,2,71,3],[72,2,72,3],[73,2,73,3],[74,2,74,3],[75,2,75,3],[76,2,76,3],[65,2,65,3],[66,2,66,3],[67,2,67,3],[68,2,68,3],[69,2,69,3],[70,2,70,3],[85,2,85,3],[86,2,86,3],[87,2,87,3],[89,2,89,3],[90,2,90,3],[92,2,92,3],[77,2,77,3],[78,2,78,3],[79,2,79,3],[81,2,81,3],[82,2,82,3],[84,2,84,3],[104,2,104,3],[105,2,105,3],[107,2,107,6],[108,2,108,3],[109,2,109,3],[110,2,110,3],[111,2,111,3],[112,2,112,3],[93,2,93,3],[97,2,97,3],[98,2,98,3],[99,2,99,3],[100,2,100,3],[122,2,122,3],[123,2,123,3],[124,2,124,3],[128,2,128,3],[129,2,129,3],[130,2,130,3],[114,2,114,3],[115,2,115,3],[116,2,116,3],[117,2,117,3],[120,2,120,3],[121,2,121,3],[144,2,144,3],[146,2,146,6],[147,2,147,6],[148,2,148,6],[149,2,149,3],[150,2,150,3],[134,2,134,6],[135,2,135,3],[136,2,136,3],[138,2,138,3],[139,2,139,3],[141,2,141,6],[142,2,142,6],[143,2,143,3],[158,2,158,3],[159,2,159,3],[161,2,161,6],[162,2,162,6],[163,2,163,3],[164,2,164,3],[152,2,152,6],[153,2,153,6],[154,2,154,3],[155,2,155,3],[156,2,156,3],[157,2,157,3],[173,2,173,6],[174,2,174,3],[175,2,175,3],[176,2,176,3],[178,2,178,6],[179,2,179,6],[165,2,165,3],[167,2,167,6],[168,2,168,6],[169,2,169,3],[170,2,170,3],[172,2,172,6],[188,2,188,3],[189,2,189,3],[191,2,191,6],[192,2,192,3],[193,2,193,3],[195,2,195,6],[180,2,180,3],[181,2,181,3],[183,2,183,3],[185,2,185,3],[186,2,186,3],[187,2,187,3],[204,2,204,6],[205,2,205,3],[206,2,206,3],[208,2,208,3],[209,2,209,3],[211,2,211,6],[196,2,196,6],[197,2,197,3],[198,2,198,3],[200,2,200,3],[201,2,201,3],[203,2,203,6],[219,2,219,3],[221,2,221,3],[222,2,222,3],[224,2,224,6],[225,2,225,6],[226,2,226,6],[212,2,212,3],[214,2,214,6],[215,2,215,6],[216,2,216,6],[217,2,217,6],[218,2,218,3],[233,2,233,6],[234,2,234,3],[235,2,235,3],[237,2,237,6],[238,2,238,6],[239,2,239,3],[227,2,227,6],[228,2,228,6],[229,2,229,6],[230,2,230,6],[231,2,231,6],[232,2,232,6],[247,2,247,3],[248,2,248,3],[249,2,249,3],[250,2,250,3],[251,2,251,3],[253,2,253,6],[240,2,240,3],[241,2,241,3],[242,2,242,3],[243,2,243,3],[244,2,244,3],[246,2,246,6],[261,2,261,3],[263,2,263,6],[264,2,264,3],[265,2,265,3],[266,2,266,3],[267,2,267,3],[254,2,254,6],[255,2,255,6],[256,2,256,3],[257,2,257,3],[258,2,258,3],[260,2,260,3],[278,2,278,3],[280,2,280,6],[281,2,281,6],[282,2,282,6],[283,2,283,6],[284,2,284,6],[268,2,268,3],[270,2,270,6],[272,2,272,6],[275,2,275,6],[276,2,276,6],[277,2,277,3],[294,2,294,3],[296,2,296,3],[297,2,297,3],[299,2,299,3],[300,2,300,3],[302,2,302,3],[285,2,285,3],[287,2,287,3],[288,2,288,3],[290,2,290,3],[291,2,291,3],[293,2,293,3],[312,2,312,6],[313,2,313,6],[314,2,314,6],[315,2,315,6],[316,2,316,6],[317,2,317,6],[303,2,303,3],[305,2,305,6],[306,2,306,3],[307,2,307,3],[309,2,309,3],[310,2,310,3],[325,2,325,3],[327,2,327,3],[328,2,328,3],[330,2,330,3],[331,2,331,3],[333,2,333,3],[318,2,318,3],[319,2,319,3],[321,2,321,6],[322,2,322,6],[323,2,323,6],[324,2,324,3],[343,2,343,3],[345,2,345,3],[346,2,346,3],[348,2,348,3],[349,2,349,3],[351,2,351,3],[334,2,334,3],[336,2,336,3],[337,2,337,3],[339,2,339,3],[340,2,340,3],[342,2,342,3],[361,2,361,3],[363,2,363,3],[364,2,364,3],[365,2,365,3],[366,2,366,3],[367,2,367,3],[352,2,352,3],[354,2,354,3],[355,2,355,3],[357,2,357,3],[358,2,358,3],[360,2,360,3],[376,2,376,3],[377,2,377,3],[379,2,379,3],[380,2,380,3],[381,2,381,3],[383,2,383,3],[369,2,369,3],[370,2,370,3],[371,2,371,3],[373,2,373,3],[374,2,374,3],[375,2,375,3],[395,2,395,6],[396,2,396,6],[397,2,397,6],[398,2,398,6],[399,2,399,6],[400,2,400,6],[384,2,384,3],[385,2,385,3],[386,2,386,3],[387,2,387,3],[391,2,391,6],[392,2,392,6],[393,2,393,6],[394,2,394,6],[408,2,408,6],[409,2,409,6],[410,2,410,6],[411,2,411,6],[412,2,412,6],[413,2,413,6],[401,2,401,3],[402,2,402,3],[403,2,403,3],[404,2,404,3],[405,2,405,3],[407,2,407,6],[420,2,420,3],[421,2,421,3],[423,2,423,6],[424,2,424,6],[425,2,425,6],[426,2,426,6],[414,2,414,6],[415,2,415,6],[416,2,416,6],[417,2,417,6],[418,2,418,6],[419,2,419,6],[433,2,433,6],[434,2,434,6],[435,2,435,6],[436,2,436,3],[437,2,437,3],[439,2,439,6],[427,2,427,6],[428,2,428,6],[429,2,429,6],[430,2,430,6],[431,2,431,6],[432,2,432,6],[447,2,447,6],[448,2,448,6],[449,2,449,6],[450,2,450,6],[451,2,451,6],[452,2,452,3],[440,2,440,6],[441,2,441,6],[442,2,442,6],[443,2,443,6],[444,2,444,3],[445,2,445,3],[460,2,460,3],[461,2,461,3],[462,2,462,3],[466,2,466,6],[453,2,453,3],[455,2,455,6],[456,2,456,6],[457,2,457,6],[458,2,458,3],[459,2,459,3]]}
["Položkový rozpočet "]
[]
["Stavba :",null,"3395 Kanalizace a ČOV Benešov u Semil",null,"Rozpočet:",{"$f":"'03 03.01 Rek'!H1","v":"03.01"}]
["Objekt :",null,"03 Výtlačný řad",null,{"$f":"'03 03.01 Rek'!G2","v":"Výtlačný řad \"A\" km 0,000 - 1,038.7"}]
[]
["P.č.","Číslo položky","Název položky","MJ","množství","cena / MJ","celkem (Kč)","Jednotková hmotnost","Celková hmotnost","Jednotková dem.hmot.","Celková dem.hmot."]
["Díl:","1","Zemní práce",null,null,null,null,null,null,null,null,null,null,null,1]
[1,"115101201RRX","Přečerpávání nebo převedení splašků a dešť. vod ","h",240,null,{"$f":"E8*F8","v":0},0,{"$f":"E8*H8","v":0},0,{"$f":"E8*J8","v":0},null,null,null,2,null,null,null,null,null,null,null,null,null,null,null,1,1,1,null,null,null,null,null,null,null,null,null,null,null,null,null,null,null,null,null,null,null,null,null,null,1,{"$f":"IF(AZ8=1,G8,0)","v":0},{"$f":"IF(AZ8=2,G8,0)","v":0},{"$f":"IF(AZ8=3,G8,0)","v":0},{"$f":"IF(AZ8=4,G8,0)","v":0},{"$f":"IF(AZ8=5,G8,0)","v":0},null,null,null,null,null,null,null,null,null,null,null,null,null,null,null,null,null,null,null,null,null,1,1]
[null,null,"Převedení a čerpání splašků nebo dešťových vod dle zvolené technologie zhotovitele stavby.",null,null,null,null,null,null,null,null,"Převedení a čerpání splašků nebo dešťových vod dle zvolené technologie zhotovitele stavby.",null,null,3]
[null,null,"(Množství bude určeno na stavbě dle skutečnosti)",null,null,null,null,null,null,null,null,"(Množství bude určeno na stavbě dle skutečnosti)",null,null,3]
[2,"121100002RAA","Sejmutí ornice a uložení na deponii zpětný přesun, rozprostření v tl. 20 cm","m3",75.5,null,{"$f":"E11*F11","v":0},0,{"$f":"E11*H11","v":0},0,{"$f":"E11*J11","v":0},null,null,null,2,null,null,null,null,null,null,null,null,null,null,null,1,1,1,null,null,null,null,null,null,null,null,null,null,null,null,null,null,null,null,null,null,null,null,null,null,1,{"$f":"IF(AZ11=1,G11,0)","v":0},{"$f":"IF(AZ11=2,G11,0)","v":0},{"$f":"IF(AZ11=3,G11,0)","v":0},{"$f":"IF(AZ11=4,G11,0)","v":0},{"$f":"IF(AZ11=5,G11,0)","v":0},null,null,null,null,null,null,null,null,null,null,null,null,null,null,null,null,null,null,null,null,null,1,1]
[null,null,"Výtlačný řad \"A\" PE D140x12,7 mm + Uklidnění PVC DN300:",null,0,null,null,null,null,null,null,null,"Výtlačný řad \"A\" PE D140x12,7 mm + Uklidnění PVC DN300:"]
[null,null,"Výkopy:",null,0,null,null,null,null,null,null,null,"Výkopy:"]
[null,null,"Pracovní prostor:151,00*2,50*0,20",null,75.5,null,null,null,null,null,null,null,"Pracovní prostor:151,00*2,50*0,20"]
[3,"130001101RRX","Příplatek za ztížené hloubení v blízkosti vedení ","m3",374.35039999999998,null,{"$f":"E15*F15","v":0},0,{"$f":"E15*H15","v":0},0,{"$f":"E15*J15","v":0},null,null,null,2,null,null,null,null,null,null,null,null,null,null,null,1,1,1,null,null,null,null,null,null,null,null,null,null,null,null,null,null,null,null,null,null,null,null,null,null,1,{"$f":"IF(AZ15=1,G15,0)","v":0},{"$f":"IF(AZ15=2,G15,0)","v":0},{"$f":"IF(AZ15=3,G15,0)","v":0},{"$f":"IF(AZ15=4,G15,0)","v":0},{"$f":"IF(AZ15=5,G15,0)","v":0},null,null,null,null,null,null,null,null,null,null,null,null,null,null,null,null,null,null,null,null,null,1,1]
[null,null,"Včetně případných nutných dokopávem a ručního výkopu podél sousedících inženýrských sítí.",null,null,null,null,null,null,null,null,"Včetně případných nutných dokopávem a ručního výkopu podél sousedících inženýrských sítí.",null,null,3]
[null,null,"Součástí položky je i dočasné zajištění inženýrských sítí v prostoru výkopů (potrubí, kabely a pod.)",null,null,null,null,null,null,null,null,"Součástí položky je i dočasné zajištění inženýrských sítí v prostoru výkopů (potrubí, kabely a pod.)",null,null,3]
[null,null,"Výtlačný řad \"A\" PE D140x12,7 mm + Uklidnění PVC DN300:",null,0,null,null,null,null,null,null,null,"Výtlačný řad \"A\" PE D140x12,7 mm + Uklidnění PVC DN300:"]
[null,null,"Výkopy:",null,0,null,null,null,null,null,null,null,"Výkopy:"]
[null,null,"v hornině tř. 3 - 5 - 28%:1336,9656*0,28",null,374.35039999999998,null,null,null,null,null,null,null,"v hornině tř. 3 - 5 - 28%:1336,9656*0,28"]
[4,"132201212R00","Hloubení rýh š.do 200 cm hor.3 do 1000m3,STROJNĚ ","m3",802.17939999999999,null,{"$f":"E21*F21","v":0},0,{"$f":"E21*H21","v":0},0,{"$f":"E21*J21","v":0},null,null,null,2,null,null,null,null,null,null,null,null,null,null,null,1,1,1,null,null,null,null,null,null,null,null,null,null,null,null,null,null,null,null,null,null,null,null,null,null,1,{"$f":"IF(AZ21=1,G21,0)","v":0},{"$f":"IF(AZ21=2,G21,0)","v":0},{"$f":"IF(AZ21=3,G21,0)","v":0},{"$f":"IF(AZ21=4,G21,0)","v":0},{"$f":"IF(AZ21=5,G21,0)","v":0},null,null,null,null,null,null,null,null,null,null,null,null,null,null,null,null,null,null,null,null,null,1,1]
[null,null,"Položka obsahuje hloubení rýh traktorbagrem, naložení výkopku na dopravní prostředek pro svislé, nebo vodorovné přemístění, popř. přemístění výkopku do 3 m (po povrchu území), případné zajištění rypadel polštáři, udržování pracoviště a ochranu výkopiště proti stékání srážkové vody z okolního terénu i s jejím odvodněním, nebo odvedením, přesekání a odstranění kořenů ve výkopišti, odstranění napadávek, urovnání dna výkopu.",null,null,null,null,null,null,null,null,"Položka obsahuje hloubení rýh traktorbagrem, naložení výkopku na dopravní prostředek pro svislé, nebo vodorovné přemístění, popř. přemístění výkopku do 3 m (po povrchu území), případné zajištění rypadel polštáři, udržování pracoviště a ochranu výkopiště proti stékání srážkové vody z okolního terénu i s jejím odvodněním, nebo odvedením, přesekání a odstranění kořenů ve výkopišti, odstranění napadávek, urovnání dna výkopu.",null,null,3]
[null,null,"Výtlačný řad \"A\" PE D140x12,7 mm + Uklidnění PVC DN300:",null,0,null,null,null,null,null,null,null,"Výtlačný řad \"A\" PE D140x12,7 mm + Uklidnění PVC DN300:"]
[null,null,"Výkopy:",null,0,null,null,null,null,null,null,null,"Výkopy:"]
[null,null,"Začátek provozního součtu",null,0,null,null,null,null,null,null,null,"Začátek provozního součtu"]
[null,null,"Celkový objem výkopů včetně rozšíření pro RŠ a proplachovací šachty:1670,7400",null,1670.74,null,null,null,null,null,null,null,"Celkový objem výkopů včetně rozšíření pro RŠ a proplachovací šachty:1670,7400"]
[null,null,"Odpočet objeku konstrukce komunikací:-367,20*0,50",null,-183.6,null,null,null,null,null,null,null,"Odpočet objeku konstrukce komunikací:-367,20*0,50"]
[null,null,"Odpočet objemu konstrukce chodníku:-583,40*0,80*0,27",null,-126.01439999999999,null,null,null,null,null,null,null,"Odpočet objemu konstrukce chodníku:-583,40*0,80*0,27"]
[null,null,"Odpočet objemu ornice:-151,00*0,80*0,20",null,-24.16,null,null,null,null,null,null,null,"Odpočet objemu ornice:-151,00*0,80*0,20"]
[null,null,"Konec provozního součtu",null,1336.9656,null,null,null,null,null,null,null,"Konec provozního součtu"]
[null,null,"v hornině tř. 3 - 60%:1336,9656*0,6",null,802.17939999999999,null,null,null,null,null,null,null,"v hornině tř. 3 - 60%:1336,9656*0,6"]
[5,"132201219R00","Přípl.za lepivost,hloubení rýh 200cm,hor.3,STROJNĚ ","m3",401.08969999999999,null,{"$f":"E32*F32","v":0},0,{"$f":"E32*H32","v":0},0,{"$f":"E32*J32","v":0},null,null,null,2,null,null,null,null,null,null,null,null,null,null,null,1,1,1,null,null,null,null,null,null,null,null,null,null,null,null,null,null,null,null,null,null,null,null,null,null,1,{"$f":"IF(AZ32=1,G32,0)","v":0},{"$f":"IF(AZ32=2,G32,0)","v":0},{"$f":"IF(AZ32=3,G32,0)","v":0},{"$f":"IF(AZ32=4,G32,0)","v":0},{"$f":"IF(AZ32=5,G32,0)","v":0},null,null,null,null,null,null,null,null,null,null,null,null,null,null,null,null,null,null,null,null,null,1,1]
[null,null,"Výtlačný řad \"A\" PE D140x12,7 mm + Uklidnění PVC DN300:",null,0,null,null,null,null,null,null,null,"Výtlačný řad \"A\" PE D140x12,7 mm + Uklidnění PVC DN300:"]
[null,null,"Výkopy:",null,0,null,null,null,null,null,null,null,"Výkopy:"]
[null,null,"v hornině tř. 3 - 60%:1336,9656*0,6*0,5",null,401.08969999999999,null,null,null,null,null,null,null,"v hornině tř. 3 - 60%:1336,9656*0,6*0,5"]
[6,"132301212R00","Hloubení rýh š.do 200 cm hor.4 do 1000 m3, STROJNĚ ","m3",401.08969999999999,null,{"$f":"E36*F36","v":0},0,{"$f":"E36*H36","v":0},0,{"$f":"E36*J36","v":0},null,null,null,2,null,null,null,null,null,null,null,null,null,null,null,1,1,1,null,null,null,null,null,null,null,null,null,null,null,null,null,null,null,null,null,null,null,null,null,null,1,{"$f":"IF(AZ36=1,G36,0)","v":0},{"$f":"IF(AZ36=2,G36,0)","v":0},{"$f":"IF(AZ36=3,G36,0)","v":0},{"$f":"IF(AZ36=4,G36,0)","v":0},{"$f":"IF(AZ36=5,G36,0)","v":0},null,null,null,null,null,null,null,null,null,null,null,null,null,null,null,null,null,null,null,null,null,1,1]
[null,null,"Položka obsahuje hloubení rýh traktorbagrem, naložení výkopku na dopravní prostředek pro svislé, nebo vodorovné přemístění, popř. přemístění výkopku do 3 m (po povrchu území), případné zajištění rypadel polštáři, udržování pracoviště a ochranu výkopiště proti stékání srážkové vody z okolního terénu i s jejím odvodněním, nebo odvedením, přesekání a odstranění kořenů ve výkopišti, odstranění napadávek, urovnání dna výkopu.",null,null,null,null,null,null,null,null,"Položka obsahuje hloubení rýh traktorbagrem, naložení výkopku na dopravní prostředek pro svislé, nebo vodorovné přemístění, popř. přemístění výkopku do 3 m (po povrchu území), případné zajištění rypadel polštáři, udržování pracoviště a ochranu výkopiště proti stékání srážkové vody z okolního terénu i s jejím odvodněním, nebo odvedením, přesekání a odstranění kořenů ve výkopišti, odstranění napadávek, urovnání dna výkopu.",null,null,3]
[null,null,"Výtlačný řad \"A\" PE D140x12,7 mm + Uklidnění PVC DN300:",null,0,null,null,null,null,null,null,null,"Výtlačný řad \"A\" PE D140x12,7 mm + Uklidnění PVC DN300:"]
[null,null,"Výkopy:",null,0,null,null,null,null,null,null,null,"Výkopy:"]
[null,null,"v hornině tř. 4 - 30%:1336,9656*0,3",null,401.08969999999999,null,null,null,null,null,null,null,"v hornině tř. 4 - 30%:1336,9656*0,3"]
[7,"132301219R00","Přípl.za lepivost,hloubení rýh 200cm,hor.4,STROJNĚ ","m3",200.54480000000001,null,{"$f":"E41*F41","v":0},0,{"$f":"E41*H41","v":0},0,{"$f":"E41*J41","v":0},null,null,null,2,null,null,null,null,null,null,null,null,null,null,null,1,1,1,null,null,null,null,null,null,null,null,null,null,null,null,null,null,null,null,null,null,null,null,null,null,1,{"$f":"IF(AZ41=1,G41,0)","v":0},{"$f":"IF(AZ41=2,G41,0)","v":0},{"$f":"IF(AZ41=3,G41,0)","v":0},{"$f":"IF(AZ41=4,G41,0)","v":0},{"$f":"IF(AZ41=5,G41,0)","v":0},null,null,null,null,null,null,null,null,null,null,null,null,null,null,null,null,null,null,null,null,null,1,1]
[null,null,"Výtlačný řad \"A\" PE D140x12,7 mm + Uklidnění PVC DN300:",null,0,null,null,null,null,null,null,null,"Výtlačný řad \"A\" PE D140x12,7 mm + Uklidnění PVC DN300:"]
[null,null,"Výkopy:",null,0,null,null,null,null,null,null,null,"Výkopy:"]
[null,null,"v hornině tř. 4 - 30%:1336,9656*0,3*0,5",null,200.54480000000001,null,null,null,null,null,null,null,"v hornině tř. 4 - 30%:1336,9656*0,3*0,5"]
[8,"132401211RRX","Hloubení rýh šířky do 200 cm v hor.5 STROJNĚ včetně případného dolamování ve vrstvě do 0,5 m","m3",133.69659999999999,null,{"$f":"E45*F45","v":0},1.0410000000000001E-2,{"$f":"E45*H45","v":1.3917816059999999},0,{"$f":"E45*J45","v":0},null,null,null,2,null,null,null,null,null,null,null,null,null,null,null,1,1,1,null,null,null,null,null,null,null,null,null,null,null,null,null,null,null,null,null,null,null,null,null,null,1,{"$f":"IF(AZ45=1,G45,0)","v":0},{"$f":"IF(AZ45=2,G45,0)","v":0},{"$f":"IF(AZ45=3,G45,0)","v":0},{"$f":"IF(AZ45=4,G45,0)","v":0},{"$f":"IF(AZ45=5,G45,0)","v":0},null,null,null,null,null,null,null,null,null,null,null,null,null,null,null,null,null,null,null,null,null,1,1]
[null,null,"Položka obsahuje hloubení rýh traktorbagrem, naložení výkopku na dopravní prostředek pro svislé, nebo vodorovné přemístění, popř. přemístění výkopku do 3 m (po povrchu území), případné zajištění rypadel polštáři, udržování pracoviště a ochranu výkopiště proti stékání srážkové vody z okolního terénu i s jejím odvodněním, nebo odvedením, přesekání a odstranění kořenů ve výkopišti, odstranění napadávek, urovnání dna výkopu.včetně případného dolamování ve vrstvě do 0,5 m",null,null,null,null,null,null,null,null,"Položka obsahuje hloubení rýh traktorbagrem, naložení výkopku na dopravní prostředek pro svislé, nebo vodorovné přemístění, popř. přemístění výkopku do 3 m (po povrchu území), případné zajištění rypadel polštáři, udržování pracoviště a ochranu výkopiště proti stékání srážkové vody z okolního terénu i s jejím odvodněním, nebo odvedením, přesekání a odstranění kořenů ve výkopišti, odstranění napadávek, urovnání dna výkopu.včetně případného dolamování ve vrstvě do 0,5 m",null,null,3]
[null,null,"Výtlačný řad \"A\" PE D140x12,7 mm + Uklidnění PVC DN300:",null,0,null,null,null,null,null,null,null,"Výtlačný řad \"A\" PE D140x12,7 mm + Uklidnění PVC DN300:"]
[null,null,"Výkopy:",null,0,null,null,null,null,null,null,null,"Výkopy:"]
[null,null,"v hornině tř. 5 - 10%:1336,9656*0,1",null,133.69659999999999,null,null,null,null,null,null,null,"v hornině tř. 5 - 10%:1336,9656*0,1"]
[9,"151101101R00","Pažení a rozepření stěn rýh - příložné - hl.do 2 m ","m2",3680.4065000000001,null,{"$f":"E50*F50","v":0},9.8999999999999999E-4,{"$f":"E50*H50","v":3.643602435},0,{"$f":"E50*J50","v":0},null,null,null,2,null,null,null,null,null,null,null,null,null,null,null,1,1,1,null,null,null,null,null,null,null,null,null,null,null,null,null,null,null,null,null,null,null,null,null,null,1,{"$f":"IF(AZ50=1,G50,0)","v":0},{"$f":"IF(AZ50=2,G50,0)","v":0},{"$f":"IF(AZ50=3,G50,0)","v":0},{"$f":"IF(AZ50=4,G50,0)","v":0},{"$f":"IF(AZ50=5,G50,0)","v":0},null,null,null,null,null,null,null,null,null,null,null,null,null,null,null,null,null,null,null,null,null,1,1]
[null,null,"Výtlačný řad \"A\" PE D140x12,7 mm + Uklidnění PVC DN300:",null,0,null,null,null,null,null,null,null,"Výtlačný řad \"A\" PE D140x12,7 mm + Uklidnění PVC DN300:"]
[null,null,"Výkopy:",null,0,null,null,null,null,null,null,null,"Výkopy:"]
[null,null,"Celkový objem pažení včetně rozšíření pro RŠ a proplachovací šachty:3680,4065",null,3680.4065000000001,null,null,null,null,null,null,null,"Celkový objem pažení včetně rozšíření pro RŠ a proplachovací šachty:3680,4065"]
[10,"151101111R00","Odstranění pažení stěn rýh - příložné - hl. do 2 m ","m2",3680.4065000000001,null,{"$f":"E54*F54","v":0},0,{"$f":"E54*H54","v":0},0,{"$f":"E54*J54","v":0},null,null,null,2,null,null,null,null,null,null,null,null,null,null,null,1,1,1,null,null,null,null,null,null,null,null,null,null,null,null,null,null,null,null,null,null,null,null,null,null,1,{"$f":"IF(AZ54=1,G54,0)","v":0},{"$f":"IF(AZ54=2,G54,0)","v":0},{"$f":"IF(AZ54=3,G54,0)","v":0},{"$f":"IF(AZ54=4,G54,0)","v":0},{"$f":"IF(AZ54=5,G54,0)","v":0},null,null,null,null,null,null,null,null,null,null,null,null,null,null,null,null,null,null,null,null,null,1,1]
[null,null,"Výtlačný řad \"A\" PE D140x12,7 mm + Uklidnění PVC DN300:",null,0,null,null,null,null,null,null,null,"Výtlačný řad \"A\" PE D140x12,7 mm + Uklidnění PVC DN300:"]
[null,null,"Výkopy:",null,0,null,null,null,null,null,null,null,"Výkopy:"]
[null,null,"Celkový objem pažení včetně rozšíření pro RŠ a proplachovací šachty:3680,4065",null,3680.4065000000001,null,null,null,null,null,null,null,"Celkový objem pažení včetně rozšíření pro RŠ a proplachovací šachty:3680,4065"]
[11,"162701105RSZ","Vodorovné přemístění výkopku z hor.1-7 na skládku zhotovitele","m3",1158.0428999999999,null,{"$f":"E58*F58","v":0},0,{"$f":"E58*H58","v":0},0,{"$f":"E58*J58","v":0},null,null,null,2,null,null,null,null,null,null,null,null,null,null,null,1,1,1,null,null,null,null,null,null,null,null,null,null,null,null,null,null,null,null,null,null,null,null,null,null,1,{"$f":"IF(AZ58=1,G58,0)","v":0},{"$f":"IF(AZ58=2,G58,0)","v":0},{"$f":"IF(AZ58=3,G58,0)","v":0},{"$f":"IF(AZ58=4,G58,0)","v":0},{"$f":"IF(AZ58=5,G58,0)","v":0},null,null,null,null,null,null,null,null,null,null,null,null,null,null,null,null,null,null,null,null,null,1,1]
[null,null,"Výtlačný řad \"A\" PE D140x12,7 mm + Uklidnění PVC DN300:",null,0,null,null,null,null,null,null,null,"Výtlačný řad \"A\" PE D140x12,7 mm + Uklidnění PVC DN300:"]
[null,null,"Výkopy:",null,0,null,null,null,null,null,null,null,"Výkopy:"]
[null,null,"v hornině tř. 3 - 5:1336,9656",null,1336.9656,null,null,null,null,null,null,null,"v hornině tř. 3 - 5:1336,9656"]
[null,null,"Odpočet objemu zásypů zeminou:-178,9227",null,-178.92269999999999,null,null,null,null,null,null,null,"Odpočet objemu zásypů zeminou:-178,9227"]
[12,"174101101R00","Zásyp jam, rýh, šachet se zhutněním ","m3",813.28489999999999,null,{"$f":"E63*F63","v":0},0,{"$f":"E63*H63","v":0},0,{"$f":"E63*J63","v":0},null,null,null,2,null,null,null,null,null,null,null,null,null,null,null,1,1,1,null,null,null,null,null,null,null,null,null,null,null,null,null,null,null,null,null,null,null,null,null,null,1,{"$f":"IF(AZ63=1,G63,0)","v":0},{"$f":"IF(AZ63=2,G63,0)","v":0},{"$f":"IF(AZ63=3,G63,0)","v":0},{"$f":"IF(AZ63=4,G63,0)","v":0},{"$f":"IF(AZ63=5,G63,0)","v":0},null,null,null,null,null,null,null,null,null,null,null,null,null,null,null,null,null,null,null,null,null,1,1]
[null,null,"Položka obsahuje strojní přemístění materiálu pro zásyp ze vzdálenosti do 10 m od okraje zásypu.",null,null,null,null,null,null,null,null,"Položka obsahuje strojní přemístění materiálu pro zásyp ze vzdálenosti do 10 m od okraje zásypu.",null,null,3]
[null,null,null,null,null,null,null,null,null,null,null,null,null,null,3]
[null,null,"Výtlačný řad \"A\" PE D140x12,7 mm + Uklidnění PVC DN300:",null,0,null,null,null,null,null,null,null,"Výtlačný řad \"A\" PE D140x12,7 mm + Uklidnění PVC DN300:"]
[null,null,"Zásypy ŠD fr. 0-63 mm - 78% celkového objemu:813,2849*0,78",null,634.36220000000003,null,null,null,null,null,null,null,"Zásypy ŠD fr. 0-63 mm - 78% celkového objemu:813,2849*0,78"]
[null,null,"Zásypy zeminou - 22% celkového objemu:813,2849*0,22",null,178.92269999999999,null,null,null,null,null,null,null,"Zásypy zeminou - 22% celkového objemu:813,2849*0,22"]
[null,null,"Začátek provozního součtu",null,0,null,null,null,null,null,null,null,"Začátek provozního součtu"]
[null,null,"Výkopy:",null,0,null,null,null,null,null,null,null,"Výkopy:"]
[null,null,"Celkový objem výkopů včetně rozšíření pro RŠ a proplachovací šachty:1670,7400",null,1670.74,null,null,null,null,null,null,null,"Celkový objem výkopů včetně rozšíření pro RŠ a proplachovací šachty:1670,7400"]
[null,null,"Odpočet objeku konstrukce komunikací:-367,20*0,50",null,-183.6,null,null,null,null,null,null,null,"Odpočet objeku konstrukce komunikací:-367,20*0,50"]
[null,null,"Odpočet objemu konstrukce chodníku:-583,40*0,80*0,27",null,-126.01439999999999,null,null,null,null,null,null,null,"Odpočet objemu konstrukce chodníku:-583,40*0,80*0,27"]
[null,null,"Odpočet objemu ornice:-151,00*0,80*0,20",null,-24.16,null,null,null,null,null,null,null,"Odpočet objemu ornice:-151,00*0,80*0,20"]
[null,null,"Odpočet objemu lože, potrubí a obsypů:",null,0,null,null,null,null,null,null,null,"Odpočet objemu lože, potrubí a obsypů:"]
[null,null,"Výtlak PE D140x12,7 mm:-(1029,07-12,00)*0,80*(0,15+0,15+0,30)",null,-488.1936,null,null,null,null,null,null,null,"Výtlak PE D140x12,7 mm:-(1029,07-12,00)*0,80*(0,15+0,15+0,30)"]
[null,null,"Uklidnění PVC DN315:-9,60*1,10*(0,15+0,315+0,30)",null,-8.0784000000000002,null,null,null,null,null,null,null,"Uklidnění PVC DN315:-9,60*1,10*(0,15+0,315+0,30)"]
[null,null,"Odpočet RŠ a PŠ:-27,4087",null,-27.4087,null,null,null,null,null,null,null,"Odpočet RŠ a PŠ:-27,4087"]
[null,null,"0",null,0,null,null,null,null,null,null,null,0]
[null,null,"Konec provozního součtu",null,813.28489999999999,null,null,null,null,null,null,null,"Konec provozního součtu"]
[13,"175101101R00","Obsyp potrubí bez prohození sypaniny ","m3",347.64550000000003,null,{"$f":"E81*F81","v":0},0,{"$f":"E81*H81","v":0},0,{"$f":"E81*J81","v":0},null,null,null,2,null,null,null,null,null,null,null,null,null,null,null,1,1,1,null,null,null,null,null,null,null,null,null,null,null,null,null,null,null,null,null,null,null,null,null,null,1,{"$f":"IF(AZ81=1,G81,0)","v":0},{"$f":"IF(AZ81=2,G81,0)","v":0},{"$f":"IF(AZ81=3,G81,0)","v":0},{"$f":"IF(AZ81=4,G81,0)","v":0},{"$f":"IF(AZ81=5,G81,0)","v":0},null,null,null,null,null,null,null,null,null,null,null,null,null,null,null,null,null,null,null,null,null,1,1]
[null,null,"Výtlačný řad \"A\" PE D140x12,7 mm:(1029,70-12,00)*(0,80*(0,14+0,30)-0,07^2*Pi)",null,342.5641,null,null,null,null,null,null,null,"Výtlačný řad \"A\" PE D140x12,7 mm:(1029,70-12,00)*(0,80*(0,14+0,30)-0,07^2*Pi)"]
[null,null,"Výtlačný řas \"A\" - Uklidnění PVC DN300:9,60*(1,00*(0,30+0,30)-0,15^2*Pi)",null,5.0814000000000004,null,null,null,null,null,null,null,"Výtlačný řas \"A\" - Uklidnění PVC DN300:9,60*(1,00*(0,30+0,30)-0,15^2*Pi)"]
[14,"199000002R00","Poplatek za skládku horniny 1- 7 č. dle katal. odpadů 17 05 04","m3",1158.0428999999999,null,{"$f":"E84*F84","v":0},0,{"$f":"E84*H84","v":0},0,{"$f":"E84*J84","v":0},null,null,null,2,null,null,null,null,null,null,null,null,null,null,null,1,1,1,null,null,null,null,null,null,null,null,null,null,null,null,null,null,null,null,null,null,null,null,null,null,1,{"$f":"IF(AZ84=1,G84,0)","v":0},{"$f":"IF(AZ84=2,G84,0)","v":0},{"$f":"IF(AZ84=3,G84,0)","v":0},{"$f":"IF(AZ84=4,G84,0)","v":0},{"$f":"IF(AZ84=5,G84,0)","v":0},null,null,null,null,null,null,null,null,null,null,null,null,null,null,null,null,null,null,null,null,null,1,1]
[null,null,"Výtlačný řad \"A\" PE D140x12,7 mm + Uklidnění PVC DN300:",null,0,null,null,null,null,null,null,null,"Výtlačný řad \"A\" PE D140x12,7 mm + Uklidnění PVC DN300:"]
[null,null,"Výkopy:",null,0,null,null,null,null,null,null,null,"Výkopy:"]
[null,null,"v hornině tř. 3 - 5:1336,9656",null,1336.9656,null,null,null,null,null,null,null,"v hornině tř. 3 - 5:1336,9656"]
[null,null,"Odpočet objemu zásypů zeminou:-178,9227",null,-178.92269999999999,null,null,null,null,null,null,null,"Odpočet objemu zásypů zeminou:-178,9227"]
[15,"58337308.R","Štěrkopísek frakce 0-2 tř.B","t",692.76369999999997,null,{"$f":"E89*F89","v":0},1,{"$f":"E89*H89","v":692.76369999999997},null,{"$f":"E89*J89","v":0},null,null,null,2,null,null,null,null,null,null,null,null,null,null,null,3,1,"58337308.R",null,null,null,null,null,null,null,null,null,null,null,null,null,null,null,null,null,null,null,null,null,null,1,{"$f":"IF(AZ89=1,G89,0)","v":0},{"$f":"IF(AZ89=2,G89,0)","v":0},{"$f":"IF(AZ89=3,G89,0)","v":0},{"$f":"IF(AZ89=4,G89,0)","v":0},{"$f":"IF(AZ89=5,G89,0)","v":0},null,null,null,null,null,null,null,null,null,null,null,null,null,null,null,null,null,null,null,null,null,3,1]
[null,null,"Výtlačný řad \"A\" PE D140x12,7 mm:(1029,70-12,00)*(0,80*(0,14+0,30)-0,07^2*Pi)*1,973*1,01",null,682.63779999999997,null,null,null,null,null,null,null,"Výtlačný řad \"A\" PE D140x12,7 mm:(1029,70-12,00)*(0,80*(0,14+0,30)-0,07^2*Pi)*1,973*1,01"]
[null,null,"Výtlačný řas \"A\" - Uklidnění PVC DN300:9,60*(1,00*(0,30+0,30)-0,15^2*Pi)*1,973*1,01",null,10.1259,null,null,null,null,null,null,null,"Výtlačný řas \"A\" - Uklidnění PVC DN300:9,60*(1,00*(0,30+0,30)-0,15^2*Pi)*1,973*1,01"]
[16,"58344197R","Štěrkodrtě frakce 0-63 A","t",1200.0419999999999,null,{"$f":"E92*F92","v":0},1,{"$f":"E92*H92","v":1200.0419999999999},null,{"$f":"E92*J92","v":0},null,null,null,2,null,null,null,null,null,null,null,null,null,null,null,3,1,"58344197R",null,null,null,null,null,null,null,null,null,null,null,null,null,null,null,null,null,null,null,null,null,null,1,{"$f":"IF(AZ92=1,G92,0)","v":0},{"$f":"IF(AZ92=2,G92,0)","v":0},{"$f":"IF(AZ92=3,G92,0)","v":0},{"$f":"IF(AZ92=4,G92,0)","v":0},{"$f":"IF(AZ92=5,G92,0)","v":0},null,null,null,null,null,null,null,null,null,null,null,null,null,null,null,null,null,null,null,null,null,3,1]
[null,null,"Výtlačný řad \"A\" PE D140x12,7 mm + Uklidnění PVC DN300:",null,0,null,null,null,null,null,null,null,"Výtlačný řad \"A\" PE D140x12,7 mm + Uklidnění PVC DN300:"]
[null,null,"Zásypy ŠD fr. 0-63 mm - 78% celkového objemu:813,2849*0,78*1,873*1,01",null,1200.0419999999999,null,null,null,null,null,null,null,"Zásypy ŠD fr. 0-63 mm - 78% celkového objemu:813,2849*0,78*1,873*1,01"]
[null,"Celkem za","1 Zemní práce",null,null,null,{"$f":"SUM(G7:G94)","v":0},null,{"$f":"SUM(I7:I94)","v":1897.8410840409999},null,{"$f":"SUM(K7:K94)","v":0},null,null,null,4,null,null,null,null,null,null,null,null,null,null,null,null,null,null,null,null,null,null,null,null,null,null,null,null,null,null,null,null,null,null,null,null,null,null,null,null,null,{"$f":"SUM(BA7:BA94)","v":0},{"$f":"SUM(BB7:BB94)","v":0},{"$f":"SUM(BC7:BC94)","v":0},{"$f":"SUM(BD7:BD94)","v":0},{"$f":"SUM(BE7:BE94)","v":0}]
["Díl:","2","Základy a zvláštní zakládání",null,null,null,null,null,null,null,null,null,null,null,1]
[17,"271531111R00","Polštář základu z kameniva hr. drceného 16-63 mm ","m3",3.14,null,{"$f":"E97*F97","v":0},2.16,{"$f":"E97*H97","v":6.7824000000000009},0,{"$f":"E97*J97","v":0},null,null,null,2,null,null,null,null,null,null,null,null,null,null,null,1,1,1,null,null,null,null,null,null,null,null,null,null,null,null,null,null,null,null,null,null,null,null,null,null,1,{"$f":"IF(AZ97=1,G97,0)","v":0},{"$f":"IF(AZ97=2,G97,0)","v":0},{"$f":"IF(AZ97=3,G97,0)","v":0},{"$f":"IF(AZ97=4,G97,0)","v":0},{"$f":"IF(AZ97=5,G97,0)","v":0},null,null,null,null,null,null,null,null,null,null,null,null,null,null,null,null,null,null,null,null,null,1,1]
[null,null,"Výtlačný řad \"A\" PE D140x12,7 mm:",null,0,null,null,null,null,null,null,null,"Výtlačný řad \"A\" PE D140x12,7 mm:"]
[null,null,"Vzdušníková šachta:1,60*1,60*0,10*2",null,0.51200000000000001,null,null,null,null,null,null,null,"Vzdušníková šachta:1,60*1,60*0,10*2"]
[null,null,"Patky u vodního toku:1,50*1,50*0,10*2",null,0.45,null,null,null,null,null,null,null,"Patky u vodního toku:1,50*1,50*0,10*2"]
[null,null,"Proplachovací šachta:3,30*3,30*0,10*2",null,2.1779999999999999,null,null,null,null,null,null,null,"Proplachovací šachta:3,30*3,30*0,10*2"]
[null,"Celkem za","2 Základy a zvláštní zakládání",null,null,null,{"$f":"SUM(G96:G101)","v":0},null,{"$f":"SUM(I96:I101)","v":6.7824000000000009},null,{"$f":"SUM(K96:K101)","v":0},null,null,null,4,null,null,null,null,null,null,null,null,null,null,null,null,null,null,null,null,null,null,null,null,null,null,null,null,null,null,null,null,null,null,null,null,null,null,null,null,null,{"$f":"SUM(BA96:BA101)","v":0},{"$f":"SUM(BB96:BB101)","v":0},{"$f":"SUM(BC96:BC101)","v":0},{"$f":"SUM(BD96:BD101)","v":0},{"$f":"SUM(BE96:BE101)","v":0}]
["Díl:","45","Podkladní a vedlejší konstrukce",null,null,null,null,null,null,null,null,null,null,null,1]
[18,"451572111R00","Lože pod potrubí z kameniva těženého 0 - 4 mm ","m3",82.376000000000005,null,{"$f":"E104*F104","v":0},0.43051,{"$f":"E104*H104","v":35.463691760000003},0,{"$f":"E104*J104","v":0},null,null,null,2,null,null,null,null,null,null,null,null,null,null,null,1,1,1,null,null,null,null,null,null,null,null,null,null,null,null,null,null,null,null,null,null,null,null,null,null,1,{"$f":"IF(AZ104=1,G104,0)","v":0},{"$f":"IF(AZ104=2,G104,0)","v":0},{"$f":"IF(AZ104=3,G104,0)","v":0},{"$f":"IF(AZ104=4,G104,0)","v":0},{"$f":"IF(AZ104=5,G104,0)","v":0},null,null,null,null,null,null,null,null,null,null,null,null,null,null,null,null,null,null,null,null,null,1,1]
[null,null,"Výtlačný řad \"A\" PE D140x12,7 mm:(1029,70-12,00)*0,80*0,10",null,81.415999999999997,null,null,null,null,null,null,null,"Výtlačný řad \"A\" PE D140x12,7 mm:(1029,70-12,00)*0,80*0,10"]
[null,null,"Výtlačný řas \"A\" - Uklidnění PVC DN300:9,60*1,00*0,10",null,0.96,null,null,null,null,null,null,null,"Výtlačný řas \"A\" - Uklidnění PVC DN300:9,60*1,00*0,10"]
[19,"452112111R00","Osazení beton. prstenců pod poklopy,výšky do100 mm ","kus",3,null,{"$f":"E107*F107","v":0},6.6E-3,{"$f":"E107*H107","v":1.9799999999999998E-2},0,{"$f":"E107*J107","v":0},null,null,null,2,null,null,null,null,null,null,null,null,null,null,null,1,1,1,null,null,null,null,null,null,null,null,null,null,null,null,null,null,null,null,null,null,null,null,null,null,1,{"$f":"IF(AZ107=1,G107,0)","v":0},{"$f":"IF(AZ107=2,G107,0)","v":0},{"$f":"IF(AZ107=3,G107,0)","v":0},{"$f":"IF(AZ107=4,G107,0)","v":0},{"$f":"IF(AZ107=5,G107,0)","v":0},null,null,null,null,null,null,null,null,null,null,null,null,null,null,null,null,null,null,null,null,null,1,1]
[null,null,"Volba položky se řídí výškou prstence nebo rámu. V položkách nejsou zakalkulovány náklady na dodávku betonových výrobků;",null,null,null,null,null,null,null,null,"Volba položky se řídí výškou prstence nebo rámu. V položkách nejsou zakalkulovány náklady na dodávku betonových výrobků;",null,null,3]
[null,null,"Výtlačný řad \"A\" PE D140x12,7 mm:",null,0,null,null,null,null,null,null,null,"Výtlačný řad \"A\" PE D140x12,7 mm:"]
[null,null,"Vzdušníková šachta:",null,0,null,null,null,null,null,null,null,"Vzdušníková šachta:"]
[null,null,"VP H100:2",null,2,null,null,null,null,null,null,null,"VP H100:2"]
[null,null,"Šachta UV-A:",null,0,null,null,null,null,null,null,null,"Šachta UV-A:"]
[null,null,"VP H100:1",null,1,null,null,null,null,null,null,null,"VP H100:1"]
[20,"452311141R00","Desky podkladní pod potrubí z betonu C 16/20 ","m3",5.3179999999999996,null,{"$f":"E114*F114","v":0},2.5,{"$f":"E114*H114","v":13.294999999999998},0,{"$f":"E114*J114","v":0},null,null,null,2,null,null,null,null,null,null,null,null,null,null,null,1,1,1,null,null,null,null,null,null,null,null,null,null,null,null,null,null,null,null,null,null,null,null,null,null,1,{"$f":"IF(AZ114=1,G114,0)","v":0},{"$f":"IF(AZ114=2,G114,0)","v":0},{"$f":"IF(AZ114=3,G114,0)","v":0},{"$f":"IF(AZ114=4,G114,0)","v":0},{"$f":"IF(AZ114=5,G114,0)","v":0},null,null,null,null,null,null,null,null,null,null,null,null,null,null,null,null,null,null,null,null,null,1,1]
[null,null,"Výtlačný řad \"A\" PE D140x12,7 mm:",null,0,null,null,null,null,null,null,null,"Výtlačný řad \"A\" PE D140x12,7 mm:"]
[null,null,"Vzdušníková šachta:1,60*1,60*0,10*2",null,0.51200000000000001,null,null,null,null,null,null,null,"Vzdušníková šachta:1,60*1,60*0,10*2"]
[null,null,"Patky u vodního toku:1,50*1,50*0,10*2",null,0.45,null,null,null,null,null,null,null,"Patky u vodního toku:1,50*1,50*0,10*2"]
[null,null,"Proplachovací šachta:3,30*3,30*0,20*2",null,4.3559999999999999,null,null,null,null,null,null,null,"Proplachovací šachta:3,30*3,30*0,20*2"]
[21,"452313141R00","Bloky pro potrubí z betonu C 16/20 vč. bednění ","m3",6.5819999999999999,null,{"$f":"E119*F119","v":0},2.5,{"$f":"E119*H119","v":16.454999999999998},0,{"$f":"E119*J119","v":0},null,null,null,2,null,null,null,null,null,null,null,null,null,null,null,1,1,1,null,null,null,null,null,null,null,null,null,null,null,null,null,null,null,null,null,null,null,null,null,null,1,{"$f":"IF(AZ119=1,G119,0)","v":0},{"$f":"IF(AZ119=2,G119,0)","v":0},{"$f":"IF(AZ119=3,G119,0)","v":0},{"$f":"IF(AZ119=4,G119,0)","v":0},{"$f":"IF(AZ119=5,G119,0)","v":0},null,null,null,null,null,null,null,null,null,null,null,null,null,null,null,null,null,null,null,null,null,1,1]
[22,"59224349.A.R","Prstenec vyrovn šachetní TBW-Q.1 63/10","kus",3.03,null,{"$f":"E120*F120","v":0},6.8000000000000005E-2,{"$f":"E120*H120","v":0.20604},null,{"$f":"E120*J120","v":0},null,null,null,2,null,null,null,null,null,null,null,null,null,null,null,3,1,"59224349.A.R",null,null,null,null,null,null,null,null,null,null,null,null,null,null,null,null,null,null,null,null,null,null,1,{"$f":"IF(AZ120=1,G120,0)","v":0},{"$f":"IF(AZ120=2,G120,0)","v":0},{"$f":"IF(AZ120=3,G120,0)","v":0},{"$f":"IF(AZ120=4,G120,0)","v":0},{"$f":"IF(AZ120=5,G120,0)","v":0},null,null,null,null,null,null,null,null,null,null,null,null,null,null,null,null,null,null,null,null,null,3,1]
[null,null,"Výtlačný řad \"A\" PE D140x12,7 mm:",null,0,null,null,null,null,null,null,null,"Výtlačný řad \"A\" PE D140x12,7 mm:"]
[null,null,"Vzdušníková šachta:",null,0,null,null,null,null,null,null,null,"Vzdušníková šachta:"]
[null,null,"VP H100:2*1,01",null,2.02,null,null,null,null,null,null,null,"VP H100:2*1,01"]
[null,null,"Šachta UV-A:",null,0,null,null,null,null,null,null,null,"Šachta UV-A:"]
[null,null,"VP H100:1*1,01",null,1.01,null,null,null,null,null,null,null,"VP H100:1*1,01"]
[null,"Celkem za","45 Podkladní a vedlejší konstrukce",null,null,null,{"$f":"SUM(G103:G125)","v":0},null,{"$f":"SUM(I103:I125)","v":65.439531759999994},null,{"$f":"SUM(K103:K125)","v":0},null,null,null,4,null,null,null,null,null,null,null,null,null,null,null,null,null,null,null,null,null,null,null,null,null,null,null,null,null,null,null,null,null,null,null,null,null,null,null,null,null,{"$f":"SUM(BA103:BA125)","v":0},{"$f":"SUM(BB103:BB125)","v":0},{"$f":"SUM(BC103:BC125)","v":0},{"$f":"SUM(BD103:BD125)","v":0},{"$f":"SUM(BE103:BE125)","v":0}]
["Díl:","5","Komunikace",null,null,null,null,null,null,null,null,null,null,null,1]
[23,"572701119RRX","Provizorní zásyp rýh kam. hrubě drceným nebo recyk s následným odstraněním a odvozem","m3",309.61439999999999,null,{"$f":"E128*F128","v":0},1.4804999999999999,{"$f":"E128*H128","v":458.38411919999999},0,{"$f":"E128*J128","v":0},null,null,null,2,null,null,null,null,null,null,null,null,null,null,null,1,1,1,null,null,null,null,null,null,null,null,null,null,null,null,null,null,null,null,null,null,null,null,null,null,1,{"$f":"IF(AZ128=1,G128,0)","v":0},{"$f":"IF(AZ128=2,G128,0)","v":0},{"$f":"IF(AZ128=3,G128,0)","v":0},{"$f":"IF(AZ128=4,G128,0)","v":0},{"$f":"IF(AZ128=5,G128,0)","v":0},null,null,null,null,null,null,null,null,null,null,null,null,null,null,null,null,null,null,null,null,null,1,1]
[null,null,"Výtlačný řad \"A\" PE D140x12,7 mm + Uklidnění PVC DN300:",null,0,null,null,null,null,null,null,null,"Výtlačný řad \"A\" PE D140x12,7 mm + Uklidnění PVC DN300:"]
[null,null,"Objem konstrukce komunikací:367,20*0,50",null,183.6,null,null,null,null,null,null,null,"Objem konstrukce komunikací:367,20*0,50"]
[null,null,"Objem konstrukce chodníku:583,40*0,80*0,27",null,126.01439999999999,null,null,null,null,null,null,null,"Objem konstrukce chodníku:583,40*0,80*0,27"]
[null,"Celkem za","5 Komunikace",null,null,null,{"$f":"SUM(G127:G131)","v":0},null,{"$f":"SUM(I127:I131)","v":458.38411919999999},null,{"$f":"SUM(K127:K131)","v":0},null,null,null,4,null,null,null,null,null,null,null,null,null,null,null,null,null,null,null,null,null,null,null,null,null,null,null,null,null,null,null,null,null,null,null,null,null,null,null,null,null,{"$f":"SUM(BA127:BA131)","v":0},{"$f":"SUM(BB127:BB131)","v":0},{"$f":"SUM(BC127:BC131)","v":0},{"$f":"SUM(BD127:BD131)","v":0},{"$f":"SUM(BE127:BE131)","v":0}]
["Díl:","8","Trubní vedení",null,null,null,null,null,null,null,null,null,null,null,1]
[24,"230200122RRX","Nasunutí potrubní sekce do ocel.chráničky, DN 250 vč. D+M vymezovacích prvků a koncových manžet","m",12,null,{"$f":"E134*F134","v":0},2.9329999999999998E-2,{"$f":"E134*H134","v":0.35196},0,{"$f":"E134*J134","v":0},null,null,null,2,null,null,null,null,null,null,null,null,null,null,null,1,9,9,null,null,null,null,null,null,null,null,null,null,null,null,null,null,null,null,null,null,null,null,null,null,1,{"$f":"IF(AZ134=1,G134,0)","v":0},{"$f":"IF(AZ134=2,G134,0)","v":0},{"$f":"IF(AZ134=3,G134,0)","v":0},{"$f":"IF(AZ134=4,G134,0)","v":0},{"$f":"IF(AZ134=5,G134,0)","v":0},null,null,null,null,null,null,null,null,null,null,null,null,null,null,null,null,null,null,null,null,null,1,9]
[null,null,"Součástí položky je i dodávka a montáž vymezovacích prvků a koncových manžet dle projektové dokumentace a vyplnění prostoru tepelnou izolací dle projektové dokumentace.",null,null,null,null,null,null,null,null,"Součástí položky je i dodávka a montáž vymezovacích prvků a koncových manžet dle projektové dokumentace a vyplnění prostoru tepelnou izolací dle projektové dokumentace.",null,null,3]
[null,null,"Výtlačný řad \"A\" PE D140x12,7 mm:",null,0,null,null,null,null,null,null,null,"Výtlačný řad \"A\" PE D140x12,7 mm:"]
[null,null,"Přechod přes potok dle v.č. D.8.1:12,00",null,12,null,null,null,null,null,null,null,"Přechod přes potok dle v.č. D.8.1:12,00"]
[25,"275320050RRX","Základová patka ŽB z betonu C 30/37 vč. bednění výztuž 90 kg/m3","m3",2,null,{"$f":"E138*F138","v":0},3.29677,{"$f":"E138*H138","v":6.59354},0,{"$f":"E138*J138","v":0},null,null,null,2,null,null,null,null,null,null,null,null,null,null,null,1,1,1,null,null,null,null,null,null,null,null,null,null,null,null,null,null,null,null,null,null,null,null,null,null,1,{"$f":"IF(AZ138=1,G138,0)","v":0},{"$f":"IF(AZ138=2,G138,0)","v":0},{"$f":"IF(AZ138=3,G138,0)","v":0},{"$f":"IF(AZ138=4,G138,0)","v":0},{"$f":"IF(AZ138=5,G138,0)","v":0},null,null,null,null,null,null,null,null,null,null,null,null,null,null,null,null,null,null,null,null,null,1,1]
[null,null,"Výtlačný řad \"A\" PE D140x12,7 mm:",null,0,null,null,null,null,null,null,null,"Výtlačný řad \"A\" PE D140x12,7 mm:"]
[null,null,"Přechod přes potok - základ dle v.č. D.8.2:1,00*1,00*1,00*2",null,2,null,null,null,null,null,null,null,"Přechod přes potok - základ dle v.č. D.8.2:1,00*1,00*1,00*2"]
[26,"430931003RX5","Most potrubní z trubek D 273x10,0 mm ","m",12,null,{"$f":"E141*F141","v":0},0.09,{"$f":"E141*H141","v":1.08},0,{"$f":"E141*J141","v":0},null,null,null,2,null,null,null,null,null,null,null,null,null,null,null,1,9,9,null,null,null,null,null,null,null,null,null,null,null,null,null,null,null,null,null,null,null,null,null,null,1,{"$f":"IF(AZ141=1,G141,0)","v":0},{"$f":"IF(AZ141=2,G141,0)","v":0},{"$f":"IF(AZ141=3,G141,0)","v":0},{"$f":"IF(AZ141=4,G141,0)","v":0},{"$f":"IF(AZ141=5,G141,0)","v":0},null,null,null,null,null,null,null,null,null,null,null,null,null,null,null,null,null,null,null,null,null,1,9]
[null,null,"OK potrubních chrániček jsou svařované, dodané na montáž úplně sestavené včetně kotevních a podpěrných prvků, upevňovacích objímek a spojovacího a konevního materiálu",null,null,null,null,null,null,null,null,"OK potrubních chrániček jsou svařované, dodané na montáž úplně sestavené včetně kotevních a podpěrných prvků, upevňovacích objímek a spojovacího a konevního materiálu",null,null,3]
[null,null,"Součástí položky je i provedení ochranného opláštění chráničky a kotevních prvků dle PD.",null,null,null,null,null,null,null,null,"Součástí položky je i provedení ochranného opláštění chráničky a kotevních prvků dle PD.",null,null,3]
[null,null,"Výtlačný řad \"A\" PE D140x12,7 mm:",null,0,null,null,null,null,null,null,null,"Výtlačný řad \"A\" PE D140x12,7 mm:"]
[null,null,"Přechod přes potok dle v.č. D.8.1:12,00",null,12,null,null,null,null,null,null,null,"Přechod přes potok dle v.č. D.8.1:12,00"]
[27,"713461199RRX","Izolace potrubí a PE D140 ","m2",45,null,{"$f":"E146*F146","v":0},2.2000000000000001E-3,{"$f":"E146*H146","v":9.9000000000000005E-2},0,{"$f":"E146*J146","v":0},null,null,null,2,null,null,null,null,null,null,null,null,null,null,null,1,7,7,null,null,null,null,null,null,null,null,null,null,null,null,null,null,null,null,null,null,null,null,null,null,1,{"$f":"IF(AZ146=1,G146,0)","v":0},{"$f":"IF(AZ146=2,G146,0)","v":0},{"$f":"IF(AZ146=3,G146,0)","v":0},{"$f":"IF(AZ146=4,G146,0)","v":0},{"$f":"IF(AZ146=5,G146,0)","v":0},null,null,null,null,null,null,null,null,null,null,null,null,null,null,null,null,null,null,null,null,null,1,7]
[null,null,"Tepelná izolace tl. 10 cm",null,null,null,null,null,null,null,null,"Tepelná izolace tl. 10 cm",null,null,3]
[null,null,"Zřekrytí izolace pozinkovaným plechem tl. 0,7 mm",null,null,null,null,null,null,null,null,"Zřekrytí izolace pozinkovaným plechem tl. 0,7 mm",null,null,3]
[null,null,"Provedení dle projektové dokumentace",null,null,null,null,null,null,null,null,"Provedení dle projektové dokumentace",null,null,3]
[null,null,"Výtlačný řad \"A\" PE D140x12,7 mm:",null,0,null,null,null,null,null,null,null,"Výtlačný řad \"A\" PE D140x12,7 mm:"]
[null,null,"Izolace potrubí pro krytí od 0,00 m do -0,80 m:45,00",null,45,null,null,null,null,null,null,null,"Izolace potrubí pro krytí od 0,00 m do -0,80 m:45,00"]
[28,"857242121R00","Montáž tvarovek litin. jednoos.přír. výkop DN 80 včetně nerezových spoj. prvků a obandážování spoje","kus",14,null,{"$f":"E152*F152","v":0},2.2000000000000001E-4,{"$f":"E152*H152","v":3.0800000000000003E-3},0,{"$f":"E152*J152","v":0},null,null,null,2,null,null,null,null,null,null,null,null,null,null,null,1,1,1,null,null,null,null,null,null,null,null,null,null,null,null,null,null,null,null,null,null,null,null,null,null,1,{"$f":"IF(AZ152=1,G152,0)","v":0},{"$f":"IF(AZ152=2,G152,0)","v":0},{"$f":"IF(AZ152=3,G152,0)","v":0},{"$f":"IF(AZ152=4,G152,0)","v":0},{"$f":"IF(AZ152=5,G152,0)","v":0},null,null,null,null,null,null,null,null,null,null,null,null,null,null,null,null,null,null,null,null,null,1,1]
[null,null,"Položka je určena pro montáž litinových tvarovek na potrubí litinovém tlakovém přírubovém jednoosých v otevřeném výkopu, v otevřeném kanálu nebo v šachtě.",null,null,null,null,null,null,null,null,"Položka je určena pro montáž litinových tvarovek na potrubí litinovém tlakovém přírubovém jednoosých v otevřeném výkopu, v otevřeném kanálu nebo v šachtě.",null,null,3]
[null,null,"Součástí položky je i dodávka nerezových spojovacích prvků (šrouby, podložky, matky) a kompletního obandážování spojů. ",null,null,null,null,null,null,null,null,"Součástí položky je i dodávka nerezových spojovacích prvků (šrouby, podložky, matky) a kompletního obandážování spojů. ",null,null,3]
[null,null,"Výtlačný řad \"A\" PE D140x12,7 mm:",null,0,null,null,null,null,null,null,null,"Výtlačný řad \"A\" PE D140x12,7 mm:"]
[null,null,"N DN80:4",null,4,null,null,null,null,null,null,null,"N DN80:4"]
[null,null,"Q DN80:2",null,2,null,null,null,null,null,null,null,"Q DN80:2"]
[null,null,"FF DN80/100:2",null,2,null,null,null,null,null,null,null,"FF DN80/100:2"]
[null,null,"FF DN80/200:4",null,4,null,null,null,null,null,null,null,"FF DN80/200:4"]
[null,null,"FF DN80/500:2",null,2,null,null,null,null,null,null,null,"FF DN80/500:2"]
[29,"857312121R00","Montáž tvarovek litin. jednoos. přír. výkop DN 150 včetně nerezových spoj. prvků a obandážování spoje","kus",13,null,{"$f":"E161*F161","v":0},2.7799999999999999E-3,{"$f":"E161*H161","v":3.6139999999999999E-2},0,{"$f":"E161*J161","v":0},null,null,null,2,null,null,null,null,null,null,null,null,null,null,null,1,1,1,null,null,null,null,null,null,null,null,null,null,null,null,null,null,null,null,null,null,null,null,null,null,1,{"$f":"IF(AZ161=1,G161,0)","v":0},{"$f":"IF(AZ161=2,G161,0)","v":0},{"$f":"IF(AZ161=3,G161,0)","v":0},{"$f":"IF(AZ161=4,G161,0)","v":0},{"$f":"IF(AZ161=5,G161,0)","v":0},null,null,null,null,null,null,null,null,null,null,null,null,null,null,null,null,null,null,null,null,null,1,1]
[null,null,"Položka je určena pro montáž litinových tvarovek na potrubí litinovém tlakovém přírubovém jednoosých v otevřeném výkopu, v otevřeném kanálu nebo v šachtě.",null,null,null,null,null,null,null,null,"Položka je určena pro montáž litinových tvarovek na potrubí litinovém tlakovém přírubovém jednoosých v otevřeném výkopu, v otevřeném kanálu nebo v šachtě.",null,null,3]
[null,null,"Součástí položky je i dodávka nerezových spojovacích prvků (šrouby, podložky, matky) a kompletního obandážování spojů. ",null,null,null,null,null,null,null,null,"Součástí položky je i dodávka nerezových spojovacích prvků (šrouby, podložky, matky) a kompletního obandážování spojů. ",null,null,3]
[null,null,"Výtlačný řad \"A\" PE D140x12,7 mm:",null,0,null,null,null,null,null,null,null,"Výtlačný řad \"A\" PE D140x12,7 mm:"]
[null,null,"FFK DN125/11°:1",null,1,null,null,null,null,null,null,null,"FFK DN125/11°:1"]
[null,null,"LN + TP D140/DN125:12",null,12,null,null,null,null,null,null,null,"LN + TP D140/DN125:12"]
[30,"857314121R00","Montáž tvarovek litin. odboč. přír. výkop DN 150 včetně nerezových spoj. prvků a obandážování spoje","kus",4,null,{"$f":"E167*F167","v":0},2.98E-3,{"$f":"E167*H167","v":1.192E-2},0,{"$f":"E167*J167","v":0},null,null,null,2,null,null,null,null,null,null,null,null,null,null,null,1,1,1,null,null,null,null,null,null,null,null,null,null,null,null,null,null,null,null,null,null,null,null,null,null,1,{"$f":"IF(AZ167=1,G167,0)","v":0},{"$f":"IF(AZ167=2,G167,0)","v":0},{"$f":"IF(AZ167=3,G167,0)","v":0},{"$f":"IF(AZ167=4,G167,0)","v":0},{"$f":"IF(AZ167=5,G167,0)","v":0},null,null,null,null,null,null,null,null,null,null,null,null,null,null,null,null,null,null,null,null,null,1,1]
[null,null,"Položka je určena pro montáž litinových tvarovek na potrubí litinovém tlakovém přírubovém odbočných v otevřeném výkopu, v otevřeném kanálu nebo v šachtě.",null,null,null,null,null,null,null,null,"Položka je určena pro montáž litinových tvarovek na potrubí litinovém tlakovém přírubovém odbočných v otevřeném výkopu, v otevřeném kanálu nebo v šachtě.",null,null,3]
[null,null,"Součástí položky je i dodávka nerezových spojovacích prvků (šrouby, podložky, matky) a kompletního obandážování spojů. ",null,null,null,null,null,null,null,null,"Součástí položky je i dodávka nerezových spojovacích prvků (šrouby, podložky, matky) a kompletního obandážování spojů. ",null,null,3]
[null,null,"Výtlačný řad \"A\" PE D140x12,7 mm:",null,0,null,null,null,null,null,null,null,"Výtlačný řad \"A\" PE D140x12,7 mm:"]
[null,null,"T DN125/80:4",null,4,null,null,null,null,null,null,null,"T DN125/80:4"]
[31,"857352121R00","Montáž tvarovek litin. jednoos. přír. výkop DN 200 včetně nerezových spoj. prvků a obandážování spoje","kus",6,null,{"$f":"E172*F172","v":0},2.81E-3,{"$f":"E172*H172","v":1.686E-2},0,{"$f":"E172*J172","v":0},null,null,null,2,null,null,null,null,null,null,null,null,null,null,null,1,1,1,null,null,null,null,null,null,null,null,null,null,null,null,null,null,null,null,null,null,null,null,null,null,1,{"$f":"IF(AZ172=1,G172,0)","v":0},{"$f":"IF(AZ172=2,G172,0)","v":0},{"$f":"IF(AZ172=3,G172,0)","v":0},{"$f":"IF(AZ172=4,G172,0)","v":0},{"$f":"IF(AZ172=5,G172,0)","v":0},null,null,null,null,null,null,null,null,null,null,null,null,null,null,null,null,null,null,null,null,null,1,1]
[null,null,"Položka je určena pro montáž litinových tvarovek na potrubí litinovém tlakovém přírubovém jednoosých v otevřeném výkopu, v otevřeném kanálu nebo v šachtě.",null,null,null,null,null,null,null,null,"Položka je určena pro montáž litinových tvarovek na potrubí litinovém tlakovém přírubovém jednoosých v otevřeném výkopu, v otevřeném kanálu nebo v šachtě.",null,null,3]
[null,null,"Součástí položky je i dodávka nerezových spojovacích prvků (šrouby, podložky, matky) a kompletního obandážování spojů. ",null,null,null,null,null,null,null,null,"Součástí položky je i dodávka nerezových spojovacích prvků (šrouby, podložky, matky) a kompletního obandážování spojů. ",null,null,3]
[null,null,"Výtlačný řad \"A\" PE D140x12,7 mm:",null,0,null,null,null,null,null,null,null,"Výtlačný řad \"A\" PE D140x12,7 mm:"]
[null,null,"X DN200:2",null,2,null,null,null,null,null,null,null,"X DN200:2"]
[null,null,"FFR DN200/125:4",null,4,null,null,null,null,null,null,null,"FFR DN200/125:4"]
[32,"857354121R00","Montáž tvarovek litin. odboč. přír. výkop DN 200 včetně nerezových spoj. prvků a obandážování spoje","kus",2,null,{"$f":"E178*F178","v":0},4.1999999999999997E-3,{"$f":"E178*H178","v":8.3999999999999995E-3},0,{"$f":"E178*J178","v":0},null,null,null,2,null,null,null,null,null,null,null,null,null,null,null,1,1,1,null,null,null,null,null,null,null,null,null,null,null,null,null,null,null,null,null,null,null,null,null,null,1,{"$f":"IF(AZ178=1,G178,0)","v":0},{"$f":"IF(AZ178=2,G178,0)","v":0},{"$f":"IF(AZ178=3,G178,0)","v":0},{"$f":"IF(AZ178=4,G178,0)","v":0},{"$f":"IF(AZ178=5,G178,0)","v":0},null,null,null,null,null,null,null,null,null,null,null,null,null,null,null,null,null,null,null,null,null,1,1]
[null,null,"Položka je určena pro montáž litinových tvarovek na potrubí litinovém tlakovém přírubovém odbočných v otevřeném výkopu, v otevřeném kanálu nebo v šachtě.",null,null,null,null,null,null,null,null,"Položka je určena pro montáž litinových tvarovek na potrubí litinovém tlakovém přírubovém odbočných v otevřeném výkopu, v otevřeném kanálu nebo v šachtě.",null,null,3]
[null,null,"Součástí položky je i dodávka nerezových spojovacích prvků (šrouby, podložky, matky) a kompletního obandážování spojů. ",null,null,null,null,null,null,null,null,"Součástí položky je i dodávka nerezových spojovacích prvků (šrouby, podložky, matky) a kompletního obandážování spojů. ",null,null,3]
[null,null,"Výtlačný řad \"A\" PE D140x12,7 mm:",null,0,null,null,null,null,null,null,null,"Výtlačný řad \"A\" PE D140x12,7 mm:"]
[null,null,"T DN200/200:2",null,2,null,null,null,null,null,null,null,"T DN200/200:2"]
[33,"871271121R00","Montáž trubek polyetylenových ve výkopu d 140 mm ","m",1029.7,null,{"$f":"E183*F183","v":0},0,{"$f":"E183*H183","v":0},0,{"$f":"E183*J183","v":0},null,null,null,2,null,null,null,null,null,null,null,null,null,null,null,1,1,1,null,null,null,null,null,null,null,null,null,null,null,null,null,null,null,null,null,null,null,null,null,null,1,{"$f":"IF(AZ183=1,G183,0)","v":0},{"$f":"IF(AZ183=2,G183,0)","v":0},{"$f":"IF(AZ183=3,G183,0)","v":0},{"$f":"IF(AZ183=4,G183,0)","v":0},{"$f":"IF(AZ183=5,G183,0)","v":0},null,null,null,null,null,null,null,null,null,null,null,null,null,null,null,null,null,null,null,null,null,1,1]
[null,null,"Výtlačný řad \"A\" PE D140x12,7 mm:1029,70",null,1029.7,null,null,null,null,null,null,null,"Výtlačný řad \"A\" PE D140x12,7 mm:1029,70"]
[34,"877272121R00","Přirážka za 1 spoj elektrotvarovky d 140 mm ","kus",130,null,{"$f":"E185*F185","v":0},0,{"$f":"E185*H185","v":0},0,{"$f":"E185*J185","v":0},null,null,null,2,null,null,null,null,null,null,null,null,null,null,null,1,1,1,null,null,null,null,null,null,null,null,null,null,null,null,null,null,null,null,null,null,null,null,null,null,1,{"$f":"IF(AZ185=1,G185,0)","v":0},{"$f":"IF(AZ185=2,G185,0)","v":0},{"$f":"IF(AZ185=3,G185,0)","v":0},{"$f":"IF(AZ185=4,G185,0)","v":0},{"$f":"IF(AZ185=5,G185,0)","v":0},null,null,null,null,null,null,null,null,null,null,null,null,null,null,null,null,null,null,null,null,null,1,1]
[null,null,"Výtlačný řad \"A\" PE D140x12,7 mm:",null,0,null,null,null,null,null,null,null,"Výtlačný řad \"A\" PE D140x12,7 mm:"]
[null,null,"Elektrospojka PE D140:102",null,102,null,null,null,null,null,null,null,"Elektrospojka PE D140:102"]
[null,null,"Oblouk PE D140/45°:11",null,11,null,null,null,null,null,null,null,"Oblouk PE D140/45°:11"]
[null,null,"Oblouk PE D140/22°:1",null,1,null,null,null,null,null,null,null,"Oblouk PE D140/22°:1"]
[null,null,"Oblouk PE D140/11°:16",null,16,null,null,null,null,null,null,null,"Oblouk PE D140/11°:16"]
[35,"877373121R00","Montáž tvarovek odboč. plast. gum. kroužek DN 300 ","kus",9.6,null,{"$f":"E191*F191","v":0},5.0000000000000002E-5,{"$f":"E191*H191","v":4.8000000000000001E-4},0,{"$f":"E191*J191","v":0},null,null,null,2,null,null,null,null,null,null,null,null,null,null,null,1,1,1,null,null,null,null,null,null,null,null,null,null,null,null,null,null,null,null,null,null,null,null,null,null,1,{"$f":"IF(AZ191=1,G191,0)","v":0},{"$f":"IF(AZ191=2,G191,0)","v":0},{"$f":"IF(AZ191=3,G191,0)","v":0},{"$f":"IF(AZ191=4,G191,0)","v":0},{"$f":"IF(AZ191=5,G191,0)","v":0},null,null,null,null,null,null,null,null,null,null,null,null,null,null,null,null,null,null,null,null,null,1,1]
[null,null,"Položka je určena pro montáž tvarovek odbočných na potrubí z kanalizačních trub z plastu těsněných gumovým kroužkem v otevřeném výkopu.",null,null,null,null,null,null,null,null,"Položka je určena pro montáž tvarovek odbočných na potrubí z kanalizačních trub z plastu těsněných gumovým kroužkem v otevřeném výkopu.",null,null,3]
[null,null,"Výtlačný řad \"A\" PE D140x12,7 mm:",null,0,null,null,null,null,null,null,null,"Výtlačný řad \"A\" PE D140x12,7 mm:"]
[null,null,"Výtlačný řas \"A\" - Uklidnění PVC DN300:9,60",null,9.6,null,null,null,null,null,null,null,"Výtlačný řas \"A\" - Uklidnění PVC DN300:9,60"]
[36,"891241111R00","Montáž vodovodních šoupátek ve výkopu DN 80 včetně nerezových spoj. prvků a obandážování spoje","kus",4,null,{"$f":"E195*F195","v":0},2.2000000000000001E-4,{"$f":"E195*H195","v":8.8000000000000003E-4},0,{"$f":"E195*J195","v":0},null,null,null,2,null,null,null,null,null,null,null,null,null,null,null,1,1,1,null,null,null,null,null,null,null,null,null,null,null,null,null,null,null,null,null,null,null,null,null,null,1,{"$f":"IF(AZ195=1,G195,0)","v":0},{"$f":"IF(AZ195=2,G195,0)","v":0},{"$f":"IF(AZ195=3,G195,0)","v":0},{"$f":"IF(AZ195=4,G195,0)","v":0},{"$f":"IF(AZ195=5,G195,0)","v":0},null,null,null,null,null,null,null,null,null,null,null,null,null,null,null,null,null,null,null,null,null,1,1]
[null,null,"Položka je určena pro montáž vodovodních šoupátek v otevřeném výkopu nebo v šachtách s osazením zemní soupravy (bez poklopů). V položce jsou zakalkulovány i náklady na vytvoření otvorů ve stropech šachet pro prostup zemních souprav šoupátek.",null,null,null,null,null,null,null,null,"Položka je určena pro montáž vodovodních šoupátek v otevřeném výkopu nebo v šachtách s osazením zemní soupravy (bez poklopů). V položce jsou zakalkulovány i náklady na vytvoření otvorů ve stropech šachet pro prostup zemních souprav šoupátek.",null,null,3]
[null,null,"Součástí položky je i dodávka nerezových spojovacích prvků (šrouby, podložky, matky) a kompletního obandážování spojů. ",null,null,null,null,null,null,null,null,"Součástí položky je i dodávka nerezových spojovacích prvků (šrouby, podložky, matky) a kompletního obandážování spojů. ",null,null,3]
[null,null,"Výtlačný řad \"A\" PE D140x12,7 mm:",null,0,null,null,null,null,null,null,null,"Výtlačný řad \"A\" PE D140x12,7 mm:"]
[null,null,"Šoupě DN80:4",null,4,null,null,null,null,null,null,null,"Šoupě DN80:4"]
[37,"891243321R00","Montáž ventilů odvzdušňovacích přírub. DN 80 včetně nerezových spoj. prvků a obandážování spoje","kus",2,null,{"$f":"E200*F200","v":0},7.9000000000000001E-4,{"$f":"E200*H200","v":1.58E-3},0,{"$f":"E200*J200","v":0},null,null,null,2,null,null,null,null,null,null,null,null,null,null,null,1,1,1,null,null,null,null,null,null,null,null,null,null,null,null,null,null,null,null,null,null,null,null,null,null,1,{"$f":"IF(AZ200=1,G200,0)","v":0},{"$f":"IF(AZ200=2,G200,0)","v":0},{"$f":"IF(AZ200=3,G200,0)","v":0},{"$f":"IF(AZ200=4,G200,0)","v":0},{"$f":"IF(AZ200=5,G200,0)","v":0},null,null,null,null,null,null,null,null,null,null,null,null,null,null,null,null,null,null,null,null,null,1,1]
[null,null,"Výtlačný řad \"A\" PE D140x12,7 mm:",null,0,null,null,null,null,null,null,null,"Výtlačný řad \"A\" PE D140x12,7 mm:"]
[null,null,"Ventil odvzdušňovací pro odpadní vodu DN80:2",null,2,null,null,null,null,null,null,null,"Ventil odvzdušňovací pro odpadní vodu DN80:2"]
[38,"891247111R00","Montáž hydrantů podzemních DN 80 včetně nerezových spoj. prvků a obandážování spoje","kus",2,null,{"$f":"E203*F203","v":0},1.1E-4,{"$f":"E203*H203","v":2.2000000000000001E-4},0,{"$f":"E203*J203","v":0},null,null,null,2,null,null,null,null,null,null,null,null,null,null,null,1,1,1,null,null,null,null,null,null,null,null,null,null,null,null,null,null,null,null,null,null,null,null,null,null,1,{"$f":"IF(AZ203=1,G203,0)","v":0},{"$f":"IF(AZ203=2,G203,0)","v":0},{"$f":"IF(AZ203=3,G203,0)","v":0},{"$f":"IF(AZ203=4,G203,0)","v":0},{"$f":"IF(AZ203=5,G203,0)","v":0},null,null,null,null,null,null,null,null,null,null,null,null,null,null,null,null,null,null,null,null,null,1,1]
[null,null,"Položka je určena pro montáž hydrantů podzemních (bez osazení poklopů) na potrubí včetně drenážního obalu.",null,null,null,null,null,null,null,null,"Položka je určena pro montáž hydrantů podzemních (bez osazení poklopů) na potrubí včetně drenážního obalu.",null,null,3]
[null,null,"Součástí položky je i dodávka nerezových spojovacích prvků (šrouby, podložky, matky) a kompletního obandážování spojů. ",null,null,null,null,null,null,null,null,"Součástí položky je i dodávka nerezových spojovacích prvků (šrouby, podložky, matky) a kompletního obandážování spojů. ",null,null,3]
[null,null,"Výtlačný řad \"A\" PE D140x12,7 mm:",null,0,null,null,null,null,null,null,null,"Výtlačný řad \"A\" PE D140x12,7 mm:"]
[null,null,"Proplachovací souprava DN80/1,5:2",null,2,null,null,null,null,null,null,null,"Proplachovací souprava DN80/1,5:2"]
[39,"891311111R00","Montáž vodovodních šoupátek ve výkopu DN 150 ","kus",4,null,{"$f":"E208*F208","v":0},2.7799999999999999E-3,{"$f":"E208*H208","v":1.112E-2},0,{"$f":"E208*J208","v":0},null,null,null,2,null,null,null,null,null,null,null,null,null,null,null,1,1,1,null,null,null,null,null,null,null,null,null,null,null,null,null,null,null,null,null,null,null,null,null,null,1,{"$f":"IF(AZ208=1,G208,0)","v":0},{"$f":"IF(AZ208=2,G208,0)","v":0},{"$f":"IF(AZ208=3,G208,0)","v":0},{"$f":"IF(AZ208=4,G208,0)","v":0},{"$f":"IF(AZ208=5,G208,0)","v":0},null,null,null,null,null,null,null,null,null,null,null,null,null,null,null,null,null,null,null,null,null,1,1]
[null,null,"Výtlačný řad \"A\" PE D140x12,7 mm:",null,0,null,null,null,null,null,null,null,"Výtlačný řad \"A\" PE D140x12,7 mm:"]
[null,null,"Šoupě deskové DN125:4",null,4,null,null,null,null,null,null,null,"Šoupě deskové DN125:4"]
[40,"892351111R00","Tlaková zkouška vodovodního potrubí DN 200 včetně zajištění konců potrubí","m",1029.7,null,{"$f":"E211*F211","v":0},0,{"$f":"E211*H211","v":0},0,{"$f":"E211*J211","v":0},null,null,null,2,null,null,null,null,null,null,null,null,null,null,null,1,1,1,null,null,null,null,null,null,null,null,null,null,null,null,null,null,null,null,null,null,null,null,null,null,1,{"$f":"IF(AZ211=1,G211,0)","v":0},{"$f":"IF(AZ211=2,G211,0)","v":0},{"$f":"IF(AZ211=3,G211,0)","v":0},{"$f":"IF(AZ211=4,G211,0)","v":0},{"$f":"IF(AZ211=5,G211,0)","v":0},null,null,null,null,null,null,null,null,null,null,null,null,null,null,null,null,null,null,null,null,null,1,1]
[null,null,"V položce jsou započteny náklady na přísun, montáž, demontáž a odsun zkoušecího čerpadla, napuštění tlakovou vodou a dodání vody pro tlakovou zkoušku",null,null,null,null,null,null,null,null,"V položce jsou započteny náklady na přísun, montáž, demontáž a odsun zkoušecího čerpadla, napuštění tlakovou vodou a dodání vody pro tlakovou zkoušku",null,null,3]
[null,null,"Výtlačný řad \"A\" PE D140x12,7 mm:1029,70",null,1029.7,null,null,null,null,null,null,null,"Výtlačný řad \"A\" PE D140x12,7 mm:1029,70"]
[41,"892601152R00","Čištění kanalizační stoky do DN 500, do 50 m ","m",19.2,null,{"$f":"E214*F214","v":0},0,{"$f":"E214*H214","v":0},0,{"$f":"E214*J214","v":0},null,null,null,2,null,null,null,null,null,null,null,null,null,null,null,1,1,1,null,null,null,null,null,null,null,null,null,null,null,null,null,null,null,null,null,null,null,null,null,null,1,{"$f":"IF(AZ214=1,G214,0)","v":0},{"$f":"IF(AZ214=2,G214,0)","v":0},{"$f":"IF(AZ214=3,G214,0)","v":0},{"$f":"IF(AZ214=4,G214,0)","v":0},{"$f":"IF(AZ214=5,G214,0)","v":0},null,null,null,null,null,null,null,null,null,null,null,null,null,null,null,null,null,null,null,null,null,1,1]
[null,null,"V položce je zakalkulováno:",null,null,null,null,null,null,null,null,"V položce je zakalkulováno:",null,null,3]
[null,null,"a) otevření a uzavření revizních šachet a čisticích kusů",null,null,null,null,null,null,null,null,"a) otevření a uzavření revizních šachet a čisticích kusů",null,null,3]
[null,null,"b) natažení vysokotlakých hadic k místu odkud se bude kanalizace čistit",null,null,null,null,null,null,null,null,"b) natažení vysokotlakých hadic k místu odkud se bude kanalizace čistit",null,null,3]
[null,null,"c) vyčištění potrubí tlakovou vodou nebo motorovým pérem.",null,null,null,null,null,null,null,null,"c) vyčištění potrubí tlakovou vodou nebo motorovým pérem.",null,null,3]
[null,null,"Výtlačný řad \"A\" PE D140x12,7 mm:",null,0,null,null,null,null,null,null,null,"Výtlačný řad \"A\" PE D140x12,7 mm:"]
[null,null,"Výtlačný řas \"A\" - Uklidnění PVC DN300:9,60*2",null,19.2,null,null,null,null,null,null,null,"Výtlačný řas \"A\" - Uklidnění PVC DN300:9,60*2"]
[42,"892855111R00","Kontrola kanalizace TV kamerou do 15 m ","úsek",2,null,{"$f":"E221*F221","v":0},0,{"$f":"E221*H221","v":0},0,{"$f":"E221*J221","v":0},null,null,null,2,null,null,null,null,null,null,null,null,null,null,null,1,1,1,null,null,null,null,null,null,null,null,null,null,null,null,null,null,null,null,null,null,null,null,null,null,1,{"$f":"IF(AZ221=1,G221,0)","v":0},{"$f":"IF(AZ221=2,G221,0)","v":0},{"$f":"IF(AZ221=3,G221,0)","v":0},{"$f":"IF(AZ221=4,G221,0)","v":0},{"$f":"IF(AZ221=5,G221,0)","v":0},null,null,null,null,null,null,null,null,null,null,null,null,null,null,null,null,null,null,null,null,null,1,1]
[null,null,"Výtlačný řad \"A\" PE D140x12,7 mm:",null,0,null,null,null,null,null,null,null,"Výtlačný řad \"A\" PE D140x12,7 mm:"]
[null,null,"Výtlačný řas \"A\" - Uklidnění PVC DN300:1*2",null,2,null,null,null,null,null,null,null,"Výtlačný řas \"A\" - Uklidnění PVC DN300:1*2"]
[43,"894410040RAC","Proplachovací šachta z betonových dílců DN2000 Provedení dle v.č. D.5.3","kus",2,null,{"$f":"E224*F224","v":0},9.2826599999999999,{"$f":"E224*H224","v":18.56532},0,{"$f":"E224*J224","v":0},null,null,null,2,null,null,null,null,null,null,null,null,null,null,null,1,1,1,null,null,null,null,null,null,null,null,null,null,null,null,null,null,null,null,null,null,null,null,null,null,1,{"$f":"IF(AZ224=1,G224,0)","v":0},{"$f":"IF(AZ224=2,G224,0)","v":0},{"$f":"IF(AZ224=3,G224,0)","v":0},{"$f":"IF(AZ224=4,G224,0)","v":0},{"$f":"IF(AZ224=5,G224,0)","v":0},null,null,null,null,null,null,null,null,null,null,null,null,null,null,null,null,null,null,null,null,null,1,1]
[null,null,"V položce je zakalkulováno: ",null,null,null,null,null,null,null,null,"V položce je zakalkulováno: ",null,null,3]
[null,null,"- Zřízení šachet z betonových dílců ",null,null,null,null,null,null,null,null,"- Zřízení šachet z betonových dílců ",null,null,3]
[null,null,"Dno                     PNK-Q.1 200/175 SKP + 5x stupadlo",null,null,null,null,null,null,null,null,"Dno                     PNK-Q.1 200/175 SKP + 5x stupadlo",null,null,3]
[null,null,"Zákratová deska PNK-Q.1 200/25 ZDP 1K 100 + 1x stupadlo",null,null,null,null,null,null,null,null,"Zákratová deska PNK-Q.1 200/25 ZDP 1K 100 + 1x stupadlo",null,null,3]
[null,null,"Přechodová deska TZK-Q.120-100/25  1K 80 + 1x stupadlo",null,null,null,null,null,null,null,null,"Přechodová deska TZK-Q.120-100/25  1K 80 + 1x stupadlo",null,null,3]
[null,null,"Součástí položky je dodávka příslušných těsnících prvků prefa dílců.",null,null,null,null,null,null,null,null,"Součástí položky je dodávka příslušných těsnících prvků prefa dílců.",null,null,3]
[null,null,"- Vytvoření a utěsnění prostupů pro napojení šachty na výtlak PE D140 - 2 kusy.",null,null,null,null,null,null,null,null,"- Vytvoření a utěsnění prostupů pro napojení šachty na výtlak PE D140 - 2 kusy.",null,null,3]
[null,null,"- Dodávka a montáž nerezových stojákových konzol v provedení dle projektové dokumentace - 4 kusy.",null,null,null,null,null,null,null,null,"- Dodávka a montáž nerezových stojákových konzol v provedení dle projektové dokumentace - 4 kusy.",null,null,3]
[null,null,"- Vytvarování dna šachty betonem C25/30 včetně vytvoření čerpací jímky.",null,null,null,null,null,null,null,null,"- Vytvarování dna šachty betonem C25/30 včetně vytvoření čerpací jímky.",null,null,3]
[null,null,"- Dodávka a montáž litinového vodozdorného, pachutěsného a uzamikatelného poklopu DN800 pro zatížení D400 - 1 kus",null,null,null,null,null,null,null,null,"- Dodávka a montáž litinového vodozdorného, pachutěsného a uzamikatelného poklopu DN800 pro zatížení D400 - 1 kus",null,null,3]
[null,null,"Výtlačný řad \"A\" PE D140x12,7 mm:",null,0,null,null,null,null,null,null,null,"Výtlačný řad \"A\" PE D140x12,7 mm:"]
[null,null,"Proplachovací šachta:2",null,2,null,null,null,null,null,null,null,"Proplachovací šachta:2"]
[44,"894421111RT1","Osazení betonových dílců šachet skruže rovné, na kroužek, do 0,5 t","kus",5,null,{"$f":"E237*F237","v":0},0,{"$f":"E237*H237","v":0},0,{"$f":"E237*J237","v":0},null,null,null,2,null,null,null,null,null,null,null,null,null,null,null,1,1,1,null,null,null,null,null,null,null,null,null,null,null,null,null,null,null,null,null,null,null,null,null,null,1,{"$f":"IF(AZ237=1,G237,0)","v":0},{"$f":"IF(AZ237=2,G237,0)","v":0},{"$f":"IF(AZ237=3,G237,0)","v":0},{"$f":"IF(AZ237=4,G237,0)","v":0},{"$f":"IF(AZ237=5,G237,0)","v":0},null,null,null,null,null,null,null,null,null,null,null,null,null,null,null,null,null,null,null,null,null,1,1]
[null,null,"Položka je určena pro osazení betonových dílců šachet dle DIN 4034, skruže rovné na kroužek, hmotnost do 0,5 t.",null,null,null,null,null,null,null,null,"Položka je určena pro osazení betonových dílců šachet dle DIN 4034, skruže rovné na kroužek, hmotnost do 0,5 t.",null,null,3]
[null,null,"V položce nejsou zakalkulovány náklady na dodání betonových dílců; dílce se oceňují ve specifikaci.",null,null,null,null,null,null,null,null,"V položce nejsou zakalkulovány náklady na dodání betonových dílců; dílce se oceňují ve specifikaci.",null,null,3]
[null,null,"Výtlačný řad \"A\" PE D140x12,7 mm:",null,0,null,null,null,null,null,null,null,"Výtlačný řad \"A\" PE D140x12,7 mm:"]
[null,null,"Vzdušníková šachta:",null,0,null,null,null,null,null,null,null,"Vzdušníková šachta:"]
[null,null,"Skruž H500:2",null,2,null,null,null,null,null,null,null,"Skruž H500:2"]
[null,null,"Šachta UV-A a KŠ:",null,0,null,null,null,null,null,null,null,"Šachta UV-A a KŠ:"]
[null,null,"Skruž H250:1",null,1,null,null,null,null,null,null,null,"Skruž H250:1"]
[null,null,"Skruž H500:2",null,2,null,null,null,null,null,null,null,"Skruž H500:2"]
[45,"894422111RT1","Osazení betonových dílců šachet skruže přechodové, na kroužek","kus",4,null,{"$f":"E246*F246","v":0},0,{"$f":"E246*H246","v":0},0,{"$f":"E246*J246","v":0},null,null,null,2,null,null,null,null,null,null,null,null,null,null,null,1,1,1,null,null,null,null,null,null,null,null,null,null,null,null,null,null,null,null,null,null,null,null,null,null,1,{"$f":"IF(AZ246=1,G246,0)","v":0},{"$f":"IF(AZ246=2,G246,0)","v":0},{"$f":"IF(AZ246=3,G246,0)","v":0},{"$f":"IF(AZ246=4,G246,0)","v":0},{"$f":"IF(AZ246=5,G246,0)","v":0},null,null,null,null,null,null,null,null,null,null,null,null,null,null,null,null,null,null,null,null,null,1,1]
[null,null,"Položka je určena pro osazení betonových dílců šachet dle DIN 4034, skruže přechodové, zákrytové, kónusy,... na kroužek.",null,null,null,null,null,null,null,null,"Položka je určena pro osazení betonových dílců šachet dle DIN 4034, skruže přechodové, zákrytové, kónusy,... na kroužek.",null,null,3]
[null,null,"Výtlačný řad \"A\" PE D140x12,7 mm:",null,0,null,null,null,null,null,null,null,"Výtlačný řad \"A\" PE D140x12,7 mm:"]
[null,null,"Vzdušníková šachta:",null,0,null,null,null,null,null,null,null,"Vzdušníková šachta:"]
[null,null,"Kónus H580:2",null,2,null,null,null,null,null,null,null,"Kónus H580:2"]
[null,null,"Šachta UV-A a KŠ:",null,0,null,null,null,null,null,null,null,"Šachta UV-A a KŠ:"]
[null,null,"Kónus H580:2",null,2,null,null,null,null,null,null,null,"Kónus H580:2"]
[46,"894423111RT1","Osazení betonových dílců šachet do 2,0 t šachtová dna, na kroužek, do 2,0 t","kus",2,null,{"$f":"E253*F253","v":0},0,{"$f":"E253*H253","v":0},0,{"$f":"E253*J253","v":0},null,null,null,2,null,null,null,null,null,null,null,null,null,null,null,1,1,1,null,null,null,null,null,null,null,null,null,null,null,null,null,null,null,null,null,null,null,null,null,null,1,{"$f":"IF(AZ253=1,G253,0)","v":0},{"$f":"IF(AZ253=2,G253,0)","v":0},{"$f":"IF(AZ253=3,G253,0)","v":0},{"$f":"IF(AZ253=4,G253,0)","v":0},{"$f":"IF(AZ253=5,G253,0)","v":0},null,null,null,null,null,null,null,null,null,null,null,null,null,null,null,null,null,null,null,null,null,1,1]
[null,null,"Položka je určena pro osazení betonových dílců šachet dle DIN 4034, šachtová dna na kroužek, hmotnost do 2,0 t.",null,null,null,null,null,null,null,null,"Položka je určena pro osazení betonových dílců šachet dle DIN 4034, šachtová dna na kroužek, hmotnost do 2,0 t.",null,null,3]
[null,null,"V položce nejsou zakalkulovány náklady na dodání betonových dílců;",null,null,null,null,null,null,null,null,"V položce nejsou zakalkulovány náklady na dodání betonových dílců;",null,null,3]
[null,null,"Součástí položky je i podbetonování šachtového dna betonem C12/15 v min. tl. 10 cm.",null,null,null,null,null,null,null,null,"Součástí položky je i podbetonování šachtového dna betonem C12/15 v min. tl. 10 cm.",null,null,3]
[null,null,"Výtlačný řad \"A\" PE D140x12,7 mm:",null,0,null,null,null,null,null,null,null,"Výtlačný řad \"A\" PE D140x12,7 mm:"]
[null,null,"Šachta UV-A a KŠ:",null,0,null,null,null,null,null,null,null,"Šachta UV-A a KŠ:"]
[null,null,"Šachtové dno H675:2",null,2,null,null,null,null,null,null,null,"Šachtové dno H675:2"]
[47,"899711122R00","Fólie výstražná z PVC šedá, šířka 30 cm ","m",1025.5999999999999,null,{"$f":"E260*F260","v":0},0,{"$f":"E260*H260","v":0},0,{"$f":"E260*J260","v":0},null,null,null,2,null,null,null,null,null,null,null,null,null,null,null,1,1,1,null,null,null,null,null,null,null,null,null,null,null,null,null,null,null,null,null,null,null,null,null,null,1,{"$f":"IF(AZ260=1,G260,0)","v":0},{"$f":"IF(AZ260=2,G260,0)","v":0},{"$f":"IF(AZ260=3,G260,0)","v":0},{"$f":"IF(AZ260=4,G260,0)","v":0},{"$f":"IF(AZ260=5,G260,0)","v":0},null,null,null,null,null,null,null,null,null,null,null,null,null,null,null,null,null,null,null,null,null,1,1]
[null,null,"Výtlačný řad \"A\" PE D140x12,7 mm:1029,70-12,00",null,1017.7,null,null,null,null,null,null,null,"Výtlačný řad \"A\" PE D140x12,7 mm:1029,70-12,00"]
[null,null,"Výtlačný řas \"A\" - Uklidnění PVC DN300:7,90",null,7.9,null,null,null,null,null,null,null,"Výtlačný řas \"A\" - Uklidnění PVC DN300:7,90"]
[48,"899731114R00","Vodič signalizační CYY 6 mm2 ","m",1049.5999999999999,null,{"$f":"E263*F263","v":0},8.0000000000000007E-5,{"$f":"E263*H263","v":8.3968000000000001E-2},0,{"$f":"E263*J263","v":0},null,null,null,2,null,null,null,null,null,null,null,null,null,null,null,1,1,1,null,null,null,null,null,null,null,null,null,null,null,null,null,null,null,null,null,null,null,null,null,null,1,{"$f":"IF(AZ263=1,G263,0)","v":0},{"$f":"IF(AZ263=2,G263,0)","v":0},{"$f":"IF(AZ263=3,G263,0)","v":0},{"$f":"IF(AZ263=4,G263,0)","v":0},{"$f":"IF(AZ263=5,G263,0)","v":0},null,null,null,null,null,null,null,null,null,null,null,null,null,null,null,null,null,null,null,null,null,1,1]
[null,null,"Součástí položky je zajištění proměření vodiče a výchozí zevize.",null,null,null,null,null,null,null,null,"Součástí položky je zajištění proměření vodiče a výchozí zevize.",null,null,3]
[null,null,"Výtlačný řad \"A\" PE D140x12,7 mm:1029,70",null,1029.7,null,null,null,null,null,null,null,"Výtlačný řad \"A\" PE D140x12,7 mm:1029,70"]
[null,null,"Výtlačný řas \"A\" - Uklidnění PVC DN300:7,90",null,7.9,null,null,null,null,null,null,null,"Výtlačný řas \"A\" - Uklidnění PVC DN300:7,90"]
[null,null,"Vyvedení:",null,0,null,null,null,null,null,null,null,"Vyvedení:"]
[null,null,"V proplachovací šachtě:1,50*2*2",null,6,null,null,null,null,null,null,null,"V proplachovací šachtě:1,50*2*2"]
[null,null,"Pro vzdušník:1,50*2*2",null,6,null,null,null,null,null,null,null,"Pro vzdušník:1,50*2*2"]
[49,"899 45-5001.RRX","Napojení stávající stoky KTDN300 do nové šachty KŠ včetně úpravy napojovaného potrubí dle PD","kpl",1,null,{"$f":"E270*F270","v":0},2.6,{"$f":"E270*H270","v":2.6},null,{"$f":"E270*J270","v":0},null,null,null,2,null,null,null,null,null,null,null,null,null,null,null,12,0,96,null,null,null,null,null,null,null,null,null,null,null,null,null,null,null,null,null,null,null,null,null,null,1,{"$f":"IF(AZ270=1,G270,0)","v":0},{"$f":"IF(AZ270=2,G270,0)","v":0},{"$f":"IF(AZ270=3,G270,0)","v":0},{"$f":"IF(AZ270=4,G270,0)","v":0},{"$f":"IF(AZ270=5,G270,0)","v":0},null,null,null,null,null,null,null,null,null,null,null,null,null,null,null,null,null,null,null,null,null,12,0]
[null,null,"Potrubí KT DN300 od objektu \"Nemocnice Semily\"",null,null,null,null,null,null,null,null,"Potrubí KT DN300 od objektu \"Nemocnice Semily\"",null,null,3]
[50,"899 45-5002.RRX","Napojení nové šachty KŠ na stávající potrubí včetně úpravy napojovaného potrubí dle PD","kpl",1,null,{"$f":"E272*F272","v":0},6.6849999999999996,{"$f":"E272*H272","v":6.6849999999999996},null,{"$f":"E272*J272","v":0},null,null,null,2,null,null,null,null,null,null,null,null,null,null,null,12,0,97,null,null,null,null,null,null,null,null,null,null,null,null,null,null,null,null,null,null,null,null,null,null,1,{"$f":"IF(AZ272=1,G272,0)","v":0},{"$f":"IF(AZ272=2,G272,0)","v":0},{"$f":"IF(AZ272=3,G272,0)","v":0},{"$f":"IF(AZ272=4,G272,0)","v":0},{"$f":"IF(AZ272=5,G272,0)","v":0},null,null,null,null,null,null,null,null,null,null,null,null,null,null,null,null,null,null,null,null,null,12,0]
[null,null,"Součástí položky je i kompletní provedení odstranění stávající betonové RŠ a propojení nové šachty KŠ se stávajícím potrubím KT DN300 v délce cca 4,0 m",null,null,null,null,null,null,null,null,"Součástí položky je i kompletní provedení odstranění stávající betonové RŠ a propojení nové šachty KŠ se stávajícím potrubím KT DN300 v délce cca 4,0 m",null,null,3]
[51,"899 65-4250.RRX","D+M nerezové Wastop klapky DN300 ","kpl",2,null,{"$f":"E274*F274","v":0},0,{"$f":"E274*H274","v":0},null,{"$f":"E274*J274","v":0},null,null,null,2,null,null,null,null,null,null,null,null,null,null,null,11,1,103,null,null,null,null,null,null,null,null,null,null,null,null,null,null,null,null,null,null,null,null,null,null,1,{"$f":"IF(AZ274=1,G274,0)","v":0},{"$f":"IF(AZ274=2,G274,0)","v":0},{"$f":"IF(AZ274=3,G274,0)","v":0},{"$f":"IF(AZ274=4,G274,0)","v":0},{"$f":"IF(AZ274=5,G274,0)","v":0},null,null,null,null,null,null,null,null,null,null,null,null,null,null,null,null,null,null,null,null,null,11,1]
[52,"286111934.R","Trubka kanalizační PVC QUANTUM SN 12 DN 315","m",9.8879999999999999,null,{"$f":"E275*F275","v":0},1.0200000000000001E-3,{"$f":"E275*H275","v":1.0085760000000001E-2},null,{"$f":"E275*J275","v":0},null,null,null,2,null,null,null,null,null,null,null,null,null,null,null,3,1,"286111934.R",null,null,null,null,null,null,null,null,null,null,null,null,null,null,null,null,null,null,null,null,null,null,1,{"$f":"IF(AZ275=1,G275,0)","v":0},{"$f":"IF(AZ275=2,G275,0)","v":0},{"$f":"IF(AZ275=3,G275,0)","v":0},{"$f":"IF(AZ275=4,G275,0)","v":0},{"$f":"IF(AZ275=5,G275,0)","v":0},null,null,null,null,null,null,null,null,null,null,null,null,null,null,null,null,null,null,null,null,null,3,1]
[null,null,"Jedná  se  o  plnostěnné kanalizační trubky DN 150 – DN 400, SN 12 kN/m2 , zvenčí  i  zevnitř  hladké. Jsou  opatřeny hrdlem,  v  němž  je  vložen vysoce  elastický  jazýčkový  kroužek.  konce  trubek  (dříků)  jsou opatřeny  zkosením  pod  úhlem  15°.  Způsob  použití  trubek  je  „U“  dle  normy  ČSN  EN  1401-1, tj. mimo budovy. Spolehlivá  funkce  těsnění  je  jištěna  výztužným  kroužkem  z  elastomeru.  Je  tak  zamezeno  vypad-nutí nebo vytlačení kroužku při manipulaci a montáži. Tento systém zaručuje při správné montáži ",null,null,null,null,null,null,null,null,"Jedná  se  o  plnostěnné kanalizační trubky DN 150 – DN 400, SN 12 kN/m2 , zvenčí  i  zevnitř  hladké. Jsou  opatřeny hrdlem,  v  němž  je  vložen vysoce  elastický  jazýčkový  kroužek.  konce  trubek  (dříků)  jsou opatřeny  zkosením  pod  úhlem  15°.  Způsob  použití  trubek  je  „U“  dle  normy  ČSN  EN  1401-1, tj. mimo budovy. Spolehlivá  funkce  těsnění  je  jištěna  výztužným  kroužkem  z  elastomeru.  Je  tak  zamezeno  vypad-nutí nebo vytlačení kroužku při manipulaci a montáži. Tento systém zaručuje při správné montáži ",null,null,3]
[null,null,"dokonalou  těsnost  do  výšky  vodního  sloupce  5  metrů.",null,null,null,null,null,null,null,null,"dokonalou  těsnost  do  výšky  vodního  sloupce  5  metrů.",null,null,3]
[null,null,"Výtlačný řad \"A\" PE D140x12,7 mm:",null,0,null,null,null,null,null,null,null,"Výtlačný řad \"A\" PE D140x12,7 mm:"]
[null,null,"Výtlačný řas \"A\" - Uklidnění PVC DN300:9,60*1,03",null,9.8879999999999999,null,null,null,null,null,null,null,"Výtlačný řas \"A\" - Uklidnění PVC DN300:9,60*1,03"]
[53,"286135225","Trubka kanal. AQUALINE PE100RC2 140x12,7 mm PN16","m",1045.1455000000001,null,{"$f":"E280*F280","v":0},5.11E-3,{"$f":"E280*H280","v":5.340693505},null,{"$f":"E280*J280","v":0},null,null,null,2,null,null,null,null,null,null,null,null,null,null,null,3,1,286135225,null,null,null,null,null,null,null,null,null,null,null,null,null,null,null,null,null,null,null,null,null,null,1,{"$f":"IF(AZ280=1,G280,0)","v":0},{"$f":"IF(AZ280=2,G280,0)","v":0},{"$f":"IF(AZ280=3,G280,0)","v":0},{"$f":"IF(AZ280=4,G280,0)","v":0},{"$f":"IF(AZ280=5,G280,0)","v":0},null,null,null,null,null,null,null,null,null,null,null,null,null,null,null,null,null,null,null,null,null,3,1]
[null,null,"Kanalizační PE tlaková trubka AQUALINE RC2 dle normy EN 12 201 (sk.39D)",null,null,null,null,null,null,null,null,"Kanalizační PE tlaková trubka AQUALINE RC2 dle normy EN 12 201 (sk.39D)",null,null,3]
[null,null,"Dvouvrstvá - vnější vrstva PE 100RC hnědá (10 % tloušťky)",null,null,null,null,null,null,null,null,"Dvouvrstvá - vnější vrstva PE 100RC hnědá (10 % tloušťky)",null,null,3]
[null,null,"                       vnitřní vrstva PE 100RC černá (90 % tloušťky)",null,null,null,null,null,null,null,null,"                       vnitřní vrstva PE 100RC černá (90 % tloušťky)",null,null,3]
[null,null,"Lepší detekce poškození oproti typu RC1",null,null,null,null,null,null,null,null,"Lepší detekce poškození oproti typu RC1",null,null,3]
[null,null,"Tyč 12 m",null,null,null,null,null,null,null,null,"Tyč 12 m",null,null,3]
[null,null,"Výtlačný řad \"A\" PE D140x12,7 mm:1029,70*1,015",null,1045.1455000000001,null,null,null,null,null,null,null,"Výtlačný řad \"A\" PE D140x12,7 mm:1029,70*1,015"]
[54,"28653082.11.R","Elektrospojka d 140 mm PE 100 SDR11","kus",103.53,null,{"$f":"E287*F287","v":0},1.2999999999999999E-3,{"$f":"E287*H287","v":0.13458899999999999},null,{"$f":"E287*J287","v":0},null,null,null,2,null,null,null,null,null,null,null,null,null,null,null,3,1,"28653082.11.R",null,null,null,null,null,null,null,null,null,null,null,null,null,null,null,null,null,null,null,null,null,null,1,{"$f":"IF(AZ287=1,G287,0)","v":0},{"$f":"IF(AZ287=2,G287,0)","v":0},{"$f":"IF(AZ287=3,G287,0)","v":0},{"$f":"IF(AZ287=4,G287,0)","v":0},{"$f":"IF(AZ287=5,G287,0)","v":0},null,null,null,null,null,null,null,null,null,null,null,null,null,null,null,null,null,null,null,null,null,3,1]
[null,null,"Výtlačný řad \"A\" PE D140x12,7 mm:",null,0,null,null,null,null,null,null,null,"Výtlačný řad \"A\" PE D140x12,7 mm:"]
[null,null,"Elektrospojka PE D140:102*1,015",null,103.53,null,null,null,null,null,null,null,"Elektrospojka PE D140:102*1,015"]
[55,"28653457.A.R","Oblouk 45° PE d 140 mm PE100 SDR11","kus",11.164999999999999,null,{"$f":"E290*F290","v":0},1.0499999999999999E-3,{"$f":"E290*H290","v":1.1723249999999998E-2},null,{"$f":"E290*J290","v":0},null,null,null,2,null,null,null,null,null,null,null,null,null,null,null,3,1,"28653457.A.R",null,null,null,null,null,null,null,null,null,null,null,null,null,null,null,null,null,null,null,null,null,null,1,{"$f":"IF(AZ290=1,G290,0)","v":0},{"$f":"IF(AZ290=2,G290,0)","v":0},{"$f":"IF(AZ290=3,G290,0)","v":0},{"$f":"IF(AZ290=4,G290,0)","v":0},{"$f":"IF(AZ290=5,G290,0)","v":0},null,null,null,null,null,null,null,null,null,null,null,null,null,null,null,null,null,null,null,null,null,3,1]
[null,null,"Výtlačný řad \"A\" PE D140x12,7 mm:",null,0,null,null,null,null,null,null,null,"Výtlačný řad \"A\" PE D140x12,7 mm:"]
[null,null,"Oblouk PE D140/45°:11*1,015",null,11.164999999999999,null,null,null,null,null,null,null,"Oblouk PE D140/45°:11*1,015"]
[56,"28653459.A.R","Oblouk 22° PE d 140 mm PE100 SDR11","kus",1.0149999999999999,null,{"$f":"E293*F293","v":0},1.0499999999999999E-3,{"$f":"E293*H293","v":1.0657499999999999E-3},null,{"$f":"E293*J293","v":0},null,null,null,2,null,null,null,null,null,null,null,null,null,null,null,3,1,"28653459.A.R",null,null,null,null,null,null,null,null,null,null,null,null,null,null,null,null,null,null,null,null,null,null,1,{"$f":"IF(AZ293=1,G293,0)","v":0},{"$f":"IF(AZ293=2,G293,0)","v":0},{"$f":"IF(AZ293=3,G293,0)","v":0},{"$f":"IF(AZ293=4,G293,0)","v":0},{"$f":"IF(AZ293=5,G293,0)","v":0},null,null,null,null,null,null,null,null,null,null,null,null,null,null,null,null,null,null,null,null,null,3,1]
[null,null,"Výtlačný řad \"A\" PE D140x12,7 mm:",null,0,null,null,null,null,null,null,null,"Výtlačný řad \"A\" PE D140x12,7 mm:"]
[null,null,"Oblouk PE D140/22°:1*1,015",null,1.0149999999999999,null,null,null,null,null,null,null,"Oblouk PE D140/22°:1*1,015"]
[57,"28653460.A.R","Oblouk 11° PE d 140 mm PE100 SDR11","kus",16.239999999999998,null,{"$f":"E296*F296","v":0},1.0499999999999999E-3,{"$f":"E296*H296","v":1.7051999999999998E-2},null,{"$f":"E296*J296","v":0},null,null,null,2,null,null,null,null,null,null,null,null,null,null,null,3,1,"28653460.A.R",null,null,null,null,null,null,null,null,null,null,null,null,null,null,null,null,null,null,null,null,null,null,1,{"$f":"IF(AZ296=1,G296,0)","v":0},{"$f":"IF(AZ296=2,G296,0)","v":0},{"$f":"IF(AZ296=3,G296,0)","v":0},{"$f":"IF(AZ296=4,G296,0)","v":0},{"$f":"IF(AZ296=5,G296,0)","v":0},null,null,null,null,null,null,null,null,null,null,null,null,null,null,null,null,null,null,null,null,null,3,1]
[null,null,"Výtlačný řad \"A\" PE D140x12,7 mm:",null,0,null,null,null,null,null,null,null,"Výtlačný řad \"A\" PE D140x12,7 mm:"]
[null,null,"Oblouk PE D140/11°:16*1,015",null,16.239999999999998,null,null,null,null,null,null,null,"Oblouk PE D140/11°:16*1,015"]
[58,"28653768.R","LN + TP D140/DN125 PE100 SDR11","kus",12.18,null,{"$f":"E299*F299","v":0},3.5E-4,{"$f":"E299*H299","v":4.2629999999999994E-3},null,{"$f":"E299*J299","v":0},null,null,null,2,null,null,null,null,null,null,null,null,null,null,null,3,1,"28653768.R",null,null,null,null,null,null,null,null,null,null,null,null,null,null,null,null,null,null,null,null,null,null,1,{"$f":"IF(AZ299=1,G299,0)","v":0},{"$f":"IF(AZ299=2,G299,0)","v":0},{"$f":"IF(AZ299=3,G299,0)","v":0},{"$f":"IF(AZ299=4,G299,0)","v":0},{"$f":"IF(AZ299=5,G299,0)","v":0},null,null,null,null,null,null,null,null,null,null,null,null,null,null,null,null,null,null,null,null,null,3,1]
[null,null,"Výtlačný řad \"A\" PE D140x12,7 mm:",null,0,null,null,null,null,null,null,null,"Výtlačný řad \"A\" PE D140x12,7 mm:"]
[null,null,"LN + TP D140/DN125:12*1,015",null,12.18,null,null,null,null,null,null,null,"LN + TP D140/DN125:12*1,015"]
[59,"42200810.06.R","Proplachovací souprava D810 DN80/1,5","kus",2,null,{"$f":"E302*F302","v":0},2.0250000000000001E-2,{"$f":"E302*H302","v":4.0500000000000001E-2},null,{"$f":"E302*J302","v":0},null,null,null,2,null,null,null,null,null,null,null,null,null,null,null,3,1,"42200810.06.R",null,null,null,null,null,null,null,null,null,null,null,null,null,null,null,null,null,null,null,null,null,null,1,{"$f":"IF(AZ302=1,G302,0)","v":0},{"$f":"IF(AZ302=2,G302,0)","v":0},{"$f":"IF(AZ302=3,G302,0)","v":0},{"$f":"IF(AZ302=4,G302,0)","v":0},{"$f":"IF(AZ302=5,G302,0)","v":0},null,null,null,null,null,null,null,null,null,null,null,null,null,null,null,null,null,null,null,null,null,3,1]
[null,null,"Výtlačný řad \"A\" PE D140x12,7 mm:",null,0,null,null,null,null,null,null,null,"Výtlačný řad \"A\" PE D140x12,7 mm:"]
[null,null,"Proplachovací souprava DN80/1,5:2",null,2,null,null,null,null,null,null,null,"Proplachovací souprava DN80/1,5:2"]
[60,"42209800.R","Ventil odvzdušňovací pro odpadní vodu DN80","kus",2,null,{"$f":"E305*F305","v":0},2.8E-3,{"$f":"E305*H305","v":5.5999999999999999E-3},null,{"$f":"E305*J305","v":0},null,null,null,2,null,null,null,null,null,null,null,null,null,null,null,3,1,"42209800.R",null,null,null,null,null,null,null,null,null,null,null,null,null,null,null,null,null,null,null,null,null,null,1,{"$f":"IF(AZ305=1,G305,0)","v":0},{"$f":"IF(AZ305=2,G305,0)","v":0},{"$f":"IF(AZ305=3,G305,0)","v":0},{"$f":"IF(AZ305=4,G305,0)","v":0},{"$f":"IF(AZ305=5,G305,0)","v":0},null,null,null,null,null,null,null,null,null,null,null,null,null,null,null,null,null,null,null,null,null,3,1]
[null,null,"Umístění v šachtě",null,null,null,null,null,null,null,null,"Umístění v šachtě",null,null,3]
[null,null,"Výtlačný řad \"A\" PE D140x12,7 mm:",null,0,null,null,null,null,null,null,null,"Výtlačný řad \"A\" PE D140x12,7 mm:"]
[null,null,"Ventil odvzdušňovací pro odpadní vodu DN80:2",null,2,null,null,null,null,null,null,null,"Ventil odvzdušňovací pro odpadní vodu DN80:2"]
[61,"42209999.R","Drenážní obal","kus",2,null,{"$f":"E309*F309","v":0},4.7999999999999996E-3,{"$f":"E309*H309","v":9.5999999999999992E-3},null,{"$f":"E309*J309","v":0},null,null,null,2,null,null,null,null,null,null,null,null,null,null,null,3,1,"42209999.R",null,null,null,null,null,null,null,null,null,null,null,null,null,null,null,null,null,null,null,null,null,null,1,{"$f":"IF(AZ309=1,G309,0)","v":0},{"$f":"IF(AZ309=2,G309,0)","v":0},{"$f":"IF(AZ309=3,G309,0)","v":0},{"$f":"IF(AZ309=4,G309,0)","v":0},{"$f":"IF(AZ309=5,G309,0)","v":0},null,null,null,null,null,null,null,null,null,null,null,null,null,null,null,null,null,null,null,null,null,3,1]
[null,null,"Výtlačný řad \"A\" PE D140x12,7 mm:",null,0,null,null,null,null,null,null,null,"Výtlačný řad \"A\" PE D140x12,7 mm:"]
[null,null,"Pro Proplachovací souprava DN80/1,5:2",null,2,null,null,null,null,null,null,null,"Pro Proplachovací souprava DN80/1,5:2"]
[62,"42228310.R","Šoupátko 4000E3 DN 80 přírubové, voda PN16","kus",4,null,{"$f":"E312*F312","v":0},1.6500000000000001E-2,{"$f":"E312*H312","v":6.6000000000000003E-2},null,{"$f":"E312*J312","v":0},null,null,null,2,null,null,null,null,null,null,null,null,null,null,null,3,1,"42228310.R",null,null,null,null,null,null,null,null,null,null,null,null,null,null,null,null,null,null,null,null,null,null,1,{"$f":"IF(AZ312=1,G312,0)","v":0},{"$f":"IF(AZ312=2,G312,0)","v":0},{"$f":"IF(AZ312=3,G312,0)","v":0},{"$f":"IF(AZ312=4,G312,0)","v":0},{"$f":"IF(AZ312=5,G312,0)","v":0},null,null,null,null,null,null,null,null,null,null,null,null,null,null,null,null,null,null,null,null,null,3,1]
[null,null,"Šoupátko přírubové krkové - měkcetěsnící klínové šoupátko s hladkým a volným průtokovým kanálem",null,null,null,null,null,null,null,null,"Šoupátko přírubové krkové - měkcetěsnící klínové šoupátko s hladkým a volným průtokovým kanálem",null,null,3]
[null,null,"č. 4000E3",null,null,null,null,null,null,null,null,"č. 4000E3",null,null,3]
[null,null,"PN 16",null,null,null,null,null,null,null,null,"PN 16",null,null,3]
[null,null,"DN 80",null,null,null,null,null,null,null,null,"DN 80",null,null,3]
[null,null,"těleso a víko: tvárná litina GGG 400 - DIN 1693",null,null,null,null,null,null,null,null,"těleso a víko: tvárná litina GGG 400 - DIN 1693",null,null,3]
[null,null,"medium: pitná voda, neagresivní odpadní voda",null,null,null,null,null,null,null,null,"medium: pitná voda, neagresivní odpadní voda",null,null,3]
[null,null,"Výtlačný řad \"A\" PE D140x12,7 mm:",null,0,null,null,null,null,null,null,null,"Výtlačný řad \"A\" PE D140x12,7 mm:"]
[null,null,"Šoupě DN80 :4",null,4,null,null,null,null,null,null,null,"Šoupě DN80 :4"]
[63,"42229313.R","Šoupátko deskové přírubové DN 125 přírubové, PN16","kus",4,null,{"$f":"E321*F321","v":0},3.5499999999999997E-2,{"$f":"E321*H321","v":0.14199999999999999},null,{"$f":"E321*J321","v":0},null,null,null,2,null,null,null,null,null,null,null,null,null,null,null,3,1,"42229313.R",null,null,null,null,null,null,null,null,null,null,null,null,null,null,null,null,null,null,null,null,null,null,1,{"$f":"IF(AZ321=1,G321,0)","v":0},{"$f":"IF(AZ321=2,G321,0)","v":0},{"$f":"IF(AZ321=3,G321,0)","v":0},{"$f":"IF(AZ321=4,G321,0)","v":0},{"$f":"IF(AZ321=5,G321,0)","v":0},null,null,null,null,null,null,null,null,null,null,null,null,null,null,null,null,null,null,null,null,null,3,1]
[null,null,"Šoupátko deskové přírubové",null,null,null,null,null,null,null,null,"Šoupátko deskové přírubové",null,null,3]
[null,null,"PN 16",null,null,null,null,null,null,null,null,"PN 16",null,null,3]
[null,null,"DN 125",null,null,null,null,null,null,null,null,"DN 125",null,null,3]
[null,null,"Výtlačný řad \"A\" PE D140x12,7 mm:",null,0,null,null,null,null,null,null,null,"Výtlačný řad \"A\" PE D140x12,7 mm:"]
[null,null,"Šoupě deskové DN125:4",null,4,null,null,null,null,null,null,null,"Šoupě deskové DN125:4"]
[64,"42293250.R","Souprava zemní tel.9502E2/E3 DN50 -100, 1,3-1,8m","kus",4,null,{"$f":"E327*F327","v":0},7.3000000000000001E-3,{"$f":"E327*H327","v":2.92E-2},null,{"$f":"E327*J327","v":0},null,null,null,2,null,null,null,null,null,null,null,null,null,null,null,3,1,"42293250.R",null,null,null,null,null,null,null,null,null,null,null,null,null,null,null,null,null,null,null,null,null,null,1,{"$f":"IF(AZ327=1,G327,0)","v":0},{"$f":"IF(AZ327=2,G327,0)","v":0},{"$f":"IF(AZ327=3,G327,0)","v":0},{"$f":"IF(AZ327=4,G327,0)","v":0},{"$f":"IF(AZ327=5,G327,0)","v":0},null,null,null,null,null,null,null,null,null,null,null,null,null,null,null,null,null,null,null,null,null,3,1]
[null,null,"Výtlačný řad \"A\" PE D140x12,7 mm:",null,0,null,null,null,null,null,null,null,"Výtlačný řad \"A\" PE D140x12,7 mm:"]
[null,null,"Pro Šoupě DN80:4",null,4,null,null,null,null,null,null,null,"Pro Šoupě DN80:4"]
[65,"42293251.R","Souprava zemní tel.9502E2/E3 DN125-150, 1,3-1,8m","kus",4,null,{"$f":"E330*F330","v":0},7.3000000000000001E-3,{"$f":"E330*H330","v":2.92E-2},null,{"$f":"E330*J330","v":0},null,null,null,2,null,null,null,null,null,null,null,null,null,null,null,3,1,"42293251.R",null,null,null,null,null,null,null,null,null,null,null,null,null,null,null,null,null,null,null,null,null,null,1,{"$f":"IF(AZ330=1,G330,0)","v":0},{"$f":"IF(AZ330=2,G330,0)","v":0},{"$f":"IF(AZ330=3,G330,0)","v":0},{"$f":"IF(AZ330=4,G330,0)","v":0},{"$f":"IF(AZ330=5,G330,0)","v":0},null,null,null,null,null,null,null,null,null,null,null,null,null,null,null,null,null,null,null,null,null,3,1]
[null,null,"Výtlačný řad \"A\" PE D140x12,7 mm:",null,0,null,null,null,null,null,null,null,"Výtlačný řad \"A\" PE D140x12,7 mm:"]
[null,null,"Pro Šoupě DN125:4",null,4,null,null,null,null,null,null,null,"Pro Šoupě DN125:4"]
[66,"55251211.R","Trouba přír.litin. FF DN 80 mm dl. 100 mm","kus",2,null,{"$f":"E333*F333","v":0},8.3000000000000001E-3,{"$f":"E333*H333","v":1.66E-2},null,{"$f":"E333*J333","v":0},null,null,null,2,null,null,null,null,null,null,null,null,null,null,null,3,1,"55251211.R",null,null,null,null,null,null,null,null,null,null,null,null,null,null,null,null,null,null,null,null,null,null,1,{"$f":"IF(AZ333=1,G333,0)","v":0},{"$f":"IF(AZ333=2,G333,0)","v":0},{"$f":"IF(AZ333=3,G333,0)","v":0},{"$f":"IF(AZ333=4,G333,0)","v":0},{"$f":"IF(AZ333=5,G333,0)","v":0},null,null,null,null,null,null,null,null,null,null,null,null,null,null,null,null,null,null,null,null,null,3,1]
[null,null,"Výtlačný řad \"A\" PE D140x12,7 mm:",null,0,null,null,null,null,null,null,null,"Výtlačný řad \"A\" PE D140x12,7 mm:"]
[null,null,"FF DN80/100:2",null,2,null,null,null,null,null,null,null,"FF DN80/100:2"]
[67,"55251213.R","Trouba přír.litin. FF DN 80 mm  dl. 200 mm","kus",4,null,{"$f":"E336*F336","v":0},9.7000000000000003E-3,{"$f":"E336*H336","v":3.8800000000000001E-2},null,{"$f":"E336*J336","v":0},null,null,null,2,null,null,null,null,null,null,null,null,null,null,null,3,1,"55251213.R",null,null,null,null,null,null,null,null,null,null,null,null,null,null,null,null,null,null,null,null,null,null,1,{"$f":"IF(AZ336=1,G336,0)","v":0},{"$f":"IF(AZ336=2,G336,0)","v":0},{"$f":"IF(AZ336=3,G336,0)","v":0},{"$f":"IF(AZ336=4,G336,0)","v":0},{"$f":"IF(AZ336=5,G336,0)","v":0},null,null,null,null,null,null,null,null,null,null,null,null,null,null,null,null,null,null,null,null,null,3,1]
[null,null,"Výtlačný řad \"A\" PE D140x12,7 mm:",null,0,null,null,null,null,null,null,null,"Výtlačný řad \"A\" PE D140x12,7 mm:"]
[null,null,"FF DN80/200:4",null,4,null,null,null,null,null,null,null,"FF DN80/200:4"]
[68,"55251219.R","Trouba přír.litin. FF DN 80 mm dl. 500 mm","kus",2,null,{"$f":"E339*F339","v":0},1.41E-2,{"$f":"E339*H339","v":2.8199999999999999E-2},null,{"$f":"E339*J339","v":0},null,null,null,2,null,null,null,null,null,null,null,null,null,null,null,3,1,"55251219.R",null,null,null,null,null,null,null,null,null,null,null,null,null,null,null,null,null,null,null,null,null,null,1,{"$f":"IF(AZ339=1,G339,0)","v":0},{"$f":"IF(AZ339=2,G339,0)","v":0},{"$f":"IF(AZ339=3,G339,0)","v":0},{"$f":"IF(AZ339=4,G339,0)","v":0},{"$f":"IF(AZ339=5,G339,0)","v":0},null,null,null,null,null,null,null,null,null,null,null,null,null,null,null,null,null,null,null,null,null,3,1]
[null,null,"Výtlačný řad \"A\" PE D140x12,7 mm:",null,0,null,null,null,null,null,null,null,"Výtlačný řad \"A\" PE D140x12,7 mm:"]
[null,null,"FF DN80/500:2",null,2,null,null,null,null,null,null,null,"FF DN80/500:2"]
[69,"55259825.R","Přechod přír. FFR DN 200/125","kus",4,null,{"$f":"E342*F342","v":0},2.0799999999999999E-2,{"$f":"E342*H342","v":8.3199999999999996E-2},null,{"$f":"E342*J342","v":0},null,null,null,2,null,null,null,null,null,null,null,null,null,null,null,3,1,"55259825.R",null,null,null,null,null,null,null,null,null,null,null,null,null,null,null,null,null,null,null,null,null,null,1,{"$f":"IF(AZ342=1,G342,0)","v":0},{"$f":"IF(AZ342=2,G342,0)","v":0},{"$f":"IF(AZ342=3,G342,0)","v":0},{"$f":"IF(AZ342=4,G342,0)","v":0},{"$f":"IF(AZ342=5,G342,0)","v":0},null,null,null,null,null,null,null,null,null,null,null,null,null,null,null,null,null,null,null,null,null,3,1]
[null,null,"Výtlačný řad \"A\" PE D140x12,7 mm:",null,0,null,null,null,null,null,null,null,"Výtlačný řad \"A\" PE D140x12,7 mm:"]
[null,null,"FFR DN200/125:4",null,4,null,null,null,null,null,null,null,"FFR DN200/125:4"]
[70,"55259913.R","Koleno přírubové FFK DN 125-11 1/4°","kus",1,null,{"$f":"E345*F345","v":0},1.55E-2,{"$f":"E345*H345","v":1.55E-2},null,{"$f":"E345*J345","v":0},null,null,null,2,null,null,null,null,null,null,null,null,null,null,null,3,1,"55259913.R",null,null,null,null,null,null,null,null,null,null,null,null,null,null,null,null,null,null,null,null,null,null,1,{"$f":"IF(AZ345=1,G345,0)","v":0},{"$f":"IF(AZ345=2,G345,0)","v":0},{"$f":"IF(AZ345=3,G345,0)","v":0},{"$f":"IF(AZ345=4,G345,0)","v":0},{"$f":"IF(AZ345=5,G345,0)","v":0},null,null,null,null,null,null,null,null,null,null,null,null,null,null,null,null,null,null,null,null,null,3,1]
[null,null,"Výtlačný řad \"A\" PE D140x12,7 mm:",null,0,null,null,null,null,null,null,null,"Výtlačný řad \"A\" PE D140x12,7 mm:"]
[null,null,"FFK DN125/11°:1",null,1,null,null,null,null,null,null,null,"FFK DN125/11°:1"]
[71,"55259982.R","Koleno přírubové Q DN 80-90°","kus",2,null,{"$f":"E348*F348","v":0},8.9999999999999993E-3,{"$f":"E348*H348","v":1.7999999999999999E-2},null,{"$f":"E348*J348","v":0},null,null,null,2,null,null,null,null,null,null,null,null,null,null,null,3,1,"55259982.R",null,null,null,null,null,null,null,null,null,null,null,null,null,null,null,null,null,null,null,null,null,null,1,{"$f":"IF(AZ348=1,G348,0)","v":0},{"$f":"IF(AZ348=2,G348,0)","v":0},{"$f":"IF(AZ348=3,G348,0)","v":0},{"$f":"IF(AZ348=4,G348,0)","v":0},{"$f":"IF(AZ348=5,G348,0)","v":0},null,null,null,null,null,null,null,null,null,null,null,null,null,null,null,null,null,null,null,null,null,3,1]
[null,null,"Výtlačný řad \"A\" PE D140x12,7 mm:",null,0,null,null,null,null,null,null,null,"Výtlačný řad \"A\" PE D140x12,7 mm:"]
[null,null,"Q DN80:2",null,2,null,null,null,null,null,null,null,"Q DN80:2"]
[72,"552599948.R","Tvarovka přír. s přír. odb. T DN 125/80","kus",4,null,{"$f":"E351*F351","v":0},2.4799999999999999E-2,{"$f":"E351*H351","v":9.9199999999999997E-2},null,{"$f":"E351*J351","v":0},null,null,null,2,null,null,null,null,null,null,null,null,null,null,null,3,1,"552599948.R",null,null,null,null,null,null,null,null,null,null,null,null,null,null,null,null,null,null,null,null,null,null,1,{"$f":"IF(AZ351=1,G351,0)","v":0},{"$f":"IF(AZ351=2,G351,0)","v":0},{"$f":"IF(AZ351=3,G351,0)","v":0},{"$f":"IF(AZ351=4,G351,0)","v":0},{"$f":"IF(AZ351=5,G351,0)","v":0},null,null,null,null,null,null,null,null,null,null,null,null,null,null,null,null,null,null,null,null,null,3,1]
[null,null,"Výtlačný řad \"A\" PE D140x12,7 mm:",null,0,null,null,null,null,null,null,null,"Výtlačný řad \"A\" PE D140x12,7 mm:"]
[null,null,"T DN125/80:4",null,4,null,null,null,null,null,null,null,"T DN125/80:4"]
[73,"552599961.R","Tvarovka přír. s přír. odb. T DN 200/200","kus",2,null,{"$f":"E354*F354","v":0},4.9500000000000002E-2,{"$f":"E354*H354","v":9.9000000000000005E-2},null,{"$f":"E354*J354","v":0},null,null,null,2,null,null,null,null,null,null,null,null,null,null,null,3,1,"552599961.R",null,null,null,null,null,null,null,null,null,null,null,null,null,null,null,null,null,null,null,null,null,null,1,{"$f":"IF(AZ354=1,G354,0)","v":0},{"$f":"IF(AZ354=2,G354,0)","v":0},{"$f":"IF(AZ354=3,G354,0)","v":0},{"$f":"IF(AZ354=4,G354,0)","v":0},{"$f":"IF(AZ354=5,G354,0)","v":0},null,null,null,null,null,null,null,null,null,null,null,null,null,null,null,null,null,null,null,null,null,3,1]
[null,null,"Výtlačný řad \"A\" PE D140x12,7 mm:",null,0,null,null,null,null,null,null,null,"Výtlačný řad \"A\" PE D140x12,7 mm:"]
[null,null,"T DN200/200:2",null,2,null,null,null,null,null,null,null,"T DN200/200:2"]
[74,"55260027.R","Příruba zaslepovací  X DN 200","kus",2,null,{"$f":"E357*F357","v":0},1.14E-2,{"$f":"E357*H357","v":2.2800000000000001E-2},null,{"$f":"E357*J357","v":0},null,null,null,2,null,null,null,null,null,null,null,null,null,null,null,3,1,"55260027.R",null,null,null,null,null,null,null,null,null,null,null,null,null,null,null,null,null,null,null,null,null,null,1,{"$f":"IF(AZ357=1,G357,0)","v":0},{"$f":"IF(AZ357=2,G357,0)","v":0},{"$f":"IF(AZ357=3,G357,0)","v":0},{"$f":"IF(AZ357=4,G357,0)","v":0},{"$f":"IF(AZ357=5,G357,0)","v":0},null,null,null,null,null,null,null,null,null,null,null,null,null,null,null,null,null,null,null,null,null,3,1]
[null,null,"Výtlačný řad \"A\" PE D140x12,7 mm:",null,0,null,null,null,null,null,null,null,"Výtlačný řad \"A\" PE D140x12,7 mm:"]
[null,null,"X DN200:2",null,2,null,null,null,null,null,null,null,"X DN200:2"]
[75,"5526009702.R","Koleno přír.s patkou N DN 80","kus",4,null,{"$f":"E360*F360","v":0},1.2200000000000001E-2,{"$f":"E360*H360","v":4.8800000000000003E-2},null,{"$f":"E360*J360","v":0},null,null,null,2,null,null,null,null,null,null,null,null,null,null,null,3,1,"5526009702.R",null,null,null,null,null,null,null,null,null,null,null,null,null,null,null,null,null,null,null,null,null,null,1,{"$f":"IF(AZ360=1,G360,0)","v":0},{"$f":"IF(AZ360=2,G360,0)","v":0},{"$f":"IF(AZ360=3,G360,0)","v":0},{"$f":"IF(AZ360=4,G360,0)","v":0},{"$f":"IF(AZ360=5,G360,0)","v":0},null,null,null,null,null,null,null,null,null,null,null,null,null,null,null,null,null,null,null,null,null,3,1]
[null,null,"Výtlačný řad \"A\" PE D140x12,7 mm:",null,0,null,null,null,null,null,null,null,"Výtlačný řad \"A\" PE D140x12,7 mm:"]
[null,null,"N DN80:4",null,4,null,null,null,null,null,null,null,"N DN80:4"]
[76,"592243543.R","Kónus šachetní TBR-Q.1 100x63/58/12 KPS","kus",4.04,null,{"$f":"E363*F363","v":0},0.58499999999999996,{"$f":"E363*H363","v":2.3633999999999999},null,{"$f":"E363*J363","v":0},null,null,null,2,null,null,null,null,null,null,null,null,null,null,null,3,1,"592243543.R",null,null,null,null,null,null,null,null,null,null,null,null,null,null,null,null,null,null,null,null,null,null,1,{"$f":"IF(AZ363=1,G363,0)","v":0},{"$f":"IF(AZ363=2,G363,0)","v":0},{"$f":"IF(AZ363=3,G363,0)","v":0},{"$f":"IF(AZ363=4,G363,0)","v":0},{"$f":"IF(AZ363=5,G363,0)","v":0},null,null,null,null,null,null,null,null,null,null,null,null,null,null,null,null,null,null,null,null,null,3,1]
[null,null,"Výtlačný řad \"A\" PE D140x12,7 mm:",null,0,null,null,null,null,null,null,null,"Výtlačný řad \"A\" PE D140x12,7 mm:"]
[null,null,"Vzdušníková šachta:",null,0,null,null,null,null,null,null,null,"Vzdušníková šachta:"]
[null,null,"Kónus H580:2*1,01",null,2.02,null,null,null,null,null,null,null,"Kónus H580:2*1,01"]
[null,null,"Šachta UV-A a KŠ:",null,0,null,null,null,null,null,null,null,"Šachta UV-A a KŠ:"]
[null,null,"Kónus H580:2*1,01",null,2.02,null,null,null,null,null,null,null,"Kónus H580:2*1,01"]
[77,"59224358.A.R","Skruž šachetní TBS-Q.1 100/25/12 PS","kus",1.01,null,{"$f":"E369*F369","v":0},0.25,{"$f":"E369*H369","v":0.2525},null,{"$f":"E369*J369","v":0},null,null,null,2,null,null,null,null,null,null,null,null,null,null,null,3,1,"59224358.A.R",null,null,null,null,null,null,null,null,null,null,null,null,null,null,null,null,null,null,null,null,null,null,1,{"$f":"IF(AZ369=1,G369,0)","v":0},{"$f":"IF(AZ369=2,G369,0)","v":0},{"$f":"IF(AZ369=3,G369,0)","v":0},{"$f":"IF(AZ369=4,G369,0)","v":0},{"$f":"IF(AZ369=5,G369,0)","v":0},null,null,null,null,null,null,null,null,null,null,null,null,null,null,null,null,null,null,null,null,null,3,1]
[null,null,"Výtlačný řad \"A\" PE D140x12,7 mm:",null,0,null,null,null,null,null,null,null,"Výtlačný řad \"A\" PE D140x12,7 mm:"]
[null,null,"Šachta UV-A a KŠ:",null,0,null,null,null,null,null,null,null,"Šachta UV-A a KŠ:"]
[null,null,"Skruž H250:1*1,01",null,1.01,null,null,null,null,null,null,null,"Skruž H250:1*1,01"]
[78,"59224361.A.R","Skruž šachetní TBS-Q.1 100/50/12 PS","kus",4.04,null,{"$f":"E373*F373","v":0},0.5,{"$f":"E373*H373","v":2.02},null,{"$f":"E373*J373","v":0},null,null,null,2,null,null,null,null,null,null,null,null,null,null,null,3,1,"59224361.A.R",null,null,null,null,null,null,null,null,null,null,null,null,null,null,null,null,null,null,null,null,null,null,1,{"$f":"IF(AZ373=1,G373,0)","v":0},{"$f":"IF(AZ373=2,G373,0)","v":0},{"$f":"IF(AZ373=3,G373,0)","v":0},{"$f":"IF(AZ373=4,G373,0)","v":0},{"$f":"IF(AZ373=5,G373,0)","v":0},null,null,null,null,null,null,null,null,null,null,null,null,null,null,null,null,null,null,null,null,null,3,1]
[null,null,"Výtlačný řad \"A\" PE D140x12,7 mm:",null,0,null,null,null,null,null,null,null,"Výtlačný řad \"A\" PE D140x12,7 mm:"]
[null,null,"Vzdušníková šachta:",null,0,null,null,null,null,null,null,null,"Vzdušníková šachta:"]
[null,null,"Skruž H500:2*1,01",null,2.02,null,null,null,null,null,null,null,"Skruž H500:2*1,01"]
[null,null,"Šachta UV-A a KŠ:",null,0,null,null,null,null,null,null,null,"Šachta UV-A a KŠ:"]
[null,null,"Skruž H500:2*1,01",null,2.02,null,null,null,null,null,null,null,"Skruž H500:2*1,01"]
[79,"59224373.A.R","Dno šachetní TBZ-Q.1 100/68 KOM V30 včetně kynety dle PD","kus",2.02,null,{"$f":"E379*F379","v":0},1.45,{"$f":"E379*H379","v":2.9289999999999998},null,{"$f":"E379*J379","v":0},null,null,null,2,null,null,null,null,null,null,null,null,null,null,null,3,1,"59224373.A.R",null,null,null,null,null,null,null,null,null,null,null,null,null,null,null,null,null,null,null,null,null,null,1,{"$f":"IF(AZ379=1,G379,0)","v":0},{"$f":"IF(AZ379=2,G379,0)","v":0},{"$f":"IF(AZ379=3,G379,0)","v":0},{"$f":"IF(AZ379=4,G379,0)","v":0},{"$f":"IF(AZ379=5,G379,0)","v":0},null,null,null,null,null,null,null,null,null,null,null,null,null,null,null,null,null,null,null,null,null,3,1]
[null,null,"Výtlačný řad \"A\" PE D140x12,7 mm:",null,0,null,null,null,null,null,null,null,"Výtlačný řad \"A\" PE D140x12,7 mm:"]
[null,null,"Šachta UV-A a KŠ:",null,0,null,null,null,null,null,null,null,"Šachta UV-A a KŠ:"]
[null,null,"Šachtové dno H675:2*1,01",null,2.02,null,null,null,null,null,null,null,"Šachtové dno H675:2*1,01"]
[80,"59224380.R","Těsnění elastom pro šach díly EMT 100/1.7 - DN1000","kus",9.09,null,{"$f":"E383*F383","v":0},2E-3,{"$f":"E383*H383","v":1.8180000000000002E-2},null,{"$f":"E383*J383","v":0},null,null,null,2,null,null,null,null,null,null,null,null,null,null,null,3,1,"59224380.R",null,null,null,null,null,null,null,null,null,null,null,null,null,null,null,null,null,null,null,null,null,null,1,{"$f":"IF(AZ383=1,G383,0)","v":0},{"$f":"IF(AZ383=2,G383,0)","v":0},{"$f":"IF(AZ383=3,G383,0)","v":0},{"$f":"IF(AZ383=4,G383,0)","v":0},{"$f":"IF(AZ383=5,G383,0)","v":0},null,null,null,null,null,null,null,null,null,null,null,null,null,null,null,null,null,null,null,null,null,3,1]
[null,null,"Výtlačný řad \"A\" PE D140x12,7 mm:",null,0,null,null,null,null,null,null,null,"Výtlačný řad \"A\" PE D140x12,7 mm:"]
[null,null,"Vzdušníková šachta:",null,0,null,null,null,null,null,null,null,"Vzdušníková šachta:"]
[null,null,"Těsnění:4*1,01",null,4.04,null,null,null,null,null,null,null,"Těsnění:4*1,01"]
[null,null,"Šachta UV-A a KŠ:",null,0,null,null,null,null,null,null,null,"Šachta UV-A a KŠ:"]
[null,null,"Těsnění:5*1,01",null,5.05,null,null,null,null,null,null,null,"Těsnění:5*1,01"]
[null,"Celkem za","8 Trubní vedení",null,null,null,{"$f":"SUM(G133:G388)","v":0},null,{"$f":"SUM(I133:I388)","v":50.044220265000021},null,{"$f":"SUM(K133:K388)","v":0},null,null,null,4,null,null,null,null,null,null,null,null,null,null,null,null,null,null,null,null,null,null,null,null,null,null,null,null,null,null,null,null,null,null,null,null,null,null,null,null,null,{"$f":"SUM(BA133:BA388)","v":0},{"$f":"SUM(BB133:BB388)","v":0},{"$f":"SUM(BC133:BC388)","v":0},{"$f":"SUM(BD133:BD388)","v":0},{"$f":"SUM(BE133:BE388)","v":0}]
["Díl:","93","Dokončovací práce inženýrských staveb",null,null,null,null,null,null,null,null,null,null,null,1]
[81,"939421111RT1","Osazení samonivelač.kanalizač.poklopu za finišerem bez dodávky poklopu","kus",4,null,{"$f":"E391*F391","v":0},0.15425,{"$f":"E391*H391","v":0.61699999999999999},0,{"$f":"E391*J391","v":0},null,null,null,2,null,null,null,null,null,null,null,null,null,null,null,1,0,0,null,null,null,null,null,null,null,null,null,null,null,null,null,null,null,null,null,null,null,null,null,null,1,{"$f":"IF(AZ391=1,G391,0)","v":0},{"$f":"IF(AZ391=2,G391,0)","v":0},{"$f":"IF(AZ391=3,G391,0)","v":0},{"$f":"IF(AZ391=4,G391,0)","v":0},{"$f":"IF(AZ391=5,G391,0)","v":0},null,null,null,null,null,null,null,null,null,null,null,null,null,null,null,null,null,null,null,null,null,1,0]
[null,null,"Položka obsahuje:",null,null,null,null,null,null,null,null,"Položka obsahuje:",null,null,3]
[null,null," osazení prefabrikovaného betonového prstence do rychletuhnoucí vysokopevnostní malty (s dodávkou hmot)",null,null,null,null,null,null,null,null,"- osazení prefabrikovaného betonového prstence do rychletuhnoucí malty (s dodávkou hmot)",null,null,3]
[null,null,"- zalití prstence rychletuhnoucí zálivkou do výše prstence (s dodávkou hmoty)",null,null,null,null,null,null,null,null,"- zalití prstence rychletuhnoucí zálivkou do výše prstence (s dodávkou hmoty)",null,null,3]
[null,null,"- vložení kruhového bednění",null,null,null,null,null,null,null,null,"- vložení kruhového bednění",null,null,3]
[null,null,"- doplnění mezikruží asfaltovou směsí do výšky současné podkladní vrstvy, zhutnění",null,null,null,null,null,null,null,null,"- doplnění mezikruží asfaltovou směsí do výšky současné podkladní vrstvy, zhutnění",null,null,3]
[null,null,"- vyjmutí kruhového bednění",null,null,null,null,null,null,null,null,"- vyjmutí kruhového bednění",null,null,3]
[null,null,"- osazení poklopu a zatlačení",null,null,null,null,null,null,null,null,"- osazení poklopu a zatlačení",null,null,3]
[null,null,"  (následuje pokládka finální vrstvy vozovky - není součástí položky)",null,null,null,null,null,null,null,null,"  (následuje pokládka finální vrstvy vozovky - není součástí položky)",null,null,3]
[null,null,"- povytažení poklopu",null,null,null,null,null,null,null,null,"- povytažení poklopu",null,null,3]
[null,null,"- podsyp asfaltovou směsí, spuštění poklopu a zhutnění směsi",null,null,null,null,null,null,null,null,"- podsyp asfaltovou směsí, spuštění poklopu a zhutnění směsi",null,null,3]
[null,null,"Výtlačný řad \"A\" PE D140x12,7 mm:",null,0,null,null,null,null,null,null,null,"Výtlačný řad \"A\" PE D140x12,7 mm:"]
[null,null,"Vzdušníková šachta:",null,0,null,null,null,null,null,null,null,"Vzdušníková šachta:"]
[null,null,"Poklop :2",null,2,null,null,null,null,null,null,null,"Poklop :2"]
[null,null,"Šachta UV-A a KŠ:",null,0,null,null,null,null,null,null,null,"Šachta UV-A a KŠ:"]
[null,null,"Poklop:2",null,2,null,null,null,null,null,null,null,"Poklop:2"]
[82,"939421121RT1","Osazení samonivelač.vodovod.poklopu za finišerem bez dodávky poklopu","kus",4,null,{"$f":"E407*F407","v":0},5.2499999999999998E-2,{"$f":"E407*H407","v":0.21},0,{"$f":"E407*J407","v":0},null,null,null,2,null,null,null,null,null,null,null,null,null,null,null,1,0,0,null,null,null,null,null,null,null,null,null,null,null,null,null,null,null,null,null,null,null,null,null,null,1,{"$f":"IF(AZ407=1,G407,0)","v":0},{"$f":"IF(AZ407=2,G407,0)","v":0},{"$f":"IF(AZ407=3,G407,0)","v":0},{"$f":"IF(AZ407=4,G407,0)","v":0},{"$f":"IF(AZ407=5,G407,0)","v":0},null,null,null,null,null,null,null,null,null,null,null,null,null,null,null,null,null,null,null,null,null,1,0]
[null,null,"Položka obsahuje:",null,null,null,null,null,null,null,null,"Položka obsahuje:",null,null,3]
[null,null," osazení prefabrikovaného betonového prstence do rychletuhnoucí vysokopevnostní malty (s dodávkou hmot)",null,null,null,null,null,null,null,null,"- osazení prefabrikovaného betonového prstence do rychletuhnoucí malty (s dodávkou hmot)",null,null,3]
[null,null,"- zalití prstence rychletuhnoucí zálivkou do výše prstence (s dodávkou hmoty)",null,null,null,null,null,null,null,null,"- zalití prstence rychletuhnoucí zálivkou do výše prstence (s dodávkou hmoty)",null,null,3]
[null,null,"- vložení kruhového bednění",null,null,null,null,null,null,null,null,"- vložení kruhového bednění",null,null,3]
[null,null,"- doplnění mezikruží asfaltovou směsí do výšky současné podkladní vrstvy, zhutnění",null,null,null,null,null,null,null,null,"- doplnění mezikruží asfaltovou směsí do výšky současné podkladní vrstvy, zhutnění",null,null,3]
[null,null,"- vyjmutí kruhového bednění",null,null,null,null,null,null,null,null,"- vyjmutí kruhového bednění",null,null,3]
[null,null,"- osazení poklopu a zatlačení",null,null,null,null,null,null,null,null,"- osazení poklopu a zatlačení",null,null,3]
[null,null,"  (následuje pokládka finální vrstvy vozovky - není součástí položky)",null,null,null,null,null,null,null,null,"  (následuje pokládka finální vrstvy vozovky - není součástí položky)",null,null,3]
[null,null,"- povytažení poklopu",null,null,null,null,null,null,null,null,"- povytažení poklopu",null,null,3]
[null,null,"- podsyp asfaltovou směsí, spuštění poklopu a zhutnění směsi",null,null,null,null,null,null,null,null,"- podsyp asfaltovou směsí, spuštění poklopu a zhutnění směsi",null,null,3]
[null,null,"Položka neobsahuje:",null,null,null,null,null,null,null,null,"Položka neobsahuje:",null,null,3]
[null,null,"- dodávku samonivelačního poklopu - oceňuje se ve specifikaci",null,null,null,null,null,null,null,null,"- dodávku samonivelačního poklopu - oceňuje se ve specifikaci",null,null,3]
[null,null,"- pokládku krycí vrstvy komunikace, oceňuje se samostatně",null,null,null,null,null,null,null,null,"- pokládku krycí vrstvy komunikace, oceňuje se samostatně",null,null,3]
[null,null,"Výtlačný řad \"A\" PE D140x12,7 mm:",null,0,null,null,null,null,null,null,null,"Výtlačný řad \"A\" PE D140x12,7 mm:"]
[null,null,"Pro Šoupě DN80:4",null,4,null,null,null,null,null,null,null,"Pro Šoupě DN80:4"]
[83,"939421131RT1","Osazení samonivelač.hydrant.poklopu za finišerem bez dodávky poklopu","kus",2,null,{"$f":"E423*F423","v":0},6.8250000000000005E-2,{"$f":"E423*H423","v":0.13650000000000001},0,{"$f":"E423*J423","v":0},null,null,null,2,null,null,null,null,null,null,null,null,null,null,null,1,1,1,null,null,null,null,null,null,null,null,null,null,null,null,null,null,null,null,null,null,null,null,null,null,1,{"$f":"IF(AZ423=1,G423,0)","v":0},{"$f":"IF(AZ423=2,G423,0)","v":0},{"$f":"IF(AZ423=3,G423,0)","v":0},{"$f":"IF(AZ423=4,G423,0)","v":0},{"$f":"IF(AZ423=5,G423,0)","v":0},null,null,null,null,null,null,null,null,null,null,null,null,null,null,null,null,null,null,null,null,null,1,1]
[null,null,"Položka obsahuje:",null,null,null,null,null,null,null,null,"Položka obsahuje:",null,null,3]
[null,null," osazení prefabrikovaného betonového prstence do rychletuhnoucí vysokopevnostní malty (s dodávkou hmot)",null,null,null,null,null,null,null,null,"- osazení prefabrikovaného betonového prstence do rychletuhnoucí malty (s dodávkou hmot)",null,null,3]
[null,null,"- zalití prstence rychletuhnoucí zálivkou do výše prstence (s dodávkou hmoty)",null,null,null,null,null,null,null,null,"- zalití prstence rychletuhnoucí zálivkou do výše prstence (s dodávkou hmoty)",null,null,3]
[null,null,"- vložení kruhového bednění",null,null,null,null,null,null,null,null,"- vložení kruhového bednění",null,null,3]
[null,null,"- doplnění mezikruží asfaltovou směsí do výšky současné podkladní vrstvy, zhutnění",null,null,null,null,null,null,null,null,"- doplnění mezikruží asfaltovou směsí do výšky současné podkladní vrstvy, zhutnění",null,null,3]
[null,null,"- vyjmutí kruhového bednění",null,null,null,null,null,null,null,null,"- vyjmutí kruhového bednění",null,null,3]
[null,null,"- osazení poklopu a zatlačení",null,null,null,null,null,null,null,null,"- osazení poklopu a zatlačení",null,null,3]
[null,null,"  (následuje pokládka finální vrstvy vozovky - není součástí položky)",null,null,null,null,null,null,null,null,"  (následuje pokládka finální vrstvy vozovky - není součástí položky)",null,null,3]
[null,null,"- povytažení poklopu",null,null,null,null,null,null,null,null,"- povytažení poklopu",null,null,3]
[null,null,"- podsyp asfaltovou směsí, spuštění poklopu a zhutnění směsi",null,null,null,null,null,null,null,null,"- podsyp asfaltovou směsí, spuštění poklopu a zhutnění směsi",null,null,3]
[null,null,"Položka neobsahuje:",null,null,null,null,null,null,null,null,"Položka neobsahuje:",null,null,3]
[null,null,"- dodávku samonivelačního poklopu - oceňuje se ve specifikaci",null,null,null,null,null,null,null,null,"- dodávku samonivelačního poklopu - oceňuje se ve specifikaci",null,null,3]
[null,null,"- pokládku krycí vrstvy komunikace, oceňuje se samostatně",null,null,null,null,null,null,null,null,"- pokládku krycí vrstvy komunikace, oceňuje se samostatně",null,null,3]
[null,null,"Výtlačný řad \"A\" PE D140x12,7 mm:",null,0,null,null,null,null,null,null,null,"Výtlačný řad \"A\" PE D140x12,7 mm:"]
[null,null,"Pro Proplachovací souprava DN80/1,5:2",null,2,null,null,null,null,null,null,null,"Pro Proplachovací souprava DN80/1,5:2"]
[84,"422913521.R","Poklop litinový samonivelační šoupátkový D400","kus",4,null,{"$f":"E439*F439","v":0},1.2E-2,{"$f":"E439*H439","v":4.8000000000000001E-2},null,{"$f":"E439*J439","v":0},null,null,null,2,null,null,null,null,null,null,null,null,null,null,null,3,1,"422913521.R",null,null,null,null,null,null,null,null,null,null,null,null,null,null,null,null,null,null,null,null,null,null,1,{"$f":"IF(AZ439=1,G439,0)","v":0},{"$f":"IF(AZ439=2,G439,0)","v":0},{"$f":"IF(AZ439=3,G439,0)","v":0},{"$f":"IF(AZ439=4,G439,0)","v":0},{"$f":"IF(AZ439=5,G439,0)","v":0},null,null,null,null,null,null,null,null,null,null,null,null,null,null,null,null,null,null,null,null,null,3,1]
[null,null,"Uliční samonivelační šoupátkový poklop z tvárné litiny dle ČSN EN 124",null,null,null,null,null,null,null,null,"Uliční samonivelační šoupátkový poklop z tvárné litiny dle ČSN EN 124",null,null,3]
[null,null,"Rozpětí stavební výšky 195 - 285 mm s fixací polohy",null,null,null,null,null,null,null,null,"Rozpětí stavební výšky 195 - 285 mm s fixací polohy",null,null,3]
[null,null,"Výklopové víko spojeno s rámem čepem a opatřeno ochrannou a těsnící vrstvou proti vnikání nečistot",null,null,null,null,null,null,null,null,"Výklopové víko spojeno s rámem čepem a opatřeno ochrannou a těsnící vrstvou proti vnikání nečistot",null,null,3]
[null,null,"Tlumicí vložka z elastomeru a PUR",null,null,null,null,null,null,null,null,"Tlumicí vložka z elastomeru a PUR",null,null,3]
[null,null,"Možnost vlastního loga a barevného provedení",null,null,null,null,null,null,null,null,"Možnost vlastního loga a barevného provedení",null,null,3]
[null,null,"Výtlačný řad \"A\" PE D140x12,7 mm:",null,0,null,null,null,null,null,null,null,"Výtlačný řad \"A\" PE D140x12,7 mm:"]
[null,null,"Pro Šoupě DN80:4",null,4,null,null,null,null,null,null,null,"Pro Šoupě DN80:4"]
[85,"422914522.R","Poklop litinový hydrantový samonivelační D400","kus",2,null,{"$f":"E447*F447","v":0},2.4E-2,{"$f":"E447*H447","v":4.8000000000000001E-2},null,{"$f":"E447*J447","v":0},null,null,null,2,null,null,null,null,null,null,null,null,null,null,null,3,1,"422914522.R",null,null,null,null,null,null,null,null,null,null,null,null,null,null,null,null,null,null,null,null,null,null,1,{"$f":"IF(AZ447=1,G447,0)","v":0},{"$f":"IF(AZ447=2,G447,0)","v":0},{"$f":"IF(AZ447=3,G447,0)","v":0},{"$f":"IF(AZ447=4,G447,0)","v":0},{"$f":"IF(AZ447=5,G447,0)","v":0},null,null,null,null,null,null,null,null,null,null,null,null,null,null,null,null,null,null,null,null,null,3,1]
[null,null,"Uliční samonivelační hydrantový poklop z tvárné litiny dle ČSN EN 124",null,null,null,null,null,null,null,null,"Uliční samonivelační hydrantový poklop z tvárné litiny dle ČSN EN 124",null,null,3]
[null,null,"Rozpětí stavební výšky 200 - 285 mm s fixací polohy",null,null,null,null,null,null,null,null,"Rozpětí stavební výšky 200 - 285 mm s fixací polohy",null,null,3]
[null,null,"Výklopové víko spojeno s rámem čepem a opatřeno ochrannou a těsnící vrstvou proti vnikání nečistot",null,null,null,null,null,null,null,null,"Výklopové víko spojeno s rámem čepem a opatřeno ochrannou a těsnící vrstvou proti vnikání nečistot",null,null,3]
[null,null,"Tlumicí vložka z elastomeru a PUR",null,null,null,null,null,null,null,null,"Tlumicí vložka z elastomeru a PUR",null,null,3]
[null,null,"Možnost vlastního loga a barevného provedení",null,null,null,null,null,null,null,null,"Možnost vlastního loga a barevného provedení",null,null,3]
[null,null,"Výtlačný řad \"A\" PE D140x12,7 mm:",null,0,null,null,null,null,null,null,null,"Výtlačný řad \"A\" PE D140x12,7 mm:"]
[null,null,"Pro Proplachovací souprava DN80/1,5:2",null,2,null,null,null,null,null,null,null,"Pro Proplachovací souprava DN80/1,5:2"]
[86,"55244414.R","Poklop celolitinový v samonivelační rámu KDM65 D400 SN600","kus",4,null,{"$f":"E455*F455","v":0},0.113,{"$f":"E455*H455","v":0.45200000000000001},null,{"$f":"E455*J455","v":0},null,null,null,2,null,null,null,null,null,null,null,null,null,null,null,3,1,"55244414.R",null,null,null,null,null,null,null,null,null,null,null,null,null,null,null,null,null,null,null,null,null,null,1,{"$f":"IF(AZ455=1,G455,0)","v":0},{"$f":"IF(AZ455=2,G455,0)","v":0},{"$f":"IF(AZ455=3,G455,0)","v":0},{"$f":"IF(AZ455=4,G455,0)","v":0},{"$f":"IF(AZ455=5,G455,0)","v":0},null,null,null,null,null,null,null,null,null,null,null,null,null,null,null,null,null,null,null,null,null,3,1]
[null,null,"Kanalizační kruhový celolitinový samonivelační poklop bez pantu, horizontální PUR tlumící vložka na rámu, horizontální a vertikální  PUR tlumící vložka na víku, bez pružinového zajištění víka v rámu ",null,null,null,null,null,null,null,null,"Kanalizační kruhový celolitinový samonivelační poklop bez pantu, horizontální PUR tlumící vložka na rámu, horizontální a vertikální  PUR tlumící vložka na víku, bez pružinového zajištění víka v rámu ",null,null,3]
[null,null,"KDM65 bez ventilace nebo s ventilací dle TS VHS Turnov",null,null,null,null,null,null,null,null,"KDM65 bez ventilace nebo s ventilací dle TS VHS Turnov",null,null,3]
[null,null,"Víko se znakem Města ",null,null,null,null,null,null,null,null,"Víko se znakem Města ",null,null,3]
[null,null,"Výtlačný řad \"A\" PE D140x12,7 mm:",null,0,null,null,null,null,null,null,null,"Výtlačný řad \"A\" PE D140x12,7 mm:"]
[null,null,"Vzdušníková šachta:",null,0,null,null,null,null,null,null,null,"Vzdušníková šachta:"]
[null,null,"Poklop :2",null,2,null,null,null,null,null,null,null,"Poklop :2"]
[null,null,"Šachta UV-A a KŠ:",null,0,null,null,null,null,null,null,null,"Šachta UV-A a KŠ:"]
[null,null,"Poklop:2",null,2,null,null,null,null,null,null,null,"Poklop:2"]
[null,"Celkem za","93 Dokončovací práce inženýrských staveb",null,null,null,{"$f":"SUM(G390:G463)","v":0},null,{"$f":"SUM(I390:I463)","v":1.5115000000000001},null,{"$f":"SUM(K390:K463)","v":0},null,null,null,4,null,null,null,null,null,null,null,null,null,null,null,null,null,null,null,null,null,null,null,null,null,null,null,null,null,null,null,null,null,null,null,null,null,null,null,null,null,{"$f":"SUM(BA390:BA463)","v":0},{"$f":"SUM(BB390:BB463)","v":0},{"$f":"SUM(BC390:BC463)","v":0},{"$f":"SUM(BD390:BD463)","v":0},{"$f":"SUM(BE390:BE463)","v":0}]
["Díl:","99","Staveništní přesun hmot",null,null,null,null,null,null,null,null,null,null,null,1]
[87,"998276101RXX","Přesun hmot, trubní vedení plastová, otevř. výkop pro celý rozsah objektu","t",2480.0028552660001,null,{"$f":"E466*F466","v":0},0,{"$f":"E466*H466","v":0},null,{"$f":"E466*J466","v":0},null,null,null,2,null,null,null,null,null,null,null,null,null,null,null,7,1,2,null,null,null,null,null,null,null,null,null,null,null,null,null,null,null,null,null,null,null,null,null,null,1,{"$f":"IF(AZ466=1,G466,0)","v":0},{"$f":"IF(AZ466=2,G466,0)","v":0},{"$f":"IF(AZ466=3,G466,0)","v":0},{"$f":"IF(AZ466=4,G466,0)","v":0},{"$f":"IF(AZ466=5,G466,0)","v":0},null,null,null,null,null,null,null,null,null,null,null,null,null,null,null,null,null,null,null,null,null,7,1]
[null,null,"Staveništní doprava pro celý rozsah objektu - doprava zmeziskládek vybudovaného zařízení staveniště zhotovitele na jednotlivé části staveniště.",null,null,null,null,null,null,null,null,"Staveništní doprava pro celý rozsah objektu - doprava zmeziskládek vybudovaného zařízení staveniště zhotovitele na jednotlivé části staveniště.",null,null,3]
[null,"Celkem za","99 Staveništní přesun hmot",null,null,null,{"$f":"SUM(G465:G467)","v":0},null,{"$f":"SUM(I465:I467)","v":0},null,{"$f":"SUM(K465:K467)","v":0},null,null,null,4,null,null,null,null,null,null,null,null,null,null,null,null,null,null,null,null,null,null,null,null,null,null,null,null,null,null,null,null,null,null,null,null,null,null,null,null,null,{"$f":"SUM(BA465:BA467)","v":0},{"$f":"SUM(BB465:BB467)","v":0},{"$f":"SUM(BC465:BC467)","v":0},{"$f":"SUM(BD465:BD467)","v":0},{"$f":"SUM(BE465:BE467)","v":0}]

{"sheet":"05 05.01 KL","index":41,"n_rows":45,"n_cols":8,"rows_kept":45,"cut":false,"hidden":false,"merged":[[22,0,22,1],[7,2,7,4],[8,2,8,4],[9,2,9,4],[10,2,10,4],[11,2,11,4],[50,1,50,6],[29,5,29,6],[30,5,30,6],[31,5,31,6],[32,5,32,6],[33,5,33,6],[36,1,44,6],[45,1,45,6],[46,1,46,6],[47,1,47,6],[48,1,48,6],[49,1,49,6]]}
["POLOŽKOVÝ ROZPOČET"]
["Rozpočet",null,"05.01","Přeložky vodovodu \"V1, V3 a V4\"",null,"JKSO ","827.13"]
[]
["Objekt",null,null,null,null,"SKP "]
["05",null,"Přeložky vodovodu",null,null,"Měrná jednotka","m"]
["Stavba",null,null,null,null,"Počet jednotek",0]
["3395",null,"Kanalizace a ČOV Benešov u Semil",null,null,"Náklady na m.j.",{"$f":"IF(G6=0,,ROUND((F30+F32)/G6,1))","v":0}]
["Projektant",null,"Vodohospodářský rozvoj a výstavba a.s.",null,null,"Typ rozpočtu"]
["Zpracovatel projektu"]
["Objednatel",null,"Vodohospodářské sdružení Turnov"]
["Dodavatel",null,".",null,null,"Zakázkové číslo "]
["Rozpočtoval",null,null,null,null,"Počet listů"]
["ROZPOČTOVÉ NÁKLADY"]
["Základní rozpočtové náklady"]
[null,"HSV celkem",{"$f":"'05 05.01 Rek'!E13","v":0}]
["Z","PSV celkem",{"$f":"'05 05.01 Rek'!F13","v":0}]
["R","M práce celkem",{"$f":"'05 05.01 Rek'!H13","v":0}]
["N","M dodávky celkem",{"$f":"'05 05.01 Rek'!G13","v":0}]
["ZRN celkem",null,{"$f":"SUM(C15:C18)","v":0}]
[]
["HZS",null,{"$f":"'05 05.01 Rek'!I13","v":0}]
["ZRN+HZS",null,{"$f":"C19+C21","v":0}]
["ZRN+ost.náklady+HZS",null,{"$f":"C22+G23","v":0}]
["Vypracoval",null,null,"Za zhotovitele",null,"Za objednatele"]
["Jméno :",null,null,"Jméno :",null,"Jméno :"]
["Datum :",null,null,"Datum :",null,"Datum :"]
[]
["Podpis :",null,null,"Podpis:",null,"Podpis:"]
[]
["Základ pro DPH",null,21,"%  ",null,{"$f":"C23-F32","v":0}]
["DPH",null,{"$f":"C30","v":21},"% ",null,{"$f":"ROUND(PRODUCT(F30,C31/100),0)","v":0}]
["Základ pro DPH",null,0,"% ",null,0]
["DPH",null,{"$f":"C32","v":0},"% ",null,{"$f":"ROUND(PRODUCT(F32,C33/100),0)","v":0}]
["CENA ZA OBJEKT CELKEM",null,null,null,null,{"$f":"ROUND(SUM(F30:F33),0)","v":0}]
[]
["Poznámka :",null,null,null,null,null,null," "]
[null,null,null,null,null,null,null," "]
[null,null,null,null,null,null,null," "]
[null,null,null,null,null,null,null," "]
[null,null,null,null,null,null,null," "]
[null,null,null,null,null,null,null," "]
[null,null,null,null,null,null,null," "]
[null,null,null,null,null,null,null," "]
[null,null,null,null,null,null,null," "]
[null,null,null,null,null,null,null," "]

{"sheet":"05 05.01 Rek","index":42,"n_rows":13,"n_cols":9,"rows_kept":13,"cut":false,"hidden":false,"merged":[[0,0,0,1],[1,0,1,1],[1,6,1,8]]}
["Stavba :",null,"3395 Kanalizace a ČOV Benešov u Semil",null,null,null,"Rozpočet :","05.01"]
["Objekt :",null,"05 Přeložky vodovodu",null,null,null,"Přeložky vodovodu \"V1, V3 a V4\""]
[]
["REKAPITULACE  STAVEBNÍCH  DÍLŮ"]
[]
[null,"Stavební díl",null,null,"HSV","PSV","Dodávka","Montáž","HZS"]
[{"$f":"'05 05.01 Pol'!B7","v":"1"},{"$f":"'05 05.01 Pol'!C7","v":"Zemní práce"},null,null,{"$f":"'05 05.01 Pol'!BA152","v":0},{"$f":"'05 05.01 Pol'!BB152","v":0},{"$f":"'05 05.01 Pol'!BC152","v":0},{"$f":"'05 05.01 Pol'!BD152","v":0},{"$f":"'05 05.01 Pol'!BE152","v":0}]
[{"$f":"'05 05.01 Pol'!B153","v":"45"},{"$f":"'05 05.01 Pol'!C153","v":"Podkladní a vedlejší konstrukce"},null,null,{"$f":"'05 05.01 Pol'!BA161","v":0},{"$f":"'05 05.01 Pol'!BB161","v":0},{"$f":"'05 05.01 Pol'!BC161","v":0},{"$f":"'05 05.01 Pol'!BD161","v":0},{"$f":"'05 05.01 Pol'!BE161","v":0}]
[{"$f":"'05 05.01 Pol'!B162","v":"5"},{"$f":"'05 05.01 Pol'!C162","v":"Komunikace"},null,null,{"$f":"'05 05.01 Pol'!BA170","v":0},{"$f":"'05 05.01 Pol'!BB170","v":0},{"$f":"'05 05.01 Pol'!BC170","v":0},{"$f":"'05 05.01 Pol'!BD170","v":0},{"$f":"'05 05.01 Pol'!BE170","v":0}]
[{"$f":"'05 05.01 Pol'!B171","v":"8"},{"$f":"'05 05.01 Pol'!C171","v":"Trubní vedení"},null,null,{"$f":"SUM('05 05.01 Pol'!G691)","v":0},{"$f":"'05 05.01 Pol'!BB691","v":0},{"$f":"'05 05.01 Pol'!BC691","v":0},{"$f":"'05 05.01 Pol'!BD691","v":0},{"$f":"'05 05.01 Pol'!BE691","v":0}]
[{"$f":"'05 05.01 Pol'!B692","v":"93"},{"$f":"'05 05.01 Pol'!C692","v":"Dokončovací práce inženýrských staveb"},null,null,{"$f":"'05 05.01 Pol'!BA768","v":0},{"$f":"'05 05.01 Pol'!BB768","v":0},{"$f":"'05 05.01 Pol'!BC768","v":0},{"$f":"'05 05.01 Pol'!BD768","v":0},{"$f":"'05 05.01 Pol'!BE768","v":0}]
[{"$f":"'05 05.01 Pol'!B769","v":"99"},{"$f":"'05 05.01 Pol'!C769","v":"Staveništní přesun hmot"},null,null,{"$f":"'05 05.01 Pol'!BA772","v":0},{"$f":"'05 05.01 Pol'!BB772","v":0},{"$f":"'05 05.01 Pol'!BC772","v":0},{"$f":"'05 05.01 Pol'!BD772","v":0},{"$f":"'05 05.01 Pol'!BE772","v":0}]
[null,"CELKEM  OBJEKT",null,null,{"$f":"SUM(E7:E12)","v":0},{"$f":"SUM(F7:F12)","v":0},{"$f":"SUM(G7:G12)","v":0},{"$f":"SUM(H7:H12)","v":0},{"$f":"SUM(I7:I12)","v":0}]

{"sheet":"05 05.01 Pol","index":43,"n_rows":772,"n_cols":80,"rows_kept":772,"cut":false,"hidden":false,"merged":[[12,2,12,3],[13,2,13,3],[14,2,14,3],[16,2,16,6],[17,2,17,3],[18,2,18,3],[0,0,0,6],[2,0,2,1],[3,0,3,1],[3,4,3,6],[8,2,8,6],[9,2,9,6],[10,2,10,3],[11,2,11,3],[25,2,25,3],[26,2,26,3],[27,2,27,3],[28,2,28,3],[29,2,29,3],[30,2,30,3],[19,2,19,3],[20,2,20,3],[21,2,21,3],[22,2,22,3],[23,2,23,3],[24,2,24,3],[38,2,38,3],[39,2,39,3],[40,2,40,3],[42,2,42,6],[43,2,43,3],[44,2,44,3],[31,2,31,3],[32,2,32,3],[33,2,33,3],[34,2,34,3],[36,2,36,3],[37,2,37,3],[52,2,52,3],[53,2,53,3],[55,2,55,6],[56,2,56,3],[57,2,57,3],[58,2,58,3],[45,2,45,3],[46,2,46,3],[47,2,47,3],[49,2,49,3],[50,2,50,3],[51,2,51,3],[66,2,66,6],[67,2,67,6],[68,2,68,6],[69,2,69,6],[70,2,70,6],[71,2,71,3],[59,2,59,3],[60,2,60,3],[62,2,62,6],[63,2,63,6],[64,2,64,6],[65,2,65,6],[79,2,79,3],[80,2,80,3],[81,2,81,3],[82,2,82,3],[83,2,83,3],[84,2,84,3],[73,2,73,3],[74,2,74,3],[75,2,75,3],[76,2,76,3],[77,2,77,3],[78,2,78,3],[92,2,92,3],[93,2,93,3],[94,2,94,3],[95,2,95,3],[96,2,96,3],[97,2,97,3],[86,2,86,3],[87,2,87,3],[88,2,88,3],[89,2,89,3],[90,2,90,3],[91,2,91,3],[106,2,106,6],[107,2,107,3],[108,2,108,3],[109,2,109,3],[110,2,110,3],[111,2,111,3],[99,2,99,3],[100,2,100,3],[101,2,101,3],[102,2,102,3],[103,2,103,3],[105,2,105,6],[118,2,118,3],[119,2,119,3],[120,2,120,3],[121,2,121,3],[122,2,122,3],[123,2,123,3],[112,2,112,3],[113,2,113,3],[114,2,114,3],[115,2,115,3],[116,2,116,3],[117,2,117,3],[131,2,131,3],[132,2,132,3],[133,2,133,3],[135,2,135,3],[136,2,136,3],[137,2,137,3],[124,2,124,3],[125,2,125,3],[126,2,126,3],[127,2,127,3],[129,2,129,3],[130,2,130,3],[145,2,145,3],[147,2,147,3],[148,2,148,3],[149,2,149,3],[150,2,150,3],[138,2,138,3],[139,2,139,3],[141,2,141,3],[142,2,142,3],[143,2,143,3],[144,2,144,3],[163,2,163,3],[164,2,164,3],[165,2,165,3],[166,2,166,3],[167,2,167,3],[168,2,168,3],[154,2,154,3],[155,2,155,3],[156,2,156,3],[157,2,157,3],[158,2,158,3],[180,2,180,3],[181,2,181,3],[183,2,183,6],[184,2,184,6],[185,2,185,6],[186,2,186,6],[172,2,172,6],[173,2,173,6],[174,2,174,6],[175,2,175,6],[176,2,176,6],[177,2,177,6],[178,2,178,6],[179,2,179,6],[193,2,193,3],[194,2,194,3],[195,2,195,3],[196,2,196,3],[198,2,198,6],[199,2,199,6],[187,2,187,6],[188,2,188,6],[189,2,189,6],[190,2,190,6],[191,2,191,3],[192,2,192,3],[206,2,206,3],[207,2,207,3],[209,2,209,3],[211,2,211,6],[212,2,212,6],[213,2,213,3],[200,2,200,6],[201,2,201,6],[202,2,202,6],[203,2,203,6],[204,2,204,6],[205,2,205,6],[221,2,221,6],[222,2,222,6],[223,2,223,3],[224,2,224,3],[225,2,225,3],[226,2,226,3],[214,2,214,3],[215,2,215,3],[216,2,216,3],[217,2,217,3],[218,2,218,3],[219,2,219,3],[234,2,234,3],[235,2,235,3],[236,2,236,3],[237,2,237,3],[238,2,238,3],[239,2,239,3],[228,2,228,6],[229,2,229,6],[230,2,230,3],[231,2,231,3],[232,2,232,3],[233,2,233,3],[247,2,247,3],[248,2,248,3],[250,2,250,6],[251,2,251,6],[252,2,252,3],[253,2,253,3],[240,2,240,3],[242,2,242,6],[243,2,243,6],[244,2,244,3],[245,2,245,3],[246,2,246,3],[261,2,261,3],[262,2,262,3],[263,2,263,3],[264,2,264,3],[266,2,266,6],[267,2,267,3],[254,2,254,3],[255,2,255,3],[256,2,256,3],[257,2,257,3],[259,2,259,6],[260,2,260,6],[276,2,276,3],[278,2,278,6],[279,2,279,3],[280,2,280,3],[282,2,282,3],[283,2,283,3],[268,2,268,3],[269,2,269,3],[271,2,271,6],[272,2,272,3],[274,2,274,6],[275,2,275,3],[292,2,292,3],[293,2,293,3],[295,2,295,6],[296,2,296,6],[297,2,297,3],[298,2,298,3],[285,2,285,3],[286,2,286,3],[287,2,287,3],[288,2,288,3],[289,2,289,3],[291,2,291,3],[307,2,307,6],[308,2,308,6],[309,2,309,3],[310,2,310,3],[311,2,311,3],[312,2,312,3],[300,2,300,6],[301,2,301,6],[302,2,302,3],[303,2,303,3],[304,2,304,3],[305,2,305,3],[321,2,321,3],[322,2,322,3],[324,2,324,3],[325,2,325,3],[326,2,326,3],[327,2,327,3],[314,2,314,3],[315,2,315,3],[317,2,317,6],[318,2,318,6],[319,2,319,3],[320,2,320,3],[336,2,336,6],[337,2,337,3],[338,2,338,3],[339,2,339,3],[340,2,340,3],[342,2,342,6],[329,2,329,6],[330,2,330,6],[331,2,331,3],[332,2,332,3],[333,2,333,3],[334,2,334,3],[350,2,350,3],[352,2,352,6],[353,2,353,3],[354,2,354,3],[356,2,356,6],[357,2,357,3],[343,2,343,3],[344,2,344,3],[345,2,345,3],[346,2,346,3],[348,2,348,6],[349,2,349,3],[364,2,364,3],[365,2,365,3],[366,2,366,3],[368,2,368,3],[369,2,369,3],[370,2,370,3],[358,2,358,3],[359,2,359,3],[360,2,360,3],[361,2,361,3],[362,2,362,3],[363,2,363,3],[378,2,378,3],[379,2,379,3],[380,2,380,3],[381,2,381,3],[382,2,382,3],[383,2,383,3],[371,2,371,3],[372,2,372,3],[374,2,374,6],[375,2,375,3],[376,2,376,3],[377,2,377,3],[384,2,384,3],[385,2,385,3],[386,2,386,3],[387,2,387,3],[409,2,409,3],[410,2,410,3],[389,2,389,6],[390,2,390,6],[391,2,391,6],[392,2,392,6],[393,2,393,6],[394,2,394,6],[395,2,395,6],[396,2,396,6],[397,2,397,6],[399,2,399,6],[400,2,400,6],[401,2,401,6],[420,2,420,6],[421,2,421,6],[422,2,422,6],[423,2,423,6],[424,2,424,6],[425,2,425,3],[412,2,412,3],[413,2,413,3],[415,2,415,3],[416,2,416,3],[417,2,417,3],[418,2,418,3],[434,2,434,6],[435,2,435,6],[436,2,436,6],[437,2,437,6],[438,2,438,6],[439,2,439,3],[427,2,427,6],[428,2,428,6],[429,2,429,6],[430,2,430,6],[431,2,431,6],[432,2,432,3],[447,2,447,3],[448,2,448,3],[450,2,450,3],[451,2,451,3],[453,2,453,3],[454,2,454,3],[440,2,440,3],[442,2,442,6],[443,2,443,6],[444,2,444,6],[445,2,445,6],[446,2,446,6],[463,2,463,3],[465,2,465,3],[466,2,466,3],[467,2,467,3],[469,2,469,3],[470,2,470,3],[455,2,455,3],[457,2,457,3],[458,2,458,3],[459,2,459,3],[461,2,461,3],[462,2,462,3],[479,2,479,3],[480,2,480,3],[481,2,481,3],[482,2,482,3],[484,2,484,3],[485,2,485,3],[471,2,471,3],[472,2,472,3],[474,2,474,3],[475,2,475,3],[476,2,476,3],[477,2,477,3],[494,2,494,3],[495,2,495,3],[497,2,497,3],[498,2,498,3],[499,2,499,3],[500,2,500,3],[487,2,487,6],[488,2,488,3],[489,2,489,3],[491,2,491,6],[492,2,492,6],[493,2,493,6],[508,2,508,3],[509,2,509,3],[510,2,510,3],[511,2,511,3],[513,2,513,6],[514,2,514,6],[502,2,502,6],[503,2,503,6],[504,2,504,6],[505,2,505,6],[506,2,506,6],[507,2,507,6],[521,2,521,3],[522,2,522,3],[524,2,524,6],[525,2,525,6],[526,2,526,6],[527,2,527,6],[515,2,515,6],[516,2,516,6],[517,2,517,6],[518,2,518,6],[519,2,519,3],[520,2,520,3],[535,2,535,3],[536,2,536,3],[537,2,537,3],[538,2,538,3],[540,2,540,3],[541,2,541,3],[528,2,528,6],[529,2,529,6],[530,2,530,3],[531,2,531,3],[532,2,532,3],[533,2,533,3],[549,2,549,3],[551,2,551,3],[552,2,552,3],[553,2,553,3],[554,2,554,3],[556,2,556,6],[542,2,542,3],[543,2,543,3],[544,2,544,3],[546,2,546,3],[547,2,547,3],[548,2,548,3],[563,2,563,6],[564,2,564,6],[565,2,565,6],[566,2,566,6],[567,2,567,6],[568,2,568,6],[557,2,557,6],[558,2,558,6],[559,2,559,6],[560,2,560,6],[561,2,561,6],[562,2,562,6],[575,2,575,6],[576,2,576,6],[577,2,577,3],[578,2,578,3],[579,2,579,3],[580,2,580,3],[569,2,569,6],[570,2,570,6],[571,2,571,6],[572,2,572,6],[573,2,573,6],[574,2,574,6],[588,2,588,6],[589,2,589,6],[590,2,590,6],[591,2,591,6],[592,2,592,6],[593,2,593,6],[582,2,582,6],[583,2,583,6],[584,2,584,6],[585,2,585,6],[586,2,586,6],[587,2,587,6],[601,2,601,6],[602,2,602,6],[603,2,603,6],[604,2,604,6],[605,2,605,6],[606,2,606,6],[594,2,594,6],[595,2,595,6],[596,2,596,3],[597,2,597,3],[598,2,598,3],[599,2,599,3],[613,2,613,6],[614,2,614,6],[615,2,615,3],[616,2,616,3],[617,2,617,3],[618,2,618,3],[607,2,607,6],[608,2,608,6],[609,2,609,6],[610,2,610,6],[611,2,611,6],[612,2,612,6],[626,2,626,6],[627,2,627,3],[629,2,629,3],[630,2,630,3],[631,2,631,3],[632,2,632,3],[620,2,620,6],[621,2,621,6],[622,2,622,6],[623,2,623,6],[624,2,624,6],[625,2,625,6],[642,2,642,3],[643,2,643,3],[645,2,645,3],[646,2,646,3],[647,2,647,3],[648,2,648,3],[634,2,634,3],[635,2,635,3],[637,2,637,3],[638,2,638,3],[640,2,640,3],[641,2,641,3],[657,2,657,3],[658,2,658,3],[660,2,660,3],[661,2,661,3],[662,2,662,3],[663,2,663,3],[650,2,650,3],[651,2,651,3],[652,2,652,3],[653,2,653,3],[655,2,655,3],[656,2,656,3],[672,2,672,3],[673,2,673,3],[675,2,675,3],[676,2,676,3],[677,2,677,3],[678,2,678,3],[665,2,665,3],[666,2,666,3],[667,2,667,3],[668,2,668,3],[670,2,670,3],[671,2,671,3],[687,2,687,3],[688,2,688,3],[693,2,693,6],[694,2,694,6],[695,2,695,6],[696,2,696,6],[697,2,697,6],[698,2,698,6],[680,2,680,3],[681,2,681,3],[682,2,682,3],[683,2,683,3],[685,2,685,3],[686,2,686,3],[705,2,705,6],[706,2,706,3],[707,2,707,3],[708,2,708,3],[709,2,709,3],[710,2,710,3],[699,2,699,6],[700,2,700,6],[701,2,701,6],[702,2,702,6],[703,2,703,6],[704,2,704,6],[718,2,718,6],[719,2,719,6],[720,2,720,6],[721,2,721,6],[722,2,722,6],[723,2,723,6],[711,2,711,3],[712,2,712,3],[713,2,713,3],[714,2,714,3],[716,2,716,6],[717,2,717,6],[734,2,734,6],[735,2,735,6],[736,2,736,6],[724,2,724,6],[725,2,725,6],[726,2,726,6],[727,2,727,6],[728,2,728,6],[729,2,729,3],[766,2,766,3],[770,2,770,6],[756,2,756,3],[758,2,758,6],[759,2,759,6],[760,2,760,6],[761,2,761,6],[762,2,762,6],[750,2,750,6],[751,2,751,3],[752,2,752,3],[753,2,753,3],[754,2,754,3],[755,2,755,3],[402,2,402,6],[403,2,403,6],[404,2,404,6],[405,2,405,6],[406,2,406,6],[407,2,407,6],[763,2,763,3],[764,2,764,3],[765,2,765,3],[743,2,743,3],[744,2,744,3],[746,2,746,6],[747,2,747,6],[748,2,748,6],[749,2,749,6],[737,2,737,6],[738,2,738,6],[739,2,739,3],[740,2,740,3],[741,2,741,3],[742,2,742,3],[730,2,730,3],[731,2,731,3],[732,2,732,3]]}
["Položkový rozpočet "]
[]
["Stavba :",null,"3395 Kanalizace a ČOV Benešov u Semil",null,"Rozpočet:",{"$f":"'05 05.01 Rek'!H1","v":"05.01"}]
["Objekt :",null,"05 Přeložky vodovodu",null,{"$f":"'05 05.01 Rek'!G2","v":"Přeložky vodovodu \"V1, V3 a V4\""}]
[]
["P.č.","Číslo položky","Název položky","MJ","množství","cena / MJ","celkem (Kč)","Jednotková hmotnost","Celková hmotnost","Jednotková dem.hmot.","Celková dem.hmot."]
["Díl:","1","Zemní práce",null,null,null,null,null,null,null,null,null,null,null,1]
[1,"130001101RRX","Příplatek za ztížené hloubení v blízkosti vedení ","m3",113.48,null,{"$f":"E8*F8","v":0},0,{"$f":"E8*H8","v":0},0,{"$f":"E8*J8","v":0},null,null,null,2,null,null,null,null,null,null,null,null,null,null,null,1,1,1,null,null,null,null,null,null,null,null,null,null,null,null,null,null,null,null,null,null,null,null,null,null,1,{"$f":"IF(AZ8=1,G8,0)","v":0},{"$f":"IF(AZ8=2,G8,0)","v":0},{"$f":"IF(AZ8=3,G8,0)","v":0},{"$f":"IF(AZ8=4,G8,0)","v":0},{"$f":"IF(AZ8=5,G8,0)","v":0},null,null,null,null,null,null,null,null,null,null,null,null,null,null,null,null,null,null,null,null,null,1,1]
[null,null,"Včetně případných nutných dokopávem a ručního výkopu podél sousedících inženýrských sítí.",null,null,null,null,null,null,null,null,"Včetně případných nutných dokopávem a ručního výkopu podél sousedících inženýrských sítí.",null,null,3]
[null,null,"Součástí položky je i dočasné zajištění inženýrských sítí v prostoru výkopů (potrubí, kabely a pod.)",null,null,null,null,null,null,null,null,"Součástí položky je i dočasné zajištění inženýrských sítí v prostoru výkopů (potrubí, kabely a pod.)",null,null,3]
[null,null,"Přeložka řadu \"V1\" TLT DN100:",null,0,null,null,null,null,null,null,null,"Přeložka řadu \"V1\" TLT DN100:"]
[null,null,"Přeložka řadu \"V3\" PE D110x10,0 mm a PE D160x14,6 mm:",null,0,null,null,null,null,null,null,null,"Přeložka řadu \"V3\" PE D110x10,0 mm a PE D160x14,6 mm:"]
[null,null,"Přeložka řadu \"V4\" PE D90x8,2 mm:",null,0,null,null,null,null,null,null,null,"Přeložka řadu \"V4\" PE D90x8,2 mm:"]
[null,null,"Výkopy:",null,0,null,null,null,null,null,null,null,"Výkopy:"]
[null,null,"V hornině tř. 3 - 5 - 16%:709,2497*0,16",null,113.48,null,null,null,null,null,null,null,"V hornině tř. 3 - 5 - 16%:709,2497*0,16"]
[2,"132201212R00","Hloubení rýh š.do 200 cm hor.3 do 1000m3,STROJNĚ ","m3",425.5498,null,{"$f":"E16*F16","v":0},0,{"$f":"E16*H16","v":0},0,{"$f":"E16*J16","v":0},null,null,null,2,null,null,null,null,null,null,null,null,null,null,null,1,1,1,null,null,null,null,null,null,null,null,null,null,null,null,null,null,null,null,null,null,null,null,null,null,1,{"$f":"IF(AZ16=1,G16,0)","v":0},{"$f":"IF(AZ16=2,G16,0)","v":0},{"$f":"IF(AZ16=3,G16,0)","v":0},{"$f":"IF(AZ16=4,G16,0)","v":0},{"$f":"IF(AZ16=5,G16,0)","v":0},null,null,null,null,null,null,null,null,null,null,null,null,null,null,null,null,null,null,null,null,null,1,1]
[null,null,"Položka obsahuje hloubení rýh traktorbagrem, naložení výkopku na dopravní prostředek pro svislé, nebo vodorovné přemístění, popř. přemístění výkopku do 3 m (po povrchu území), případné zajištění rypadel polštáři, udržování pracoviště a ochranu výkopiště proti stékání srážkové vody z okolního terénu i s jejím odvodněním, nebo odvedením, přesekání a odstranění kořenů ve výkopišti, odstranění napadávek, urovnání dna výkopu.",null,null,null,null,null,null,null,null,"Položka obsahuje hloubení rýh traktorbagrem, naložení výkopku na dopravní prostředek pro svislé, nebo vodorovné přemístění, popř. přemístění výkopku do 3 m (po povrchu území), případné zajištění rypadel polštáři, udržování pracoviště a ochranu výkopiště proti stékání srážkové vody z okolního terénu i s jejím odvodněním, nebo odvedením, přesekání a odstranění kořenů ve výkopišti, odstranění napadávek, urovnání dna výkopu.",null,null,3]
[null,null,"Přeložka řadu \"V1\" TLT DN100:",null,0,null,null,null,null,null,null,null,"Přeložka řadu \"V1\" TLT DN100:"]
[null,null,"Přeložka řadu \"V3\" PE D110x10,0 mm a PE D160x14,6 mm:",null,0,null,null,null,null,null,null,null,"Přeložka řadu \"V3\" PE D110x10,0 mm a PE D160x14,6 mm:"]
[null,null,"Přeložka řadu \"V4\" PE D90x8,2 mm:",null,0,null,null,null,null,null,null,null,"Přeložka řadu \"V4\" PE D90x8,2 mm:"]
[null,null,"Výkopy:",null,0,null,null,null,null,null,null,null,"Výkopy:"]
[null,null,"Začátek provozního součtu",null,0,null,null,null,null,null,null,null,"Začátek provozního součtu"]
[null,null,"Průměrná hloubka výkopu - 1,82 m:",null,0,null,null,null,null,null,null,null,"Průměrná hloubka výkopu - 1,82 m:"]
[null,null,"Přeložka řadu \"V1\" TLT DN100:348,15*0,90*1,82",null,570.26969999999994,null,null,null,null,null,null,null,"Přeložka řadu \"V1\" TLT DN100:348,15*0,90*1,82"]
[null,null,"Odpočet objemu konstrukce komunikace a chodníku:-348,15*0,90*0,40",null,-125.334,null,null,null,null,null,null,null,"Odpočet objemu konstrukce komunikace a chodníku:-348,15*0,90*0,40"]
[null,null,"Průměrná hloubka výkopu - 1,80 m:",null,0,null,null,null,null,null,null,null,"Průměrná hloubka výkopu - 1,80 m:"]
[null,null,"Přeložka řadu \"V3\" PE D110x10,0 mm a PE D160x14,6 mm:",null,0,null,null,null,null,null,null,null,"Přeložka řadu \"V3\" PE D110x10,0 mm a PE D160x14,6 mm:"]
[null,null,"PE D110x10,0 mm:186,60*0,80*1,80",null,268.70400000000001,null,null,null,null,null,null,null,"PE D110x10,0 mm:186,60*0,80*1,80"]
[null,null,"PE D160x14,6 mm:12,15*0,80*1,80",null,17.495999999999999,null,null,null,null,null,null,null,"PE D160x14,6 mm:12,15*0,80*1,80"]
[null,null,"Odpočet objemu konstrukce komunikace:-(186,60+12,15)*0,80*0,45",null,-71.55,null,null,null,null,null,null,null,"Odpočet objemu konstrukce komunikace:-(186,60+12,15)*0,80*0,45"]
[null,null,"Průměrná hloubka výkopu - 1,73 m:",null,0,null,null,null,null,null,null,null,"Průměrná hloubka výkopu - 1,73 m:"]
[null,null,"Přeložka řadu \"V4\" PE D90x8,2 mm:(94,00-45,50)*0,80*1,73",null,67.123999999999995,null,null,null,null,null,null,null,"Přeložka řadu \"V4\" PE D90x8,2 mm:(94,00-45,50)*0,80*1,73"]
[null,null,"Odpočet objemu konstrukce komunikace:-(94,00-45,50)*0,80*0,45",null,-17.46,null,null,null,null,null,null,null,"Odpočet objemu konstrukce komunikace:-(94,00-45,50)*0,80*0,45"]
[null,null,"Konec provozního součtu",null,709.24969999999996,null,null,null,null,null,null,null,"Konec provozního součtu"]
[null,null,"V hornině tř. 3 - 60%:709,2497*0,6",null,425.5498,null,null,null,null,null,null,null,"V hornině tř. 3 - 60%:709,2497*0,6"]
[3,"132201219R00","Přípl.za lepivost,hloubení rýh 200cm,hor.3,STROJNĚ ","m3",212.7749,null,{"$f":"E36*F36","v":0},0,{"$f":"E36*H36","v":0},0,{"$f":"E36*J36","v":0},null,null,null,2,null,null,null,null,null,null,null,null,null,null,null,1,1,1,null,null,null,null,null,null,null,null,null,null,null,null,null,null,null,null,null,null,null,null,null,null,1,{"$f":"IF(AZ36=1,G36,0)","v":0},{"$f":"IF(AZ36=2,G36,0)","v":0},{"$f":"IF(AZ36=3,G36,0)","v":0},{"$f":"IF(AZ36=4,G36,0)","v":0},{"$f":"IF(AZ36=5,G36,0)","v":0},null,null,null,null,null,null,null,null,null,null,null,null,null,null,null,null,null,null,null,null,null,1,1]
[null,null,"Přeložka řadu \"V1\" TLT DN100:",null,0,null,null,null,null,null,null,null,"Přeložka řadu \"V1\" TLT DN100:"]
[null,null,"Přeložka řadu \"V3\" PE D110x10,0 mm a PE D160x14,6 mm:",null,0,null,null,null,null,null,null,null,"Přeložka řadu \"V3\" PE D110x10,0 mm a PE D160x14,6 mm:"]
[null,null,"Přeložka řadu \"V4\" PE D90x8,2 mm:",null,0,null,null,null,null,null,null,null,"Přeložka řadu \"V4\" PE D90x8,2 mm:"]
[null,null,"Výkopy:",null,0,null,null,null,null,null,null,null,"Výkopy:"]
[null,null,"V hornině tř. 3 - 60%:709,2497*0,6*0,5",null,212.7749,null,null,null,null,null,null,null,"V hornině tř. 3 - 60%:709,2497*0,6*0,5"]
[4,"132301212R00","Hloubení rýh š.do 200 cm hor.4 do 1000 m3, STROJNĚ ","m3",212.7749,null,{"$f":"E42*F42","v":0},0,{"$f":"E42*H42","v":0},0,{"$f":"E42*J42","v":0},null,null,null,2,null,null,null,null,null,null,null,null,null,null,null,1,1,1,null,null,null,null,null,null,null,null,null,null,null,null,null,null,null,null,null,null,null,null,null,null,1,{"$f":"IF(AZ42=1,G42,0)","v":0},{"$f":"IF(AZ42=2,G42,0)","v":0},{"$f":"IF(AZ42=3,G42,0)","v":0},{"$f":"IF(AZ42=4,G42,0)","v":0},{"$f":"IF(AZ42=5,G42,0)","v":0},null,null,null,null,null,null,null,null,null,null,null,null,null,null,null,null,null,null,null,null,null,1,1]
[null,null,"Položka obsahuje hloubení rýh traktorbagrem, naložení výkopku na dopravní prostředek pro svislé, nebo vodorovné přemístění, popř. přemístění výkopku do 3 m (po povrchu území), případné zajištění rypadel polštáři, udržování pracoviště a ochranu výkopiště proti stékání srážkové vody z okolního terénu i s jejím odvodněním, nebo odvedením, přesekání a odstranění kořenů ve výkopišti, odstranění napadávek, urovnání dna výkopu.",null,null,null,null,null,null,null,null,"Položka obsahuje hloubení rýh traktorbagrem, naložení výkopku na dopravní prostředek pro svislé, nebo vodorovné přemístění, popř. přemístění výkopku do 3 m (po povrchu území), případné zajištění rypadel polštáři, udržování pracoviště a ochranu výkopiště proti stékání srážkové vody z okolního terénu i s jejím odvodněním, nebo odvedením, přesekání a odstranění kořenů ve výkopišti, odstranění napadávek, urovnání dna výkopu.",null,null,3]
[null,null,"Přeložka řadu \"V1\" TLT DN100:",null,0,null,null,null,null,null,null,null,"Přeložka řadu \"V1\" TLT DN100:"]
[null,null,"Přeložka řadu \"V3\" PE D110x10,0 mm a PE D160x14,6 mm:",null,0,null,null,null,null,null,null,null,"Přeložka řadu \"V3\" PE D110x10,0 mm a PE D160x14,6 mm:"]
[null,null,"Přeložka řadu \"V4\" PE D90x8,2 mm:",null,0,null,null,null,null,null,null,null,"Přeložka řadu \"V4\" PE D90x8,2 mm:"]
[null,null,"Výkopy:",null,0,null,null,null,null,null,null,null,"Výkopy:"]
[null,null,"V hornině tř. 4 - 30%:709,2497*0,3",null,212.7749,null,null,null,null,null,null,null,"V hornině tř. 4 - 30%:709,2497*0,3"]
[5,"132301219R00","Přípl.za lepivost,hloubení rýh 200cm,hor.4,STROJNĚ ","m3",106.3875,null,{"$f":"E49*F49","v":0},0,{"$f":"E49*H49","v":0},0,{"$f":"E49*J49","v":0},null,null,null,2,null,null,null,null,null,null,null,null,null,null,null,1,1,1,null,null,null,null,null,null,null,null,null,null,null,null,null,null,null,null,null,null,null,null,null,null,1,{"$f":"IF(AZ49=1,G49,0)","v":0},{"$f":"IF(AZ49=2,G49,0)","v":0},{"$f":"IF(AZ49=3,G49,0)","v":0},{"$f":"IF(AZ49=4,G49,0)","v":0},{"$f":"IF(AZ49=5,G49,0)","v":0},null,null,null,null,null,null,null,null,null,null,null,null,null,null,null,null,null,null,null,null,null,1,1]
[null,null,"Přeložka řadu \"V1\" TLT DN100:",null,0,null,null,null,null,null,null,null,"Přeložka řadu \"V1\" TLT DN100:"]
[null,null,"Přeložka řadu \"V3\" PE D110x10,0 mm a PE D160x14,6 mm:",null,0,null,null,null,null,null,null,null,"Přeložka řadu \"V3\" PE D110x10,0 mm a PE D160x14,6 mm:"]
[null,null,"Přeložka řadu \"V4\" PE D90x8,2 mm:",null,0,null,null,null,null,null,null,null,"Přeložka řadu \"V4\" PE D90x8,2 mm:"]
[null,null,"Výkopy:",null,0,null,null,null,null,null,null,null,"Výkopy:"]
[null,null,"V hornině tř. 4 - 30%:709,2497*0,3*0,5",null,106.3875,null,null,null,null,null,null,null,"V hornině tř. 4 - 30%:709,2497*0,3*0,5"]
[6,"132401211RRX","Hloubení rýh šířky do 200 cm v hor.5 STROJNĚ včetně případného dolamování ve vrstvě do 0,5 m","m3",70.924999999999997,null,{"$f":"E55*F55","v":0},1.0410000000000001E-2,{"$f":"E55*H55","v":0.73832925000000005},0,{"$f":"E55*J55","v":0},null,null,null,2,null,null,null,null,null,null,null,null,null,null,null,1,1,1,null,null,null,null,null,null,null,null,null,null,null,null,null,null,null,null,null,null,null,null,null,null,1,{"$f":"IF(AZ55=1,G55,0)","v":0},{"$f":"IF(AZ55=2,G55,0)","v":0},{"$f":"IF(AZ55=3,G55,0)","v":0},{"$f":"IF(AZ55=4,G55,0)","v":0},{"$f":"IF(AZ55=5,G55,0)","v":0},null,null,null,null,null,null,null,null,null,null,null,null,null,null,null,null,null,null,null,null,null,1,1]
[null,null,"Položka obsahuje hloubení rýh traktorbagrem, naložení výkopku na dopravní prostředek pro svislé, nebo vodorovné přemístění, popř. přemístění výkopku do 3 m (po povrchu území), případné zajištění rypadel polštáři, udržování pracoviště a ochranu výkopiště proti stékání srážkové vody z okolního terénu i s jejím odvodněním, nebo odvedením, přesekání a odstranění kořenů ve výkopišti, odstranění napadávek, urovnání dna výkopu.včetně případného dolamování ve vrstvě do 0,5 m",null,null,null,null,null,null,null,null,"Položka obsahuje hloubení rýh traktorbagrem, naložení výkopku na dopravní prostředek pro svislé, nebo vodorovné přemístění, popř. přemístění výkopku do 3 m (po povrchu území), případné zajištění rypadel polštáři, udržování pracoviště a ochranu výkopiště proti stékání srážkové vody z okolního terénu i s jejím odvodněním, nebo odvedením, přesekání a odstranění kořenů ve výkopišti, odstranění napadávek, urovnání dna výkopu.včetně případného dolamování ve vrstvě do 0,5 m",null,null,3]
[null,null,"Přeložka řadu \"V1\" TLT DN100:",null,0,null,null,null,null,null,null,null,"Přeložka řadu \"V1\" TLT DN100:"]
[null,null,"Přeložka řadu \"V3\" PE D110x10,0 mm a PE D160x14,6 mm:",null,0,null,null,null,null,null,null,null,"Přeložka řadu \"V3\" PE D110x10,0 mm a PE D160x14,6 mm:"]
[null,null,"Přeložka řadu \"V4\" PE D90x8,2 mm:",null,0,null,null,null,null,null,null,null,"Přeložka řadu \"V4\" PE D90x8,2 mm:"]
[null,null,"Výkopy:",null,0,null,null,null,null,null,null,null,"Výkopy:"]
[null,null,"V hornině tř. 5 - 10%:709,2497*0,1",null,70.924999999999997,null,null,null,null,null,null,null,"V hornině tř. 5 - 10%:709,2497*0,1"]
[7,"141721101R00","Řízené protlačení a vtažení PE d 110 mm, hor.1 - 4 ","m",45.5,null,{"$f":"E62*F62","v":0},3.48E-3,{"$f":"E62*H62","v":0.15834000000000001},0,{"$f":"E62*J62","v":0},null,null,null,2,null,null,null,null,null,null,null,null,null,null,null,1,1,1,null,null,null,null,null,null,null,null,null,null,null,null,null,null,null,null,null,null,null,null,null,null,1,{"$f":"IF(AZ62=1,G62,0)","v":0},{"$f":"IF(AZ62=2,G62,0)","v":0},{"$f":"IF(AZ62=3,G62,0)","v":0},{"$f":"IF(AZ62=4,G62,0)","v":0},{"$f":"IF(AZ62=5,G62,0)","v":0},null,null,null,null,null,null,null,null,null,null,null,null,null,null,null,null,null,null,null,null,null,1,1]
[null,null,"Jedná se o bezvýkopovou technologii horizontálně řízeného vrtání a vtažení potrubí na principu rozplavování a rozrušování zeminy pomocí vysokotlaké směsi vody a bentonitu.",null,null,null,null,null,null,null,null,"Jedná se o bezvýkopovou technologii horizontálně řízeného vrtání a vtažení potrubí na principu rozplavování a rozrušování zeminy pomocí vysokotlaké směsi vody a bentonitu.",null,null,3]
[null,null,"V položce je započteno : - provedení pilotního vrtu,",null,null,null,null,null,null,null,null,"V položce je započteno : - provedení pilotního vrtu,",null,null,3]
[null,null,"                                        - potřebné rozšíření vrtu,",null,null,null,null,null,null,null,null,"                                        - potřebné rozšíření vrtu,",null,null,3]
[null,null,"                                        - vtažení potrubí,",null,null,null,null,null,null,null,null,"                                        - vtažení potrubí,",null,null,3]
[null,null,"                                        - svařování vtahovaného potrubí.",null,null,null,null,null,null,null,null,"                                        - svařování vtahovaného potrubí.",null,null,3]
[null,null,"V položce není započteno: - zemní práce nutné pro provedení prací,",null,null,null,null,null,null,null,null,"V položce není započteno: - zemní práce nutné pro provedení prací,",null,null,3]
[null,null,"                                           - případné čerpání vody,",null,null,null,null,null,null,null,null,"                                           - případné čerpání vody,",null,null,3]
[null,null,"                                           - montáž vedení, slouží-li vtahovaná trubka jako ochranné potrubí,",null,null,null,null,null,null,null,null,"                                           - montáž vedení, slouží-li vtahovaná trubka jako ochranné potrubí,",null,null,3]
[null,null,"                                           - dodání vtahovaných trubek.",null,null,null,null,null,null,null,null,"                                           - dodání vtahovaných trubek.",null,null,3]
[null,null,"Přeložka řadu \"V4\" PE D90x8,2 mm:45,50",null,45.5,null,null,null,null,null,null,null,"Přeložka řadu \"V4\" PE D90x8,2 mm:45,50"]
[8,"151101101R00","Pažení a rozepření stěn rýh - příložné - hl.do 2 m ","m2",2150.576,null,{"$f":"E73*F73","v":0},9.8999999999999999E-4,{"$f":"E73*H73","v":2.1290702399999999},0,{"$f":"E73*J73","v":0},null,null,null,2,null,null,null,null,null,null,null,null,null,null,null,1,1,1,null,null,null,null,null,null,null,null,null,null,null,null,null,null,null,null,null,null,null,null,null,null,1,{"$f":"IF(AZ73=1,G73,0)","v":0},{"$f":"IF(AZ73=2,G73,0)","v":0},{"$f":"IF(AZ73=3,G73,0)","v":0},{"$f":"IF(AZ73=4,G73,0)","v":0},{"$f":"IF(AZ73=5,G73,0)","v":0},null,null,null,null,null,null,null,null,null,null,null,null,null,null,null,null,null,null,null,null,null,1,1]
[null,null,"Přeložka řadu \"V1\" TLT DN100:",null,0,null,null,null,null,null,null,null,"Přeložka řadu \"V1\" TLT DN100:"]
[null,null,"Přeložka řadu \"V3\" PE D110x10,0 mm a PE D160x14,6 mm:",null,0,null,null,null,null,null,null,null,"Přeložka řadu \"V3\" PE D110x10,0 mm a PE D160x14,6 mm:"]
[null,null,"Přeložka řadu \"V4\" PE D90x8,2 mm:",null,0,null,null,null,null,null,null,null,"Přeložka řadu \"V4\" PE D90x8,2 mm:"]
[null,null,"Výkopy:",null,0,null,null,null,null,null,null,null,"Výkopy:"]
[null,null,"Průměrná hloubka výkopu - 1,82 m:",null,0,null,null,null,null,null,null,null,"Průměrná hloubka výkopu - 1,82 m:"]
[null,null,"Přeložka řadu \"V1\" TLT DN100:348,15*1,82*2",null,1267.2660000000001,null,null,null,null,null,null,null,"Přeložka řadu \"V1\" TLT DN100:348,15*1,82*2"]
[null,null,"Průměrná hloubka výkopu - 1,80 m:",null,0,null,null,null,null,null,null,null,"Průměrná hloubka výkopu - 1,80 m:"]
[null,null,"Přeložka řadu \"V3\" PE D110x10,0 mm a PE D160x14,6 mm:",null,0,null,null,null,null,null,null,null,"Přeložka řadu \"V3\" PE D110x10,0 mm a PE D160x14,6 mm:"]
[null,null,"PE D110x10,0 mm:186,60*1,80*2",null,671.76,null,null,null,null,null,null,null,"PE D110x10,0 mm:186,60*1,80*2"]
[null,null,"PE D160x14,6 mm:12,15*1,80*2",null,43.74,null,null,null,null,null,null,null,"PE D160x14,6 mm:12,15*1,80*2"]
[null,null,"Průměrná hloubka výkopu - 1,73 m:",null,0,null,null,null,null,null,null,null,"Průměrná hloubka výkopu - 1,73 m:"]
[null,null,"Přeložka řadu \"V4\" PE D90x8,2 mm:(94,00-45,50)*1,73*2",null,167.81,null,null,null,null,null,null,null,"Přeložka řadu \"V4\" PE D90x8,2 mm:(94,00-45,50)*1,73*2"]
[9,"151101111R00","Odstranění pažení stěn rýh - příložné - hl. do 2 m ","m2",2150.576,null,{"$f":"E86*F86","v":0},0,{"$f":"E86*H86","v":0},0,{"$f":"E86*J86","v":0},null,null,null,2,null,null,null,null,null,null,null,null,null,null,null,1,1,1,null,null,null,null,null,null,null,null,null,null,null,null,null,null,null,null,null,null,null,null,null,null,1,{"$f":"IF(AZ86=1,G86,0)","v":0},{"$f":"IF(AZ86=2,G86,0)","v":0},{"$f":"IF(AZ86=3,G86,0)","v":0},{"$f":"IF(AZ86=4,G86,0)","v":0},{"$f":"IF(AZ86=5,G86,0)","v":0},null,null,null,null,null,null,null,null,null,null,null,null,null,null,null,null,null,null,null,null,null,1,1]
[null,null,"Přeložka řadu \"V1\" TLT DN100:",null,0,null,null,null,null,null,null,null,"Přeložka řadu \"V1\" TLT DN100:"]
[null,null,"Přeložka řadu \"V3\" PE D110x10,0 mm a PE D160x14,6 mm:",null,0,null,null,null,null,null,null,null,"Přeložka řadu \"V3\" PE D110x10,0 mm a PE D160x14,6 mm:"]
[null,null,"Přeložka řadu \"V4\" PE D90x8,2 mm:",null,0,null,null,null,null,null,null,null,"Přeložka řadu \"V4\" PE D90x8,2 mm:"]
[null,null,"Výkopy:",null,0,null,null,null,null,null,null,null,"Výkopy:"]
[null,null,"Průměrná hloubka výkopu - 1,82 m:",null,0,null,null,null,null,null,null,null,"Průměrná hloubka výkopu - 1,82 m:"]
[null,null,"Přeložka řadu \"V1\" TLT DN100:348,15*1,82*2",null,1267.2660000000001,null,null,null,null,null,null,null,"Přeložka řadu \"V1\" TLT DN100:348,15*1,82*2"]
[null,null,"Průměrná hloubka výkopu - 1,80 m:",null,0,null,null,null,null,null,null,null,"Průměrná hloubka výkopu - 1,80 m:"]
[null,null,"Přeložka řadu \"V3\" PE D110x10,0 mm a PE D160x14,6 mm:",null,0,null,null,null,null,null,null,null,"Přeložka řadu \"V3\" PE D110x10,0 mm a PE D160x14,6 mm:"]
[null,null,"PE D110x10,0 mm:186,60*1,80*2",null,671.76,null,null,null,null,null,null,null,"PE D110x10,0 mm:186,60*1,80*2"]
[null,null,"PE D160x14,6 mm:12,15*1,80*2",null,43.74,null,null,null,null,null,null,null,"PE D160x14,6 mm:12,15*1,80*2"]
[null,null,"Průměrná hloubka výkopu - 1,73 m:",null,0,null,null,null,null,null,null,null,"Průměrná hloubka výkopu - 1,73 m:"]
[null,null,"Přeložka řadu \"V4\" PE D90x8,2 mm:(94,00-45,50)*1,73*2",null,167.81,null,null,null,null,null,null,null,"Přeložka řadu \"V4\" PE D90x8,2 mm:(94,00-45,50)*1,73*2"]
[10,"162701105RSZ","Vodorovné přemístění výkopku z hor.1-7 na skládku zhotovitele","m3",709.24969999999996,null,{"$f":"E99*F99","v":0},0,{"$f":"E99*H99","v":0},0,{"$f":"E99*J99","v":0},null,null,null,2,null,null,null,null,null,null,null,null,null,null,null,1,1,1,null,null,null,null,null,null,null,null,null,null,null,null,null,null,null,null,null,null,null,null,null,null,1,{"$f":"IF(AZ99=1,G99,0)","v":0},{"$f":"IF(AZ99=2,G99,0)","v":0},{"$f":"IF(AZ99=3,G99,0)","v":0},{"$f":"IF(AZ99=4,G99,0)","v":0},{"$f":"IF(AZ99=5,G99,0)","v":0},null,null,null,null,null,null,null,null,null,null,null,null,null,null,null,null,null,null,null,null,null,1,1]
[null,null,"Přeložka řadu \"V1\" TLT DN100:",null,0,null,null,null,null,null,null,null,"Přeložka řadu \"V1\" TLT DN100:"]
[null,null,"Přeložka řadu \"V3\" PE D110x10,0 mm a PE D160x14,6 mm:",null,0,null,null,null,null,null,null,null,"Přeložka řadu \"V3\" PE D110x10,0 mm a PE D160x14,6 mm:"]
[null,null,"Přeložka řadu \"V4\" PE D90x8,2 mm:",null,0,null,null,null,null,null,null,null,"Přeložka řadu \"V4\" PE D90x8,2 mm:"]
[null,null,"Výkopy:",null,0,null,null,null,null,null,null,null,"Výkopy:"]
[null,null,"V hornině tř. 3 - 5:709,2497",null,709.24969999999996,null,null,null,null,null,null,null,"V hornině tř. 3 - 5:709,2497"]
[11,"174101101R00","Zásyp jam, rýh, šachet se zhutněním ","m3",426.4375,null,{"$f":"E105*F105","v":0},0,{"$f":"E105*H105","v":0},0,{"$f":"E105*J105","v":0},null,null,null,2,null,null,null,null,null,null,null,null,null,null,null,1,1,1,null,null,null,null,null,null,null,null,null,null,null,null,null,null,null,null,null,null,null,null,null,null,1,{"$f":"IF(AZ105=1,G105,0)","v":0},{"$f":"IF(AZ105=2,G105,0)","v":0},{"$f":"IF(AZ105=3,G105,0)","v":0},{"$f":"IF(AZ105=4,G105,0)","v":0},{"$f":"IF(AZ105=5,G105,0)","v":0},null,null,null,null,null,null,null,null,null,null,null,null,null,null,null,null,null,null,null,null,null,1,1]
[null,null,"Položka obsahuje strojní přemístění materiálu pro zásyp ze vzdálenosti do 10 m od okraje zásypu.",null,null,null,null,null,null,null,null,"Položka obsahuje strojní přemístění materiálu pro zásyp ze vzdálenosti do 10 m od okraje zásypu.",null,null,3]
[null,null,null,null,null,null,null,null,null,null,null,null,null,null,3]
[null,null,"Přeložka řadu \"V1\" TLT DN100:",null,0,null,null,null,null,null,null,null,"Přeložka řadu \"V1\" TLT DN100:"]
[null,null,"Přeložka řadu \"V3\" PE D110x10,0 mm a PE D160x14,6 mm:",null,0,null,null,null,null,null,null,null,"Přeložka řadu \"V3\" PE D110x10,0 mm a PE D160x14,6 mm:"]
[null,null,"Přeložka řadu \"V4\" PE D90x8,2 mm:",null,0,null,null,null,null,null,null,null,"Přeložka řadu \"V4\" PE D90x8,2 mm:"]
[null,null,"Zásypy ŠD fr. 0-63 mm:426,4375",null,426.4375,null,null,null,null,null,null,null,"Zásypy ŠD fr. 0-63 mm:426,4375"]
[null,null,"Začátek provozního součtu",null,0,null,null,null,null,null,null,null,"Začátek provozního součtu"]
[null,null,"Výkopy:",null,0,null,null,null,null,null,null,null,"Výkopy:"]
[null,null,"Průměrná hloubka výkopu - 1,82 m:",null,0,null,null,null,null,null,null,null,"Průměrná hloubka výkopu - 1,82 m:"]
[null,null,"Přeložka řadu \"V1\" TLT DN100:348,15*0,90*1,82",null,570.26969999999994,null,null,null,null,null,null,null,"Přeložka řadu \"V1\" TLT DN100:348,15*0,90*1,82"]
[null,null,"Odpočet objemu konstrukce komunikace a chodníku:-348,15*0,90*0,40",null,-125.334,null,null,null,null,null,null,null,"Odpočet objemu konstrukce komunikace a chodníku:-348,15*0,90*0,40"]
[null,null,"Odpočet objemu lože, potrubí a obsypů:-348,15*0,90*(0,15+0,10+0,30)",null,-172.33420000000001,null,null,null,null,null,null,null,"Odpočet objemu lože, potrubí a obsypů:-348,15*0,90*(0,15+0,10+0,30)"]
[null,null,"Průměrná hloubka výkopu - 1,80 m:",null,0,null,null,null,null,null,null,null,"Průměrná hloubka výkopu - 1,80 m:"]
[null,null,"Přeložka řadu \"V3\" PE D110x10,0 mm a PE D160x14,6 mm:",null,0,null,null,null,null,null,null,null,"Přeložka řadu \"V3\" PE D110x10,0 mm a PE D160x14,6 mm:"]
[null,null,"PE D110x10,0 mm:186,60*0,80*1,80",null,268.70400000000001,null,null,null,null,null,null,null,"PE D110x10,0 mm:186,60*0,80*1,80"]
[null,null,"PE D160x14,6 mm:12,15*0,80*1,80",null,17.495999999999999,null,null,null,null,null,null,null,"PE D160x14,6 mm:12,15*0,80*1,80"]
[null,null,"Odpočet objemu konstrukce komunikace:-(186,60+12,15)*0,80*0,45",null,-71.55,null,null,null,null,null,null,null,"Odpočet objemu konstrukce komunikace:-(186,60+12,15)*0,80*0,45"]
[null,null,"Odpočet objemu lože, potrubí a obsypů:-186,60*0,80*(0,15+0,11+0,30)-12,15*0,80*(0,15+0,16+0,30)",null,-89.525999999999996,null,null,null,null,null,null,null,"Odpočet objemu lože, potrubí a obsypů:-186,60*0,80*(0,15+0,11+0,30)-12,15*0,80*(0,15+0,16+0,30)"]
[null,null,"Průměrná hloubka výkopu - 1,73 m:",null,0,null,null,null,null,null,null,null,"Průměrná hloubka výkopu - 1,73 m:"]
[null,null,"Přeložka řadu \"V4\" PE D90x8,2 mm:(94,00-45,50)*0,80*1,73",null,67.123999999999995,null,null,null,null,null,null,null,"Přeložka řadu \"V4\" PE D90x8,2 mm:(94,00-45,50)*0,80*1,73"]
[null,null,"Odpočet objemu konstrukce komunikace:-(94,00-45,50)*0,80*0,45",null,-17.46,null,null,null,null,null,null,null,"Odpočet objemu konstrukce komunikace:-(94,00-45,50)*0,80*0,45"]
[null,null,"Odpočet objemu lože, potrubí a obsypů:-(94,00-45,50)*0,80*(0,15+0,09+0,30)",null,-20.952000000000002,null,null,null,null,null,null,null,"Odpočet objemu lože, potrubí a obsypů:-(94,00-45,50)*0,80*(0,15+0,09+0,30)"]
[null,null,"Konec provozního součtu",null,426.43749999999994,null,null,null,null,null,null,null,"Konec provozního součtu"]
[12,"175101101R00","Obsyp potrubí bez prohození sypaniny ","m3",201.08150000000001,null,{"$f":"E129*F129","v":0},0,{"$f":"E129*H129","v":0},0,{"$f":"E129*J129","v":0},null,null,null,2,null,null,null,null,null,null,null,null,null,null,null,1,1,1,null,null,null,null,null,null,null,null,null,null,null,null,null,null,null,null,null,null,null,null,null,null,1,{"$f":"IF(AZ129=1,G129,0)","v":0},{"$f":"IF(AZ129=2,G129,0)","v":0},{"$f":"IF(AZ129=3,G129,0)","v":0},{"$f":"IF(AZ129=4,G129,0)","v":0},{"$f":"IF(AZ129=5,G129,0)","v":0},null,null,null,null,null,null,null,null,null,null,null,null,null,null,null,null,null,null,null,null,null,1,1]
[null,null,"Přeložka řadu \"V1\" TLT DN100:348,15*(0,90*(0,10+0,30)-0,05^2*Pi)",null,122.5996,null,null,null,null,null,null,null,"Přeložka řadu \"V1\" TLT DN100:348,15*(0,90*(0,10+0,30)-0,05^2*Pi)"]
[null,null,"Přeložka řadu \"V3\" PE D110x10,0 mm a PE D160x14,6 mm:",null,0,null,null,null,null,null,null,null,"Přeložka řadu \"V3\" PE D110x10,0 mm a PE D160x14,6 mm:"]
[null,null,"PE D110x10,0 mm:186,60*(0,80*(0,11+0,30)-0,055^2*Pi)",null,59.4315,null,null,null,null,null,null,null,"PE D110x10,0 mm:186,60*(0,80*(0,11+0,30)-0,055^2*Pi)"]
[null,null,"PE D160x14,6 mm:12,15*(0,80*(0,16+0,30)-0,08^2*Pi)",null,4.2268999999999997,null,null,null,null,null,null,null,"PE D160x14,6 mm:12,15*(0,80*(0,16+0,30)-0,08^2*Pi)"]
[null,null,"Přeložka řadu \"V4\" PE D90x8,2 mm:(94,00-45,50)*(0,80*(0,09+0,30)-0,045^2*Pi)",null,14.823499999999999,null,null,null,null,null,null,null,"Přeložka řadu \"V4\" PE D90x8,2 mm:(94,00-45,50)*(0,80*(0,09+0,30)-0,045^2*Pi)"]
[13,"199000002R00","Poplatek za skládku horniny 1- 7 č. dle katal. odpadů 17 05 04","m3",709.24969999999996,null,{"$f":"E135*F135","v":0},0,{"$f":"E135*H135","v":0},0,{"$f":"E135*J135","v":0},null,null,null,2,null,null,null,null,null,null,null,null,null,null,null,1,1,1,null,null,null,null,null,null,null,null,null,null,null,null,null,null,null,null,null,null,null,null,null,null,1,{"$f":"IF(AZ135=1,G135,0)","v":0},{"$f":"IF(AZ135=2,G135,0)","v":0},{"$f":"IF(AZ135=3,G135,0)","v":0},{"$f":"IF(AZ135=4,G135,0)","v":0},{"$f":"IF(AZ135=5,G135,0)","v":0},null,null,null,null,null,null,null,null,null,null,null,null,null,null,null,null,null,null,null,null,null,1,1]
[null,null,"Přeložka řadu \"V1\" TLT DN100:",null,0,null,null,null,null,null,null,null,"Přeložka řadu \"V1\" TLT DN100:"]
[null,null,"Přeložka řadu \"V3\" PE D110x10,0 mm a PE D160x14,6 mm:",null,0,null,null,null,null,null,null,null,"Přeložka řadu \"V3\" PE D110x10,0 mm a PE D160x14,6 mm:"]
[null,null,"Přeložka řadu \"V4\" PE D90x8,2 mm:",null,0,null,null,null,null,null,null,null,"Přeložka řadu \"V4\" PE D90x8,2 mm:"]
[null,null,"Výkopy:",null,0,null,null,null,null,null,null,null,"Výkopy:"]
[null,null,"V hornině tř. 3 - 5:709,2497",null,709.24969999999996,null,null,null,null,null,null,null,"V hornině tř. 3 - 5:709,2497"]
[14,"58337308.R","Štěrkopísek frakce 0-2 tř.B","t",400.7011,null,{"$f":"E141*F141","v":0},1,{"$f":"E141*H141","v":400.7011},null,{"$f":"E141*J141","v":0},null,null,null,2,null,null,null,null,null,null,null,null,null,null,null,3,1,"58337308.R",null,null,null,null,null,null,null,null,null,null,null,null,null,null,null,null,null,null,null,null,null,null,1,{"$f":"IF(AZ141=1,G141,0)","v":0},{"$f":"IF(AZ141=2,G141,0)","v":0},{"$f":"IF(AZ141=3,G141,0)","v":0},{"$f":"IF(AZ141=4,G141,0)","v":0},{"$f":"IF(AZ141=5,G141,0)","v":0},null,null,null,null,null,null,null,null,null,null,null,null,null,null,null,null,null,null,null,null,null,3,1]
[null,null,"Přeložka řadu \"V1\" TLT DN100:348,15*(0,90*(0,10+0,30)-0,05^2*Pi)*1,973*1,01",null,244.30799999999999,null,null,null,null,null,null,null,"Přeložka řadu \"V1\" TLT DN100:348,15*(0,90*(0,10+0,30)-0,05^2*Pi)*1,973*1,01"]
[null,null,"Přeložka řadu \"V3\" PE D110x10,0 mm a PE D160x14,6 mm:",null,0,null,null,null,null,null,null,null,"Přeložka řadu \"V3\" PE D110x10,0 mm a PE D160x14,6 mm:"]
[null,null,"PE D110x10,0 mm:186,60*(0,80*(0,11+0,30)-0,055^2*Pi)*1,973*1,01",null,118.43089999999999,null,null,null,null,null,null,null,"PE D110x10,0 mm:186,60*(0,80*(0,11+0,30)-0,055^2*Pi)*1,973*1,01"]
[null,null,"PE D160x14,6 mm:12,15*(0,80*(0,16+0,30)-0,08^2*Pi)*1,973*1,01",null,8.4230999999999998,null,null,null,null,null,null,null,"PE D160x14,6 mm:12,15*(0,80*(0,16+0,30)-0,08^2*Pi)*1,973*1,01"]
[null,null,"Přeložka řadu \"V4\" PE D90x8,2 mm:(94,00-45,50)*(0,80*(0,09+0,30)-0,045^2*Pi)*1,973*1,01",null,29.539100000000001,null,null,null,null,null,null,null,"Přeložka řadu \"V4\" PE D90x8,2 mm:(94,00-45,50)*(0,80*(0,09+0,30)-0,045^2*Pi)*1,973*1,01"]
[15,"58344197R","Štěrkodrtě frakce 0-63 A","t",806.70460000000003,null,{"$f":"E147*F147","v":0},1,{"$f":"E147*H147","v":806.70460000000003},null,{"$f":"E147*J147","v":0},null,null,null,2,null,null,null,null,null,null,null,null,null,null,null,3,1,"58344197R",null,null,null,null,null,null,null,null,null,null,null,null,null,null,null,null,null,null,null,null,null,null,1,{"$f":"IF(AZ147=1,G147,0)","v":0},{"$f":"IF(AZ147=2,G147,0)","v":0},{"$f":"IF(AZ147=3,G147,0)","v":0},{"$f":"IF(AZ147=4,G147,0)","v":0},{"$f":"IF(AZ147=5,G147,0)","v":0},null,null,null,null,null,null,null,null,null,null,null,null,null,null,null,null,null,null,null,null,null,3,1]
[null,null,"Přeložka řadu \"V1\" TLT DN100:",null,0,null,null,null,null,null,null,null,"Přeložka řadu \"V1\" TLT DN100:"]
[null,null,"Přeložka řadu \"V3\" PE D110x10,0 mm a PE D160x14,6 mm:",null,0,null,null,null,null,null,null,null,"Přeložka řadu \"V3\" PE D110x10,0 mm a PE D160x14,6 mm:"]
[null,null,"Přeložka řadu \"V4\" PE D90x8,2 mm:",null,0,null,null,null,null,null,null,null,"Přeložka řadu \"V4\" PE D90x8,2 mm:"]
[null,null,"Zásypy ŠD fr. 0-63 mm:426,4375*1,873*1,01",null,806.70460000000003,null,null,null,null,null,null,null,"Zásypy ŠD fr. 0-63 mm:426,4375*1,873*1,01"]
[null,"Celkem za","1 Zemní práce",null,null,null,{"$f":"SUM(G7:G151)","v":0},null,{"$f":"SUM(I7:I151)","v":1210.43143949},null,{"$f":"SUM(K7:K151)","v":0},null,null,null,4,null,null,null,null,null,null,null,null,null,null,null,null,null,null,null,null,null,null,null,null,null,null,null,null,null,null,null,null,null,null,null,null,null,null,null,null,null,{"$f":"SUM(BA7:BA151)","v":0},{"$f":"SUM(BB7:BB151)","v":0},{"$f":"SUM(BC7:BC151)","v":0},{"$f":"SUM(BD7:BD151)","v":0},{"$f":"SUM(BE7:BE151)","v":0}]
["Díl:","45","Podkladní a vedlejší konstrukce",null,null,null,null,null,null,null,null,null,null,null,1]
[16,"451572111R00","Lože pod potrubí z kameniva těženého 0 - 4 mm ","m3",76.670199999999994,null,{"$f":"E154*F154","v":0},0.43051,{"$f":"E154*H154","v":33.007287802},0,{"$f":"E154*J154","v":0},null,null,null,2,null,null,null,null,null,null,null,null,null,null,null,1,1,1,null,null,null,null,null,null,null,null,null,null,null,null,null,null,null,null,null,null,null,null,null,null,1,{"$f":"IF(AZ154=1,G154,0)","v":0},{"$f":"IF(AZ154=2,G154,0)","v":0},{"$f":"IF(AZ154=3,G154,0)","v":0},{"$f":"IF(AZ154=4,G154,0)","v":0},{"$f":"IF(AZ154=5,G154,0)","v":0},null,null,null,null,null,null,null,null,null,null,null,null,null,null,null,null,null,null,null,null,null,1,1]
[null,null,"Přeložka řadu \"V1\" TLT DN100:348,15*0,90*0,15",null,47.000300000000003,null,null,null,null,null,null,null,"Přeložka řadu \"V1\" TLT DN100:348,15*0,90*0,15"]
[null,null,"Přeložka řadu \"V3\" PE D110x10,0 mm a PE D160x14,6 mm:",null,0,null,null,null,null,null,null,null,"Přeložka řadu \"V3\" PE D110x10,0 mm a PE D160x14,6 mm:"]
[null,null,"PE D110x10,0 mm:186,60*0,80*0,15",null,22.391999999999999,null,null,null,null,null,null,null,"PE D110x10,0 mm:186,60*0,80*0,15"]
[null,null,"PE D160x14,6 mm:12,15*0,80*0,15",null,1.458,null,null,null,null,null,null,null,"PE D160x14,6 mm:12,15*0,80*0,15"]
[null,null,"Přeložka řadu \"V4\" PE D90x8,2 mm:(94,00-45,50)*0,80*0,15",null,5.82,null,null,null,null,null,null,null,"Přeložka řadu \"V4\" PE D90x8,2 mm:(94,00-45,50)*0,80*0,15"]
[17,"452313141R00","Bloky pro potrubí z betonu C 16/20 vč. bednění ","m3",3.5470000000000002,null,{"$f":"E160*F160","v":0},2.5,{"$f":"E160*H160","v":8.8674999999999997},0,{"$f":"E160*J160","v":0},null,null,null,2,null,null,null,null,null,null,null,null,null,null,null,1,1,1,null,null,null,null,null,null,null,null,null,null,null,null,null,null,null,null,null,null,null,null,null,null,1,{"$f":"IF(AZ160=1,G160,0)","v":0},{"$f":"IF(AZ160=2,G160,0)","v":0},{"$f":"IF(AZ160=3,G160,0)","v":0},{"$f":"IF(AZ160=4,G160,0)","v":0},{"$f":"IF(AZ160=5,G160,0)","v":0},null,null,null,null,null,null,null,null,null,null,null,null,null,null,null,null,null,null,null,null,null,1,1]
[null,"Celkem za","45 Podkladní a vedlejší konstrukce",null,null,null,{"$f":"SUM(G153:G160)","v":0},null,{"$f":"SUM(I153:I160)","v":41.874787802},null,{"$f":"SUM(K153:K160)","v":0},null,null,null,4,null,null,null,null,null,null,null,null,null,null,null,null,null,null,null,null,null,null,null,null,null,null,null,null,null,null,null,null,null,null,null,null,null,null,null,null,null,{"$f":"SUM(BA153:BA160)","v":0},{"$f":"SUM(BB153:BB160)","v":0},{"$f":"SUM(BC153:BC160)","v":0},{"$f":"SUM(BD153:BD160)","v":0},{"$f":"SUM(BE153:BE160)","v":0}]
["Díl:","5","Komunikace",null,null,null,null,null,null,null,null,null,null,null,1]
[18,"572701119RRX","Provizorní zásyp rýh kam. hrubě drceným nebo recyk s následným odstraněním a odvozem","m3",151.67699999999999,null,{"$f":"E163*F163","v":0},1.4804999999999999,{"$f":"E163*H163","v":224.55779849999999},0,{"$f":"E163*J163","v":0},null,null,null,2,null,null,null,null,null,null,null,null,null,null,null,1,1,1,null,null,null,null,null,null,null,null,null,null,null,null,null,null,null,null,null,null,null,null,null,null,1,{"$f":"IF(AZ163=1,G163,0)","v":0},{"$f":"IF(AZ163=2,G163,0)","v":0},{"$f":"IF(AZ163=3,G163,0)","v":0},{"$f":"IF(AZ163=4,G163,0)","v":0},{"$f":"IF(AZ163=5,G163,0)","v":0},null,null,null,null,null,null,null,null,null,null,null,null,null,null,null,null,null,null,null,null,null,1,1]
[null,null,"Přeložka řadu \"V1\" TLT DN100:",null,0,null,null,null,null,null,null,null,"Přeložka řadu \"V1\" TLT DN100:"]
[null,null,"Objem konstrukce komunikace a chodníku z 50%:348,15*0,90*0,40*0,5",null,62.667000000000002,null,null,null,null,null,null,null,"Objem konstrukce komunikace a chodníku z 50%:348,15*0,90*0,40*0,5"]
[null,null,"Přeložka řadu \"V3\" PE D110x10,0 mm a PE D160x14,6 mm:",null,0,null,null,null,null,null,null,null,"Přeložka řadu \"V3\" PE D110x10,0 mm a PE D160x14,6 mm:"]
[null,null,"Objem konstrukce komunikace:(186,60+12,15)*0,80*0,45",null,71.55,null,null,null,null,null,null,null,"Objem konstrukce komunikace:(186,60+12,15)*0,80*0,45"]
[null,null,"Přeložka řadu \"V4\" PE D90x8,2 mm:",null,0,null,null,null,null,null,null,null,"Přeložka řadu \"V4\" PE D90x8,2 mm:"]
[null,null,"Objem konstrukce komunikace:(94,00-45,50)*0,80*0,45",null,17.46,null,null,null,null,null,null,null,"Objem konstrukce komunikace:(94,00-45,50)*0,80*0,45"]
[null,"Celkem za","5 Komunikace",null,null,null,{"$f":"SUM(G162:G169)","v":0},null,{"$f":"SUM(I162:I169)","v":224.55779849999999},null,{"$f":"SUM(K162:K169)","v":0},null,null,null,4,null,null,null,null,null,null,null,null,null,null,null,null,null,null,null,null,null,null,null,null,null,null,null,null,null,null,null,null,null,null,null,null,null,null,null,null,null,{"$f":"SUM(BA162:BA169)","v":0},{"$f":"SUM(BB162:BB169)","v":0},{"$f":"SUM(BC162:BC169)","v":0},{"$f":"SUM(BD162:BD169)","v":0},{"$f":"SUM(BE162:BE169)","v":0}]
["Díl:","8","Trubní vedení",null,null,null,null,null,null,null,null,null,null,null,1]
[19,"850245121R00","Výřez nebo výsek na potrubí litinovém DN 80 ","kus",2,null,{"$f":"E172*F172","v":0},0,{"$f":"E172*H172","v":0},0,{"$f":"E172*J172","v":0},null,null,null,2,null,null,null,null,null,null,null,null,null,null,null,1,1,1,null,null,null,null,null,null,null,null,null,null,null,null,null,null,null,null,null,null,null,null,null,null,1,{"$f":"IF(AZ172=1,G172,0)","v":0},{"$f":"IF(AZ172=2,G172,0)","v":0},{"$f":"IF(AZ172=3,G172,0)","v":0},{"$f":"IF(AZ172=4,G172,0)","v":0},{"$f":"IF(AZ172=5,G172,0)","v":0},null,null,null,null,null,null,null,null,null,null,null,null,null,null,null,null,null,null,null,null,null,1,1]
[null,null,"Položky výřezu nebo výseku na potrubí z trub litinových tlakových jsou určeny pro dva řezy nebo seky prováděné na potrubí dodatečně. V položkách jsou zakalkulovány náklady na",null,null,null,null,null,null,null,null,"Položky výřezu nebo výseku na potrubí z trub litinových tlakových jsou určeny pro dva řezy nebo seky prováděné na potrubí dodatečně. V položkách jsou zakalkulovány náklady na",null,null,3]
[null,null,"- ohlášení uzavírání vody",null,null,null,null,null,null,null,null,"- ohlášení uzavírání vody",null,null,3]
[null,null,"- uzavření a otevření šoupat",null,null,null,null,null,null,null,null,"- uzavření a otevření šoupat",null,null,3]
[null,null,"- vypuštění a napuštění vody",null,null,null,null,null,null,null,null,"- vypuštění a napuštění vody",null,null,3]
[null,null,"- odvzdušnění potrubí",null,null,null,null,null,null,null,null,"- odvzdušnění potrubí",null,null,3]
[null,null,"- strojní nebo ruční výřez potrubí",null,null,null,null,null,null,null,null,"- strojní nebo ruční výřez potrubí",null,null,3]
[null,null,"- nutné úpravy výkopu v prostoru provádění",null,null,null,null,null,null,null,null,"- nutné úpravy výkopu v prostoru provádění",null,null,3]
[null,null,"- montáž tvarovek",null,null,null,null,null,null,null,null,"- montáž tvarovek",null,null,3]
[null,null,"Přeložka řadu \"V1\" TLT DN100:",null,0,null,null,null,null,null,null,null,"Přeložka řadu \"V1\" TLT DN100:"]
[null,null,"Výřez na DN80:2",null,2,null,null,null,null,null,null,null,"Výřez na DN80:2"]
[20,"850265121R00","Výřez nebo výsek na potrubí litinovém DN 100 ","kus",4,null,{"$f":"E183*F183","v":0},0,{"$f":"E183*H183","v":0},0,{"$f":"E183*J183","v":0},null,null,null,2,null,null,null,null,null,null,null,null,null,null,null,1,1,1,null,null,null,null,null,null,null,null,null,null,null,null,null,null,null,null,null,null,null,null,null,null,1,{"$f":"IF(AZ183=1,G183,0)","v":0},{"$f":"IF(AZ183=2,G183,0)","v":0},{"$f":"IF(AZ183=3,G183,0)","v":0},{"$f":"IF(AZ183=4,G183,0)","v":0},{"$f":"IF(AZ183=5,G183,0)","v":0},null,null,null,null,null,null,null,null,null,null,null,null,null,null,null,null,null,null,null,null,null,1,1]
[null,null,"Položky výřezu nebo výseku na potrubí z trub litinových tlakových jsou určeny pro dva řezy nebo seky prováděné na potrubí dodatečně. V položkách jsou zakalkulovány náklady na",null,null,null,null,null,null,null,null,"Položky výřezu nebo výseku na potrubí z trub litinových tlakových jsou určeny pro dva řezy nebo seky prováděné na potrubí dodatečně. V položkách jsou zakalkulovány náklady na",null,null,3]
[null,null,"- ohlášení uzavírání vody",null,null,null,null,null,null,null,null,"- ohlášení uzavírání vody",null,null,3]
[null,null,"- uzavření a otevření šoupat",null,null,null,null,null,null,null,null,"- uzavření a otevření šoupat",null,null,3]
[null,null,"- vypuštění a napuštění vody",null,null,null,null,null,null,null,null,"- vypuštění a napuštění vody",null,null,3]
[null,null,"- odvzdušnění potrubí",null,null,null,null,null,null,null,null,"- odvzdušnění potrubí",null,null,3]
[null,null,"- strojní nebo ruční výřez potrubí",null,null,null,null,null,null,null,null,"- strojní nebo ruční výřez potrubí",null,null,3]
[null,null,"- nutné úpravy výkopu v prostoru provádění",null,null,null,null,null,null,null,null,"- nutné úpravy výkopu v prostoru provádění",null,null,3]
[null,null,"- montáž tvarovek",null,null,null,null,null,null,null,null,"- montáž tvarovek",null,null,3]
[null,null,"Přeložka řadu \"V1\" TLT DN100:",null,0,null,null,null,null,null,null,null,"Přeložka řadu \"V1\" TLT DN100:"]
[null,null,"Výřez na DN100:2",null,2,null,null,null,null,null,null,null,"Výřez na DN100:2"]
[null,null,"Přeložka řadu \"V3\" PE D110x10,0 mm a PE D160x14,6 mm:",null,0,null,null,null,null,null,null,null,"Přeložka řadu \"V3\" PE D110x10,0 mm a PE D160x14,6 mm:"]
[null,null,"Výřez na DN100:1",null,1,null,null,null,null,null,null,null,"Výřez na DN100:1"]
[null,null,"Přeložka řadu \"V4\" PE D90x8,2 mm:",null,0,null,null,null,null,null,null,null,"Přeložka řadu \"V4\" PE D90x8,2 mm:"]
[null,null,"Výřez na DN100:1",null,1,null,null,null,null,null,null,null,"Výřez na DN100:1"]
[21,"850315121R00","Výřez nebo výsek na potrubí litinovém DN 150 ","kus",1,null,{"$f":"E198*F198","v":0},0,{"$f":"E198*H198","v":0},0,{"$f":"E198*J198","v":0},null,null,null,2,null,null,null,null,null,null,null,null,null,null,null,1,1,1,null,null,null,null,null,null,null,null,null,null,null,null,null,null,null,null,null,null,null,null,null,null,1,{"$f":"IF(AZ198=1,G198,0)","v":0},{"$f":"IF(AZ198=2,G198,0)","v":0},{"$f":"IF(AZ198=3,G198,0)","v":0},{"$f":"IF(AZ198=4,G198,0)","v":0},{"$f":"IF(AZ198=5,G198,0)","v":0},null,null,null,null,null,null,null,null,null,null,null,null,null,null,null,null,null,null,null,null,null,1,1]
[null,null,"Položky výřezu nebo výseku na potrubí z trub litinových tlakových jsou určeny pro dva řezy nebo seky prováděné na potrubí dodatečně. V položkách jsou zakalkulovány náklady na",null,null,null,null,null,null,null,null,"Položky výřezu nebo výseku na potrubí z trub litinových tlakových jsou určeny pro dva řezy nebo seky prováděné na potrubí dodatečně. V položkách jsou zakalkulovány náklady na",null,null,3]
[null,null,"- ohlášení uzavírání vody",null,null,null,null,null,null,null,null,"- ohlášení uzavírání vody",null,null,3]
[null,null,"- uzavření a otevření šoupat",null,null,null,null,null,null,null,null,"- uzavření a otevření šoupat",null,null,3]
[null,null,"- vypuštění a napuštění vody",null,null,null,null,null,null,null,null,"- vypuštění a napuštění vody",null,null,3]
[null,null,"- odvzdušnění potrubí",null,null,null,null,null,null,null,null,"- odvzdušnění potrubí",null,null,3]
[null,null,"- strojní nebo ruční výřez potrubí",null,null,null,null,null,null,null,null,"- strojní nebo ruční výřez potrubí",null,null,3]
[null,null,"- nutné úpravy výkopu v prostoru provádění",null,null,null,null,null,null,null,null,"- nutné úpravy výkopu v prostoru provádění",null,null,3]
[null,null,"- montáž tvarovek",null,null,null,null,null,null,null,null,"- montáž tvarovek",null,null,3]
[null,null,"Přeložka řadu \"V3\" PE D110x10,0 mm a PE D160x14,6 mm:",null,0,null,null,null,null,null,null,null,"Přeložka řadu \"V3\" PE D110x10,0 mm a PE D160x14,6 mm:"]
[null,null,"Výřez na DN150:1",null,1,null,null,null,null,null,null,null,"Výřez na DN150:1"]
[22,"851601102RT1","Montáž potrubí tlakového, tvárná litina DN 100 hrdlové, pružný spoj, ve výkopu","m",348.15,null,{"$f":"E209*F209","v":0},0,{"$f":"E209*H209","v":0},0,{"$f":"E209*J209","v":0},null,null,null,2,null,null,null,null,null,null,null,null,null,null,null,1,1,1,null,null,null,null,null,null,null,null,null,null,null,null,null,null,null,null,null,null,null,null,null,null,1,{"$f":"IF(AZ209=1,G209,0)","v":0},{"$f":"IF(AZ209=2,G209,0)","v":0},{"$f":"IF(AZ209=3,G209,0)","v":0},{"$f":"IF(AZ209=4,G209,0)","v":0},{"$f":"IF(AZ209=5,G209,0)","v":0},null,null,null,null,null,null,null,null,null,null,null,null,null,null,null,null,null,null,null,null,null,1,1]
[null,null,"Přeložka řadu \"V1\" TLT DN100:348,15",null,348.15,null,null,null,null,null,null,null,"Přeložka řadu \"V1\" TLT DN100:348,15"]
[23,"857242121R00","Montáž tvarovek litin. jednoos.přír. výkop DN 80 včetně nerezových spoj. prvků a obandážování spoje","kus",14,null,{"$f":"E211*F211","v":0},2.2000000000000001E-4,{"$f":"E211*H211","v":3.0800000000000003E-3},0,{"$f":"E211*J211","v":0},null,null,null,2,null,null,null,null,null,null,null,null,null,null,null,1,1,1,null,null,null,null,null,null,null,null,null,null,null,null,null,null,null,null,null,null,null,null,null,null,1,{"$f":"IF(AZ211=1,G211,0)","v":0},{"$f":"IF(AZ211=2,G211,0)","v":0},{"$f":"IF(AZ211=3,G211,0)","v":0},{"$f":"IF(AZ211=4,G211,0)","v":0},{"$f":"IF(AZ211=5,G211,0)","v":0},null,null,null,null,null,null,null,null,null,null,null,null,null,null,null,null,null,null,null,null,null,1,1]
[null,null,"Položka je určena pro montáž litinových tvarovek na potrubí litinovém tlakovém přírubovém jednoosých v otevřeném výkopu, v otevřeném kanálu nebo v šachtě.",null,null,null,null,null,null,null,null,"Položka je určena pro montáž litinových tvarovek na potrubí litinovém tlakovém přírubovém jednoosých v otevřeném výkopu, v otevřeném kanálu nebo v šachtě.",null,null,3]
[null,null,"Součástí položky je i dodávka nerezových spojovacích prvků (šrouby, podložky, matky) a kompletního obandážování spojů. ",null,null,null,null,null,null,null,null,"Součástí položky je i dodávka nerezových spojovacích prvků (šrouby, podložky, matky) a kompletního obandážování spojů. ",null,null,3]
[null,null,"Přeložka řadu \"V1\" TLT DN100:",null,0,null,null,null,null,null,null,null,"Přeložka řadu \"V1\" TLT DN100:"]
[null,null,"Přeložka řadu \"V3\" PE D110x10,0 mm a PE D160x14,6 mm:",null,0,null,null,null,null,null,null,null,"Přeložka řadu \"V3\" PE D110x10,0 mm a PE D160x14,6 mm:"]
[null,null,"Přeložka řadu \"V4\" PE D90x8,2 mm:",null,0,null,null,null,null,null,null,null,"Přeložka řadu \"V4\" PE D90x8,2 mm:"]
[null,null,"Synoflex s přírubou DN80:1",null,1,null,null,null,null,null,null,null,"Synoflex s přírubou DN80:1"]
[null,null,"PPL DN80:7",null,7,null,null,null,null,null,null,null,"PPL DN80:7"]
[null,null,"FFK DN80/30°:3",null,3,null,null,null,null,null,null,null,"FFK DN80/30°:3"]
[null,null,"LN + TP D90/DN80:3",null,3,null,null,null,null,null,null,null,"LN + TP D90/DN80:3"]
[24,"857244121R00","Montáž tvarovek litin. odboč. přír. výkop DN 80 včetně nerezových spoj. prvků a obandážování spoje","kus",1,null,{"$f":"E221*F221","v":0},3.2000000000000003E-4,{"$f":"E221*H221","v":3.2000000000000003E-4},0,{"$f":"E221*J221","v":0},null,null,null,2,null,null,null,null,null,null,null,null,null,null,null,1,1,1,null,null,null,null,null,null,null,null,null,null,null,null,null,null,null,null,null,null,null,null,null,null,1,{"$f":"IF(AZ221=1,G221,0)","v":0},{"$f":"IF(AZ221=2,G221,0)","v":0},{"$f":"IF(AZ221=3,G221,0)","v":0},{"$f":"IF(AZ221=4,G221,0)","v":0},{"$f":"IF(AZ221=5,G221,0)","v":0},null,null,null,null,null,null,null,null,null,null,null,null,null,null,null,null,null,null,null,null,null,1,1]
[null,null,"Položka je určena pro montáž litinových tvarovek na potrubí litinovém tlakovém přírubovém, odbočných, v otevřeném výkopu, v otevřeném kanálu nebo v šachtě.",null,null,null,null,null,null,null,null,"Položka je určena pro montáž litinových tvarovek na potrubí litinovém tlakovém přírubovém, odbočných, v otevřeném výkopu, v otevřeném kanálu nebo v šachtě.",null,null,3]
[null,null,"Součástí položky je i dodávka nerezových spojovacích prvků (šrouby, podložky, matky) a kompletního obandážování spojů. ",null,null,null,null,null,null,null,null,"Součástí položky je i dodávka nerezových spojovacích prvků (šrouby, podložky, matky) a kompletního obandážování spojů. ",null,null,3]
[null,null,"Přeložka řadu \"V1\" TLT DN100:",null,0,null,null,null,null,null,null,null,"Přeložka řadu \"V1\" TLT DN100:"]
[null,null,"Přeložka řadu \"V3\" PE D110x10,0 mm a PE D160x14,6 mm:",null,0,null,null,null,null,null,null,null,"Přeložka řadu \"V3\" PE D110x10,0 mm a PE D160x14,6 mm:"]
[null,null,"Přeložka řadu \"V4\" PE D90x8,2 mm:",null,0,null,null,null,null,null,null,null,"Přeložka řadu \"V4\" PE D90x8,2 mm:"]
[null,null,"T DN80/80:1",null,1,null,null,null,null,null,null,null,"T DN80/80:1"]
[25,"857262121R00","Montáž tvarovek litin. jednoos. přír. výkop DN 100 včetně nerezových spoj. prvků a obandážování spoje","kus",20,null,{"$f":"E228*F228","v":0},4.0999999999999999E-4,{"$f":"E228*H228","v":8.199999999999999E-3},0,{"$f":"E228*J228","v":0},null,null,null,2,null,null,null,null,null,null,null,null,null,null,null,1,0,0,null,null,null,null,null,null,null,null,null,null,null,null,null,null,null,null,null,null,null,null,null,null,1,{"$f":"IF(AZ228=1,G228,0)","v":0},{"$f":"IF(AZ228=2,G228,0)","v":0},{"$f":"IF(AZ228=3,G228,0)","v":0},{"$f":"IF(AZ228=4,G228,0)","v":0},{"$f":"IF(AZ228=5,G228,0)","v":0},null,null,null,null,null,null,null,null,null,null,null,null,null,null,null,null,null,null,null,null,null,1,0]
[null,null,"Položka je určena pro montáž litinových tvarovek na potrubí litinovém tlakovém přírubovém jednoosých v otevřeném výkopu, v otevřeném kanálu nebo v šachtě.",null,null,null,null,null,null,null,null,"Položka je určena pro montáž litinových tvarovek na potrubí litinovém tlakovém přírubovém jednoosých v otevřeném výkopu, v otevřeném kanálu nebo v šachtě.",null,null,3]
[null,null,"Součástí položky je i dodávka nerezových spojovacích prvků (šrouby, podložky, matky) a kompletního obandážování spojů. ",null,null,null,null,null,null,null,null,"Součástí položky je i dodávka nerezových spojovacích prvků (šrouby, podložky, matky) a kompletního obandážování spojů. ",null,null,3]
[null,null,"Přeložka řadu \"V1\" TLT DN100:",null,0,null,null,null,null,null,null,null,"Přeložka řadu \"V1\" TLT DN100:"]
[null,null,"Přeložka řadu \"V3\" PE D110x10,0 mm a PE D160x14,6 mm:",null,0,null,null,null,null,null,null,null,"Přeložka řadu \"V3\" PE D110x10,0 mm a PE D160x14,6 mm:"]
[null,null,"Přeložka řadu \"V4\" PE D90x8,2 mm:",null,0,null,null,null,null,null,null,null,"Přeložka řadu \"V4\" PE D90x8,2 mm:"]
[null,null,"Synoflex s přírubou DN100:3",null,3,null,null,null,null,null,null,null,"Synoflex s přírubou DN100:3"]
[null,null,"Synoflex s přírubou redukovaná DN100/80:1",null,1,null,null,null,null,null,null,null,"Synoflex s přírubou redukovaná DN100/80:1"]
[null,null,"FFK DN100/30°:1",null,1,null,null,null,null,null,null,null,"FFK DN100/30°:1"]
[null,null,"Q DN100/90°:1",null,1,null,null,null,null,null,null,null,"Q DN100/90°:1"]
[null,null,"FFR DN100/80:1",null,1,null,null,null,null,null,null,null,"FFR DN100/80:1"]
[null,null,"LN + TP D110/DN100:4",null,4,null,null,null,null,null,null,null,"LN + TP D110/DN100:4"]
[null,null,"EU DN100:5",null,5,null,null,null,null,null,null,null,"EU DN100:5"]
[null,null,"F DN100:4",null,4,null,null,null,null,null,null,null,"F DN100:4"]
[26,"857264121R00","Montáž tvarovek litin. odboč. přír. výkop DN 100 včetně nerezových spoj. prvků a obandážování spoje","kus",7,null,{"$f":"E242*F242","v":0},6.2E-4,{"$f":"E242*H242","v":4.3400000000000001E-3},0,{"$f":"E242*J242","v":0},null,null,null,2,null,null,null,null,null,null,null,null,null,null,null,1,1,1,null,null,null,null,null,null,null,null,null,null,null,null,null,null,null,null,null,null,null,null,null,null,1,{"$f":"IF(AZ242=1,G242,0)","v":0},{"$f":"IF(AZ242=2,G242,0)","v":0},{"$f":"IF(AZ242=3,G242,0)","v":0},{"$f":"IF(AZ242=4,G242,0)","v":0},{"$f":"IF(AZ242=5,G242,0)","v":0},null,null,null,null,null,null,null,null,null,null,null,null,null,null,null,null,null,null,null,null,null,1,1]
[null,null,"Položka je určena pro montáž litinových tvarovek na potrubí litinovém tlakovém přírubovém odbočných v otevřeném výkopu, v otevřeném kanálu nebo v šachtě.",null,null,null,null,null,null,null,null,"Položka je určena pro montáž litinových tvarovek na potrubí litinovém tlakovém přírubovém odbočných v otevřeném výkopu, v otevřeném kanálu nebo v šachtě.",null,null,3]
[null,null,"Součástí položky je i dodávka nerezových spojovacích prvků (šrouby, podložky, matky) a kompletního obandážování spojů. ",null,null,null,null,null,null,null,null,"Součástí položky je i dodávka nerezových spojovacích prvků (šrouby, podložky, matky) a kompletního obandážování spojů. ",null,null,3]
[null,null,"Přeložka řadu \"V1\" TLT DN100:",null,0,null,null,null,null,null,null,null,"Přeložka řadu \"V1\" TLT DN100:"]
[null,null,"Přeložka řadu \"V3\" PE D110x10,0 mm a PE D160x14,6 mm:",null,0,null,null,null,null,null,null,null,"Přeložka řadu \"V3\" PE D110x10,0 mm a PE D160x14,6 mm:"]
[null,null,"Přeložka řadu \"V4\" PE D90x8,2 mm:",null,0,null,null,null,null,null,null,null,"Přeložka řadu \"V4\" PE D90x8,2 mm:"]
[null,null,"T DN100/80:5",null,5,null,null,null,null,null,null,null,"T DN100/80:5"]
[null,null,"T DN100/100:2",null,2,null,null,null,null,null,null,null,"T DN100/100:2"]
[27,"857312121R00","Montáž tvarovek litin. jednoos. přír. výkop DN 150 včetně nerezových spoj. prvků a obandážování spoje","kus",3,null,{"$f":"E250*F250","v":0},2.7799999999999999E-3,{"$f":"E250*H250","v":8.3400000000000002E-3},0,{"$f":"E250*J250","v":0},null,null,null,2,null,null,null,null,null,null,null,null,null,null,null,1,1,1,null,null,null,null,null,null,null,null,null,null,null,null,null,null,null,null,null,null,null,null,null,null,1,{"$f":"IF(AZ250=1,G250,0)","v":0},{"$f":"IF(AZ250=2,G250,0)","v":0},{"$f":"IF(AZ250=3,G250,0)","v":0},{"$f":"IF(AZ250=4,G250,0)","v":0},{"$f":"IF(AZ250=5,G250,0)","v":0},null,null,null,null,null,null,null,null,null,null,null,null,null,null,null,null,null,null,null,null,null,1,1]
[null,null,"Položka je určena pro montáž litinových tvarovek na potrubí litinovém tlakovém přírubovém jednoosých v otevřeném výkopu, v otevřeném kanálu nebo v šachtě.",null,null,null,null,null,null,null,null,"Položka je určena pro montáž litinových tvarovek na potrubí litinovém tlakovém přírubovém jednoosých v otevřeném výkopu, v otevřeném kanálu nebo v šachtě.",null,null,3]
[null,null,"Součástí položky je i dodávka nerezových spojovacích prvků (šrouby, podložky, matky) a kompletního obandážování spojů. ",null,null,null,null,null,null,null,null,"Součástí položky je i dodávka nerezových spojovacích prvků (šrouby, podložky, matky) a kompletního obandážování spojů. ",null,null,3]
[null,null,"Přeložka řadu \"V1\" TLT DN100:",null,0,null,null,null,null,null,null,null,"Přeložka řadu \"V1\" TLT DN100:"]
[null,null,"Přeložka řadu \"V3\" PE D110x10,0 mm a PE D160x14,6 mm:",null,0,null,null,null,null,null,null,null,"Přeložka řadu \"V3\" PE D110x10,0 mm a PE D160x14,6 mm:"]
[null,null,"Přeložka řadu \"V4\" PE D90x8,2 mm:",null,0,null,null,null,null,null,null,null,"Přeložka řadu \"V4\" PE D90x8,2 mm:"]
[null,null,"Synoflex s přírubou DN150:1",null,1,null,null,null,null,null,null,null,"Synoflex s přírubou DN150:1"]
[null,null,"Synoflex spojka DN150:1",null,1,null,null,null,null,null,null,null,"Synoflex spojka DN150:1"]
[null,null,"LN + TP D160/DN150:1",null,1,null,null,null,null,null,null,null,"LN + TP D160/DN150:1"]
[28,"857314121R00","Montáž tvarovek litin. odboč. přír. výkop DN 150 včetně nerezových spoj. prvků a obandážování spoje","kus",1,null,{"$f":"E259*F259","v":0},2.98E-3,{"$f":"E259*H259","v":2.98E-3},0,{"$f":"E259*J259","v":0},null,null,null,2,null,null,null,null,null,null,null,null,null,null,null,1,1,1,null,null,null,null,null,null,null,null,null,null,null,null,null,null,null,null,null,null,null,null,null,null,1,{"$f":"IF(AZ259=1,G259,0)","v":0},{"$f":"IF(AZ259=2,G259,0)","v":0},{"$f":"IF(AZ259=3,G259,0)","v":0},{"$f":"IF(AZ259=4,G259,0)","v":0},{"$f":"IF(AZ259=5,G259,0)","v":0},null,null,null,null,null,null,null,null,null,null,null,null,null,null,null,null,null,null,null,null,null,1,1]
[null,null,"Položka je určena pro montáž litinových tvarovek na potrubí litinovém tlakovém přírubovém odbočných v otevřeném výkopu, v otevřeném kanálu nebo v šachtě.",null,null,null,null,null,null,null,null,"Položka je určena pro montáž litinových tvarovek na potrubí litinovém tlakovém přírubovém odbočných v otevřeném výkopu, v otevřeném kanálu nebo v šachtě.",null,null,3]
[null,null,"Součástí položky je i dodávka nerezových spojovacích prvků (šrouby, podložky, matky) a kompletního obandážování spojů. ",null,null,null,null,null,null,null,null,"Součástí položky je i dodávka nerezových spojovacích prvků (šrouby, podložky, matky) a kompletního obandážování spojů. ",null,null,3]
[null,null,"Přeložka řadu \"V1\" TLT DN100:",null,0,null,null,null,null,null,null,null,"Přeložka řadu \"V1\" TLT DN100:"]
[null,null,"Přeložka řadu \"V3\" PE D110x10,0 mm a PE D160x14,6 mm:",null,0,null,null,null,null,null,null,null,"Přeložka řadu \"V3\" PE D110x10,0 mm a PE D160x14,6 mm:"]
[null,null,"Přeložka řadu \"V4\" PE D90x8,2 mm:",null,0,null,null,null,null,null,null,null,"Přeložka řadu \"V4\" PE D90x8,2 mm:"]
[null,null,"T DN150/100:1",null,1,null,null,null,null,null,null,null,"T DN150/100:1"]
[29,"857601102RT1","Montáž tvarovek jednoosých, tvárná litina DN 100 hrdlové, pružný spoj, ve výkopu","kus",6,null,{"$f":"E266*F266","v":0},0,{"$f":"E266*H266","v":0},0,{"$f":"E266*J266","v":0},null,null,null,2,null,null,null,null,null,null,null,null,null,null,null,1,1,1,null,null,null,null,null,null,null,null,null,null,null,null,null,null,null,null,null,null,null,null,null,null,1,{"$f":"IF(AZ266=1,G266,0)","v":0},{"$f":"IF(AZ266=2,G266,0)","v":0},{"$f":"IF(AZ266=3,G266,0)","v":0},{"$f":"IF(AZ266=4,G266,0)","v":0},{"$f":"IF(AZ266=5,G266,0)","v":0},null,null,null,null,null,null,null,null,null,null,null,null,null,null,null,null,null,null,null,null,null,1,1]
[null,null,"Položka je určena pro montáž tvarovek jednoosých s pružnými spoji ve výkopu. ",null,null,null,null,null,null,null,null,"Položka je určena pro montáž tvarovek jednoosých s pružnými spoji ve výkopu. ",null,null,3]
[null,null,"Přeložka řadu \"V1\" TLT DN100:",null,0,null,null,null,null,null,null,null,"Přeložka řadu \"V1\" TLT DN100:"]
[null,null,"MMK 11°/DN100:5",null,5,null,null,null,null,null,null,null,"MMK 11°/DN100:5"]
[null,null,"MMK 30°/DN100:1",null,1,null,null,null,null,null,null,null,"MMK 30°/DN100:1"]
[30,"871241121R00","Montáž potrubí polyetylenového ve výkopu d 90 mm ","m",48.5,null,{"$f":"E271*F271","v":0},0,{"$f":"E271*H271","v":0},0,{"$f":"E271*J271","v":0},null,null,null,2,null,null,null,null,null,null,null,null,null,null,null,1,1,1,null,null,null,null,null,null,null,null,null,null,null,null,null,null,null,null,null,null,null,null,null,null,1,{"$f":"IF(AZ271=1,G271,0)","v":0},{"$f":"IF(AZ271=2,G271,0)","v":0},{"$f":"IF(AZ271=3,G271,0)","v":0},{"$f":"IF(AZ271=4,G271,0)","v":0},{"$f":"IF(AZ271=5,G271,0)","v":0},null,null,null,null,null,null,null,null,null,null,null,null,null,null,null,null,null,null,null,null,null,1,1]
[null,null,"V položce je uvažováno s jedním spojem na 6 m potrubí.",null,null,null,null,null,null,null,null,"V položce je uvažováno s jedním spojem na 6 m potrubí.",null,null,3]
[null,null,"Přeložka řadu \"V4\" PE D90x8,2 mm:94,00-45,50",null,48.5,null,null,null,null,null,null,null,"Přeložka řadu \"V4\" PE D90x8,2 mm:94,00-45,50"]
[31,"871251121R00","Montáž trubek polyetylenových ve výkopu d 110 mm ","m",186.6,null,{"$f":"E274*F274","v":0},0,{"$f":"E274*H274","v":0},0,{"$f":"E274*J274","v":0},null,null,null,2,null,null,null,null,null,null,null,null,null,null,null,1,1,1,null,null,null,null,null,null,null,null,null,null,null,null,null,null,null,null,null,null,null,null,null,null,1,{"$f":"IF(AZ274=1,G274,0)","v":0},{"$f":"IF(AZ274=2,G274,0)","v":0},{"$f":"IF(AZ274=3,G274,0)","v":0},{"$f":"IF(AZ274=4,G274,0)","v":0},{"$f":"IF(AZ274=5,G274,0)","v":0},null,null,null,null,null,null,null,null,null,null,null,null,null,null,null,null,null,null,null,null,null,1,1]
[null,null,"V položce je uvažováno s jedním spojem na 6 m potrubí.",null,null,null,null,null,null,null,null,"V položce je uvažováno s jedním spojem na 6 m potrubí.",null,null,3]
[null,null,"Přeložka řadu \"V3\" PE D110x10,0 mm a PE D160x14,6 mm:",null,0,null,null,null,null,null,null,null,"Přeložka řadu \"V3\" PE D110x10,0 mm a PE D160x14,6 mm:"]
[null,null,"PE D110x10,0 mm:186,60",null,186.6,null,null,null,null,null,null,null,"PE D110x10,0 mm:186,60"]
[32,"871311121R00","Montáž trubek polyetylenových ve výkopu d 160 mm ","m",12.15,null,{"$f":"E278*F278","v":0},0,{"$f":"E278*H278","v":0},0,{"$f":"E278*J278","v":0},null,null,null,2,null,null,null,null,null,null,null,null,null,null,null,1,1,1,null,null,null,null,null,null,null,null,null,null,null,null,null,null,null,null,null,null,null,null,null,null,1,{"$f":"IF(AZ278=1,G278,0)","v":0},{"$f":"IF(AZ278=2,G278,0)","v":0},{"$f":"IF(AZ278=3,G278,0)","v":0},{"$f":"IF(AZ278=4,G278,0)","v":0},{"$f":"IF(AZ278=5,G278,0)","v":0},null,null,null,null,null,null,null,null,null,null,null,null,null,null,null,null,null,null,null,null,null,1,1]
[null,null,"V položce je uvažováno s jedním spojem na 6 m potrubí.",null,null,null,null,null,null,null,null,"V položce je uvažováno s jedním spojem na 6 m potrubí.",null,null,3]
[null,null,"Přeložka řadu \"V3\" PE D110x10,0 mm a PE D160x14,6 mm:",null,0,null,null,null,null,null,null,null,"Přeložka řadu \"V3\" PE D110x10,0 mm a PE D160x14,6 mm:"]
[null,null,"PE D160x14,6 mm:12,15",null,12.15,null,null,null,null,null,null,null,"PE D160x14,6 mm:12,15"]
[33,"877242121R00","Přirážka za 1 spoj elektrotvarovky d 90 mm ","kus",11,null,{"$f":"E282*F282","v":0},0,{"$f":"E282*H282","v":0},0,{"$f":"E282*J282","v":0},null,null,null,2,null,null,null,null,null,null,null,null,null,null,null,1,1,1,null,null,null,null,null,null,null,null,null,null,null,null,null,null,null,null,null,null,null,null,null,null,1,{"$f":"IF(AZ282=1,G282,0)","v":0},{"$f":"IF(AZ282=2,G282,0)","v":0},{"$f":"IF(AZ282=3,G282,0)","v":0},{"$f":"IF(AZ282=4,G282,0)","v":0},{"$f":"IF(AZ282=5,G282,0)","v":0},null,null,null,null,null,null,null,null,null,null,null,null,null,null,null,null,null,null,null,null,null,1,1]
[null,null,"Přeložka řadu \"V4\" PE D90x8,2 mm:",null,0,null,null,null,null,null,null,null,"Přeložka řadu \"V4\" PE D90x8,2 mm:"]
[null,null,"Elektrospojka D90:11",null,11,null,null,null,null,null,null,null,"Elektrospojka D90:11"]
[34,"877252121R00","Přirážka za 1 spoj elektrotvarovky d 110 mm ","kus",30,null,{"$f":"E285*F285","v":0},0,{"$f":"E285*H285","v":0},0,{"$f":"E285*J285","v":0},null,null,null,2,null,null,null,null,null,null,null,null,null,null,null,1,1,1,null,null,null,null,null,null,null,null,null,null,null,null,null,null,null,null,null,null,null,null,null,null,1,{"$f":"IF(AZ285=1,G285,0)","v":0},{"$f":"IF(AZ285=2,G285,0)","v":0},{"$f":"IF(AZ285=3,G285,0)","v":0},{"$f":"IF(AZ285=4,G285,0)","v":0},{"$f":"IF(AZ285=5,G285,0)","v":0},null,null,null,null,null,null,null,null,null,null,null,null,null,null,null,null,null,null,null,null,null,1,1]
[null,null,"Přeložka řadu \"V3\" PE D110x10,0 mm a PE D160x14,6 mm:",null,0,null,null,null,null,null,null,null,"Přeložka řadu \"V3\" PE D110x10,0 mm a PE D160x14,6 mm:"]
[null,null,"PE D110x10,0 mm:",null,0,null,null,null,null,null,null,null,"PE D110x10,0 mm:"]
[null,null,"Elektrospojka D110:27",null,27,null,null,null,null,null,null,null,"Elektrospojka D110:27"]
[null,null,"Oblouk D110/45°:2",null,2,null,null,null,null,null,null,null,"Oblouk D110/45°:2"]
[null,null,"Oblouk D110/30°:1",null,1,null,null,null,null,null,null,null,"Oblouk D110/30°:1"]
[35,"877312121R00","Přirážka za 1 spoj elektrotvarovky d 160 mm ","kus",1,null,{"$f":"E291*F291","v":0},0,{"$f":"E291*H291","v":0},0,{"$f":"E291*J291","v":0},null,null,null,2,null,null,null,null,null,null,null,null,null,null,null,1,1,1,null,null,null,null,null,null,null,null,null,null,null,null,null,null,null,null,null,null,null,null,null,null,1,{"$f":"IF(AZ291=1,G291,0)","v":0},{"$f":"IF(AZ291=2,G291,0)","v":0},{"$f":"IF(AZ291=3,G291,0)","v":0},{"$f":"IF(AZ291=4,G291,0)","v":0},{"$f":"IF(AZ291=5,G291,0)","v":0},null,null,null,null,null,null,null,null,null,null,null,null,null,null,null,null,null,null,null,null,null,1,1]
[null,null,"Přeložka řadu \"V3\" PE D110x10,0 mm a PE D160x14,6 mm:",null,0,null,null,null,null,null,null,null,"Přeložka řadu \"V3\" PE D110x10,0 mm a PE D160x14,6 mm:"]
[null,null,"PE D160x14,6 mm:",null,0,null,null,null,null,null,null,null,"PE D160x14,6 mm:"]
[null,null,"Elektrospojka D160:1",null,1,null,null,null,null,null,null,null,"Elektrospojka D160:1"]
[36,"891163111R00","Montáž ventilů hlavních pro přípojky DN 25 ","kus",5,null,{"$f":"E295*F295","v":0},2.0000000000000002E-5,{"$f":"E295*H295","v":1E-4},0,{"$f":"E295*J295","v":0},null,null,null,2,null,null,null,null,null,null,null,null,null,null,null,1,1,1,null,null,null,null,null,null,null,null,null,null,null,null,null,null,null,null,null,null,null,null,null,null,1,{"$f":"IF(AZ295=1,G295,0)","v":0},{"$f":"IF(AZ295=2,G295,0)","v":0},{"$f":"IF(AZ295=3,G295,0)","v":0},{"$f":"IF(AZ295=4,G295,0)","v":0},{"$f":"IF(AZ295=5,G295,0)","v":0},null,null,null,null,null,null,null,null,null,null,null,null,null,null,null,null,null,null,null,null,null,1,1]
[null,null,"Položka je určena pro montáž ventilů hlavních pro přípojky.",null,null,null,null,null,null,null,null,"Položka je určena pro montáž ventilů hlavních pro přípojky.",null,null,3]
[null,null,"V položce jsou zakalkulovány i náklady na osazení zemních souprav. ",null,null,null,null,null,null,null,null,"V položce jsou zakalkulovány i náklady na osazení zemních souprav. ",null,null,3]
[null,null,"Přeložka řadu \"V1\" TLT DN100:",null,0,null,null,null,null,null,null,null,"Přeložka řadu \"V1\" TLT DN100:"]
[null,null,"Pro VP NP DN100/32:4+1",null,5,null,null,null,null,null,null,null,"Pro VP NP DN100/32:4+1"]
[37,"891241111R00","Montáž vodovodních šoupátek ve výkopu DN 80 včetně nerezových spoj. prvků a obandážování spoje","kus",9,null,{"$f":"E300*F300","v":0},2.2000000000000001E-4,{"$f":"E300*H300","v":1.98E-3},0,{"$f":"E300*J300","v":0},null,null,null,2,null,null,null,null,null,null,null,null,null,null,null,1,1,1,null,null,null,null,null,null,null,null,null,null,null,null,null,null,null,null,null,null,null,null,null,null,1,{"$f":"IF(AZ300=1,G300,0)","v":0},{"$f":"IF(AZ300=2,G300,0)","v":0},{"$f":"IF(AZ300=3,G300,0)","v":0},{"$f":"IF(AZ300=4,G300,0)","v":0},{"$f":"IF(AZ300=5,G300,0)","v":0},null,null,null,null,null,null,null,null,null,null,null,null,null,null,null,null,null,null,null,null,null,1,1]
[null,null,"Položka je určena pro montáž vodovodních šoupátek v otevřeném výkopu nebo v šachtách s osazením zemní soupravy (bez poklopů). V položce jsou zakalkulovány i náklady na vytvoření otvorů ve stropech šachet pro prostup zemních souprav šoupátek.",null,null,null,null,null,null,null,null,"Položka je určena pro montáž vodovodních šoupátek v otevřeném výkopu nebo v šachtách s osazením zemní soupravy (bez poklopů). V položce jsou zakalkulovány i náklady na vytvoření otvorů ve stropech šachet pro prostup zemních souprav šoupátek.",null,null,3]
[null,null,"Součástí položky je i dodávka nerezových spojovacích prvků (šrouby, podložky, matky) a kompletního obandážování spojů. ",null,null,null,null,null,null,null,null,"Součástí položky je i dodávka nerezových spojovacích prvků (šrouby, podložky, matky) a kompletního obandážování spojů. ",null,null,3]
[null,null,"Přeložka řadu \"V1\" TLT DN100:",null,0,null,null,null,null,null,null,null,"Přeložka řadu \"V1\" TLT DN100:"]
[null,null,"Přeložka řadu \"V3\" PE D110x10,0 mm a PE D160x14,6 mm:",null,0,null,null,null,null,null,null,null,"Přeložka řadu \"V3\" PE D110x10,0 mm a PE D160x14,6 mm:"]
[null,null,"Přeložka řadu \"V4\" PE D90x8,2 mm:",null,0,null,null,null,null,null,null,null,"Přeložka řadu \"V4\" PE D90x8,2 mm:"]
[null,null,"Šoupě DN80:9",null,9,null,null,null,null,null,null,null,"Šoupě DN80:9"]
[38,"891247111R00","Montáž hydrantů podzemních DN 80 včetně nerezových spoj. prvků a obandážování spoje","kus",6,null,{"$f":"E307*F307","v":0},1.1E-4,{"$f":"E307*H307","v":6.6E-4},0,{"$f":"E307*J307","v":0},null,null,null,2,null,null,null,null,null,null,null,null,null,null,null,1,1,1,null,null,null,null,null,null,null,null,null,null,null,null,null,null,null,null,null,null,null,null,null,null,1,{"$f":"IF(AZ307=1,G307,0)","v":0},{"$f":"IF(AZ307=2,G307,0)","v":0},{"$f":"IF(AZ307=3,G307,0)","v":0},{"$f":"IF(AZ307=4,G307,0)","v":0},{"$f":"IF(AZ307=5,G307,0)","v":0},null,null,null,null,null,null,null,null,null,null,null,null,null,null,null,null,null,null,null,null,null,1,1]
[null,null,"Položka je určena pro montáž hydrantů podzemních (bez osazení poklopů) na potrubí včetně drenážního obalu.",null,null,null,null,null,null,null,null,"Položka je určena pro montáž hydrantů podzemních (bez osazení poklopů) na potrubí včetně drenážního obalu.",null,null,3]
[null,null,"Součástí položky je i dodávka nerezových spojovacích prvků (šrouby, podložky, matky) a kompletního obandážování spojů. ",null,null,null,null,null,null,null,null,"Součástí položky je i dodávka nerezových spojovacích prvků (šrouby, podložky, matky) a kompletního obandážování spojů. ",null,null,3]
[null,null,"Přeložka řadu \"V1\" TLT DN100:",null,0,null,null,null,null,null,null,null,"Přeložka řadu \"V1\" TLT DN100:"]
[null,null,"Přeložka řadu \"V3\" PE D110x10,0 mm a PE D160x14,6 mm:",null,0,null,null,null,null,null,null,null,"Přeložka řadu \"V3\" PE D110x10,0 mm a PE D160x14,6 mm:"]
[null,null,"Přeložka řadu \"V4\" PE D90x8,2 mm:",null,0,null,null,null,null,null,null,null,"Přeložka řadu \"V4\" PE D90x8,2 mm:"]
[null,null,"Hp DN80/1,5:6",null,6,null,null,null,null,null,null,null,"Hp DN80/1,5:6"]
[39,"891249111R00","Montáž navrtávacích pasů DN 80 s ventilem ","kus",3,null,{"$f":"E314*F314","v":0},0,{"$f":"E314*H314","v":0},0,{"$f":"E314*J314","v":0},null,null,null,2,null,null,null,null,null,null,null,null,null,null,null,1,1,1,null,null,null,null,null,null,null,null,null,null,null,null,null,null,null,null,null,null,null,null,null,null,1,{"$f":"IF(AZ314=1,G314,0)","v":0},{"$f":"IF(AZ314=2,G314,0)","v":0},{"$f":"IF(AZ314=3,G314,0)","v":0},{"$f":"IF(AZ314=4,G314,0)","v":0},{"$f":"IF(AZ314=5,G314,0)","v":0},null,null,null,null,null,null,null,null,null,null,null,null,null,null,null,null,null,null,null,null,null,1,1]
[null,null,"Přeložka řadu \"V4\" PE D90x8,2 mm:",null,0,null,null,null,null,null,null,null,"Přeložka řadu \"V4\" PE D90x8,2 mm:"]
[null,null,"Pro VP DAV D90/32:3",null,3,null,null,null,null,null,null,null,"Pro VP DAV D90/32:3"]
[40,"891261111R00","Montáž vodovodních šoupátek ve výkopu DN 100 včetně nerezových spoj. prvků a obandážování spoje","kus",13,null,{"$f":"E317*F317","v":0},4.0999999999999999E-4,{"$f":"E317*H317","v":5.3299999999999997E-3},0,{"$f":"E317*J317","v":0},null,null,null,2,null,null,null,null,null,null,null,null,null,null,null,1,1,1,null,null,null,null,null,null,null,null,null,null,null,null,null,null,null,null,null,null,null,null,null,null,1,{"$f":"IF(AZ317=1,G317,0)","v":0},{"$f":"IF(AZ317=2,G317,0)","v":0},{"$f":"IF(AZ317=3,G317,0)","v":0},{"$f":"IF(AZ317=4,G317,0)","v":0},{"$f":"IF(AZ317=5,G317,0)","v":0},null,null,null,null,null,null,null,null,null,null,null,null,null,null,null,null,null,null,null,null,null,1,1]
[null,null,"Položka je určena pro montáž vodovodních šoupátek v otevřeném výkopu nebo v šachtách s osazením zemní soupravy (bez poklopů). V položce jsou zakalkulovány i náklady na vytvoření otvorů ve stropech šachet pro prostup zemních souprav šoupátek.",null,null,null,null,null,null,null,null,"Položka je určena pro montáž vodovodních šoupátek v otevřeném výkopu nebo v šachtách s osazením zemní soupravy (bez poklopů). V položce jsou zakalkulovány i náklady na vytvoření otvorů ve stropech šachet pro prostup zemních souprav šoupátek.",null,null,3]
[null,null,"Součástí položky je i dodávka nerezových spojovacích prvků (šrouby, podložky, matky) a kompletního obandážování spojů. ",null,null,null,null,null,null,null,null,"Součástí položky je i dodávka nerezových spojovacích prvků (šrouby, podložky, matky) a kompletního obandážování spojů. ",null,null,3]
[null,null,"Přeložka řadu \"V1\" TLT DN100:",null,0,null,null,null,null,null,null,null,"Přeložka řadu \"V1\" TLT DN100:"]
[null,null,"Přeložka řadu \"V3\" PE D110x10,0 mm a PE D160x14,6 mm:",null,0,null,null,null,null,null,null,null,"Přeložka řadu \"V3\" PE D110x10,0 mm a PE D160x14,6 mm:"]
[null,null,"Přeložka řadu \"V4\" PE D90x8,2 mm:",null,0,null,null,null,null,null,null,null,"Přeložka řadu \"V4\" PE D90x8,2 mm:"]
[null,null,"Šoupě DN100:13",null,13,null,null,null,null,null,null,null,"Šoupě DN100:13"]
[41,"891269111R00","Montáž navrtávacích pasů DN 100 s ventilem ","kus",6,null,{"$f":"E324*F324","v":0},0,{"$f":"E324*H324","v":0},0,{"$f":"E324*J324","v":0},null,null,null,2,null,null,null,null,null,null,null,null,null,null,null,1,1,1,null,null,null,null,null,null,null,null,null,null,null,null,null,null,null,null,null,null,null,null,null,null,1,{"$f":"IF(AZ324=1,G324,0)","v":0},{"$f":"IF(AZ324=2,G324,0)","v":0},{"$f":"IF(AZ324=3,G324,0)","v":0},{"$f":"IF(AZ324=4,G324,0)","v":0},{"$f":"IF(AZ324=5,G324,0)","v":0},null,null,null,null,null,null,null,null,null,null,null,null,null,null,null,null,null,null,null,null,null,1,1]
[null,null,"Přeložka řadu \"V1\" TLT DN100:",null,0,null,null,null,null,null,null,null,"Přeložka řadu \"V1\" TLT DN100:"]
[null,null,"Pro VP NP DN100/32:4+1",null,5,null,null,null,null,null,null,null,"Pro VP NP DN100/32:4+1"]
[null,null,"Přeložka řadu \"V3\" PE D110x10,0 mm a PE D160x14,6 mm:",null,0,null,null,null,null,null,null,null,"Přeložka řadu \"V3\" PE D110x10,0 mm a PE D160x14,6 mm:"]
[null,null,"Pro VP DAV D110/32:1",null,1,null,null,null,null,null,null,null,"Pro VP DAV D110/32:1"]
[42,"891311111R00","Montáž vodovodních šoupátek ve výkopu DN 150 včetně nerezových spoj. prvků a obandážování spoje","kus",2,null,{"$f":"E329*F329","v":0},2.7799999999999999E-3,{"$f":"E329*H329","v":5.5599999999999998E-3},0,{"$f":"E329*J329","v":0},null,null,null,2,null,null,null,null,null,null,null,null,null,null,null,1,1,1,null,null,null,null,null,null,null,null,null,null,null,null,null,null,null,null,null,null,null,null,null,null,1,{"$f":"IF(AZ329=1,G329,0)","v":0},{"$f":"IF(AZ329=2,G329,0)","v":0},{"$f":"IF(AZ329=3,G329,0)","v":0},{"$f":"IF(AZ329=4,G329,0)","v":0},{"$f":"IF(AZ329=5,G329,0)","v":0},null,null,null,null,null,null,null,null,null,null,null,null,null,null,null,null,null,null,null,null,null,1,1]
[null,null,"Položka je určena pro montáž vodovodních šoupátek v otevřeném výkopu nebo v šachtách s osazením zemní soupravy (bez poklopů). V položce jsou zakalkulovány i náklady na vytvoření otvorů ve stropech šachet pro prostup zemních souprav šoupátek.",null,null,null,null,null,null,null,null,"Položka je určena pro montáž vodovodních šoupátek v otevřeném výkopu nebo v šachtách s osazením zemní soupravy (bez poklopů). V položce jsou zakalkulovány i náklady na vytvoření otvorů ve stropech šachet pro prostup zemních souprav šoupátek.",null,null,3]
[null,null,"Součástí položky je i dodávka nerezových spojovacích prvků (šrouby, podložky, matky) a kompletního obandážování spojů. ",null,null,null,null,null,null,null,null,"Součástí položky je i dodávka nerezových spojovacích prvků (šrouby, podložky, matky) a kompletního obandážování spojů. ",null,null,3]
[null,null,"Přeložka řadu \"V1\" TLT DN100:",null,0,null,null,null,null,null,null,null,"Přeložka řadu \"V1\" TLT DN100:"]
[null,null,"Přeložka řadu \"V3\" PE D110x10,0 mm a PE D160x14,6 mm:",null,0,null,null,null,null,null,null,null,"Přeložka řadu \"V3\" PE D110x10,0 mm a PE D160x14,6 mm:"]
[null,null,"Přeložka řadu \"V4\" PE D90x8,2 mm:",null,0,null,null,null,null,null,null,null,"Přeložka řadu \"V4\" PE D90x8,2 mm:"]
[null,null,"Šoupě DN150:2",null,2,null,null,null,null,null,null,null,"Šoupě DN150:2"]
[43,"892271111R00","Tlaková zkouška vodovodního potrubí DN 125 včetně zajištění konců potrubí","m",628.75,null,{"$f":"E336*F336","v":0},0,{"$f":"E336*H336","v":0},0,{"$f":"E336*J336","v":0},null,null,null,2,null,null,null,null,null,null,null,null,null,null,null,1,1,1,null,null,null,null,null,null,null,null,null,null,null,null,null,null,null,null,null,null,null,null,null,null,1,{"$f":"IF(AZ336=1,G336,0)","v":0},{"$f":"IF(AZ336=2,G336,0)","v":0},{"$f":"IF(AZ336=3,G336,0)","v":0},{"$f":"IF(AZ336=4,G336,0)","v":0},{"$f":"IF(AZ336=5,G336,0)","v":0},null,null,null,null,null,null,null,null,null,null,null,null,null,null,null,null,null,null,null,null,null,1,1]
[null,null,"V položce jsou započteny náklady na přísun, montáž, demontáž a odsun zkoušecího čerpadla, napuštění tlakovou vodou a dodání vody pro tlakovou zkoušku",null,null,null,null,null,null,null,null,"V položce jsou započteny náklady na přísun, montáž, demontáž a odsun zkoušecího čerpadla, napuštění tlakovou vodou a dodání vody pro tlakovou zkoušku",null,null,3]
[null,null,"Přeložka řadu \"V1\" TLT DN100:348,15",null,348.15,null,null,null,null,null,null,null,"Přeložka řadu \"V1\" TLT DN100:348,15"]
[null,null,"Přeložka řadu \"V3\" PE D110x10,0 mm a PE D160x14,6 mm:",null,0,null,null,null,null,null,null,null,"Přeložka řadu \"V3\" PE D110x10,0 mm a PE D160x14,6 mm:"]
[null,null,"PE D110x10,0 mm:186,60",null,186.6,null,null,null,null,null,null,null,"PE D110x10,0 mm:186,60"]
[null,null,"Přeložka řadu \"V4\" PE D90x8,2 mm:94,00",null,94,null,null,null,null,null,null,null,"Přeložka řadu \"V4\" PE D90x8,2 mm:94,00"]
[44,"892273111R00","Desinfekce vodovodního potrubí DN 125 ","m",628.75,null,{"$f":"E342*F342","v":0},0,{"$f":"E342*H342","v":0},0,{"$f":"E342*J342","v":0},null,null,null,2,null,null,null,null,null,null,null,null,null,null,null,1,1,1,null,null,null,null,null,null,null,null,null,null,null,null,null,null,null,null,null,null,null,null,null,null,1,{"$f":"IF(AZ342=1,G342,0)","v":0},{"$f":"IF(AZ342=2,G342,0)","v":0},{"$f":"IF(AZ342=3,G342,0)","v":0},{"$f":"IF(AZ342=4,G342,0)","v":0},{"$f":"IF(AZ342=5,G342,0)","v":0},null,null,null,null,null,null,null,null,null,null,null,null,null,null,null,null,null,null,null,null,null,1,1]
[null,null,"V položce jsou zakalkulovány náklady na napuštění a vypuštění vody, dodání vody a desinfekčního prostředku a na bakteriologický rozbor vody.",null,null,null,null,null,null,null,null,"V položce jsou zakalkulovány náklady na napuštění a vypuštění vody, dodání vody a desinfekčního prostředku a na bakteriologický rozbor vody.",null,null,3]
[null,null,"Přeložka řadu \"V1\" TLT DN100:348,15",null,348.15,null,null,null,null,null,null,null,"Přeložka řadu \"V1\" TLT DN100:348,15"]
[null,null,"Přeložka řadu \"V3\" PE D110x10,0 mm a PE D160x14,6 mm:",null,0,null,null,null,null,null,null,null,"Přeložka řadu \"V3\" PE D110x10,0 mm a PE D160x14,6 mm:"]
[null,null,"PE D110x10,0 mm:186,60",null,186.6,null,null,null,null,null,null,null,"PE D110x10,0 mm:186,60"]
[null,null,"Přeložka řadu \"V4\" PE D90x8,2 mm:94,00",null,94,null,null,null,null,null,null,null,"Přeložka řadu \"V4\" PE D90x8,2 mm:94,00"]
[45,"892351111R00","Tlaková zkouška vodovodního potrubí DN 200 včetně zajištění konců potrubí","m",12.15,null,{"$f":"E348*F348","v":0},0,{"$f":"E348*H348","v":0},0,{"$f":"E348*J348","v":0},null,null,null,2,null,null,null,null,null,null,null,null,null,null,null,1,1,1,null,null,null,null,null,null,null,null,null,null,null,null,null,null,null,null,null,null,null,null,null,null,1,{"$f":"IF(AZ348=1,G348,0)","v":0},{"$f":"IF(AZ348=2,G348,0)","v":0},{"$f":"IF(AZ348=3,G348,0)","v":0},{"$f":"IF(AZ348=4,G348,0)","v":0},{"$f":"IF(AZ348=5,G348,0)","v":0},null,null,null,null,null,null,null,null,null,null,null,null,null,null,null,null,null,null,null,null,null,1,1]
[null,null,"V položce jsou započteny náklady na přísun, montáž, demontáž a odsun zkoušecího čerpadla, napuštění tlakovou vodou a dodání vody pro tlakovou zkoušku",null,null,null,null,null,null,null,null,"V položce jsou započteny náklady na přísun, montáž, demontáž a odsun zkoušecího čerpadla, napuštění tlakovou vodou a dodání vody pro tlakovou zkoušku",null,null,3]
[null,null,"Přeložka řadu \"V3\" PE D110x10,0 mm a PE D160x14,6 mm:",null,0,null,null,null,null,null,null,null,"Přeložka řadu \"V3\" PE D110x10,0 mm a PE D160x14,6 mm:"]
[null,null,"PE D160x14,6 mm:12,15",null,12.15,null,null,null,null,null,null,null,"PE D160x14,6 mm:12,15"]
[46,"892353111R00","Desinfekce vodovodního potrubí DN 200 ","m",12.15,null,{"$f":"E352*F352","v":0},0,{"$f":"E352*H352","v":0},0,{"$f":"E352*J352","v":0},null,null,null,2,null,null,null,null,null,null,null,null,null,null,null,1,1,1,null,null,null,null,null,null,null,null,null,null,null,null,null,null,null,null,null,null,null,null,null,null,1,{"$f":"IF(AZ352=1,G352,0)","v":0},{"$f":"IF(AZ352=2,G352,0)","v":0},{"$f":"IF(AZ352=3,G352,0)","v":0},{"$f":"IF(AZ352=4,G352,0)","v":0},{"$f":"IF(AZ352=5,G352,0)","v":0},null,null,null,null,null,null,null,null,null,null,null,null,null,null,null,null,null,null,null,null,null,1,1]
[null,null,"V položce jsou zakalkulovány náklady na napuštění a vypuštění vody, dodání vody a desinfekčního prostředku a na bakteriologický rozbor vody.",null,null,null,null,null,null,null,null,"V položce jsou zakalkulovány náklady na napuštění a vypuštění vody, dodání vody a desinfekčního prostředku a na bakteriologický rozbor vody.",null,null,3]
[null,null,"Přeložka řadu \"V3\" PE D110x10,0 mm a PE D160x14,6 mm:",null,0,null,null,null,null,null,null,null,"Přeložka řadu \"V3\" PE D110x10,0 mm a PE D160x14,6 mm:"]
[null,null,"PE D160x14,6 mm:12,15",null,12.15,null,null,null,null,null,null,null,"PE D160x14,6 mm:12,15"]
[47,"899713111RRX","Orientační tabulky na sloupku ocelovém, betonovém ","kus",38,null,{"$f":"E356*F356","v":0},2.4000000000000001E-4,{"$f":"E356*H356","v":9.1199999999999996E-3},0,{"$f":"E356*J356","v":0},null,null,null,2,null,null,null,null,null,null,null,null,null,null,null,1,1,1,null,null,null,null,null,null,null,null,null,null,null,null,null,null,null,null,null,null,null,null,null,null,1,{"$f":"IF(AZ356=1,G356,0)","v":0},{"$f":"IF(AZ356=2,G356,0)","v":0},{"$f":"IF(AZ356=3,G356,0)","v":0},{"$f":"IF(AZ356=4,G356,0)","v":0},{"$f":"IF(AZ356=5,G356,0)","v":0},null,null,null,null,null,null,null,null,null,null,null,null,null,null,null,null,null,null,null,null,null,1,1]
[null,null,"Položka platí pro orientační tabulky na vodovodních a kanalizačních řadech. V položce jsou zakalkulovány náklady na dodání a připevnění tabulky a na osazení sloupku. V položce jsou zakalkulovány náklady na zemní práce a na dodání sloupků (betonových nebo ocelových s betonovými patkami)",null,null,null,null,null,null,null,null,"Položka platí pro orientační tabulky na vodovodních a kanalizačních řadech. V položce jsou zakalkulovány náklady na dodání a připevnění tabulky a na osazení sloupku. V položce jsou zakalkulovány náklady na zemní práce a na dodání sloupků (betonových nebo ocelových s betonovými patkami)",null,null,3]
[null,null,"Přeložka řadu \"V1\" TLT DN100:",null,0,null,null,null,null,null,null,null,"Přeložka řadu \"V1\" TLT DN100:"]
[null,null,"Přeložka řadu \"V3\" PE D110x10,0 mm a PE D160x14,6 mm:",null,0,null,null,null,null,null,null,null,"Přeložka řadu \"V3\" PE D110x10,0 mm a PE D160x14,6 mm:"]
[null,null,"Přeložka řadu \"V4\" PE D90x8,2 mm:",null,0,null,null,null,null,null,null,null,"Přeložka řadu \"V4\" PE D90x8,2 mm:"]
[null,null,"Pro Šoupě DN80:9",null,9,null,null,null,null,null,null,null,"Pro Šoupě DN80:9"]
[null,null,"Pro Šoupě DN100:13",null,13,null,null,null,null,null,null,null,"Pro Šoupě DN100:13"]
[null,null,"Pro Šoupě DN150:2",null,2,null,null,null,null,null,null,null,"Pro Šoupě DN150:2"]
[null,null,"Pro Hp DN80/1,5:6",null,6,null,null,null,null,null,null,null,"Pro Hp DN80/1,5:6"]
[null,null,"Pro VP DAV D90/32:3",null,3,null,null,null,null,null,null,null,"Pro VP DAV D90/32:3"]
[null,null,"Pro VP NP DN100/32:4",null,4,null,null,null,null,null,null,null,"Pro VP NP DN100/32:4"]
[null,null,"Pro VP DAV D110/32:1",null,1,null,null,null,null,null,null,null,"Pro VP DAV D110/32:1"]
[48,"899721112R00","Fólie výstražná z PVC bílá, šířka 30 cm ","m",595.4,null,{"$f":"E368*F368","v":0},0,{"$f":"E368*H368","v":0},0,{"$f":"E368*J368","v":0},null,null,null,2,null,null,null,null,null,null,null,null,null,null,null,1,1,1,null,null,null,null,null,null,null,null,null,null,null,null,null,null,null,null,null,null,null,null,null,null,1,{"$f":"IF(AZ368=1,G368,0)","v":0},{"$f":"IF(AZ368=2,G368,0)","v":0},{"$f":"IF(AZ368=3,G368,0)","v":0},{"$f":"IF(AZ368=4,G368,0)","v":0},{"$f":"IF(AZ368=5,G368,0)","v":0},null,null,null,null,null,null,null,null,null,null,null,null,null,null,null,null,null,null,null,null,null,1,1]
[null,null,"Přeložka řadu \"V1\" TLT DN100:348,15",null,348.15,null,null,null,null,null,null,null,"Přeložka řadu \"V1\" TLT DN100:348,15"]
[null,null,"Přeložka řadu \"V3\" PE D110x10,0 mm a PE D160x14,6 mm:",null,0,null,null,null,null,null,null,null,"Přeložka řadu \"V3\" PE D110x10,0 mm a PE D160x14,6 mm:"]
[null,null,"PE D110x10,0 mm:186,60",null,186.6,null,null,null,null,null,null,null,"PE D110x10,0 mm:186,60"]
[null,null,"PE D160x14,6 mm:12,15",null,12.15,null,null,null,null,null,null,null,"PE D160x14,6 mm:12,15"]
[null,null,"Přeložka řadu \"V4\" PE D90x8,2 mm:94,00-45,50",null,48.5,null,null,null,null,null,null,null,"Přeložka řadu \"V4\" PE D90x8,2 mm:94,00-45,50"]
[49,"899731114R00","Vodič signalizační CYY 6 mm2 ","m",780.9,null,{"$f":"E374*F374","v":0},8.0000000000000007E-5,{"$f":"E374*H374","v":6.2472000000000007E-2},0,{"$f":"E374*J374","v":0},null,null,null,2,null,null,null,null,null,null,null,null,null,null,null,1,1,1,null,null,null,null,null,null,null,null,null,null,null,null,null,null,null,null,null,null,null,null,null,null,1,{"$f":"IF(AZ374=1,G374,0)","v":0},{"$f":"IF(AZ374=2,G374,0)","v":0},{"$f":"IF(AZ374=3,G374,0)","v":0},{"$f":"IF(AZ374=4,G374,0)","v":0},{"$f":"IF(AZ374=5,G374,0)","v":0},null,null,null,null,null,null,null,null,null,null,null,null,null,null,null,null,null,null,null,null,null,1,1]
[null,null,"Součástí položky je zajištění proměření vodiče a výchozí zevize.",null,null,null,null,null,null,null,null,"Součástí položky je zajištění proměření vodiče a výchozí zevize.",null,null,3]
[null,null,"Přeložka řadu \"V1\" TLT DN100:348,15",null,348.15,null,null,null,null,null,null,null,"Přeložka řadu \"V1\" TLT DN100:348,15"]
[null,null,"Přeložka řadu \"V3\" PE D110x10,0 mm a PE D160x14,6 mm:",null,0,null,null,null,null,null,null,null,"Přeložka řadu \"V3\" PE D110x10,0 mm a PE D160x14,6 mm:"]
[null,null,"PE D110x10,0 mm:186,60",null,186.6,null,null,null,null,null,null,null,"PE D110x10,0 mm:186,60"]
[null,null,"PE D160x14,6 mm:12,15",null,12.15,null,null,null,null,null,null,null,"PE D160x14,6 mm:12,15"]
[null,null,"Přeložka řadu \"V4\" PE D90x8,2 mm:94,00",null,94,null,null,null,null,null,null,null,"Přeložka řadu \"V4\" PE D90x8,2 mm:94,00"]
[null,null,"Vyvedení:",null,0,null,null,null,null,null,null,null,"Vyvedení:"]
[null,null,"Pro Šoupě DN80:2,00*2*9",null,36,null,null,null,null,null,null,null,"Pro Šoupě DN80:2,00*2*9"]
[null,null,"Pro Šoupě DN100:2,00*2*13",null,52,null,null,null,null,null,null,null,"Pro Šoupě DN100:2,00*2*13"]
[null,null,"Pro Šoupě DN150:2,00*2*2",null,8,null,null,null,null,null,null,null,"Pro Šoupě DN150:2,00*2*2"]
[null,null,"Pro Hp DN80/1,5:2,00*1*6",null,12,null,null,null,null,null,null,null,"Pro Hp DN80/1,5:2,00*1*6"]
[null,null,"Pro VP DAV D90/32:2,00*2*3",null,12,null,null,null,null,null,null,null,"Pro VP DAV D90/32:2,00*2*3"]
[null,null,"Pro VP NP DN100/32:2,00*2*4",null,16,null,null,null,null,null,null,null,"Pro VP NP DN100/32:2,00*2*4"]
[null,null,"Pro VP DAV D110/32:2,00*2*1",null,4,null,null,null,null,null,null,null,"Pro VP DAV D110/32:2,00*2*1"]
[50,"899 01-0001.RRX","Provizorní vodovod PE100 RC1 D 90x5,4 mm včetně příslušných tvarovek a propojů","m",150,null,{"$f":"E389*F389","v":0}]
[null,null,"Součástí položky je "]
[null,null,"- Dodávka a montáž příslušného potrubí "]
[null,null,"- Dodávka a montáž propojovacích tvarovek a armatur dle zvolené technologie zhotovitelem potřebné pro provoz provizorního vodovou"]
[null,null,"- Přerušení stávajícího potrubí pro napojení provizorního vodovodu"]
[null,null,"- Provedení tlakové zkoušky včetně proplachu a desinfekce potrubí dle ČSN"]
[null,null,"- Potředné zemní práce pro provedení propojů včetně případného odstranění konstrukcí komunikací a chodníků a provizorní úprava povrchů v prostoru vedení provizorního vodovodu"]
[null,null,"- Demontáž a odpojení propojů provizorního vodovodu  včetně potřebných zemních prací."]
[null,null,"- Likvidace veškerého materiálu provizorních vodovodů "]
[null,null,"- Součástí položky jsou i náklady na přesuny materiálů - Součástí položky jsou náklady zhotovitele na poplatky za skládky materiálu"]
[51,"899 02-0001.RRX","Provizorní VP PE100 RC1 D32x3,0 mm - délky do 10 m vč. příslušných tvarovek a armatur","soubor",5,null,{"$f":"E399*F399","v":0}]
[null,null,"Součástí položky je "]
[null,null,"- Dodávka a montáž příslušného potrubí dle PD "]
[null,null,"- Dodávka a montáž propojovacích tvarovek a armatur dle zvolené technologie zhotovitelem potřebné pro provoz provizorního propojení VP"]
[null,null,"- Přerušení stávajícího potrubí přípojky"]
[null,null,"- Provedení tlakové zkoušky včetně proplachu a desinfekce potrubí dle ČSN"]
[null,null,"- Potředné zemní práce pro provedení propoje včetně případného odstranění konstrukcí komunikací a provizorní úprava povrchů v prostoru vedení provizorního vodovodu"]
[null,null,"- Demontáž a odpojení propojů provizorní přípojky  včetně potřebných zemních prací."]
[null,null,"- Likvidace veškerého materiálu provizorních vodovodních přípojek"]
[null,null,"- Součástí položky jsou i náklady na přesuny materiálů - Součástí položky jsou náklady zhotovitele na poplatky za skládky materiálu"]
[52,"28613075.DAV.R","T-kus odbočkový navrtávací DAV (KIT) D90/32","kus",3,null,{"$f":"E409*F409","v":0},0,{"$f":"E409*H409","v":0},null,{"$f":"E409*J409","v":0},null,null,null,2,null,null,null,null,null,null,null,null,null,null,null,3,1,"28613075.DAV.R",null,null,null,null,null,null,null,null,null,null,null,null,null,null,null,null,null,null,null,null,null,null,1,{"$f":"IF(AZ409=1,G409,0)","v":0},{"$f":"IF(AZ409=2,G409,0)","v":0},{"$f":"IF(AZ409=3,G409,0)","v":0},{"$f":"IF(AZ409=4,G409,0)","v":0},{"$f":"IF(AZ409=5,G409,0)","v":0},null,null,null,null,null,null,null,null,null,null,null,null,null,null,null,null,null,null,null,null,null,3,1]
[null,null,"Přeložka řadu \"V4\" PE D90x8,2 mm:",null,0,null,null,null,null,null,null,null,"Přeložka řadu \"V4\" PE D90x8,2 mm:"]
[null,null,"Pro VP DAV D90/32:3",null,3,null,null,null,null,null,null,null,"Pro VP DAV D90/32:3"]
[53,"28613076.DAV.R","T-kus odbočkový navrtávací DAV (KIT) D110/32","kus",1,null,{"$f":"E412*F412","v":0},0,{"$f":"E412*H412","v":0},null,{"$f":"E412*J412","v":0},null,null,null,2,null,null,null,null,null,null,null,null,null,null,null,3,1,"28613076.DAV.R",null,null,null,null,null,null,null,null,null,null,null,null,null,null,null,null,null,null,null,null,null,null,1,{"$f":"IF(AZ412=1,G412,0)","v":0},{"$f":"IF(AZ412=2,G412,0)","v":0},{"$f":"IF(AZ412=3,G412,0)","v":0},{"$f":"IF(AZ412=4,G412,0)","v":0},{"$f":"IF(AZ412=5,G412,0)","v":0},null,null,null,null,null,null,null,null,null,null,null,null,null,null,null,null,null,null,null,null,null,3,1]
[null,null,"Přeložka řadu \"V3\" PE D110x10,0 mm a PE D160x14,6 mm:",null,0,null,null,null,null,null,null,null,"Přeložka řadu \"V3\" PE D110x10,0 mm a PE D160x14,6 mm:"]
[null,null,"Pro VP DAV D110/32:1",null,1,null,null,null,null,null,null,null,"Pro VP DAV D110/32:1"]
[54,"28613090.EBS.R","Zemní souprava EBS 1,1-1,8 pro DAV (KIT)","kus",4,null,{"$f":"E415*F415","v":0},0,{"$f":"E415*H415","v":0},null,{"$f":"E415*J415","v":0},null,null,null,2,null,null,null,null,null,null,null,null,null,null,null,3,1,"28613090.EBS.R",null,null,null,null,null,null,null,null,null,null,null,null,null,null,null,null,null,null,null,null,null,null,1,{"$f":"IF(AZ415=1,G415,0)","v":0},{"$f":"IF(AZ415=2,G415,0)","v":0},{"$f":"IF(AZ415=3,G415,0)","v":0},{"$f":"IF(AZ415=4,G415,0)","v":0},{"$f":"IF(AZ415=5,G415,0)","v":0},null,null,null,null,null,null,null,null,null,null,null,null,null,null,null,null,null,null,null,null,null,3,1]
[null,null,"Přeložka řadu \"V3\" PE D110x10,0 mm a PE D160x14,6 mm:",null,0,null,null,null,null,null,null,null,"Přeložka řadu \"V3\" PE D110x10,0 mm a PE D160x14,6 mm:"]
[null,null,"Přeložka řadu \"V4\" PE D90x8,2 mm:",null,0,null,null,null,null,null,null,null,"Přeložka řadu \"V4\" PE D90x8,2 mm:"]
[null,null,"Pro VP DAV D90/32:3",null,3,null,null,null,null,null,null,null,"Pro VP DAV D90/32:3"]
[null,null,"Pro VP DAV D110/32:1",null,1,null,null,null,null,null,null,null,"Pro VP DAV D110/32:1"]
[55,"286134213.R","Trubka tlaková AQUALINE RC2 PE100 90x8,2 mm PN16 tyče L=12 m","m",49.227499999999999,null,{"$f":"E420*F420","v":0},2.1199999999999999E-3,{"$f":"E420*H420","v":0.10436229999999999},null,{"$f":"E420*J420","v":0},null,null,null,2,null,null,null,null,null,null,null,null,null,null,null,3,1,"286134213.R",null,null,null,null,null,null,null,null,null,null,null,null,null,null,null,null,null,null,null,null,null,null,1,{"$f":"IF(AZ420=1,G420,0)","v":0},{"$f":"IF(AZ420=2,G420,0)","v":0},{"$f":"IF(AZ420=3,G420,0)","v":0},{"$f":"IF(AZ420=4,G420,0)","v":0},{"$f":"IF(AZ420=5,G420,0)","v":0},null,null,null,null,null,null,null,null,null,null,null,null,null,null,null,null,null,null,null,null,null,3,1]
[null,null,"Vodovodní PE tlaková trubka AQUALINE RC2 dle normy EN 12 201-2",null,null,null,null,null,null,null,null,"Vodovodní PE tlaková trubka AQUALINE RC2 dle normy EN 12 201-2",null,null,3]
[null,null,"(doprava pitné a užitkové vody)",null,null,null,null,null,null,null,null,"(doprava pitné a užitkové vody)",null,null,3]
[null,null,"Dvouvrstvá - vnější vrstva PE 100RC modrá (10 % tloušťky)",null,null,null,null,null,null,null,null,"Dvouvrstvá - vnější vrstva PE 100RC modrá (10 % tloušťky)",null,null,3]
[null,null,"                       vnitřní vrstva PE 100RC černá (90 % tloušťky)",null,null,null,null,null,null,null,null,"                       vnitřní vrstva PE 100RC černá (90 % tloušťky)",null,null,3]
[null,null,"Lepší detekce poškození oproti typu RC1",null,null,null,null,null,null,null,null,"Lepší detekce poškození oproti typu RC1",null,null,3]
[null,null,"Přeložka řadu \"V4\" PE D90x8,2 mm:(94,00-45,50)*1,015",null,49.227499999999999,null,null,null,null,null,null,null,"Přeložka řadu \"V4\" PE D90x8,2 mm:(94,00-45,50)*1,015"]
[56,"286134214.R","Trubka tlaková AQUALINE RC2 PE100 90x8,2 mm PN16 návin L=100 m","m",50.05,null,{"$f":"E427*F427","v":0},2.1199999999999999E-3,{"$f":"E427*H427","v":0.10610599999999999},null,{"$f":"E427*J427","v":0},null,null,null,2,null,null,null,null,null,null,null,null,null,null,null,3,1,"286134214.R",null,null,null,null,null,null,null,null,null,null,null,null,null,null,null,null,null,null,null,null,null,null,1,{"$f":"IF(AZ427=1,G427,0)","v":0},{"$f":"IF(AZ427=2,G427,0)","v":0},{"$f":"IF(AZ427=3,G427,0)","v":0},{"$f":"IF(AZ427=4,G427,0)","v":0},{"$f":"IF(AZ427=5,G427,0)","v":0},null,null,null,null,null,null,null,null,null,null,null,null,null,null,null,null,null,null,null,null,null,3,1]
[null,null,"Vodovodní PE tlaková trubka AQUALINE RC2 dle normy EN 12 201-2",null,null,null,null,null,null,null,null,"Vodovodní PE tlaková trubka AQUALINE RC2 dle normy EN 12 201-2",null,null,3]
[null,null,"(doprava pitné a užitkové vody)",null,null,null,null,null,null,null,null,"(doprava pitné a užitkové vody)",null,null,3]
[null,null,"Dvouvrstvá - vnější vrstva PE 100RC modrá (10 % tloušťky)",null,null,null,null,null,null,null,null,"Dvouvrstvá - vnější vrstva PE 100RC modrá (10 % tloušťky)",null,null,3]
[null,null,"                       vnitřní vrstva PE 100RC černá (90 % tloušťky)",null,null,null,null,null,null,null,null,"                       vnitřní vrstva PE 100RC černá (90 % tloušťky)",null,null,3]
[null,null,"Lepší detekce poškození oproti typu RC1",null,null,null,null,null,null,null,null,"Lepší detekce poškození oproti typu RC1",null,null,3]
[null,null,"Přeložka řadu \"V4\" PE D90x8,2 mm:45,50*1,1",null,50.05,null,null,null,null,null,null,null,"Přeložka řadu \"V4\" PE D90x8,2 mm:45,50*1,1"]
[57,"286134215.R","Trubka tlaková AQUALINE RC2 PE100 110x10,0 mm PN16 tyče L=12 m","m",189.399,null,{"$f":"E434*F434","v":0},2.1199999999999999E-3,{"$f":"E434*H434","v":0.40152588},null,{"$f":"E434*J434","v":0},null,null,null,2,null,null,null,null,null,null,null,null,null,null,null,3,1,"286134215.R",null,null,null,null,null,null,null,null,null,null,null,null,null,null,null,null,null,null,null,null,null,null,1,{"$f":"IF(AZ434=1,G434,0)","v":0},{"$f":"IF(AZ434=2,G434,0)","v":0},{"$f":"IF(AZ434=3,G434,0)","v":0},{"$f":"IF(AZ434=4,G434,0)","v":0},{"$f":"IF(AZ434=5,G434,0)","v":0},null,null,null,null,null,null,null,null,null,null,null,null,null,null,null,null,null,null,null,null,null,3,1]
[null,null,"Vodovodní PE tlaková trubka AQUALINE RC2 dle normy EN 12 201-2",null,null,null,null,null,null,null,null,"Vodovodní PE tlaková trubka AQUALINE RC2 dle normy EN 12 201-2",null,null,3]
[null,null,"(doprava pitné a užitkové vody)",null,null,null,null,null,null,null,null,"(doprava pitné a užitkové vody)",null,null,3]
[null,null,"Dvouvrstvá - vnější vrstva PE 100RC modrá (10 % tloušťky)",null,null,null,null,null,null,null,null,"Dvouvrstvá - vnější vrstva PE 100RC modrá (10 % tloušťky)",null,null,3]
[null,null,"                       vnitřní vrstva PE 100RC černá (90 % tloušťky)",null,null,null,null,null,null,null,null,"                       vnitřní vrstva PE 100RC černá (90 % tloušťky)",null,null,3]
[null,null,"Lepší detekce poškození oproti typu RC1",null,null,null,null,null,null,null,null,"Lepší detekce poškození oproti typu RC1",null,null,3]
[null,null,"Přeložka řadu \"V3\" PE D110x10,0 mm a PE D160x14,6 mm:",null,0,null,null,null,null,null,null,null,"Přeložka řadu \"V3\" PE D110x10,0 mm a PE D160x14,6 mm:"]
[null,null,"PE D110x10,0 mm:186,60*1,015",null,189.399,null,null,null,null,null,null,null,"PE D110x10,0 mm:186,60*1,015"]
[58,"286134229","Trubka tlaková AQUALINE RC2 PE100 160x14,6 mm PN16 tyče L=12 m","m",12.3322,null,{"$f":"E442*F442","v":0},6.6699999999999997E-3,{"$f":"E442*H442","v":8.2255774000000004E-2},null,{"$f":"E442*J442","v":0},null,null,null,2,null,null,null,null,null,null,null,null,null,null,null,3,1,286134229,null,null,null,null,null,null,null,null,null,null,null,null,null,null,null,null,null,null,null,null,null,null,1,{"$f":"IF(AZ442=1,G442,0)","v":0},{"$f":"IF(AZ442=2,G442,0)","v":0},{"$f":"IF(AZ442=3,G442,0)","v":0},{"$f":"IF(AZ442=4,G442,0)","v":0},{"$f":"IF(AZ442=5,G442,0)","v":0},null,null,null,null,null,null,null,null,null,null,null,null,null,null,null,null,null,null,null,null,null,3,1]
[null,null,"Vodovodní PE tlaková trubka AQUALINE RC2 dle normy EN 12 201-2",null,null,null,null,null,null,null,null,"Vodovodní PE tlaková trubka AQUALINE RC2 dle normy EN 12 201-2",null,null,3]
[null,null,"(doprava pitné a užitkové vody)",null,null,null,null,null,null,null,null,"(doprava pitné a užitkové vody)",null,null,3]
[null,null,"Dvouvrstvá - vnější vrstva PE 100RC modrá (10 % tloušťky)",null,null,null,null,null,null,null,null,"Dvouvrstvá - vnější vrstva PE 100RC modrá (10 % tloušťky)",null,null,3]
[null,null,"                       vnitřní vrstva PE 100RC černá (90 % tloušťky)",null,null,null,null,null,null,null,null,"                       vnitřní vrstva PE 100RC černá (90 % tloušťky)",null,null,3]
[null,null,"Lepší detekce poškození oproti typu RC1",null,null,null,null,null,null,null,null,"Lepší detekce poškození oproti typu RC1",null,null,3]
[null,null,"Přeložka řadu \"V3\" PE D110x10,0 mm a PE D160x14,6 mm:",null,0,null,null,null,null,null,null,null,"Přeložka řadu \"V3\" PE D110x10,0 mm a PE D160x14,6 mm:"]
[null,null,"PE D160x14,6 mm:12,15*1,015",null,12.3322,null,null,null,null,null,null,null,"PE D160x14,6 mm:12,15*1,015"]
[59,"28653079.08.R","Elektrospojka d 90 mm PE 100 SDR11","kus",11.164999999999999,null,{"$f":"E450*F450","v":0},1.2999999999999999E-3,{"$f":"E450*H450","v":1.4514499999999998E-2},null,{"$f":"E450*J450","v":0},null,null,null,2,null,null,null,null,null,null,null,null,null,null,null,3,1,"28653079.08.R",null,null,null,null,null,null,null,null,null,null,null,null,null,null,null,null,null,null,null,null,null,null,1,{"$f":"IF(AZ450=1,G450,0)","v":0},{"$f":"IF(AZ450=2,G450,0)","v":0},{"$f":"IF(AZ450=3,G450,0)","v":0},{"$f":"IF(AZ450=4,G450,0)","v":0},{"$f":"IF(AZ450=5,G450,0)","v":0},null,null,null,null,null,null,null,null,null,null,null,null,null,null,null,null,null,null,null,null,null,3,1]
[null,null,"Přeložka řadu \"V4\" PE D90x8,2 mm:",null,0,null,null,null,null,null,null,null,"Přeložka řadu \"V4\" PE D90x8,2 mm:"]
[null,null,"Elektrospojka D90:11*1,015",null,11.164999999999999,null,null,null,null,null,null,null,"Elektrospojka D90:11*1,015"]
[60,"28653080.11.R","Elektrospojka d 110 mm PE 100 SDR11","kus",27.405000000000001,null,{"$f":"E453*F453","v":0},1.2999999999999999E-3,{"$f":"E453*H453","v":3.5626499999999998E-2},null,{"$f":"E453*J453","v":0},null,null,null,2,null,null,null,null,null,null,null,null,null,null,null,3,1,"28653080.11.R",null,null,null,null,null,null,null,null,null,null,null,null,null,null,null,null,null,null,null,null,null,null,1,{"$f":"IF(AZ453=1,G453,0)","v":0},{"$f":"IF(AZ453=2,G453,0)","v":0},{"$f":"IF(AZ453=3,G453,0)","v":0},{"$f":"IF(AZ453=4,G453,0)","v":0},{"$f":"IF(AZ453=5,G453,0)","v":0},null,null,null,null,null,null,null,null,null,null,null,null,null,null,null,null,null,null,null,null,null,3,1]
[null,null,"Přeložka řadu \"V3\" PE D110x10,0 mm a PE D160x14,6 mm:",null,0,null,null,null,null,null,null,null,"Přeložka řadu \"V3\" PE D110x10,0 mm a PE D160x14,6 mm:"]
[null,null,"PE D110x10,0 mm:",null,0,null,null,null,null,null,null,null,"PE D110x10,0 mm:"]
[null,null,"Elektrospojka D110:27*1,015",null,27.405000000000001,null,null,null,null,null,null,null,"Elektrospojka D110:27*1,015"]
[61,"28653081.03.R","Elektrospojka d 160 mm PE 100 SDR11","kus",1.0149999999999999,null,{"$f":"E457*F457","v":0},1.2999999999999999E-3,{"$f":"E457*H457","v":1.3194999999999997E-3},null,{"$f":"E457*J457","v":0},null,null,null,2,null,null,null,null,null,null,null,null,null,null,null,3,1,"28653081.03.R",null,null,null,null,null,null,null,null,null,null,null,null,null,null,null,null,null,null,null,null,null,null,1,{"$f":"IF(AZ457=1,G457,0)","v":0},{"$f":"IF(AZ457=2,G457,0)","v":0},{"$f":"IF(AZ457=3,G457,0)","v":0},{"$f":"IF(AZ457=4,G457,0)","v":0},{"$f":"IF(AZ457=5,G457,0)","v":0},null,null,null,null,null,null,null,null,null,null,null,null,null,null,null,null,null,null,null,null,null,3,1]
[null,null,"Přeložka řadu \"V3\" PE D110x10,0 mm a PE D160x14,6 mm:",null,0,null,null,null,null,null,null,null,"Přeložka řadu \"V3\" PE D110x10,0 mm a PE D160x14,6 mm:"]
[null,null,"PE D160x14,6 mm:",null,0,null,null,null,null,null,null,null,"PE D160x14,6 mm:"]
[null,null,"Elektrospojka D160:1*1,015",null,1.0149999999999999,null,null,null,null,null,null,null,"Elektrospojka D160:1*1,015"]
[62,"28653447.A.R","Oblouk 45° PE d 110 mm PE100 SDR11","kus",2.0299999999999998,null,{"$f":"E461*F461","v":0},1.0499999999999999E-3,{"$f":"E461*H461","v":2.1314999999999997E-3},null,{"$f":"E461*J461","v":0},null,null,null,2,null,null,null,null,null,null,null,null,null,null,null,3,1,"28653447.A.R",null,null,null,null,null,null,null,null,null,null,null,null,null,null,null,null,null,null,null,null,null,null,1,{"$f":"IF(AZ461=1,G461,0)","v":0},{"$f":"IF(AZ461=2,G461,0)","v":0},{"$f":"IF(AZ461=3,G461,0)","v":0},{"$f":"IF(AZ461=4,G461,0)","v":0},{"$f":"IF(AZ461=5,G461,0)","v":0},null,null,null,null,null,null,null,null,null,null,null,null,null,null,null,null,null,null,null,null,null,3,1]
[null,null,"Přeložka řadu \"V3\" PE D110x10,0 mm a PE D160x14,6 mm:",null,0,null,null,null,null,null,null,null,"Přeložka řadu \"V3\" PE D110x10,0 mm a PE D160x14,6 mm:"]
[null,null,"PE D110x10,0 mm:",null,0,null,null,null,null,null,null,null,"PE D110x10,0 mm:"]
[null,null,"Oblouk D110/45°:2*1,015",null,2.0299999999999998,null,null,null,null,null,null,null,"Oblouk D110/45°:2*1,015"]
[63,"28653448.A.R","Oblouk 30° PE d 110 mm PE100 SDR11","kus",1.0149999999999999,null,{"$f":"E465*F465","v":0},1.0499999999999999E-3,{"$f":"E465*H465","v":1.0657499999999999E-3},null,{"$f":"E465*J465","v":0},null,null,null,2,null,null,null,null,null,null,null,null,null,null,null,3,1,"28653448.A.R",null,null,null,null,null,null,null,null,null,null,null,null,null,null,null,null,null,null,null,null,null,null,1,{"$f":"IF(AZ465=1,G465,0)","v":0},{"$f":"IF(AZ465=2,G465,0)","v":0},{"$f":"IF(AZ465=3,G465,0)","v":0},{"$f":"IF(AZ465=4,G465,0)","v":0},{"$f":"IF(AZ465=5,G465,0)","v":0},null,null,null,null,null,null,null,null,null,null,null,null,null,null,null,null,null,null,null,null,null,3,1]
[null,null,"Přeložka řadu \"V3\" PE D110x10,0 mm a PE D160x14,6 mm:",null,0,null,null,null,null,null,null,null,"Přeložka řadu \"V3\" PE D110x10,0 mm a PE D160x14,6 mm:"]
[null,null,"PE D110x10,0 mm:",null,0,null,null,null,null,null,null,null,"PE D110x10,0 mm:"]
[null,null,"Oblouk D110/30°:1*1,015",null,1.0149999999999999,null,null,null,null,null,null,null,"Oblouk D110/30°:1*1,015"]
[64,"28653765.R","LN + TP D90/DN80 PE100 SDR11","kus",3.0449999999999999,null,{"$f":"E469*F469","v":0},3.5E-4,{"$f":"E469*H469","v":1.0657499999999999E-3},null,{"$f":"E469*J469","v":0},null,null,null,2,null,null,null,null,null,null,null,null,null,null,null,3,1,"28653765.R",null,null,null,null,null,null,null,null,null,null,null,null,null,null,null,null,null,null,null,null,null,null,1,{"$f":"IF(AZ469=1,G469,0)","v":0},{"$f":"IF(AZ469=2,G469,0)","v":0},{"$f":"IF(AZ469=3,G469,0)","v":0},{"$f":"IF(AZ469=4,G469,0)","v":0},{"$f":"IF(AZ469=5,G469,0)","v":0},null,null,null,null,null,null,null,null,null,null,null,null,null,null,null,null,null,null,null,null,null,3,1]
[null,null,"Přeložka řadu \"V1\" TLT DN100:",null,0,null,null,null,null,null,null,null,"Přeložka řadu \"V1\" TLT DN100:"]
[null,null,"Přeložka řadu \"V3\" PE D110x10,0 mm a PE D160x14,6 mm:",null,0,null,null,null,null,null,null,null,"Přeložka řadu \"V3\" PE D110x10,0 mm a PE D160x14,6 mm:"]
[null,null,"Přeložka řadu \"V4\" PE D90x8,2 mm:",null,0,null,null,null,null,null,null,null,"Přeložka řadu \"V4\" PE D90x8,2 mm:"]
[null,null,"LN + TP D90/DN80:3*1,015",null,3.0449999999999999,null,null,null,null,null,null,null,"LN + TP D90/DN80:3*1,015"]
[65,"28653766.R","LN + TP D110/DN100 PE100 SDR11","kus",4.0599999999999996,null,{"$f":"E474*F474","v":0},3.5E-4,{"$f":"E474*H474","v":1.421E-3},null,{"$f":"E474*J474","v":0},null,null,null,2,null,null,null,null,null,null,null,null,null,null,null,3,1,"28653766.R",null,null,null,null,null,null,null,null,null,null,null,null,null,null,null,null,null,null,null,null,null,null,1,{"$f":"IF(AZ474=1,G474,0)","v":0},{"$f":"IF(AZ474=2,G474,0)","v":0},{"$f":"IF(AZ474=3,G474,0)","v":0},{"$f":"IF(AZ474=4,G474,0)","v":0},{"$f":"IF(AZ474=5,G474,0)","v":0},null,null,null,null,null,null,null,null,null,null,null,null,null,null,null,null,null,null,null,null,null,3,1]
[null,null,"Přeložka řadu \"V1\" TLT DN100:",null,0,null,null,null,null,null,null,null,"Přeložka řadu \"V1\" TLT DN100:"]
[null,null,"Přeložka řadu \"V3\" PE D110x10,0 mm a PE D160x14,6 mm:",null,0,null,null,null,null,null,null,null,"Přeložka řadu \"V3\" PE D110x10,0 mm a PE D160x14,6 mm:"]
[null,null,"Přeložka řadu \"V4\" PE D90x8,2 mm:",null,0,null,null,null,null,null,null,null,"Přeložka řadu \"V4\" PE D90x8,2 mm:"]
[null,null,"LN + TP D110/DN100:4*1,015",null,4.0599999999999996,null,null,null,null,null,null,null,"LN + TP D110/DN100:4*1,015"]
[66,"28653768.R","LN + TP D160/DN150 PE100 SDR11","kus",1.0149999999999999,null,{"$f":"E479*F479","v":0},3.5E-4,{"$f":"E479*H479","v":3.5524999999999999E-4},null,{"$f":"E479*J479","v":0},null,null,null,2,null,null,null,null,null,null,null,null,null,null,null,3,1,"28653768.R",null,null,null,null,null,null,null,null,null,null,null,null,null,null,null,null,null,null,null,null,null,null,1,{"$f":"IF(AZ479=1,G479,0)","v":0},{"$f":"IF(AZ479=2,G479,0)","v":0},{"$f":"IF(AZ479=3,G479,0)","v":0},{"$f":"IF(AZ479=4,G479,0)","v":0},{"$f":"IF(AZ479=5,G479,0)","v":0},null,null,null,null,null,null,null,null,null,null,null,null,null,null,null,null,null,null,null,null,null,3,1]
[null,null,"Přeložka řadu \"V1\" TLT DN100:",null,0,null,null,null,null,null,null,null,"Přeložka řadu \"V1\" TLT DN100:"]
[null,null,"Přeložka řadu \"V3\" PE D110x10,0 mm a PE D160x14,6 mm:",null,0,null,null,null,null,null,null,null,"Přeložka řadu \"V3\" PE D110x10,0 mm a PE D160x14,6 mm:"]
[null,null,"Přeložka řadu \"V4\" PE D90x8,2 mm:",null,0,null,null,null,null,null,null,null,"Přeložka řadu \"V4\" PE D90x8,2 mm:"]
[null,null,"LN + TP D160/DN150:1*1,015",null,1.0149999999999999,null,null,null,null,null,null,null,"LN + TP D160/DN150:1*1,015"]
[67,"42202681.04.R","Šoupátko domovní č.2681 2-6/4\" včetně ISO tvarovky č.6221 - 6/4\" D32","kus",5,null,{"$f":"E484*F484","v":0},5.1999999999999998E-3,{"$f":"E484*H484","v":2.5999999999999999E-2},null,{"$f":"E484*J484","v":0},null,null,null,2,null,null,null,null,null,null,null,null,null,null,null,3,1,"42202681.04.R",null,null,null,null,null,null,null,null,null,null,null,null,null,null,null,null,null,null,null,null,null,null,1,{"$f":"IF(AZ484=1,G484,0)","v":0},{"$f":"IF(AZ484=2,G484,0)","v":0},{"$f":"IF(AZ484=3,G484,0)","v":0},{"$f":"IF(AZ484=4,G484,0)","v":0},{"$f":"IF(AZ484=5,G484,0)","v":0},null,null,null,null,null,null,null,null,null,null,null,null,null,null,null,null,null,null,null,null,null,3,1]
[null,null,"Přeložka řadu \"V1\" TLT DN100:",null,0,null,null,null,null,null,null,null,"Přeložka řadu \"V1\" TLT DN100:"]
[null,null,"Pro VP NP DN100/32:4+1",null,5,null,null,null,null,null,null,null,"Pro VP NP DN100/32:4+1"]
[68,"42203370.04.R","Pás navrtávací Hacom č.3370 DN 100/5/4\"","kus",5,null,{"$f":"E487*F487","v":0},8.8000000000000005E-3,{"$f":"E487*H487","v":4.4000000000000004E-2},null,{"$f":"E487*J487","v":0},null,null,null,2,null,null,null,null,null,null,null,null,null,null,null,3,1,"42203370.04.R",null,null,null,null,null,null,null,null,null,null,null,null,null,null,null,null,null,null,null,null,null,null,1,{"$f":"IF(AZ487=1,G487,0)","v":0},{"$f":"IF(AZ487=2,G487,0)","v":0},{"$f":"IF(AZ487=3,G487,0)","v":0},{"$f":"IF(AZ487=4,G487,0)","v":0},{"$f":"IF(AZ487=5,G487,0)","v":0},null,null,null,null,null,null,null,null,null,null,null,null,null,null,null,null,null,null,null,null,null,3,1]
[null,null,null,null,null,null,null,null,null,null,null,null,null,null,3]
[null,null,"Přeložka řadu \"V1\" TLT DN100:",null,0,null,null,null,null,null,null,null,"Přeložka řadu \"V1\" TLT DN100:"]
[null,null,"Pro VP NP DN100/32:4+1",null,5,null,null,null,null,null,null,null,"Pro VP NP DN100/32:4+1"]
[69,"42209601.R","Zemní souprava tel. (1,3 - 1,8 m) č.9601 3/4-2\"","kus",4,null,{"$f":"E491*F491","v":0},2.5000000000000001E-3,{"$f":"E491*H491","v":0.01},null,{"$f":"E491*J491","v":0},null,null,null,2,null,null,null,null,null,null,null,null,null,null,null,3,1,"42209601.R",null,null,null,null,null,null,null,null,null,null,null,null,null,null,null,null,null,null,null,null,null,null,1,{"$f":"IF(AZ491=1,G491,0)","v":0},{"$f":"IF(AZ491=2,G491,0)","v":0},{"$f":"IF(AZ491=3,G491,0)","v":0},{"$f":"IF(AZ491=4,G491,0)","v":0},{"$f":"IF(AZ491=5,G491,0)","v":0},null,null,null,null,null,null,null,null,null,null,null,null,null,null,null,null,null,null,null,null,null,3,1]
[null,null,null,null,null,null,null,null,null,null,null,null,null,null,3]
[null,null,null,null,null,null,null,null,null,null,null,null,null,null,3]
[null,null,null,null,null,null,null,null,null,null,null,null,null,null,3]
[null,null,"Přeložka řadu \"V1\" TLT DN100:",null,0,null,null,null,null,null,null,null,"Přeložka řadu \"V1\" TLT DN100:"]
[null,null,"Pro VP NP DN100/32:4",null,4,null,null,null,null,null,null,null,"Pro VP NP DN100/32:4"]
[70,"42209999.R","Drenážní obal","kus",6,null,{"$f":"E497*F497","v":0},4.7999999999999996E-3,{"$f":"E497*H497","v":2.8799999999999999E-2},null,{"$f":"E497*J497","v":0},null,null,null,2,null,null,null,null,null,null,null,null,null,null,null,3,1,"42209999.R",null,null,null,null,null,null,null,null,null,null,null,null,null,null,null,null,null,null,null,null,null,null,1,{"$f":"IF(AZ497=1,G497,0)","v":0},{"$f":"IF(AZ497=2,G497,0)","v":0},{"$f":"IF(AZ497=3,G497,0)","v":0},{"$f":"IF(AZ497=4,G497,0)","v":0},{"$f":"IF(AZ497=5,G497,0)","v":0},null,null,null,null,null,null,null,null,null,null,null,null,null,null,null,null,null,null,null,null,null,3,1]
[null,null,"Přeložka řadu \"V1\" TLT DN100:",null,0,null,null,null,null,null,null,null,"Přeložka řadu \"V1\" TLT DN100:"]
[null,null,"Přeložka řadu \"V3\" PE D110x10,0 mm a PE D160x14,6 mm:",null,0,null,null,null,null,null,null,null,"Přeložka řadu \"V3\" PE D110x10,0 mm a PE D160x14,6 mm:"]
[null,null,"Přeložka řadu \"V4\" PE D90x8,2 mm:",null,0,null,null,null,null,null,null,null,"Přeložka řadu \"V4\" PE D90x8,2 mm:"]
[null,null,"Pro Hp DN80/1,5:6",null,6,null,null,null,null,null,null,null,"Pro Hp DN80/1,5:6"]
[71,"42228310.R","Šoupátko 4000E3 DN 80 přírubové, voda PN16","kus",9,null,{"$f":"E502*F502","v":0},1.6500000000000001E-2,{"$f":"E502*H502","v":0.14850000000000002},null,{"$f":"E502*J502","v":0},null,null,null,2,null,null,null,null,null,null,null,null,null,null,null,3,1,"42228310.R",null,null,null,null,null,null,null,null,null,null,null,null,null,null,null,null,null,null,null,null,null,null,1,{"$f":"IF(AZ502=1,G502,0)","v":0},{"$f":"IF(AZ502=2,G502,0)","v":0},{"$f":"IF(AZ502=3,G502,0)","v":0},{"$f":"IF(AZ502=4,G502,0)","v":0},{"$f":"IF(AZ502=5,G502,0)","v":0},null,null,null,null,null,null,null,null,null,null,null,null,null,null,null,null,null,null,null,null,null,3,1]
[null,null,"Šoupátko přírubové krkové - měkcetěsnící klínové šoupátko s hladkým a volným průtokovým kanálem",null,null,null,null,null,null,null,null,"Šoupátko přírubové krkové - měkcetěsnící klínové šoupátko s hladkým a volným průtokovým kanálem",null,null,3]
[null,null,"č. 4000E3",null,null,null,null,null,null,null,null,"č. 4000E3",null,null,3]
[null,null,"PN 16",null,null,null,null,null,null,null,null,"PN 16",null,null,3]
[null,null,"DN 80",null,null,null,null,null,null,null,null,"DN 80",null,null,3]
[null,null,"těleso a víko: tvárná litina GGG 400 - DIN 1693",null,null,null,null,null,null,null,null,"těleso a víko: tvárná litina GGG 400 - DIN 1693",null,null,3]
[null,null,"medium: pitná voda, neagresivní odpadní voda",null,null,null,null,null,null,null,null,"medium: pitná voda, neagresivní odpadní voda",null,null,3]
[null,null,"Přeložka řadu \"V1\" TLT DN100:",null,0,null,null,null,null,null,null,null,"Přeložka řadu \"V1\" TLT DN100:"]
[null,null,"Přeložka řadu \"V3\" PE D110x10,0 mm a PE D160x14,6 mm:",null,0,null,null,null,null,null,null,null,"Přeložka řadu \"V3\" PE D110x10,0 mm a PE D160x14,6 mm:"]
[null,null,"Přeložka řadu \"V4\" PE D90x8,2 mm:",null,0,null,null,null,null,null,null,null,"Přeložka řadu \"V4\" PE D90x8,2 mm:"]
[null,null,"Šoupě DN80:9",null,9,null,null,null,null,null,null,null,"Šoupě DN80:9"]
[72,"42228312.R","Šoupátko 4000E3 DN 100 přírubové, voda PN16","kus",13,null,{"$f":"E513*F513","v":0},2.4500000000000001E-2,{"$f":"E513*H513","v":0.31850000000000001},null,{"$f":"E513*J513","v":0},null,null,null,2,null,null,null,null,null,null,null,null,null,null,null,3,1,"42228312.R",null,null,null,null,null,null,null,null,null,null,null,null,null,null,null,null,null,null,null,null,null,null,1,{"$f":"IF(AZ513=1,G513,0)","v":0},{"$f":"IF(AZ513=2,G513,0)","v":0},{"$f":"IF(AZ513=3,G513,0)","v":0},{"$f":"IF(AZ513=4,G513,0)","v":0},{"$f":"IF(AZ513=5,G513,0)","v":0},null,null,null,null,null,null,null,null,null,null,null,null,null,null,null,null,null,null,null,null,null,3,1]
[null,null,"Šoupátko přírubové krkové - měkcetěsnící klínové šoupátko s hladkým a volným průtokovým kanálem",null,null,null,null,null,null,null,null,"Šoupátko přírubové krkové - měkcetěsnící klínové šoupátko s hladkým a volným průtokovým kanálem",null,null,3]
[null,null,"č. 4000E3",null,null,null,null,null,null,null,null,"č. 4000E3",null,null,3]
[null,null,"PN 16",null,null,null,null,null,null,null,null,"PN 16",null,null,3]
[null,null,"DN 100",null,null,null,null,null,null,null,null,"DN 100",null,null,3]
[null,null,"těleso a víko: tvárná litina GGG 400 - DIN 1693",null,null,null,null,null,null,null,null,"těleso a víko: tvárná litina GGG 400 - DIN 1693",null,null,3]
[null,null,"medium: pitná voda, neagresivní odpadní voda",null,null,null,null,null,null,null,null,"medium: pitná voda, neagresivní odpadní voda",null,null,3]
[null,null,"Přeložka řadu \"V1\" TLT DN100:",null,0,null,null,null,null,null,null,null,"Přeložka řadu \"V1\" TLT DN100:"]
[null,null,"Přeložka řadu \"V3\" PE D110x10,0 mm a PE D160x14,6 mm:",null,0,null,null,null,null,null,null,null,"Přeložka řadu \"V3\" PE D110x10,0 mm a PE D160x14,6 mm:"]
[null,null,"Přeložka řadu \"V4\" PE D90x8,2 mm:",null,0,null,null,null,null,null,null,null,"Přeložka řadu \"V4\" PE D90x8,2 mm:"]
[null,null,"Šoupě DN100:13",null,13,null,null,null,null,null,null,null,"Šoupě DN100:13"]
[73,"42228314.R","Šoupátko 4000E3 DN 150 přírubové, voda PN16","kus",2,null,{"$f":"E524*F524","v":0},4.0500000000000001E-2,{"$f":"E524*H524","v":8.1000000000000003E-2},null,{"$f":"E524*J524","v":0},null,null,null,2,null,null,null,null,null,null,null,null,null,null,null,3,1,"42228314.R",null,null,null,null,null,null,null,null,null,null,null,null,null,null,null,null,null,null,null,null,null,null,1,{"$f":"IF(AZ524=1,G524,0)","v":0},{"$f":"IF(AZ524=2,G524,0)","v":0},{"$f":"IF(AZ524=3,G524,0)","v":0},{"$f":"IF(AZ524=4,G524,0)","v":0},{"$f":"IF(AZ524=5,G524,0)","v":0},null,null,null,null,null,null,null,null,null,null,null,null,null,null,null,null,null,null,null,null,null,3,1]
[null,null,"Šoupátko přírubové krkové - měkcetěsnící klínové šoupátko s hladkým a volným průtokovým kanálem",null,null,null,null,null,null,null,null,"Šoupátko přírubové krkové - měkcetěsnící klínové šoupátko s hladkým a volným průtokovým kanálem",null,null,3]
[null,null,"č. 4000E3",null,null,null,null,null,null,null,null,"č. 4000E3",null,null,3]
[null,null,"PN 16",null,null,null,null,null,null,null,null,"PN 16",null,null,3]
[null,null,"DN 150",null,null,null,null,null,null,null,null,"DN 150",null,null,3]
[null,null,"těleso a víko: tvárná litina GGG 400 - DIN 1693",null,null,null,null,null,null,null,null,"těleso a víko: tvárná litina GGG 400 - DIN 1693",null,null,3]
[null,null,"medium: pitná voda, neagresivní odpadní voda",null,null,null,null,null,null,null,null,"medium: pitná voda, neagresivní odpadní voda",null,null,3]
[null,null,"Přeložka řadu \"V1\" TLT DN100:",null,0,null,null,null,null,null,null,null,"Přeložka řadu \"V1\" TLT DN100:"]
[null,null,"Přeložka řadu \"V3\" PE D110x10,0 mm a PE D160x14,6 mm:",null,0,null,null,null,null,null,null,null,"Přeložka řadu \"V3\" PE D110x10,0 mm a PE D160x14,6 mm:"]
[null,null,"Přeložka řadu \"V4\" PE D90x8,2 mm:",null,0,null,null,null,null,null,null,null,"Přeložka řadu \"V4\" PE D90x8,2 mm:"]
[null,null,"Šoupě DN150:2",null,2,null,null,null,null,null,null,null,"Šoupě DN150:2"]
[74,"422737412.R","Hydrant podzemní DUO K240, DN80/1,5 m","kus",6,null,{"$f":"E535*F535","v":0},3.95E-2,{"$f":"E535*H535","v":0.23699999999999999},null,{"$f":"E535*J535","v":0},null,null,null,2,null,null,null,null,null,null,null,null,null,null,null,3,1,"422737412.R",null,null,null,null,null,null,null,null,null,null,null,null,null,null,null,null,null,null,null,null,null,null,1,{"$f":"IF(AZ535=1,G535,0)","v":0},{"$f":"IF(AZ535=2,G535,0)","v":0},{"$f":"IF(AZ535=3,G535,0)","v":0},{"$f":"IF(AZ535=4,G535,0)","v":0},{"$f":"IF(AZ535=5,G535,0)","v":0},null,null,null,null,null,null,null,null,null,null,null,null,null,null,null,null,null,null,null,null,null,3,1]
[null,null,"Přeložka řadu \"V1\" TLT DN100:",null,0,null,null,null,null,null,null,null,"Přeložka řadu \"V1\" TLT DN100:"]
[null,null,"Přeložka řadu \"V3\" PE D110x10,0 mm a PE D160x14,6 mm:",null,0,null,null,null,null,null,null,null,"Přeložka řadu \"V3\" PE D110x10,0 mm a PE D160x14,6 mm:"]
[null,null,"Přeložka řadu \"V4\" PE D90x8,2 mm:",null,0,null,null,null,null,null,null,null,"Přeložka řadu \"V4\" PE D90x8,2 mm:"]
[null,null,"Hp DN80/1,5:6",null,6,null,null,null,null,null,null,null,"Hp DN80/1,5:6"]
[75,"42293250.R","Souprava zemní tel.9502E2/E3 DN50 -100, 1,3-1,8m","kus",22,null,{"$f":"E540*F540","v":0},7.3000000000000001E-3,{"$f":"E540*H540","v":0.16059999999999999},null,{"$f":"E540*J540","v":0},null,null,null,2,null,null,null,null,null,null,null,null,null,null,null,3,1,"42293250.R",null,null,null,null,null,null,null,null,null,null,null,null,null,null,null,null,null,null,null,null,null,null,1,{"$f":"IF(AZ540=1,G540,0)","v":0},{"$f":"IF(AZ540=2,G540,0)","v":0},{"$f":"IF(AZ540=3,G540,0)","v":0},{"$f":"IF(AZ540=4,G540,0)","v":0},{"$f":"IF(AZ540=5,G540,0)","v":0},null,null,null,null,null,null,null,null,null,null,null,null,null,null,null,null,null,null,null,null,null,3,1]
[null,null,"Přeložka řadu \"V1\" TLT DN100:",null,0,null,null,null,null,null,null,null,"Přeložka řadu \"V1\" TLT DN100:"]
[null,null,"Přeložka řadu \"V3\" PE D110x10,0 mm a PE D160x14,6 mm:",null,0,null,null,null,null,null,null,null,"Přeložka řadu \"V3\" PE D110x10,0 mm a PE D160x14,6 mm:"]
[null,null,"Přeložka řadu \"V4\" PE D90x8,2 mm:",null,0,null,null,null,null,null,null,null,"Přeložka řadu \"V4\" PE D90x8,2 mm:"]
[null,null,"Pro Šoupě DN80:9",null,9,null,null,null,null,null,null,null,"Pro Šoupě DN80:9"]
[null,null,"Pro Šoupě DN100:13",null,13,null,null,null,null,null,null,null,"Pro Šoupě DN100:13"]
[76,"42293251.R","Souprava zemní tel.9502E2/E3 DN125-150, 1,3-1,8m","kus",2,null,{"$f":"E546*F546","v":0},7.3000000000000001E-3,{"$f":"E546*H546","v":1.46E-2},null,{"$f":"E546*J546","v":0},null,null,null,2,null,null,null,null,null,null,null,null,null,null,null,3,1,"42293251.R",null,null,null,null,null,null,null,null,null,null,null,null,null,null,null,null,null,null,null,null,null,null,1,{"$f":"IF(AZ546=1,G546,0)","v":0},{"$f":"IF(AZ546=2,G546,0)","v":0},{"$f":"IF(AZ546=3,G546,0)","v":0},{"$f":"IF(AZ546=4,G546,0)","v":0},{"$f":"IF(AZ546=5,G546,0)","v":0},null,null,null,null,null,null,null,null,null,null,null,null,null,null,null,null,null,null,null,null,null,3,1]
[null,null,"Přeložka řadu \"V1\" TLT DN100:",null,0,null,null,null,null,null,null,null,"Přeložka řadu \"V1\" TLT DN100:"]
[null,null,"Přeložka řadu \"V3\" PE D110x10,0 mm a PE D160x14,6 mm:",null,0,null,null,null,null,null,null,null,"Přeložka řadu \"V3\" PE D110x10,0 mm a PE D160x14,6 mm:"]
[null,null,"Přeložka řadu \"V4\" PE D90x8,2 mm:",null,0,null,null,null,null,null,null,null,"Přeložka řadu \"V4\" PE D90x8,2 mm:"]
[null,null,"Pro Šoupě DN150:2",null,2,null,null,null,null,null,null,null,"Pro Šoupě DN150:2"]
[77,"422935285.R","Spojka Synoflex s přírubou redukovaná 7994 DN 100/80, PN 16","kus",1,null,{"$f":"E551*F551","v":0},3.8999999999999998E-3,{"$f":"E551*H551","v":3.8999999999999998E-3},null,{"$f":"E551*J551","v":0},null,null,null,2,null,null,null,null,null,null,null,null,null,null,null,3,1,"422935285.R",null,null,null,null,null,null,null,null,null,null,null,null,null,null,null,null,null,null,null,null,null,null,1,{"$f":"IF(AZ551=1,G551,0)","v":0},{"$f":"IF(AZ551=2,G551,0)","v":0},{"$f":"IF(AZ551=3,G551,0)","v":0},{"$f":"IF(AZ551=4,G551,0)","v":0},{"$f":"IF(AZ551=5,G551,0)","v":0},null,null,null,null,null,null,null,null,null,null,null,null,null,null,null,null,null,null,null,null,null,3,1]
[null,null,"Přeložka řadu \"V1\" TLT DN100:",null,0,null,null,null,null,null,null,null,"Přeložka řadu \"V1\" TLT DN100:"]
[null,null,"Přeložka řadu \"V3\" PE D110x10,0 mm a PE D160x14,6 mm:",null,0,null,null,null,null,null,null,null,"Přeložka řadu \"V3\" PE D110x10,0 mm a PE D160x14,6 mm:"]
[null,null,"Přeložka řadu \"V4\" PE D90x8,2 mm:",null,0,null,null,null,null,null,null,null,"Přeložka řadu \"V4\" PE D90x8,2 mm:"]
[null,null,"Synoflex s přírubou redukovaná DN100/80:1",null,1,null,null,null,null,null,null,null,"Synoflex s přírubou redukovaná DN100/80:1"]
[78,"422935306.R","Spojka Synoflex 7974, DN 150, PN 16","kus",1,null,{"$f":"E556*F556","v":0},1.9300000000000001E-2,{"$f":"E556*H556","v":1.9300000000000001E-2},null,{"$f":"E556*J556","v":0},null,null,null,2,null,null,null,null,null,null,null,null,null,null,null,3,1,"422935306.R",null,null,null,null,null,null,null,null,null,null,null,null,null,null,null,null,null,null,null,null,null,null,1,{"$f":"IF(AZ556=1,G556,0)","v":0},{"$f":"IF(AZ556=2,G556,0)","v":0},{"$f":"IF(AZ556=3,G556,0)","v":0},{"$f":"IF(AZ556=4,G556,0)","v":0},{"$f":"IF(AZ556=5,G556,0)","v":0},null,null,null,null,null,null,null,null,null,null,null,null,null,null,null,null,null,null,null,null,null,3,1]
[null,null,"Spojka jištěná proti posunu ",null,null,null,null,null,null,null,null,"Spojka jištěná proti posunu ",null,null,3]
[null,null,"pro všechny standardní materiály potrubí s velkým rozsahem vnějších průměrů potrubí a úhlovým vychýlením.",null,null,null,null,null,null,null,null,"pro všechny standardní materiály potrubí s velkým rozsahem vnějších průměrů potrubí a úhlovým vychýlením.",null,null,3]
[null,null,"vhodné pro všechny druhy potrubí používané ve vodárenství",null,null,null,null,null,null,null,null,"vhodné pro všechny druhy potrubí používané ve vodárenství",null,null,3]
[null,null,"(litina, ocel, PE, PVC a AC)",null,null,null,null,null,null,null,null,"(litina, ocel, PE, PVC a AC)",null,null,3]
[null,null,"Konstrukční charakteristiky",null,null,null,null,null,null,null,null,"Konstrukční charakteristiky",null,null,3]
[null,null,"• multitoleranční spojky SYNOFLEX s jištěním proti posunu jsou",null,null,null,null,null,null,null,null,"• multitoleranční spojky SYNOFLEX s jištěním proti posunu jsou",null,null,3]
[null,null,"vhodné pro všechny druhy potrubí používané ve vodárenství",null,null,null,null,null,null,null,null,"vhodné pro všechny druhy potrubí používané ve vodárenství",null,null,3]
[null,null,"(litina, ocel, PE, PVC a AC)",null,null,null,null,null,null,null,null,"(litina, ocel, PE, PVC a AC)",null,null,3]
[null,null,"• dle EN 14525",null,null,null,null,null,null,null,null,"• dle EN 14525",null,null,3]
[null,null,"• flexibilní těsnění",null,null,null,null,null,null,null,null,"• flexibilní těsnění",null,null,3]
[null,null,"• flexibilní SYNOFLEX kroužek",null,null,null,null,null,null,null,null,"• flexibilní SYNOFLEX kroužek",null,null,3]
[null,null,"• jisticí prvky jsou pevně namontovány na každém segmentu",null,null,null,null,null,null,null,null,"• jisticí prvky jsou pevně namontovány na každém segmentu",null,null,3]
[null,null,"SYNOFLEX kroužku",null,null,null,null,null,null,null,null,"SYNOFLEX kroužku",null,null,3]
[null,null,"• šrouby lze montovat i otočené o 180°",null,null,null,null,null,null,null,null,"• šrouby lze montovat i otočené o 180°",null,null,3]
[null,null,"• zajištění hlav šroubů proti pootočení",null,null,null,null,null,null,null,null,"• zajištění hlav šroubů proti pootočení",null,null,3]
[null,null,"• úhlové vychýlení max. 8°(+/- 4° na každé hrdlo)",null,null,null,null,null,null,null,null,"• úhlové vychýlení max. 8°(+/- 4° na každé hrdlo)",null,null,3]
[null,null,"• pro jištění tahových sil na PE (PE ? SDR 17) potrubí je doporučená instalace rozpěrných pouzder č. 6035",null,null,null,null,null,null,null,null,"• pro jištění tahových sil na PE (PE ? SDR 17) potrubí je doporučená instalace rozpěrných pouzder č. 6035",null,null,3]
[null,null,"materiál tělo z tvárné litiny s epoxidovou povrchovou úpravou",null,null,null,null,null,null,null,null,"materiál tělo z tvárné litiny s epoxidovou povrchovou úpravou",null,null,3]
[null,null,"upínací kroužek z tvárné litiny s epoxidovou povrchovou",null,null,null,null,null,null,null,null,"upínací kroužek z tvárné litiny s epoxidovou povrchovou",null,null,3]
[null,null,"úpravou",null,null,null,null,null,null,null,null,"úpravou",null,null,3]
[null,null,"těsnění z elastomeru",null,null,null,null,null,null,null,null,"těsnění z elastomeru",null,null,3]
[null,null,"Přeložka řadu \"V1\" TLT DN100:",null,0,null,null,null,null,null,null,null,"Přeložka řadu \"V1\" TLT DN100:"]
[null,null,"Přeložka řadu \"V3\" PE D110x10,0 mm a PE D160x14,6 mm:",null,0,null,null,null,null,null,null,null,"Přeložka řadu \"V3\" PE D110x10,0 mm a PE D160x14,6 mm:"]
[null,null,"Přeložka řadu \"V4\" PE D90x8,2 mm:",null,0,null,null,null,null,null,null,null,"Přeložka řadu \"V4\" PE D90x8,2 mm:"]
[null,null,"Synoflex spojka DN150:1",null,1,null,null,null,null,null,null,null,"Synoflex spojka DN150:1"]
[79,"422935323.R","Spojka Synoflex s přírubou 7994, DN100,PN 16","kus",3,null,{"$f":"E582*F582","v":0},1.0800000000000001E-2,{"$f":"E582*H582","v":3.2399999999999998E-2},null,{"$f":"E582*J582","v":0},null,null,null,2,null,null,null,null,null,null,null,null,null,null,null,3,1,"422935323.R",null,null,null,null,null,null,null,null,null,null,null,null,null,null,null,null,null,null,null,null,null,null,1,{"$f":"IF(AZ582=1,G582,0)","v":0},{"$f":"IF(AZ582=2,G582,0)","v":0},{"$f":"IF(AZ582=3,G582,0)","v":0},{"$f":"IF(AZ582=4,G582,0)","v":0},{"$f":"IF(AZ582=5,G582,0)","v":0},null,null,null,null,null,null,null,null,null,null,null,null,null,null,null,null,null,null,null,null,null,3,1]
[null,null,"Spojka s přírubou jištěná proti posunu pro všechny standardní materiály potrubí s velkým rozsahem vnějších průměrů potrubí a úhlovým vychýlením",null,null,null,null,null,null,null,null,"Spojka s přírubou jištěná proti posunu pro všechny standardní materiály potrubí s velkým rozsahem vnějších průměrů potrubí a úhlovým vychýlením",null,null,3]
[null,null,"PROVEDENÍ: hrdlo - příruba",null,null,null,null,null,null,null,null,"PROVEDENÍ: hrdlo - příruba",null,null,3]
[null,null,"dle EN 14 525",null,null,null,null,null,null,null,null,"dle EN 14 525",null,null,3]
[null,null,"příruba a opěrný kroužek: dle EN 1092-2 PN10 (případně PN16)",null,null,null,null,null,null,null,null,"příruba a opěrný kroužek: dle EN 1092-2 PN10 (případně PN16)",null,null,3]
[null,null,"tělo a přítlačný kroužek: z tvárné litny EN-GJS-400 s povrchovou úpravou vířivým slinováním",null,null,null,null,null,null,null,null,"tělo a přítlačný kroužek: z tvárné litny EN-GJS-400 s povrchovou úpravou vířivým slinováním",null,null,3]
[null,null,"flexibilní těsnění: z elastomeru dle EN 681-1 (vhodné pro pitnou vodu)",null,null,null,null,null,null,null,null,"flexibilní těsnění: z elastomeru dle EN 681-1 (vhodné pro pitnou vodu)",null,null,3]
[null,null,"flexibilní Synoflex kroužek: z POM sestaven z jednotlivých segmentů",null,null,null,null,null,null,null,null,"flexibilní Synoflex kroužek: z POM sestaven z jednotlivých segmentů",null,null,3]
[null,null,"jistící prvky: z nekorodující oceli na každém segmentu kroužku",null,null,null,null,null,null,null,null,"jistící prvky: z nekorodující oceli na každém segmentu kroužku",null,null,3]
[null,null,"šrouby a matice: z nerezové oceli s povrchovou úpravou proti zadírání",null,null,null,null,null,null,null,null,"šrouby a matice: z nerezové oceli s povrchovou úpravou proti zadírání",null,null,3]
[null,null,"podložky: z nerezové oceli s ochrannou krytkou z elastomeru",null,null,null,null,null,null,null,null,"podložky: z nerezové oceli s ochrannou krytkou z elastomeru",null,null,3]
[null,null,"šrbouby: lze použít i otočené o 180°",null,null,null,null,null,null,null,null,"šrbouby: lze použít i otočené o 180°",null,null,3]
[null,null,"distanční objímky: z plastu",null,null,null,null,null,null,null,null,"distanční objímky: z plastu",null,null,3]
[null,null,"úhlové vychýlení (ČSN EN 14 525)",null,null,null,null,null,null,null,null,"úhlové vychýlení (ČSN EN 14 525)",null,null,3]
[null,null,"pro jištění tahových sil na PE potrubí doporučujeme instalaci rozpěrných pouzder (č. 6035, 6036)",null,null,null,null,null,null,null,null,"pro jištění tahových sil na PE potrubí doporučujeme instalaci rozpěrných pouzder (č. 6035, 6036)",null,null,3]
[null,null,"Přeložka řadu \"V1\" TLT DN100:",null,0,null,null,null,null,null,null,null,"Přeložka řadu \"V1\" TLT DN100:"]
[null,null,"Přeložka řadu \"V3\" PE D110x10,0 mm a PE D160x14,6 mm:",null,0,null,null,null,null,null,null,null,"Přeložka řadu \"V3\" PE D110x10,0 mm a PE D160x14,6 mm:"]
[null,null,"Přeložka řadu \"V4\" PE D90x8,2 mm:",null,0,null,null,null,null,null,null,null,"Přeložka řadu \"V4\" PE D90x8,2 mm:"]
[null,null,"Synoflex s přírubou DN100:3",null,3,null,null,null,null,null,null,null,"Synoflex s přírubou DN100:3"]
[80,"422935325.R","Spojka Synoflex s přírubou 7994, DN150,PN 16","kus",1,null,{"$f":"E601*F601","v":0},1.67E-2,{"$f":"E601*H601","v":1.67E-2},null,{"$f":"E601*J601","v":0},null,null,null,2,null,null,null,null,null,null,null,null,null,null,null,3,1,"422935325.R",null,null,null,null,null,null,null,null,null,null,null,null,null,null,null,null,null,null,null,null,null,null,1,{"$f":"IF(AZ601=1,G601,0)","v":0},{"$f":"IF(AZ601=2,G601,0)","v":0},{"$f":"IF(AZ601=3,G601,0)","v":0},{"$f":"IF(AZ601=4,G601,0)","v":0},{"$f":"IF(AZ601=5,G601,0)","v":0},null,null,null,null,null,null,null,null,null,null,null,null,null,null,null,null,null,null,null,null,null,3,1]
[null,null,"Spojka s přírubou jištěná proti posunu pro všechny standardní materiály potrubí s velkým rozsahem vnějších průměrů potrubí a úhlovým vychýlením",null,null,null,null,null,null,null,null,"Spojka s přírubou jištěná proti posunu pro všechny standardní materiály potrubí s velkým rozsahem vnějších průměrů potrubí a úhlovým vychýlením",null,null,3]
[null,null,"PROVEDENÍ: hrdlo - příruba",null,null,null,null,null,null,null,null,"PROVEDENÍ: hrdlo - příruba",null,null,3]
[null,null,"dle EN 14 525",null,null,null,null,null,null,null,null,"dle EN 14 525",null,null,3]
[null,null,"příruba a opěrný kroužek: dle EN 1092-2 PN10 (případně PN16)",null,null,null,null,null,null,null,null,"příruba a opěrný kroužek: dle EN 1092-2 PN10 (případně PN16)",null,null,3]
[null,null,"tělo a přítlačný kroužek: z tvárné litny EN-GJS-400 s povrchovou úpravou vířivým slinováním",null,null,null,null,null,null,null,null,"tělo a přítlačný kroužek: z tvárné litny EN-GJS-400 s povrchovou úpravou vířivým slinováním",null,null,3]
[null,null,"flexibilní těsnění: z elastomeru dle EN 681-1 (vhodné pro pitnou vodu)",null,null,null,null,null,null,null,null,"flexibilní těsnění: z elastomeru dle EN 681-1 (vhodné pro pitnou vodu)",null,null,3]
[null,null,"flexibilní Synoflex kroužek: z POM sestaven z jednotlivých segmentů",null,null,null,null,null,null,null,null,"flexibilní Synoflex kroužek: z POM sestaven z jednotlivých segmentů",null,null,3]
[null,null,"jistící prvky: z nekorodující oceli na každém segmentu kroužku",null,null,null,null,null,null,null,null,"jistící prvky: z nekorodující oceli na každém segmentu kroužku",null,null,3]
[null,null,"šrouby a matice: z nerezové oceli s povrchovou úpravou proti zadírání",null,null,null,null,null,null,null,null,"šrouby a matice: z nerezové oceli s povrchovou úpravou proti zadírání",null,null,3]
[null,null,"podložky: z nerezové oceli s ochrannou krytkou z elastomeru",null,null,null,null,null,null,null,null,"podložky: z nerezové oceli s ochrannou krytkou z elastomeru",null,null,3]
[null,null,"šrbouby: lze použít i otočené o 180°",null,null,null,null,null,null,null,null,"šrbouby: lze použít i otočené o 180°",null,null,3]
[null,null,"distanční objímky: z plastu",null,null,null,null,null,null,null,null,"distanční objímky: z plastu",null,null,3]
[null,null,"úhlové vychýlení (ČSN EN 14 525)",null,null,null,null,null,null,null,null,"úhlové vychýlení (ČSN EN 14 525)",null,null,3]
[null,null,"pro jištění tahových sil na PE potrubí doporučujeme instalaci rozpěrných pouzder (č. 6035, 6036)",null,null,null,null,null,null,null,null,"pro jištění tahových sil na PE potrubí doporučujeme instalaci rozpěrných pouzder (č. 6035, 6036)",null,null,3]
[null,null,"Přeložka řadu \"V1\" TLT DN100:",null,0,null,null,null,null,null,null,null,"Přeložka řadu \"V1\" TLT DN100:"]
[null,null,"Přeložka řadu \"V3\" PE D110x10,0 mm a PE D160x14,6 mm:",null,0,null,null,null,null,null,null,null,"Přeložka řadu \"V3\" PE D110x10,0 mm a PE D160x14,6 mm:"]
[null,null,"Přeložka řadu \"V4\" PE D90x8,2 mm:",null,0,null,null,null,null,null,null,null,"Přeložka řadu \"V4\" PE D90x8,2 mm:"]
[null,null,"Synoflex s přírubou DN150:1",null,1,null,null,null,null,null,null,null,"Synoflex s přírubou DN150:1"]
[81,"55251131.R","TL vod.tlak. ZINEK-PLUS DN100 mm spoj TYTON C100","m",351.63150000000002,null,{"$f":"E620*F620","v":0},1.77E-2,{"$f":"E620*H620","v":6.2238775500000001},null,{"$f":"E620*J620","v":0},null,null,null,2,null,null,null,null,null,null,null,null,null,null,null,3,1,"55251131.R",null,null,null,null,null,null,null,null,null,null,null,null,null,null,null,null,null,null,null,null,null,null,1,{"$f":"IF(AZ620=1,G620,0)","v":0},{"$f":"IF(AZ620=2,G620,0)","v":0},{"$f":"IF(AZ620=3,G620,0)","v":0},{"$f":"IF(AZ620=4,G620,0)","v":0},{"$f":"IF(AZ620=5,G620,0)","v":0},null,null,null,null,null,null,null,null,null,null,null,null,null,null,null,null,null,null,null,null,null,3,1]
[null,null,"Hrdlová trouba z tvárné litiny s hladkým koncem dle ČSN EN 545",null,null,null,null,null,null,null,null,"Hrdlová trouba z tvárné litiny s hladkým koncem dle ČSN EN 545",null,null,3]
[null,null,"Hrdlový spoj Tyton (pružný násuvný spoj EPDM)",null,null,null,null,null,null,null,null,"Hrdlový spoj Tyton (pružný násuvný spoj EPDM)",null,null,3]
[null,null,"Zinek Plus - vně zinko-aluminiový povlak 400 g/m2 (85Zn-15Al) s krycí modrou epoxidovou vrstvou",null,null,null,null,null,null,null,null,"Zinek Plus - vně zinko-aluminiový povlak 400 g/m2 (85Zn-15Al) s krycí modrou epoxidovou vrstvou",null,null,3]
[null,null,"uvnitř vyložení z cementové malty z vysokopecního cementu",null,null,null,null,null,null,null,null,"uvnitř vyložení z cementové malty z vysokopecního cementu",null,null,3]
[null,null,"hrdla trub jsou zevnitř pozinkována a pokryta epoxidovým povlakem",null,null,null,null,null,null,null,null,"hrdla trub jsou zevnitř pozinkována a pokryta epoxidovým povlakem",null,null,3]
[null,null,"Poznámka: ",null,null,null,null,null,null,null,null,"Poznámka: ",null,null,3]
[null,null,"Alternativně lze použít trubky jiného výrobce po odsouhlasení provozovatelem.",null,null,null,null,null,null,null,null,"Alternativně lze použít trubky jiného výrobce po odsouhlasení provozovatelem.",null,null,3]
[null,null,"Přeložka řadu \"V1\" TLT DN100:348,15*1,01",null,351.63150000000002,null,null,null,null,null,null,null,"Přeložka řadu \"V1\" TLT DN100:348,15*1,01"]
[82,"5525852704.R","Tvarovka přír.litin. s hlad.koncem  F DN 100","kus",4,null,{"$f":"E629*F629","v":0},9.7000000000000003E-3,{"$f":"E629*H629","v":3.8800000000000001E-2},null,{"$f":"E629*J629","v":0},null,null,null,2,null,null,null,null,null,null,null,null,null,null,null,3,1,"5525852704.R",null,null,null,null,null,null,null,null,null,null,null,null,null,null,null,null,null,null,null,null,null,null,1,{"$f":"IF(AZ629=1,G629,0)","v":0},{"$f":"IF(AZ629=2,G629,0)","v":0},{"$f":"IF(AZ629=3,G629,0)","v":0},{"$f":"IF(AZ629=4,G629,0)","v":0},{"$f":"IF(AZ629=5,G629,0)","v":0},null,null,null,null,null,null,null,null,null,null,null,null,null,null,null,null,null,null,null,null,null,3,1]
[null,null,"Přeložka řadu \"V1\" TLT DN100:",null,0,null,null,null,null,null,null,null,"Přeložka řadu \"V1\" TLT DN100:"]
[null,null,"Přeložka řadu \"V3\" PE D110x10,0 mm a PE D160x14,6 mm:",null,0,null,null,null,null,null,null,null,"Přeložka řadu \"V3\" PE D110x10,0 mm a PE D160x14,6 mm:"]
[null,null,"Přeložka řadu \"V4\" PE D90x8,2 mm:",null,0,null,null,null,null,null,null,null,"Přeložka řadu \"V4\" PE D90x8,2 mm:"]
[null,null,"F DN100:4",null,4,null,null,null,null,null,null,null,"F DN100:4"]
[83,"55259412.R","Koleno hrdlové MMK DN100-11 1/4°","kus",5,null,{"$f":"E634*F634","v":0},8.8000000000000005E-3,{"$f":"E634*H634","v":4.4000000000000004E-2},null,{"$f":"E634*J634","v":0},null,null,null,2,null,null,null,null,null,null,null,null,null,null,null,3,1,"55259412.R",null,null,null,null,null,null,null,null,null,null,null,null,null,null,null,null,null,null,null,null,null,null,1,{"$f":"IF(AZ634=1,G634,0)","v":0},{"$f":"IF(AZ634=2,G634,0)","v":0},{"$f":"IF(AZ634=3,G634,0)","v":0},{"$f":"IF(AZ634=4,G634,0)","v":0},{"$f":"IF(AZ634=5,G634,0)","v":0},null,null,null,null,null,null,null,null,null,null,null,null,null,null,null,null,null,null,null,null,null,3,1]
[null,null,"Přeložka řadu \"V1\" TLT DN100:",null,0,null,null,null,null,null,null,null,"Přeložka řadu \"V1\" TLT DN100:"]
[null,null,"MMK 11°/DN100:5",null,5,null,null,null,null,null,null,null,"MMK 11°/DN100:5"]
[84,"55259452.R","Koleno hrdlové MMK DN100/30°","kus",1,null,{"$f":"E637*F637","v":0},1.04E-2,{"$f":"E637*H637","v":1.04E-2},null,{"$f":"E637*J637","v":0},null,null,null,2,null,null,null,null,null,null,null,null,null,null,null,3,1,"55259452.R",null,null,null,null,null,null,null,null,null,null,null,null,null,null,null,null,null,null,null,null,null,null,1,{"$f":"IF(AZ637=1,G637,0)","v":0},{"$f":"IF(AZ637=2,G637,0)","v":0},{"$f":"IF(AZ637=3,G637,0)","v":0},{"$f":"IF(AZ637=4,G637,0)","v":0},{"$f":"IF(AZ637=5,G637,0)","v":0},null,null,null,null,null,null,null,null,null,null,null,null,null,null,null,null,null,null,null,null,null,3,1]
[null,null,"Přeložka řadu \"V1\" TLT DN100:",null,0,null,null,null,null,null,null,null,"Přeložka řadu \"V1\" TLT DN100:"]
[null,null,"MMK 30°/DN100:1",null,1,null,null,null,null,null,null,null,"MMK 30°/DN100:1"]
[85,"55259731.R","Tvar. přír. s hrdlem EU DN 100","kus",5,null,{"$f":"E640*F640","v":0},8.8000000000000005E-3,{"$f":"E640*H640","v":4.4000000000000004E-2},null,{"$f":"E640*J640","v":0},null,null,null,2,null,null,null,null,null,null,null,null,null,null,null,3,1,"55259731.R",null,null,null,null,null,null,null,null,null,null,null,null,null,null,null,null,null,null,null,null,null,null,1,{"$f":"IF(AZ640=1,G640,0)","v":0},{"$f":"IF(AZ640=2,G640,0)","v":0},{"$f":"IF(AZ640=3,G640,0)","v":0},{"$f":"IF(AZ640=4,G640,0)","v":0},{"$f":"IF(AZ640=5,G640,0)","v":0},null,null,null,null,null,null,null,null,null,null,null,null,null,null,null,null,null,null,null,null,null,3,1]
[null,null,"Přeložka řadu \"V1\" TLT DN100:",null,0,null,null,null,null,null,null,null,"Přeložka řadu \"V1\" TLT DN100:"]
[null,null,"Přeložka řadu \"V3\" PE D110x10,0 mm a PE D160x14,6 mm:",null,0,null,null,null,null,null,null,null,"Přeložka řadu \"V3\" PE D110x10,0 mm a PE D160x14,6 mm:"]
[null,null,"Přeložka řadu \"V4\" PE D90x8,2 mm:",null,0,null,null,null,null,null,null,null,"Přeložka řadu \"V4\" PE D90x8,2 mm:"]
[null,null,"EU DN100:5",null,5,null,null,null,null,null,null,null,"EU DN100:5"]
[86,"55259815.R","Přechod přír. FFR DN 100/ 80","kus",1,null,{"$f":"E645*F645","v":0},9.7999999999999997E-3,{"$f":"E645*H645","v":9.7999999999999997E-3},null,{"$f":"E645*J645","v":0},null,null,null,2,null,null,null,null,null,null,null,null,null,null,null,3,1,"55259815.R",null,null,null,null,null,null,null,null,null,null,null,null,null,null,null,null,null,null,null,null,null,null,1,{"$f":"IF(AZ645=1,G645,0)","v":0},{"$f":"IF(AZ645=2,G645,0)","v":0},{"$f":"IF(AZ645=3,G645,0)","v":0},{"$f":"IF(AZ645=4,G645,0)","v":0},{"$f":"IF(AZ645=5,G645,0)","v":0},null,null,null,null,null,null,null,null,null,null,null,null,null,null,null,null,null,null,null,null,null,3,1]
[null,null,"Přeložka řadu \"V1\" TLT DN100:",null,0,null,null,null,null,null,null,null,"Přeložka řadu \"V1\" TLT DN100:"]
[null,null,"Přeložka řadu \"V3\" PE D110x10,0 mm a PE D160x14,6 mm:",null,0,null,null,null,null,null,null,null,"Přeložka řadu \"V3\" PE D110x10,0 mm a PE D160x14,6 mm:"]
[null,null,"Přeložka řadu \"V4\" PE D90x8,2 mm:",null,0,null,null,null,null,null,null,null,"Přeložka řadu \"V4\" PE D90x8,2 mm:"]
[null,null,"FFR DN100/80:1",null,1,null,null,null,null,null,null,null,"FFR DN100/80:1"]
[87,"55259950.R","Koleno přírubové FFK DN 80-30°","kus",3,null,{"$f":"E650*F650","v":0},9.7000000000000003E-3,{"$f":"E650*H650","v":2.9100000000000001E-2},null,{"$f":"E650*J650","v":0},null,null,null,2,null,null,null,null,null,null,null,null,null,null,null,3,1,"55259950.R",null,null,null,null,null,null,null,null,null,null,null,null,null,null,null,null,null,null,null,null,null,null,1,{"$f":"IF(AZ650=1,G650,0)","v":0},{"$f":"IF(AZ650=2,G650,0)","v":0},{"$f":"IF(AZ650=3,G650,0)","v":0},{"$f":"IF(AZ650=4,G650,0)","v":0},{"$f":"IF(AZ650=5,G650,0)","v":0},null,null,null,null,null,null,null,null,null,null,null,null,null,null,null,null,null,null,null,null,null,3,1]
[null,null,"Přeložka řadu \"V1\" TLT DN100:",null,0,null,null,null,null,null,null,null,"Přeložka řadu \"V1\" TLT DN100:"]
[null,null,"Přeložka řadu \"V3\" PE D110x10,0 mm a PE D160x14,6 mm:",null,0,null,null,null,null,null,null,null,"Přeložka řadu \"V3\" PE D110x10,0 mm a PE D160x14,6 mm:"]
[null,null,"Přeložka řadu \"V4\" PE D90x8,2 mm:",null,0,null,null,null,null,null,null,null,"Přeložka řadu \"V4\" PE D90x8,2 mm:"]
[null,null,"FFK DN80/30°:3",null,3,null,null,null,null,null,null,null,"FFK DN80/30°:3"]
[88,"55259952.R","Koleno přírubové FFK DN 100-30°","kus",1.01,null,{"$f":"E655*F655","v":0},1.26E-2,{"$f":"E655*H655","v":1.2725999999999999E-2},null,{"$f":"E655*J655","v":0},null,null,null,2,null,null,null,null,null,null,null,null,null,null,null,3,1,"55259952.R",null,null,null,null,null,null,null,null,null,null,null,null,null,null,null,null,null,null,null,null,null,null,1,{"$f":"IF(AZ655=1,G655,0)","v":0},{"$f":"IF(AZ655=2,G655,0)","v":0},{"$f":"IF(AZ655=3,G655,0)","v":0},{"$f":"IF(AZ655=4,G655,0)","v":0},{"$f":"IF(AZ655=5,G655,0)","v":0},null,null,null,null,null,null,null,null,null,null,null,null,null,null,null,null,null,null,null,null,null,3,1]
[null,null,"Přeložka řadu \"V1\" TLT DN100:",null,0,null,null,null,null,null,null,null,"Přeložka řadu \"V1\" TLT DN100:"]
[null,null,"Přeložka řadu \"V3\" PE D110x10,0 mm a PE D160x14,6 mm:",null,0,null,null,null,null,null,null,null,"Přeložka řadu \"V3\" PE D110x10,0 mm a PE D160x14,6 mm:"]
[null,null,"Přeložka řadu \"V4\" PE D90x8,2 mm:",null,0,null,null,null,null,null,null,null,"Přeložka řadu \"V4\" PE D90x8,2 mm:"]
[null,null,"FFK DN100/30°:1*1,01",null,1.01,null,null,null,null,null,null,null,"FFK DN100/30°:1*1,01"]
[89,"55259983.R","Koleno přírubové Q DN 100-90°","kus",1,null,{"$f":"E660*F660","v":0},1.21E-2,{"$f":"E660*H660","v":1.21E-2},null,{"$f":"E660*J660","v":0},null,null,null,2,null,null,null,null,null,null,null,null,null,null,null,3,1,"55259983.R",null,null,null,null,null,null,null,null,null,null,null,null,null,null,null,null,null,null,null,null,null,null,1,{"$f":"IF(AZ660=1,G660,0)","v":0},{"$f":"IF(AZ660=2,G660,0)","v":0},{"$f":"IF(AZ660=3,G660,0)","v":0},{"$f":"IF(AZ660=4,G660,0)","v":0},{"$f":"IF(AZ660=5,G660,0)","v":0},null,null,null,null,null,null,null,null,null,null,null,null,null,null,null,null,null,null,null,null,null,3,1]
[null,null,"Přeložka řadu \"V1\" TLT DN100:",null,0,null,null,null,null,null,null,null,"Přeložka řadu \"V1\" TLT DN100:"]
[null,null,"Přeložka řadu \"V3\" PE D110x10,0 mm a PE D160x14,6 mm:",null,0,null,null,null,null,null,null,null,"Přeložka řadu \"V3\" PE D110x10,0 mm a PE D160x14,6 mm:"]
[null,null,"Přeložka řadu \"V4\" PE D90x8,2 mm:",null,0,null,null,null,null,null,null,null,"Přeložka řadu \"V4\" PE D90x8,2 mm:"]
[null,null,"Q DN100/90°:1",null,1,null,null,null,null,null,null,null,"Q DN100/90°:1"]
[90,"552599939.R","Tvarovka přír. s přír. odb. T DN 80/80","kus",1,null,{"$f":"E665*F665","v":0},1.49E-2,{"$f":"E665*H665","v":1.49E-2},null,{"$f":"E665*J665","v":0},null,null,null,2,null,null,null,null,null,null,null,null,null,null,null,3,1,"552599939.R",null,null,null,null,null,null,null,null,null,null,null,null,null,null,null,null,null,null,null,null,null,null,1,{"$f":"IF(AZ665=1,G665,0)","v":0},{"$f":"IF(AZ665=2,G665,0)","v":0},{"$f":"IF(AZ665=3,G665,0)","v":0},{"$f":"IF(AZ665=4,G665,0)","v":0},{"$f":"IF(AZ665=5,G665,0)","v":0},null,null,null,null,null,null,null,null,null,null,null,null,null,null,null,null,null,null,null,null,null,3,1]
[null,null,"Přeložka řadu \"V1\" TLT DN100:",null,0,null,null,null,null,null,null,null,"Přeložka řadu \"V1\" TLT DN100:"]
[null,null,"Přeložka řadu \"V3\" PE D110x10,0 mm a PE D160x14,6 mm:",null,0,null,null,null,null,null,null,null,"Přeložka řadu \"V3\" PE D110x10,0 mm a PE D160x14,6 mm:"]
[null,null,"Přeložka řadu \"V4\" PE D90x8,2 mm:",null,0,null,null,null,null,null,null,null,"Přeložka řadu \"V4\" PE D90x8,2 mm:"]
[null,null,"T DN80/80:1",null,1,null,null,null,null,null,null,null,"T DN80/80:1"]
[91,"552599943.R","Tvarovka přír. s přír. odb. T DN 100/80","kus",5,null,{"$f":"E670*F670","v":0},1.78E-2,{"$f":"E670*H670","v":8.8999999999999996E-2},null,{"$f":"E670*J670","v":0},null,null,null,2,null,null,null,null,null,null,null,null,null,null,null,3,1,"552599943.R",null,null,null,null,null,null,null,null,null,null,null,null,null,null,null,null,null,null,null,null,null,null,1,{"$f":"IF(AZ670=1,G670,0)","v":0},{"$f":"IF(AZ670=2,G670,0)","v":0},{"$f":"IF(AZ670=3,G670,0)","v":0},{"$f":"IF(AZ670=4,G670,0)","v":0},{"$f":"IF(AZ670=5,G670,0)","v":0},null,null,null,null,null,null,null,null,null,null,null,null,null,null,null,null,null,null,null,null,null,3,1]
[null,null,"Přeložka řadu \"V1\" TLT DN100:",null,0,null,null,null,null,null,null,null,"Přeložka řadu \"V1\" TLT DN100:"]
[null,null,"Přeložka řadu \"V3\" PE D110x10,0 mm a PE D160x14,6 mm:",null,0,null,null,null,null,null,null,null,"Přeložka řadu \"V3\" PE D110x10,0 mm a PE D160x14,6 mm:"]
[null,null,"Přeložka řadu \"V4\" PE D90x8,2 mm:",null,0,null,null,null,null,null,null,null,"Přeložka řadu \"V4\" PE D90x8,2 mm:"]
[null,null,"T DN100/80:5",null,5,null,null,null,null,null,null,null,"T DN100/80:5"]
[92,"552599944.R","Tvarovka přír. s přír. odb. T DN 100/100","kus",2,null,{"$f":"E675*F675","v":0},1.9699999999999999E-2,{"$f":"E675*H675","v":3.9399999999999998E-2},null,{"$f":"E675*J675","v":0},null,null,null,2,null,null,null,null,null,null,null,null,null,null,null,3,1,"552599944.R",null,null,null,null,null,null,null,null,null,null,null,null,null,null,null,null,null,null,null,null,null,null,1,{"$f":"IF(AZ675=1,G675,0)","v":0},{"$f":"IF(AZ675=2,G675,0)","v":0},{"$f":"IF(AZ675=3,G675,0)","v":0},{"$f":"IF(AZ675=4,G675,0)","v":0},{"$f":"IF(AZ675=5,G675,0)","v":0},null,null,null,null,null,null,null,null,null,null,null,null,null,null,null,null,null,null,null,null,null,3,1]
[null,null,"Přeložka řadu \"V1\" TLT DN100:",null,0,null,null,null,null,null,null,null,"Přeložka řadu \"V1\" TLT DN100:"]
[null,null,"Přeložka řadu \"V3\" PE D110x10,0 mm a PE D160x14,6 mm:",null,0,null,null,null,null,null,null,null,"Přeložka řadu \"V3\" PE D110x10,0 mm a PE D160x14,6 mm:"]
[null,null,"Přeložka řadu \"V4\" PE D90x8,2 mm:",null,0,null,null,null,null,null,null,null,"Přeložka řadu \"V4\" PE D90x8,2 mm:"]
[null,null,"T DN100/100:2",null,2,null,null,null,null,null,null,null,"T DN100/100:2"]
[93,"552599954.R","Tvarovka přír. s přír. odb. T DN 150/100","kus",1,null,{"$f":"E680*F680","v":0},2.8400000000000002E-2,{"$f":"E680*H680","v":2.8400000000000002E-2},null,{"$f":"E680*J680","v":0},null,null,null,2,null,null,null,null,null,null,null,null,null,null,null,3,1,"552599954.R",null,null,null,null,null,null,null,null,null,null,null,null,null,null,null,null,null,null,null,null,null,null,1,{"$f":"IF(AZ680=1,G680,0)","v":0},{"$f":"IF(AZ680=2,G680,0)","v":0},{"$f":"IF(AZ680=3,G680,0)","v":0},{"$f":"IF(AZ680=4,G680,0)","v":0},{"$f":"IF(AZ680=5,G680,0)","v":0},null,null,null,null,null,null,null,null,null,null,null,null,null,null,null,null,null,null,null,null,null,3,1]
[null,null,"Přeložka řadu \"V1\" TLT DN100:",null,0,null,null,null,null,null,null,null,"Přeložka řadu \"V1\" TLT DN100:"]
[null,null,"Přeložka řadu \"V3\" PE D110x10,0 mm a PE D160x14,6 mm:",null,0,null,null,null,null,null,null,null,"Přeložka řadu \"V3\" PE D110x10,0 mm a PE D160x14,6 mm:"]
[null,null,"Přeložka řadu \"V4\" PE D90x8,2 mm:",null,0,null,null,null,null,null,null,null,"Přeložka řadu \"V4\" PE D90x8,2 mm:"]
[null,null,"T DN150/100:1",null,1,null,null,null,null,null,null,null,"T DN150/100:1"]
[94,"5526009705.R","Koleno prodloužené přír.s patkou PPL DN 80","kus",7,null,{"$f":"E685*F685","v":0},1.2200000000000001E-2,{"$f":"E685*H685","v":8.5400000000000004E-2},null,{"$f":"E685*J685","v":0},null,null,null,2,null,null,null,null,null,null,null,null,null,null,null,3,1,"5526009705.R",null,null,null,null,null,null,null,null,null,null,null,null,null,null,null,null,null,null,null,null,null,null,1,{"$f":"IF(AZ685=1,G685,0)","v":0},{"$f":"IF(AZ685=2,G685,0)","v":0},{"$f":"IF(AZ685=3,G685,0)","v":0},{"$f":"IF(AZ685=4,G685,0)","v":0},{"$f":"IF(AZ685=5,G685,0)","v":0},null,null,null,null,null,null,null,null,null,null,null,null,null,null,null,null,null,null,null,null,null,3,1]
[null,null,"Přeložka řadu \"V1\" TLT DN100:",null,0,null,null,null,null,null,null,null,"Přeložka řadu \"V1\" TLT DN100:"]
[null,null,"Přeložka řadu \"V3\" PE D110x10,0 mm a PE D160x14,6 mm:",null,0,null,null,null,null,null,null,null,"Přeložka řadu \"V3\" PE D110x10,0 mm a PE D160x14,6 mm:"]
[null,null,"Přeložka řadu \"V4\" PE D90x8,2 mm:",null,0,null,null,null,null,null,null,null,"Přeložka řadu \"V4\" PE D90x8,2 mm:"]
[null,null,"PPL DN80:7",null,7,null,null,null,null,null,null,null,"PPL DN80:7"]
[95,"5526009730.R","kroužek těs.TYTON pro vod. potrubí (EPDM) DN100","kus",60,null,{"$f":"E690*F690","v":0},1E-4,{"$f":"E690*H690","v":6.0000000000000001E-3},null,{"$f":"E690*J690","v":0},null,null,null,2,null,null,null,null,null,null,null,null,null,null,null,3,1,"5526009730.R",null,null,null,null,null,null,null,null,null,null,null,null,null,null,null,null,null,null,null,null,null,null,1,{"$f":"IF(AZ690=1,G690,0)","v":0},{"$f":"IF(AZ690=2,G690,0)","v":0},{"$f":"IF(AZ690=3,G690,0)","v":0},{"$f":"IF(AZ690=4,G690,0)","v":0},{"$f":"IF(AZ690=5,G690,0)","v":0},null,null,null,null,null,null,null,null,null,null,null,null,null,null,null,null,null,null,null,null,null,3,1]
[null,"Celkem za","8 Trubní vedení",null,null,null,{"$f":"SUM(G171:G690)","v":0},null,{"$f":"SUM(I171:I690)","v":8.6934352540000042},null,{"$f":"SUM(K171:K690)","v":0},null,null,null,4,null,null,null,null,null,null,null,null,null,null,null,null,null,null,null,null,null,null,null,null,null,null,null,null,null,null,null,null,null,null,null,null,null,null,null,null,null,{"$f":"SUM(BA171:BA690)","v":0},{"$f":"SUM(BB171:BB690)","v":0},{"$f":"SUM(BC171:BC690)","v":0},{"$f":"SUM(BD171:BD690)","v":0},{"$f":"SUM(BE171:BE690)","v":0}]
["Díl:","93","Dokončovací práce inženýrských staveb",null,null,null,null,null,null,null,null,null,null,null,1]
[96,"939421121RT1","Osazení samonivelač.vodovod.poklopu za finišerem bez dodávky poklopu","kus",33,null,{"$f":"E693*F693","v":0},5.2499999999999998E-2,{"$f":"E693*H693","v":1.7324999999999999},0,{"$f":"E693*J693","v":0},null,null,null,2,null,null,null,null,null,null,null,null,null,null,null,1,0,0,null,null,null,null,null,null,null,null,null,null,null,null,null,null,null,null,null,null,null,null,null,null,1,{"$f":"IF(AZ693=1,G693,0)","v":0},{"$f":"IF(AZ693=2,G693,0)","v":0},{"$f":"IF(AZ693=3,G693,0)","v":0},{"$f":"IF(AZ693=4,G693,0)","v":0},{"$f":"IF(AZ693=5,G693,0)","v":0},null,null,null,null,null,null,null,null,null,null,null,null,null,null,null,null,null,null,null,null,null,1,0]
[null,null,"Položka obsahuje:",null,null,null,null,null,null,null,null,"Položka obsahuje:",null,null,3]
[null,null," osazení prefabrikovaného betonového prstence do rychletuhnoucí vysokopevnostní malty (s dodávkou hmot)",null,null,null,null,null,null,null,null,"- osazení prefabrikovaného betonového prstence do rychletuhnoucí malty (s dodávkou hmot)",null,null,3]
[null,null,"- zalití prstence rychletuhnoucí zálivkou do výše prstence (s dodávkou hmoty)",null,null,null,null,null,null,null,null,"- zalití prstence rychletuhnoucí zálivkou do výše prstence (s dodávkou hmoty)",null,null,3]
[null,null,"- vložení kruhového bednění",null,null,null,null,null,null,null,null,"- vložení kruhového bednění",null,null,3]
[null,null,"- doplnění mezikruží asfaltovou směsí do výšky současné podkladní vrstvy, zhutnění",null,null,null,null,null,null,null,null,"- doplnění mezikruží asfaltovou směsí do výšky současné podkladní vrstvy, zhutnění",null,null,3]
[null,null,"- vyjmutí kruhového bednění",null,null,null,null,null,null,null,null,"- vyjmutí kruhového bednění",null,null,3]
[null,null,"- osazení poklopu a zatlačení",null,null,null,null,null,null,null,null,"- osazení poklopu a zatlačení",null,null,3]
[null,null,"  (následuje pokládka finální vrstvy vozovky - není součástí položky)",null,null,null,null,null,null,null,null,"  (následuje pokládka finální vrstvy vozovky - není součástí položky)",null,null,3]
[null,null,"- povytažení poklopu",null,null,null,null,null,null,null,null,"- povytažení poklopu",null,null,3]
[null,null,"- podsyp asfaltovou směsí, spuštění poklopu a zhutnění směsi",null,null,null,null,null,null,null,null,"- podsyp asfaltovou směsí, spuštění poklopu a zhutnění směsi",null,null,3]
[null,null,"Položka neobsahuje:",null,null,null,null,null,null,null,null,"Položka neobsahuje:",null,null,3]
[null,null,"- dodávku samonivelačního poklopu - oceňuje se ve specifikaci",null,null,null,null,null,null,null,null,"- dodávku samonivelačního poklopu - oceňuje se ve specifikaci",null,null,3]
[null,null,"- pokládku krycí vrstvy komunikace, oceňuje se samostatně",null,null,null,null,null,null,null,null,"- pokládku krycí vrstvy komunikace, oceňuje se samostatně",null,null,3]
[null,null,"Přeložka řadu \"V1\" TLT DN100:",null,0,null,null,null,null,null,null,null,"Přeložka řadu \"V1\" TLT DN100:"]
[null,null,"Přeložka řadu \"V3\" PE D110x10,0 mm a PE D160x14,6 mm:",null,0,null,null,null,null,null,null,null,"Přeložka řadu \"V3\" PE D110x10,0 mm a PE D160x14,6 mm:"]
[null,null,"Přeložka řadu \"V4\" PE D90x8,2 mm:",null,0,null,null,null,null,null,null,null,"Přeložka řadu \"V4\" PE D90x8,2 mm:"]
[null,null,"Pro Šoupě DN80:9",null,9,null,null,null,null,null,null,null,"Pro Šoupě DN80:9"]
[null,null,"Pro Šoupě DN100:13",null,13,null,null,null,null,null,null,null,"Pro Šoupě DN100:13"]
[null,null,"Pro Šoupě DN150:2",null,2,null,null,null,null,null,null,null,"Pro Šoupě DN150:2"]
[null,null,"Pro VP DAV D90/32:3",null,3,null,null,null,null,null,null,null,"Pro VP DAV D90/32:3"]
[null,null,"Pro VP NP DN100/32:4+1",null,5,null,null,null,null,null,null,null,"Pro VP NP DN100/32:4+1"]
[null,null,"Pro VP DAV D110/32:1",null,1,null,null,null,null,null,null,null,"Pro VP DAV D110/32:1"]
[97,"939421131RT1","Osazení samonivelač.hydrant.poklopu za finišerem bez dodávky poklopu","kus",6,null,{"$f":"E716*F716","v":0},6.8250000000000005E-2,{"$f":"E716*H716","v":0.40950000000000003},0,{"$f":"E716*J716","v":0},null,null,null,2,null,null,null,null,null,null,null,null,null,null,null,1,1,1,null,null,null,null,null,null,null,null,null,null,null,null,null,null,null,null,null,null,null,null,null,null,1,{"$f":"IF(AZ716=1,G716,0)","v":0},{"$f":"IF(AZ716=2,G716,0)","v":0},{"$f":"IF(AZ716=3,G716,0)","v":0},{"$f":"IF(AZ716=4,G716,0)","v":0},{"$f":"IF(AZ716=5,G716,0)","v":0},null,null,null,null,null,null,null,null,null,null,null,null,null,null,null,null,null,null,null,null,null,1,1]
[null,null,"Položka obsahuje:",null,null,null,null,null,null,null,null,"Položka obsahuje:",null,null,3]
[null,null," osazení prefabrikovaného betonového prstence do rychletuhnoucí vysokopevnostní malty (s dodávkou hmot)",null,null,null,null,null,null,null,null,"- osazení prefabrikovaného betonového prstence do rychletuhnoucí malty (s dodávkou hmot)",null,null,3]
[null,null,"- zalití prstence rychletuhnoucí zálivkou do výše prstence (s dodávkou hmoty)",null,null,null,null,null,null,null,null,"- zalití prstence rychletuhnoucí zálivkou do výše prstence (s dodávkou hmoty)",null,null,3]
[null,null,"- vložení kruhového bednění",null,null,null,null,null,null,null,null,"- vložení kruhového bednění",null,null,3]
[null,null,"- doplnění mezikruží asfaltovou směsí do výšky současné podkladní vrstvy, zhutnění",null,null,null,null,null,null,null,null,"- doplnění mezikruží asfaltovou směsí do výšky současné podkladní vrstvy, zhutnění",null,null,3]
[null,null,"- vyjmutí kruhového bednění",null,null,null,null,null,null,null,null,"- vyjmutí kruhového bednění",null,null,3]
[null,null,"- osazení poklopu a zatlačení",null,null,null,null,null,null,null,null,"- osazení poklopu a zatlačení",null,null,3]
[null,null,"  (následuje pokládka finální vrstvy vozovky - není součástí položky)",null,null,null,null,null,null,null,null,"  (následuje pokládka finální vrstvy vozovky - není součástí položky)",null,null,3]
[null,null,"- povytažení poklopu",null,null,null,null,null,null,null,null,"- povytažení poklopu",null,null,3]
[null,null,"- podsyp asfaltovou směsí, spuštění poklopu a zhutnění směsi",null,null,null,null,null,null,null,null,"- podsyp asfaltovou směsí, spuštění poklopu a zhutnění směsi",null,null,3]
[null,null,"Položka neobsahuje:",null,null,null,null,null,null,null,null,"Položka neobsahuje:",null,null,3]
[null,null,"- dodávku samonivelačního poklopu - oceňuje se ve specifikaci",null,null,null,null,null,null,null,null,"- dodávku samonivelačního poklopu - oceňuje se ve specifikaci",null,null,3]
[null,null,"- pokládku krycí vrstvy komunikace, oceňuje se samostatně",null,null,null,null,null,null,null,null,"- pokládku krycí vrstvy komunikace, oceňuje se samostatně",null,null,3]
[null,null,"Přeložka řadu \"V1\" TLT DN100:",null,0,null,null,null,null,null,null,null,"Přeložka řadu \"V1\" TLT DN100:"]
[null,null,"Přeložka řadu \"V3\" PE D110x10,0 mm a PE D160x14,6 mm:",null,0,null,null,null,null,null,null,null,"Přeložka řadu \"V3\" PE D110x10,0 mm a PE D160x14,6 mm:"]
[null,null,"Přeložka řadu \"V4\" PE D90x8,2 mm:",null,0,null,null,null,null,null,null,null,"Přeložka řadu \"V4\" PE D90x8,2 mm:"]
[null,null,"Pro Hp DN80/1,5:6",null,6,null,null,null,null,null,null,null,"Pro Hp DN80/1,5:6"]
[98,"422913520.R","Poklop luliční samonivelační přípojkový D400","kus",9,null,{"$f":"E734*F734","v":0},1.2E-2,{"$f":"E734*H734","v":0.108},null,{"$f":"E734*J734","v":0},null,null,null,2,null,null,null,null,null,null,null,null,null,null,null,3,1,"422913520.R",null,null,null,null,null,null,null,null,null,null,null,null,null,null,null,null,null,null,null,null,null,null,1,{"$f":"IF(AZ734=1,G734,0)","v":0},{"$f":"IF(AZ734=2,G734,0)","v":0},{"$f":"IF(AZ734=3,G734,0)","v":0},{"$f":"IF(AZ734=4,G734,0)","v":0},{"$f":"IF(AZ734=5,G734,0)","v":0},null,null,null,null,null,null,null,null,null,null,null,null,null,null,null,null,null,null,null,null,null,3,1]
[null,null,"Uliční samonivelační poklop přípojkový z tvárné litiny dle ČSN EN 124",null,null,null,null,null,null,null,null,"Uliční samonivelační poklop přípojkový z tvárné litiny dle ČSN EN 124",null,null,3]
[null,null,"Rozpětí stavební výšky 195 - 285 mm s fixací polohy",null,null,null,null,null,null,null,null,"Rozpětí stavební výšky 195 - 285 mm s fixací polohy",null,null,3]
[null,null,"Výklopové víko spojeno s rámem čepem a opatřeno ochrannou a těsnící vrstvou proti vnikání nečistot",null,null,null,null,null,null,null,null,"Výklopové víko spojeno s rámem čepem a opatřeno ochrannou a těsnící vrstvou proti vnikání nečistot",null,null,3]
[null,null,"Tlumicí vložka z elastomeru a PUR",null,null,null,null,null,null,null,null,"Tlumicí vložka z elastomeru a PUR",null,null,3]
[null,null,"Možnost vlastního loga a barevného provedení",null,null,null,null,null,null,null,null,"Možnost vlastního loga a barevného provedení",null,null,3]
[null,null,"Přeložka řadu \"V1\" TLT DN100:",null,0,null,null,null,null,null,null,null,"Přeložka řadu \"V1\" TLT DN100:"]
[null,null,"Přeložka řadu \"V3\" PE D110x10,0 mm a PE D160x14,6 mm:",null,0,null,null,null,null,null,null,null,"Přeložka řadu \"V3\" PE D110x10,0 mm a PE D160x14,6 mm:"]
[null,null,"Přeložka řadu \"V4\" PE D90x8,2 mm:",null,0,null,null,null,null,null,null,null,"Přeložka řadu \"V4\" PE D90x8,2 mm:"]
[null,null,"Pro VP DAV D90/32:3",null,3,null,null,null,null,null,null,null,"Pro VP DAV D90/32:3"]
[null,null,"Pro VP NP DN100/32:4+1",null,5,null,null,null,null,null,null,null,"Pro VP NP DN100/32:4+1"]
[null,null,"Pro VP DAV D110/32:1",null,1,null,null,null,null,null,null,null,"Pro VP DAV D110/32:1"]
[99,"422913521.R","Poklop litinový samonivelační šoupátkový D400","kus",24,null,{"$f":"E746*F746","v":0},1.2E-2,{"$f":"E746*H746","v":0.28800000000000003},null,{"$f":"E746*J746","v":0},null,null,null,2,null,null,null,null,null,null,null,null,null,null,null,3,1,"422913521.R",null,null,null,null,null,null,null,null,null,null,null,null,null,null,null,null,null,null,null,null,null,null,1,{"$f":"IF(AZ746=1,G746,0)","v":0},{"$f":"IF(AZ746=2,G746,0)","v":0},{"$f":"IF(AZ746=3,G746,0)","v":0},{"$f":"IF(AZ746=4,G746,0)","v":0},{"$f":"IF(AZ746=5,G746,0)","v":0},null,null,null,null,null,null,null,null,null,null,null,null,null,null,null,null,null,null,null,null,null,3,1]
[null,null,"Uliční samonivelační šoupátkový poklop z tvárné litiny dle ČSN EN 124",null,null,null,null,null,null,null,null,"Uliční samonivelační šoupátkový poklop z tvárné litiny dle ČSN EN 124",null,null,3]
[null,null,"Rozpětí stavební výšky 195 - 285 mm s fixací polohy",null,null,null,null,null,null,null,null,"Rozpětí stavební výšky 195 - 285 mm s fixací polohy",null,null,3]
[null,null,"Výklopové víko spojeno s rámem čepem a opatřeno ochrannou a těsnící vrstvou proti vnikání nečistot",null,null,null,null,null,null,null,null,"Výklopové víko spojeno s rámem čepem a opatřeno ochrannou a těsnící vrstvou proti vnikání nečistot",null,null,3]
[null,null,"Tlumicí vložka z elastomeru a PUR",null,null,null,null,null,null,null,null,"Tlumicí vložka z elastomeru a PUR",null,null,3]
[null,null,"Možnost vlastního loga a barevného provedení",null,null,null,null,null,null,null,null,"Možnost vlastního loga a barevného provedení",null,null,3]
[null,null,"Přeložka řadu \"V1\" TLT DN100:",null,0,null,null,null,null,null,null,null,"Přeložka řadu \"V1\" TLT DN100:"]
[null,null,"Přeložka řadu \"V3\" PE D110x10,0 mm a PE D160x14,6 mm:",null,0,null,null,null,null,null,null,null,"Přeložka řadu \"V3\" PE D110x10,0 mm a PE D160x14,6 mm:"]
[null,null,"Přeložka řadu \"V4\" PE D90x8,2 mm:",null,0,null,null,null,null,null,null,null,"Přeložka řadu \"V4\" PE D90x8,2 mm:"]
[null,null,"Pro Šoupě DN80:9",null,9,null,null,null,null,null,null,null,"Pro Šoupě DN80:9"]
[null,null,"Pro Šoupě DN100:13",null,13,null,null,null,null,null,null,null,"Pro Šoupě DN100:13"]
[null,null,"Pro Šoupě DN150:2",null,2,null,null,null,null,null,null,null,"Pro Šoupě DN150:2"]
[100,"422914522.R","Poklop litinový hydrantový samonivelační D400","kus",6,null,{"$f":"E758*F758","v":0},2.4E-2,{"$f":"E758*H758","v":0.14400000000000002},null,{"$f":"E758*J758","v":0},null,null,null,2,null,null,null,null,null,null,null,null,null,null,null,3,1,"422914522.R",null,null,null,null,null,null,null,null,null,null,null,null,null,null,null,null,null,null,null,null,null,null,1,{"$f":"IF(AZ758=1,G758,0)","v":0},{"$f":"IF(AZ758=2,G758,0)","v":0},{"$f":"IF(AZ758=3,G758,0)","v":0},{"$f":"IF(AZ758=4,G758,0)","v":0},{"$f":"IF(AZ758=5,G758,0)","v":0},null,null,null,null,null,null,null,null,null,null,null,null,null,null,null,null,null,null,null,null,null,3,1]
[null,null,"Uliční samonivelační hydrantový poklop z tvárné litiny dle ČSN EN 124",null,null,null,null,null,null,null,null,"Uliční samonivelační hydrantový poklop z tvárné litiny dle ČSN EN 124",null,null,3]
[null,null,"Rozpětí stavební výšky 200 - 285 mm s fixací polohy",null,null,null,null,null,null,null,null,"Rozpětí stavební výšky 200 - 285 mm s fixací polohy",null,null,3]
[null,null,"Výklopové víko spojeno s rámem čepem a opatřeno ochrannou a těsnící vrstvou proti vnikání nečistot",null,null,null,null,null,null,null,null,"Výklopové víko spojeno s rámem čepem a opatřeno ochrannou a těsnící vrstvou proti vnikání nečistot",null,null,3]
[null,null,"Tlumicí vložka z elastomeru a PUR",null,null,null,null,null,null,null,null,"Tlumicí vložka z elastomeru a PUR",null,null,3]
[null,null,"Možnost vlastního loga a barevného provedení",null,null,null,null,null,null,null,null,"Možnost vlastního loga a barevného provedení",null,null,3]
[null,null,"Přeložka řadu \"V1\" TLT DN100:",null,0,null,null,null,null,null,null,null,"Přeložka řadu \"V1\" TLT DN100:"]
[null,null,"Přeložka řadu \"V3\" PE D110x10,0 mm a PE D160x14,6 mm:",null,0,null,null,null,null,null,null,null,"Přeložka řadu \"V3\" PE D110x10,0 mm a PE D160x14,6 mm:"]
[null,null,"Přeložka řadu \"V4\" PE D90x8,2 mm:",null,0,null,null,null,null,null,null,null,"Přeložka řadu \"V4\" PE D90x8,2 mm:"]
[null,null,"Pro Hp DN80/1,5:6",null,6,null,null,null,null,null,null,null,"Pro Hp DN80/1,5:6"]
[null,"Celkem za","93 Dokončovací práce inženýrských staveb",null,null,null,{"$f":"SUM(G692:G767)","v":0},null,{"$f":"SUM(I692:I767)","v":2.6820000000000004},null,{"$f":"SUM(K692:K767)","v":0},null,null,null,4,null,null,null,null,null,null,null,null,null,null,null,null,null,null,null,null,null,null,null,null,null,null,null,null,null,null,null,null,null,null,null,null,null,null,null,null,null,{"$f":"SUM(BA692:BA767)","v":0},{"$f":"SUM(BB692:BB767)","v":0},{"$f":"SUM(BC692:BC767)","v":0},{"$f":"SUM(BD692:BD767)","v":0},{"$f":"SUM(BE692:BE767)","v":0}]
["Díl:","99","Staveništní přesun hmot",null,null,null,null,null,null,null,null,null,null,null,1]
[101,"998276101RXX","Přesun hmot, trubní vedení plastová, otevř. výkop pro celý rozsah objektu","t",1488.2394610460001,null,{"$f":"E770*F770","v":0},0,{"$f":"E770*H770","v":0},null,{"$f":"E770*J770","v":0},null,null,null,2,null,null,null,null,null,null,null,null,null,null,null,7,1,2,null,null,null,null,null,null,null,null,null,null,null,null,null,null,null,null,null,null,null,null,null,null,1,{"$f":"IF(AZ770=1,G770,0)","v":0},{"$f":"IF(AZ770=2,G770,0)","v":0},{"$f":"IF(AZ770=3,G770,0)","v":0},{"$f":"IF(AZ770=4,G770,0)","v":0},{"$f":"IF(AZ770=5,G770,0)","v":0},null,null,null,null,null,null,null,null,null,null,null,null,null,null,null,null,null,null,null,null,null,7,1]
[null,null,"Staveništní doprava pro celý rozsah objektu - doprava zmeziskládek vybudovaného zařízení staveniště zhotovitele na jednotlivé části staveniště.",null,null,null,null,null,null,null,null,"Staveništní doprava pro celý rozsah objektu - doprava zmeziskládek vybudovaného zařízení staveniště zhotovitele na jednotlivé části staveniště.",null,null,3]
[null,"Celkem za","99 Staveništní přesun hmot",null,null,null,{"$f":"SUM(G769:G771)","v":0},null,{"$f":"SUM(I769:I771)","v":0},null,{"$f":"SUM(K769:K771)","v":0},null,null,null,4,null,null,null,null,null,null,null,null,null,null,null,null,null,null,null,null,null,null,null,null,null,null,null,null,null,null,null,null,null,null,null,null,null,null,null,null,null,{"$f":"SUM(BA769:BA771)","v":0},{"$f":"SUM(BB769:BB771)","v":0},{"$f":"SUM(BC769:BC771)","v":0},{"$f":"SUM(BD769:BD771)","v":0},{"$f":"SUM(BE769:BE771)","v":0}]

{"sheet":"05 05.02 KL","index":44,"n_rows":45,"n_cols":8,"rows_kept":45,"cut":false,"hidden":false,"merged":[[22,0,22,1],[7,2,7,4],[8,2,8,4],[9,2,9,4],[10,2,10,4],[11,2,11,4],[50,1,50,6],[29,5,29,6],[30,5,30,6],[31,5,31,6],[32,5,32,6],[33,5,33,6],[36,1,44,6],[45,1,45,6],[46,1,46,6],[47,1,47,6],[48,1,48,6],[49,1,49,6]]}
["POLOŽKOVÝ ROZPOČET"]
["Rozpočet",null,"05.02","Vodovod \"V2\" a přeložka vodovodu \"V2\"",null,"JKSO ","827.13"]
[]
["Objekt",null,null,null,null,"SKP "]
["05",null,"Přeložky vodovodu",null,null,"Měrná jednotka","m"]
["Stavba",null,null,null,null,"Počet jednotek",0]
["3395",null,"Kanalizace a ČOV Benešov u Semil",null,null,"Náklady na m.j.",{"$f":"IF(G6=0,,ROUND((F30+F32)/G6,1))","v":0}]
["Projektant",null,"Vodohospodářský rozvoj a výstavba a.s.",null,null,"Typ rozpočtu"]
["Zpracovatel projektu"]
["Objednatel",null,"Vodohospodářské sdružení Turnov"]
["Dodavatel",null,".",null,null,"Zakázkové číslo "]
["Rozpočtoval",null,null,null,null,"Počet listů"]
["ROZPOČTOVÉ NÁKLADY"]
["Základní rozpočtové náklady"]
[null,"HSV celkem",{"$f":"'05 05.02 Rek'!E13","v":0}]
["Z","PSV celkem",{"$f":"'05 05.02 Rek'!F13","v":0}]
["R","M práce celkem",{"$f":"'05 05.02 Rek'!H13","v":0}]
["N","M dodávky celkem",{"$f":"'05 05.02 Rek'!G13","v":0}]
["ZRN celkem",null,{"$f":"SUM(C15:C18)","v":0}]
[]
["HZS",null,{"$f":"'05 05.02 Rek'!I13","v":0}]
["ZRN+HZS",null,{"$f":"C19+C21","v":0}]
["ZRN+ost.náklady+HZS",null,{"$f":"C22+G23","v":0}]
["Vypracoval",null,null,"Za zhotovitele",null,"Za objednatele"]
["Jméno :",null,null,"Jméno :",null,"Jméno :"]
["Datum :",null,null,"Datum :",null,"Datum :"]
[]
["Podpis :",null,null,"Podpis:",null,"Podpis:"]
[]
["Základ pro DPH",null,21,"%  ",null,{"$f":"C23-F32","v":0}]
["DPH",null,{"$f":"C30","v":21},"% ",null,{"$f":"ROUND(PRODUCT(F30,C31/100),0)","v":0}]
["Základ pro DPH",null,0,"% ",null,0]
["DPH",null,{"$f":"C32","v":0},"% ",null,{"$f":"ROUND(PRODUCT(F32,C33/100),0)","v":0}]
["CENA ZA OBJEKT CELKEM",null,null,null,null,{"$f":"ROUND(SUM(F30:F33),0)","v":0}]
[]
["Poznámka :",null,null,null,null,null,null," "]
[null,null,null,null,null,null,null," "]
[null,null,null,null,null,null,null," "]
[null,null,null,null,null,null,null," "]
[null,null,null,null,null,null,null," "]
[null,null,null,null,null,null,null," "]
[null,null,null,null,null,null,null," "]
[null,null,null,null,null,null,null," "]
[null,null,null,null,null,null,null," "]
[null,null,null,null,null,null,null," "]

{"sheet":"05 05.02 Rek","index":45,"n_rows":13,"n_cols":9,"rows_kept":13,"cut":false,"hidden":false,"merged":[[0,0,0,1],[1,0,1,1],[1,6,1,8]]}
["Stavba :",null,"3395 Kanalizace a ČOV Benešov u Semil",null,null,null,"Rozpočet :","05.02"]
["Objekt :",null,"05 Přeložky vodovodu",null,null,null,"Vodovod \"V2\" a přeložka vodovodu \"V2\""]
[]
["REKAPITULACE  STAVEBNÍCH  DÍLŮ"]
[]
[null,"Stavební díl",null,null,"HSV","PSV","Dodávka","Montáž","HZS"]
[{"$f":"'05 05.02 Pol'!B7","v":"1"},{"$f":"'05 05.02 Pol'!C7","v":"Zemní práce"},null,null,{"$f":"'05 05.02 Pol'!BA86","v":0},{"$f":"'05 05.02 Pol'!BB86","v":0},{"$f":"'05 05.02 Pol'!BC86","v":0},{"$f":"'05 05.02 Pol'!BD86","v":0},{"$f":"'05 05.02 Pol'!BE86","v":0}]
[{"$f":"'05 05.02 Pol'!B87","v":"45"},{"$f":"'05 05.02 Pol'!C87","v":"Podkladní a vedlejší konstrukce"},null,null,{"$f":"'05 05.02 Pol'!BA91","v":0},{"$f":"'05 05.02 Pol'!BB91","v":0},{"$f":"'05 05.02 Pol'!BC91","v":0},{"$f":"'05 05.02 Pol'!BD91","v":0},{"$f":"'05 05.02 Pol'!BE91","v":0}]
[{"$f":"'05 05.02 Pol'!B92","v":"5"},{"$f":"'05 05.02 Pol'!C92","v":"Komunikace"},null,null,{"$f":"'05 05.02 Pol'!BA96","v":0},{"$f":"'05 05.02 Pol'!BB96","v":0},{"$f":"'05 05.02 Pol'!BC96","v":0},{"$f":"'05 05.02 Pol'!BD96","v":0},{"$f":"'05 05.02 Pol'!BE96","v":0}]
[{"$f":"'05 05.02 Pol'!B97","v":"8"},{"$f":"'05 05.02 Pol'!C97","v":"Trubní vedení"},null,null,{"$f":"'05 05.02 Pol'!BA281","v":0},{"$f":"'05 05.02 Pol'!BB281","v":0},{"$f":"'05 05.02 Pol'!BC281","v":0},{"$f":"'05 05.02 Pol'!BD281","v":0},{"$f":"'05 05.02 Pol'!BE281","v":0}]
[{"$f":"'05 05.02 Pol'!B282","v":"93"},{"$f":"'05 05.02 Pol'!C282","v":"Dokončovací práce inženýrských staveb"},null,null,{"$f":"'05 05.02 Pol'!BA318","v":0},{"$f":"'05 05.02 Pol'!BB318","v":0},{"$f":"'05 05.02 Pol'!BC318","v":0},{"$f":"'05 05.02 Pol'!BD318","v":0},{"$f":"'05 05.02 Pol'!BE318","v":0}]
[{"$f":"'05 05.02 Pol'!B319","v":"99"},{"$f":"'05 05.02 Pol'!C319","v":"Staveništní přesun hmot"},null,null,{"$f":"'05 05.02 Pol'!BA322","v":0},{"$f":"'05 05.02 Pol'!BB322","v":0},{"$f":"'05 05.02 Pol'!BC322","v":0},{"$f":"'05 05.02 Pol'!BD322","v":0},{"$f":"'05 05.02 Pol'!BE322","v":0}]
[null,"CELKEM  OBJEKT",null,null,{"$f":"SUM(E7:E12)","v":0},{"$f":"SUM(F7:F12)","v":0},{"$f":"SUM(G7:G12)","v":0},{"$f":"SUM(H7:H12)","v":0},{"$f":"SUM(I7:I12)","v":0}]

{"sheet":"05 05.02 Pol","index":46,"n_rows":322,"n_cols":80,"rows_kept":322,"cut":false,"hidden":false,"merged":[[12,2,12,3],[14,2,14,6],[15,2,15,3],[16,2,16,3],[17,2,17,3],[18,2,18,3],[0,0,0,6],[2,0,2,1],[3,0,3,1],[3,4,3,6],[8,2,8,6],[9,2,9,6],[10,2,10,3],[11,2,11,3],[26,2,26,3],[28,2,28,6],[29,2,29,3],[30,2,30,3],[31,2,31,3],[33,2,33,3],[19,2,19,3],[20,2,20,3],[21,2,21,3],[22,2,22,3],[24,2,24,3],[25,2,25,3],[42,2,42,3],[43,2,43,3],[44,2,44,3],[45,2,45,3],[47,2,47,3],[48,2,48,3],[34,2,34,3],[35,2,35,3],[37,2,37,6],[38,2,38,3],[39,2,39,3],[40,2,40,3],[57,2,57,6],[58,2,58,3],[59,2,59,3],[60,2,60,3],[61,2,61,3],[62,2,62,3],[49,2,49,3],[50,2,50,3],[52,2,52,3],[53,2,53,3],[54,2,54,3],[56,2,56,6],[71,2,71,3],[72,2,72,3],[74,2,74,3],[76,2,76,3],[77,2,77,3],[78,2,78,3],[63,2,63,3],[64,2,64,3],[65,2,65,3],[66,2,66,3],[68,2,68,3],[70,2,70,3],[88,2,88,3],[93,2,93,3],[94,2,94,3],[79,2,79,3],[80,2,80,3],[81,2,81,3],[82,2,82,3],[83,2,83,3],[84,2,84,3],[106,2,106,3],[107,2,107,3],[109,2,109,6],[110,2,110,6],[111,2,111,6],[112,2,112,6],[98,2,98,6],[99,2,99,6],[100,2,100,6],[101,2,101,6],[102,2,102,6],[103,2,103,6],[104,2,104,6],[105,2,105,6],[120,2,120,6],[121,2,121,6],[122,2,122,3],[123,2,123,3],[124,2,124,3],[126,2,126,6],[113,2,113,6],[114,2,114,6],[115,2,115,6],[116,2,116,6],[117,2,117,3],[118,2,118,3],[134,2,134,3],[135,2,135,3],[137,2,137,6],[138,2,138,3],[140,2,140,3],[141,2,141,3],[127,2,127,6],[128,2,128,3],[129,2,129,3],[130,2,130,3],[132,2,132,6],[133,2,133,6],[149,2,149,3],[150,2,150,3],[152,2,152,6],[153,2,153,6],[154,2,154,3],[155,2,155,3],[142,2,142,3],[143,2,143,3],[144,2,144,3],[145,2,145,3],[147,2,147,6],[148,2,148,6],[166,2,166,6],[167,2,167,3],[168,2,168,3],[169,2,169,3],[170,2,170,3],[172,2,172,3],[157,2,157,3],[158,2,158,3],[160,2,160,6],[161,2,161,3],[163,2,163,6],[164,2,164,3],[181,2,181,3],[182,2,182,3],[184,2,184,3],[185,2,185,3],[187,2,187,6],[188,2,188,6],[174,2,174,6],[175,2,175,3],[176,2,176,3],[177,2,177,3],[178,2,178,3],[179,2,179,3],[197,2,197,3],[198,2,198,3],[200,2,200,3],[201,2,201,3],[203,2,203,3],[204,2,204,3],[189,2,189,6],[190,2,190,6],[191,2,191,6],[192,2,192,3],[194,2,194,3],[195,2,195,3],[214,2,214,6],[215,2,215,6],[216,2,216,6],[217,2,217,6],[218,2,218,3],[219,2,219,3],[206,2,206,3],[207,2,207,3],[209,2,209,3],[210,2,210,3],[212,2,212,6],[213,2,213,6],[227,2,227,3],[228,2,228,3],[230,2,230,3],[231,2,231,3],[232,2,232,3],[234,2,234,6],[221,2,221,6],[222,2,222,6],[223,2,223,6],[224,2,224,6],[225,2,225,6],[226,2,226,6],[241,2,241,6],[242,2,242,6],[243,2,243,6],[244,2,244,6],[245,2,245,6],[246,2,246,6],[235,2,235,6],[236,2,236,6],[237,2,237,6],[238,2,238,6],[239,2,239,6],[240,2,240,6],[253,2,253,6],[254,2,254,6],[255,2,255,3],[256,2,256,3],[258,2,258,6],[259,2,259,6],[247,2,247,6],[248,2,248,6],[249,2,249,6],[250,2,250,6],[251,2,251,6],[252,2,252,6],[266,2,266,6],[267,2,267,6],[268,2,268,6],[269,2,269,6],[270,2,270,6],[271,2,271,6],[260,2,260,6],[261,2,261,6],[262,2,262,6],[263,2,263,6],[264,2,264,6],[265,2,265,6],[283,2,283,6],[284,2,284,6],[285,2,285,6],[286,2,286,6],[287,2,287,6],[288,2,288,6],[289,2,289,6],[290,2,290,6],[272,2,272,3],[273,2,273,3],[275,2,275,3],[276,2,276,3],[278,2,278,3],[279,2,279,3],[297,2,297,3],[298,2,298,3],[299,2,299,3],[301,2,301,6],[302,2,302,6],[303,2,303,6],[291,2,291,6],[292,2,292,6],[293,2,293,6],[294,2,294,6],[295,2,295,6],[296,2,296,3],[320,2,320,6],[311,2,311,6],[312,2,312,6],[313,2,313,6],[314,2,314,3],[315,2,315,3],[316,2,316,3],[304,2,304,6],[305,2,305,6],[306,2,306,3],[307,2,307,3],[309,2,309,6],[310,2,310,6]]}
["Položkový rozpočet "]
[]
["Stavba :",null,"3395 Kanalizace a ČOV Benešov u Semil",null,"Rozpočet:",{"$f":"'05 05.02 Rek'!H1","v":"05.02"}]
["Objekt :",null,"05 Přeložky vodovodu",null,{"$f":"'05 05.02 Rek'!G2","v":"Vodovod \"V2\" a přeložka vodovodu \"V2\""}]
[]
["P.č.","Číslo položky","Název položky","MJ","množství","cena / MJ","celkem (Kč)","Jednotková hmotnost","Celková hmotnost","Jednotková dem.hmot.","Celková dem.hmot."]
["Díl:","1","Zemní práce",null,null,null,null,null,null,null,null,null,null,null,1]
[1,"130001101RRX","Příplatek za ztížené hloubení v blízkosti vedení ","m3",21.430800000000001,null,{"$f":"E8*F8","v":0},0,{"$f":"E8*H8","v":0},0,{"$f":"E8*J8","v":0},null,null,null,2,null,null,null,null,null,null,null,null,null,null,null,1,1,1,null,null,null,null,null,null,null,null,null,null,null,null,null,null,null,null,null,null,null,null,null,null,1,{"$f":"IF(AZ8=1,G8,0)","v":0},{"$f":"IF(AZ8=2,G8,0)","v":0},{"$f":"IF(AZ8=3,G8,0)","v":0},{"$f":"IF(AZ8=4,G8,0)","v":0},{"$f":"IF(AZ8=5,G8,0)","v":0},null,null,null,null,null,null,null,null,null,null,null,null,null,null,null,null,null,null,null,null,null,1,1]
[null,null,"Včetně případných nutných dokopávem a ručního výkopu podél sousedících inženýrských sítí.",null,null,null,null,null,null,null,null,"Včetně případných nutných dokopávem a ručního výkopu podél sousedících inženýrských sítí.",null,null,3]
[null,null,"Součástí položky je i dočasné zajištění inženýrských sítí v prostoru výkopů (potrubí, kabely a pod.)",null,null,null,null,null,null,null,null,"Součástí položky je i dočasné zajištění inženýrských sítí v prostoru výkopů (potrubí, kabely a pod.)",null,null,3]
[null,null,"Vodovodní řad PE D 110x10,0 mm:",null,0,null,null,null,null,null,null,null,"Vodovodní řad PE D 110x10,0 mm:"]
[null,null,"Výkopy:",null,0,null,null,null,null,null,null,null,"Výkopy:"]
[null,null,"V hornině tř. 3 - 5 - 12%:178,5904*0,12",null,21.430800000000001,null,null,null,null,null,null,null,"V hornině tř. 3 - 5 - 12%:178,5904*0,12"]
[2,"132201212R00","Hloubení rýh š.do 200 cm hor.3 do 1000m3,STROJNĚ ","m3",107.1542,null,{"$f":"E14*F14","v":0},0,{"$f":"E14*H14","v":0},0,{"$f":"E14*J14","v":0},null,null,null,2,null,null,null,null,null,null,null,null,null,null,null,1,1,1,null,null,null,null,null,null,null,null,null,null,null,null,null,null,null,null,null,null,null,null,null,null,1,{"$f":"IF(AZ14=1,G14,0)","v":0},{"$f":"IF(AZ14=2,G14,0)","v":0},{"$f":"IF(AZ14=3,G14,0)","v":0},{"$f":"IF(AZ14=4,G14,0)","v":0},{"$f":"IF(AZ14=5,G14,0)","v":0},null,null,null,null,null,null,null,null,null,null,null,null,null,null,null,null,null,null,null,null,null,1,1]
[null,null,"Položka obsahuje hloubení rýh traktorbagrem, naložení výkopku na dopravní prostředek pro svislé, nebo vodorovné přemístění, popř. přemístění výkopku do 3 m (po povrchu území), případné zajištění rypadel polštáři, udržování pracoviště a ochranu výkopiště proti stékání srážkové vody z okolního terénu i s jejím odvodněním, nebo odvedením, přesekání a odstranění kořenů ve výkopišti, odstranění napadávek, urovnání dna výkopu.",null,null,null,null,null,null,null,null,"Položka obsahuje hloubení rýh traktorbagrem, naložení výkopku na dopravní prostředek pro svislé, nebo vodorovné přemístění, popř. přemístění výkopku do 3 m (po povrchu území), případné zajištění rypadel polštáři, udržování pracoviště a ochranu výkopiště proti stékání srážkové vody z okolního terénu i s jejím odvodněním, nebo odvedením, přesekání a odstranění kořenů ve výkopišti, odstranění napadávek, urovnání dna výkopu.",null,null,3]
[null,null,"Vodovodní řad PE D 110x10,0 mm:",null,0,null,null,null,null,null,null,null,"Vodovodní řad PE D 110x10,0 mm:"]
[null,null,"Výkopy:",null,0,null,null,null,null,null,null,null,"Výkopy:"]
[null,null,"Začátek provozního součtu",null,0,null,null,null,null,null,null,null,"Začátek provozního součtu"]
[null,null,"Průměrná hloubka výkopu - 1,60 m:",null,0,null,null,null,null,null,null,null,"Průměrná hloubka výkopu - 1,60 m:"]
[null,null,"Vodovodní řad :(144,12+50,00)*0,80*1,60",null,248.4736,null,null,null,null,null,null,null,"Vodovodní řad :(144,12+50,00)*0,80*1,60"]
[null,null,"Odpočet objemu konstrukce komunikace:-(144,12+50,00)*0,80*0,45",null,-69.883200000000002,null,null,null,null,null,null,null,"Odpočet objemu konstrukce komunikace:-(144,12+50,00)*0,80*0,45"]
[null,null,"Konec provozního součtu",null,178.59039999999999,null,null,null,null,null,null,null,"Konec provozního součtu"]
[null,null,"V hornině tř. 3 -60%:178,5904*0,6",null,107.1542,null,null,null,null,null,null,null,"V hornině tř. 3 -60%:178,5904*0,6"]
[3,"132201219R00","Přípl.za lepivost,hloubení rýh 200cm,hor.3,STROJNĚ ","m3",53.577100000000002,null,{"$f":"E24*F24","v":0},0,{"$f":"E24*H24","v":0},0,{"$f":"E24*J24","v":0},null,null,null,2,null,null,null,null,null,null,null,null,null,null,null,1,1,1,null,null,null,null,null,null,null,null,null,null,null,null,null,null,null,null,null,null,null,null,null,null,1,{"$f":"IF(AZ24=1,G24,0)","v":0},{"$f":"IF(AZ24=2,G24,0)","v":0},{"$f":"IF(AZ24=3,G24,0)","v":0},{"$f":"IF(AZ24=4,G24,0)","v":0},{"$f":"IF(AZ24=5,G24,0)","v":0},null,null,null,null,null,null,null,null,null,null,null,null,null,null,null,null,null,null,null,null,null,1,1]
[null,null,"Vodovodní řad PE D 110x10,0 mm:",null,0,null,null,null,null,null,null,null,"Vodovodní řad PE D 110x10,0 mm:"]
[null,null,"Výkopy:",null,0,null,null,null,null,null,null,null,"Výkopy:"]
[null,null,"V hornině tř. 3 -60%:178,5904*0,6*0,5",null,53.577100000000002,null,null,null,null,null,null,null,"V hornině tř. 3 -60%:178,5904*0,6*0,5"]
[4,"132301212R00","Hloubení rýh š.do 200 cm hor.4 do 1000 m3, STROJNĚ ","m3",53.577100000000002,null,{"$f":"E28*F28","v":0},0,{"$f":"E28*H28","v":0},0,{"$f":"E28*J28","v":0},null,null,null,2,null,null,null,null,null,null,null,null,null,null,null,1,1,1,null,null,null,null,null,null,null,null,null,null,null,null,null,null,null,null,null,null,null,null,null,null,1,{"$f":"IF(AZ28=1,G28,0)","v":0},{"$f":"IF(AZ28=2,G28,0)","v":0},{"$f":"IF(AZ28=3,G28,0)","v":0},{"$f":"IF(AZ28=4,G28,0)","v":0},{"$f":"IF(AZ28=5,G28,0)","v":0},null,null,null,null,null,null,null,null,null,null,null,null,null,null,null,null,null,null,null,null,null,1,1]
[null,null,"Položka obsahuje hloubení rýh traktorbagrem, naložení výkopku na dopravní prostředek pro svislé, nebo vodorovné přemístění, popř. přemístění výkopku do 3 m (po povrchu území), případné zajištění rypadel polštáři, udržování pracoviště a ochranu výkopiště proti stékání srážkové vody z okolního terénu i s jejím odvodněním, nebo odvedením, přesekání a odstranění kořenů ve výkopišti, odstranění napadávek, urovnání dna výkopu.",null,null,null,null,null,null,null,null,"Položka obsahuje hloubení rýh traktorbagrem, naložení výkopku na dopravní prostředek pro svislé, nebo vodorovné přemístění, popř. přemístění výkopku do 3 m (po povrchu území), případné zajištění rypadel polštáři, udržování pracoviště a ochranu výkopiště proti stékání srážkové vody z okolního terénu i s jejím odvodněním, nebo odvedením, přesekání a odstranění kořenů ve výkopišti, odstranění napadávek, urovnání dna výkopu.",null,null,3]
[null,null,"Vodovodní řad PE D 110x10,0 mm:",null,0,null,null,null,null,null,null,null,"Vodovodní řad PE D 110x10,0 mm:"]
[null,null,"Výkopy:",null,0,null,null,null,null,null,null,null,"Výkopy:"]
[null,null,"V hornině tř. 4 -30%:178,5904*0,3",null,53.577100000000002,null,null,null,null,null,null,null,"V hornině tř. 4 -30%:178,5904*0,3"]
[5,"132301219R00","Přípl.za lepivost,hloubení rýh 200cm,hor.4,STROJNĚ ","m3",26.788599999999999,null,{"$f":"E33*F33","v":0},0,{"$f":"E33*H33","v":0},0,{"$f":"E33*J33","v":0},null,null,null,2,null,null,null,null,null,null,null,null,null,null,null,1,1,1,null,null,null,null,null,null,null,null,null,null,null,null,null,null,null,null,null,null,null,null,null,null,1,{"$f":"IF(AZ33=1,G33,0)","v":0},{"$f":"IF(AZ33=2,G33,0)","v":0},{"$f":"IF(AZ33=3,G33,0)","v":0},{"$f":"IF(AZ33=4,G33,0)","v":0},{"$f":"IF(AZ33=5,G33,0)","v":0},null,null,null,null,null,null,null,null,null,null,null,null,null,null,null,null,null,null,null,null,null,1,1]
[null,null,"Vodovodní řad PE D 110x10,0 mm:",null,0,null,null,null,null,null,null,null,"Vodovodní řad PE D 110x10,0 mm:"]
[null,null,"Výkopy:",null,0,null,null,null,null,null,null,null,"Výkopy:"]
[null,null,"V hornině tř. 4 -30%:178,5904*0,3*0,5",null,26.788599999999999,null,null,null,null,null,null,null,"V hornině tř. 4 -30%:178,5904*0,3*0,5"]
[6,"132401211RRX","Hloubení rýh šířky do 200 cm v hor.5 STROJNĚ včetně případného dolamování ve vrstvě do 0,5 m","m3",17.859000000000002,null,{"$f":"E37*F37","v":0},1.0410000000000001E-2,{"$f":"E37*H37","v":0.18591219000000003},0,{"$f":"E37*J37","v":0},null,null,null,2,null,null,null,null,null,null,null,null,null,null,null,1,1,1,null,null,null,null,null,null,null,null,null,null,null,null,null,null,null,null,null,null,null,null,null,null,1,{"$f":"IF(AZ37=1,G37,0)","v":0},{"$f":"IF(AZ37=2,G37,0)","v":0},{"$f":"IF(AZ37=3,G37,0)","v":0},{"$f":"IF(AZ37=4,G37,0)","v":0},{"$f":"IF(AZ37=5,G37,0)","v":0},null,null,null,null,null,null,null,null,null,null,null,null,null,null,null,null,null,null,null,null,null,1,1]
[null,null,"Položka obsahuje hloubení rýh traktorbagrem, naložení výkopku na dopravní prostředek pro svislé, nebo vodorovné přemístění, popř. přemístění výkopku do 3 m (po povrchu území), případné zajištění rypadel polštáři, udržování pracoviště a ochranu výkopiště proti stékání srážkové vody z okolního terénu i s jejím odvodněním, nebo odvedením, přesekání a odstranění kořenů ve výkopišti, odstranění napadávek, urovnání dna výkopu.včetně případného dolamování ve vrstvě do 0,5 m",null,null,null,null,null,null,null,null,"Položka obsahuje hloubení rýh traktorbagrem, naložení výkopku na dopravní prostředek pro svislé, nebo vodorovné přemístění, popř. přemístění výkopku do 3 m (po povrchu území), případné zajištění rypadel polštáři, udržování pracoviště a ochranu výkopiště proti stékání srážkové vody z okolního terénu i s jejím odvodněním, nebo odvedením, přesekání a odstranění kořenů ve výkopišti, odstranění napadávek, urovnání dna výkopu.včetně případného dolamování ve vrstvě do 0,5 m",null,null,3]
[null,null,"Vodovodní řad PE D 110x10,0 mm:",null,0,null,null,null,null,null,null,null,"Vodovodní řad PE D 110x10,0 mm:"]
[null,null,"Výkopy:",null,0,null,null,null,null,null,null,null,"Výkopy:"]
[null,null,"V hornině tř. 5 - 10%:178,5904*0,1",null,17.859000000000002,null,null,null,null,null,null,null,"V hornině tř. 5 - 10%:178,5904*0,1"]
[7,"151101101R00","Pažení a rozepření stěn rýh - příložné - hl.do 2 m ","m2",621.18399999999997,null,{"$f":"E42*F42","v":0},9.8999999999999999E-4,{"$f":"E42*H42","v":0.61497215999999999},0,{"$f":"E42*J42","v":0},null,null,null,2,null,null,null,null,null,null,null,null,null,null,null,1,1,1,null,null,null,null,null,null,null,null,null,null,null,null,null,null,null,null,null,null,null,null,null,null,1,{"$f":"IF(AZ42=1,G42,0)","v":0},{"$f":"IF(AZ42=2,G42,0)","v":0},{"$f":"IF(AZ42=3,G42,0)","v":0},{"$f":"IF(AZ42=4,G42,0)","v":0},{"$f":"IF(AZ42=5,G42,0)","v":0},null,null,null,null,null,null,null,null,null,null,null,null,null,null,null,null,null,null,null,null,null,1,1]
[null,null,"Vodovodní řad PE D 110x10,0 mm:",null,0,null,null,null,null,null,null,null,"Vodovodní řad PE D 110x10,0 mm:"]
[null,null,"Výkopy:",null,0,null,null,null,null,null,null,null,"Výkopy:"]
[null,null,"Průměrná hloubka výkopu - 1,60 m:",null,0,null,null,null,null,null,null,null,"Průměrná hloubka výkopu - 1,60 m:"]
[null,null,"Vodovodní řad :(144,12+50,00)*1,60*2",null,621.18399999999997,null,null,null,null,null,null,null,"Vodovodní řad :(144,12+50,00)*1,60*2"]
[8,"151101111R00","Odstranění pažení stěn rýh - příložné - hl. do 2 m ","m2",621.18399999999997,null,{"$f":"E47*F47","v":0},0,{"$f":"E47*H47","v":0},0,{"$f":"E47*J47","v":0},null,null,null,2,null,null,null,null,null,null,null,null,null,null,null,1,1,1,null,null,null,null,null,null,null,null,null,null,null,null,null,null,null,null,null,null,null,null,null,null,1,{"$f":"IF(AZ47=1,G47,0)","v":0},{"$f":"IF(AZ47=2,G47,0)","v":0},{"$f":"IF(AZ47=3,G47,0)","v":0},{"$f":"IF(AZ47=4,G47,0)","v":0},{"$f":"IF(AZ47=5,G47,0)","v":0},null,null,null,null,null,null,null,null,null,null,null,null,null,null,null,null,null,null,null,null,null,1,1]
[null,null,"Vodovodní řad PE D 110x10,0 mm:",null,0,null,null,null,null,null,null,null,"Vodovodní řad PE D 110x10,0 mm:"]
[null,null,"Výkopy:",null,0,null,null,null,null,null,null,null,"Výkopy:"]
[null,null,"Průměrná hloubka výkopu - 1,60 m:",null,0,null,null,null,null,null,null,null,"Průměrná hloubka výkopu - 1,60 m:"]
[null,null,"Vodovodní řad :(144,12+50,00)*1,60*2",null,621.18399999999997,null,null,null,null,null,null,null,"Vodovodní řad :(144,12+50,00)*1,60*2"]
[9,"162701105RSZ","Vodorovné přemístění výkopku z hor.1-7 na skládku zhotovitele","m3",178.59039999999999,null,{"$f":"E52*F52","v":0},0,{"$f":"E52*H52","v":0},0,{"$f":"E52*J52","v":0},null,null,null,2,null,null,null,null,null,null,null,null,null,null,null,1,1,1,null,null,null,null,null,null,null,null,null,null,null,null,null,null,null,null,null,null,null,null,null,null,1,{"$f":"IF(AZ52=1,G52,0)","v":0},{"$f":"IF(AZ52=2,G52,0)","v":0},{"$f":"IF(AZ52=3,G52,0)","v":0},{"$f":"IF(AZ52=4,G52,0)","v":0},{"$f":"IF(AZ52=5,G52,0)","v":0},null,null,null,null,null,null,null,null,null,null,null,null,null,null,null,null,null,null,null,null,null,1,1]
[null,null,"Vodovodní řad PE D 110x10,0 mm:",null,0,null,null,null,null,null,null,null,"Vodovodní řad PE D 110x10,0 mm:"]
[null,null,"Výkopy:",null,0,null,null,null,null,null,null,null,"Výkopy:"]
[null,null,"V hornině tř. 3 - 5:178,5904",null,178.59039999999999,null,null,null,null,null,null,null,"V hornině tř. 3 - 5:178,5904"]
[10,"174101101R00","Zásyp jam, rýh, šachet se zhutněním ","m3",91.624600000000001,null,{"$f":"E56*F56","v":0},0,{"$f":"E56*H56","v":0},0,{"$f":"E56*J56","v":0},null,null,null,2,null,null,null,null,null,null,null,null,null,null,null,1,1,1,null,null,null,null,null,null,null,null,null,null,null,null,null,null,null,null,null,null,null,null,null,null,1,{"$f":"IF(AZ56=1,G56,0)","v":0},{"$f":"IF(AZ56=2,G56,0)","v":0},{"$f":"IF(AZ56=3,G56,0)","v":0},{"$f":"IF(AZ56=4,G56,0)","v":0},{"$f":"IF(AZ56=5,G56,0)","v":0},null,null,null,null,null,null,null,null,null,null,null,null,null,null,null,null,null,null,null,null,null,1,1]
[null,null,"Položka obsahuje strojní přemístění materiálu pro zásyp ze vzdálenosti do 10 m od okraje zásypu.",null,null,null,null,null,null,null,null,"Položka obsahuje strojní přemístění materiálu pro zásyp ze vzdálenosti do 10 m od okraje zásypu.",null,null,3]
[null,null,null,null,null,null,null,null,null,null,null,null,null,null,3]
[null,null,"Vodovodní řad PE D 110x10,0 mm:",null,0,null,null,null,null,null,null,null,"Vodovodní řad PE D 110x10,0 mm:"]
[null,null,"Zásypy ŠD fr. 0-63 mm:91,6246",null,91.624600000000001,null,null,null,null,null,null,null,"Zásypy ŠD fr. 0-63 mm:91,6246"]
[null,null,"Začátek provozního součtu",null,0,null,null,null,null,null,null,null,"Začátek provozního součtu"]
[null,null,"Výkopy:",null,0,null,null,null,null,null,null,null,"Výkopy:"]
[null,null,"Průměrná hloubka výkopu - 1,60 m:",null,0,null,null,null,null,null,null,null,"Průměrná hloubka výkopu - 1,60 m:"]
[null,null,"Vodovodní řad :(144,12+50,00)*0,80*1,60",null,248.4736,null,null,null,null,null,null,null,"Vodovodní řad :(144,12+50,00)*0,80*1,60"]
[null,null,"Odpočet objemu konstrukce komunikace:-(144,12+50,00)*0,80*0,45",null,-69.883200000000002,null,null,null,null,null,null,null,"Odpočet objemu konstrukce komunikace:-(144,12+50,00)*0,80*0,45"]
[null,null,"Odpočet objemu lože, potrubí a obsypů:-(144,12+50,00)*0,80*(0,15+0,11+0,30)",null,-86.965800000000002,null,null,null,null,null,null,null,"Odpočet objemu lože, potrubí a obsypů:-(144,12+50,00)*0,80*(0,15+0,11+0,30)"]
[null,null,"Konec provozního součtu",null,91.624599999999987,null,null,null,null,null,null,null,"Konec provozního součtu"]
[11,"175101101R00","Obsyp potrubí bez prohození sypaniny ","m3",61.826599999999999,null,{"$f":"E68*F68","v":0},0,{"$f":"E68*H68","v":0},0,{"$f":"E68*J68","v":0},null,null,null,2,null,null,null,null,null,null,null,null,null,null,null,1,1,1,null,null,null,null,null,null,null,null,null,null,null,null,null,null,null,null,null,null,null,null,null,null,1,{"$f":"IF(AZ68=1,G68,0)","v":0},{"$f":"IF(AZ68=2,G68,0)","v":0},{"$f":"IF(AZ68=3,G68,0)","v":0},{"$f":"IF(AZ68=4,G68,0)","v":0},{"$f":"IF(AZ68=5,G68,0)","v":0},null,null,null,null,null,null,null,null,null,null,null,null,null,null,null,null,null,null,null,null,null,1,1]
[null,null,"Vodovodní řad PE D 110x10,0 mm:(144,12+50,00)*(0,80*(0,11+0,30)-0,055^2*Pi)",null,61.826599999999999,null,null,null,null,null,null,null,"Vodovodní řad PE D 110x10,0 mm:(144,12+50,00)*(0,80*(0,11+0,30)-0,055^2*Pi)"]
[12,"199000002R00","Poplatek za skládku horniny 1- 7 č. dle katal. odpadů 17 05 04","m3",178.59039999999999,null,{"$f":"E70*F70","v":0},0,{"$f":"E70*H70","v":0},0,{"$f":"E70*J70","v":0},null,null,null,2,null,null,null,null,null,null,null,null,null,null,null,1,1,1,null,null,null,null,null,null,null,null,null,null,null,null,null,null,null,null,null,null,null,null,null,null,1,{"$f":"IF(AZ70=1,G70,0)","v":0},{"$f":"IF(AZ70=2,G70,0)","v":0},{"$f":"IF(AZ70=3,G70,0)","v":0},{"$f":"IF(AZ70=4,G70,0)","v":0},{"$f":"IF(AZ70=5,G70,0)","v":0},null,null,null,null,null,null,null,null,null,null,null,null,null,null,null,null,null,null,null,null,null,1,1]
[null,null,"Vodovodní řad PE D 110x10,0 mm:",null,0,null,null,null,null,null,null,null,"Vodovodní řad PE D 110x10,0 mm:"]
[null,null,"Výkopy:",null,0,null,null,null,null,null,null,null,"Výkopy:"]
[null,null,"V hornině tř. 3 - 5:178,5904",null,178.59039999999999,null,null,null,null,null,null,null,"V hornině tř. 3 - 5:178,5904"]
[13,"58337308.R","Štěrkopísek frakce 0-2 tř.B","t",123.2037,null,{"$f":"E74*F74","v":0},1,{"$f":"E74*H74","v":123.2037},null,{"$f":"E74*J74","v":0},null,null,null,2,null,null,null,null,null,null,null,null,null,null,null,3,1,"58337308.R",null,null,null,null,null,null,null,null,null,null,null,null,null,null,null,null,null,null,null,null,null,null,1,{"$f":"IF(AZ74=1,G74,0)","v":0},{"$f":"IF(AZ74=2,G74,0)","v":0},{"$f":"IF(AZ74=3,G74,0)","v":0},{"$f":"IF(AZ74=4,G74,0)","v":0},{"$f":"IF(AZ74=5,G74,0)","v":0},null,null,null,null,null,null,null,null,null,null,null,null,null,null,null,null,null,null,null,null,null,3,1]
[null,null,"Vodovodní řad PE D 110x10,0 mm:(144,12+50,00)*(0,80*(0,11+0,30)-0,055^2*Pi)*1,973*1,01",null,123.2037,null,null,null,null,null,null,null,"Vodovodní řad PE D 110x10,0 mm:(144,12+50,00)*(0,80*(0,11+0,30)-0,055^2*Pi)*1,973*1,01"]
[14,"58344197R","Štěrkodrtě frakce 0-63 A","t",173.32900000000001,null,{"$f":"E76*F76","v":0},1,{"$f":"E76*H76","v":173.32900000000001},null,{"$f":"E76*J76","v":0},null,null,null,2,null,null,null,null,null,null,null,null,null,null,null,3,1,"58344197R",null,null,null,null,null,null,null,null,null,null,null,null,null,null,null,null,null,null,null,null,null,null,1,{"$f":"IF(AZ76=1,G76,0)","v":0},{"$f":"IF(AZ76=2,G76,0)","v":0},{"$f":"IF(AZ76=3,G76,0)","v":0},{"$f":"IF(AZ76=4,G76,0)","v":0},{"$f":"IF(AZ76=5,G76,0)","v":0},null,null,null,null,null,null,null,null,null,null,null,null,null,null,null,null,null,null,null,null,null,3,1]
[null,null,"Vodovodní řad PE D 110x10,0 mm:",null,0,null,null,null,null,null,null,null,"Vodovodní řad PE D 110x10,0 mm:"]
[null,null,"Zásypy ŠD fr. 0-63 mm:91,6246*1,873*1,01",null,173.32900000000001,null,null,null,null,null,null,null,"Zásypy ŠD fr. 0-63 mm:91,6246*1,873*1,01"]
[null,null,"Začátek provozního součtu",null,0,null,null,null,null,null,null,null,"Začátek provozního součtu"]
[null,null,"Výkopy:",null,0,null,null,null,null,null,null,null,"Výkopy:"]
[null,null,"Průměrná hloubka výkopu - 1,60 m:",null,0,null,null,null,null,null,null,null,"Průměrná hloubka výkopu - 1,60 m:"]
[null,null,"Vodovodní řad :(144,12+50,00)*0,80*1,60",null,248.4736,null,null,null,null,null,null,null,"Vodovodní řad :(144,12+50,00)*0,80*1,60"]
[null,null,"Odpočet objemu konstrukce komunikace:-(144,12+50,00)*0,80*0,45",null,-69.883200000000002,null,null,null,null,null,null,null,"Odpočet objemu konstrukce komunikace:-(144,12+50,00)*0,80*0,45"]
[null,null,"Odpočet objemu lože, potrubí a obsypů:-(144,12+50,00)*0,80*(0,15+0,11+0,30)",null,-86.965800000000002,null,null,null,null,null,null,null,"Odpočet objemu lože, potrubí a obsypů:-(144,12+50,00)*0,80*(0,15+0,11+0,30)"]
[null,null,"Konec provozního součtu",null,91.624599999999987,null,null,null,null,null,null,null,"Konec provozního součtu"]
[null,"Celkem za","1 Zemní práce",null,null,null,{"$f":"SUM(G7:G85)","v":0},null,{"$f":"SUM(I7:I85)","v":297.33358435000002},null,{"$f":"SUM(K7:K85)","v":0},null,null,null,4,null,null,null,null,null,null,null,null,null,null,null,null,null,null,null,null,null,null,null,null,null,null,null,null,null,null,null,null,null,null,null,null,null,null,null,null,null,{"$f":"SUM(BA7:BA85)","v":0},{"$f":"SUM(BB7:BB85)","v":0},{"$f":"SUM(BC7:BC85)","v":0},{"$f":"SUM(BD7:BD85)","v":0},{"$f":"SUM(BE7:BE85)","v":0}]
["Díl:","45","Podkladní a vedlejší konstrukce",null,null,null,null,null,null,null,null,null,null,null,1]
[15,"451572111R00","Lože pod potrubí z kameniva těženého 0 - 4 mm ","m3",23.2944,null,{"$f":"E88*F88","v":0},0.43051,{"$f":"E88*H88","v":10.028472144},0,{"$f":"E88*J88","v":0},null,null,null,2,null,null,null,null,null,null,null,null,null,null,null,1,1,1,null,null,null,null,null,null,null,null,null,null,null,null,null,null,null,null,null,null,null,null,null,null,1,{"$f":"IF(AZ88=1,G88,0)","v":0},{"$f":"IF(AZ88=2,G88,0)","v":0},{"$f":"IF(AZ88=3,G88,0)","v":0},{"$f":"IF(AZ88=4,G88,0)","v":0},{"$f":"IF(AZ88=5,G88,0)","v":0},null,null,null,null,null,null,null,null,null,null,null,null,null,null,null,null,null,null,null,null,null,1,1]
[null,null,"Vodovodní řad PE D 110x10,0 mm:(144,12+50,00)*0,80*0,15",null,23.2944,null,null,null,null,null,null,null,"Vodovodní řad PE D 110x10,0 mm:(144,12+50,00)*0,80*0,15"]
[16,"452313141R00","Bloky pro potrubí z betonu C 16/20 vč. bednění ","m3",1.258,null,{"$f":"E90*F90","v":0},2.5,{"$f":"E90*H90","v":3.145},0,{"$f":"E90*J90","v":0},null,null,null,2,null,null,null,null,null,null,null,null,null,null,null,1,1,1,null,null,null,null,null,null,null,null,null,null,null,null,null,null,null,null,null,null,null,null,null,null,1,{"$f":"IF(AZ90=1,G90,0)","v":0},{"$f":"IF(AZ90=2,G90,0)","v":0},{"$f":"IF(AZ90=3,G90,0)","v":0},{"$f":"IF(AZ90=4,G90,0)","v":0},{"$f":"IF(AZ90=5,G90,0)","v":0},null,null,null,null,null,null,null,null,null,null,null,null,null,null,null,null,null,null,null,null,null,1,1]
[null,"Celkem za","45 Podkladní a vedlejší konstrukce",null,null,null,{"$f":"SUM(G87:G90)","v":0},null,{"$f":"SUM(I87:I90)","v":13.173472144},null,{"$f":"SUM(K87:K90)","v":0},null,null,null,4,null,null,null,null,null,null,null,null,null,null,null,null,null,null,null,null,null,null,null,null,null,null,null,null,null,null,null,null,null,null,null,null,null,null,null,null,null,{"$f":"SUM(BA87:BA90)","v":0},{"$f":"SUM(BB87:BB90)","v":0},{"$f":"SUM(BC87:BC90)","v":0},{"$f":"SUM(BD87:BD90)","v":0},{"$f":"SUM(BE87:BE90)","v":0}]
["Díl:","5","Komunikace",null,null,null,null,null,null,null,null,null,null,null,1]
[17,"572701119RRX","Provizorní zásyp rýh kam. hrubě drceným nebo recyk s následným odstraněním a odvozem","m3",69.883200000000002,null,{"$f":"E93*F93","v":0},1.4804999999999999,{"$f":"E93*H93","v":103.4620776},0,{"$f":"E93*J93","v":0},null,null,null,2,null,null,null,null,null,null,null,null,null,null,null,1,1,1,null,null,null,null,null,null,null,null,null,null,null,null,null,null,null,null,null,null,null,null,null,null,1,{"$f":"IF(AZ93=1,G93,0)","v":0},{"$f":"IF(AZ93=2,G93,0)","v":0},{"$f":"IF(AZ93=3,G93,0)","v":0},{"$f":"IF(AZ93=4,G93,0)","v":0},{"$f":"IF(AZ93=5,G93,0)","v":0},null,null,null,null,null,null,null,null,null,null,null,null,null,null,null,null,null,null,null,null,null,1,1]
[null,null,"Vodovodní řad PE D 110x10,0 mm:",null,0,null,null,null,null,null,null,null,"Vodovodní řad PE D 110x10,0 mm:"]
[null,null,"Objem konstrukce komunikace:(144,12+50,00)*0,80*0,45",null,69.883200000000002,null,null,null,null,null,null,null,"Objem konstrukce komunikace:(144,12+50,00)*0,80*0,45"]
[null,"Celkem za","5 Komunikace",null,null,null,{"$f":"SUM(G92:G95)","v":0},null,{"$f":"SUM(I92:I95)","v":103.4620776},null,{"$f":"SUM(K92:K95)","v":0},null,null,null,4,null,null,null,null,null,null,null,null,null,null,null,null,null,null,null,null,null,null,null,null,null,null,null,null,null,null,null,null,null,null,null,null,null,null,null,null,null,{"$f":"SUM(BA92:BA95)","v":0},{"$f":"SUM(BB92:BB95)","v":0},{"$f":"SUM(BC92:BC95)","v":0},{"$f":"SUM(BD92:BD95)","v":0},{"$f":"SUM(BE92:BE95)","v":0}]
["Díl:","8","Trubní vedení",null,null,null,null,null,null,null,null,null,null,null,1]
[18,"850245121R00","Výřez nebo výsek na potrubí litinovém DN 80 ","kus",1,null,{"$f":"E98*F98","v":0},0,{"$f":"E98*H98","v":0},0,{"$f":"E98*J98","v":0},null,null,null,2,null,null,null,null,null,null,null,null,null,null,null,1,1,1,null,null,null,null,null,null,null,null,null,null,null,null,null,null,null,null,null,null,null,null,null,null,1,{"$f":"IF(AZ98=1,G98,0)","v":0},{"$f":"IF(AZ98=2,G98,0)","v":0},{"$f":"IF(AZ98=3,G98,0)","v":0},{"$f":"IF(AZ98=4,G98,0)","v":0},{"$f":"IF(AZ98=5,G98,0)","v":0},null,null,null,null,null,null,null,null,null,null,null,null,null,null,null,null,null,null,null,null,null,1,1]
[null,null,"Položky výřezu nebo výseku na potrubí z trub litinových tlakových jsou určeny pro dva řezy nebo seky prováděné na potrubí dodatečně. V položkách jsou zakalkulovány náklady na",null,null,null,null,null,null,null,null,"Položky výřezu nebo výseku na potrubí z trub litinových tlakových jsou určeny pro dva řezy nebo seky prováděné na potrubí dodatečně. V položkách jsou zakalkulovány náklady na",null,null,3]
[null,null,"- ohlášení uzavírání vody",null,null,null,null,null,null,null,null,"- ohlášení uzavírání vody",null,null,3]
[null,null,"- uzavření a otevření šoupat",null,null,null,null,null,null,null,null,"- uzavření a otevření šoupat",null,null,3]
[null,null,"- vypuštění a napuštění vody",null,null,null,null,null,null,null,null,"- vypuštění a napuštění vody",null,null,3]
[null,null,"- odvzdušnění potrubí",null,null,null,null,null,null,null,null,"- odvzdušnění potrubí",null,null,3]
[null,null,"- strojní nebo ruční výřez potrubí",null,null,null,null,null,null,null,null,"- strojní nebo ruční výřez potrubí",null,null,3]
[null,null,"- nutné úpravy výkopu v prostoru provádění",null,null,null,null,null,null,null,null,"- nutné úpravy výkopu v prostoru provádění",null,null,3]
[null,null,"- montáž tvarovek",null,null,null,null,null,null,null,null,"- montáž tvarovek",null,null,3]
[null,null,"Vodovodní řad PE D 110x10,0 mm:",null,0,null,null,null,null,null,null,null,"Vodovodní řad PE D 110x10,0 mm:"]
[null,null,"Výřez na stávajícím potrubí DN80:1",null,1,null,null,null,null,null,null,null,"Výřez na stávajícím potrubí DN80:1"]
[19,"850265121R00","Výřez nebo výsek na potrubí litinovém DN 100 ","kus",1,null,{"$f":"E109*F109","v":0},0,{"$f":"E109*H109","v":0},0,{"$f":"E109*J109","v":0},null,null,null,2,null,null,null,null,null,null,null,null,null,null,null,1,1,1,null,null,null,null,null,null,null,null,null,null,null,null,null,null,null,null,null,null,null,null,null,null,1,{"$f":"IF(AZ109=1,G109,0)","v":0},{"$f":"IF(AZ109=2,G109,0)","v":0},{"$f":"IF(AZ109=3,G109,0)","v":0},{"$f":"IF(AZ109=4,G109,0)","v":0},{"$f":"IF(AZ109=5,G109,0)","v":0},null,null,null,null,null,null,null,null,null,null,null,null,null,null,null,null,null,null,null,null,null,1,1]
[null,null,"Položky výřezu nebo výseku na potrubí z trub litinových tlakových jsou určeny pro dva řezy nebo seky prováděné na potrubí dodatečně. V položkách jsou zakalkulovány náklady na",null,null,null,null,null,null,null,null,"Položky výřezu nebo výseku na potrubí z trub litinových tlakových jsou určeny pro dva řezy nebo seky prováděné na potrubí dodatečně. V položkách jsou zakalkulovány náklady na",null,null,3]
[null,null,"- ohlášení uzavírání vody",null,null,null,null,null,null,null,null,"- ohlášení uzavírání vody",null,null,3]
[null,null,"- uzavření a otevření šoupat",null,null,null,null,null,null,null,null,"- uzavření a otevření šoupat",null,null,3]
[null,null,"- vypuštění a napuštění vody",null,null,null,null,null,null,null,null,"- vypuštění a napuštění vody",null,null,3]
[null,null,"- odvzdušnění potrubí",null,null,null,null,null,null,null,null,"- odvzdušnění potrubí",null,null,3]
[null,null,"- strojní nebo ruční výřez potrubí",null,null,null,null,null,null,null,null,"- strojní nebo ruční výřez potrubí",null,null,3]
[null,null,"- nutné úpravy výkopu v prostoru provádění",null,null,null,null,null,null,null,null,"- nutné úpravy výkopu v prostoru provádění",null,null,3]
[null,null,"- montáž tvarovek",null,null,null,null,null,null,null,null,"- montáž tvarovek",null,null,3]
[null,null,"Vodovodní řad PE D 110x10,0 mm:",null,0,null,null,null,null,null,null,null,"Vodovodní řad PE D 110x10,0 mm:"]
[null,null,"Výřez na stávajícím potrubí DN100:1",null,1,null,null,null,null,null,null,null,"Výřez na stávajícím potrubí DN100:1"]
[20,"857242121R00","Montáž tvarovek litin. jednoos.přír. výkop DN 80 včetně nerezových spoj. prvků a obandážování spoje","kus",2,null,{"$f":"E120*F120","v":0},2.2000000000000001E-4,{"$f":"E120*H120","v":4.4000000000000002E-4},0,{"$f":"E120*J120","v":0},null,null,null,2,null,null,null,null,null,null,null,null,null,null,null,1,1,1,null,null,null,null,null,null,null,null,null,null,null,null,null,null,null,null,null,null,null,null,null,null,1,{"$f":"IF(AZ120=1,G120,0)","v":0},{"$f":"IF(AZ120=2,G120,0)","v":0},{"$f":"IF(AZ120=3,G120,0)","v":0},{"$f":"IF(AZ120=4,G120,0)","v":0},{"$f":"IF(AZ120=5,G120,0)","v":0},null,null,null,null,null,null,null,null,null,null,null,null,null,null,null,null,null,null,null,null,null,1,1]
[null,null,"Položka je určena pro montáž litinových tvarovek na potrubí litinovém tlakovém přírubovém jednoosých v otevřeném výkopu, v otevřeném kanálu nebo v šachtě.",null,null,null,null,null,null,null,null,"Položka je určena pro montáž litinových tvarovek na potrubí litinovém tlakovém přírubovém jednoosých v otevřeném výkopu, v otevřeném kanálu nebo v šachtě.",null,null,3]
[null,null,"Součástí položky je i dodávka nerezových spojovacích prvků (šrouby, podložky, matky) a kompletního obandážování spojů. ",null,null,null,null,null,null,null,null,"Součástí položky je i dodávka nerezových spojovacích prvků (šrouby, podložky, matky) a kompletního obandážování spojů. ",null,null,3]
[null,null,"Vodovodní řad PE D 110x10,0 mm:",null,0,null,null,null,null,null,null,null,"Vodovodní řad PE D 110x10,0 mm:"]
[null,null,"FFK 22° DN80:1",null,1,null,null,null,null,null,null,null,"FFK 22° DN80:1"]
[null,null,"Synoflex s přírubou DN80:1",null,1,null,null,null,null,null,null,null,"Synoflex s přírubou DN80:1"]
[21,"857262121R00","Montáž tvarovek litin. jednoos. přír. výkop DN 100 včetně nerezových spoj. prvků a obandážování spoje","kus",4,null,{"$f":"E126*F126","v":0},4.0999999999999999E-4,{"$f":"E126*H126","v":1.64E-3},0,{"$f":"E126*J126","v":0},null,null,null,2,null,null,null,null,null,null,null,null,null,null,null,1,0,0,null,null,null,null,null,null,null,null,null,null,null,null,null,null,null,null,null,null,null,null,null,null,1,{"$f":"IF(AZ126=1,G126,0)","v":0},{"$f":"IF(AZ126=2,G126,0)","v":0},{"$f":"IF(AZ126=3,G126,0)","v":0},{"$f":"IF(AZ126=4,G126,0)","v":0},{"$f":"IF(AZ126=5,G126,0)","v":0},null,null,null,null,null,null,null,null,null,null,null,null,null,null,null,null,null,null,null,null,null,1,0]
[null,null,"Položka je určena pro montáž litinových tvarovek na potrubí litinovém tlakovém přírubovém jednoosých v otevřeném výkopu, v otevřeném kanálu nebo v šachtě.",null,null,null,null,null,null,null,null,"Položka je určena pro montáž litinových tvarovek na potrubí litinovém tlakovém přírubovém jednoosých v otevřeném výkopu, v otevřeném kanálu nebo v šachtě.",null,null,3]
[null,null,"Součástí položky je i dodávka nerezových spojovacích prvků (šrouby, podložky, matky) a kompletního obandážování spojů. ",null,null,null,null,null,null,null,null,"Součástí položky je i dodávka nerezových spojovacích prvků (šrouby, podložky, matky) a kompletního obandážování spojů. ",null,null,3]
[null,null,"Vodovodní řad PE D 110x10,0 mm:",null,0,null,null,null,null,null,null,null,"Vodovodní řad PE D 110x10,0 mm:"]
[null,null,"LN + TP D110/DN100:3",null,3,null,null,null,null,null,null,null,"LN + TP D110/DN100:3"]
[null,null,"Synoflex spojka DN100:1",null,1,null,null,null,null,null,null,null,"Synoflex spojka DN100:1"]
[22,"857264121R00","Montáž tvarovek litin. odboč. přír. výkop DN 100 včetně nerezových spoj. prvků a obandážování spoje","kus",1,null,{"$f":"E132*F132","v":0},6.2E-4,{"$f":"E132*H132","v":6.2E-4},0,{"$f":"E132*J132","v":0},null,null,null,2,null,null,null,null,null,null,null,null,null,null,null,1,1,1,null,null,null,null,null,null,null,null,null,null,null,null,null,null,null,null,null,null,null,null,null,null,1,{"$f":"IF(AZ132=1,G132,0)","v":0},{"$f":"IF(AZ132=2,G132,0)","v":0},{"$f":"IF(AZ132=3,G132,0)","v":0},{"$f":"IF(AZ132=4,G132,0)","v":0},{"$f":"IF(AZ132=5,G132,0)","v":0},null,null,null,null,null,null,null,null,null,null,null,null,null,null,null,null,null,null,null,null,null,1,1]
[null,null,"Položka je určena pro montáž litinových tvarovek na potrubí litinovém tlakovém přírubovém odbočných v otevřeném výkopu, v otevřeném kanálu nebo v šachtě.",null,null,null,null,null,null,null,null,"Položka je určena pro montáž litinových tvarovek na potrubí litinovém tlakovém přírubovém odbočných v otevřeném výkopu, v otevřeném kanálu nebo v šachtě.",null,null,3]
[null,null,"Součástí položky je i dodávka nerezových spojovacích prvků (šrouby, podložky, matky) a kompletního obandážování spojů. ",null,null,null,null,null,null,null,null,"Součástí položky je i dodávka nerezových spojovacích prvků (šrouby, podložky, matky) a kompletního obandážování spojů. ",null,null,3]
[null,null,"Vodovodní řad PE D 110x10,0 mm:",null,0,null,null,null,null,null,null,null,"Vodovodní řad PE D 110x10,0 mm:"]
[null,null,"T DN100/80:1",null,1,null,null,null,null,null,null,null,"T DN100/80:1"]
[23,"871251121R00","Montáž trubek polyetylenových ve výkopu d 110 mm ","m",194.12,null,{"$f":"E137*F137","v":0},0,{"$f":"E137*H137","v":0},0,{"$f":"E137*J137","v":0},null,null,null,2,null,null,null,null,null,null,null,null,null,null,null,1,1,1,null,null,null,null,null,null,null,null,null,null,null,null,null,null,null,null,null,null,null,null,null,null,1,{"$f":"IF(AZ137=1,G137,0)","v":0},{"$f":"IF(AZ137=2,G137,0)","v":0},{"$f":"IF(AZ137=3,G137,0)","v":0},{"$f":"IF(AZ137=4,G137,0)","v":0},{"$f":"IF(AZ137=5,G137,0)","v":0},null,null,null,null,null,null,null,null,null,null,null,null,null,null,null,null,null,null,null,null,null,1,1]
[null,null,"V položce je uvažováno s jedním spojem na 6 m potrubí.",null,null,null,null,null,null,null,null,"V položce je uvažováno s jedním spojem na 6 m potrubí.",null,null,3]
[null,null,"Vodovodní řad PE D 110x10,0 mm:144,12+50,00",null,194.12,null,null,null,null,null,null,null,"Vodovodní řad PE D 110x10,0 mm:144,12+50,00"]
[24,"877252121R00","Přirážka za 1 spoj elektrotvarovky d 110 mm ","kus",43,null,{"$f":"E140*F140","v":0},0,{"$f":"E140*H140","v":0},0,{"$f":"E140*J140","v":0},null,null,null,2,null,null,null,null,null,null,null,null,null,null,null,1,1,1,null,null,null,null,null,null,null,null,null,null,null,null,null,null,null,null,null,null,null,null,null,null,1,{"$f":"IF(AZ140=1,G140,0)","v":0},{"$f":"IF(AZ140=2,G140,0)","v":0},{"$f":"IF(AZ140=3,G140,0)","v":0},{"$f":"IF(AZ140=4,G140,0)","v":0},{"$f":"IF(AZ140=5,G140,0)","v":0},null,null,null,null,null,null,null,null,null,null,null,null,null,null,null,null,null,null,null,null,null,1,1]
[null,null,"Vodovodní řad PE D 110x10,0 mm:",null,0,null,null,null,null,null,null,null,"Vodovodní řad PE D 110x10,0 mm:"]
[null,null,"Elektrospojka D110:35",null,35,null,null,null,null,null,null,null,"Elektrospojka D110:35"]
[null,null,"Oblouk D110/11°:1",null,1,null,null,null,null,null,null,null,"Oblouk D110/11°:1"]
[null,null,"Oblouk D110/22°:2+2",null,4,null,null,null,null,null,null,null,"Oblouk D110/22°:2+2"]
[null,null,"Oblouk D110/30°:1",null,1,null,null,null,null,null,null,null,"Oblouk D110/30°:1"]
[null,null,"Oblouk D110/45°:2",null,2,null,null,null,null,null,null,null,"Oblouk D110/45°:2"]
[25,"891241111R00","Montáž vodovodních šoupátek ve výkopu DN 80 včetně nerezových spoj. prvků a obandážování spoje","kus",1,null,{"$f":"E147*F147","v":0},2.2000000000000001E-4,{"$f":"E147*H147","v":2.2000000000000001E-4},0,{"$f":"E147*J147","v":0},null,null,null,2,null,null,null,null,null,null,null,null,null,null,null,1,1,1,null,null,null,null,null,null,null,null,null,null,null,null,null,null,null,null,null,null,null,null,null,null,1,{"$f":"IF(AZ147=1,G147,0)","v":0},{"$f":"IF(AZ147=2,G147,0)","v":0},{"$f":"IF(AZ147=3,G147,0)","v":0},{"$f":"IF(AZ147=4,G147,0)","v":0},{"$f":"IF(AZ147=5,G147,0)","v":0},null,null,null,null,null,null,null,null,null,null,null,null,null,null,null,null,null,null,null,null,null,1,1]
[null,null,"Položka je určena pro montáž vodovodních šoupátek v otevřeném výkopu nebo v šachtách s osazením zemní soupravy (bez poklopů). V položce jsou zakalkulovány i náklady na vytvoření otvorů ve stropech šachet pro prostup zemních souprav šoupátek.",null,null,null,null,null,null,null,null,"Položka je určena pro montáž vodovodních šoupátek v otevřeném výkopu nebo v šachtách s osazením zemní soupravy (bez poklopů). V položce jsou zakalkulovány i náklady na vytvoření otvorů ve stropech šachet pro prostup zemních souprav šoupátek.",null,null,3]
[null,null,"Součástí položky je i dodávka nerezových spojovacích prvků (šrouby, podložky, matky) a kompletního obandážování spojů. ",null,null,null,null,null,null,null,null,"Součástí položky je i dodávka nerezových spojovacích prvků (šrouby, podložky, matky) a kompletního obandážování spojů. ",null,null,3]
[null,null,"Vodovodní řad PE D 110x10,0 mm:",null,0,null,null,null,null,null,null,null,"Vodovodní řad PE D 110x10,0 mm:"]
[null,null,"Šoupě DN80:1",null,1,null,null,null,null,null,null,null,"Šoupě DN80:1"]
[26,"891261111R00","Montáž vodovodních šoupátek ve výkopu DN 100 včetně nerezových spoj. prvků a obandážování spoje","kus",3,null,{"$f":"E152*F152","v":0},4.0999999999999999E-4,{"$f":"E152*H152","v":1.23E-3},0,{"$f":"E152*J152","v":0},null,null,null,2,null,null,null,null,null,null,null,null,null,null,null,1,1,1,null,null,null,null,null,null,null,null,null,null,null,null,null,null,null,null,null,null,null,null,null,null,1,{"$f":"IF(AZ152=1,G152,0)","v":0},{"$f":"IF(AZ152=2,G152,0)","v":0},{"$f":"IF(AZ152=3,G152,0)","v":0},{"$f":"IF(AZ152=4,G152,0)","v":0},{"$f":"IF(AZ152=5,G152,0)","v":0},null,null,null,null,null,null,null,null,null,null,null,null,null,null,null,null,null,null,null,null,null,1,1]
[null,null,"Položka je určena pro montáž vodovodních šoupátek v otevřeném výkopu nebo v šachtách s osazením zemní soupravy (bez poklopů). V položce jsou zakalkulovány i náklady na vytvoření otvorů ve stropech šachet pro prostup zemních souprav šoupátek.",null,null,null,null,null,null,null,null,"Položka je určena pro montáž vodovodních šoupátek v otevřeném výkopu nebo v šachtách s osazením zemní soupravy (bez poklopů). V položce jsou zakalkulovány i náklady na vytvoření otvorů ve stropech šachet pro prostup zemních souprav šoupátek.",null,null,3]
[null,null,"Součástí položky je i dodávka nerezových spojovacích prvků (šrouby, podložky, matky) a kompletního obandážování spojů. ",null,null,null,null,null,null,null,null,"Součástí položky je i dodávka nerezových spojovacích prvků (šrouby, podložky, matky) a kompletního obandážování spojů. ",null,null,3]
[null,null,"Vodovodní řad PE D 110x10,0 mm:",null,0,null,null,null,null,null,null,null,"Vodovodní řad PE D 110x10,0 mm:"]
[null,null,"Šoupě DN100:3",null,3,null,null,null,null,null,null,null,"Šoupě DN100:3"]
[27,"891269111R00","Montáž navrtávacích pasů DN 100 s ventilem ","kus",7,null,{"$f":"E157*F157","v":0},0,{"$f":"E157*H157","v":0},0,{"$f":"E157*J157","v":0},null,null,null,2,null,null,null,null,null,null,null,null,null,null,null,1,1,1,null,null,null,null,null,null,null,null,null,null,null,null,null,null,null,null,null,null,null,null,null,null,1,{"$f":"IF(AZ157=1,G157,0)","v":0},{"$f":"IF(AZ157=2,G157,0)","v":0},{"$f":"IF(AZ157=3,G157,0)","v":0},{"$f":"IF(AZ157=4,G157,0)","v":0},{"$f":"IF(AZ157=5,G157,0)","v":0},null,null,null,null,null,null,null,null,null,null,null,null,null,null,null,null,null,null,null,null,null,1,1]
[null,null,"Vodovodní řad PE D 110x10,0 mm:",null,0,null,null,null,null,null,null,null,"Vodovodní řad PE D 110x10,0 mm:"]
[null,null,"Pro VP DAV D110/32:5+2",null,7,null,null,null,null,null,null,null,"Pro VP DAV D110/32:5+2"]
[28,"892271111R00","Tlaková zkouška vodovodního potrubí DN 125 včetně zajištění konců potrubí","m",194.12,null,{"$f":"E160*F160","v":0},0,{"$f":"E160*H160","v":0},0,{"$f":"E160*J160","v":0},null,null,null,2,null,null,null,null,null,null,null,null,null,null,null,1,1,1,null,null,null,null,null,null,null,null,null,null,null,null,null,null,null,null,null,null,null,null,null,null,1,{"$f":"IF(AZ160=1,G160,0)","v":0},{"$f":"IF(AZ160=2,G160,0)","v":0},{"$f":"IF(AZ160=3,G160,0)","v":0},{"$f":"IF(AZ160=4,G160,0)","v":0},{"$f":"IF(AZ160=5,G160,0)","v":0},null,null,null,null,null,null,null,null,null,null,null,null,null,null,null,null,null,null,null,null,null,1,1]
[null,null,"V položce jsou započteny náklady na přísun, montáž, demontáž a odsun zkoušecího čerpadla, napuštění tlakovou vodou a dodání vody pro tlakovou zkoušku",null,null,null,null,null,null,null,null,"V položce jsou započteny náklady na přísun, montáž, demontáž a odsun zkoušecího čerpadla, napuštění tlakovou vodou a dodání vody pro tlakovou zkoušku",null,null,3]
[null,null,"Vodovodní řad PE D 110x10,0 mm:144,12+50,00",null,194.12,null,null,null,null,null,null,null,"Vodovodní řad PE D 110x10,0 mm:144,12+50,00"]
[29,"892273111R00","Desinfekce vodovodního potrubí DN 125 ","m",194.12,null,{"$f":"E163*F163","v":0},0,{"$f":"E163*H163","v":0},0,{"$f":"E163*J163","v":0},null,null,null,2,null,null,null,null,null,null,null,null,null,null,null,1,1,1,null,null,null,null,null,null,null,null,null,null,null,null,null,null,null,null,null,null,null,null,null,null,1,{"$f":"IF(AZ163=1,G163,0)","v":0},{"$f":"IF(AZ163=2,G163,0)","v":0},{"$f":"IF(AZ163=3,G163,0)","v":0},{"$f":"IF(AZ163=4,G163,0)","v":0},{"$f":"IF(AZ163=5,G163,0)","v":0},null,null,null,null,null,null,null,null,null,null,null,null,null,null,null,null,null,null,null,null,null,1,1]
[null,null,"V položce jsou zakalkulovány náklady na napuštění a vypuštění vody, dodání vody a desinfekčního prostředku a na bakteriologický rozbor vody.",null,null,null,null,null,null,null,null,"V položce jsou zakalkulovány náklady na napuštění a vypuštění vody, dodání vody a desinfekčního prostředku a na bakteriologický rozbor vody.",null,null,3]
[null,null,"Vodovodní řad PE D 110x10,0 mm:144,12+50,00",null,194.12,null,null,null,null,null,null,null,"Vodovodní řad PE D 110x10,0 mm:144,12+50,00"]
[30,"899713111RRX","Orientační tabulky na sloupku ocelovém, betonovém ","kus",9,null,{"$f":"E166*F166","v":0},2.4000000000000001E-4,{"$f":"E166*H166","v":2.16E-3},0,{"$f":"E166*J166","v":0},null,null,null,2,null,null,null,null,null,null,null,null,null,null,null,1,1,1,null,null,null,null,null,null,null,null,null,null,null,null,null,null,null,null,null,null,null,null,null,null,1,{"$f":"IF(AZ166=1,G166,0)","v":0},{"$f":"IF(AZ166=2,G166,0)","v":0},{"$f":"IF(AZ166=3,G166,0)","v":0},{"$f":"IF(AZ166=4,G166,0)","v":0},{"$f":"IF(AZ166=5,G166,0)","v":0},null,null,null,null,null,null,null,null,null,null,null,null,null,null,null,null,null,null,null,null,null,1,1]
[null,null,"Položka platí pro orientační tabulky na vodovodních a kanalizačních řadech. V položce jsou zakalkulovány náklady na dodání a připevnění tabulky a na osazení sloupku. V položce jsou zakalkulovány náklady na zemní práce a na dodání sloupků (betonových nebo ocelových s betonovými patkami)",null,null,null,null,null,null,null,null,"Položka platí pro orientační tabulky na vodovodních a kanalizačních řadech. V položce jsou zakalkulovány náklady na dodání a připevnění tabulky a na osazení sloupku. V položce jsou zakalkulovány náklady na zemní práce a na dodání sloupků (betonových nebo ocelových s betonovými patkami)",null,null,3]
[null,null,"Vodovodní řad PE D 110x10,0 mm:",null,0,null,null,null,null,null,null,null,"Vodovodní řad PE D 110x10,0 mm:"]
[null,null,"Pro Šoupě DN80:1",null,1,null,null,null,null,null,null,null,"Pro Šoupě DN80:1"]
[null,null,"Pro Šoupě DN100:3",null,3,null,null,null,null,null,null,null,"Pro Šoupě DN100:3"]
[null,null,"Pro VP DAV D110/32:5",null,5,null,null,null,null,null,null,null,"Pro VP DAV D110/32:5"]
[31,"899721112R00","Fólie výstražná z PVC bílá, šířka 30 cm ","m",194.12,null,{"$f":"E172*F172","v":0},0,{"$f":"E172*H172","v":0},0,{"$f":"E172*J172","v":0},null,null,null,2,null,null,null,null,null,null,null,null,null,null,null,1,1,1,null,null,null,null,null,null,null,null,null,null,null,null,null,null,null,null,null,null,null,null,null,null,1,{"$f":"IF(AZ172=1,G172,0)","v":0},{"$f":"IF(AZ172=2,G172,0)","v":0},{"$f":"IF(AZ172=3,G172,0)","v":0},{"$f":"IF(AZ172=4,G172,0)","v":0},{"$f":"IF(AZ172=5,G172,0)","v":0},null,null,null,null,null,null,null,null,null,null,null,null,null,null,null,null,null,null,null,null,null,1,1]
[null,null,"Vodovodní řad PE D 110x10,0 mm:144,12+50,00",null,194.12,null,null,null,null,null,null,null,"Vodovodní řad PE D 110x10,0 mm:144,12+50,00"]
[32,"899731114R00","Vodič signalizační CYY 6 mm2 ","m",230.12,null,{"$f":"E174*F174","v":0},8.0000000000000007E-5,{"$f":"E174*H174","v":1.8409600000000002E-2},0,{"$f":"E174*J174","v":0},null,null,null,2,null,null,null,null,null,null,null,null,null,null,null,1,1,1,null,null,null,null,null,null,null,null,null,null,null,null,null,null,null,null,null,null,null,null,null,null,1,{"$f":"IF(AZ174=1,G174,0)","v":0},{"$f":"IF(AZ174=2,G174,0)","v":0},{"$f":"IF(AZ174=3,G174,0)","v":0},{"$f":"IF(AZ174=4,G174,0)","v":0},{"$f":"IF(AZ174=5,G174,0)","v":0},null,null,null,null,null,null,null,null,null,null,null,null,null,null,null,null,null,null,null,null,null,1,1]
[null,null,"Součástí položky je zajištění proměření vodiče a výchozí zevize.",null,null,null,null,null,null,null,null,"Součástí položky je zajištění proměření vodiče a výchozí zevize.",null,null,3]
[null,null,"Vodovodní řad PE D 110x10,0 mm:144,12+50,00",null,194.12,null,null,null,null,null,null,null,"Vodovodní řad PE D 110x10,0 mm:144,12+50,00"]
[null,null,"Vyvedeni:",null,0,null,null,null,null,null,null,null,"Vyvedeni:"]
[null,null,"Pro Šoupě DN80:2,00*2*1",null,4,null,null,null,null,null,null,null,"Pro Šoupě DN80:2,00*2*1"]
[null,null,"Pro Šoupě DN100:2,00*2*3",null,12,null,null,null,null,null,null,null,"Pro Šoupě DN100:2,00*2*3"]
[null,null,"Pro VP DAV D110/32:2,00*2*5",null,20,null,null,null,null,null,null,null,"Pro VP DAV D110/32:2,00*2*5"]
[33,"28613076.DAV.R","T-kus odbočkový navrtávací DAV (KIT) D110/32","kus",7,null,{"$f":"E181*F181","v":0},0,{"$f":"E181*H181","v":0},null,{"$f":"E181*J181","v":0},null,null,null,2,null,null,null,null,null,null,null,null,null,null,null,3,1,"28613076.DAV.R",null,null,null,null,null,null,null,null,null,null,null,null,null,null,null,null,null,null,null,null,null,null,1,{"$f":"IF(AZ181=1,G181,0)","v":0},{"$f":"IF(AZ181=2,G181,0)","v":0},{"$f":"IF(AZ181=3,G181,0)","v":0},{"$f":"IF(AZ181=4,G181,0)","v":0},{"$f":"IF(AZ181=5,G181,0)","v":0},null,null,null,null,null,null,null,null,null,null,null,null,null,null,null,null,null,null,null,null,null,3,1]
[null,null,"Vodovodní řad PE D 110x10,0 mm:",null,0,null,null,null,null,null,null,null,"Vodovodní řad PE D 110x10,0 mm:"]
[null,null,"Pro VP DAV D110/32:5+2",null,7,null,null,null,null,null,null,null,"Pro VP DAV D110/32:5+2"]
[34,"28613090.EBS.R","Zemní souprava EBS 1,1-1,8 pro DAV (KIT)","kus",7,null,{"$f":"E184*F184","v":0},0,{"$f":"E184*H184","v":0},null,{"$f":"E184*J184","v":0},null,null,null,2,null,null,null,null,null,null,null,null,null,null,null,3,1,"28613090.EBS.R",null,null,null,null,null,null,null,null,null,null,null,null,null,null,null,null,null,null,null,null,null,null,1,{"$f":"IF(AZ184=1,G184,0)","v":0},{"$f":"IF(AZ184=2,G184,0)","v":0},{"$f":"IF(AZ184=3,G184,0)","v":0},{"$f":"IF(AZ184=4,G184,0)","v":0},{"$f":"IF(AZ184=5,G184,0)","v":0},null,null,null,null,null,null,null,null,null,null,null,null,null,null,null,null,null,null,null,null,null,3,1]
[null,null,"Vodovodní řad PE D 110x10,0 mm:",null,0,null,null,null,null,null,null,null,"Vodovodní řad PE D 110x10,0 mm:"]
[null,null,"Pro VP DAV D110/32:5+2",null,7,null,null,null,null,null,null,null,"Pro VP DAV D110/32:5+2"]
[35,"286134215.R","Trubka tlaková AQUALINE RC2 PE100 110x10,0 mm PN16 tyče L=12 m","m",197.0318,null,{"$f":"E187*F187","v":0},2.1199999999999999E-3,{"$f":"E187*H187","v":0.417707416},null,{"$f":"E187*J187","v":0},null,null,null,2,null,null,null,null,null,null,null,null,null,null,null,3,1,"286134215.R",null,null,null,null,null,null,null,null,null,null,null,null,null,null,null,null,null,null,null,null,null,null,1,{"$f":"IF(AZ187=1,G187,0)","v":0},{"$f":"IF(AZ187=2,G187,0)","v":0},{"$f":"IF(AZ187=3,G187,0)","v":0},{"$f":"IF(AZ187=4,G187,0)","v":0},{"$f":"IF(AZ187=5,G187,0)","v":0},null,null,null,null,null,null,null,null,null,null,null,null,null,null,null,null,null,null,null,null,null,3,1]
[null,null,"Vodovodní PE tlaková trubka AQUALINE RC2 dle normy EN 12 201-2",null,null,null,null,null,null,null,null,"Vodovodní PE tlaková trubka AQUALINE RC2 dle normy EN 12 201-2",null,null,3]
[null,null,"(doprava pitné a užitkové vody)",null,null,null,null,null,null,null,null,"(doprava pitné a užitkové vody)",null,null,3]
[null,null,"Dvouvrstvá - vnější vrstva PE 100RC modrá (10 % tloušťky)",null,null,null,null,null,null,null,null,"Dvouvrstvá - vnější vrstva PE 100RC modrá (10 % tloušťky)",null,null,3]
[null,null,"                       vnitřní vrstva PE 100RC černá (90 % tloušťky)",null,null,null,null,null,null,null,null,"                       vnitřní vrstva PE 100RC černá (90 % tloušťky)",null,null,3]
[null,null,"Lepší detekce poškození oproti typu RC1",null,null,null,null,null,null,null,null,"Lepší detekce poškození oproti typu RC1",null,null,3]
[null,null,"Vodovodní řad PE D 110x10,0 mm:(144,12+50,00)*1,015",null,197.0318,null,null,null,null,null,null,null,"Vodovodní řad PE D 110x10,0 mm:(144,12+50,00)*1,015"]
[36,"28653080.11.R","Elektrospojka d 110 mm PE 100 SDR11","kus",35.524999999999999,null,{"$f":"E194*F194","v":0},1.2999999999999999E-3,{"$f":"E194*H194","v":4.6182499999999994E-2},null,{"$f":"E194*J194","v":0},null,null,null,2,null,null,null,null,null,null,null,null,null,null,null,3,1,"28653080.11.R",null,null,null,null,null,null,null,null,null,null,null,null,null,null,null,null,null,null,null,null,null,null,1,{"$f":"IF(AZ194=1,G194,0)","v":0},{"$f":"IF(AZ194=2,G194,0)","v":0},{"$f":"IF(AZ194=3,G194,0)","v":0},{"$f":"IF(AZ194=4,G194,0)","v":0},{"$f":"IF(AZ194=5,G194,0)","v":0},null,null,null,null,null,null,null,null,null,null,null,null,null,null,null,null,null,null,null,null,null,3,1]
[null,null,"Vodovodní řad PE D 110x10,0 mm:",null,0,null,null,null,null,null,null,null,"Vodovodní řad PE D 110x10,0 mm:"]
[null,null,"Elektrospojka D110:35*1,015",null,35.524999999999999,null,null,null,null,null,null,null,"Elektrospojka D110:35*1,015"]
[37,"28653447.A.R","Oblouk 45° PE d 110 mm PE100 SDR11","kus",2.0299999999999998,null,{"$f":"E197*F197","v":0},1.0499999999999999E-3,{"$f":"E197*H197","v":2.1314999999999997E-3},null,{"$f":"E197*J197","v":0},null,null,null,2,null,null,null,null,null,null,null,null,null,null,null,3,1,"28653447.A.R",null,null,null,null,null,null,null,null,null,null,null,null,null,null,null,null,null,null,null,null,null,null,1,{"$f":"IF(AZ197=1,G197,0)","v":0},{"$f":"IF(AZ197=2,G197,0)","v":0},{"$f":"IF(AZ197=3,G197,0)","v":0},{"$f":"IF(AZ197=4,G197,0)","v":0},{"$f":"IF(AZ197=5,G197,0)","v":0},null,null,null,null,null,null,null,null,null,null,null,null,null,null,null,null,null,null,null,null,null,3,1]
[null,null,"Vodovodní řad PE D 110x10,0 mm:",null,0,null,null,null,null,null,null,null,"Vodovodní řad PE D 110x10,0 mm:"]
[null,null,"Oblouk D110/45°:2*1,015",null,2.0299999999999998,null,null,null,null,null,null,null,"Oblouk D110/45°:2*1,015"]
[38,"28653448.A.R","Oblouk 30° PE d 110 mm PE100 SDR11","kus",1.0149999999999999,null,{"$f":"E200*F200","v":0},1.0499999999999999E-3,{"$f":"E200*H200","v":1.0657499999999999E-3},null,{"$f":"E200*J200","v":0},null,null,null,2,null,null,null,null,null,null,null,null,null,null,null,3,1,"28653448.A.R",null,null,null,null,null,null,null,null,null,null,null,null,null,null,null,null,null,null,null,null,null,null,1,{"$f":"IF(AZ200=1,G200,0)","v":0},{"$f":"IF(AZ200=2,G200,0)","v":0},{"$f":"IF(AZ200=3,G200,0)","v":0},{"$f":"IF(AZ200=4,G200,0)","v":0},{"$f":"IF(AZ200=5,G200,0)","v":0},null,null,null,null,null,null,null,null,null,null,null,null,null,null,null,null,null,null,null,null,null,3,1]
[null,null,"Vodovodní řad PE D 110x10,0 mm:",null,0,null,null,null,null,null,null,null,"Vodovodní řad PE D 110x10,0 mm:"]
[null,null,"Oblouk D110/30°:1*1,015",null,1.0149999999999999,null,null,null,null,null,null,null,"Oblouk D110/30°:1*1,015"]
[39,"28653449.A.R","Oblouk 22° PE d 110 mm PE100 SDR11","kus",4.0599999999999996,null,{"$f":"E203*F203","v":0},1.0499999999999999E-3,{"$f":"E203*H203","v":4.2629999999999994E-3},null,{"$f":"E203*J203","v":0},null,null,null,2,null,null,null,null,null,null,null,null,null,null,null,3,1,"28653449.A.R",null,null,null,null,null,null,null,null,null,null,null,null,null,null,null,null,null,null,null,null,null,null,1,{"$f":"IF(AZ203=1,G203,0)","v":0},{"$f":"IF(AZ203=2,G203,0)","v":0},{"$f":"IF(AZ203=3,G203,0)","v":0},{"$f":"IF(AZ203=4,G203,0)","v":0},{"$f":"IF(AZ203=5,G203,0)","v":0},null,null,null,null,null,null,null,null,null,null,null,null,null,null,null,null,null,null,null,null,null,3,1]
[null,null,"Vodovodní řad PE D 110x10,0 mm:",null,0,null,null,null,null,null,null,null,"Vodovodní řad PE D 110x10,0 mm:"]
[null,null,"Oblouk D110/22°:4*1,015",null,4.0599999999999996,null,null,null,null,null,null,null,"Oblouk D110/22°:4*1,015"]
[40,"28653450.A.R","Oblouk 11° PE d 110 mm PE100 SDR11","kus",1.0149999999999999,null,{"$f":"E206*F206","v":0},1.0499999999999999E-3,{"$f":"E206*H206","v":1.0657499999999999E-3},null,{"$f":"E206*J206","v":0},null,null,null,2,null,null,null,null,null,null,null,null,null,null,null,3,1,"28653450.A.R",null,null,null,null,null,null,null,null,null,null,null,null,null,null,null,null,null,null,null,null,null,null,1,{"$f":"IF(AZ206=1,G206,0)","v":0},{"$f":"IF(AZ206=2,G206,0)","v":0},{"$f":"IF(AZ206=3,G206,0)","v":0},{"$f":"IF(AZ206=4,G206,0)","v":0},{"$f":"IF(AZ206=5,G206,0)","v":0},null,null,null,null,null,null,null,null,null,null,null,null,null,null,null,null,null,null,null,null,null,3,1]
[null,null,"Vodovodní řad PE D 110x10,0 mm:",null,0,null,null,null,null,null,null,null,"Vodovodní řad PE D 110x10,0 mm:"]
[null,null,"Oblouk D110/11°:1*1,015",null,1.0149999999999999,null,null,null,null,null,null,null,"Oblouk D110/11°:1*1,015"]
[41,"28653766.R","LN + TP D110/DN100 PE100 SDR11","kus",3,null,{"$f":"E209*F209","v":0},3.5E-4,{"$f":"E209*H209","v":1.0499999999999999E-3},null,{"$f":"E209*J209","v":0},null,null,null,2,null,null,null,null,null,null,null,null,null,null,null,3,1,"28653766.R",null,null,null,null,null,null,null,null,null,null,null,null,null,null,null,null,null,null,null,null,null,null,1,{"$f":"IF(AZ209=1,G209,0)","v":0},{"$f":"IF(AZ209=2,G209,0)","v":0},{"$f":"IF(AZ209=3,G209,0)","v":0},{"$f":"IF(AZ209=4,G209,0)","v":0},{"$f":"IF(AZ209=5,G209,0)","v":0},null,null,null,null,null,null,null,null,null,null,null,null,null,null,null,null,null,null,null,null,null,3,1]
[null,null,"Vodovodní řad PE D 110x10,0 mm:",null,0,null,null,null,null,null,null,null,"Vodovodní řad PE D 110x10,0 mm:"]
[null,null,"LN + TP D110/DN100:3",null,3,null,null,null,null,null,null,null,"LN + TP D110/DN100:3"]
[42,"42228310.R","Šoupátko 4000E3 DN 80 přírubové, voda PN16","kus",1,null,{"$f":"E212*F212","v":0},1.6500000000000001E-2,{"$f":"E212*H212","v":1.6500000000000001E-2},null,{"$f":"E212*J212","v":0},null,null,null,2,null,null,null,null,null,null,null,null,null,null,null,3,1,"42228310.R",null,null,null,null,null,null,null,null,null,null,null,null,null,null,null,null,null,null,null,null,null,null,1,{"$f":"IF(AZ212=1,G212,0)","v":0},{"$f":"IF(AZ212=2,G212,0)","v":0},{"$f":"IF(AZ212=3,G212,0)","v":0},{"$f":"IF(AZ212=4,G212,0)","v":0},{"$f":"IF(AZ212=5,G212,0)","v":0},null,null,null,null,null,null,null,null,null,null,null,null,null,null,null,null,null,null,null,null,null,3,1]
[null,null,"Šoupátko přírubové krkové - měkcetěsnící klínové šoupátko s hladkým a volným průtokovým kanálem",null,null,null,null,null,null,null,null,"Šoupátko přírubové krkové - měkcetěsnící klínové šoupátko s hladkým a volným průtokovým kanálem",null,null,3]
[null,null,"č. 4000E3",null,null,null,null,null,null,null,null,"č. 4000E3",null,null,3]
[null,null,"PN 16",null,null,null,null,null,null,null,null,"PN 16",null,null,3]
[null,null,"DN 80",null,null,null,null,null,null,null,null,"DN 80",null,null,3]
[null,null,"těleso a víko: tvárná litina GGG 400 - DIN 1693",null,null,null,null,null,null,null,null,"těleso a víko: tvárná litina GGG 400 - DIN 1693",null,null,3]
[null,null,"medium: pitná voda, neagresivní odpadní voda",null,null,null,null,null,null,null,null,"medium: pitná voda, neagresivní odpadní voda",null,null,3]
[null,null,"Vodovodní řad PE D 110x10,0 mm:",null,0,null,null,null,null,null,null,null,"Vodovodní řad PE D 110x10,0 mm:"]
[null,null,"Šoupě DN80:1",null,1,null,null,null,null,null,null,null,"Šoupě DN80:1"]
[43,"42228312.R","Šoupátko 4000E3 DN 100 přírubové, voda PN16","kus",3,null,{"$f":"E221*F221","v":0},2.4500000000000001E-2,{"$f":"E221*H221","v":7.350000000000001E-2},null,{"$f":"E221*J221","v":0},null,null,null,2,null,null,null,null,null,null,null,null,null,null,null,3,1,"42228312.R",null,null,null,null,null,null,null,null,null,null,null,null,null,null,null,null,null,null,null,null,null,null,1,{"$f":"IF(AZ221=1,G221,0)","v":0},{"$f":"IF(AZ221=2,G221,0)","v":0},{"$f":"IF(AZ221=3,G221,0)","v":0},{"$f":"IF(AZ221=4,G221,0)","v":0},{"$f":"IF(AZ221=5,G221,0)","v":0},null,null,null,null,null,null,null,null,null,null,null,null,null,null,null,null,null,null,null,null,null,3,1]
[null,null,"Šoupátko přírubové krkové - měkcetěsnící klínové šoupátko s hladkým a volným průtokovým kanálem",null,null,null,null,null,null,null,null,"Šoupátko přírubové krkové - měkcetěsnící klínové šoupátko s hladkým a volným průtokovým kanálem",null,null,3]
[null,null,"č. 4000E3",null,null,null,null,null,null,null,null,"č. 4000E3",null,null,3]
[null,null,"PN 16",null,null,null,null,null,null,null,null,"PN 16",null,null,3]
[null,null,"DN 100",null,null,null,null,null,null,null,null,"DN 100",null,null,3]
[null,null,"těleso a víko: tvárná litina GGG 400 - DIN 1693",null,null,null,null,null,null,null,null,"těleso a víko: tvárná litina GGG 400 - DIN 1693",null,null,3]
[null,null,"medium: pitná voda, neagresivní odpadní voda",null,null,null,null,null,null,null,null,"medium: pitná voda, neagresivní odpadní voda",null,null,3]
[null,null,"Vodovodní řad PE D 110x10,0 mm:",null,0,null,null,null,null,null,null,null,"Vodovodní řad PE D 110x10,0 mm:"]
[null,null,"Šoupě DN100:3",null,3,null,null,null,null,null,null,null,"Šoupě DN100:3"]
[44,"42293250.R","Souprava zemní tel.9502E2/E3 DN50 -100, 1,3-1,8m","kus",4,null,{"$f":"E230*F230","v":0},7.3000000000000001E-3,{"$f":"E230*H230","v":2.92E-2},null,{"$f":"E230*J230","v":0},null,null,null,2,null,null,null,null,null,null,null,null,null,null,null,3,1,"42293250.R",null,null,null,null,null,null,null,null,null,null,null,null,null,null,null,null,null,null,null,null,null,null,1,{"$f":"IF(AZ230=1,G230,0)","v":0},{"$f":"IF(AZ230=2,G230,0)","v":0},{"$f":"IF(AZ230=3,G230,0)","v":0},{"$f":"IF(AZ230=4,G230,0)","v":0},{"$f":"IF(AZ230=5,G230,0)","v":0},null,null,null,null,null,null,null,null,null,null,null,null,null,null,null,null,null,null,null,null,null,3,1]
[null,null,"Vodovodní řad PE D 110x10,0 mm:",null,0,null,null,null,null,null,null,null,"Vodovodní řad PE D 110x10,0 mm:"]
[null,null,"Pro Šoupě DN80:1",null,1,null,null,null,null,null,null,null,"Pro Šoupě DN80:1"]
[null,null,"Pro Šoupě DN100:3",null,3,null,null,null,null,null,null,null,"Pro Šoupě DN100:3"]
[45,"422935304.R","Spojka Synoflex 7974, DN 100, PN 16","kus",1,null,{"$f":"E234*F234","v":0},1.2500000000000001E-2,{"$f":"E234*H234","v":1.2500000000000001E-2},null,{"$f":"E234*J234","v":0},null,null,null,2,null,null,null,null,null,null,null,null,null,null,null,3,1,"422935304.R",null,null,null,null,null,null,null,null,null,null,null,null,null,null,null,null,null,null,null,null,null,null,1,{"$f":"IF(AZ234=1,G234,0)","v":0},{"$f":"IF(AZ234=2,G234,0)","v":0},{"$f":"IF(AZ234=3,G234,0)","v":0},{"$f":"IF(AZ234=4,G234,0)","v":0},{"$f":"IF(AZ234=5,G234,0)","v":0},null,null,null,null,null,null,null,null,null,null,null,null,null,null,null,null,null,null,null,null,null,3,1]
[null,null,"Spojka jištěná proti posunu ",null,null,null,null,null,null,null,null,"Spojka jištěná proti posunu ",null,null,3]
[null,null,"pro všechny standardní materiály potrubí s velkým rozsahem vnějších průměrů potrubí a úhlovým vychýlením.",null,null,null,null,null,null,null,null,"pro všechny standardní materiály potrubí s velkým rozsahem vnějších průměrů potrubí a úhlovým vychýlením.",null,null,3]
[null,null,"vhodné pro všechny druhy potrubí používané ve vodárenství",null,null,null,null,null,null,null,null,"vhodné pro všechny druhy potrubí používané ve vodárenství",null,null,3]
[null,null,"(litina, ocel, PE, PVC a AC)",null,null,null,null,null,null,null,null,"(litina, ocel, PE, PVC a AC)",null,null,3]
[null,null,"Konstrukční charakteristiky",null,null,null,null,null,null,null,null,"Konstrukční charakteristiky",null,null,3]
[null,null,"• multitoleranční spojky SYNOFLEX s jištěním proti posunu jsou",null,null,null,null,null,null,null,null,"• multitoleranční spojky SYNOFLEX s jištěním proti posunu jsou",null,null,3]
[null,null,"vhodné pro všechny druhy potrubí používané ve vodárenství",null,null,null,null,null,null,null,null,"vhodné pro všechny druhy potrubí používané ve vodárenství",null,null,3]
[null,null,"(litina, ocel, PE, PVC a AC)",null,null,null,null,null,null,null,null,"(litina, ocel, PE, PVC a AC)",null,null,3]
[null,null,"• dle EN 14525",null,null,null,null,null,null,null,null,"• dle EN 14525",null,null,3]
[null,null,"• flexibilní těsnění",null,null,null,null,null,null,null,null,"• flexibilní těsnění",null,null,3]
[null,null,"• flexibilní SYNOFLEX kroužek",null,null,null,null,null,null,null,null,"• flexibilní SYNOFLEX kroužek",null,null,3]
[null,null,"• jisticí prvky jsou pevně namontovány na každém segmentu",null,null,null,null,null,null,null,null,"• jisticí prvky jsou pevně namontovány na každém segmentu",null,null,3]
[null,null,"SYNOFLEX kroužku",null,null,null,null,null,null,null,null,"SYNOFLEX kroužku",null,null,3]
[null,null,"• šrouby lze montovat i otočené o 180°",null,null,null,null,null,null,null,null,"• šrouby lze montovat i otočené o 180°",null,null,3]
[null,null,"• zajištění hlav šroubů proti pootočení",null,null,null,null,null,null,null,null,"• zajištění hlav šroubů proti pootočení",null,null,3]
[null,null,"• úhlové vychýlení max. 8°(+/- 4° na každé hrdlo)",null,null,null,null,null,null,null,null,"• úhlové vychýlení max. 8°(+/- 4° na každé hrdlo)",null,null,3]
[null,null,"• pro jištění tahových sil na PE (PE ? SDR 17) potrubí je doporučená instalace rozpěrných pouzder č. 6035",null,null,null,null,null,null,null,null,"• pro jištění tahových sil na PE (PE ? SDR 17) potrubí je doporučená instalace rozpěrných pouzder č. 6035",null,null,3]
[null,null,"materiál tělo z tvárné litiny s epoxidovou povrchovou úpravou",null,null,null,null,null,null,null,null,"materiál tělo z tvárné litiny s epoxidovou povrchovou úpravou",null,null,3]
[null,null,"upínací kroužek z tvárné litiny s epoxidovou povrchovou",null,null,null,null,null,null,null,null,"upínací kroužek z tvárné litiny s epoxidovou povrchovou",null,null,3]
[null,null,"úpravou",null,null,null,null,null,null,null,null,"úpravou",null,null,3]
[null,null,"těsnění z elastomeru",null,null,null,null,null,null,null,null,"těsnění z elastomeru",null,null,3]
[null,null,"Vodovodní řad PE D 110x10,0 mm:",null,0,null,null,null,null,null,null,null,"Vodovodní řad PE D 110x10,0 mm:"]
[null,null,"Synoflex spojka DN100:1",null,1,null,null,null,null,null,null,null,"Synoflex spojka DN100:1"]
[46,"422935322.R","Spojka Synoflex s přírubou 7994, DN 80,PN 16","kus",1,null,{"$f":"E258*F258","v":0},7.1000000000000004E-3,{"$f":"E258*H258","v":7.1000000000000004E-3},null,{"$f":"E258*J258","v":0},null,null,null,2,null,null,null,null,null,null,null,null,null,null,null,3,1,"422935322.R",null,null,null,null,null,null,null,null,null,null,null,null,null,null,null,null,null,null,null,null,null,null,1,{"$f":"IF(AZ258=1,G258,0)","v":0},{"$f":"IF(AZ258=2,G258,0)","v":0},{"$f":"IF(AZ258=3,G258,0)","v":0},{"$f":"IF(AZ258=4,G258,0)","v":0},{"$f":"IF(AZ258=5,G258,0)","v":0},null,null,null,null,null,null,null,null,null,null,null,null,null,null,null,null,null,null,null,null,null,3,1]
[null,null,"Spojka s přírubou jištěná proti posunu pro všechny standardní materiály potrubí s velkým rozsahem vnějších průměrů potrubí a úhlovým vychýlením",null,null,null,null,null,null,null,null,"Spojka s přírubou jištěná proti posunu pro všechny standardní materiály potrubí s velkým rozsahem vnějších průměrů potrubí a úhlovým vychýlením",null,null,3]
[null,null,"PROVEDENÍ: hrdlo - příruba",null,null,null,null,null,null,null,null,"PROVEDENÍ: hrdlo - příruba",null,null,3]
[null,null,"dle EN 14 525",null,null,null,null,null,null,null,null,"dle EN 14 525",null,null,3]
[null,null,"příruba a opěrný kroužek: dle EN 1092-2 PN10 (případně PN16)",null,null,null,null,null,null,null,null,"příruba a opěrný kroužek: dle EN 1092-2 PN10 (případně PN16)",null,null,3]
[null,null,"tělo a přítlačný kroužek: z tvárné litny EN-GJS-400 s povrchovou úpravou vířivým slinováním",null,null,null,null,null,null,null,null,"tělo a přítlačný kroužek: z tvárné litny EN-GJS-400 s povrchovou úpravou vířivým slinováním",null,null,3]
[null,null,"flexibilní těsnění: z elastomeru dle EN 681-1 (vhodné pro pitnou vodu)",null,null,null,null,null,null,null,null,"flexibilní těsnění: z elastomeru dle EN 681-1 (vhodné pro pitnou vodu)",null,null,3]
[null,null,"flexibilní Synoflex kroužek: z POM sestaven z jednotlivých segmentů",null,null,null,null,null,null,null,null,"flexibilní Synoflex kroužek: z POM sestaven z jednotlivých segmentů",null,null,3]
[null,null,"jistící prvky: z nekorodující oceli na každém segmentu kroužku",null,null,null,null,null,null,null,null,"jistící prvky: z nekorodující oceli na každém segmentu kroužku",null,null,3]
[null,null,"šrouby a matice: z nerezové oceli s povrchovou úpravou proti zadírání",null,null,null,null,null,null,null,null,"šrouby a matice: z nerezové oceli s povrchovou úpravou proti zadírání",null,null,3]
[null,null,"podložky: z nerezové oceli s ochrannou krytkou z elastomeru",null,null,null,null,null,null,null,null,"podložky: z nerezové oceli s ochrannou krytkou z elastomeru",null,null,3]
[null,null,"šrbouby: lze použít i otočené o 180°",null,null,null,null,null,null,null,null,"šrbouby: lze použít i otočené o 180°",null,null,3]
[null,null,"distanční objímky: z plastu",null,null,null,null,null,null,null,null,"distanční objímky: z plastu",null,null,3]
[null,null,"úhlové vychýlení (ČSN EN 14 525)",null,null,null,null,null,null,null,null,"úhlové vychýlení (ČSN EN 14 525)",null,null,3]
[null,null,"pro jištění tahových sil na PE potrubí doporučujeme instalaci rozpěrných pouzder (č. 6035, 6036)",null,null,null,null,null,null,null,null,"pro jištění tahových sil na PE potrubí doporučujeme instalaci rozpěrných pouzder (č. 6035, 6036)",null,null,3]
[null,null,"Vodovodní řad PE D 110x10,0 mm:",null,0,null,null,null,null,null,null,null,"Vodovodní řad PE D 110x10,0 mm:"]
[null,null,"Synoflex s přírubou DN80:1",null,1,null,null,null,null,null,null,null,"Synoflex s přírubou DN80:1"]
[47,"55259930.R","Koleno přírubové FFK DN 80-22 1/2°","kus",1,null,{"$f":"E275*F275","v":0},9.7000000000000003E-3,{"$f":"E275*H275","v":9.7000000000000003E-3},null,{"$f":"E275*J275","v":0},null,null,null,2,null,null,null,null,null,null,null,null,null,null,null,3,1,"55259930.R",null,null,null,null,null,null,null,null,null,null,null,null,null,null,null,null,null,null,null,null,null,null,1,{"$f":"IF(AZ275=1,G275,0)","v":0},{"$f":"IF(AZ275=2,G275,0)","v":0},{"$f":"IF(AZ275=3,G275,0)","v":0},{"$f":"IF(AZ275=4,G275,0)","v":0},{"$f":"IF(AZ275=5,G275,0)","v":0},null,null,null,null,null,null,null,null,null,null,null,null,null,null,null,null,null,null,null,null,null,3,1]
[null,null,"Vodovodní řad PE D 110x10,0 mm:",null,0,null,null,null,null,null,null,null,"Vodovodní řad PE D 110x10,0 mm:"]
[null,null,"FFK 22° DN80:1",null,1,null,null,null,null,null,null,null,"FFK 22° DN80:1"]
[48,"552599943.R","Tvarovka přír. s přír. odb. T DN 100/80","kus",1,null,{"$f":"E278*F278","v":0},1.78E-2,{"$f":"E278*H278","v":1.78E-2},null,{"$f":"E278*J278","v":0},null,null,null,2,null,null,null,null,null,null,null,null,null,null,null,3,1,"552599943.R",null,null,null,null,null,null,null,null,null,null,null,null,null,null,null,null,null,null,null,null,null,null,1,{"$f":"IF(AZ278=1,G278,0)","v":0},{"$f":"IF(AZ278=2,G278,0)","v":0},{"$f":"IF(AZ278=3,G278,0)","v":0},{"$f":"IF(AZ278=4,G278,0)","v":0},{"$f":"IF(AZ278=5,G278,0)","v":0},null,null,null,null,null,null,null,null,null,null,null,null,null,null,null,null,null,null,null,null,null,3,1]
[null,null,"Vodovodní řad PE D 110x10,0 mm:",null,0,null,null,null,null,null,null,null,"Vodovodní řad PE D 110x10,0 mm:"]
[null,null,"T DN100/80:1",null,1,null,null,null,null,null,null,null,"T DN100/80:1"]
[null,"Celkem za","8 Trubní vedení",null,null,null,{"$f":"SUM(G97:G280)","v":0},null,{"$f":"SUM(I97:I280)","v":0.66448551600000005},null,{"$f":"SUM(K97:K280)","v":0},null,null,null,4,null,null,null,null,null,null,null,null,null,null,null,null,null,null,null,null,null,null,null,null,null,null,null,null,null,null,null,null,null,null,null,null,null,null,null,null,null,{"$f":"SUM(BA97:BA280)","v":0},{"$f":"SUM(BB97:BB280)","v":0},{"$f":"SUM(BC97:BC280)","v":0},{"$f":"SUM(BD97:BD280)","v":0},{"$f":"SUM(BE97:BE280)","v":0}]
["Díl:","93","Dokončovací práce inženýrských staveb",null,null,null,null,null,null,null,null,null,null,null,1]
[49,"939421121RT1","Osazení samonivelač.vodovod.poklopu za finišerem bez dodávky poklopu","kus",11,null,{"$f":"E283*F283","v":0},5.2499999999999998E-2,{"$f":"E283*H283","v":0.57750000000000001},0,{"$f":"E283*J283","v":0},null,null,null,2,null,null,null,null,null,null,null,null,null,null,null,1,0,0,null,null,null,null,null,null,null,null,null,null,null,null,null,null,null,null,null,null,null,null,null,null,1,{"$f":"IF(AZ283=1,G283,0)","v":0},{"$f":"IF(AZ283=2,G283,0)","v":0},{"$f":"IF(AZ283=3,G283,0)","v":0},{"$f":"IF(AZ283=4,G283,0)","v":0},{"$f":"IF(AZ283=5,G283,0)","v":0},null,null,null,null,null,null,null,null,null,null,null,null,null,null,null,null,null,null,null,null,null,1,0]
[null,null,"Položka obsahuje:",null,null,null,null,null,null,null,null,"Položka obsahuje:",null,null,3]
[null,null," osazení prefabrikovaného betonového prstence do rychletuhnoucí vysokopevnostní malty (s dodávkou hmot)",null,null,null,null,null,null,null,null,"- osazení prefabrikovaného betonového prstence do rychletuhnoucí malty (s dodávkou hmot)",null,null,3]
[null,null,"- zalití prstence rychletuhnoucí zálivkou do výše prstence (s dodávkou hmoty)",null,null,null,null,null,null,null,null,"- zalití prstence rychletuhnoucí zálivkou do výše prstence (s dodávkou hmoty)",null,null,3]
[null,null,"- vložení kruhového bednění",null,null,null,null,null,null,null,null,"- vložení kruhového bednění",null,null,3]
[null,null,"- doplnění mezikruží asfaltovou směsí do výšky současné podkladní vrstvy, zhutnění",null,null,null,null,null,null,null,null,"- doplnění mezikruží asfaltovou směsí do výšky současné podkladní vrstvy, zhutnění",null,null,3]
[null,null,"- vyjmutí kruhového bednění",null,null,null,null,null,null,null,null,"- vyjmutí kruhového bednění",null,null,3]
[null,null,"- osazení poklopu a zatlačení",null,null,null,null,null,null,null,null,"- osazení poklopu a zatlačení",null,null,3]
[null,null,"  (následuje pokládka finální vrstvy vozovky - není součástí položky)",null,null,null,null,null,null,null,null,"  (následuje pokládka finální vrstvy vozovky - není součástí položky)",null,null,3]
[null,null,"- povytažení poklopu",null,null,null,null,null,null,null,null,"- povytažení poklopu",null,null,3]
[null,null,"- podsyp asfaltovou směsí, spuštění poklopu a zhutnění směsi",null,null,null,null,null,null,null,null,"- podsyp asfaltovou směsí, spuštění poklopu a zhutnění směsi",null,null,3]
[null,null,"Položka neobsahuje:",null,null,null,null,null,null,null,null,"Položka neobsahuje:",null,null,3]
[null,null,"- dodávku samonivelačního poklopu - oceňuje se ve specifikaci",null,null,null,null,null,null,null,null,"- dodávku samonivelačního poklopu - oceňuje se ve specifikaci",null,null,3]
[null,null,"- pokládku krycí vrstvy komunikace, oceňuje se samostatně",null,null,null,null,null,null,null,null,"- pokládku krycí vrstvy komunikace, oceňuje se samostatně",null,null,3]
[null,null,"Vodovodní řad PE D 110x10,0 mm:",null,0,null,null,null,null,null,null,null,"Vodovodní řad PE D 110x10,0 mm:"]
[null,null,"Pro Šoupě DN80:1",null,1,null,null,null,null,null,null,null,"Pro Šoupě DN80:1"]
[null,null,"Pro Šoupě DN100:3",null,3,null,null,null,null,null,null,null,"Pro Šoupě DN100:3"]
[null,null,"Pro VP DAV D110/32:5+2",null,7,null,null,null,null,null,null,null,"Pro VP DAV D110/32:5+2"]
[50,"422913520.R","Poklop luliční samonivelační přípojkový D400","kus",7,null,{"$f":"E301*F301","v":0},1.2E-2,{"$f":"E301*H301","v":8.4000000000000005E-2},null,{"$f":"E301*J301","v":0},null,null,null,2,null,null,null,null,null,null,null,null,null,null,null,3,1,"422913520.R",null,null,null,null,null,null,null,null,null,null,null,null,null,null,null,null,null,null,null,null,null,null,1,{"$f":"IF(AZ301=1,G301,0)","v":0},{"$f":"IF(AZ301=2,G301,0)","v":0},{"$f":"IF(AZ301=3,G301,0)","v":0},{"$f":"IF(AZ301=4,G301,0)","v":0},{"$f":"IF(AZ301=5,G301,0)","v":0},null,null,null,null,null,null,null,null,null,null,null,null,null,null,null,null,null,null,null,null,null,3,1]
[null,null,"Uliční samonivelační poklop přípojkový z tvárné litiny dle ČSN EN 124",null,null,null,null,null,null,null,null,"Uliční samonivelační poklop přípojkový z tvárné litiny dle ČSN EN 124",null,null,3]
[null,null,"Rozpětí stavební výšky 195 - 285 mm s fixací polohy",null,null,null,null,null,null,null,null,"Rozpětí stavební výšky 195 - 285 mm s fixací polohy",null,null,3]
[null,null,"Výklopové víko spojeno s rámem čepem a opatřeno ochrannou a těsnící vrstvou proti vnikání nečistot",null,null,null,null,null,null,null,null,"Výklopové víko spojeno s rámem čepem a opatřeno ochrannou a těsnící vrstvou proti vnikání nečistot",null,null,3]
[null,null,"Tlumicí vložka z elastomeru a PUR",null,null,null,null,null,null,null,null,"Tlumicí vložka z elastomeru a PUR",null,null,3]
[null,null,"Možnost vlastního loga a barevného provedení",null,null,null,null,null,null,null,null,"Možnost vlastního loga a barevného provedení",null,null,3]
[null,null,"Vodovodní řad PE D 110x10,0 mm:",null,0,null,null,null,null,null,null,null,"Vodovodní řad PE D 110x10,0 mm:"]
[null,null,"Pro VP DAV D110/32:5+2",null,7,null,null,null,null,null,null,null,"Pro VP DAV D110/32:5+2"]
[51,"422913521.R","Poklop litinový samonivelační šoupátkový D400","kus",4,null,{"$f":"E309*F309","v":0},1.2E-2,{"$f":"E309*H309","v":4.8000000000000001E-2},null,{"$f":"E309*J309","v":0},null,null,null,2,null,null,null,null,null,null,null,null,null,null,null,3,1,"422913521.R",null,null,null,null,null,null,null,null,null,null,null,null,null,null,null,null,null,null,null,null,null,null,1,{"$f":"IF(AZ309=1,G309,0)","v":0},{"$f":"IF(AZ309=2,G309,0)","v":0},{"$f":"IF(AZ309=3,G309,0)","v":0},{"$f":"IF(AZ309=4,G309,0)","v":0},{"$f":"IF(AZ309=5,G309,0)","v":0},null,null,null,null,null,null,null,null,null,null,null,null,null,null,null,null,null,null,null,null,null,3,1]
[null,null,"Uliční samonivelační šoupátkový poklop z tvárné litiny dle ČSN EN 124",null,null,null,null,null,null,null,null,"Uliční samonivelační šoupátkový poklop z tvárné litiny dle ČSN EN 124",null,null,3]
[null,null,"Rozpětí stavební výšky 195 - 285 mm s fixací polohy",null,null,null,null,null,null,null,null,"Rozpětí stavební výšky 195 - 285 mm s fixací polohy",null,null,3]
[null,null,"Výklopové víko spojeno s rámem čepem a opatřeno ochrannou a těsnící vrstvou proti vnikání nečistot",null,null,null,null,null,null,null,null,"Výklopové víko spojeno s rámem čepem a opatřeno ochrannou a těsnící vrstvou proti vnikání nečistot",null,null,3]
[null,null,"Tlumicí vložka z elastomeru a PUR",null,null,null,null,null,null,null,null,"Tlumicí vložka z elastomeru a PUR",null,null,3]
[null,null,"Možnost vlastního loga a barevného provedení",null,null,null,null,null,null,null,null,"Možnost vlastního loga a barevného provedení",null,null,3]
[null,null,"Vodovodní řad PE D 110x10,0 mm:",null,0,null,null,null,null,null,null,null,"Vodovodní řad PE D 110x10,0 mm:"]
[null,null,"Pro Šoupě DN80:1",null,1,null,null,null,null,null,null,null,"Pro Šoupě DN80:1"]
[null,null,"Pro Šoupě DN100:3",null,3,null,null,null,null,null,null,null,"Pro Šoupě DN100:3"]
[null,"Celkem za","93 Dokončovací práce inženýrských staveb",null,null,null,{"$f":"SUM(G282:G317)","v":0},null,{"$f":"SUM(I282:I317)","v":0.70950000000000002},null,{"$f":"SUM(K282:K317)","v":0},null,null,null,4,null,null,null,null,null,null,null,null,null,null,null,null,null,null,null,null,null,null,null,null,null,null,null,null,null,null,null,null,null,null,null,null,null,null,null,null,null,{"$f":"SUM(BA282:BA317)","v":0},{"$f":"SUM(BB282:BB317)","v":0},{"$f":"SUM(BC282:BC317)","v":0},{"$f":"SUM(BD282:BD317)","v":0},{"$f":"SUM(BE282:BE317)","v":0}]
["Díl:","99","Staveništní přesun hmot",null,null,null,null,null,null,null,null,null,null,null,1]
[52,"998276101RXX","Přesun hmot, trubní vedení plastová, otevř. výkop pro celý rozsah objektu","t",415.34311960999997,null,{"$f":"E320*F320","v":0},0,{"$f":"E320*H320","v":0},null,{"$f":"E320*J320","v":0},null,null,null,2,null,null,null,null,null,null,null,null,null,null,null,7,1,2,null,null,null,null,null,null,null,null,null,null,null,null,null,null,null,null,null,null,null,null,null,null,1,{"$f":"IF(AZ320=1,G320,0)","v":0},{"$f":"IF(AZ320=2,G320,0)","v":0},{"$f":"IF(AZ320=3,G320,0)","v":0},{"$f":"IF(AZ320=4,G320,0)","v":0},{"$f":"IF(AZ320=5,G320,0)","v":0},null,null,null,null,null,null,null,null,null,null,null,null,null,null,null,null,null,null,null,null,null,7,1]
[null,null,"Staveništní doprava pro celý rozsah objektu - doprava zmeziskládek vybudovaného zařízení staveniště zhotovitele na jednotlivé části staveniště.",null,null,null,null,null,null,null,null,"Staveništní doprava pro celý rozsah objektu - doprava zmeziskládek vybudovaného zařízení staveniště zhotovitele na jednotlivé části staveniště.",null,null,3]
[null,"Celkem za","99 Staveništní přesun hmot",null,null,null,{"$f":"SUM(G319:G321)","v":0},null,{"$f":"SUM(I319:I321)","v":0},null,{"$f":"SUM(K319:K321)","v":0},null,null,null,4,null,null,null,null,null,null,null,null,null,null,null,null,null,null,null,null,null,null,null,null,null,null,null,null,null,null,null,null,null,null,null,null,null,null,null,null,null,{"$f":"SUM(BA319:BA321)","v":0},{"$f":"SUM(BB319:BB321)","v":0},{"$f":"SUM(BC319:BC321)","v":0},{"$f":"SUM(BD319:BD321)","v":0},{"$f":"SUM(BE319:BE321)","v":0}]

{"sheet":"05 05.03 KL","index":47,"n_rows":45,"n_cols":8,"rows_kept":45,"cut":false,"hidden":false,"merged":[[22,0,22,1],[7,2,7,4],[8,2,8,4],[9,2,9,4],[10,2,10,4],[11,2,11,4],[50,1,50,6],[29,5,29,6],[30,5,30,6],[31,5,31,6],[32,5,32,6],[33,5,33,6],[36,1,44,6],[45,1,45,6],[46,1,46,6],[47,1,47,6],[48,1,48,6],[49,1,49,6]]}
["POLOŽKOVÝ ROZPOČET"]
["Rozpočet",null,"05.03","Vodovodní přípojka pro ČS",null,"JKSO ","827.13"]
[]
["Objekt",null,null,null,null,"SKP "]
["05",null,"Přeložky vodovodu",null,null,"Měrná jednotka","m"]
["Stavba",null,null,null,null,"Počet jednotek",0]
["3395",null,"Kanalizace a ČOV Benešov u Semil",null,null,"Náklady na m.j.",{"$f":"IF(G6=0,,ROUND((F30+F32)/G6,1))","v":0}]
["Projektant",null,"Vodohospodářský rozvoj a výstavba a.s.",null,null,"Typ rozpočtu"]
["Zpracovatel projektu"]
["Objednatel",null,"Vodohospodářské sdružení Turnov"]
["Dodavatel",null,".",null,null,"Zakázkové číslo "]
["Rozpočtoval",null,null,null,null,"Počet listů"]
["ROZPOČTOVÉ NÁKLADY"]
["Základní rozpočtové náklady"]
[null,"HSV celkem",{"$f":"'05 05.03 Rek'!E12","v":0}]
["Z","PSV celkem",{"$f":"'05 05.03 Rek'!F12","v":0}]
["R","M práce celkem",{"$f":"'05 05.03 Rek'!H12","v":0}]
["N","M dodávky celkem",{"$f":"'05 05.03 Rek'!G12","v":0}]
["ZRN celkem",null,{"$f":"SUM(C15:C18)","v":0}]
[]
["HZS",null,{"$f":"'05 05.03 Rek'!I12","v":0}]
["ZRN+HZS",null,{"$f":"C19+C21","v":0}]
["ZRN+ost.náklady+HZS",null,{"$f":"C22+G23","v":0}]
["Vypracoval",null,null,"Za zhotovitele",null,"Za objednatele"]
["Jméno :",null,null,"Jméno :",null,"Jméno :"]
["Datum :",null,null,"Datum :",null,"Datum :"]
[]
["Podpis :",null,null,"Podpis:",null,"Podpis:"]
[]
["Základ pro DPH",null,21,"%  ",null,{"$f":"C23-F32","v":0}]
["DPH",null,{"$f":"C30","v":21},"% ",null,{"$f":"ROUND(PRODUCT(F30,C31/100),0)","v":0}]
["Základ pro DPH",null,0,"% ",null,0]
["DPH",null,{"$f":"C32","v":0},"% ",null,{"$f":"ROUND(PRODUCT(F32,C33/100),0)","v":0}]
["CENA ZA OBJEKT CELKEM",null,null,null,null,{"$f":"ROUND(SUM(F30:F33),0)","v":0}]
[]
["Poznámka :",null,null,null,null,null,null," "]
[null,null,null,null,null,null,null," "]
[null,null,null,null,null,null,null," "]
[null,null,null,null,null,null,null," "]
[null,null,null,null,null,null,null," "]
[null,null,null,null,null,null,null," "]
[null,null,null,null,null,null,null," "]
[null,null,null,null,null,null,null," "]
[null,null,null,null,null,null,null," "]
[null,null,null,null,null,null,null," "]

{"sheet":"05 05.03 Rek","index":48,"n_rows":12,"n_cols":9,"rows_kept":12,"cut":false,"hidden":false,"merged":[[0,0,0,1],[1,0,1,1],[1,6,1,8]]}
["Stavba :",null,"3395 Kanalizace a ČOV Benešov u Semil",null,null,null,"Rozpočet :","05.03"]
["Objekt :",null,"05 Přeložky vodovodu",null,null,null,"Vodovodní přípojka pro ČS"]
[]
["REKAPITULACE  STAVEBNÍCH  DÍLŮ"]
[]
[null,"Stavební díl",null,null,"HSV","PSV","Dodávka","Montáž","HZS"]
[{"$f":"'05 05.03 Pol'!B7","v":"1"},{"$f":"'05 05.03 Pol'!C7","v":"Zemní práce"},null,null,{"$f":"'05 05.03 Pol'!BA77","v":0},{"$f":"'05 05.03 Pol'!BB77","v":0},{"$f":"'05 05.03 Pol'!BC77","v":0},{"$f":"'05 05.03 Pol'!BD77","v":0},{"$f":"'05 05.03 Pol'!BE77","v":0}]
[{"$f":"'05 05.03 Pol'!B78","v":"45"},{"$f":"'05 05.03 Pol'!C78","v":"Podkladní a vedlejší konstrukce"},null,null,{"$f":"'05 05.03 Pol'!BA82","v":0},{"$f":"'05 05.03 Pol'!BB82","v":0},{"$f":"'05 05.03 Pol'!BC82","v":0},{"$f":"'05 05.03 Pol'!BD82","v":0},{"$f":"'05 05.03 Pol'!BE82","v":0}]
[{"$f":"'05 05.03 Pol'!B83","v":"5"},{"$f":"'05 05.03 Pol'!C83","v":"Komunikace"},null,null,{"$f":"'05 05.03 Pol'!BA87","v":0},{"$f":"'05 05.03 Pol'!BB87","v":0},{"$f":"'05 05.03 Pol'!BC87","v":0},{"$f":"'05 05.03 Pol'!BD87","v":0},{"$f":"'05 05.03 Pol'!BE87","v":0}]
[{"$f":"'05 05.03 Pol'!B88","v":"8"},{"$f":"'05 05.03 Pol'!C88","v":"Trubní vedení"},null,null,{"$f":"'05 05.03 Pol'!BA124","v":0},{"$f":"'05 05.03 Pol'!BB124","v":0},{"$f":"'05 05.03 Pol'!BC124","v":0},{"$f":"'05 05.03 Pol'!BD124","v":0},{"$f":"'05 05.03 Pol'!BE124","v":0}]
[{"$f":"'05 05.03 Pol'!B125","v":"99"},{"$f":"'05 05.03 Pol'!C125","v":"Staveništní přesun hmot"},null,null,{"$f":"'05 05.03 Pol'!BA128","v":0},{"$f":"'05 05.03 Pol'!BB128","v":0},{"$f":"'05 05.03 Pol'!BC128","v":0},{"$f":"'05 05.03 Pol'!BD128","v":0},{"$f":"'05 05.03 Pol'!BE128","v":0}]
[null,"CELKEM  OBJEKT",null,null,{"$f":"SUM(E7:E11)","v":0},{"$f":"SUM(F7:F11)","v":0},{"$f":"SUM(G7:G11)","v":0},{"$f":"SUM(H7:H11)","v":0},{"$f":"SUM(I7:I11)","v":0}]

{"sheet":"05 05.03 Pol","index":49,"n_rows":128,"n_cols":80,"rows_kept":128,"cut":false,"hidden":false,"merged":[[9,2,9,6],[10,2,10,3],[11,2,11,3],[0,0,0,6],[2,0,2,1],[3,0,3,1],[3,4,3,6],[8,2,8,6],[25,2,25,3],[12,2,12,3],[14,2,14,6],[15,2,15,3],[16,2,16,3],[17,2,17,3],[18,2,18,3],[19,2,19,3],[20,2,20,3],[21,2,21,3],[23,2,23,3],[24,2,24,3],[41,2,41,3],[27,2,27,6],[28,2,28,3],[29,2,29,3],[30,2,30,3],[32,2,32,3],[33,2,33,3],[34,2,34,3],[36,2,36,6],[37,2,37,3],[38,2,38,3],[39,2,39,3],[56,2,56,3],[42,2,42,3],[43,2,43,3],[45,2,45,3],[46,2,46,3],[47,2,47,3],[49,2,49,3],[50,2,50,3],[51,2,51,3],[53,2,53,6],[54,2,54,6],[55,2,55,3],[71,2,71,3],[57,2,57,3],[58,2,58,3],[59,2,59,3],[60,2,60,3],[61,2,61,3],[62,2,62,3],[64,2,64,3],[65,2,65,3],[67,2,67,3],[68,2,68,3],[69,2,69,3],[72,2,72,3],[74,2,74,3],[75,2,75,3],[79,2,79,3],[80,2,80,3],[101,2,101,6],[84,2,84,3],[85,2,85,3],[89,2,89,6],[90,2,90,3],[91,2,91,3],[93,2,93,6],[94,2,94,3],[95,2,95,3],[97,2,97,6],[98,2,98,3],[99,2,99,3],[118,2,118,6],[102,2,102,3],[103,2,103,3],[105,2,105,6],[107,2,107,3],[108,2,108,3],[110,2,110,6],[111,2,111,3],[112,2,112,3],[114,2,114,3],[115,2,115,3],[117,2,117,6],[119,2,119,6],[120,2,120,6],[121,2,121,3],[122,2,122,3],[126,2,126,6]]}
["Položkový rozpočet "]
[]
["Stavba :",null,"3395 Kanalizace a ČOV Benešov u Semil",null,"Rozpočet:",{"$f":"'05 05.03 Rek'!H1","v":"05.03"}]
["Objekt :",null,"05 Přeložky vodovodu",null,{"$f":"'05 05.03 Rek'!G2","v":"Vodovodní přípojka pro ČS"}]
[]
["P.č.","Číslo položky","Název položky","MJ","množství","cena / MJ","celkem (Kč)","Jednotková hmotnost","Celková hmotnost","Jednotková dem.hmot.","Celková dem.hmot."]
["Díl:","1","Zemní práce",null,null,null,null,null,null,null,null,null,null,null,1]
[1,"130001101RRX","Příplatek za ztížené hloubení v blízkosti vedení ","m3",5.04,null,{"$f":"E8*F8","v":0},0,{"$f":"E8*H8","v":0},0,{"$f":"E8*J8","v":0},null,null,null,2,null,null,null,null,null,null,null,null,null,null,null,1,1,1,null,null,null,null,null,null,null,null,null,null,null,null,null,null,null,null,null,null,null,null,null,null,1,{"$f":"IF(AZ8=1,G8,0)","v":0},{"$f":"IF(AZ8=2,G8,0)","v":0},{"$f":"IF(AZ8=3,G8,0)","v":0},{"$f":"IF(AZ8=4,G8,0)","v":0},{"$f":"IF(AZ8=5,G8,0)","v":0},null,null,null,null,null,null,null,null,null,null,null,null,null,null,null,null,null,null,null,null,null,1,1]
[null,null,"Včetně případných nutných dokopávem a ručního výkopu podél sousedících inženýrských sítí.",null,null,null,null,null,null,null,null,"Včetně případných nutných dokopávem a ručního výkopu podél sousedících inženýrských sítí.",null,null,3]
[null,null,"Součástí položky je i dočasné zajištění inženýrských sítí v prostoru výkopů (potrubí, kabely a pod.)",null,null,null,null,null,null,null,null,"Součástí položky je i dočasné zajištění inženýrských sítí v prostoru výkopů (potrubí, kabely a pod.)",null,null,3]
[null,null,"VP pro ČS PE D32x3,0 mm:",null,0,null,null,null,null,null,null,null,"VP pro ČS PE D32x3,0 mm:"]
[null,null,"Výkopy:",null,0,null,null,null,null,null,null,null,"Výkopy:"]
[null,null,"V hornině tř. 3 -  5 - 40%:12,6000*0,4",null,5.04,null,null,null,null,null,null,null,"V hornině tř. 3 -  5 - 40%:12,6000*0,4"]
[2,"132201212R00","Hloubení rýh š.do 200 cm hor.3 do 1000m3,STROJNĚ ","m3",7.56,null,{"$f":"E14*F14","v":0},0,{"$f":"E14*H14","v":0},0,{"$f":"E14*J14","v":0},null,null,null,2,null,null,null,null,null,null,null,null,null,null,null,1,1,1,null,null,null,null,null,null,null,null,null,null,null,null,null,null,null,null,null,null,null,null,null,null,1,{"$f":"IF(AZ14=1,G14,0)","v":0},{"$f":"IF(AZ14=2,G14,0)","v":0},{"$f":"IF(AZ14=3,G14,0)","v":0},{"$f":"IF(AZ14=4,G14,0)","v":0},{"$f":"IF(AZ14=5,G14,0)","v":0},null,null,null,null,null,null,null,null,null,null,null,null,null,null,null,null,null,null,null,null,null,1,1]
[null,null,"Položka obsahuje hloubení rýh traktorbagrem, naložení výkopku na dopravní prostředek pro svislé, nebo vodorovné přemístění, popř. přemístění výkopku do 3 m (po povrchu území), případné zajištění rypadel polštáři, udržování pracoviště a ochranu výkopiště proti stékání srážkové vody z okolního terénu i s jejím odvodněním, nebo odvedením, přesekání a odstranění kořenů ve výkopišti, odstranění napadávek, urovnání dna výkopu.",null,null,null,null,null,null,null,null,"Položka obsahuje hloubení rýh traktorbagrem, naložení výkopku na dopravní prostředek pro svislé, nebo vodorovné přemístění, popř. přemístění výkopku do 3 m (po povrchu území), případné zajištění rypadel polštáři, udržování pracoviště a ochranu výkopiště proti stékání srážkové vody z okolního terénu i s jejím odvodněním, nebo odvedením, přesekání a odstranění kořenů ve výkopišti, odstranění napadávek, urovnání dna výkopu.",null,null,3]
[null,null,"VP pro ČS PE D32x3,0 mm:",null,0,null,null,null,null,null,null,null,"VP pro ČS PE D32x3,0 mm:"]
[null,null,"Výkopy:",null,0,null,null,null,null,null,null,null,"Výkopy:"]
[null,null,"Začátek provozního součtu",null,0,null,null,null,null,null,null,null,"Začátek provozního součtu"]
[null,null,"Průměrná hloubka výkopu 1,70 m:15,00*0,70*1,70",null,17.850000000000001,null,null,null,null,null,null,null,"Průměrná hloubka výkopu 1,70 m:15,00*0,70*1,70"]
[null,null,"Odpočet objemu konstrukce komunikace:-15,00*0,70*0,50",null,-5.25,null,null,null,null,null,null,null,"Odpočet objemu konstrukce komunikace:-15,00*0,70*0,50"]
[null,null,"Konec provozního součtu",null,12.600000000000001,null,null,null,null,null,null,null,"Konec provozního součtu"]
[null,null,"V hornině tř. 3 - 60%:12,6000*0,6",null,7.56,null,null,null,null,null,null,null,"V hornině tř. 3 - 60%:12,6000*0,6"]
[3,"132201219R00","Přípl.za lepivost,hloubení rýh 200cm,hor.3,STROJNĚ ","m3",3.78,null,{"$f":"E23*F23","v":0},0,{"$f":"E23*H23","v":0},0,{"$f":"E23*J23","v":0},null,null,null,2,null,null,null,null,null,null,null,null,null,null,null,1,1,1,null,null,null,null,null,null,null,null,null,null,null,null,null,null,null,null,null,null,null,null,null,null,1,{"$f":"IF(AZ23=1,G23,0)","v":0},{"$f":"IF(AZ23=2,G23,0)","v":0},{"$f":"IF(AZ23=3,G23,0)","v":0},{"$f":"IF(AZ23=4,G23,0)","v":0},{"$f":"IF(AZ23=5,G23,0)","v":0},null,null,null,null,null,null,null,null,null,null,null,null,null,null,null,null,null,null,null,null,null,1,1]
[null,null,"VP pro ČS PE D32x3,0 mm:",null,0,null,null,null,null,null,null,null,"VP pro ČS PE D32x3,0 mm:"]
[null,null,"Výkopy:",null,0,null,null,null,null,null,null,null,"Výkopy:"]
[null,null,"V hornině tř. 3 - 60%:12,6000*0,6*0,5",null,3.78,null,null,null,null,null,null,null,"V hornině tř. 3 - 60%:12,6000*0,6*0,5"]
[4,"132301212R00","Hloubení rýh š.do 200 cm hor.4 do 1000 m3, STROJNĚ ","m3",3.78,null,{"$f":"E27*F27","v":0},0,{"$f":"E27*H27","v":0},0,{"$f":"E27*J27","v":0},null,null,null,2,null,null,null,null,null,null,null,null,null,null,null,1,1,1,null,null,null,null,null,null,null,null,null,null,null,null,null,null,null,null,null,null,null,null,null,null,1,{"$f":"IF(AZ27=1,G27,0)","v":0},{"$f":"IF(AZ27=2,G27,0)","v":0},{"$f":"IF(AZ27=3,G27,0)","v":0},{"$f":"IF(AZ27=4,G27,0)","v":0},{"$f":"IF(AZ27=5,G27,0)","v":0},null,null,null,null,null,null,null,null,null,null,null,null,null,null,null,null,null,null,null,null,null,1,1]
[null,null,"Položka obsahuje hloubení rýh traktorbagrem, naložení výkopku na dopravní prostředek pro svislé, nebo vodorovné přemístění, popř. přemístění výkopku do 3 m (po povrchu území), případné zajištění rypadel polštáři, udržování pracoviště a ochranu výkopiště proti stékání srážkové vody z okolního terénu i s jejím odvodněním, nebo odvedením, přesekání a odstranění kořenů ve výkopišti, odstranění napadávek, urovnání dna výkopu.",null,null,null,null,null,null,null,null,"Položka obsahuje hloubení rýh traktorbagrem, naložení výkopku na dopravní prostředek pro svislé, nebo vodorovné přemístění, popř. přemístění výkopku do 3 m (po povrchu území), případné zajištění rypadel polštáři, udržování pracoviště a ochranu výkopiště proti stékání srážkové vody z okolního terénu i s jejím odvodněním, nebo odvedením, přesekání a odstranění kořenů ve výkopišti, odstranění napadávek, urovnání dna výkopu.",null,null,3]
[null,null,"VP pro ČS PE D32x3,0 mm:",null,0,null,null,null,null,null,null,null,"VP pro ČS PE D32x3,0 mm:"]
[null,null,"Výkopy:",null,0,null,null,null,null,null,null,null,"Výkopy:"]
[null,null,"V hornině tř. 4 - 30%:12,6000*0,3",null,3.78,null,null,null,null,null,null,null,"V hornině tř. 4 - 30%:12,6000*0,3"]
[5,"132301219R00","Přípl.za lepivost,hloubení rýh 200cm,hor.4,STROJNĚ ","m3",1.89,null,{"$f":"E32*F32","v":0},0,{"$f":"E32*H32","v":0},0,{"$f":"E32*J32","v":0},null,null,null,2,null,null,null,null,null,null,null,null,null,null,null,1,1,1,null,null,null,null,null,null,null,null,null,null,null,null,null,null,null,null,null,null,null,null,null,null,1,{"$f":"IF(AZ32=1,G32,0)","v":0},{"$f":"IF(AZ32=2,G32,0)","v":0},{"$f":"IF(AZ32=3,G32,0)","v":0},{"$f":"IF(AZ32=4,G32,0)","v":0},{"$f":"IF(AZ32=5,G32,0)","v":0},null,null,null,null,null,null,null,null,null,null,null,null,null,null,null,null,null,null,null,null,null,1,1]
[null,null,"VP pro ČS PE D32x3,0 mm:",null,0,null,null,null,null,null,null,null,"VP pro ČS PE D32x3,0 mm:"]
[null,null,"Výkopy:",null,0,null,null,null,null,null,null,null,"Výkopy:"]
[null,null,"V hornině tř. 4 - 30%:12,6000*0,3*0,5",null,1.89,null,null,null,null,null,null,null,"V hornině tř. 4 - 30%:12,6000*0,3*0,5"]
[6,"132401211RRX","Hloubení rýh šířky do 200 cm v hor.5 STROJNĚ včetně případného dolamování ve vrstvě do 0,5 m","m3",1.26,null,{"$f":"E36*F36","v":0},1.0410000000000001E-2,{"$f":"E36*H36","v":1.3116600000000001E-2},0,{"$f":"E36*J36","v":0},null,null,null,2,null,null,null,null,null,null,null,null,null,null,null,1,1,1,null,null,null,null,null,null,null,null,null,null,null,null,null,null,null,null,null,null,null,null,null,null,1,{"$f":"IF(AZ36=1,G36,0)","v":0},{"$f":"IF(AZ36=2,G36,0)","v":0},{"$f":"IF(AZ36=3,G36,0)","v":0},{"$f":"IF(AZ36=4,G36,0)","v":0},{"$f":"IF(AZ36=5,G36,0)","v":0},null,null,null,null,null,null,null,null,null,null,null,null,null,null,null,null,null,null,null,null,null,1,1]
[null,null,"Položka obsahuje hloubení rýh traktorbagrem, naložení výkopku na dopravní prostředek pro svislé, nebo vodorovné přemístění, popř. přemístění výkopku do 3 m (po povrchu území), případné zajištění rypadel polštáři, udržování pracoviště a ochranu výkopiště proti stékání srážkové vody z okolního terénu i s jejím odvodněním, nebo odvedením, přesekání a odstranění kořenů ve výkopišti, odstranění napadávek, urovnání dna výkopu.včetně případného dolamování ve vrstvě do 0,5 m",null,null,null,null,null,null,null,null,"Položka obsahuje hloubení rýh traktorbagrem, naložení výkopku na dopravní prostředek pro svislé, nebo vodorovné přemístění, popř. přemístění výkopku do 3 m (po povrchu území), případné zajištění rypadel polštáři, udržování pracoviště a ochranu výkopiště proti stékání srážkové vody z okolního terénu i s jejím odvodněním, nebo odvedením, přesekání a odstranění kořenů ve výkopišti, odstranění napadávek, urovnání dna výkopu.včetně případného dolamování ve vrstvě do 0,5 m",null,null,3]
[null,null,"VP pro ČS PE D32x3,0 mm:",null,0,null,null,null,null,null,null,null,"VP pro ČS PE D32x3,0 mm:"]
[null,null,"Výkopy:",null,0,null,null,null,null,null,null,null,"Výkopy:"]
[null,null,"V hornině tř. 5 - 10%:12,6000*0,1",null,1.26,null,null,null,null,null,null,null,"V hornině tř. 5 - 10%:12,6000*0,1"]
[7,"151101101R00","Pažení a rozepření stěn rýh - příložné - hl.do 2 m ","m2",51,null,{"$f":"E41*F41","v":0},9.8999999999999999E-4,{"$f":"E41*H41","v":5.049E-2},0,{"$f":"E41*J41","v":0},null,null,null,2,null,null,null,null,null,null,null,null,null,null,null,1,1,1,null,null,null,null,null,null,null,null,null,null,null,null,null,null,null,null,null,null,null,null,null,null,1,{"$f":"IF(AZ41=1,G41,0)","v":0},{"$f":"IF(AZ41=2,G41,0)","v":0},{"$f":"IF(AZ41=3,G41,0)","v":0},{"$f":"IF(AZ41=4,G41,0)","v":0},{"$f":"IF(AZ41=5,G41,0)","v":0},null,null,null,null,null,null,null,null,null,null,null,null,null,null,null,null,null,null,null,null,null,1,1]
[null,null,"VP pro ČS PE D32x3,0 mm:",null,0,null,null,null,null,null,null,null,"VP pro ČS PE D32x3,0 mm:"]
[null,null,"Výkopy:",null,0,null,null,null,null,null,null,null,"Výkopy:"]
[null,null,"Průměrná hloubka výkopu 1,70 m:15,00*1,70*2",null,51,null,null,null,null,null,null,null,"Průměrná hloubka výkopu 1,70 m:15,00*1,70*2"]
[8,"151101111R00","Odstranění pažení stěn rýh - příložné - hl. do 2 m ","m2",51,null,{"$f":"E45*F45","v":0},0,{"$f":"E45*H45","v":0},0,{"$f":"E45*J45","v":0},null,null,null,2,null,null,null,null,null,null,null,null,null,null,null,1,1,1,null,null,null,null,null,null,null,null,null,null,null,null,null,null,null,null,null,null,null,null,null,null,1,{"$f":"IF(AZ45=1,G45,0)","v":0},{"$f":"IF(AZ45=2,G45,0)","v":0},{"$f":"IF(AZ45=3,G45,0)","v":0},{"$f":"IF(AZ45=4,G45,0)","v":0},{"$f":"IF(AZ45=5,G45,0)","v":0},null,null,null,null,null,null,null,null,null,null,null,null,null,null,null,null,null,null,null,null,null,1,1]
[null,null,"VP pro ČS PE D32x3,0 mm:",null,0,null,null,null,null,null,null,null,"VP pro ČS PE D32x3,0 mm:"]
[null,null,"Výkopy:",null,0,null,null,null,null,null,null,null,"Výkopy:"]
[null,null,"Průměrná hloubka výkopu 1,70 m:15,00*1,70*2",null,51,null,null,null,null,null,null,null,"Průměrná hloubka výkopu 1,70 m:15,00*1,70*2"]
[9,"162701105RSZ","Vodorovné přemístění výkopku z hor.1-7 na skládku zhotovitele","m3",12.6,null,{"$f":"E49*F49","v":0},0,{"$f":"E49*H49","v":0},0,{"$f":"E49*J49","v":0},null,null,null,2,null,null,null,null,null,null,null,null,null,null,null,1,1,1,null,null,null,null,null,null,null,null,null,null,null,null,null,null,null,null,null,null,null,null,null,null,1,{"$f":"IF(AZ49=1,G49,0)","v":0},{"$f":"IF(AZ49=2,G49,0)","v":0},{"$f":"IF(AZ49=3,G49,0)","v":0},{"$f":"IF(AZ49=4,G49,0)","v":0},{"$f":"IF(AZ49=5,G49,0)","v":0},null,null,null,null,null,null,null,null,null,null,null,null,null,null,null,null,null,null,null,null,null,1,1]
[null,null,"VP pro ČS PE D32x3,0 mm:",null,0,null,null,null,null,null,null,null,"VP pro ČS PE D32x3,0 mm:"]
[null,null,"Výkopy:",null,0,null,null,null,null,null,null,null,"Výkopy:"]
[null,null,"V hornině tř. 3 -  5 :12,6000",null,12.6,null,null,null,null,null,null,null,"V hornině tř. 3 -  5 :12,6000"]
[10,"174101101R00","Zásyp jam, rýh, šachet se zhutněním ","m3",7.5389999999999997,null,{"$f":"E53*F53","v":0},0,{"$f":"E53*H53","v":0},0,{"$f":"E53*J53","v":0},null,null,null,2,null,null,null,null,null,null,null,null,null,null,null,1,1,1,null,null,null,null,null,null,null,null,null,null,null,null,null,null,null,null,null,null,null,null,null,null,1,{"$f":"IF(AZ53=1,G53,0)","v":0},{"$f":"IF(AZ53=2,G53,0)","v":0},{"$f":"IF(AZ53=3,G53,0)","v":0},{"$f":"IF(AZ53=4,G53,0)","v":0},{"$f":"IF(AZ53=5,G53,0)","v":0},null,null,null,null,null,null,null,null,null,null,null,null,null,null,null,null,null,null,null,null,null,1,1]
[null,null,"Položka obsahuje strojní přemístění materiálu pro zásyp ze vzdálenosti do 10 m od okraje zásypu.",null,null,null,null,null,null,null,null,"Položka obsahuje strojní přemístění materiálu pro zásyp ze vzdálenosti do 10 m od okraje zásypu.",null,null,3]
[null,null,null,null,null,null,null,null,null,null,null,null,null,null,3]
[null,null,"VP pro ČS PE D32x3,0 mm:",null,0,null,null,null,null,null,null,null,"VP pro ČS PE D32x3,0 mm:"]
[null,null,"Zásyp ŠD fr. 0-63 mm:7,5390",null,7.5389999999999997,null,null,null,null,null,null,null,"Zásyp ŠD fr. 0-63 mm:7,5390"]
[null,null,"Výkopy:",null,0,null,null,null,null,null,null,null,"Výkopy:"]
[null,null,"Začátek provozního součtu",null,0,null,null,null,null,null,null,null,"Začátek provozního součtu"]
[null,null,"Průměrná hloubka výkopu 1,70 m:15,00*0,70*1,70",null,17.850000000000001,null,null,null,null,null,null,null,"Průměrná hloubka výkopu 1,70 m:15,00*0,70*1,70"]
[null,null,"Odpočet objemu konstrukce komunikace:-15,00*0,70*0,50",null,-5.25,null,null,null,null,null,null,null,"Odpočet objemu konstrukce komunikace:-15,00*0,70*0,50"]
[null,null,"Odpočet objemu lože, potrubí a obsypů:-15,00*0,70*(0,15+0,032+0,30)",null,-5.0609999999999999,null,null,null,null,null,null,null,"Odpočet objemu lože, potrubí a obsypů:-15,00*0,70*(0,15+0,032+0,30)"]
[null,null,"Konec provozního součtu",null,7.5390000000000015,null,null,null,null,null,null,null,"Konec provozního součtu"]
[11,"175101101R00","Obsyp potrubí bez prohození sypaniny ","m3",5.3266999999999998,null,{"$f":"E64*F64","v":0},0,{"$f":"E64*H64","v":0},0,{"$f":"E64*J64","v":0},null,null,null,2,null,null,null,null,null,null,null,null,null,null,null,1,1,1,null,null,null,null,null,null,null,null,null,null,null,null,null,null,null,null,null,null,null,null,null,null,1,{"$f":"IF(AZ64=1,G64,0)","v":0},{"$f":"IF(AZ64=2,G64,0)","v":0},{"$f":"IF(AZ64=3,G64,0)","v":0},{"$f":"IF(AZ64=4,G64,0)","v":0},{"$f":"IF(AZ64=5,G64,0)","v":0},null,null,null,null,null,null,null,null,null,null,null,null,null,null,null,null,null,null,null,null,null,1,1]
[null,null,"VP pro ČS PE D32x3,0 mm:15,00*(0,70*(0,032+0,30)-0,016^2*Pi)",null,3.4739,null,null,null,null,null,null,null,"VP pro ČS PE D32x3,0 mm:15,00*(0,70*(0,032+0,30)-0,016^2*Pi)"]
[null,null,"Vnitřní rozvody u ČS s napojením na technologii ČS PE D32x3,0 mm:8,00*(0,70*(0,032+0,30)-0,016^2*Pi)",null,1.8528,null,null,null,null,null,null,null,"Vnitřní rozvody u ČS s napojením na technologii ČS PE D32x3,0 mm:8,00*(0,70*(0,032+0,30)-0,016^2*Pi)"]
[12,"199000002R00","Poplatek za skládku horniny 1- 7 č. dle katal. odpadů 17 05 04","m3",12.6,null,{"$f":"E67*F67","v":0},0,{"$f":"E67*H67","v":0},0,{"$f":"E67*J67","v":0},null,null,null,2,null,null,null,null,null,null,null,null,null,null,null,1,1,1,null,null,null,null,null,null,null,null,null,null,null,null,null,null,null,null,null,null,null,null,null,null,1,{"$f":"IF(AZ67=1,G67,0)","v":0},{"$f":"IF(AZ67=2,G67,0)","v":0},{"$f":"IF(AZ67=3,G67,0)","v":0},{"$f":"IF(AZ67=4,G67,0)","v":0},{"$f":"IF(AZ67=5,G67,0)","v":0},null,null,null,null,null,null,null,null,null,null,null,null,null,null,null,null,null,null,null,null,null,1,1]
[null,null,"VP pro ČS PE D32x3,0 mm:",null,0,null,null,null,null,null,null,null,"VP pro ČS PE D32x3,0 mm:"]
[null,null,"Výkopy:",null,0,null,null,null,null,null,null,null,"Výkopy:"]
[null,null,"V hornině tř. 3 -  5 :12,6000",null,12.6,null,null,null,null,null,null,null,"V hornině tř. 3 -  5 :12,6000"]
[13,"58337308.R","Štěrkopísek frakce 0-2 tř.B","t",10.614699999999999,null,{"$f":"E71*F71","v":0},1,{"$f":"E71*H71","v":10.614699999999999},null,{"$f":"E71*J71","v":0},null,null,null,2,null,null,null,null,null,null,null,null,null,null,null,3,1,"58337308.R",null,null,null,null,null,null,null,null,null,null,null,null,null,null,null,null,null,null,null,null,null,null,1,{"$f":"IF(AZ71=1,G71,0)","v":0},{"$f":"IF(AZ71=2,G71,0)","v":0},{"$f":"IF(AZ71=3,G71,0)","v":0},{"$f":"IF(AZ71=4,G71,0)","v":0},{"$f":"IF(AZ71=5,G71,0)","v":0},null,null,null,null,null,null,null,null,null,null,null,null,null,null,null,null,null,null,null,null,null,3,1]
[null,null,"VP pro ČS PE D32x3,0 mm:15,00*(0,70*(0,032+0,30)-0,016^2*Pi)*1,973*1,01",null,6.9226000000000001,null,null,null,null,null,null,null,"VP pro ČS PE D32x3,0 mm:15,00*(0,70*(0,032+0,30)-0,016^2*Pi)*1,973*1,01"]
[null,null,"Vnitřní rozvody u ČS s napojením na technologii ČS PE D32x3,0 mm:8,00*(0,70*(0,032+0,30)-0,016^2*Pi)*1,973*1,01",null,3.6920999999999999,null,null,null,null,null,null,null,"Vnitřní rozvody u ČS s napojením na technologii ČS PE D32x3,0 mm:8,00*(0,70*(0,032+0,30)-0,016^2*Pi)*1,973*1,01"]
[14,"58344197R","Štěrkodrtě frakce 0-63 A","t",14.261799999999999,null,{"$f":"E74*F74","v":0},1,{"$f":"E74*H74","v":14.261799999999999},null,{"$f":"E74*J74","v":0},null,null,null,2,null,null,null,null,null,null,null,null,null,null,null,3,1,"58344197R",null,null,null,null,null,null,null,null,null,null,null,null,null,null,null,null,null,null,null,null,null,null,1,{"$f":"IF(AZ74=1,G74,0)","v":0},{"$f":"IF(AZ74=2,G74,0)","v":0},{"$f":"IF(AZ74=3,G74,0)","v":0},{"$f":"IF(AZ74=4,G74,0)","v":0},{"$f":"IF(AZ74=5,G74,0)","v":0},null,null,null,null,null,null,null,null,null,null,null,null,null,null,null,null,null,null,null,null,null,3,1]
[null,null,"VP pro ČS PE D32x3,0 mm:",null,0,null,null,null,null,null,null,null,"VP pro ČS PE D32x3,0 mm:"]
[null,null,"Zásyp ŠD fr. 0-63 mm:7,5390*1,873*1,01",null,14.261799999999999,null,null,null,null,null,null,null,"Zásyp ŠD fr. 0-63 mm:7,5390*1,873*1,01"]
[null,"Celkem za","1 Zemní práce",null,null,null,{"$f":"SUM(G7:G76)","v":0},null,{"$f":"SUM(I7:I76)","v":24.9401066},null,{"$f":"SUM(K7:K76)","v":0},null,null,null,4,null,null,null,null,null,null,null,null,null,null,null,null,null,null,null,null,null,null,null,null,null,null,null,null,null,null,null,null,null,null,null,null,null,null,null,null,null,{"$f":"SUM(BA7:BA76)","v":0},{"$f":"SUM(BB7:BB76)","v":0},{"$f":"SUM(BC7:BC76)","v":0},{"$f":"SUM(BD7:BD76)","v":0},{"$f":"SUM(BE7:BE76)","v":0}]
["Díl:","45","Podkladní a vedlejší konstrukce",null,null,null,null,null,null,null,null,null,null,null,1]
[15,"451572111R00","Lože pod potrubí z kameniva těženého 0 - 4 mm ","m3",1.61,null,{"$f":"E79*F79","v":0},0.43051,{"$f":"E79*H79","v":0.69312110000000005},0,{"$f":"E79*J79","v":0},null,null,null,2,null,null,null,null,null,null,null,null,null,null,null,1,1,1,null,null,null,null,null,null,null,null,null,null,null,null,null,null,null,null,null,null,null,null,null,null,1,{"$f":"IF(AZ79=1,G79,0)","v":0},{"$f":"IF(AZ79=2,G79,0)","v":0},{"$f":"IF(AZ79=3,G79,0)","v":0},{"$f":"IF(AZ79=4,G79,0)","v":0},{"$f":"IF(AZ79=5,G79,0)","v":0},null,null,null,null,null,null,null,null,null,null,null,null,null,null,null,null,null,null,null,null,null,1,1]
[null,null,"VP pro ČS PE D32x3,0 mm:15,00*0,70*0,10",null,1.05,null,null,null,null,null,null,null,"VP pro ČS PE D32x3,0 mm:15,00*0,70*0,10"]
[null,null,"Vnitřní rozvody u ČS s napojením na technologii ČS PE D32x3,0 mm:8,00*0,70*0,10",null,0.56000000000000005,null,null,null,null,null,null,null,"Vnitřní rozvody u ČS s napojením na technologii ČS PE D32x3,0 mm:8,00*0,70*0,10"]
[null,"Celkem za","45 Podkladní a vedlejší konstrukce",null,null,null,{"$f":"SUM(G78:G81)","v":0},null,{"$f":"SUM(I78:I81)","v":0.69312110000000005},null,{"$f":"SUM(K78:K81)","v":0},null,null,null,4,null,null,null,null,null,null,null,null,null,null,null,null,null,null,null,null,null,null,null,null,null,null,null,null,null,null,null,null,null,null,null,null,null,null,null,null,null,{"$f":"SUM(BA78:BA81)","v":0},{"$f":"SUM(BB78:BB81)","v":0},{"$f":"SUM(BC78:BC81)","v":0},{"$f":"SUM(BD78:BD81)","v":0},{"$f":"SUM(BE78:BE81)","v":0}]
["Díl:","5","Komunikace",null,null,null,null,null,null,null,null,null,null,null,1]
[16,"572701119RRX","Provizorní zásyp rýh kam. hrubě drceným nebo recyk s následným odstraněním a odvozem","m3",5.25,null,{"$f":"E84*F84","v":0},1.4804999999999999,{"$f":"E84*H84","v":7.7726249999999997},0,{"$f":"E84*J84","v":0},null,null,null,2,null,null,null,null,null,null,null,null,null,null,null,1,1,1,null,null,null,null,null,null,null,null,null,null,null,null,null,null,null,null,null,null,null,null,null,null,1,{"$f":"IF(AZ84=1,G84,0)","v":0},{"$f":"IF(AZ84=2,G84,0)","v":0},{"$f":"IF(AZ84=3,G84,0)","v":0},{"$f":"IF(AZ84=4,G84,0)","v":0},{"$f":"IF(AZ84=5,G84,0)","v":0},null,null,null,null,null,null,null,null,null,null,null,null,null,null,null,null,null,null,null,null,null,1,1]
[null,null,"VP pro ČS PE D32x3,0 mm:",null,0,null,null,null,null,null,null,null,"VP pro ČS PE D32x3,0 mm:"]
[null,null,"Objem konstrukce komunikace:15,00*0,70*0,50",null,5.25,null,null,null,null,null,null,null,"Objem konstrukce komunikace:15,00*0,70*0,50"]
[null,"Celkem za","5 Komunikace",null,null,null,{"$f":"SUM(G83:G86)","v":0},null,{"$f":"SUM(I83:I86)","v":7.7726249999999997},null,{"$f":"SUM(K83:K86)","v":0},null,null,null,4,null,null,null,null,null,null,null,null,null,null,null,null,null,null,null,null,null,null,null,null,null,null,null,null,null,null,null,null,null,null,null,null,null,null,null,null,null,{"$f":"SUM(BA83:BA86)","v":0},{"$f":"SUM(BB83:BB86)","v":0},{"$f":"SUM(BC83:BC86)","v":0},{"$f":"SUM(BD83:BD86)","v":0},{"$f":"SUM(BE83:BE86)","v":0}]
["Díl:","8","Trubní vedení",null,null,null,null,null,null,null,null,null,null,null,1]
[17,"871161121R00","Montáž trubek polyetylenových ve výkopu d 32 mm ","m",23,null,{"$f":"E89*F89","v":0},0,{"$f":"E89*H89","v":0},0,{"$f":"E89*J89","v":0},null,null,null,2,null,null,null,null,null,null,null,null,null,null,null,1,1,1,null,null,null,null,null,null,null,null,null,null,null,null,null,null,null,null,null,null,null,null,null,null,1,{"$f":"IF(AZ89=1,G89,0)","v":0},{"$f":"IF(AZ89=2,G89,0)","v":0},{"$f":"IF(AZ89=3,G89,0)","v":0},{"$f":"IF(AZ89=4,G89,0)","v":0},{"$f":"IF(AZ89=5,G89,0)","v":0},null,null,null,null,null,null,null,null,null,null,null,null,null,null,null,null,null,null,null,null,null,1,1]
[null,null,"V položce je uvažováno použití svitku. ",null,null,null,null,null,null,null,null,"V položce je uvažováno použití svitku. ",null,null,3]
[null,null,"VP pro ČS PE D32x3,0 mm:15,00",null,15,null,null,null,null,null,null,null,"VP pro ČS PE D32x3,0 mm:15,00"]
[null,null,"Vnitřní rozvody u ČS s napojením na technologii ČS PE D32x3,0 mm:8,00",null,8,null,null,null,null,null,null,null,"Vnitřní rozvody u ČS s napojením na technologii ČS PE D32x3,0 mm:8,00"]
[18,"892233111R00","Desinfekce vodovodního potrubí DN 70 ","m",23,null,{"$f":"E93*F93","v":0},0,{"$f":"E93*H93","v":0},0,{"$f":"E93*J93","v":0},null,null,null,2,null,null,null,null,null,null,null,null,null,null,null,1,1,1,null,null,null,null,null,null,null,null,null,null,null,null,null,null,null,null,null,null,null,null,null,null,1,{"$f":"IF(AZ93=1,G93,0)","v":0},{"$f":"IF(AZ93=2,G93,0)","v":0},{"$f":"IF(AZ93=3,G93,0)","v":0},{"$f":"IF(AZ93=4,G93,0)","v":0},{"$f":"IF(AZ93=5,G93,0)","v":0},null,null,null,null,null,null,null,null,null,null,null,null,null,null,null,null,null,null,null,null,null,1,1]
[null,null,"V položce jsou zakalkulovány náklady na napuštění a vypuštění vody, dodání vody a desinfekčního prostředku a na bakteriologický rozbor vody.",null,null,null,null,null,null,null,null,"V položce jsou zakalkulovány náklady na napuštění a vypuštění vody, dodání vody a desinfekčního prostředku a na bakteriologický rozbor vody.",null,null,3]
[null,null,"VP pro ČS PE D32x3,0 mm:15,00",null,15,null,null,null,null,null,null,null,"VP pro ČS PE D32x3,0 mm:15,00"]
[null,null,"Vnitřní rozvody u ČS s napojením na technologii ČS PE D32x3,0 mm:8,00",null,8,null,null,null,null,null,null,null,"Vnitřní rozvody u ČS s napojením na technologii ČS PE D32x3,0 mm:8,00"]
[19,"892241111R00","Tlaková zkouška vodovodního potrubí DN 80 včetně zajištění konců potrubí","m",23,null,{"$f":"E97*F97","v":0},0,{"$f":"E97*H97","v":0},0,{"$f":"E97*J97","v":0},null,null,null,2,null,null,null,null,null,null,null,null,null,null,null,1,1,1,null,null,null,null,null,null,null,null,null,null,null,null,null,null,null,null,null,null,null,null,null,null,1,{"$f":"IF(AZ97=1,G97,0)","v":0},{"$f":"IF(AZ97=2,G97,0)","v":0},{"$f":"IF(AZ97=3,G97,0)","v":0},{"$f":"IF(AZ97=4,G97,0)","v":0},{"$f":"IF(AZ97=5,G97,0)","v":0},null,null,null,null,null,null,null,null,null,null,null,null,null,null,null,null,null,null,null,null,null,1,1]
[null,null,"V položce jsou započteny náklady na přísun, montáž, demontáž a odsun zkoušecího čerpadla, napuštění tlakovou vodou a dodání vody pro tlakovou zkoušku.",null,null,null,null,null,null,null,null,"V položce jsou započteny náklady na přísun, montáž, demontáž a odsun zkoušecího čerpadla, napuštění tlakovou vodou a dodání vody pro tlakovou zkoušku.",null,null,3]
[null,null,"VP pro ČS PE D32x3,0 mm:15,00",null,15,null,null,null,null,null,null,null,"VP pro ČS PE D32x3,0 mm:15,00"]
[null,null,"Vnitřní rozvody u ČS s napojením na technologii ČS PE D32x3,0 mm:8,00",null,8,null,null,null,null,null,null,null,"Vnitřní rozvody u ČS s napojením na technologii ČS PE D32x3,0 mm:8,00"]
[20,"893151111RRX","Montáž šachty vodoměrné a revizní plastové kruhové ","kus",1,null,{"$f":"E101*F101","v":0},0.51066,{"$f":"E101*H101","v":0.51066},0,{"$f":"E101*J101","v":0},null,null,null,2,null,null,null,null,null,null,null,null,null,null,null,1,1,1,null,null,null,null,null,null,null,null,null,null,null,null,null,null,null,null,null,null,null,null,null,null,1,{"$f":"IF(AZ101=1,G101,0)","v":0},{"$f":"IF(AZ101=2,G101,0)","v":0},{"$f":"IF(AZ101=3,G101,0)","v":0},{"$f":"IF(AZ101=4,G101,0)","v":0},{"$f":"IF(AZ101=5,G101,0)","v":0},null,null,null,null,null,null,null,null,null,null,null,null,null,null,null,null,null,null,null,null,null,1,1]
[null,null,"Včetně zřízení podkladního betonu v tl. 15 cm vyztuženého KARI sítí 8/100/100.",null,null,null,null,null,null,null,null,"Včetně zřízení podkladního betonu v tl. 15 cm vyztuženého KARI sítí 8/100/100.",null,null,3]
[null,null,"VP pro ČS PE D32x3,0 mm:",null,0,null,null,null,null,null,null,null,"VP pro ČS PE D32x3,0 mm:"]
[null,null,"VŠ pro ČS:1",null,1,null,null,null,null,null,null,null,"VŠ pro ČS:1"]
[21,"893151155RR1","Montáž vodoměrné sestavy pro PE D 32x3,0 mm včetně dodávky VS dle standartů provozovatele","kus",1,null,{"$f":"E105*F105","v":0},0.50214999999999999,{"$f":"E105*H105","v":0.50214999999999999},0,{"$f":"E105*J105","v":0},null,null,null,2,null,null,null,null,null,null,null,null,null,null,null,1,1,1,null,null,null,null,null,null,null,null,null,null,null,null,null,null,null,null,null,null,null,null,null,null,1,{"$f":"IF(AZ105=1,G105,0)","v":0},{"$f":"IF(AZ105=2,G105,0)","v":0},{"$f":"IF(AZ105=3,G105,0)","v":0},{"$f":"IF(AZ105=4,G105,0)","v":0},{"$f":"IF(AZ105=5,G105,0)","v":0},null,null,null,null,null,null,null,null,null,null,null,null,null,null,null,null,null,null,null,null,null,1,1]
[null,null,"Provedení sestavy VS dle projektové dokumentace a standartů investora a provozovatele (SčVaK) do jedné vodoměrné šachty",null,null,null,null,null,null,null,null,"Provedení sestavy VS dle projektové dokumentace a standartů investora a provozovatele (SčVaK) do jedné vodoměrné šachty",null,null,3]
[22,"899721112R00","Fólie výstražná z PVC bílá, šířka 30 cm ","m",23,null,{"$f":"E107*F107","v":0},0,{"$f":"E107*H107","v":0},0,{"$f":"E107*J107","v":0},null,null,null,2,null,null,null,null,null,null,null,null,null,null,null,1,1,1,null,null,null,null,null,null,null,null,null,null,null,null,null,null,null,null,null,null,null,null,null,null,1,{"$f":"IF(AZ107=1,G107,0)","v":0},{"$f":"IF(AZ107=2,G107,0)","v":0},{"$f":"IF(AZ107=3,G107,0)","v":0},{"$f":"IF(AZ107=4,G107,0)","v":0},{"$f":"IF(AZ107=5,G107,0)","v":0},null,null,null,null,null,null,null,null,null,null,null,null,null,null,null,null,null,null,null,null,null,1,1]
[null,null,"VP pro ČS PE D32x3,0 mm:15,00",null,15,null,null,null,null,null,null,null,"VP pro ČS PE D32x3,0 mm:15,00"]
[null,null,"Vnitřní rozvody u ČS s napojením na technologii ČS PE D32x3,0 mm:8,00",null,8,null,null,null,null,null,null,null,"Vnitřní rozvody u ČS s napojením na technologii ČS PE D32x3,0 mm:8,00"]
[23,"899731113R00","Vodič signalizační CYY 4 mm2 ","m",24.5,null,{"$f":"E110*F110","v":0},5.0000000000000002E-5,{"$f":"E110*H110","v":1.225E-3},0,{"$f":"E110*J110","v":0},null,null,null,2,null,null,null,null,null,null,null,null,null,null,null,1,1,1,null,null,null,null,null,null,null,null,null,null,null,null,null,null,null,null,null,null,null,null,null,null,1,{"$f":"IF(AZ110=1,G110,0)","v":0},{"$f":"IF(AZ110=2,G110,0)","v":0},{"$f":"IF(AZ110=3,G110,0)","v":0},{"$f":"IF(AZ110=4,G110,0)","v":0},{"$f":"IF(AZ110=5,G110,0)","v":0},null,null,null,null,null,null,null,null,null,null,null,null,null,null,null,null,null,null,null,null,null,1,1]
[null,null,"Součástí položky je zajištění proměření vodiče a výchozí revize.",null,null,null,null,null,null,null,null,"Součástí položky je zajištění proměření vodiče a výchozí revize.",null,null,3]
[null,null,"VP pro ČS PE D32x3,0 mm:15,00+1,50",null,16.5,null,null,null,null,null,null,null,"VP pro ČS PE D32x3,0 mm:15,00+1,50"]
[null,null,"Vnitřní rozvody u ČS s napojením na technologii ČS PE D32x3,0 mm:8,00",null,8,null,null,null,null,null,null,null,"Vnitřní rozvody u ČS s napojením na technologii ČS PE D32x3,0 mm:8,00"]
[24,"28613576.01.R","Trubka PE100RC2 SDR11 D 32x3,0 mm L 100m","m",23.344999999999999,null,{"$f":"E114*F114","v":0},3.79E-3,{"$f":"E114*H114","v":8.8477549999999988E-2},null,{"$f":"E114*J114","v":0},null,null,null,2,null,null,null,null,null,null,null,null,null,null,null,3,1,"28613576.01.R",null,null,null,null,null,null,null,null,null,null,null,null,null,null,null,null,null,null,null,null,null,null,1,{"$f":"IF(AZ114=1,G114,0)","v":0},{"$f":"IF(AZ114=2,G114,0)","v":0},{"$f":"IF(AZ114=3,G114,0)","v":0},{"$f":"IF(AZ114=4,G114,0)","v":0},{"$f":"IF(AZ114=5,G114,0)","v":0},null,null,null,null,null,null,null,null,null,null,null,null,null,null,null,null,null,null,null,null,null,3,1]
[null,null,"VP pro ČS PE D32x3,0 mm:15,00*1,015",null,15.225,null,null,null,null,null,null,null,"VP pro ČS PE D32x3,0 mm:15,00*1,015"]
[null,null,"Vnitřní rozvody u ČS s napojením na technologii ČS PE D32x3,0 mm:8,00*1,015",null,8.1199999999999992,null,null,null,null,null,null,null,"Vnitřní rozvody u ČS s napojením na technologii ČS PE D32x3,0 mm:8,00*1,015"]
[25,"28697257.R","Šachta vodoměrná v. 1500 mm","kus",1,null,{"$f":"E117*F117","v":0},0.06,{"$f":"E117*H117","v":0.06},null,{"$f":"E117*J117","v":0},null,null,null,2,null,null,null,null,null,null,null,null,null,null,null,3,1,"28697257.R",null,null,null,null,null,null,null,null,null,null,null,null,null,null,null,null,null,null,null,null,null,null,1,{"$f":"IF(AZ117=1,G117,0)","v":0},{"$f":"IF(AZ117=2,G117,0)","v":0},{"$f":"IF(AZ117=3,G117,0)","v":0},{"$f":"IF(AZ117=4,G117,0)","v":0},{"$f":"IF(AZ117=5,G117,0)","v":0},null,null,null,null,null,null,null,null,null,null,null,null,null,null,null,null,null,null,null,null,null,3,1]
[null,null,"Celoplastová kruhová šachta samonosná - průměr 1200 mm.",null,null,null,null,null,null,null,null,"Celoplastová kruhová šachta samonosná - průměr 1200 mm.",null,null,3]
[null,null,"Je tvořena vlastní nádrží šachty výšky 1500 mm a vstupní šachtičkou D 600 mm výšky 300 mm zakrytou plastovým pochůzným poklopem.",null,null,null,null,null,null,null,null,"Je tvořena vlastní nádrží šachty výšky 1500 mm a vstupní šachtičkou D 600 mm výšky 300 mm zakrytou plastovým pochůzným poklopem.",null,null,3]
[null,null,"Nádrž šachty je osazena plastovými stupadly a plastovými průchodkami pro napojení přívodu a odvodu vody.",null,null,null,null,null,null,null,null,"Nádrž šachty je osazena plastovými stupadly a plastovými průchodkami pro napojení přívodu a odvodu vody.",null,null,3]
[null,null,"Materiál: směs polypropylenu (PP) a polyetylenu (PE)",null,null,null,null,null,null,null,null,"Materiál: směs polypropylenu (PP) a polyetylenu (PE)",null,null,3]
[null,null,"VP pro ČS PE D32x3,0 mm:",null,0,null,null,null,null,null,null,null,"VP pro ČS PE D32x3,0 mm:"]
[null,null,"VŠ pro ČS:1",null,1,null,null,null,null,null,null,null,"VŠ pro ČS:1"]
[null,"Celkem za","8 Trubní vedení",null,null,null,{"$f":"SUM(G88:G123)","v":0},null,{"$f":"SUM(I88:I123)","v":1.16251255},null,{"$f":"SUM(K88:K123)","v":0},null,null,null,4,null,null,null,null,null,null,null,null,null,null,null,null,null,null,null,null,null,null,null,null,null,null,null,null,null,null,null,null,null,null,null,null,null,null,null,null,null,{"$f":"SUM(BA88:BA123)","v":0},{"$f":"SUM(BB88:BB123)","v":0},{"$f":"SUM(BC88:BC123)","v":0},{"$f":"SUM(BD88:BD123)","v":0},{"$f":"SUM(BE88:BE123)","v":0}]
["Díl:","99","Staveništní přesun hmot",null,null,null,null,null,null,null,null,null,null,null,1]
[26,"998276101RXX","Přesun hmot, trubní vedení plastová, otevř. výkop pro celý rozsah objektu","t",34.568365249999999,null,{"$f":"E126*F126","v":0},0,{"$f":"E126*H126","v":0},null,{"$f":"E126*J126","v":0},null,null,null,2,null,null,null,null,null,null,null,null,null,null,null,7,1,2,null,null,null,null,null,null,null,null,null,null,null,null,null,null,null,null,null,null,null,null,null,null,1,{"$f":"IF(AZ126=1,G126,0)","v":0},{"$f":"IF(AZ126=2,G126,0)","v":0},{"$f":"IF(AZ126=3,G126,0)","v":0},{"$f":"IF(AZ126=4,G126,0)","v":0},{"$f":"IF(AZ126=5,G126,0)","v":0},null,null,null,null,null,null,null,null,null,null,null,null,null,null,null,null,null,null,null,null,null,7,1]
[null,null,"Staveništní doprava pro celý rozsah objektu - doprava zmeziskládek vybudovaného zařízení staveniště zhotovitele na jednotlivé části staveniště.",null,null,null,null,null,null,null,null,"Staveništní doprava pro celý rozsah objektu - doprava zmeziskládek vybudovaného zařízení staveniště zhotovitele na jednotlivé části staveniště.",null,null,3]
[null,"Celkem za","99 Staveništní přesun hmot",null,null,null,{"$f":"SUM(G125:G127)","v":0},null,{"$f":"SUM(I125:I127)","v":0},null,{"$f":"SUM(K125:K127)","v":0},null,null,null,4,null,null,null,null,null,null,null,null,null,null,null,null,null,null,null,null,null,null,null,null,null,null,null,null,null,null,null,null,null,null,null,null,null,null,null,null,null,{"$f":"SUM(BA125:BA127)","v":0},{"$f":"SUM(BB125:BB127)","v":0},{"$f":"SUM(BC125:BC127)","v":0},{"$f":"SUM(BD125:BD127)","v":0},{"$f":"SUM(BE125:BE127)","v":0}]

{"sheet":"05 05.04 KL","index":50,"n_rows":45,"n_cols":8,"rows_kept":45,"cut":false,"hidden":false,"merged":[[22,0,22,1],[7,2,7,4],[8,2,8,4],[9,2,9,4],[10,2,10,4],[11,2,11,4],[50,1,50,6],[29,5,29,6],[30,5,30,6],[31,5,31,6],[32,5,32,6],[33,5,33,6],[36,1,44,6],[45,1,45,6],[46,1,46,6],[47,1,47,6],[48,1,48,6],[49,1,49,6]]}
["POLOŽKOVÝ ROZPOČET"]
["Rozpočet",null,"05.04","Vodovodní přípojky u V1 až  V4",null,"JKSO ","827.13"]
[]
["Objekt",null,null,null,null,"SKP "]
["05",null,"Přeložky vodovodu",null,null,"Měrná jednotka","m"]
["Stavba",null,null,null,null,"Počet jednotek",0]
["3395",null,"Kanalizace a ČOV Benešov u Semil",null,null,"Náklady na m.j.",{"$f":"IF(G6=0,,ROUND((F30+F32)/G6,1))","v":0}]
["Projektant",null,"Vodohospodářský rozvoj a výstavba a.s.",null,null,"Typ rozpočtu"]
["Zpracovatel projektu"]
["Objednatel",null,"Vodohospodářské sdružení Turnov"]
["Dodavatel",null,".",null,null,"Zakázkové číslo "]
["Rozpočtoval",null,null,null,null,"Počet listů"]
["ROZPOČTOVÉ NÁKLADY"]
["Základní rozpočtové náklady"]
[null,"HSV celkem",{"$f":"'05 05.04 Rek'!E12","v":0}]
["Z","PSV celkem",{"$f":"'05 05.04 Rek'!F12","v":0}]
["R","M práce celkem",{"$f":"'05 05.04 Rek'!H12","v":0}]
["N","M dodávky celkem",{"$f":"'05 05.04 Rek'!G12","v":0}]
["ZRN celkem",null,{"$f":"SUM(C15:C18)","v":0}]
[]
["HZS",null,{"$f":"'05 05.04 Rek'!I12","v":0}]
["ZRN+HZS",null,{"$f":"C19+C21","v":0}]
["ZRN+ost.náklady+HZS",null,{"$f":"C22+G23","v":0}]
["Vypracoval",null,null,"Za zhotovitele",null,"Za objednatele"]
["Jméno :",null,null,"Jméno :",null,"Jméno :"]
["Datum :",null,null,"Datum :",null,"Datum :"]
[]
["Podpis :",null,null,"Podpis:",null,"Podpis:"]
[]
["Základ pro DPH",null,21,"%  ",null,{"$f":"C23-F32","v":0}]
["DPH",null,{"$f":"C30","v":21},"% ",null,{"$f":"ROUND(PRODUCT(F30,C31/100),0)","v":0}]
["Základ pro DPH",null,0,"% ",null,0]
["DPH",null,{"$f":"C32","v":0},"% ",null,{"$f":"ROUND(PRODUCT(F32,C33/100),0)","v":0}]
["CENA ZA OBJEKT CELKEM",null,null,null,null,{"$f":"ROUND(SUM(F30:F33),0)","v":0}]
[]
["Poznámka :",null,null,null,null,null,null," "]
[null,null,null,null,null,null,null," "]
[null,null,null,null,null,null,null," "]
[null,null,null,null,null,null,null," "]
[null,null,null,null,null,null,null," "]
[null,null,null,null,null,null,null," "]
[null,null,null,null,null,null,null," "]
[null,null,null,null,null,null,null," "]
[null,null,null,null,null,null,null," "]
[null,null,null,null,null,null,null," "]

{"sheet":"05 05.04 Rek","index":51,"n_rows":12,"n_cols":9,"rows_kept":12,"cut":false,"hidden":false,"merged":[[0,0,0,1],[1,0,1,1],[1,6,1,8]]}
["Stavba :",null,"3395 Kanalizace a ČOV Benešov u Semil",null,null,null,"Rozpočet :","05.04"]
["Objekt :",null,"05 Přeložky vodovodu",null,null,null,"Vodovodní přípojky u V1 až  V4"]
[]
["REKAPITULACE  STAVEBNÍCH  DÍLŮ"]
[]
[null,"Stavební díl",null,null,"HSV","PSV","Dodávka","Montáž","HZS"]
[{"$f":"'05 05.04 Pol'!B7","v":"1"},{"$f":"'05 05.04 Pol'!C7","v":"Zemní práce"},null,null,{"$f":"'05 05.04 Pol'!BA156","v":0},{"$f":"'05 05.04 Pol'!BB156","v":0},{"$f":"'05 05.04 Pol'!BC156","v":0},{"$f":"'05 05.04 Pol'!BD156","v":0},{"$f":"'05 05.04 Pol'!BE156","v":0}]
[{"$f":"'05 05.04 Pol'!B157","v":"45"},{"$f":"'05 05.04 Pol'!C157","v":"Podkladní a vedlejší konstrukce"},null,null,{"$f":"'05 05.04 Pol'!BA168","v":0},{"$f":"'05 05.04 Pol'!BB168","v":0},{"$f":"'05 05.04 Pol'!BC168","v":0},{"$f":"'05 05.04 Pol'!BD168","v":0},{"$f":"'05 05.04 Pol'!BE168","v":0}]
[{"$f":"'05 05.04 Pol'!B169","v":"5"},{"$f":"'05 05.04 Pol'!C169","v":"Komunikace"},null,null,{"$f":"'05 05.04 Pol'!BA181","v":0},{"$f":"'05 05.04 Pol'!BB181","v":0},{"$f":"'05 05.04 Pol'!BC181","v":0},{"$f":"'05 05.04 Pol'!BD181","v":0},{"$f":"'05 05.04 Pol'!BE181","v":0}]
[{"$f":"'05 05.04 Pol'!B182","v":"8"},{"$f":"'05 05.04 Pol'!C182","v":"Trubní vedení"},null,null,{"$f":"'05 05.04 Pol'!BA294","v":0},{"$f":"'05 05.04 Pol'!BB294","v":0},{"$f":"'05 05.04 Pol'!BC294","v":0},{"$f":"'05 05.04 Pol'!BD294","v":0},{"$f":"'05 05.04 Pol'!BE294","v":0}]
[{"$f":"'05 05.04 Pol'!B295","v":"99"},{"$f":"'05 05.04 Pol'!C295","v":"Staveništní přesun hmot"},null,null,{"$f":"'05 05.04 Pol'!BA298","v":0},{"$f":"'05 05.04 Pol'!BB298","v":0},{"$f":"'05 05.04 Pol'!BC298","v":0},{"$f":"'05 05.04 Pol'!BD298","v":0},{"$f":"'05 05.04 Pol'!BE298","v":0}]
[null,"CELKEM  OBJEKT",null,null,{"$f":"SUM(E7:E11)","v":0},{"$f":"SUM(F7:F11)","v":0},{"$f":"SUM(G7:G11)","v":0},{"$f":"SUM(H7:H11)","v":0},{"$f":"SUM(I7:I11)","v":0}]

{"sheet":"05 05.04 Pol","index":52,"n_rows":298,"n_cols":80,"rows_kept":298,"cut":false,"hidden":false,"merged":[[12,2,12,3],[13,2,13,3],[14,2,14,3],[15,2,15,3],[16,2,16,3],[18,2,18,6],[0,0,0,6],[2,0,2,1],[3,0,3,1],[3,4,3,6],[8,2,8,3],[9,2,9,3],[10,2,10,3],[11,2,11,3],[26,2,26,3],[27,2,27,3],[28,2,28,3],[29,2,29,3],[30,2,30,3],[31,2,31,3],[19,2,19,6],[20,2,20,3],[21,2,21,3],[22,2,22,3],[24,2,24,6],[25,2,25,3],[38,2,38,3],[39,2,39,3],[40,2,40,3],[41,2,41,3],[43,2,43,3],[44,2,44,3],[32,2,32,3],[33,2,33,3],[34,2,34,3],[35,2,35,3],[36,2,36,3],[37,2,37,3],[53,2,53,3],[54,2,54,3],[56,2,56,6],[57,2,57,3],[58,2,58,3],[59,2,59,3],[45,2,45,3],[47,2,47,6],[48,2,48,3],[49,2,49,3],[50,2,50,3],[52,2,52,3],[67,2,67,3],[68,2,68,3],[69,2,69,3],[70,2,70,3],[71,2,71,3],[72,2,72,3],[61,2,61,3],[62,2,62,3],[63,2,63,3],[64,2,64,3],[65,2,65,3],[66,2,66,3],[80,2,80,3],[81,2,81,3],[82,2,82,3],[83,2,83,3],[84,2,84,3],[85,2,85,3],[74,2,74,3],[75,2,75,3],[76,2,76,3],[77,2,77,3],[78,2,78,3],[79,2,79,3],[94,2,94,3],[95,2,95,3],[96,2,96,3],[97,2,97,3],[98,2,98,3],[99,2,99,3],[87,2,87,3],[88,2,88,3],[89,2,89,3],[90,2,90,3],[92,2,92,6],[93,2,93,6],[106,2,106,3],[107,2,107,3],[108,2,108,3],[109,2,109,3],[110,2,110,3],[111,2,111,3],[100,2,100,3],[101,2,101,3],[102,2,102,3],[103,2,103,3],[104,2,104,3],[105,2,105,3],[118,2,118,3],[119,2,119,3],[120,2,120,3],[121,2,121,3],[122,2,122,3],[123,2,123,3],[112,2,112,3],[113,2,113,3],[114,2,114,3],[115,2,115,3],[116,2,116,3],[117,2,117,3],[131,2,131,3],[132,2,132,3],[133,2,133,3],[134,2,134,3],[135,2,135,3],[136,2,136,3],[124,2,124,3],[125,2,125,3],[126,2,126,3],[128,2,128,3],[129,2,129,3],[130,2,130,3],[145,2,145,3],[146,2,146,3],[147,2,147,3],[148,2,148,3],[149,2,149,3],[150,2,150,3],[138,2,138,3],[139,2,139,3],[140,2,140,3],[141,2,141,3],[143,2,143,3],[144,2,144,3],[163,2,163,3],[164,2,164,3],[165,2,165,3],[166,2,166,3],[170,2,170,3],[171,2,171,3],[172,2,172,3],[173,2,173,3],[151,2,151,3],[153,2,153,3],[154,2,154,3],[158,2,158,3],[159,2,159,3],[160,2,160,3],[161,2,161,3],[162,2,162,3],[183,2,183,6],[184,2,184,3],[185,2,185,3],[186,2,186,3],[187,2,187,3],[188,2,188,3],[189,2,189,3],[190,2,190,3],[174,2,174,3],[175,2,175,3],[176,2,176,3],[177,2,177,3],[178,2,178,3],[179,2,179,3],[198,2,198,3],[199,2,199,3],[200,2,200,3],[201,2,201,3],[202,2,202,3],[203,2,203,3],[191,2,191,3],[192,2,192,3],[194,2,194,6],[195,2,195,3],[196,2,196,3],[197,2,197,3],[211,2,211,3],[212,2,212,3],[213,2,213,3],[214,2,214,3],[216,2,216,6],[217,2,217,3],[205,2,205,6],[206,2,206,3],[207,2,207,3],[208,2,208,3],[209,2,209,3],[210,2,210,3],[224,2,224,3],[225,2,225,3],[227,2,227,6],[228,2,228,3],[229,2,229,3],[230,2,230,3],[218,2,218,3],[219,2,219,3],[220,2,220,3],[221,2,221,3],[222,2,222,3],[223,2,223,3],[238,2,238,6],[239,2,239,3],[240,2,240,3],[241,2,241,3],[242,2,242,3],[243,2,243,3],[231,2,231,3],[232,2,232,3],[233,2,233,3],[234,2,234,3],[235,2,235,3],[236,2,236,3],[251,2,251,3],[252,2,252,3],[253,2,253,3],[254,2,254,3],[255,2,255,3],[256,2,256,3],[244,2,244,3],[245,2,245,3],[246,2,246,3],[247,2,247,3],[249,2,249,3],[250,2,250,3],[264,2,264,3],[265,2,265,3],[266,2,266,3],[267,2,267,3],[268,2,268,3],[270,2,270,3],[257,2,257,3],[259,2,259,6],[260,2,260,3],[261,2,261,3],[262,2,262,3],[263,2,263,3],[277,2,277,3],[278,2,278,3],[280,2,280,6],[281,2,281,6],[282,2,282,6],[283,2,283,6],[271,2,271,3],[272,2,272,3],[273,2,273,3],[274,2,274,3],[275,2,275,3],[276,2,276,3],[290,2,290,3],[291,2,291,3],[292,2,292,3],[296,2,296,6],[284,2,284,3],[285,2,285,3],[286,2,286,3],[287,2,287,3],[288,2,288,3],[289,2,289,3]]}
["Položkový rozpočet "]
[]
["Stavba :",null,"3395 Kanalizace a ČOV Benešov u Semil",null,"Rozpočet:",{"$f":"'05 05.04 Rek'!H1","v":"05.04"}]
["Objekt :",null,"05 Přeložky vodovodu",null,{"$f":"'05 05.04 Rek'!G2","v":"Vodovodní přípojky u V1 až  V4"}]
[]
["P.č.","Číslo položky","Název položky","MJ","množství","cena / MJ","celkem (Kč)","Jednotková hmotnost","Celková hmotnost","Jednotková dem.hmot.","Celková dem.hmot."]
["Díl:","1","Zemní práce",null,null,null,null,null,null,null,null,null,null,null,1]
[1,"121100002RAA","Sejmutí ornice a uložení na deponii zpětný přesun, rozprostření v tl. 20 cm","m3",24,null,{"$f":"E8*F8","v":0},0,{"$f":"E8*H8","v":0},0,{"$f":"E8*J8","v":0},null,null,null,2,null,null,null,null,null,null,null,null,null,null,null,1,1,1,null,null,null,null,null,null,null,null,null,null,null,null,null,null,null,null,null,null,null,null,null,null,1,{"$f":"IF(AZ8=1,G8,0)","v":0},{"$f":"IF(AZ8=2,G8,0)","v":0},{"$f":"IF(AZ8=3,G8,0)","v":0},{"$f":"IF(AZ8=4,G8,0)","v":0},{"$f":"IF(AZ8=5,G8,0)","v":0},null,null,null,null,null,null,null,null,null,null,null,null,null,null,null,null,null,null,null,null,null,1,1]
[null,null,"Vodovodní přípojky PE D32x3,0 mm + 10% rezerva:",null,0,null,null,null,null,null,null,null,"Vodovodní přípojky PE D32x3,0 mm + 10% rezerva:"]
[null,null,"Přeložka řadu \"V1\" TLT DN100:",null,0,null,null,null,null,null,null,null,"Přeložka řadu \"V1\" TLT DN100:"]
[null,null,"VP 1 až 4 (4 kusy):8,00*0,20*4",null,6.4,null,null,null,null,null,null,null,"VP 1 až 4 (4 kusy):8,00*0,20*4"]
[null,null,"Vodovodní řad PE D 110x10,0 mm:",null,0,null,null,null,null,null,null,null,"Vodovodní řad PE D 110x10,0 mm:"]
[null,null,"VP 5 až 9 a VP14 a 15 (7 kusů):8,00*0,20*7",null,11.2,null,null,null,null,null,null,null,"VP 5 až 9 a VP14 a 15 (7 kusů):8,00*0,20*7"]
[null,null,"Přeložka řadu \"V3\" PE D110x10,0 mm a PE D160x14,6 mm:",null,0,null,null,null,null,null,null,null,"Přeložka řadu \"V3\" PE D110x10,0 mm a PE D160x14,6 mm:"]
[null,null,"VP 10 (1 kus):8,00*0,20*1",null,1.6,null,null,null,null,null,null,null,"VP 10 (1 kus):8,00*0,20*1"]
[null,null,"Přeložka řadu \"V4\" PE D90x8,2 mm:",null,0,null,null,null,null,null,null,null,"Přeložka řadu \"V4\" PE D90x8,2 mm:"]
[null,null,"VP11 až 13 (3 kusy):8,00*0,20*3",null,4.8,null,null,null,null,null,null,null,"VP11 až 13 (3 kusy):8,00*0,20*3"]
[2,"130001101RRX","Příplatek za ztížené hloubení v blízkosti vedení ","m3",53.423499999999997,null,{"$f":"E18*F18","v":0},0,{"$f":"E18*H18","v":0},0,{"$f":"E18*J18","v":0},null,null,null,2,null,null,null,null,null,null,null,null,null,null,null,1,1,1,null,null,null,null,null,null,null,null,null,null,null,null,null,null,null,null,null,null,null,null,null,null,1,{"$f":"IF(AZ18=1,G18,0)","v":0},{"$f":"IF(AZ18=2,G18,0)","v":0},{"$f":"IF(AZ18=3,G18,0)","v":0},{"$f":"IF(AZ18=4,G18,0)","v":0},{"$f":"IF(AZ18=5,G18,0)","v":0},null,null,null,null,null,null,null,null,null,null,null,null,null,null,null,null,null,null,null,null,null,1,1]
[null,null,"Včetně případných nutných dokopávem a ručního výkopu podél sousedících inženýrských sítí.",null,null,null,null,null,null,null,null,"Včetně případných nutných dokopávem a ručního výkopu podél sousedících inženýrských sítí.",null,null,3]
[null,null,"Součástí položky je i dočasné zajištění inženýrských sítí v prostoru výkopů (potrubí, kabely a pod.)",null,null,null,null,null,null,null,null,"Součástí položky je i dočasné zajištění inženýrských sítí v prostoru výkopů (potrubí, kabely a pod.)",null,null,3]
[null,null,"Vodovodní přípojky PE D32x3,0 mm + 10% rezerva:",null,0,null,null,null,null,null,null,null,"Vodovodní přípojky PE D32x3,0 mm + 10% rezerva:"]
[null,null,"Výkopy:",null,0,null,null,null,null,null,null,null,"Výkopy:"]
[null,null,"V hornině tř. 3 - 5 - 40%:133,5588*0,4",null,53.423499999999997,null,null,null,null,null,null,null,"V hornině tř. 3 - 5 - 40%:133,5588*0,4"]
[3,"132201212R00","Hloubení rýh š.do 200 cm hor.3 do 1000m3,STROJNĚ ","m3",80.135300000000001,null,{"$f":"E24*F24","v":0},0,{"$f":"E24*H24","v":0},0,{"$f":"E24*J24","v":0},null,null,null,2,null,null,null,null,null,null,null,null,null,null,null,1,1,1,null,null,null,null,null,null,null,null,null,null,null,null,null,null,null,null,null,null,null,null,null,null,1,{"$f":"IF(AZ24=1,G24,0)","v":0},{"$f":"IF(AZ24=2,G24,0)","v":0},{"$f":"IF(AZ24=3,G24,0)","v":0},{"$f":"IF(AZ24=4,G24,0)","v":0},{"$f":"IF(AZ24=5,G24,0)","v":0},null,null,null,null,null,null,null,null,null,null,null,null,null,null,null,null,null,null,null,null,null,1,1]
[null,null,"Položka obsahuje hloubení rýh traktorbagrem, naložení výkopku na dopravní prostředek pro svislé, nebo vodorovné přemístění, popř. přemístění výkopku do 3 m (po povrchu území), případné zajištění rypadel polštáři, udržování pracoviště a ochranu výkopiště proti stékání srážkové vody z okolního terénu i s jejím odvodněním, nebo odvedením, přesekání a odstranění kořenů ve výkopišti, odstranění napadávek, urovnání dna výkopu.",null,null,null,null,null,null,null,null,"Položka obsahuje hloubení rýh traktorbagrem, naložení výkopku na dopravní prostředek pro svislé, nebo vodorovné přemístění, popř. přemístění výkopku do 3 m (po povrchu území), případné zajištění rypadel polštáři, udržování pracoviště a ochranu výkopiště proti stékání srážkové vody z okolního terénu i s jejím odvodněním, nebo odvedením, přesekání a odstranění kořenů ve výkopišti, odstranění napadávek, urovnání dna výkopu.",null,null,3]
[null,null,"Vodovodní přípojky PE D32x3,0 mm + 10% rezerva:",null,0,null,null,null,null,null,null,null,"Vodovodní přípojky PE D32x3,0 mm + 10% rezerva:"]
[null,null,"Výkopy:",null,0,null,null,null,null,null,null,null,"Výkopy:"]
[null,null,"Začátek provozního součtu",null,0,null,null,null,null,null,null,null,"Začátek provozního součtu"]
[null,null,"Proměrná hloubka výkopů 1,75 m:",null,0,null,null,null,null,null,null,null,"Proměrná hloubka výkopů 1,75 m:"]
[null,null,"Přeložka řadu \"V1\" TLT DN100:",null,0,null,null,null,null,null,null,null,"Přeložka řadu \"V1\" TLT DN100:"]
[null,null,"VP 1 až 4 (4 kusy):28,50*0,70*1,75",null,34.912500000000001,null,null,null,null,null,null,null,"VP 1 až 4 (4 kusy):28,50*0,70*1,75"]
[null,null,"Vodovodní řad PE D 110x10,0 mm:",null,0,null,null,null,null,null,null,null,"Vodovodní řad PE D 110x10,0 mm:"]
[null,null,"VP 5 až 9 a VP14 a 15 (7 kusů):36,50*0,70*1,75",null,44.712499999999999,null,null,null,null,null,null,null,"VP 5 až 9 a VP14 a 15 (7 kusů):36,50*0,70*1,75"]
[null,null,"Přeložka řadu \"V3\" PE D110x10,0 mm a PE D160x14,6 mm:",null,0,null,null,null,null,null,null,null,"Přeložka řadu \"V3\" PE D110x10,0 mm a PE D160x14,6 mm:"]
[null,null,"VP 10 (1 kus):2,50*0,70*1,75",null,3.0625,null,null,null,null,null,null,null,"VP 10 (1 kus):2,50*0,70*1,75"]
[null,null,"Přeložka řadu \"V4\" PE D90x8,2 mm:",null,0,null,null,null,null,null,null,null,"Přeložka řadu \"V4\" PE D90x8,2 mm:"]
[null,null,"VP11 až 13 (3 kusy):11,00*0,70*1,75",null,13.475,null,null,null,null,null,null,null,"VP11 až 13 (3 kusy):11,00*0,70*1,75"]
[null,null,"Výkopy pro VŠ:1,50*1,50*2,00*15",null,67.5,null,null,null,null,null,null,null,"Výkopy pro VŠ:1,50*1,50*2,00*15"]
[null,null,"Odpočet objemu konstrukcí komunikace z 90% délky:-(28,50+36,50+2,50+11,00)*0,9*0,70*0,45",null,-22.254799999999999,null,null,null,null,null,null,null,"Odpočet objemu konstrukcí komunikace z 90% délky:-(28,50+36,50+2,50+11,00)*0,9*0,70*0,45"]
[null,null,"Odpočet objemu ornice z 10% déjka a VŠ:-(28,50+36,50+2,50+11,00)*0,1*0,70*0,20-1,50*1,50*0,20*15",null,-7.8490000000000002,null,null,null,null,null,null,null,"Odpočet objemu ornice z 10% déjka a VŠ:-(28,50+36,50+2,50+11,00)*0,1*0,70*0,20-1,50*1,50*0,20*15"]
[null,null,"Konec provozního součtu",null,133.55870000000002,null,null,null,null,null,null,null,"Konec provozního součtu"]
[null,null,"V hornině tř. 3 - 60%:133,5588*0,6",null,80.135300000000001,null,null,null,null,null,null,null,"V hornině tř. 3 - 60%:133,5588*0,6"]
[4,"132201219R00","Přípl.za lepivost,hloubení rýh 200cm,hor.3,STROJNĚ ","m3",40.067599999999999,null,{"$f":"E43*F43","v":0},0,{"$f":"E43*H43","v":0},0,{"$f":"E43*J43","v":0},null,null,null,2,null,null,null,null,null,null,null,null,null,null,null,1,1,1,null,null,null,null,null,null,null,null,null,null,null,null,null,null,null,null,null,null,null,null,null,null,1,{"$f":"IF(AZ43=1,G43,0)","v":0},{"$f":"IF(AZ43=2,G43,0)","v":0},{"$f":"IF(AZ43=3,G43,0)","v":0},{"$f":"IF(AZ43=4,G43,0)","v":0},{"$f":"IF(AZ43=5,G43,0)","v":0},null,null,null,null,null,null,null,null,null,null,null,null,null,null,null,null,null,null,null,null,null,1,1]
[null,null,"Vodovodní přípojky PE D32x3,0 mm + 10% rezerva:",null,0,null,null,null,null,null,null,null,"Vodovodní přípojky PE D32x3,0 mm + 10% rezerva:"]
[null,null,"Výkopy:",null,0,null,null,null,null,null,null,null,"Výkopy:"]
[null,null,"V hornině tř. 3 - 60%:133,5588*0,6*0,5",null,40.067599999999999,null,null,null,null,null,null,null,"V hornině tř. 3 - 60%:133,5588*0,6*0,5"]
[5,"132301212R00","Hloubení rýh š.do 200 cm hor.4 do 1000 m3, STROJNĚ ","m3",40.067599999999999,null,{"$f":"E47*F47","v":0},0,{"$f":"E47*H47","v":0},0,{"$f":"E47*J47","v":0},null,null,null,2,null,null,null,null,null,null,null,null,null,null,null,1,1,1,null,null,null,null,null,null,null,null,null,null,null,null,null,null,null,null,null,null,null,null,null,null,1,{"$f":"IF(AZ47=1,G47,0)","v":0},{"$f":"IF(AZ47=2,G47,0)","v":0},{"$f":"IF(AZ47=3,G47,0)","v":0},{"$f":"IF(AZ47=4,G47,0)","v":0},{"$f":"IF(AZ47=5,G47,0)","v":0},null,null,null,null,null,null,null,null,null,null,null,null,null,null,null,null,null,null,null,null,null,1,1]
[null,null,"Položka obsahuje hloubení rýh traktorbagrem, naložení výkopku na dopravní prostředek pro svislé, nebo vodorovné přemístění, popř. přemístění výkopku do 3 m (po povrchu území), případné zajištění rypadel polštáři, udržování pracoviště a ochranu výkopiště proti stékání srážkové vody z okolního terénu i s jejím odvodněním, nebo odvedením, přesekání a odstranění kořenů ve výkopišti, odstranění napadávek, urovnání dna výkopu.",null,null,null,null,null,null,null,null,"Položka obsahuje hloubení rýh traktorbagrem, naložení výkopku na dopravní prostředek pro svislé, nebo vodorovné přemístění, popř. přemístění výkopku do 3 m (po povrchu území), případné zajištění rypadel polštáři, udržování pracoviště a ochranu výkopiště proti stékání srážkové vody z okolního terénu i s jejím odvodněním, nebo odvedením, přesekání a odstranění kořenů ve výkopišti, odstranění napadávek, urovnání dna výkopu.",null,null,3]
[null,null,"Vodovodní přípojky PE D32x3,0 mm + 10% rezerva:",null,0,null,null,null,null,null,null,null,"Vodovodní přípojky PE D32x3,0 mm + 10% rezerva:"]
[null,null,"Výkopy:",null,0,null,null,null,null,null,null,null,"Výkopy:"]
[null,null,"V hornině tř. 4 - 30%:133,5588*0,3",null,40.067599999999999,null,null,null,null,null,null,null,"V hornině tř. 4 - 30%:133,5588*0,3"]
[6,"132301219R00","Přípl.za lepivost,hloubení rýh 200cm,hor.4,STROJNĚ ","m3",20.033799999999999,null,{"$f":"E52*F52","v":0},0,{"$f":"E52*H52","v":0},0,{"$f":"E52*J52","v":0},null,null,null,2,null,null,null,null,null,null,null,null,null,null,null,1,1,1,null,null,null,null,null,null,null,null,null,null,null,null,null,null,null,null,null,null,null,null,null,null,1,{"$f":"IF(AZ52=1,G52,0)","v":0},{"$f":"IF(AZ52=2,G52,0)","v":0},{"$f":"IF(AZ52=3,G52,0)","v":0},{"$f":"IF(AZ52=4,G52,0)","v":0},{"$f":"IF(AZ52=5,G52,0)","v":0},null,null,null,null,null,null,null,null,null,null,null,null,null,null,null,null,null,null,null,null,null,1,1]
[null,null,"Vodovodní přípojky PE D32x3,0 mm + 10% rezerva:",null,0,null,null,null,null,null,null,null,"Vodovodní přípojky PE D32x3,0 mm + 10% rezerva:"]
[null,null,"Výkopy:",null,0,null,null,null,null,null,null,null,"Výkopy:"]
[null,null,"V hornině tř. 4 - 30%:133,5588*0,3*0,5",null,20.033799999999999,null,null,null,null,null,null,null,"V hornině tř. 4 - 30%:133,5588*0,3*0,5"]
[7,"132401211RRX","Hloubení rýh šířky do 200 cm v hor.5 STROJNĚ včetně případného dolamování ve vrstvě do 0,5 m","m3",13.3559,null,{"$f":"E56*F56","v":0},1.0410000000000001E-2,{"$f":"E56*H56","v":0.13903491900000001},0,{"$f":"E56*J56","v":0},null,null,null,2,null,null,null,null,null,null,null,null,null,null,null,1,1,1,null,null,null,null,null,null,null,null,null,null,null,null,null,null,null,null,null,null,null,null,null,null,1,{"$f":"IF(AZ56=1,G56,0)","v":0},{"$f":"IF(AZ56=2,G56,0)","v":0},{"$f":"IF(AZ56=3,G56,0)","v":0},{"$f":"IF(AZ56=4,G56,0)","v":0},{"$f":"IF(AZ56=5,G56,0)","v":0},null,null,null,null,null,null,null,null,null,null,null,null,null,null,null,null,null,null,null,null,null,1,1]
[null,null,"Položka obsahuje hloubení rýh traktorbagrem, naložení výkopku na dopravní prostředek pro svislé, nebo vodorovné přemístění, popř. přemístění výkopku do 3 m (po povrchu území), případné zajištění rypadel polštáři, udržování pracoviště a ochranu výkopiště proti stékání srážkové vody z okolního terénu i s jejím odvodněním, nebo odvedením, přesekání a odstranění kořenů ve výkopišti, odstranění napadávek, urovnání dna výkopu.včetně případného dolamování ve vrstvě do 0,5 m",null,null,null,null,null,null,null,null,"Položka obsahuje hloubení rýh traktorbagrem, naložení výkopku na dopravní prostředek pro svislé, nebo vodorovné přemístění, popř. přemístění výkopku do 3 m (po povrchu území), případné zajištění rypadel polštáři, udržování pracoviště a ochranu výkopiště proti stékání srážkové vody z okolního terénu i s jejím odvodněním, nebo odvedením, přesekání a odstranění kořenů ve výkopišti, odstranění napadávek, urovnání dna výkopu.včetně případného dolamování ve vrstvě do 0,5 m",null,null,3]
[null,null,"Vodovodní přípojky PE D32x3,0 mm + 10% rezerva:",null,0,null,null,null,null,null,null,null,"Vodovodní přípojky PE D32x3,0 mm + 10% rezerva:"]
[null,null,"Výkopy:",null,0,null,null,null,null,null,null,null,"Výkopy:"]
[null,null,"V hornině tř. 5 - 10%:133,5588*0,1",null,13.3559,null,null,null,null,null,null,null,"V hornině tř. 5 - 10%:133,5588*0,1"]
[8,"151101101R00","Pažení a rozepření stěn rýh - příložné - hl.do 2 m ","m2",364.75,null,{"$f":"E61*F61","v":0},9.8999999999999999E-4,{"$f":"E61*H61","v":0.36110249999999999},0,{"$f":"E61*J61","v":0},null,null,null,2,null,null,null,null,null,null,null,null,null,null,null,1,1,1,null,null,null,null,null,null,null,null,null,null,null,null,null,null,null,null,null,null,null,null,null,null,1,{"$f":"IF(AZ61=1,G61,0)","v":0},{"$f":"IF(AZ61=2,G61,0)","v":0},{"$f":"IF(AZ61=3,G61,0)","v":0},{"$f":"IF(AZ61=4,G61,0)","v":0},{"$f":"IF(AZ61=5,G61,0)","v":0},null,null,null,null,null,null,null,null,null,null,null,null,null,null,null,null,null,null,null,null,null,1,1]
[null,null,"Vodovodní přípojky PE D32x3,0 mm + 10% rezerva:",null,0,null,null,null,null,null,null,null,"Vodovodní přípojky PE D32x3,0 mm + 10% rezerva:"]
[null,null,"Výkopy:",null,0,null,null,null,null,null,null,null,"Výkopy:"]
[null,null,"Proměrná hloubka výkopů 1,75 m:",null,0,null,null,null,null,null,null,null,"Proměrná hloubka výkopů 1,75 m:"]
[null,null,"Přeložka řadu \"V1\" TLT DN100:",null,0,null,null,null,null,null,null,null,"Přeložka řadu \"V1\" TLT DN100:"]
[null,null,"VP 1 až 4 (4 kusy):28,50*1,75*2",null,99.75,null,null,null,null,null,null,null,"VP 1 až 4 (4 kusy):28,50*1,75*2"]
[null,null,"Vodovodní řad PE D 110x10,0 mm:",null,0,null,null,null,null,null,null,null,"Vodovodní řad PE D 110x10,0 mm:"]
[null,null,"VP 5 až 9 a VP14 a 15 (7 kusů):36,50*1,75*2",null,127.75,null,null,null,null,null,null,null,"VP 5 až 9 a VP14 a 15 (7 kusů):36,50*1,75*2"]
[null,null,"Přeložka řadu \"V3\" PE D110x10,0 mm a PE D160x14,6 mm:",null,0,null,null,null,null,null,null,null,"Přeložka řadu \"V3\" PE D110x10,0 mm a PE D160x14,6 mm:"]
[null,null,"VP 10 (1 kus):2,50*1,75*2",null,8.75,null,null,null,null,null,null,null,"VP 10 (1 kus):2,50*1,75*2"]
[null,null,"Přeložka řadu \"V4\" PE D90x8,2 mm:",null,0,null,null,null,null,null,null,null,"Přeložka řadu \"V4\" PE D90x8,2 mm:"]
[null,null,"VP11 až 13 (3 kusy):11,00*1,75*2",null,38.5,null,null,null,null,null,null,null,"VP11 až 13 (3 kusy):11,00*1,75*2"]
[null,null,"Výkopy pro VŠ:1,50*2,00*2*15",null,90,null,null,null,null,null,null,null,"Výkopy pro VŠ:1,50*2,00*2*15"]
[9,"151101111R00","Odstranění pažení stěn rýh - příložné - hl. do 2 m ","m2",364.75,null,{"$f":"E74*F74","v":0},0,{"$f":"E74*H74","v":0},0,{"$f":"E74*J74","v":0},null,null,null,2,null,null,null,null,null,null,null,null,null,null,null,1,1,1,null,null,null,null,null,null,null,null,null,null,null,null,null,null,null,null,null,null,null,null,null,null,1,{"$f":"IF(AZ74=1,G74,0)","v":0},{"$f":"IF(AZ74=2,G74,0)","v":0},{"$f":"IF(AZ74=3,G74,0)","v":0},{"$f":"IF(AZ74=4,G74,0)","v":0},{"$f":"IF(AZ74=5,G74,0)","v":0},null,null,null,null,null,null,null,null,null,null,null,null,null,null,null,null,null,null,null,null,null,1,1]
[null,null,"Vodovodní přípojky PE D32x3,0 mm + 10% rezerva:",null,0,null,null,null,null,null,null,null,"Vodovodní přípojky PE D32x3,0 mm + 10% rezerva:"]
[null,null,"Výkopy:",null,0,null,null,null,null,null,null,null,"Výkopy:"]
[null,null,"Proměrná hloubka výkopů 1,75 m:",null,0,null,null,null,null,null,null,null,"Proměrná hloubka výkopů 1,75 m:"]
[null,null,"Přeložka řadu \"V1\" TLT DN100:",null,0,null,null,null,null,null,null,null,"Přeložka řadu \"V1\" TLT DN100:"]
[null,null,"VP 1 až 4 (4 kusy):28,50*1,75*2",null,99.75,null,null,null,null,null,null,null,"VP 1 až 4 (4 kusy):28,50*1,75*2"]
[null,null,"Vodovodní řad PE D 110x10,0 mm:",null,0,null,null,null,null,null,null,null,"Vodovodní řad PE D 110x10,0 mm:"]
[null,null,"VP 5 až 9 a VP14 a 15 (7 kusů):36,50*1,75*2",null,127.75,null,null,null,null,null,null,null,"VP 5 až 9 a VP14 a 15 (7 kusů):36,50*1,75*2"]
[null,null,"Přeložka řadu \"V3\" PE D110x10,0 mm a PE D160x14,6 mm:",null,0,null,null,null,null,null,null,null,"Přeložka řadu \"V3\" PE D110x10,0 mm a PE D160x14,6 mm:"]
[null,null,"VP 10 (1 kus):2,50*1,75*2",null,8.75,null,null,null,null,null,null,null,"VP 10 (1 kus):2,50*1,75*2"]
[null,null,"Přeložka řadu \"V4\" PE D90x8,2 mm:",null,0,null,null,null,null,null,null,null,"Přeložka řadu \"V4\" PE D90x8,2 mm:"]
[null,null,"VP11 až 13 (3 kusy):11,00*1,75*2",null,38.5,null,null,null,null,null,null,null,"VP11 až 13 (3 kusy):11,00*1,75*2"]
[null,null,"Výkopy pro VŠ:1,50*2,00*2*15",null,90,null,null,null,null,null,null,null,"Výkopy pro VŠ:1,50*2,00*2*15"]
[10,"162701105RSZ","Vodorovné přemístění výkopku z hor.1-7 na skládku zhotovitele","m3",100.73950000000001,null,{"$f":"E87*F87","v":0},0,{"$f":"E87*H87","v":0},0,{"$f":"E87*J87","v":0},null,null,null,2,null,null,null,null,null,null,null,null,null,null,null,1,1,1,null,null,null,null,null,null,null,null,null,null,null,null,null,null,null,null,null,null,null,null,null,null,1,{"$f":"IF(AZ87=1,G87,0)","v":0},{"$f":"IF(AZ87=2,G87,0)","v":0},{"$f":"IF(AZ87=3,G87,0)","v":0},{"$f":"IF(AZ87=4,G87,0)","v":0},{"$f":"IF(AZ87=5,G87,0)","v":0},null,null,null,null,null,null,null,null,null,null,null,null,null,null,null,null,null,null,null,null,null,1,1]
[null,null,"Vodovodní přípojky PE D32x3,0 mm + 10% rezerva:",null,0,null,null,null,null,null,null,null,"Vodovodní přípojky PE D32x3,0 mm + 10% rezerva:"]
[null,null,"Výkopy:",null,0,null,null,null,null,null,null,null,"Výkopy:"]
[null,null,"V hornině tř. 3 - 5 :133,5588",null,133.55879999999999,null,null,null,null,null,null,null,"V hornině tř. 3 - 5 :133,5588"]
[null,null,"Odpočet zásypů zeminou:-32,8193",null,-32.819299999999998,null,null,null,null,null,null,null,"Odpočet zásypů zeminou:-32,8193"]
[11,"174101101R00","Zásyp jam, rýh, šachet se zhutněním ","m3",74.1845,null,{"$f":"E92*F92","v":0},0,{"$f":"E92*H92","v":0},0,{"$f":"E92*J92","v":0},null,null,null,2,null,null,null,null,null,null,null,null,null,null,null,1,1,1,null,null,null,null,null,null,null,null,null,null,null,null,null,null,null,null,null,null,null,null,null,null,1,{"$f":"IF(AZ92=1,G92,0)","v":0},{"$f":"IF(AZ92=2,G92,0)","v":0},{"$f":"IF(AZ92=3,G92,0)","v":0},{"$f":"IF(AZ92=4,G92,0)","v":0},{"$f":"IF(AZ92=5,G92,0)","v":0},null,null,null,null,null,null,null,null,null,null,null,null,null,null,null,null,null,null,null,null,null,1,1]
[null,null,"Položka obsahuje strojní přemístění materiálu pro zásyp ze vzdálenosti do 10 m od okraje zásypu.",null,null,null,null,null,null,null,null,"Položka obsahuje strojní přemístění materiálu pro zásyp ze vzdálenosti do 10 m od okraje zásypu.",null,null,3]
[null,null,null,null,null,null,null,null,null,null,null,null,null,null,3]
[null,null,"Vodovodní přípojky PE D32x3,0 mm + 10% rezerva:",null,0,null,null,null,null,null,null,null,"Vodovodní přípojky PE D32x3,0 mm + 10% rezerva:"]
[null,null,"Zásypy ŠD fr. 0-63 mm:41,3652",null,41.365200000000002,null,null,null,null,null,null,null,"Zásypy ŠD fr. 0-63 mm:41,3652"]
[null,null,"Začátek provozního součtu",null,0,null,null,null,null,null,null,null,"Začátek provozního součtu"]
[null,null,"Výkopy:",null,0,null,null,null,null,null,null,null,"Výkopy:"]
[null,null,"Proměrná hloubka výkopů 1,75 m:",null,0,null,null,null,null,null,null,null,"Proměrná hloubka výkopů 1,75 m:"]
[null,null,"Přeložka řadu \"V1\" TLT DN100:",null,0,null,null,null,null,null,null,null,"Přeložka řadu \"V1\" TLT DN100:"]
[null,null,"VP 1 až 4 (4 kusy):28,50*0,70*1,75*0,9",null,31.421199999999999,null,null,null,null,null,null,null,"VP 1 až 4 (4 kusy):28,50*0,70*1,75*0,9"]
[null,null,"Vodovodní řad PE D 110x10,0 mm:",null,0,null,null,null,null,null,null,null,"Vodovodní řad PE D 110x10,0 mm:"]
[null,null,"VP 5 až 9 a VP14 a 15 (7 kusů):36,50*0,70*1,75*0,9",null,40.241199999999999,null,null,null,null,null,null,null,"VP 5 až 9 a VP14 a 15 (7 kusů):36,50*0,70*1,75*0,9"]
[null,null,"Přeložka řadu \"V3\" PE D110x10,0 mm a PE D160x14,6 mm:",null,0,null,null,null,null,null,null,null,"Přeložka řadu \"V3\" PE D110x10,0 mm a PE D160x14,6 mm:"]
[null,null,"VP 10 (1 kus):2,50*0,70*1,75*0,9",null,2.7562000000000002,null,null,null,null,null,null,null,"VP 10 (1 kus):2,50*0,70*1,75*0,9"]
[null,null,"Přeložka řadu \"V4\" PE D90x8,2 mm:",null,0,null,null,null,null,null,null,null,"Přeložka řadu \"V4\" PE D90x8,2 mm:"]
[null,null,"VP11 až 13 (3 kusy):11,00*0,70*1,75*0,9",null,12.1275,null,null,null,null,null,null,null,"VP11 až 13 (3 kusy):11,00*0,70*1,75*0,9"]
[null,null,"Odpočet objemu konstrukcí komunikace z 90% délky:-(28,50+36,50+2,50+11,00)*0,9*0,70*0,45",null,-22.254799999999999,null,null,null,null,null,null,null,"Odpočet objemu konstrukcí komunikace z 90% délky:-(28,50+36,50+2,50+11,00)*0,9*0,70*0,45"]
[null,null,"Odpočet objemu lože, potrubí a obsypů:-(25,50+36,50+2,50+11,00)*0,70*(0,15+0,032+0,30)*0,9",null,-22.926300000000001,null,null,null,null,null,null,null,"Odpočet objemu lože, potrubí a obsypů:-(25,50+36,50+2,50+11,00)*0,70*(0,15+0,032+0,30)*0,9"]
[null,null,"Konec provozního součtu",null,41.364999999999995,null,null,null,null,null,null,null,"Konec provozního součtu"]
[null,null,"Zásypy zeminou:32,8193",null,32.819299999999998,null,null,null,null,null,null,null,"Zásypy zeminou:32,8193"]
[null,null,"Začátek provozního součtu",null,0,null,null,null,null,null,null,null,"Začátek provozního součtu"]
[null,null,"Výkopy:",null,0,null,null,null,null,null,null,null,"Výkopy:"]
[null,null,"Proměrná hloubka výkopů 1,75 m:",null,0,null,null,null,null,null,null,null,"Proměrná hloubka výkopů 1,75 m:"]
[null,null,"Přeložka řadu \"V1\" TLT DN100:",null,0,null,null,null,null,null,null,null,"Přeložka řadu \"V1\" TLT DN100:"]
[null,null,"VP 1 až 4 (4 kusy):28,50*0,70*1,75*0,1",null,3.4912000000000001,null,null,null,null,null,null,null,"VP 1 až 4 (4 kusy):28,50*0,70*1,75*0,1"]
[null,null,"Vodovodní řad PE D 110x10,0 mm:",null,0,null,null,null,null,null,null,null,"Vodovodní řad PE D 110x10,0 mm:"]
[null,null,"VP 5 až 9 a VP14 a 15 (7 kusů):36,50*0,70*1,75*0,1",null,4.4711999999999996,null,null,null,null,null,null,null,"VP 5 až 9 a VP14 a 15 (7 kusů):36,50*0,70*1,75*0,1"]
[null,null,"Přeložka řadu \"V3\" PE D110x10,0 mm a PE D160x14,6 mm:",null,0,null,null,null,null,null,null,null,"Přeložka řadu \"V3\" PE D110x10,0 mm a PE D160x14,6 mm:"]
[null,null,"VP 10 (1 kus):2,50*0,70*1,75*0,10",null,0.30630000000000002,null,null,null,null,null,null,null,"VP 10 (1 kus):2,50*0,70*1,75*0,10"]
[null,null,"Přeložka řadu \"V4\" PE D90x8,2 mm:",null,0,null,null,null,null,null,null,null,"Přeložka řadu \"V4\" PE D90x8,2 mm:"]
[null,null,"VP11 až 13 (3 kusy):11,00*0,70*1,75*0,10",null,1.3474999999999999,null,null,null,null,null,null,null,"VP11 až 13 (3 kusy):11,00*0,70*1,75*0,10"]
[null,null,"Výkopy pro VŠ:1,50*1,50*2,00*15",null,67.5,null,null,null,null,null,null,null,"Výkopy pro VŠ:1,50*1,50*2,00*15"]
[null,null,"Odpočet objemu ornice z 10% déjka a VŠ:-(28,50+36,50+2,50+11,00)*0,1*0,70*0,20-1,50*1,50*0,20*15",null,-7.8490000000000002,null,null,null,null,null,null,null,"Odpočet objemu ornice z 10% déjka a VŠ:-(28,50+36,50+2,50+11,00)*0,1*0,70*0,20-1,50*1,50*0,20*15"]
[null,null,"Odpočet objemu lože, potrubí a obsypů:-(25,50+36,50+2,50+11,00)*0,70*(0,15+0,032+0,30)*0,1",null,-2.5474000000000001,null,null,null,null,null,null,null,"Odpočet objemu lože, potrubí a obsypů:-(25,50+36,50+2,50+11,00)*0,70*(0,15+0,032+0,30)*0,1"]
[null,null,"Odpočet objemu VŠ:-33,9006",null,-33.900599999999997,null,null,null,null,null,null,null,"Odpočet objemu VŠ:-33,9006"]
[null,null,"Konec provozního součtu",null,32.819199999999995,null,null,null,null,null,null,null,"Konec provozního součtu"]
[12,"175101101R00","Obsyp potrubí bez prohození sypaniny ","m3",18.180299999999999,null,{"$f":"E128*F128","v":0},0,{"$f":"E128*H128","v":0},0,{"$f":"E128*J128","v":0},null,null,null,2,null,null,null,null,null,null,null,null,null,null,null,1,1,1,null,null,null,null,null,null,null,null,null,null,null,null,null,null,null,null,null,null,null,null,null,null,1,{"$f":"IF(AZ128=1,G128,0)","v":0},{"$f":"IF(AZ128=2,G128,0)","v":0},{"$f":"IF(AZ128=3,G128,0)","v":0},{"$f":"IF(AZ128=4,G128,0)","v":0},{"$f":"IF(AZ128=5,G128,0)","v":0},null,null,null,null,null,null,null,null,null,null,null,null,null,null,null,null,null,null,null,null,null,1,1]
[null,null,"Vodovodní přípojky PE D32x3,0 mm + 10% rezerva:",null,0,null,null,null,null,null,null,null,"Vodovodní přípojky PE D32x3,0 mm + 10% rezerva:"]
[null,null,"Přeložka řadu \"V1\" TLT DN100:",null,0,null,null,null,null,null,null,null,"Přeložka řadu \"V1\" TLT DN100:"]
[null,null,"VP 1 až 4 (4 kusy):28,50*(0,70*(0,032+0,30)-0,016^2*Pi)",null,6.6005000000000003,null,null,null,null,null,null,null,"VP 1 až 4 (4 kusy):28,50*(0,70*(0,032+0,30)-0,016^2*Pi)"]
[null,null,"Vodovodní řad PE D 110x10,0 mm:",null,0,null,null,null,null,null,null,null,"Vodovodní řad PE D 110x10,0 mm:"]
[null,null,"VP 5 až 9 a VP14 a 15 (7 kusů):36,50*(0,70*(0,032+0,30)-0,016^2*Pi)",null,8.4532000000000007,null,null,null,null,null,null,null,"VP 5 až 9 a VP14 a 15 (7 kusů):36,50*(0,70*(0,032+0,30)-0,016^2*Pi)"]
[null,null,"Přeložka řadu \"V3\" PE D110x10,0 mm a PE D160x14,6 mm:",null,0,null,null,null,null,null,null,null,"Přeložka řadu \"V3\" PE D110x10,0 mm a PE D160x14,6 mm:"]
[null,null,"VP 10 (1 kus):2,50*(0,70*(0,032+0,30)-0,016^2*Pi)",null,0.57899999999999996,null,null,null,null,null,null,null,"VP 10 (1 kus):2,50*(0,70*(0,032+0,30)-0,016^2*Pi)"]
[null,null,"Přeložka řadu \"V4\" PE D90x8,2 mm:",null,0,null,null,null,null,null,null,null,"Přeložka řadu \"V4\" PE D90x8,2 mm:"]
[null,null,"VP11 až 13 (3 kusy):11,00*(0,70*(0,032+0,30)-0,016^2*Pi)",null,2.5476000000000001,null,null,null,null,null,null,null,"VP11 až 13 (3 kusy):11,00*(0,70*(0,032+0,30)-0,016^2*Pi)"]
[13,"199000002R00","Poplatek za skládku horniny 1- 7 č. dle katal. odpadů 17 05 04","m3",100.73950000000001,null,{"$f":"E138*F138","v":0},0,{"$f":"E138*H138","v":0},0,{"$f":"E138*J138","v":0},null,null,null,2,null,null,null,null,null,null,null,null,null,null,null,1,1,1,null,null,null,null,null,null,null,null,null,null,null,null,null,null,null,null,null,null,null,null,null,null,1,{"$f":"IF(AZ138=1,G138,0)","v":0},{"$f":"IF(AZ138=2,G138,0)","v":0},{"$f":"IF(AZ138=3,G138,0)","v":0},{"$f":"IF(AZ138=4,G138,0)","v":0},{"$f":"IF(AZ138=5,G138,0)","v":0},null,null,null,null,null,null,null,null,null,null,null,null,null,null,null,null,null,null,null,null,null,1,1]
[null,null,"Vodovodní přípojky PE D32x3,0 mm + 10% rezerva:",null,0,null,null,null,null,null,null,null,"Vodovodní přípojky PE D32x3,0 mm + 10% rezerva:"]
[null,null,"Výkopy:",null,0,null,null,null,null,null,null,null,"Výkopy:"]
[null,null,"V hornině tř. 3 - 5 :133,5588",null,133.55879999999999,null,null,null,null,null,null,null,"V hornině tř. 3 - 5 :133,5588"]
[null,null,"Odpočet zásypů zeminou:-32,8193",null,-32.819299999999998,null,null,null,null,null,null,null,"Odpočet zásypů zeminou:-32,8193"]
[14,"58337308.R","Štěrkopísek frakce 0-2 tř.B","t",36.228400000000001,null,{"$f":"E143*F143","v":0},1,{"$f":"E143*H143","v":36.228400000000001},null,{"$f":"E143*J143","v":0},null,null,null,2,null,null,null,null,null,null,null,null,null,null,null,3,1,"58337308.R",null,null,null,null,null,null,null,null,null,null,null,null,null,null,null,null,null,null,null,null,null,null,1,{"$f":"IF(AZ143=1,G143,0)","v":0},{"$f":"IF(AZ143=2,G143,0)","v":0},{"$f":"IF(AZ143=3,G143,0)","v":0},{"$f":"IF(AZ143=4,G143,0)","v":0},{"$f":"IF(AZ143=5,G143,0)","v":0},null,null,null,null,null,null,null,null,null,null,null,null,null,null,null,null,null,null,null,null,null,3,1]
[null,null,"Vodovodní přípojky PE D32x3,0 mm + 10% rezerva:",null,0,null,null,null,null,null,null,null,"Vodovodní přípojky PE D32x3,0 mm + 10% rezerva:"]
[null,null,"Přeložka řadu \"V1\" TLT DN100:",null,0,null,null,null,null,null,null,null,"Přeložka řadu \"V1\" TLT DN100:"]
[null,null,"VP 1 až 4 (4 kusy):28,50*(0,70*(0,032+0,30)-0,016^2*Pi)*1,973*1,01",null,13.153,null,null,null,null,null,null,null,"VP 1 až 4 (4 kusy):28,50*(0,70*(0,032+0,30)-0,016^2*Pi)*1,973*1,01"]
[null,null,"Vodovodní řad PE D 110x10,0 mm:",null,0,null,null,null,null,null,null,null,"Vodovodní řad PE D 110x10,0 mm:"]
[null,null,"VP 5 až 9 a VP14 a 15 (7 kusů):36,50*(0,70*(0,032+0,30)-0,016^2*Pi)*1,973*1,01",null,16.844999999999999,null,null,null,null,null,null,null,"VP 5 až 9 a VP14 a 15 (7 kusů):36,50*(0,70*(0,032+0,30)-0,016^2*Pi)*1,973*1,01"]
[null,null,"Přeložka řadu \"V3\" PE D110x10,0 mm a PE D160x14,6 mm:",null,0,null,null,null,null,null,null,null,"Přeložka řadu \"V3\" PE D110x10,0 mm a PE D160x14,6 mm:"]
[null,null,"VP 10 (1 kus):2,50*(0,70*(0,032+0,30)-0,016^2*Pi)*1,973*1,01",null,1.1537999999999999,null,null,null,null,null,null,null,"VP 10 (1 kus):2,50*(0,70*(0,032+0,30)-0,016^2*Pi)*1,973*1,01"]
[null,null,"Přeložka řadu \"V4\" PE D90x8,2 mm:",null,0,null,null,null,null,null,null,null,"Přeložka řadu \"V4\" PE D90x8,2 mm:"]
[null,null,"VP11 až 13 (3 kusy):11,00*(0,70*(0,032+0,30)-0,016^2*Pi)*1,973*1,01",null,5.0766,null,null,null,null,null,null,null,"VP11 až 13 (3 kusy):11,00*(0,70*(0,032+0,30)-0,016^2*Pi)*1,973*1,01"]
[15,"58344197R","Štěrkodrtě frakce 0-63 A","t",78.251800000000003,null,{"$f":"E153*F153","v":0},1,{"$f":"E153*H153","v":78.251800000000003},null,{"$f":"E153*J153","v":0},null,null,null,2,null,null,null,null,null,null,null,null,null,null,null,3,1,"58344197R",null,null,null,null,null,null,null,null,null,null,null,null,null,null,null,null,null,null,null,null,null,null,1,{"$f":"IF(AZ153=1,G153,0)","v":0},{"$f":"IF(AZ153=2,G153,0)","v":0},{"$f":"IF(AZ153=3,G153,0)","v":0},{"$f":"IF(AZ153=4,G153,0)","v":0},{"$f":"IF(AZ153=5,G153,0)","v":0},null,null,null,null,null,null,null,null,null,null,null,null,null,null,null,null,null,null,null,null,null,3,1]
[null,null,"Vodovodní přípojky PE D32x3,0 mm + 10% rezerva:",null,0,null,null,null,null,null,null,null,"Vodovodní přípojky PE D32x3,0 mm + 10% rezerva:"]
[null,null,"Zásypy ŠD fr. 0-63 mm:41,3652*1,873*1,01",null,78.251800000000003,null,null,null,null,null,null,null,"Zásypy ŠD fr. 0-63 mm:41,3652*1,873*1,01"]
[null,"Celkem za","1 Zemní práce",null,null,null,{"$f":"SUM(G7:G155)","v":0},null,{"$f":"SUM(I7:I155)","v":114.98033741899999},null,{"$f":"SUM(K7:K155)","v":0},null,null,null,4,null,null,null,null,null,null,null,null,null,null,null,null,null,null,null,null,null,null,null,null,null,null,null,null,null,null,null,null,null,null,null,null,null,null,null,null,null,{"$f":"SUM(BA7:BA155)","v":0},{"$f":"SUM(BB7:BB155)","v":0},{"$f":"SUM(BC7:BC155)","v":0},{"$f":"SUM(BD7:BD155)","v":0},{"$f":"SUM(BE7:BE155)","v":0}]
["Díl:","45","Podkladní a vedlejší konstrukce",null,null,null,null,null,null,null,null,null,null,null,1]
[16,"451572111R00","Lože pod potrubí z kameniva těženého 0 - 4 mm ","m3",5.4950000000000001,null,{"$f":"E158*F158","v":0},0.43051,{"$f":"E158*H158","v":2.3656524500000002},0,{"$f":"E158*J158","v":0},null,null,null,2,null,null,null,null,null,null,null,null,null,null,null,1,1,1,null,null,null,null,null,null,null,null,null,null,null,null,null,null,null,null,null,null,null,null,null,null,1,{"$f":"IF(AZ158=1,G158,0)","v":0},{"$f":"IF(AZ158=2,G158,0)","v":0},{"$f":"IF(AZ158=3,G158,0)","v":0},{"$f":"IF(AZ158=4,G158,0)","v":0},{"$f":"IF(AZ158=5,G158,0)","v":0},null,null,null,null,null,null,null,null,null,null,null,null,null,null,null,null,null,null,null,null,null,1,1]
[null,null,"Vodovodní přípojky PE D32x3,0 mm + 10% rezerva:",null,0,null,null,null,null,null,null,null,"Vodovodní přípojky PE D32x3,0 mm + 10% rezerva:"]
[null,null,"Přeložka řadu \"V1\" TLT DN100:",null,0,null,null,null,null,null,null,null,"Přeložka řadu \"V1\" TLT DN100:"]
[null,null,"VP 1 až 4 (4 kusy):28,50*0,70*0,10",null,1.9950000000000001,null,null,null,null,null,null,null,"VP 1 až 4 (4 kusy):28,50*0,70*0,10"]
[null,null,"Vodovodní řad PE D 110x10,0 mm:",null,0,null,null,null,null,null,null,null,"Vodovodní řad PE D 110x10,0 mm:"]
[null,null,"VP 5 až 9 a VP14 a 15 (7 kusů):36,50*0,70*0,10",null,2.5550000000000002,null,null,null,null,null,null,null,"VP 5 až 9 a VP14 a 15 (7 kusů):36,50*0,70*0,10"]
[null,null,"Přeložka řadu \"V3\" PE D110x10,0 mm a PE D160x14,6 mm:",null,0,null,null,null,null,null,null,null,"Přeložka řadu \"V3\" PE D110x10,0 mm a PE D160x14,6 mm:"]
[null,null,"VP 10 (1 kus):2,50*0,70*0,10",null,0.17499999999999999,null,null,null,null,null,null,null,"VP 10 (1 kus):2,50*0,70*0,10"]
[null,null,"Přeložka řadu \"V4\" PE D90x8,2 mm:",null,0,null,null,null,null,null,null,null,"Přeložka řadu \"V4\" PE D90x8,2 mm:"]
[null,null,"VP11 až 13 (3 kusy):11,00*0,70*0,10",null,0.77,null,null,null,null,null,null,null,"VP11 až 13 (3 kusy):11,00*0,70*0,10"]
[null,"Celkem za","45 Podkladní a vedlejší konstrukce",null,null,null,{"$f":"SUM(G157:G167)","v":0},null,{"$f":"SUM(I157:I167)","v":2.3656524500000002},null,{"$f":"SUM(K157:K167)","v":0},null,null,null,4,null,null,null,null,null,null,null,null,null,null,null,null,null,null,null,null,null,null,null,null,null,null,null,null,null,null,null,null,null,null,null,null,null,null,null,null,null,{"$f":"SUM(BA157:BA167)","v":0},{"$f":"SUM(BB157:BB167)","v":0},{"$f":"SUM(BC157:BC167)","v":0},{"$f":"SUM(BD157:BD167)","v":0},{"$f":"SUM(BE157:BE167)","v":0}]
["Díl:","5","Komunikace",null,null,null,null,null,null,null,null,null,null,null,1]
[17,"572701119RRX","Provizorní zásyp rýh kam. hrubě drceným nebo recyk s následným odstraněním a odvozem","m3",22.254799999999999,null,{"$f":"E170*F170","v":0},1.4804999999999999,{"$f":"E170*H170","v":32.948231399999997},0,{"$f":"E170*J170","v":0},null,null,null,2,null,null,null,null,null,null,null,null,null,null,null,1,1,1,null,null,null,null,null,null,null,null,null,null,null,null,null,null,null,null,null,null,null,null,null,null,1,{"$f":"IF(AZ170=1,G170,0)","v":0},{"$f":"IF(AZ170=2,G170,0)","v":0},{"$f":"IF(AZ170=3,G170,0)","v":0},{"$f":"IF(AZ170=4,G170,0)","v":0},{"$f":"IF(AZ170=5,G170,0)","v":0},null,null,null,null,null,null,null,null,null,null,null,null,null,null,null,null,null,null,null,null,null,1,1]
[null,null,"Vodovodní přípojky PE D32x3,0 mm + 10% rezerva:",null,0,null,null,null,null,null,null,null,"Vodovodní přípojky PE D32x3,0 mm + 10% rezerva:"]
[null,null,"Přeložka řadu \"V1\" TLT DN100:",null,0,null,null,null,null,null,null,null,"Přeložka řadu \"V1\" TLT DN100:"]
[null,null,"VP 1 až 4 (4 kusy):",null,0,null,null,null,null,null,null,null,"VP 1 až 4 (4 kusy):"]
[null,null,"Vodovodní řad PE D 110x10,0 mm:",null,0,null,null,null,null,null,null,null,"Vodovodní řad PE D 110x10,0 mm:"]
[null,null,"VP 5 až 9 a VP14 a 15 (7 kusů):",null,0,null,null,null,null,null,null,null,"VP 5 až 9 a VP14 a 15 (7 kusů):"]
[null,null,"Přeložka řadu \"V3\" PE D110x10,0 mm a PE D160x14,6 mm:",null,0,null,null,null,null,null,null,null,"Přeložka řadu \"V3\" PE D110x10,0 mm a PE D160x14,6 mm:"]
[null,null,"VP 10 (1 kus):",null,0,null,null,null,null,null,null,null,"VP 10 (1 kus):"]
[null,null,"Přeložka řadu \"V4\" PE D90x8,2 mm:",null,0,null,null,null,null,null,null,null,"Přeložka řadu \"V4\" PE D90x8,2 mm:"]
[null,null,"VP11 až 13 (3 kusy):",null,0,null,null,null,null,null,null,null,"VP11 až 13 (3 kusy):"]
[null,null,"Objem konstrukcí komunikace z 90% délky-(28,50+36,50+2,50+11,00)*0,9*0,70*0,45:(28,50+36,50+2,50+11,00)*0,9*0,70*0,45",null,22.254799999999999,null,null,null,null,null,null,null,"Objem konstrukcí komunikace z 90% délky-(28,50+36,50+2,50+11,00)*0,9*0,70*0,45:(28,50+36,50+2,50+11,00)*0,9*0,70*0,45"]
[null,"Celkem za","5 Komunikace",null,null,null,{"$f":"SUM(G169:G180)","v":0},null,{"$f":"SUM(I169:I180)","v":32.948231399999997},null,{"$f":"SUM(K169:K180)","v":0},null,null,null,4,null,null,null,null,null,null,null,null,null,null,null,null,null,null,null,null,null,null,null,null,null,null,null,null,null,null,null,null,null,null,null,null,null,null,null,null,null,{"$f":"SUM(BA169:BA180)","v":0},{"$f":"SUM(BB169:BB180)","v":0},{"$f":"SUM(BC169:BC180)","v":0},{"$f":"SUM(BD169:BD180)","v":0},{"$f":"SUM(BE169:BE180)","v":0}]
["Díl:","8","Trubní vedení",null,null,null,null,null,null,null,null,null,null,null,1]
[18,"871161121R00","Montáž trubek polyetylenových ve výkopu d 32 mm ","m",78.5,null,{"$f":"E183*F183","v":0},0,{"$f":"E183*H183","v":0},0,{"$f":"E183*J183","v":0},null,null,null,2,null,null,null,null,null,null,null,null,null,null,null,1,1,1,null,null,null,null,null,null,null,null,null,null,null,null,null,null,null,null,null,null,null,null,null,null,1,{"$f":"IF(AZ183=1,G183,0)","v":0},{"$f":"IF(AZ183=2,G183,0)","v":0},{"$f":"IF(AZ183=3,G183,0)","v":0},{"$f":"IF(AZ183=4,G183,0)","v":0},{"$f":"IF(AZ183=5,G183,0)","v":0},null,null,null,null,null,null,null,null,null,null,null,null,null,null,null,null,null,null,null,null,null,1,1]
[null,null,"V položce je uvažováno použití svitku. ",null,null,null,null,null,null,null,null,"V položce je uvažováno použití svitku. ",null,null,3]
[null,null,"Vodovodní přípojky PE D32x3,0 mm + 10% rezerva:",null,0,null,null,null,null,null,null,null,"Vodovodní přípojky PE D32x3,0 mm + 10% rezerva:"]
[null,null,"Přeložka řadu \"V1\" TLT DN100:",null,0,null,null,null,null,null,null,null,"Přeložka řadu \"V1\" TLT DN100:"]
[null,null,"VP 1 až 4 (4 kusy):28,50",null,28.5,null,null,null,null,null,null,null,"VP 1 až 4 (4 kusy):28,50"]
[null,null,"Vodovodní řad PE D 110x10,0 mm:",null,0,null,null,null,null,null,null,null,"Vodovodní řad PE D 110x10,0 mm:"]
[null,null,"VP 5 až 9 a VP14 a 15 (7 kusů):36,50",null,36.5,null,null,null,null,null,null,null,"VP 5 až 9 a VP14 a 15 (7 kusů):36,50"]
[null,null,"Přeložka řadu \"V3\" PE D110x10,0 mm a PE D160x14,6 mm:",null,0,null,null,null,null,null,null,null,"Přeložka řadu \"V3\" PE D110x10,0 mm a PE D160x14,6 mm:"]
[null,null,"VP 10 (1 kus):2,50",null,2.5,null,null,null,null,null,null,null,"VP 10 (1 kus):2,50"]
[null,null,"Přeložka řadu \"V4\" PE D90x8,2 mm:",null,0,null,null,null,null,null,null,null,"Přeložka řadu \"V4\" PE D90x8,2 mm:"]
[null,null,"VP11 až 13 (3 kusy):11,00",null,11,null,null,null,null,null,null,null,"VP11 až 13 (3 kusy):11,00"]
[19,"891183439RX0","Přepojení potrubí PE na přípojkách D 32 včetně dodávky přepojovací tvarovky","kus",15,null,{"$f":"E194*F194","v":0},4.6000000000000001E-4,{"$f":"E194*H194","v":6.8999999999999999E-3},0,{"$f":"E194*J194","v":0},null,null,null,2,null,null,null,null,null,null,null,null,null,null,null,1,1,1,null,null,null,null,null,null,null,null,null,null,null,null,null,null,null,null,null,null,null,null,null,null,1,{"$f":"IF(AZ194=1,G194,0)","v":0},{"$f":"IF(AZ194=2,G194,0)","v":0},{"$f":"IF(AZ194=3,G194,0)","v":0},{"$f":"IF(AZ194=4,G194,0)","v":0},{"$f":"IF(AZ194=5,G194,0)","v":0},null,null,null,null,null,null,null,null,null,null,null,null,null,null,null,null,null,null,null,null,null,1,1]
[null,null,"Položka obsahuje přerušení stávajícího potrubí, montáž a dodávku příslušné tvarovky pro propojení stávajícího potrubí (PE, ocel a pod.)  s novým potrubím (PE D 32x3,0 mm) přípojky  D 32",null,null,null,null,null,null,null,null,"Položka obsahuje přerušení stávajícího potrubí, montáž a dodávku příslušné tvarovky pro propojení stávajícího potrubí (PE, ocel a pod.)  s novým potrubím (PE D 32x3,0 mm) přípojky  D 32",null,null,3]
[null,null,"Vodovodní přípojky PE D32x3,0 mm:",null,0,null,null,null,null,null,null,null,"Vodovodní přípojky PE D32x3,0 mm:"]
[null,null,"Přeložka řadu \"V1\" TLT DN100:",null,0,null,null,null,null,null,null,null,"Přeložka řadu \"V1\" TLT DN100:"]
[null,null,"VP 1 až 4 (4 kusy):4",null,4,null,null,null,null,null,null,null,"VP 1 až 4 (4 kusy):4"]
[null,null,"Vodovodní řad PE D 110x10,0 mm:",null,0,null,null,null,null,null,null,null,"Vodovodní řad PE D 110x10,0 mm:"]
[null,null,"VP 5 až 9 a VP14 a 15 (7 kusů):7",null,7,null,null,null,null,null,null,null,"VP 5 až 9 a VP14 a 15 (7 kusů):7"]
[null,null,"Přeložka řadu \"V3\" PE D110x10,0 mm a PE D160x14,6 mm:",null,0,null,null,null,null,null,null,null,"Přeložka řadu \"V3\" PE D110x10,0 mm a PE D160x14,6 mm:"]
[null,null,"VP 10 (1 kus):1",null,1,null,null,null,null,null,null,null,"VP 10 (1 kus):1"]
[null,null,"Přeložka řadu \"V4\" PE D90x8,2 mm:",null,0,null,null,null,null,null,null,null,"Přeložka řadu \"V4\" PE D90x8,2 mm:"]
[null,null,"VP11 až 13 (3 kusy):3",null,3,null,null,null,null,null,null,null,"VP11 až 13 (3 kusy):3"]
[20,"892233111R00","Desinfekce vodovodního potrubí DN 70 ","m",78.5,null,{"$f":"E205*F205","v":0},0,{"$f":"E205*H205","v":0},0,{"$f":"E205*J205","v":0},null,null,null,2,null,null,null,null,null,null,null,null,null,null,null,1,1,1,null,null,null,null,null,null,null,null,null,null,null,null,null,null,null,null,null,null,null,null,null,null,1,{"$f":"IF(AZ205=1,G205,0)","v":0},{"$f":"IF(AZ205=2,G205,0)","v":0},{"$f":"IF(AZ205=3,G205,0)","v":0},{"$f":"IF(AZ205=4,G205,0)","v":0},{"$f":"IF(AZ205=5,G205,0)","v":0},null,null,null,null,null,null,null,null,null,null,null,null,null,null,null,null,null,null,null,null,null,1,1]
[null,null,"V položce jsou zakalkulovány náklady na napuštění a vypuštění vody, dodání vody a desinfekčního prostředku a na bakteriologický rozbor vody.",null,null,null,null,null,null,null,null,"V položce jsou zakalkulovány náklady na napuštění a vypuštění vody, dodání vody a desinfekčního prostředku a na bakteriologický rozbor vody.",null,null,3]
[null,null,"Vodovodní přípojky PE D32x3,0 mm + 10% rezerva:",null,0,null,null,null,null,null,null,null,"Vodovodní přípojky PE D32x3,0 mm + 10% rezerva:"]
[null,null,"Přeložka řadu \"V1\" TLT DN100:",null,0,null,null,null,null,null,null,null,"Přeložka řadu \"V1\" TLT DN100:"]
[null,null,"VP 1 až 4 (4 kusy):28,50",null,28.5,null,null,null,null,null,null,null,"VP 1 až 4 (4 kusy):28,50"]
[null,null,"Vodovodní řad PE D 110x10,0 mm:",null,0,null,null,null,null,null,null,null,"Vodovodní řad PE D 110x10,0 mm:"]
[null,null,"VP 5 až 9 a VP14 a 15 (7 kusů):36,50",null,36.5,null,null,null,null,null,null,null,"VP 5 až 9 a VP14 a 15 (7 kusů):36,50"]
[null,null,"Přeložka řadu \"V3\" PE D110x10,0 mm a PE D160x14,6 mm:",null,0,null,null,null,null,null,null,null,"Přeložka řadu \"V3\" PE D110x10,0 mm a PE D160x14,6 mm:"]
[null,null,"VP 10 (1 kus):2,50",null,2.5,null,null,null,null,null,null,null,"VP 10 (1 kus):2,50"]
[null,null,"Přeložka řadu \"V4\" PE D90x8,2 mm:",null,0,null,null,null,null,null,null,null,"Přeložka řadu \"V4\" PE D90x8,2 mm:"]
[null,null,"VP11 až 13 (3 kusy):11,00",null,11,null,null,null,null,null,null,null,"VP11 až 13 (3 kusy):11,00"]
[21,"892241111R00","Tlaková zkouška vodovodního potrubí DN 80 včetně zajištění konců potrubí","m",78.5,null,{"$f":"E216*F216","v":0},0,{"$f":"E216*H216","v":0},0,{"$f":"E216*J216","v":0},null,null,null,2,null,null,null,null,null,null,null,null,null,null,null,1,1,1,null,null,null,null,null,null,null,null,null,null,null,null,null,null,null,null,null,null,null,null,null,null,1,{"$f":"IF(AZ216=1,G216,0)","v":0},{"$f":"IF(AZ216=2,G216,0)","v":0},{"$f":"IF(AZ216=3,G216,0)","v":0},{"$f":"IF(AZ216=4,G216,0)","v":0},{"$f":"IF(AZ216=5,G216,0)","v":0},null,null,null,null,null,null,null,null,null,null,null,null,null,null,null,null,null,null,null,null,null,1,1]
[null,null,"V položce jsou započteny náklady na přísun, montáž, demontáž a odsun zkoušecího čerpadla, napuštění tlakovou vodou a dodání vody pro tlakovou zkoušku.",null,null,null,null,null,null,null,null,"V položce jsou započteny náklady na přísun, montáž, demontáž a odsun zkoušecího čerpadla, napuštění tlakovou vodou a dodání vody pro tlakovou zkoušku.",null,null,3]
[null,null,"Vodovodní přípojky PE D32x3,0 mm + 10% rezerva:",null,0,null,null,null,null,null,null,null,"Vodovodní přípojky PE D32x3,0 mm + 10% rezerva:"]
[null,null,"Přeložka řadu \"V1\" TLT DN100:",null,0,null,null,null,null,null,null,null,"Přeložka řadu \"V1\" TLT DN100:"]
[null,null,"VP 1 až 4 (4 kusy):28,50",null,28.5,null,null,null,null,null,null,null,"VP 1 až 4 (4 kusy):28,50"]
[null,null,"Vodovodní řad PE D 110x10,0 mm:",null,0,null,null,null,null,null,null,null,"Vodovodní řad PE D 110x10,0 mm:"]
[null,null,"VP 5 až 9 a VP14 a 15 (7 kusů):36,50",null,36.5,null,null,null,null,null,null,null,"VP 5 až 9 a VP14 a 15 (7 kusů):36,50"]
[null,null,"Přeložka řadu \"V3\" PE D110x10,0 mm a PE D160x14,6 mm:",null,0,null,null,null,null,null,null,null,"Přeložka řadu \"V3\" PE D110x10,0 mm a PE D160x14,6 mm:"]
[null,null,"VP 10 (1 kus):2,50",null,2.5,null,null,null,null,null,null,null,"VP 10 (1 kus):2,50"]
[null,null,"Přeložka řadu \"V4\" PE D90x8,2 mm:",null,0,null,null,null,null,null,null,null,"Přeložka řadu \"V4\" PE D90x8,2 mm:"]
[null,null,"VP11 až 13 (3 kusy):11,00",null,11,null,null,null,null,null,null,null,"VP11 až 13 (3 kusy):11,00"]
[22,"893151111RRX","Montáž šachty vodoměrné a revizní plastové kruhové ","kus",15,null,{"$f":"E227*F227","v":0},0.51066,{"$f":"E227*H227","v":7.6599000000000004},0,{"$f":"E227*J227","v":0},null,null,null,2,null,null,null,null,null,null,null,null,null,null,null,1,1,1,null,null,null,null,null,null,null,null,null,null,null,null,null,null,null,null,null,null,null,null,null,null,1,{"$f":"IF(AZ227=1,G227,0)","v":0},{"$f":"IF(AZ227=2,G227,0)","v":0},{"$f":"IF(AZ227=3,G227,0)","v":0},{"$f":"IF(AZ227=4,G227,0)","v":0},{"$f":"IF(AZ227=5,G227,0)","v":0},null,null,null,null,null,null,null,null,null,null,null,null,null,null,null,null,null,null,null,null,null,1,1]
[null,null,"Včetně zřízení podkladního betonu v tl. 15 cm vyztuženého KARI sítí 8/100/100.",null,null,null,null,null,null,null,null,"Včetně zřízení podkladního betonu v tl. 15 cm vyztuženého KARI sítí 8/100/100.",null,null,3]
[null,null,"Vodovodní přípojky PE D32x3,0 mm:",null,0,null,null,null,null,null,null,null,"Vodovodní přípojky PE D32x3,0 mm:"]
[null,null,"Přeložka řadu \"V1\" TLT DN100:",null,0,null,null,null,null,null,null,null,"Přeložka řadu \"V1\" TLT DN100:"]
[null,null,"VP 1 až 4 (4 kusy):4",null,4,null,null,null,null,null,null,null,"VP 1 až 4 (4 kusy):4"]
[null,null,"Vodovodní řad PE D 110x10,0 mm:",null,0,null,null,null,null,null,null,null,"Vodovodní řad PE D 110x10,0 mm:"]
[null,null,"VP 5 až 9 a VP14 a 15 (7 kusů):7",null,7,null,null,null,null,null,null,null,"VP 5 až 9 a VP14 a 15 (7 kusů):7"]
[null,null,"Přeložka řadu \"V3\" PE D110x10,0 mm a PE D160x14,6 mm:",null,0,null,null,null,null,null,null,null,"Přeložka řadu \"V3\" PE D110x10,0 mm a PE D160x14,6 mm:"]
[null,null,"VP 10 (1 kus):1",null,1,null,null,null,null,null,null,null,"VP 10 (1 kus):1"]
[null,null,"Přeložka řadu \"V4\" PE D90x8,2 mm:",null,0,null,null,null,null,null,null,null,"Přeložka řadu \"V4\" PE D90x8,2 mm:"]
[null,null,"VP11 až 13 (3 kusy):3",null,3,null,null,null,null,null,null,null,"VP11 až 13 (3 kusy):3"]
[23,"893151155RR1","Montáž vodoměrné sestavy pro PE D 32x3,0 mm včetně dodávky VS dle standartů provozovatele","kus",15,null,{"$f":"E238*F238","v":0},0.50214999999999999,{"$f":"E238*H238","v":7.5322499999999994},0,{"$f":"E238*J238","v":0},null,null,null,2,null,null,null,null,null,null,null,null,null,null,null,1,1,1,null,null,null,null,null,null,null,null,null,null,null,null,null,null,null,null,null,null,null,null,null,null,1,{"$f":"IF(AZ238=1,G238,0)","v":0},{"$f":"IF(AZ238=2,G238,0)","v":0},{"$f":"IF(AZ238=3,G238,0)","v":0},{"$f":"IF(AZ238=4,G238,0)","v":0},{"$f":"IF(AZ238=5,G238,0)","v":0},null,null,null,null,null,null,null,null,null,null,null,null,null,null,null,null,null,null,null,null,null,1,1]
[null,null,"Provedení sestavy VS dle projektové dokumentace a standartů investora a provozovatele (SčVaK) do jedné vodoměrné šachty",null,null,null,null,null,null,null,null,"Provedení sestavy VS dle projektové dokumentace a standartů investora a provozovatele (SčVaK) do jedné vodoměrné šachty",null,null,3]
[null,null,"Vodovodní přípojky PE D32x3,0 mm:",null,0,null,null,null,null,null,null,null,"Vodovodní přípojky PE D32x3,0 mm:"]
[null,null,"Přeložka řadu \"V1\" TLT DN100:",null,0,null,null,null,null,null,null,null,"Přeložka řadu \"V1\" TLT DN100:"]
[null,null,"VP 1 až 4 (4 kusy):4",null,4,null,null,null,null,null,null,null,"VP 1 až 4 (4 kusy):4"]
[null,null,"Vodovodní řad PE D 110x10,0 mm:",null,0,null,null,null,null,null,null,null,"Vodovodní řad PE D 110x10,0 mm:"]
[null,null,"VP 5 až 9 a VP14 a 15 (7 kusů):7",null,7,null,null,null,null,null,null,null,"VP 5 až 9 a VP14 a 15 (7 kusů):7"]
[null,null,"Přeložka řadu \"V3\" PE D110x10,0 mm a PE D160x14,6 mm:",null,0,null,null,null,null,null,null,null,"Přeložka řadu \"V3\" PE D110x10,0 mm a PE D160x14,6 mm:"]
[null,null,"VP 10 (1 kus):1",null,1,null,null,null,null,null,null,null,"VP 10 (1 kus):1"]
[null,null,"Přeložka řadu \"V4\" PE D90x8,2 mm:",null,0,null,null,null,null,null,null,null,"Přeložka řadu \"V4\" PE D90x8,2 mm:"]
[null,null,"VP11 až 13 (3 kusy):3",null,3,null,null,null,null,null,null,null,"VP11 až 13 (3 kusy):3"]
[24,"899721112R00","Fólie výstražná z PVC bílá, šířka 30 cm ","m",15,null,{"$f":"E249*F249","v":0},0,{"$f":"E249*H249","v":0},0,{"$f":"E249*J249","v":0},null,null,null,2,null,null,null,null,null,null,null,null,null,null,null,1,1,1,null,null,null,null,null,null,null,null,null,null,null,null,null,null,null,null,null,null,null,null,null,null,1,{"$f":"IF(AZ249=1,G249,0)","v":0},{"$f":"IF(AZ249=2,G249,0)","v":0},{"$f":"IF(AZ249=3,G249,0)","v":0},{"$f":"IF(AZ249=4,G249,0)","v":0},{"$f":"IF(AZ249=5,G249,0)","v":0},null,null,null,null,null,null,null,null,null,null,null,null,null,null,null,null,null,null,null,null,null,1,1]
[null,null,"Vodovodní přípojky PE D32x3,0 mm:",null,0,null,null,null,null,null,null,null,"Vodovodní přípojky PE D32x3,0 mm:"]
[null,null,"Přeložka řadu \"V1\" TLT DN100:",null,0,null,null,null,null,null,null,null,"Přeložka řadu \"V1\" TLT DN100:"]
[null,null,"VP 1 až 4 (4 kusy):4",null,4,null,null,null,null,null,null,null,"VP 1 až 4 (4 kusy):4"]
[null,null,"Vodovodní řad PE D 110x10,0 mm:",null,0,null,null,null,null,null,null,null,"Vodovodní řad PE D 110x10,0 mm:"]
[null,null,"VP 5 až 9 a VP14 a 15 (7 kusů):7",null,7,null,null,null,null,null,null,null,"VP 5 až 9 a VP14 a 15 (7 kusů):7"]
[null,null,"Přeložka řadu \"V3\" PE D110x10,0 mm a PE D160x14,6 mm:",null,0,null,null,null,null,null,null,null,"Přeložka řadu \"V3\" PE D110x10,0 mm a PE D160x14,6 mm:"]
[null,null,"VP 10 (1 kus):1",null,1,null,null,null,null,null,null,null,"VP 10 (1 kus):1"]
[null,null,"Přeložka řadu \"V4\" PE D90x8,2 mm:",null,0,null,null,null,null,null,null,null,"Přeložka řadu \"V4\" PE D90x8,2 mm:"]
[null,null,"VP11 až 13 (3 kusy):3",null,3,null,null,null,null,null,null,null,"VP11 až 13 (3 kusy):3"]
[25,"899731113R00","Vodič signalizační CYY 4 mm2 ","m",101,null,{"$f":"E259*F259","v":0},5.0000000000000002E-5,{"$f":"E259*H259","v":5.0500000000000007E-3},0,{"$f":"E259*J259","v":0},null,null,null,2,null,null,null,null,null,null,null,null,null,null,null,1,1,1,null,null,null,null,null,null,null,null,null,null,null,null,null,null,null,null,null,null,null,null,null,null,1,{"$f":"IF(AZ259=1,G259,0)","v":0},{"$f":"IF(AZ259=2,G259,0)","v":0},{"$f":"IF(AZ259=3,G259,0)","v":0},{"$f":"IF(AZ259=4,G259,0)","v":0},{"$f":"IF(AZ259=5,G259,0)","v":0},null,null,null,null,null,null,null,null,null,null,null,null,null,null,null,null,null,null,null,null,null,1,1]
[null,null,"Součástí položky je zajištění proměření vodiče a výchozí revize.",null,null,null,null,null,null,null,null,"Součástí položky je zajištění proměření vodiče a výchozí revize.",null,null,3]
[null,null,"Vodovodní přípojky PE D32x3,0 mm + 10% rezerva:",null,0,null,null,null,null,null,null,null,"Vodovodní přípojky PE D32x3,0 mm + 10% rezerva:"]
[null,null,"Přeložka řadu \"V1\" TLT DN100:",null,0,null,null,null,null,null,null,null,"Přeložka řadu \"V1\" TLT DN100:"]
[null,null,"VP 1 až 4 (4 kusy):28,50+1,50*4",null,34.5,null,null,null,null,null,null,null,"VP 1 až 4 (4 kusy):28,50+1,50*4"]
[null,null,"Vodovodní řad PE D 110x10,0 mm:",null,0,null,null,null,null,null,null,null,"Vodovodní řad PE D 110x10,0 mm:"]
[null,null,"VP 5 až 9 a VP14 a 15 (7 kusů):36,50+1,50*7",null,47,null,null,null,null,null,null,null,"VP 5 až 9 a VP14 a 15 (7 kusů):36,50+1,50*7"]
[null,null,"Přeložka řadu \"V3\" PE D110x10,0 mm a PE D160x14,6 mm:",null,0,null,null,null,null,null,null,null,"Přeložka řadu \"V3\" PE D110x10,0 mm a PE D160x14,6 mm:"]
[null,null,"VP 10 (1 kus):2,50+1,50*1",null,4,null,null,null,null,null,null,null,"VP 10 (1 kus):2,50+1,50*1"]
[null,null,"Přeložka řadu \"V4\" PE D90x8,2 mm:",null,0,null,null,null,null,null,null,null,"Přeložka řadu \"V4\" PE D90x8,2 mm:"]
[null,null,"VP11 až 13 (3 kusy):11,00+1,50*3",null,15.5,null,null,null,null,null,null,null,"VP11 až 13 (3 kusy):11,00+1,50*3"]
[26,"28613576.01.R","Trubka PE100RC2 SDR11 D 32x3,0 mm L 100m","m",79.677499999999995,null,{"$f":"E270*F270","v":0},3.79E-3,{"$f":"E270*H270","v":0.30197772499999997},null,{"$f":"E270*J270","v":0},null,null,null,2,null,null,null,null,null,null,null,null,null,null,null,3,1,"28613576.01.R",null,null,null,null,null,null,null,null,null,null,null,null,null,null,null,null,null,null,null,null,null,null,1,{"$f":"IF(AZ270=1,G270,0)","v":0},{"$f":"IF(AZ270=2,G270,0)","v":0},{"$f":"IF(AZ270=3,G270,0)","v":0},{"$f":"IF(AZ270=4,G270,0)","v":0},{"$f":"IF(AZ270=5,G270,0)","v":0},null,null,null,null,null,null,null,null,null,null,null,null,null,null,null,null,null,null,null,null,null,3,1]
[null,null,"Vodovodní přípojky PE D32x3,0 mm + 10% rezerva:",null,0,null,null,null,null,null,null,null,"Vodovodní přípojky PE D32x3,0 mm + 10% rezerva:"]
[null,null,"Přeložka řadu \"V1\" TLT DN100:",null,0,null,null,null,null,null,null,null,"Přeložka řadu \"V1\" TLT DN100:"]
[null,null,"VP 1 až 4 (4 kusy):28,50*1,015",null,28.927499999999998,null,null,null,null,null,null,null,"VP 1 až 4 (4 kusy):28,50*1,015"]
[null,null,"Vodovodní řad PE D 110x10,0 mm:",null,0,null,null,null,null,null,null,null,"Vodovodní řad PE D 110x10,0 mm:"]
[null,null,"VP 5 až 9 a VP14 a 15 (7 kusů):36,50*1,015",null,37.047499999999999,null,null,null,null,null,null,null,"VP 5 až 9 a VP14 a 15 (7 kusů):36,50*1,015"]
[null,null,"Přeložka řadu \"V3\" PE D110x10,0 mm a PE D160x14,6 mm:",null,0,null,null,null,null,null,null,null,"Přeložka řadu \"V3\" PE D110x10,0 mm a PE D160x14,6 mm:"]
[null,null,"VP 10 (1 kus):2,50*1,015",null,2.5375000000000001,null,null,null,null,null,null,null,"VP 10 (1 kus):2,50*1,015"]
[null,null,"Přeložka řadu \"V4\" PE D90x8,2 mm:",null,0,null,null,null,null,null,null,null,"Přeložka řadu \"V4\" PE D90x8,2 mm:"]
[null,null,"VP11 až 13 (3 kusy):11,00*1,015",null,11.164999999999999,null,null,null,null,null,null,null,"VP11 až 13 (3 kusy):11,00*1,015"]
[27,"28697257.R","Šachta vodoměrná v. 1500 mm","kus",15,null,{"$f":"E280*F280","v":0},0.06,{"$f":"E280*H280","v":0.89999999999999991},null,{"$f":"E280*J280","v":0},null,null,null,2,null,null,null,null,null,null,null,null,null,null,null,3,1,"28697257.R",null,null,null,null,null,null,null,null,null,null,null,null,null,null,null,null,null,null,null,null,null,null,1,{"$f":"IF(AZ280=1,G280,0)","v":0},{"$f":"IF(AZ280=2,G280,0)","v":0},{"$f":"IF(AZ280=3,G280,0)","v":0},{"$f":"IF(AZ280=4,G280,0)","v":0},{"$f":"IF(AZ280=5,G280,0)","v":0},null,null,null,null,null,null,null,null,null,null,null,null,null,null,null,null,null,null,null,null,null,3,1]
[null,null,"Celoplastová kruhová šachta samonosná - průměr 1200 mm.",null,null,null,null,null,null,null,null,"Celoplastová kruhová šachta samonosná - průměr 1200 mm.",null,null,3]
[null,null,"Je tvořena vlastní nádrží šachty výšky 1500 mm a vstupní šachtičkou D 600 mm výšky 300 mm zakrytou plastovým pochůzným poklopem.",null,null,null,null,null,null,null,null,"Je tvořena vlastní nádrží šachty výšky 1500 mm a vstupní šachtičkou D 600 mm výšky 300 mm zakrytou plastovým pochůzným poklopem.",null,null,3]
[null,null,"Nádrž šachty je osazena plastovými stupadly a plastovými průchodkami pro napojení přívodu a odvodu vody.",null,null,null,null,null,null,null,null,"Nádrž šachty je osazena plastovými stupadly a plastovými průchodkami pro napojení přívodu a odvodu vody.",null,null,3]
[null,null,"Materiál: směs polypropylenu (PP) a polyetylenu (PE)",null,null,null,null,null,null,null,null,"Materiál: směs polypropylenu (PP) a polyetylenu (PE)",null,null,3]
[null,null,"Vodovodní přípojky PE D32x3,0 mm:",null,0,null,null,null,null,null,null,null,"Vodovodní přípojky PE D32x3,0 mm:"]
[null,null,"Přeložka řadu \"V1\" TLT DN100:",null,0,null,null,null,null,null,null,null,"Přeložka řadu \"V1\" TLT DN100:"]
[null,null,"VP 1 až 4 (4 kusy):4",null,4,null,null,null,null,null,null,null,"VP 1 až 4 (4 kusy):4"]
[null,null,"Vodovodní řad PE D 110x10,0 mm:",null,0,null,null,null,null,null,null,null,"Vodovodní řad PE D 110x10,0 mm:"]
[null,null,"VP 5 až 9 a VP14 a 15 (7 kusů):7",null,7,null,null,null,null,null,null,null,"VP 5 až 9 a VP14 a 15 (7 kusů):7"]
[null,null,"Přeložka řadu \"V3\" PE D110x10,0 mm a PE D160x14,6 mm:",null,0,null,null,null,null,null,null,null,"Přeložka řadu \"V3\" PE D110x10,0 mm a PE D160x14,6 mm:"]
[null,null,"VP 10 (1 kus):1",null,1,null,null,null,null,null,null,null,"VP 10 (1 kus):1"]
[null,null,"Přeložka řadu \"V4\" PE D90x8,2 mm:",null,0,null,null,null,null,null,null,null,"Přeložka řadu \"V4\" PE D90x8,2 mm:"]
[null,null,"VP11 až 13 (3 kusy):3",null,3,null,null,null,null,null,null,null,"VP11 až 13 (3 kusy):3"]
[null,"Celkem za","8 Trubní vedení",null,null,null,{"$f":"SUM(G182:G293)","v":0},null,{"$f":"SUM(I182:I293)","v":16.406077724999999},null,{"$f":"SUM(K182:K293)","v":0},null,null,null,4,null,null,null,null,null,null,null,null,null,null,null,null,null,null,null,null,null,null,null,null,null,null,null,null,null,null,null,null,null,null,null,null,null,null,null,null,null,{"$f":"SUM(BA182:BA293)","v":0},{"$f":"SUM(BB182:BB293)","v":0},{"$f":"SUM(BC182:BC293)","v":0},{"$f":"SUM(BD182:BD293)","v":0},{"$f":"SUM(BE182:BE293)","v":0}]
["Díl:","99","Staveništní přesun hmot",null,null,null,null,null,null,null,null,null,null,null,1]
[28,"998276101RXX","Přesun hmot, trubní vedení plastová, otevř. výkop pro celý rozsah objektu","t",166.70029899400001,null,{"$f":"E296*F296","v":0},0,{"$f":"E296*H296","v":0},null,{"$f":"E296*J296","v":0},null,null,null,2,null,null,null,null,null,null,null,null,null,null,null,7,1,2,null,null,null,null,null,null,null,null,null,null,null,null,null,null,null,null,null,null,null,null,null,null,1,{"$f":"IF(AZ296=1,G296,0)","v":0},{"$f":"IF(AZ296=2,G296,0)","v":0},{"$f":"IF(AZ296=3,G296,0)","v":0},{"$f":"IF(AZ296=4,G296,0)","v":0},{"$f":"IF(AZ296=5,G296,0)","v":0},null,null,null,null,null,null,null,null,null,null,null,null,null,null,null,null,null,null,null,null,null,7,1]
[null,null,"Staveništní doprava pro celý rozsah objektu - doprava zmeziskládek vybudovaného zařízení staveniště zhotovitele na jednotlivé části staveniště.",null,null,null,null,null,null,null,null,"Staveništní doprava pro celý rozsah objektu - doprava zmeziskládek vybudovaného zařízení staveniště zhotovitele na jednotlivé části staveniště.",null,null,3]
[null,"Celkem za","99 Staveništní přesun hmot",null,null,null,{"$f":"SUM(G295:G297)","v":0},null,{"$f":"SUM(I295:I297)","v":0},null,{"$f":"SUM(K295:K297)","v":0},null,null,null,4,null,null,null,null,null,null,null,null,null,null,null,null,null,null,null,null,null,null,null,null,null,null,null,null,null,null,null,null,null,null,null,null,null,null,null,null,null,{"$f":"SUM(BA295:BA297)","v":0},{"$f":"SUM(BB295:BB297)","v":0},{"$f":"SUM(BC295:BC297)","v":0},{"$f":"SUM(BD295:BD297)","v":0},{"$f":"SUM(BE295:BE297)","v":0}]

{"sheet":"06 06 KL","index":53,"n_rows":45,"n_cols":8,"rows_kept":45,"cut":false,"hidden":false,"merged":[[22,0,22,1],[7,2,7,4],[8,2,8,4],[9,2,9,4],[10,2,10,4],[11,2,11,4],[50,1,50,6],[29,5,29,6],[30,5,30,6],[31,5,31,6],[32,5,32,6],[33,5,33,6],[36,1,44,6],[45,1,45,6],[46,1,46,6],[47,1,47,6],[48,1,48,6],[49,1,49,6]]}
["POLOŽKOVÝ ROZPOČET"]
["Rozpočet",null,"06","Kanalizační odbočky",null,"JKSO ","827.29"]
[]
["Objekt",null,null,null,null,"SKP "]
["06",null,"Kanalizační odbočky",null,null,"Měrná jednotka","m"]
["Stavba",null,null,null,null,"Počet jednotek",0]
["3395",null,"Kanalizace a ČOV Benešov u Semil",null,null,"Náklady na m.j.",{"$f":"IF(G6=0,,ROUND((F30+F32)/G6,1))","v":0}]
["Projektant",null,"Vodohospodářský rozvoj a výstavba a.s.",null,null,"Typ rozpočtu"]
["Zpracovatel projektu"]
["Objednatel",null,"Vodohospodářské sdružení Turnov"]
["Dodavatel",null,".",null,null,"Zakázkové číslo "]
["Rozpočtoval",null,null,null,null,"Počet listů"]
["ROZPOČTOVÉ NÁKLADY"]
["Základní rozpočtové náklady"]
[null,"HSV celkem",{"$f":"'06 06 Rek'!E12","v":0}]
["Z","PSV celkem",{"$f":"'06 06 Rek'!F12","v":0}]
["R","M práce celkem",{"$f":"'06 06 Rek'!H12","v":0}]
["N","M dodávky celkem",{"$f":"'06 06 Rek'!G12","v":0}]
["ZRN celkem",null,{"$f":"SUM(C15:C18)","v":0}]
[]
["HZS",null,{"$f":"'06 06 Rek'!I12","v":0}]
["ZRN+HZS",null,{"$f":"C19+C21","v":0}]
["ZRN+ost.náklady+HZS",null,{"$f":"C22+G23","v":0}]
["Vypracoval",null,null,"Za zhotovitele",null,"Za objednatele"]
["Jméno :",null,null,"Jméno :",null,"Jméno :"]
["Datum :",null,null,"Datum :",null,"Datum :"]
[]
["Podpis :",null,null,"Podpis:",null,"Podpis:"]
[]
["Základ pro DPH",null,21,"%  ",null,{"$f":"C23-F32","v":0}]
["DPH",null,{"$f":"C30","v":21},"% ",null,{"$f":"ROUND(PRODUCT(F30,C31/100),0)","v":0}]
["Základ pro DPH",null,0,"% ",null,0]
["DPH",null,{"$f":"C32","v":0},"% ",null,{"$f":"ROUND(PRODUCT(F32,C33/100),0)","v":0}]
["CENA ZA OBJEKT CELKEM",null,null,null,null,{"$f":"ROUND(SUM(F30:F33),0)","v":0}]
[]
["Poznámka :",null,null,null,null,null,null," "]
[null,null,null,null,null,null,null," "]
[null,null,null,null,null,null,null," "]
[null,null,null,null,null,null,null," "]
[null,null,null,null,null,null,null," "]
[null,null,null,null,null,null,null," "]
[null,null,null,null,null,null,null," "]
[null,null,null,null,null,null,null," "]
[null,null,null,null,null,null,null," "]
[null,null,null,null,null,null,null," "]

{"sheet":"06 06 Rek","index":54,"n_rows":12,"n_cols":9,"rows_kept":12,"cut":false,"hidden":false,"merged":[[0,0,0,1],[1,0,1,1],[1,6,1,8]]}
["Stavba :",null,"3395 Kanalizace a ČOV Benešov u Semil",null,null,null,"Rozpočet :","06"]
["Objekt :",null,"06 Kanalizační odbočky",null,null,null,"Kanalizační odbočky"]
[]
["REKAPITULACE  STAVEBNÍCH  DÍLŮ"]
[]
[null,"Stavební díl",null,null,"HSV","PSV","Dodávka","Montáž","HZS"]
[{"$f":"'06 06 Pol'!B7","v":"1"},{"$f":"'06 06 Pol'!C7","v":"Zemní práce"},null,null,{"$f":"'06 06 Pol'!BA254","v":0},{"$f":"'06 06 Pol'!BB254","v":0},{"$f":"'06 06 Pol'!BC254","v":0},{"$f":"'06 06 Pol'!BD254","v":0},{"$f":"'06 06 Pol'!BE254","v":0}]
[{"$f":"'06 06 Pol'!B255","v":"45"},{"$f":"'06 06 Pol'!C255","v":"Podkladní a vedlejší konstrukce"},null,null,{"$f":"'06 06 Pol'!BA273","v":0},{"$f":"'06 06 Pol'!BB273","v":0},{"$f":"'06 06 Pol'!BC273","v":0},{"$f":"'06 06 Pol'!BD273","v":0},{"$f":"'06 06 Pol'!BE273","v":0}]
[{"$f":"'06 06 Pol'!B274","v":"5"},{"$f":"'06 06 Pol'!C274","v":"Komunikace"},null,null,{"$f":"'06 06 Pol'!BA280","v":0},{"$f":"'06 06 Pol'!BB280","v":0},{"$f":"'06 06 Pol'!BC280","v":0},{"$f":"'06 06 Pol'!BD280","v":0},{"$f":"'06 06 Pol'!BE280","v":0}]
[{"$f":"'06 06 Pol'!B281","v":"8"},{"$f":"'06 06 Pol'!C281","v":"Trubní vedení"},null,null,{"$f":"'06 06 Pol'!BA519","v":0},{"$f":"'06 06 Pol'!BB519","v":0},{"$f":"'06 06 Pol'!BC519","v":0},{"$f":"'06 06 Pol'!BD519","v":0},{"$f":"'06 06 Pol'!BE519","v":0}]
[{"$f":"'06 06 Pol'!B520","v":"99"},{"$f":"'06 06 Pol'!C520","v":"Staveništní přesun hmot"},null,null,{"$f":"'06 06 Pol'!BA523","v":0},{"$f":"'06 06 Pol'!BB523","v":0},{"$f":"'06 06 Pol'!BC523","v":0},{"$f":"'06 06 Pol'!BD523","v":0},{"$f":"'06 06 Pol'!BE523","v":0}]
[null,"CELKEM  OBJEKT",null,null,{"$f":"SUM(E7:E11)","v":0},{"$f":"SUM(F7:F11)","v":0},{"$f":"SUM(G7:G11)","v":0},{"$f":"SUM(H7:H11)","v":0},{"$f":"SUM(I7:I11)","v":0}]

{"sheet":"06 06 Pol","index":55,"n_rows":523,"n_cols":80,"rows_kept":523,"cut":false,"hidden":false,"merged":[[0,0,0,6],[2,0,2,1],[3,0,3,1],[3,4,3,6],[8,2,8,6],[9,2,9,6],[10,2,10,3],[11,2,11,3],[18,2,18,3],[19,2,19,3],[20,2,20,3],[21,2,21,3],[22,2,22,3],[23,2,23,3],[12,2,12,3],[13,2,13,3],[14,2,14,3],[15,2,15,3],[16,2,16,3],[17,2,17,3],[31,2,31,3],[32,2,32,3],[33,2,33,3],[34,2,34,3],[35,2,35,3],[36,2,36,3],[24,2,24,3],[25,2,25,3],[27,2,27,3],[28,2,28,3],[29,2,29,3],[30,2,30,3],[43,2,43,3],[45,2,45,6],[46,2,46,6],[47,2,47,3],[48,2,48,3],[49,2,49,3],[37,2,37,3],[38,2,38,3],[39,2,39,3],[40,2,40,3],[41,2,41,3],[42,2,42,3],[57,2,57,3],[58,2,58,3],[59,2,59,3],[60,2,60,3],[61,2,61,3],[62,2,62,3],[51,2,51,6],[52,2,52,3],[53,2,53,3],[54,2,54,3],[55,2,55,3],[56,2,56,3],[69,2,69,3],[70,2,70,3],[71,2,71,3],[72,2,72,3],[73,2,73,3],[74,2,74,3],[63,2,63,3],[64,2,64,3],[65,2,65,3],[66,2,66,3],[67,2,67,3],[68,2,68,3],[83,2,83,3],[85,2,85,3],[86,2,86,3],[87,2,87,3],[89,2,89,6],[90,2,90,3],[76,2,76,3],[77,2,77,3],[78,2,78,3],[80,2,80,6],[81,2,81,3],[82,2,82,3],[98,2,98,3],[99,2,99,3],[100,2,100,3],[101,2,101,3],[102,2,102,3],[103,2,103,3],[91,2,91,3],[92,2,92,3],[94,2,94,3],[95,2,95,3],[96,2,96,3],[97,2,97,3],[110,2,110,3],[111,2,111,3],[112,2,112,3],[113,2,113,3],[114,2,114,3],[116,2,116,3],[104,2,104,3],[105,2,105,3],[106,2,106,3],[107,2,107,3],[108,2,108,3],[109,2,109,3],[123,2,123,3],[124,2,124,3],[125,2,125,3],[126,2,126,3],[127,2,127,3],[128,2,128,3],[117,2,117,3],[118,2,118,3],[119,2,119,3],[120,2,120,3],[121,2,121,3],[122,2,122,3],[135,2,135,3],[136,2,136,3],[138,2,138,3],[139,2,139,3],[140,2,140,3],[141,2,141,3],[129,2,129,3],[130,2,130,3],[131,2,131,3],[132,2,132,3],[133,2,133,3],[134,2,134,3],[148,2,148,3],[149,2,149,3],[150,2,150,3],[151,2,151,3],[152,2,152,3],[153,2,153,3],[142,2,142,3],[143,2,143,3],[144,2,144,3],[145,2,145,3],[146,2,146,3],[147,2,147,3],[161,2,161,3],[162,2,162,3],[163,2,163,3],[164,2,164,3],[165,2,165,3],[166,2,166,3],[154,2,154,3],[155,2,155,3],[156,2,156,3],[157,2,157,3],[158,2,158,3],[160,2,160,3],[173,2,173,3],[174,2,174,3],[175,2,175,3],[176,2,176,3],[177,2,177,3],[178,2,178,3],[167,2,167,3],[168,2,168,3],[169,2,169,3],[170,2,170,3],[171,2,171,3],[172,2,172,3],[187,2,187,6],[188,2,188,6],[189,2,189,3],[190,2,190,3],[191,2,191,3],[192,2,192,3],[179,2,179,3],[180,2,180,3],[182,2,182,3],[183,2,183,3],[184,2,184,3],[185,2,185,3],[199,2,199,3],[200,2,200,3],[201,2,201,3],[202,2,202,3],[203,2,203,3],[204,2,204,3],[193,2,193,3],[194,2,194,3],[195,2,195,3],[196,2,196,3],[197,2,197,3],[198,2,198,3],[212,2,212,3],[213,2,213,3],[214,2,214,3],[215,2,215,3],[216,2,216,3],[217,2,217,3],[206,2,206,3],[207,2,207,3],[208,2,208,3],[209,2,209,3],[210,2,210,3],[211,2,211,3],[225,2,225,3],[226,2,226,3],[228,2,228,3],[229,2,229,3],[230,2,230,3],[231,2,231,3],[218,2,218,3],[219,2,219,3],[220,2,220,3],[221,2,221,3],[223,2,223,3],[224,2,224,3],[238,2,238,3],[239,2,239,3],[240,2,240,3],[241,2,241,3],[242,2,242,3],[243,2,243,3],[232,2,232,3],[233,2,233,3],[234,2,234,3],[235,2,235,3],[236,2,236,3],[237,2,237,3],[251,2,251,3],[252,2,252,3],[256,2,256,3],[257,2,257,3],[258,2,258,3],[259,2,259,3],[260,2,260,3],[261,2,261,3],[245,2,245,3],[246,2,246,3],[247,2,247,3],[248,2,248,3],[249,2,249,3],[250,2,250,3],[268,2,268,3],[269,2,269,3],[270,2,270,3],[271,2,271,3],[275,2,275,3],[276,2,276,3],[277,2,277,3],[278,2,278,3],[262,2,262,3],[263,2,263,3],[264,2,264,3],[265,2,265,3],[266,2,266,3],[267,2,267,3],[290,2,290,3],[291,2,291,3],[292,2,292,3],[293,2,293,3],[295,2,295,6],[296,2,296,3],[282,2,282,6],[283,2,283,3],[284,2,284,3],[285,2,285,3],[286,2,286,3],[287,2,287,3],[288,2,288,3],[289,2,289,3],[304,2,304,6],[305,2,305,3],[306,2,306,3],[307,2,307,3],[308,2,308,3],[309,2,309,3],[297,2,297,3],[298,2,298,3],[299,2,299,3],[300,2,300,3],[301,2,301,3],[302,2,302,3],[316,2,316,3],[318,2,318,6],[319,2,319,3],[320,2,320,3],[321,2,321,3],[322,2,322,3],[310,2,310,3],[311,2,311,3],[312,2,312,3],[313,2,313,3],[314,2,314,3],[315,2,315,3],[329,2,329,3],[331,2,331,6],[332,2,332,3],[333,2,333,3],[334,2,334,3],[335,2,335,3],[323,2,323,3],[324,2,324,3],[325,2,325,3],[326,2,326,3],[327,2,327,3],[328,2,328,3],[342,2,342,3],[344,2,344,6],[345,2,345,3],[346,2,346,3],[347,2,347,3],[348,2,348,3],[336,2,336,3],[337,2,337,3],[338,2,338,3],[339,2,339,3],[340,2,340,3],[341,2,341,3],[356,2,356,6],[357,2,357,3],[358,2,358,3],[359,2,359,3],[360,2,360,3],[361,2,361,3],[349,2,349,3],[350,2,350,3],[351,2,351,3],[353,2,353,6],[354,2,354,6],[355,2,355,6],[368,2,368,3],[369,2,369,3],[370,2,370,3],[371,2,371,3],[372,2,372,3],[374,2,374,3],[362,2,362,3],[363,2,363,3],[364,2,364,3],[365,2,365,3],[366,2,366,3],[367,2,367,3],[381,2,381,3],[382,2,382,3],[383,2,383,3],[384,2,384,3],[385,2,385,3],[386,2,386,3],[375,2,375,3],[376,2,376,3],[377,2,377,3],[378,2,378,3],[379,2,379,3],[380,2,380,3],[394,2,394,3],[395,2,395,3],[396,2,396,3],[397,2,397,3],[398,2,398,3],[400,2,400,6],[387,2,387,3],[388,2,388,3],[389,2,389,3],[391,2,391,6],[392,2,392,3],[393,2,393,3],[407,2,407,3],[409,2,409,6],[410,2,410,3],[411,2,411,3],[412,2,412,3],[413,2,413,3],[401,2,401,3],[402,2,402,3],[403,2,403,3],[404,2,404,3],[405,2,405,3],[406,2,406,3],[420,2,420,3],[422,2,422,6],[423,2,423,3],[424,2,424,3],[425,2,425,3],[426,2,426,3],[414,2,414,3],[415,2,415,3],[416,2,416,3],[417,2,417,3],[418,2,418,3],[419,2,419,3],[434,2,434,3],[435,2,435,3],[436,2,436,3],[437,2,437,3],[438,2,438,3],[439,2,439,3],[427,2,427,3],[428,2,428,3],[429,2,429,3],[431,2,431,3],[432,2,432,3],[433,2,433,3],[446,2,446,3],[448,2,448,6],[449,2,449,6],[450,2,450,6],[451,2,451,6],[452,2,452,6],[440,2,440,3],[441,2,441,3],[442,2,442,3],[443,2,443,3],[444,2,444,3],[445,2,445,3],[459,2,459,3],[460,2,460,3],[461,2,461,3],[462,2,462,3],[463,2,463,3],[464,2,464,3],[453,2,453,6],[454,2,454,6],[455,2,455,3],[456,2,456,3],[457,2,457,3],[458,2,458,3],[472,2,472,6],[473,2,473,6],[474,2,474,3],[475,2,475,3],[476,2,476,3],[477,2,477,3],[465,2,465,3],[467,2,467,6],[468,2,468,6],[469,2,469,6],[470,2,470,6],[471,2,471,6],[485,2,485,6],[486,2,486,6],[487,2,487,3],[488,2,488,3],[489,2,489,3],[490,2,490,3],[478,2,478,3],[479,2,479,3],[480,2,480,3],[482,2,482,6],[483,2,483,6],[484,2,484,6],[497,2,497,3],[498,2,498,3],[500,2,500,6],[501,2,501,6],[502,2,502,6],[503,2,503,6],[491,2,491,3],[492,2,492,3],[493,2,493,3],[494,2,494,3],[495,2,495,3],[496,2,496,3],[517,2,517,3],[521,2,521,6],[510,2,510,3],[511,2,511,3],[512,2,512,3],[514,2,514,3],[515,2,515,3],[516,2,516,3],[504,2,504,6],[505,2,505,3],[506,2,506,3],[507,2,507,3],[508,2,508,3],[509,2,509,3]]}
["Položkový rozpočet "]
[]
["Stavba :",null,"3395 Kanalizace a ČOV Benešov u Semil",null,"Rozpočet:",{"$f":"'06 06 Rek'!H1","v":"06"}]
["Objekt :",null,"06 Kanalizační odbočky",null,{"$f":"'06 06 Rek'!G2","v":"Kanalizační odbočky"}]
[]
["P.č.","Číslo položky","Název položky","MJ","množství","cena / MJ","celkem (Kč)","Jednotková hmotnost","Celková hmotnost","Jednotková dem.hmot.","Celková dem.hmot."]
["Díl:","1","Zemní práce",null,null,null,null,null,null,null,null,null,null,null,1]
[1,"115101201RRX","Přečerpávání nebo převedení splašků a dešť. vod ","h",200,null,{"$f":"E8*F8","v":0},0,{"$f":"E8*H8","v":0},0,{"$f":"E8*J8","v":0},null,null,null,2,null,null,null,null,null,null,null,null,null,null,null,1,1,1,null,null,null,null,null,null,null,null,null,null,null,null,null,null,null,null,null,null,null,null,null,null,1,{"$f":"IF(AZ8=1,G8,0)","v":0},{"$f":"IF(AZ8=2,G8,0)","v":0},{"$f":"IF(AZ8=3,G8,0)","v":0},{"$f":"IF(AZ8=4,G8,0)","v":0},{"$f":"IF(AZ8=5,G8,0)","v":0},null,null,null,null,null,null,null,null,null,null,null,null,null,null,null,null,null,null,null,null,null,1,1]
[null,null,"Převedení a čerpání splašků nebo dešťových vod dle zvolené technologie zhotovitele stavby.",null,null,null,null,null,null,null,null,"Převedení a čerpání splašků nebo dešťových vod dle zvolené technologie zhotovitele stavby.",null,null,3]
[null,null,"(Množství bude určeno na stavbě dle skutečnosti)",null,null,null,null,null,null,null,null,"(Množství bude určeno na stavbě dle skutečnosti)",null,null,3]
[null,null,"Kanalizační přípojky PVC DN150 a DN200:",null,0,null,null,null,null,null,null,null,"Kanalizační přípojky PVC DN150 a DN200:"]
[null,null,"Na Stoce \"A\":",null,0,null,null,null,null,null,null,null,"Na Stoce \"A\":"]
[null,null,"KP DN200 (5 kusů):5,00*5",null,25,null,null,null,null,null,null,null,"KP DN200 (5 kusů):5,00*5"]
[null,null,"Na Stoce \"A.1\":",null,0,null,null,null,null,null,null,null,"Na Stoce \"A.1\":"]
[null,null,"KP DN150 (10 kusů):5,00*10",null,50,null,null,null,null,null,null,null,"KP DN150 (10 kusů):5,00*10"]
[null,null,"KP DN200 (7 kusů):5,00*7",null,35,null,null,null,null,null,null,null,"KP DN200 (7 kusů):5,00*7"]
[null,null,"Na Stoce \"A.1-1\":",null,0,null,null,null,null,null,null,null,"Na Stoce \"A.1-1\":"]
[null,null,"KP DN150 (3 kusy):5,00*3",null,15,null,null,null,null,null,null,null,"KP DN150 (3 kusy):5,00*3"]
[null,null,"Na Stoce \"B.1\":",null,0,null,null,null,null,null,null,null,"Na Stoce \"B.1\":"]
[null,null,"KP DN150 (2 kusy):5,00*2",null,10,null,null,null,null,null,null,null,"KP DN150 (2 kusy):5,00*2"]
[null,null,"Na Stoce \"H\":",null,0,null,null,null,null,null,null,null,"Na Stoce \"H\":"]
[null,null,"KP DN150 (3 kusy):5,00*3",null,15,null,null,null,null,null,null,null,"KP DN150 (3 kusy):5,00*3"]
[null,null,"Na Stoce \"I\":",null,0,null,null,null,null,null,null,null,"Na Stoce \"I\":"]
[null,null,"KP DN150 (6 Kusů):5,00*6",null,30,null,null,null,null,null,null,null,"KP DN150 (6 Kusů):5,00*6"]
[null,null,"Na Stoce \"J\":",null,0,null,null,null,null,null,null,null,"Na Stoce \"J\":"]
[null,null,"DN 200 (4 kusy):5,00*4",null,20,null,null,null,null,null,null,null,"DN 200 (4 kusy):5,00*4"]
[2,"121100002RAA","Sejmutí ornice a uložení na deponii zpětný přesun, rozprostření v tl. 20 cm","m3",263.10239999999999,null,{"$f":"E27*F27","v":0},0,{"$f":"E27*H27","v":0},0,{"$f":"E27*J27","v":0},null,null,null,2,null,null,null,null,null,null,null,null,null,null,null,1,1,1,null,null,null,null,null,null,null,null,null,null,null,null,null,null,null,null,null,null,null,null,null,null,1,{"$f":"IF(AZ27=1,G27,0)","v":0},{"$f":"IF(AZ27=2,G27,0)","v":0},{"$f":"IF(AZ27=3,G27,0)","v":0},{"$f":"IF(AZ27=4,G27,0)","v":0},{"$f":"IF(AZ27=5,G27,0)","v":0},null,null,null,null,null,null,null,null,null,null,null,null,null,null,null,null,null,null,null,null,null,1,1]
[null,null,"Kanalizační přípojky PVC DN150 a DN200 + Rezerva 10%:",null,0,null,null,null,null,null,null,null,"Kanalizační přípojky PVC DN150 a DN200 + Rezerva 10%:"]
[null,null,"Ornice na 60% délky pracovního pruhu:",null,0,null,null,null,null,null,null,null,"Ornice na 60% délky pracovního pruhu:"]
[null,null,"Na Stoce \"A\":",null,0,null,null,null,null,null,null,null,"Na Stoce \"A\":"]
[null,null,"KP DN200 (5 kusů):155,70*1,1*2,00*0,20*0,6",null,41.104799999999997,null,null,null,null,null,null,null,"KP DN200 (5 kusů):155,70*1,1*2,00*0,20*0,6"]
[null,null,"Na Stoce \"A.1\":",null,0,null,null,null,null,null,null,null,"Na Stoce \"A.1\":"]
[null,null,"KP DN150 (10 kusů):223,20*1,1*2,00*0,20*0,6",null,58.924799999999998,null,null,null,null,null,null,null,"KP DN150 (10 kusů):223,20*1,1*2,00*0,20*0,6"]
[null,null,"KP DN200 (7 kusů):216,80*1,1*2,00*0,20*0,6",null,57.235199999999999,null,null,null,null,null,null,null,"KP DN200 (7 kusů):216,80*1,1*2,00*0,20*0,6"]
[null,null,"Na Stoce \"A.1-1\":",null,0,null,null,null,null,null,null,null,"Na Stoce \"A.1-1\":"]
[null,null,"KP DN150 (3 kusy):51,80*1,1*2,00*0,20*0,6",null,13.6752,null,null,null,null,null,null,null,"KP DN150 (3 kusy):51,80*1,1*2,00*0,20*0,6"]
[null,null,"Na Stoce \"B.1\":",null,0,null,null,null,null,null,null,null,"Na Stoce \"B.1\":"]
[null,null,"KP DN150 (2 kusy):47,10*1,1*2,00*0,20*0,6",null,12.4344,null,null,null,null,null,null,null,"KP DN150 (2 kusy):47,10*1,1*2,00*0,20*0,6"]
[null,null,"Na Stoce \"H\":",null,0,null,null,null,null,null,null,null,"Na Stoce \"H\":"]
[null,null,"KP DN150 (3 kusy):33,20*1,1*2,00*0,20*0,6",null,8.7647999999999993,null,null,null,null,null,null,null,"KP DN150 (3 kusy):33,20*1,1*2,00*0,20*0,6"]
[null,null,"Na Stoce \"I\":",null,0,null,null,null,null,null,null,null,"Na Stoce \"I\":"]
[null,null,"KP DN150 (6 Kusů):175,40*1,1*2,00*0,20*0,6",null,46.305599999999998,null,null,null,null,null,null,null,"KP DN150 (6 Kusů):175,40*1,1*2,00*0,20*0,6"]
[null,null,"Na Stoce \"J\":",null,0,null,null,null,null,null,null,null,"Na Stoce \"J\":"]
[null,null,"DN 200 (4 kusy):93,40*1,1*2,00*0,20*0,6",null,24.657599999999999,null,null,null,null,null,null,null,"DN 200 (4 kusy):93,40*1,1*2,00*0,20*0,6"]
[3,"130001101RRX","Příplatek za ztížené hloubení v blízkosti vedení ","m3",434.11900000000003,null,{"$f":"E45*F45","v":0},0,{"$f":"E45*H45","v":0},0,{"$f":"E45*J45","v":0},null,null,null,2,null,null,null,null,null,null,null,null,null,null,null,1,1,1,null,null,null,null,null,null,null,null,null,null,null,null,null,null,null,null,null,null,null,null,null,null,1,{"$f":"IF(AZ45=1,G45,0)","v":0},{"$f":"IF(AZ45=2,G45,0)","v":0},{"$f":"IF(AZ45=3,G45,0)","v":0},{"$f":"IF(AZ45=4,G45,0)","v":0},{"$f":"IF(AZ45=5,G45,0)","v":0},null,null,null,null,null,null,null,null,null,null,null,null,null,null,null,null,null,null,null,null,null,1,1]
[null,null,"Včetně případných nutných dokopávem a ručního výkopu podél sousedících inženýrských sítí.",null,null,null,null,null,null,null,null,"Včetně případných nutných dokopávem a ručního výkopu podél sousedících inženýrských sítí.",null,null,3]
[null,null,"Součástí položky je i dočasné zajištění inženýrských sítí v prostoru výkopů (potrubí, kabely a pod.)",null,null,null,null,null,null,null,null,"Součástí položky je i dočasné zajištění inženýrských sítí v prostoru výkopů (potrubí, kabely a pod.)",null,null,3]
[null,null,"Kanalizační přípojky PVC DN150 a DN200 + Rezerva 10%:",null,0,null,null,null,null,null,null,null,"Kanalizační přípojky PVC DN150 a DN200 + Rezerva 10%:"]
[null,null,"Výkopy:",null,0,null,null,null,null,null,null,null,"Výkopy:"]
[null,null,"V hornině tř. 3 - 5 - 30%:1447,0632*0,3",null,434.11900000000003,null,null,null,null,null,null,null,"V hornině tř. 3 - 5 - 30%:1447,0632*0,3"]
[4,"132201212R00","Hloubení rýh š.do 200 cm hor.3 do 1000m3,STROJNĚ ","m3",868.23789999999997,null,{"$f":"E51*F51","v":0},0,{"$f":"E51*H51","v":0},0,{"$f":"E51*J51","v":0},null,null,null,2,null,null,null,null,null,null,null,null,null,null,null,1,1,1,null,null,null,null,null,null,null,null,null,null,null,null,null,null,null,null,null,null,null,null,null,null,1,{"$f":"IF(AZ51=1,G51,0)","v":0},{"$f":"IF(AZ51=2,G51,0)","v":0},{"$f":"IF(AZ51=3,G51,0)","v":0},{"$f":"IF(AZ51=4,G51,0)","v":0},{"$f":"IF(AZ51=5,G51,0)","v":0},null,null,null,null,null,null,null,null,null,null,null,null,null,null,null,null,null,null,null,null,null,1,1]
[null,null,"Položka obsahuje hloubení rýh traktorbagrem, naložení výkopku na dopravní prostředek pro svislé, nebo vodorovné přemístění, popř. přemístění výkopku do 3 m (po povrchu území), případné zajištění rypadel polštáři, udržování pracoviště a ochranu výkopiště proti stékání srážkové vody z okolního terénu i s jejím odvodněním, nebo odvedením, přesekání a odstranění kořenů ve výkopišti, odstranění napadávek, urovnání dna výkopu.",null,null,null,null,null,null,null,null,"Položka obsahuje hloubení rýh traktorbagrem, naložení výkopku na dopravní prostředek pro svislé, nebo vodorovné přemístění, popř. přemístění výkopku do 3 m (po povrchu území), případné zajištění rypadel polštáři, udržování pracoviště a ochranu výkopiště proti stékání srážkové vody z okolního terénu i s jejím odvodněním, nebo odvedením, přesekání a odstranění kořenů ve výkopišti, odstranění napadávek, urovnání dna výkopu.",null,null,3]
[null,null,"Kanalizační přípojky PVC DN150 a DN200 + Rezerva 10%:",null,0,null,null,null,null,null,null,null,"Kanalizační přípojky PVC DN150 a DN200 + Rezerva 10%:"]
[null,null,"Výkopy:",null,0,null,null,null,null,null,null,null,"Výkopy:"]
[null,null,"Začátek provozního součtu",null,0,null,null,null,null,null,null,null,"Začátek provozního součtu"]
[null,null,"Průměrní hloubka výkopů 2,25 m:",null,0,null,null,null,null,null,null,null,"Průměrní hloubka výkopů 2,25 m:"]
[null,null,"Na Stoce \"A\":",null,0,null,null,null,null,null,null,null,"Na Stoce \"A\":"]
[null,null,"KP DN200 (5 kusů):155,70*1,1*0,80*2,25",null,308.286,null,null,null,null,null,null,null,"KP DN200 (5 kusů):155,70*1,1*0,80*2,25"]
[null,null,"Na Stoce \"A.1\":",null,0,null,null,null,null,null,null,null,"Na Stoce \"A.1\":"]
[null,null,"KP DN150 (10 kusů):223,20*1,1*0,80*2,25",null,441.93599999999998,null,null,null,null,null,null,null,"KP DN150 (10 kusů):223,20*1,1*0,80*2,25"]
[null,null,"KP DN200 (7 kusů):216,80*1,1*0,80*2,25",null,429.26400000000001,null,null,null,null,null,null,null,"KP DN200 (7 kusů):216,80*1,1*0,80*2,25"]
[null,null,"Na Stoce \"A.1-1\":",null,0,null,null,null,null,null,null,null,"Na Stoce \"A.1-1\":"]
[null,null,"KP DN150 (3 kusy):51,80*1,1*0,80*2,25",null,102.56399999999999,null,null,null,null,null,null,null,"KP DN150 (3 kusy):51,80*1,1*0,80*2,25"]
[null,null,"Na Stoce \"B.1\":",null,0,null,null,null,null,null,null,null,"Na Stoce \"B.1\":"]
[null,null,"KP DN150 (2 kusy):47,10*1,1*0,80*2,25",null,93.257999999999996,null,null,null,null,null,null,null,"KP DN150 (2 kusy):47,10*1,1*0,80*2,25"]
[null,null,"Na Stoce \"H\":",null,0,null,null,null,null,null,null,null,"Na Stoce \"H\":"]
[null,null,"KP DN150 (3 kusy):33,20*1,1*0,80*2,25",null,65.736000000000004,null,null,null,null,null,null,null,"KP DN150 (3 kusy):33,20*1,1*0,80*2,25"]
[null,null,"Na Stoce \"I\":",null,0,null,null,null,null,null,null,null,"Na Stoce \"I\":"]
[null,null,"KP DN150 (6 Kusů):175,40*1,1*0,80*2,25",null,347.29199999999997,null,null,null,null,null,null,null,"KP DN150 (6 Kusů):175,40*1,1*0,80*2,25"]
[null,null,"Na Stoce \"J\":",null,0,null,null,null,null,null,null,null,"Na Stoce \"J\":"]
[null,null,"DN 200 (4 kusy):93,40*1,1*0,80*2,25",null,184.93199999999999,null,null,null,null,null,null,null,"DN 200 (4 kusy):93,40*1,1*0,80*2,25"]
[null,null,"Odpočet objemu ornice a zelených ploch - 60% délky:-1096,26*0,80*0,20",null,-175.4016,null,null,null,null,null,null,null,"Odpočet objemu ornice a zelených ploch - 60% délky:-1096,26*0,80*0,20"]
[null,null,"Odpočet ovjemu konstrukcí komunikací a chodníků - 40% délky:-1096,26*0,80*0,40",null,-350.8032,null,null,null,null,null,null,null,"Odpočet ovjemu konstrukcí komunikací a chodníků - 40% délky:-1096,26*0,80*0,40"]
[null,null,"Konec provozního součtu",null,1447.0632000000001,null,null,null,null,null,null,null,"Konec provozního součtu"]
[null,null,"V hornině tř. 3 - 60%:1447,0632*0,6",null,868.23789999999997,null,null,null,null,null,null,null,"V hornině tř. 3 - 60%:1447,0632*0,6"]
[5,"132201219R00","Přípl.za lepivost,hloubení rýh 200cm,hor.3,STROJNĚ ","m3",434.11900000000003,null,{"$f":"E76*F76","v":0},0,{"$f":"E76*H76","v":0},0,{"$f":"E76*J76","v":0},null,null,null,2,null,null,null,null,null,null,null,null,null,null,null,1,1,1,null,null,null,null,null,null,null,null,null,null,null,null,null,null,null,null,null,null,null,null,null,null,1,{"$f":"IF(AZ76=1,G76,0)","v":0},{"$f":"IF(AZ76=2,G76,0)","v":0},{"$f":"IF(AZ76=3,G76,0)","v":0},{"$f":"IF(AZ76=4,G76,0)","v":0},{"$f":"IF(AZ76=5,G76,0)","v":0},null,null,null,null,null,null,null,null,null,null,null,null,null,null,null,null,null,null,null,null,null,1,1]
[null,null,"Kanalizační přípojky PVC DN150 a DN200 + Rezerva 10%:",null,0,null,null,null,null,null,null,null,"Kanalizační přípojky PVC DN150 a DN200 + Rezerva 10%:"]
[null,null,"Výkopy:",null,0,null,null,null,null,null,null,null,"Výkopy:"]
[null,null,"V hornině tř. 3 - 60%:1447,0632*0,6*0,5",null,434.11900000000003,null,null,null,null,null,null,null,"V hornině tř. 3 - 60%:1447,0632*0,6*0,5"]
[6,"132301212R00","Hloubení rýh š.do 200 cm hor.4 do 1000 m3, STROJNĚ ","m3",434.11900000000003,null,{"$f":"E80*F80","v":0},0,{"$f":"E80*H80","v":0},0,{"$f":"E80*J80","v":0},null,null,null,2,null,null,null,null,null,null,null,null,null,null,null,1,1,1,null,null,null,null,null,null,null,null,null,null,null,null,null,null,null,null,null,null,null,null,null,null,1,{"$f":"IF(AZ80=1,G80,0)","v":0},{"$f":"IF(AZ80=2,G80,0)","v":0},{"$f":"IF(AZ80=3,G80,0)","v":0},{"$f":"IF(AZ80=4,G80,0)","v":0},{"$f":"IF(AZ80=5,G80,0)","v":0},null,null,null,null,null,null,null,null,null,null,null,null,null,null,null,null,null,null,null,null,null,1,1]
[null,null,"Položka obsahuje hloubení rýh traktorbagrem, naložení výkopku na dopravní prostředek pro svislé, nebo vodorovné přemístění, popř. přemístění výkopku do 3 m (po povrchu území), případné zajištění rypadel polštáři, udržování pracoviště a ochranu výkopiště proti stékání srážkové vody z okolního terénu i s jejím odvodněním, nebo odvedením, přesekání a odstranění kořenů ve výkopišti, odstranění napadávek, urovnání dna výkopu.",null,null,null,null,null,null,null,null,"Položka obsahuje hloubení rýh traktorbagrem, naložení výkopku na dopravní prostředek pro svislé, nebo vodorovné přemístění, popř. přemístění výkopku do 3 m (po povrchu území), případné zajištění rypadel polštáři, udržování pracoviště a ochranu výkopiště proti stékání srážkové vody z okolního terénu i s jejím odvodněním, nebo odvedením, přesekání a odstranění kořenů ve výkopišti, odstranění napadávek, urovnání dna výkopu.",null,null,3]
[null,null,"Kanalizační přípojky PVC DN150 a DN200 + Rezerva 10%:",null,0,null,null,null,null,null,null,null,"Kanalizační přípojky PVC DN150 a DN200 + Rezerva 10%:"]
[null,null,"Výkopy:",null,0,null,null,null,null,null,null,null,"Výkopy:"]
[null,null,"V hornině tř. 4 - 30%:1447,0632*0,3",null,434.11900000000003,null,null,null,null,null,null,null,"V hornině tř. 4 - 30%:1447,0632*0,3"]
[7,"132301219R00","Přípl.za lepivost,hloubení rýh 200cm,hor.4,STROJNĚ ","m3",217.05950000000001,null,{"$f":"E85*F85","v":0},0,{"$f":"E85*H85","v":0},0,{"$f":"E85*J85","v":0},null,null,null,2,null,null,null,null,null,null,null,null,null,null,null,1,1,1,null,null,null,null,null,null,null,null,null,null,null,null,null,null,null,null,null,null,null,null,null,null,1,{"$f":"IF(AZ85=1,G85,0)","v":0},{"$f":"IF(AZ85=2,G85,0)","v":0},{"$f":"IF(AZ85=3,G85,0)","v":0},{"$f":"IF(AZ85=4,G85,0)","v":0},{"$f":"IF(AZ85=5,G85,0)","v":0},null,null,null,null,null,null,null,null,null,null,null,null,null,null,null,null,null,null,null,null,null,1,1]
[null,null,"Kanalizační přípojky PVC DN150 a DN200 + Rezerva 10%:",null,0,null,null,null,null,null,null,null,"Kanalizační přípojky PVC DN150 a DN200 + Rezerva 10%:"]
[null,null,"Výkopy:",null,0,null,null,null,null,null,null,null,"Výkopy:"]
[null,null,"V hornině tř. 4 - 30%:1447,0632*0,3*0,5",null,217.05950000000001,null,null,null,null,null,null,null,"V hornině tř. 4 - 30%:1447,0632*0,3*0,5"]
[8,"132401211RRX","Hloubení rýh šířky do 200 cm v hor.5 STROJNĚ včetně případného dolamování ve vrstvě do 0,5 m","m3",144.7063,null,{"$f":"E89*F89","v":0},1.0410000000000001E-2,{"$f":"E89*H89","v":1.506392583},0,{"$f":"E89*J89","v":0},null,null,null,2,null,null,null,null,null,null,null,null,null,null,null,1,1,1,null,null,null,null,null,null,null,null,null,null,null,null,null,null,null,null,null,null,null,null,null,null,1,{"$f":"IF(AZ89=1,G89,0)","v":0},{"$f":"IF(AZ89=2,G89,0)","v":0},{"$f":"IF(AZ89=3,G89,0)","v":0},{"$f":"IF(AZ89=4,G89,0)","v":0},{"$f":"IF(AZ89=5,G89,0)","v":0},null,null,null,null,null,null,null,null,null,null,null,null,null,null,null,null,null,null,null,null,null,1,1]
[null,null,"Položka obsahuje hloubení rýh traktorbagrem, naložení výkopku na dopravní prostředek pro svislé, nebo vodorovné přemístění, popř. přemístění výkopku do 3 m (po povrchu území), případné zajištění rypadel polštáři, udržování pracoviště a ochranu výkopiště proti stékání srážkové vody z okolního terénu i s jejím odvodněním, nebo odvedením, přesekání a odstranění kořenů ve výkopišti, odstranění napadávek, urovnání dna výkopu.včetně případného dolamování ve vrstvě do 0,5 m",null,null,null,null,null,null,null,null,"Položka obsahuje hloubení rýh traktorbagrem, naložení výkopku na dopravní prostředek pro svislé, nebo vodorovné přemístění, popř. přemístění výkopku do 3 m (po povrchu území), případné zajištění rypadel polštáři, udržování pracoviště a ochranu výkopiště proti stékání srážkové vody z okolního terénu i s jejím odvodněním, nebo odvedením, přesekání a odstranění kořenů ve výkopišti, odstranění napadávek, urovnání dna výkopu.včetně případného dolamování ve vrstvě do 0,5 m",null,null,3]
[null,null,"Kanalizační přípojky PVC DN150 a DN200 + Rezerva 10%:",null,0,null,null,null,null,null,null,null,"Kanalizační přípojky PVC DN150 a DN200 + Rezerva 10%:"]
[null,null,"Výkopy:",null,0,null,null,null,null,null,null,null,"Výkopy:"]
[null,null,"V hornině tř. 5 - 10%:1447,0632*0,1",null,144.7063,null,null,null,null,null,null,null,"V hornině tř. 5 - 10%:1447,0632*0,1"]
[9,"151101101R00","Pažení a rozepření stěn rýh - příložné - hl.do 2 m ","m2",1775.9412,null,{"$f":"E94*F94","v":0},9.8999999999999999E-4,{"$f":"E94*H94","v":1.7581817879999999},0,{"$f":"E94*J94","v":0},null,null,null,2,null,null,null,null,null,null,null,null,null,null,null,1,1,1,null,null,null,null,null,null,null,null,null,null,null,null,null,null,null,null,null,null,null,null,null,null,1,{"$f":"IF(AZ94=1,G94,0)","v":0},{"$f":"IF(AZ94=2,G94,0)","v":0},{"$f":"IF(AZ94=3,G94,0)","v":0},{"$f":"IF(AZ94=4,G94,0)","v":0},{"$f":"IF(AZ94=5,G94,0)","v":0},null,null,null,null,null,null,null,null,null,null,null,null,null,null,null,null,null,null,null,null,null,1,1]
[null,null,"Kanalizační přípojky PVC DN150 a DN200 + Rezerva 10%:",null,0,null,null,null,null,null,null,null,"Kanalizační přípojky PVC DN150 a DN200 + Rezerva 10%:"]
[null,null,"Výkopy - Pažení na 60% výkopů a do 6 m na 60% dékly:",null,0,null,null,null,null,null,null,null,"Výkopy - Pažení na 60% výkopů a do 6 m na 60% dékly:"]
[null,null,"Začátek provozního součtu",null,0,null,null,null,null,null,null,null,"Začátek provozního součtu"]
[null,null,"Průměrní hloubka výkopů 2,25 m:",null,0,null,null,null,null,null,null,null,"Průměrní hloubka výkopů 2,25 m:"]
[null,null,"Na Stoce \"A\":",null,0,null,null,null,null,null,null,null,"Na Stoce \"A\":"]
[null,null,"KP DN200 (5 kusů):155,70*1,1*2,25*2",null,770.71500000000003,null,null,null,null,null,null,null,"KP DN200 (5 kusů):155,70*1,1*2,25*2"]
[null,null,"Na Stoce \"A.1\":",null,0,null,null,null,null,null,null,null,"Na Stoce \"A.1\":"]
[null,null,"KP DN150 (10 kusů):223,20*1,1*2,25*2",null,1104.8399999999999,null,null,null,null,null,null,null,"KP DN150 (10 kusů):223,20*1,1*2,25*2"]
[null,null,"KP DN200 (7 kusů):216,80*1,1*2,25*2",null,1073.1600000000001,null,null,null,null,null,null,null,"KP DN200 (7 kusů):216,80*1,1*2,25*2"]
[null,null,"Na Stoce \"A.1-1\":",null,0,null,null,null,null,null,null,null,"Na Stoce \"A.1-1\":"]
[null,null,"KP DN150 (3 kusy):51,80*1,1*2,25*2",null,256.41000000000003,null,null,null,null,null,null,null,"KP DN150 (3 kusy):51,80*1,1*2,25*2"]
[null,null,"Na Stoce \"B.1\":",null,0,null,null,null,null,null,null,null,"Na Stoce \"B.1\":"]
[null,null,"KP DN150 (2 kusy):47,10*1,1*2,25*2",null,233.14500000000001,null,null,null,null,null,null,null,"KP DN150 (2 kusy):47,10*1,1*2,25*2"]
[null,null,"Na Stoce \"H\":",null,0,null,null,null,null,null,null,null,"Na Stoce \"H\":"]
[null,null,"KP DN150 (3 kusy):33,20*1,1*2,25*2",null,164.34,null,null,null,null,null,null,null,"KP DN150 (3 kusy):33,20*1,1*2,25*2"]
[null,null,"Na Stoce \"I\":",null,0,null,null,null,null,null,null,null,"Na Stoce \"I\":"]
[null,null,"KP DN150 (6 Kusů):175,40*1,1*2,25*2",null,868.23,null,null,null,null,null,null,null,"KP DN150 (6 Kusů):175,40*1,1*2,25*2"]
[null,null,"Na Stoce \"J\":",null,0,null,null,null,null,null,null,null,"Na Stoce \"J\":"]
[null,null,"DN 200 (4 kusy):93,40*1,1*2,25*2",null,462.33,null,null,null,null,null,null,null,"DN 200 (4 kusy):93,40*1,1*2,25*2"]
[null,null,"Konec provozního součtu",null,4933.17,null,null,null,null,null,null,null,"Konec provozního součtu"]
[null,null,"Celková plocha pažení:4933,1700*0,6*0,6",null,1775.9412,null,null,null,null,null,null,null,"Celková plocha pažení:4933,1700*0,6*0,6"]
[10,"151101102R00","Pažení a rozepření stěn rýh - příložné - hl.do 4 m ","m2",1183.9608000000001,null,{"$f":"E116*F116","v":0},8.5999999999999998E-4,{"$f":"E116*H116","v":1.018206288},0,{"$f":"E116*J116","v":0},null,null,null,2,null,null,null,null,null,null,null,null,null,null,null,1,1,1,null,null,null,null,null,null,null,null,null,null,null,null,null,null,null,null,null,null,null,null,null,null,1,{"$f":"IF(AZ116=1,G116,0)","v":0},{"$f":"IF(AZ116=2,G116,0)","v":0},{"$f":"IF(AZ116=3,G116,0)","v":0},{"$f":"IF(AZ116=4,G116,0)","v":0},{"$f":"IF(AZ116=5,G116,0)","v":0},null,null,null,null,null,null,null,null,null,null,null,null,null,null,null,null,null,null,null,null,null,1,1]
[null,null,"Kanalizační přípojky PVC DN150 a DN200 + Rezerva 10%:",null,0,null,null,null,null,null,null,null,"Kanalizační přípojky PVC DN150 a DN200 + Rezerva 10%:"]
[null,null,"Výkopy - Pažení na 60% výkopů a do 4 m na 40% dékly:",null,0,null,null,null,null,null,null,null,"Výkopy - Pažení na 60% výkopů a do 4 m na 40% dékly:"]
[null,null,"Začátek provozního součtu",null,0,null,null,null,null,null,null,null,"Začátek provozního součtu"]
[null,null,"Průměrní hloubka výkopů 2,25 m:",null,0,null,null,null,null,null,null,null,"Průměrní hloubka výkopů 2,25 m:"]
[null,null,"Na Stoce \"A\":",null,0,null,null,null,null,null,null,null,"Na Stoce \"A\":"]
[null,null,"KP DN200 (5 kusů):155,70*1,1*2,25*2",null,770.71500000000003,null,null,null,null,null,null,null,"KP DN200 (5 kusů):155,70*1,1*2,25*2"]
[null,null,"Na Stoce \"A.1\":",null,0,null,null,null,null,null,null,null,"Na Stoce \"A.1\":"]
[null,null,"KP DN150 (10 kusů):223,20*1,1*2,25*2",null,1104.8399999999999,null,null,null,null,null,null,null,"KP DN150 (10 kusů):223,20*1,1*2,25*2"]
[null,null,"KP DN200 (7 kusů):216,80*1,1*2,25*2",null,1073.1600000000001,null,null,null,null,null,null,null,"KP DN200 (7 kusů):216,80*1,1*2,25*2"]
[null,null,"Na Stoce \"A.1-1\":",null,0,null,null,null,null,null,null,null,"Na Stoce \"A.1-1\":"]
[null,null,"KP DN150 (3 kusy):51,80*1,1*2,25*2",null,256.41000000000003,null,null,null,null,null,null,null,"KP DN150 (3 kusy):51,80*1,1*2,25*2"]
[null,null,"Na Stoce \"B.1\":",null,0,null,null,null,null,null,null,null,"Na Stoce \"B.1\":"]
[null,null,"KP DN150 (2 kusy):47,10*1,1*2,25*2",null,233.14500000000001,null,null,null,null,null,null,null,"KP DN150 (2 kusy):47,10*1,1*2,25*2"]
[null,null,"Na Stoce \"H\":",null,0,null,null,null,null,null,null,null,"Na Stoce \"H\":"]
[null,null,"KP DN150 (3 kusy):33,20*1,1*2,25*2",null,164.34,null,null,null,null,null,null,null,"KP DN150 (3 kusy):33,20*1,1*2,25*2"]
[null,null,"Na Stoce \"I\":",null,0,null,null,null,null,null,null,null,"Na Stoce \"I\":"]
[null,null,"KP DN150 (6 Kusů):175,40*1,1*2,25*2",null,868.23,null,null,null,null,null,null,null,"KP DN150 (6 Kusů):175,40*1,1*2,25*2"]
[null,null,"Na Stoce \"J\":",null,0,null,null,null,null,null,null,null,"Na Stoce \"J\":"]
[null,null,"DN 200 (4 kusy):93,40*1,1*2,25*2",null,462.33,null,null,null,null,null,null,null,"DN 200 (4 kusy):93,40*1,1*2,25*2"]
[null,null,"Konec provozního součtu",null,4933.17,null,null,null,null,null,null,null,"Konec provozního součtu"]
[null,null,"Celková plocha pažení:4933,1700*0,6*0,4",null,1183.9608000000001,null,null,null,null,null,null,null,"Celková plocha pažení:4933,1700*0,6*0,4"]
[11,"151101111R00","Odstranění pažení stěn rýh - příložné - hl. do 2 m ","m2",1775.9412,null,{"$f":"E138*F138","v":0},0,{"$f":"E138*H138","v":0},0,{"$f":"E138*J138","v":0},null,null,null,2,null,null,null,null,null,null,null,null,null,null,null,1,1,1,null,null,null,null,null,null,null,null,null,null,null,null,null,null,null,null,null,null,null,null,null,null,1,{"$f":"IF(AZ138=1,G138,0)","v":0},{"$f":"IF(AZ138=2,G138,0)","v":0},{"$f":"IF(AZ138=3,G138,0)","v":0},{"$f":"IF(AZ138=4,G138,0)","v":0},{"$f":"IF(AZ138=5,G138,0)","v":0},null,null,null,null,null,null,null,null,null,null,null,null,null,null,null,null,null,null,null,null,null,1,1]
[null,null,"Kanalizační přípojky PVC DN150 a DN200 + Rezerva 10%:",null,0,null,null,null,null,null,null,null,"Kanalizační přípojky PVC DN150 a DN200 + Rezerva 10%:"]
[null,null,"Výkopy - Pažení na 60% výkopů a do 6 m na 60% dékly:",null,0,null,null,null,null,null,null,null,"Výkopy - Pažení na 60% výkopů a do 6 m na 60% dékly:"]
[null,null,"Začátek provozního součtu",null,0,null,null,null,null,null,null,null,"Začátek provozního součtu"]
[null,null,"Průměrní hloubka výkopů 2,25 m:",null,0,null,null,null,null,null,null,null,"Průměrní hloubka výkopů 2,25 m:"]
[null,null,"Na Stoce \"A\":",null,0,null,null,null,null,null,null,null,"Na Stoce \"A\":"]
[null,null,"KP DN200 (5 kusů):155,70*1,1*2,25*2",null,770.71500000000003,null,null,null,null,null,null,null,"KP DN200 (5 kusů):155,70*1,1*2,25*2"]
[null,null,"Na Stoce \"A.1\":",null,0,null,null,null,null,null,null,null,"Na Stoce \"A.1\":"]
[null,null,"KP DN150 (10 kusů):223,20*1,1*2,25*2",null,1104.8399999999999,null,null,null,null,null,null,null,"KP DN150 (10 kusů):223,20*1,1*2,25*2"]
[null,null,"KP DN200 (7 kusů):216,80*1,1*2,25*2",null,1073.1600000000001,null,null,null,null,null,null,null,"KP DN200 (7 kusů):216,80*1,1*2,25*2"]
[null,null,"Na Stoce \"A.1-1\":",null,0,null,null,null,null,null,null,null,"Na Stoce \"A.1-1\":"]
[null,null,"KP DN150 (3 kusy):51,80*1,1*2,25*2",null,256.41000000000003,null,null,null,null,null,null,null,"KP DN150 (3 kusy):51,80*1,1*2,25*2"]
[null,null,"Na Stoce \"B.1\":",null,0,null,null,null,null,null,null,null,"Na Stoce \"B.1\":"]
[null,null,"KP DN150 (2 kusy):47,10*1,1*2,25*2",null,233.14500000000001,null,null,null,null,null,null,null,"KP DN150 (2 kusy):47,10*1,1*2,25*2"]
[null,null,"Na Stoce \"H\":",null,0,null,null,null,null,null,null,null,"Na Stoce \"H\":"]
[null,null,"KP DN150 (3 kusy):33,20*1,1*2,25*2",null,164.34,null,null,null,null,null,null,null,"KP DN150 (3 kusy):33,20*1,1*2,25*2"]
[null,null,"Na Stoce \"I\":",null,0,null,null,null,null,null,null,null,"Na Stoce \"I\":"]
[null,null,"KP DN150 (6 Kusů):175,40*1,1*2,25*2",null,868.23,null,null,null,null,null,null,null,"KP DN150 (6 Kusů):175,40*1,1*2,25*2"]
[null,null,"Na Stoce \"J\":",null,0,null,null,null,null,null,null,null,"Na Stoce \"J\":"]
[null,null,"DN 200 (4 kusy):93,40*1,1*2,25*2",null,462.33,null,null,null,null,null,null,null,"DN 200 (4 kusy):93,40*1,1*2,25*2"]
[null,null,"Konec provozního součtu",null,4933.17,null,null,null,null,null,null,null,"Konec provozního součtu"]
[null,null,"Celková plocha pažení:4933,1700*0,6*0,6",null,1775.9412,null,null,null,null,null,null,null,"Celková plocha pažení:4933,1700*0,6*0,6"]
[12,"151101112R00","Odstranění pažení stěn rýh - příložné - hl. do 4 m ","m2",1183.9608000000001,null,{"$f":"E160*F160","v":0},0,{"$f":"E160*H160","v":0},0,{"$f":"E160*J160","v":0},null,null,null,2,null,null,null,null,null,null,null,null,null,null,null,1,1,1,null,null,null,null,null,null,null,null,null,null,null,null,null,null,null,null,null,null,null,null,null,null,1,{"$f":"IF(AZ160=1,G160,0)","v":0},{"$f":"IF(AZ160=2,G160,0)","v":0},{"$f":"IF(AZ160=3,G160,0)","v":0},{"$f":"IF(AZ160=4,G160,0)","v":0},{"$f":"IF(AZ160=5,G160,0)","v":0},null,null,null,null,null,null,null,null,null,null,null,null,null,null,null,null,null,null,null,null,null,1,1]
[null,null,"Kanalizační přípojky PVC DN150 a DN200 + Rezerva 10%:",null,0,null,null,null,null,null,null,null,"Kanalizační přípojky PVC DN150 a DN200 + Rezerva 10%:"]
[null,null,"Výkopy - Pažení na 60% výkopů a do 4 m na 40% dékly:",null,0,null,null,null,null,null,null,null,"Výkopy - Pažení na 60% výkopů a do 4 m na 40% dékly:"]
[null,null,"Začátek provozního součtu",null,0,null,null,null,null,null,null,null,"Začátek provozního součtu"]
[null,null,"Průměrní hloubka výkopů 2,25 m:",null,0,null,null,null,null,null,null,null,"Průměrní hloubka výkopů 2,25 m:"]
[null,null,"Na Stoce \"A\":",null,0,null,null,null,null,null,null,null,"Na Stoce \"A\":"]
[null,null,"KP DN200 (5 kusů):155,70*1,1*2,25*2",null,770.71500000000003,null,null,null,null,null,null,null,"KP DN200 (5 kusů):155,70*1,1*2,25*2"]
[null,null,"Na Stoce \"A.1\":",null,0,null,null,null,null,null,null,null,"Na Stoce \"A.1\":"]
[null,null,"KP DN150 (10 kusů):223,20*1,1*2,25*2",null,1104.8399999999999,null,null,null,null,null,null,null,"KP DN150 (10 kusů):223,20*1,1*2,25*2"]
[null,null,"KP DN200 (7 kusů):216,80*1,1*2,25*2",null,1073.1600000000001,null,null,null,null,null,null,null,"KP DN200 (7 kusů):216,80*1,1*2,25*2"]
[null,null,"Na Stoce \"A.1-1\":",null,0,null,null,null,null,null,null,null,"Na Stoce \"A.1-1\":"]
[null,null,"KP DN150 (3 kusy):51,80*1,1*2,25*2",null,256.41000000000003,null,null,null,null,null,null,null,"KP DN150 (3 kusy):51,80*1,1*2,25*2"]
[null,null,"Na Stoce \"B.1\":",null,0,null,null,null,null,null,null,null,"Na Stoce \"B.1\":"]
[null,null,"KP DN150 (2 kusy):47,10*1,1*2,25*2",null,233.14500000000001,null,null,null,null,null,null,null,"KP DN150 (2 kusy):47,10*1,1*2,25*2"]
[null,null,"Na Stoce \"H\":",null,0,null,null,null,null,null,null,null,"Na Stoce \"H\":"]
[null,null,"KP DN150 (3 kusy):33,20*1,1*2,25*2",null,164.34,null,null,null,null,null,null,null,"KP DN150 (3 kusy):33,20*1,1*2,25*2"]
[null,null,"Na Stoce \"I\":",null,0,null,null,null,null,null,null,null,"Na Stoce \"I\":"]
[null,null,"KP DN150 (6 Kusů):175,40*1,1*2,25*2",null,868.23,null,null,null,null,null,null,null,"KP DN150 (6 Kusů):175,40*1,1*2,25*2"]
[null,null,"Na Stoce \"J\":",null,0,null,null,null,null,null,null,null,"Na Stoce \"J\":"]
[null,null,"DN 200 (4 kusy):93,40*1,1*2,25*2",null,462.33,null,null,null,null,null,null,null,"DN 200 (4 kusy):93,40*1,1*2,25*2"]
[null,null,"Konec provozního součtu",null,4933.17,null,null,null,null,null,null,null,"Konec provozního součtu"]
[null,null,"Celková plocha pažení:4933,1700*0,6*0,4",null,1183.9608000000001,null,null,null,null,null,null,null,"Celková plocha pažení:4933,1700*0,6*0,4"]
[13,"162701105RSZ","Vodorovné přemístění výkopku z hor.1-7 na skládku zhotovitele","m3",896.36329999999998,null,{"$f":"E182*F182","v":0},0,{"$f":"E182*H182","v":0},0,{"$f":"E182*J182","v":0},null,null,null,2,null,null,null,null,null,null,null,null,null,null,null,1,1,1,null,null,null,null,null,null,null,null,null,null,null,null,null,null,null,null,null,null,null,null,null,null,1,{"$f":"IF(AZ182=1,G182,0)","v":0},{"$f":"IF(AZ182=2,G182,0)","v":0},{"$f":"IF(AZ182=3,G182,0)","v":0},{"$f":"IF(AZ182=4,G182,0)","v":0},{"$f":"IF(AZ182=5,G182,0)","v":0},null,null,null,null,null,null,null,null,null,null,null,null,null,null,null,null,null,null,null,null,null,1,1]
[null,null,"Kanalizační přípojky PVC DN150 a DN200 + Rezerva 10%:",null,0,null,null,null,null,null,null,null,"Kanalizační přípojky PVC DN150 a DN200 + Rezerva 10%:"]
[null,null,"Výkopy:",null,0,null,null,null,null,null,null,null,"Výkopy:"]
[null,null,"V hornině tř. 3 - 5:1447,0632",null,1447.0632000000001,null,null,null,null,null,null,null,"V hornině tř. 3 - 5:1447,0632"]
[null,null,"Odpočet objemu zásypů zeminou:-550,6999",null,-550.69989999999996,null,null,null,null,null,null,null,"Odpočet objemu zásypů zeminou:-550,6999"]
[14,"174101101R00","Zásyp jam, rýh, šachet se zhutněním ","m3",928.3836,null,{"$f":"E187*F187","v":0},0,{"$f":"E187*H187","v":0},0,{"$f":"E187*J187","v":0},null,null,null,2,null,null,null,null,null,null,null,null,null,null,null,1,1,1,null,null,null,null,null,null,null,null,null,null,null,null,null,null,null,null,null,null,null,null,null,null,1,{"$f":"IF(AZ187=1,G187,0)","v":0},{"$f":"IF(AZ187=2,G187,0)","v":0},{"$f":"IF(AZ187=3,G187,0)","v":0},{"$f":"IF(AZ187=4,G187,0)","v":0},{"$f":"IF(AZ187=5,G187,0)","v":0},null,null,null,null,null,null,null,null,null,null,null,null,null,null,null,null,null,null,null,null,null,1,1]
[null,null,"Položka obsahuje strojní přemístění materiálu pro zásyp ze vzdálenosti do 10 m od okraje zásypu.",null,null,null,null,null,null,null,null,"Položka obsahuje strojní přemístění materiálu pro zásyp ze vzdálenosti do 10 m od okraje zásypu.",null,null,3]
[null,null,null,null,null,null,null,null,null,null,null,null,null,null,3]
[null,null,"Kanalizační přípojky PVC DN150 a DN200 + Rezerva 10%:",null,0,null,null,null,null,null,null,null,"Kanalizační přípojky PVC DN150 a DN200 + Rezerva 10%:"]
[null,null,"Zásypy rýh zeminou na 60% dékly :550,6999",null,550.69989999999996,null,null,null,null,null,null,null,"Zásypy rýh zeminou na 60% dékly :550,6999"]
[null,null,"Začátek provozního součtu",null,0,null,null,null,null,null,null,null,"Začátek provozního součtu"]
[null,null,"Výkopy:",null,0,null,null,null,null,null,null,null,"Výkopy:"]
[null,null,"V hornině tř. 3 - 5 - 60%:1447,0632*0,6",null,868.23789999999997,null,null,null,null,null,null,null,"V hornině tř. 3 - 5 - 60%:1447,0632*0,6"]
[null,null,"Odpočet lože, potrubí a obsypů pro DN150:-583,7700*0,80*(0,10+0,15+0,30)*0,6",null,-154.11529999999999,null,null,null,null,null,null,null,"Odpočet lože, potrubí a obsypů pro DN150:-583,7700*0,80*(0,10+0,15+0,30)*0,6"]
[null,null,"Odpočet lože, potrubí a obsypů pro DN200:-512,4900*0,80*(0,10+0,20+0,30)*0,6",null,-147.59710000000001,null,null,null,null,null,null,null,"Odpočet lože, potrubí a obsypů pro DN200:-512,4900*0,80*(0,10+0,20+0,30)*0,6"]
[null,null,"Odpočet objemu DRŠ:-15,8256",null,-15.8256,null,null,null,null,null,null,null,"Odpočet objemu DRŠ:-15,8256"]
[null,null,"Konec provozního součtu",null,550.69989999999996,null,null,null,null,null,null,null,"Konec provozního součtu"]
[null,null,"Zásypy rýh ŠD fr. 0-63 mm na 40% délky:377,6837",null,377.68369999999999,null,null,null,null,null,null,null,"Zásypy rýh ŠD fr. 0-63 mm na 40% délky:377,6837"]
[null,null,"Začátek provozního součtu",null,0,null,null,null,null,null,null,null,"Začátek provozního součtu"]
[null,null,"Výkopy:",null,0,null,null,null,null,null,null,null,"Výkopy:"]
[null,null,"V hornině tř. 3 - 5 - 40%:1447,0632*0,4",null,578.82529999999997,null,null,null,null,null,null,null,"V hornině tř. 3 - 5 - 40%:1447,0632*0,4"]
[null,null,"Odpočet lože, potrubí a obsypů pro DN150:-583,7700*0,80*(0,10+0,15+0,30)*0,4",null,-102.7435,null,null,null,null,null,null,null,"Odpočet lože, potrubí a obsypů pro DN150:-583,7700*0,80*(0,10+0,15+0,30)*0,4"]
[null,null,"Odpočet lože, potrubí a obsypů pro DN200:-512,4900*0,80*(0,10+0,20+0,30)*0,4",null,-98.398099999999999,null,null,null,null,null,null,null,"Odpočet lože, potrubí a obsypů pro DN200:-512,4900*0,80*(0,10+0,20+0,30)*0,4"]
[null,null,"Konec provozního součtu",null,377.68369999999999,null,null,null,null,null,null,null,"Konec provozního součtu"]
[15,"175101101R00","Obsyp potrubí bez prohození sypaniny ","m3",388.73680000000002,null,{"$f":"E206*F206","v":0},0,{"$f":"E206*H206","v":0},0,{"$f":"E206*J206","v":0},null,null,null,2,null,null,null,null,null,null,null,null,null,null,null,1,1,1,null,null,null,null,null,null,null,null,null,null,null,null,null,null,null,null,null,null,null,null,null,null,1,{"$f":"IF(AZ206=1,G206,0)","v":0},{"$f":"IF(AZ206=2,G206,0)","v":0},{"$f":"IF(AZ206=3,G206,0)","v":0},{"$f":"IF(AZ206=4,G206,0)","v":0},{"$f":"IF(AZ206=5,G206,0)","v":0},null,null,null,null,null,null,null,null,null,null,null,null,null,null,null,null,null,null,null,null,null,1,1]
[null,null,"Kanalizační přípojky PVC DN150 a DN200 + Rezerva 10%:",null,0,null,null,null,null,null,null,null,"Kanalizační přípojky PVC DN150 a DN200 + Rezerva 10%:"]
[null,null,"Na Stoce \"A\":",null,0,null,null,null,null,null,null,null,"Na Stoce \"A\":"]
[null,null,"KP DN200 (5 kusů):155,70*1,1*(0,80*(0,20+0,30)-0,10^2*Pi)",null,63.127400000000002,null,null,null,null,null,null,null,"KP DN200 (5 kusů):155,70*1,1*(0,80*(0,20+0,30)-0,10^2*Pi)"]
[null,null,"Na Stoce \"A.1\":",null,0,null,null,null,null,null,null,null,"Na Stoce \"A.1\":"]
[null,null,"KP DN150 (10 kusů):223,20*1,1*(0,80*(0,15+0,30)-0,075^2*Pi)",null,84.048500000000004,null,null,null,null,null,null,null,"KP DN150 (10 kusů):223,20*1,1*(0,80*(0,15+0,30)-0,075^2*Pi)"]
[null,null,"KP DN200 (7 kusů):216,80*1,1*(0,80*(0,20+0,30)-0,10^2*Pi)",null,87.899900000000002,null,null,null,null,null,null,null,"KP DN200 (7 kusů):216,80*1,1*(0,80*(0,20+0,30)-0,10^2*Pi)"]
[null,null,"Na Stoce \"A.1-1\":",null,0,null,null,null,null,null,null,null,"Na Stoce \"A.1-1\":"]
[null,null,"KP DN150 (3 kusy):51,80*1,1*(0,80*(0,15+0,30)-0,075^2*Pi)",null,19.5059,null,null,null,null,null,null,null,"KP DN150 (3 kusy):51,80*1,1*(0,80*(0,15+0,30)-0,075^2*Pi)"]
[null,null,"Na Stoce \"B.1\":",null,0,null,null,null,null,null,null,null,"Na Stoce \"B.1\":"]
[null,null,"KP DN150 (2 kusy):47,10*1,1*(0,80*(0,15+0,30)-0,075^2*Pi)",null,17.736000000000001,null,null,null,null,null,null,null,"KP DN150 (2 kusy):47,10*1,1*(0,80*(0,15+0,30)-0,075^2*Pi)"]
[null,null,"Na Stoce \"H\":",null,0,null,null,null,null,null,null,null,"Na Stoce \"H\":"]
[null,null,"KP DN150 (3 kusy):33,20*1,1*(0,80*(0,15+0,30)-0,075^2*Pi)",null,12.501799999999999,null,null,null,null,null,null,null,"KP DN150 (3 kusy):33,20*1,1*(0,80*(0,15+0,30)-0,075^2*Pi)"]
[null,null,"Na Stoce \"I\":",null,0,null,null,null,null,null,null,null,"Na Stoce \"I\":"]
[null,null,"KP DN150 (6 Kusů):175,40*1,1*(0,80*(0,15+0,30)-0,075^2*Pi)",null,66.048900000000003,null,null,null,null,null,null,null,"KP DN150 (6 Kusů):175,40*1,1*(0,80*(0,15+0,30)-0,075^2*Pi)"]
[null,null,"Na Stoce \"J\":",null,0,null,null,null,null,null,null,null,"Na Stoce \"J\":"]
[null,null,"DN 200 (4 kusy):93,40*1,1*(0,80*(0,20+0,30)-0,10^2*Pi)",null,37.868299999999998,null,null,null,null,null,null,null,"DN 200 (4 kusy):93,40*1,1*(0,80*(0,20+0,30)-0,10^2*Pi)"]
[16,"199000002R00","Poplatek za skládku horniny 1- 7 č. dle katal. odpadů 17 05 04","m3",896.36329999999998,null,{"$f":"E223*F223","v":0},0,{"$f":"E223*H223","v":0},0,{"$f":"E223*J223","v":0},null,null,null,2,null,null,null,null,null,null,null,null,null,null,null,1,1,1,null,null,null,null,null,null,null,null,null,null,null,null,null,null,null,null,null,null,null,null,null,null,1,{"$f":"IF(AZ223=1,G223,0)","v":0},{"$f":"IF(AZ223=2,G223,0)","v":0},{"$f":"IF(AZ223=3,G223,0)","v":0},{"$f":"IF(AZ223=4,G223,0)","v":0},{"$f":"IF(AZ223=5,G223,0)","v":0},null,null,null,null,null,null,null,null,null,null,null,null,null,null,null,null,null,null,null,null,null,1,1]
[null,null,"Kanalizační přípojky PVC DN150 a DN200 + Rezerva 10%:",null,0,null,null,null,null,null,null,null,"Kanalizační přípojky PVC DN150 a DN200 + Rezerva 10%:"]
[null,null,"Výkopy:",null,0,null,null,null,null,null,null,null,"Výkopy:"]
[null,null,"V hornině tř. 3 - 5:1447,0632",null,1447.0632000000001,null,null,null,null,null,null,null,"V hornině tř. 3 - 5:1447,0632"]
[null,null,"Odpočet objemu zásypů zeminou:-550,6999",null,-550.69989999999996,null,null,null,null,null,null,null,"Odpočet objemu zásypů zeminou:-550,6999"]
[17,"58337308.R","Štěrkopísek frakce 0-2 tř.B","t",774.64750000000004,null,{"$f":"E228*F228","v":0},1,{"$f":"E228*H228","v":774.64750000000004},null,{"$f":"E228*J228","v":0},null,null,null,2,null,null,null,null,null,null,null,null,null,null,null,3,1,"58337308.R",null,null,null,null,null,null,null,null,null,null,null,null,null,null,null,null,null,null,null,null,null,null,1,{"$f":"IF(AZ228=1,G228,0)","v":0},{"$f":"IF(AZ228=2,G228,0)","v":0},{"$f":"IF(AZ228=3,G228,0)","v":0},{"$f":"IF(AZ228=4,G228,0)","v":0},{"$f":"IF(AZ228=5,G228,0)","v":0},null,null,null,null,null,null,null,null,null,null,null,null,null,null,null,null,null,null,null,null,null,3,1]
[null,null,"Kanalizační přípojky PVC DN150 a DN200 + Rezerva 10%:",null,0,null,null,null,null,null,null,null,"Kanalizační přípojky PVC DN150 a DN200 + Rezerva 10%:"]
[null,null,"Na Stoce \"A\":",null,0,null,null,null,null,null,null,null,"Na Stoce \"A\":"]
[null,null,"KP DN200 (5 kusů):155,70*1,1*(0,80*(0,20+0,30)-0,10^2*Pi)*1,973*1,01",null,125.7959,null,null,null,null,null,null,null,"KP DN200 (5 kusů):155,70*1,1*(0,80*(0,20+0,30)-0,10^2*Pi)*1,973*1,01"]
[null,null,"Na Stoce \"A.1\":",null,0,null,null,null,null,null,null,null,"Na Stoce \"A.1\":"]
[null,null,"KP DN150 (10 kusů):223,20*1,1*(0,80*(0,15+0,30)-0,075^2*Pi)*1,973*1,01",null,167.48599999999999,null,null,null,null,null,null,null,"KP DN150 (10 kusů):223,20*1,1*(0,80*(0,15+0,30)-0,075^2*Pi)*1,973*1,01"]
[null,null,"KP DN200 (7 kusů):216,80*1,1*(0,80*(0,20+0,30)-0,10^2*Pi)*1,973*1,01",null,175.16079999999999,null,null,null,null,null,null,null,"KP DN200 (7 kusů):216,80*1,1*(0,80*(0,20+0,30)-0,10^2*Pi)*1,973*1,01"]
[null,null,"Na Stoce \"A.1-1\":",null,0,null,null,null,null,null,null,null,"Na Stoce \"A.1-1\":"]
[null,null,"KP DN150 (3 kusy):51,80*1,1*(0,80*(0,15+0,30)-0,075^2*Pi)*1,973*1,01",null,38.869999999999997,null,null,null,null,null,null,null,"KP DN150 (3 kusy):51,80*1,1*(0,80*(0,15+0,30)-0,075^2*Pi)*1,973*1,01"]
[null,null,"Na Stoce \"B.1\":",null,0,null,null,null,null,null,null,null,"Na Stoce \"B.1\":"]
[null,null,"KP DN150 (2 kusy):47,10*1,1*(0,80*(0,15+0,30)-0,075^2*Pi)*1,973*1,01",null,35.3431,null,null,null,null,null,null,null,"KP DN150 (2 kusy):47,10*1,1*(0,80*(0,15+0,30)-0,075^2*Pi)*1,973*1,01"]
[null,null,"Na Stoce \"H\":",null,0,null,null,null,null,null,null,null,"Na Stoce \"H\":"]
[null,null,"KP DN150 (3 kusy):33,20*1,1*(0,80*(0,15+0,30)-0,075^2*Pi)*1,973*1,01",null,24.912800000000001,null,null,null,null,null,null,null,"KP DN150 (3 kusy):33,20*1,1*(0,80*(0,15+0,30)-0,075^2*Pi)*1,973*1,01"]
[null,null,"Na Stoce \"I\":",null,0,null,null,null,null,null,null,null,"Na Stoce \"I\":"]
[null,null,"KP DN150 (6 Kusů):175,40*1,1*(0,80*(0,15+0,30)-0,075^2*Pi)*1,973*1,01",null,131.61760000000001,null,null,null,null,null,null,null,"KP DN150 (6 Kusů):175,40*1,1*(0,80*(0,15+0,30)-0,075^2*Pi)*1,973*1,01"]
[null,null,"Na Stoce \"J\":",null,0,null,null,null,null,null,null,null,"Na Stoce \"J\":"]
[null,null,"DN 200 (4 kusy):93,40*1,1*(0,80*(0,20+0,30)-0,10^2*Pi)*1,973*1,01",null,75.461399999999998,null,null,null,null,null,null,null,"DN 200 (4 kusy):93,40*1,1*(0,80*(0,20+0,30)-0,10^2*Pi)*1,973*1,01"]
[18,"58344197R","Štěrkodrtě frakce 0-63 A","t",714.47559999999999,null,{"$f":"E245*F245","v":0},1,{"$f":"E245*H245","v":714.47559999999999},null,{"$f":"E245*J245","v":0},null,null,null,2,null,null,null,null,null,null,null,null,null,null,null,3,1,"58344197R",null,null,null,null,null,null,null,null,null,null,null,null,null,null,null,null,null,null,null,null,null,null,1,{"$f":"IF(AZ245=1,G245,0)","v":0},{"$f":"IF(AZ245=2,G245,0)","v":0},{"$f":"IF(AZ245=3,G245,0)","v":0},{"$f":"IF(AZ245=4,G245,0)","v":0},{"$f":"IF(AZ245=5,G245,0)","v":0},null,null,null,null,null,null,null,null,null,null,null,null,null,null,null,null,null,null,null,null,null,3,1]
[null,null,"Kanalizační přípojky PVC DN150 a DN200 + Rezerva 10%:",null,0,null,null,null,null,null,null,null,"Kanalizační přípojky PVC DN150 a DN200 + Rezerva 10%:"]
[null,null,"Zásypy rýh ŠD fr. 0-63 mm na 40% délky:377,6837*1,873*1,01",null,714.47559999999999,null,null,null,null,null,null,null,"Zásypy rýh ŠD fr. 0-63 mm na 40% délky:377,6837*1,873*1,01"]
[null,null,"Začátek provozního součtu",null,0,null,null,null,null,null,null,null,"Začátek provozního součtu"]
[null,null,"Výkopy:",null,0,null,null,null,null,null,null,null,"Výkopy:"]
[null,null,"V hornině tř. 3 - 5 - 40%:1447,0632*0,4",null,578.82529999999997,null,null,null,null,null,null,null,"V hornině tř. 3 - 5 - 40%:1447,0632*0,4"]
[null,null,"Odpočet lože, potrubí a obsypů pro DN150:-583,7700*0,80*(0,10+0,15+0,30)*0,4",null,-102.7435,null,null,null,null,null,null,null,"Odpočet lože, potrubí a obsypů pro DN150:-583,7700*0,80*(0,10+0,15+0,30)*0,4"]
[null,null,"Odpočet lože, potrubí a obsypů pro DN200:-512,4900*0,80*(0,10+0,20+0,30)*0,4",null,-98.398099999999999,null,null,null,null,null,null,null,"Odpočet lože, potrubí a obsypů pro DN200:-512,4900*0,80*(0,10+0,20+0,30)*0,4"]
[null,null,"Konec provozního součtu",null,377.68369999999999,null,null,null,null,null,null,null,"Konec provozního součtu"]
[null,"Celkem za","1 Zemní práce",null,null,null,{"$f":"SUM(G7:G253)","v":0},null,{"$f":"SUM(I7:I253)","v":1493.4058806590001},null,{"$f":"SUM(K7:K253)","v":0},null,null,null,4,null,null,null,null,null,null,null,null,null,null,null,null,null,null,null,null,null,null,null,null,null,null,null,null,null,null,null,null,null,null,null,null,null,null,null,null,null,{"$f":"SUM(BA7:BA253)","v":0},{"$f":"SUM(BB7:BB253)","v":0},{"$f":"SUM(BC7:BC253)","v":0},{"$f":"SUM(BD7:BD253)","v":0},{"$f":"SUM(BE7:BE253)","v":0}]
["Díl:","45","Podkladní a vedlejší konstrukce",null,null,null,null,null,null,null,null,null,null,null,1]
[19,"451572111R00","Lože pod potrubí z kameniva těženého 0 - 4 mm ","m3",87.700800000000001,null,{"$f":"E256*F256","v":0},0.43051,{"$f":"E256*H256","v":37.756071408000004},0,{"$f":"E256*J256","v":0},null,null,null,2,null,null,null,null,null,null,null,null,null,null,null,1,1,1,null,null,null,null,null,null,null,null,null,null,null,null,null,null,null,null,null,null,null,null,null,null,1,{"$f":"IF(AZ256=1,G256,0)","v":0},{"$f":"IF(AZ256=2,G256,0)","v":0},{"$f":"IF(AZ256=3,G256,0)","v":0},{"$f":"IF(AZ256=4,G256,0)","v":0},{"$f":"IF(AZ256=5,G256,0)","v":0},null,null,null,null,null,null,null,null,null,null,null,null,null,null,null,null,null,null,null,null,null,1,1]
[null,null,"Kanalizační přípojky PVC DN150 a DN200 + Rezerva 10%:",null,0,null,null,null,null,null,null,null,"Kanalizační přípojky PVC DN150 a DN200 + Rezerva 10%:"]
[null,null,"Na Stoce \"A\":",null,0,null,null,null,null,null,null,null,"Na Stoce \"A\":"]
[null,null,"KP DN200 (5 kusů):155,70*1,1*0,80*0,10",null,13.701599999999999,null,null,null,null,null,null,null,"KP DN200 (5 kusů):155,70*1,1*0,80*0,10"]
[null,null,"Na Stoce \"A.1\":",null,0,null,null,null,null,null,null,null,"Na Stoce \"A.1\":"]
[null,null,"KP DN150 (10 kusů):223,20*1,1*0,80*0,10",null,19.6416,null,null,null,null,null,null,null,"KP DN150 (10 kusů):223,20*1,1*0,80*0,10"]
[null,null,"KP DN200 (7 kusů):216,80*1,1*0,80*0,10",null,19.078399999999998,null,null,null,null,null,null,null,"KP DN200 (7 kusů):216,80*1,1*0,80*0,10"]
[null,null,"Na Stoce \"A.1-1\":",null,0,null,null,null,null,null,null,null,"Na Stoce \"A.1-1\":"]
[null,null,"KP DN150 (3 kusy):51,80*1,1*0,80*0,10",null,4.5583999999999998,null,null,null,null,null,null,null,"KP DN150 (3 kusy):51,80*1,1*0,80*0,10"]
[null,null,"Na Stoce \"B.1\":",null,0,null,null,null,null,null,null,null,"Na Stoce \"B.1\":"]
[null,null,"KP DN150 (2 kusy):47,10*1,1*0,80*0,10",null,4.1448,null,null,null,null,null,null,null,"KP DN150 (2 kusy):47,10*1,1*0,80*0,10"]
[null,null,"Na Stoce \"H\":",null,0,null,null,null,null,null,null,null,"Na Stoce \"H\":"]
[null,null,"KP DN150 (3 kusy):33,20*1,1*0,80*0,10",null,2.9216000000000002,null,null,null,null,null,null,null,"KP DN150 (3 kusy):33,20*1,1*0,80*0,10"]
[null,null,"Na Stoce \"I\":",null,0,null,null,null,null,null,null,null,"Na Stoce \"I\":"]
[null,null,"KP DN150 (6 Kusů):175,40*1,1*0,80*0,10",null,15.4352,null,null,null,null,null,null,null,"KP DN150 (6 Kusů):175,40*1,1*0,80*0,10"]
[null,null,"Na Stoce \"J\":",null,0,null,null,null,null,null,null,null,"Na Stoce \"J\":"]
[null,null,"DN 200 (4 kusy):93,40*1,1*0,80*0,10",null,8.2192000000000007,null,null,null,null,null,null,null,"DN 200 (4 kusy):93,40*1,1*0,80*0,10"]
[null,"Celkem za","45 Podkladní a vedlejší konstrukce",null,null,null,{"$f":"SUM(G255:G272)","v":0},null,{"$f":"SUM(I255:I272)","v":37.756071408000004},null,{"$f":"SUM(K255:K272)","v":0},null,null,null,4,null,null,null,null,null,null,null,null,null,null,null,null,null,null,null,null,null,null,null,null,null,null,null,null,null,null,null,null,null,null,null,null,null,null,null,null,null,{"$f":"SUM(BA255:BA272)","v":0},{"$f":"SUM(BB255:BB272)","v":0},{"$f":"SUM(BC255:BC272)","v":0},{"$f":"SUM(BD255:BD272)","v":0},{"$f":"SUM(BE255:BE272)","v":0}]
["Díl:","5","Komunikace",null,null,null,null,null,null,null,null,null,null,null,1]
[20,"572701119RRX","Provizorní zásyp rýh kam. hrubě drceným nebo recyk s následným odstraněním a odvozem","m3",140.32130000000001,null,{"$f":"E275*F275","v":0},1.4804999999999999,{"$f":"E275*H275","v":207.74568465000002},0,{"$f":"E275*J275","v":0},null,null,null,2,null,null,null,null,null,null,null,null,null,null,null,1,1,1,null,null,null,null,null,null,null,null,null,null,null,null,null,null,null,null,null,null,null,null,null,null,1,{"$f":"IF(AZ275=1,G275,0)","v":0},{"$f":"IF(AZ275=2,G275,0)","v":0},{"$f":"IF(AZ275=3,G275,0)","v":0},{"$f":"IF(AZ275=4,G275,0)","v":0},{"$f":"IF(AZ275=5,G275,0)","v":0},null,null,null,null,null,null,null,null,null,null,null,null,null,null,null,null,null,null,null,null,null,1,1]
[null,null,"Kanalizační přípojky PVC DN150 a DN200 + Rezerva 10%:",null,0,null,null,null,null,null,null,null,"Kanalizační přípojky PVC DN150 a DN200 + Rezerva 10%:"]
[null,null,"Provizorní zásypy rýh na 40% délky:",null,0,null,null,null,null,null,null,null,"Provizorní zásypy rýh na 40% délky:"]
[null,null,"KP DN150:583,7700*0,80*0,40*0,4",null,74.7226,null,null,null,null,null,null,null,"KP DN150:583,7700*0,80*0,40*0,4"]
[null,null,"KP DN200:512,4900*0,80*0,40*0,4",null,65.598699999999994,null,null,null,null,null,null,null,"KP DN200:512,4900*0,80*0,40*0,4"]
[null,"Celkem za","5 Komunikace",null,null,null,{"$f":"SUM(G274:G279)","v":0},null,{"$f":"SUM(I274:I279)","v":207.74568465000002},null,{"$f":"SUM(K274:K279)","v":0},null,null,null,4,null,null,null,null,null,null,null,null,null,null,null,null,null,null,null,null,null,null,null,null,null,null,null,null,null,null,null,null,null,null,null,null,null,null,null,null,null,{"$f":"SUM(BA274:BA279)","v":0},{"$f":"SUM(BB274:BB279)","v":0},{"$f":"SUM(BC274:BC279)","v":0},{"$f":"SUM(BD274:BD279)","v":0},{"$f":"SUM(BE274:BE279)","v":0}]
["Díl:","8","Trubní vedení",null,null,null,null,null,null,null,null,null,null,null,1]
[21,"871313121R00","Montáž trub z plastu, gumový kroužek, DN 150 ","m",583.77,null,{"$f":"E282*F282","v":0},0,{"$f":"E282*H282","v":0},0,{"$f":"E282*J282","v":0},null,null,null,2,null,null,null,null,null,null,null,null,null,null,null,1,0,0,null,null,null,null,null,null,null,null,null,null,null,null,null,null,null,null,null,null,null,null,null,null,1,{"$f":"IF(AZ282=1,G282,0)","v":0},{"$f":"IF(AZ282=2,G282,0)","v":0},{"$f":"IF(AZ282=3,G282,0)","v":0},{"$f":"IF(AZ282=4,G282,0)","v":0},{"$f":"IF(AZ282=5,G282,0)","v":0},null,null,null,null,null,null,null,null,null,null,null,null,null,null,null,null,null,null,null,null,null,1,0]
[null,null,"V položce je uvažováno s jedním spojem na 6 m potrubí. Položka je určena pro montáž potrubí z kanalizačních trub z plastu těsněných gumovým kroužkem v otevřeném výkopu ve sklonu do 20 %.",null,null,null,null,null,null,null,null,"V položce je uvažováno s jedním spojem na 6 m potrubí. Položka je určena pro montáž potrubí z kanalizačních trub z plastu těsněných gumovým kroužkem v otevřeném výkopu ve sklonu do 20 %.",null,null,3]
[null,null,"Kanalizační přípojky PVC DN150 a DN200 + Rezerva 10%:",null,0,null,null,null,null,null,null,null,"Kanalizační přípojky PVC DN150 a DN200 + Rezerva 10%:"]
[null,null,"Na Stoce \"A.1\":",null,0,null,null,null,null,null,null,null,"Na Stoce \"A.1\":"]
[null,null,"KP DN150 (10 kusů):223,20*1,1",null,245.52,null,null,null,null,null,null,null,"KP DN150 (10 kusů):223,20*1,1"]
[null,null,"Na Stoce \"A.1-1\":",null,0,null,null,null,null,null,null,null,"Na Stoce \"A.1-1\":"]
[null,null,"KP DN150 (3 kusy):51,80*1,1",null,56.98,null,null,null,null,null,null,null,"KP DN150 (3 kusy):51,80*1,1"]
[null,null,"Na Stoce \"B.1\":",null,0,null,null,null,null,null,null,null,"Na Stoce \"B.1\":"]
[null,null,"KP DN150 (2 kusy):47,10*1,1",null,51.81,null,null,null,null,null,null,null,"KP DN150 (2 kusy):47,10*1,1"]
[null,null,"Na Stoce \"H\":",null,0,null,null,null,null,null,null,null,"Na Stoce \"H\":"]
[null,null,"KP DN150 (3 kusy):33,20*1,1",null,36.520000000000003,null,null,null,null,null,null,null,"KP DN150 (3 kusy):33,20*1,1"]
[null,null,"Na Stoce \"I\":",null,0,null,null,null,null,null,null,null,"Na Stoce \"I\":"]
[null,null,"KP DN150 (6 Kusů):175,40*1,1",null,192.94,null,null,null,null,null,null,null,"KP DN150 (6 Kusů):175,40*1,1"]
[22,"871353121R00","Montáž trub z plastu, gumový kroužek, DN 200 ","m",512.49,null,{"$f":"E295*F295","v":0},1.0000000000000001E-5,{"$f":"E295*H295","v":5.1249000000000008E-3},0,{"$f":"E295*J295","v":0},null,null,null,2,null,null,null,null,null,null,null,null,null,null,null,1,1,1,null,null,null,null,null,null,null,null,null,null,null,null,null,null,null,null,null,null,null,null,null,null,1,{"$f":"IF(AZ295=1,G295,0)","v":0},{"$f":"IF(AZ295=2,G295,0)","v":0},{"$f":"IF(AZ295=3,G295,0)","v":0},{"$f":"IF(AZ295=4,G295,0)","v":0},{"$f":"IF(AZ295=5,G295,0)","v":0},null,null,null,null,null,null,null,null,null,null,null,null,null,null,null,null,null,null,null,null,null,1,1]
[null,null,"V položce je uvažováno s jedním spojem na 6 m potrubí. Položka je určena pro montáž potrubí z kanalizačních trub z plastu těsněných gumovým kroužkem v otevřeném výkopu ve sklonu do 20 %.",null,null,null,null,null,null,null,null,"V položce je uvažováno s jedním spojem na 6 m potrubí. Položka je určena pro montáž potrubí z kanalizačních trub z plastu těsněných gumovým kroužkem v otevřeném výkopu ve sklonu do 20 %.",null,null,3]
[null,null,"Kanalizační přípojky PVC DN150 a DN200 + Rezerva 10%:",null,0,null,null,null,null,null,null,null,"Kanalizační přípojky PVC DN150 a DN200 + Rezerva 10%:"]
[null,null,"Na Stoce \"A\":",null,0,null,null,null,null,null,null,null,"Na Stoce \"A\":"]
[null,null,"KP DN200 (5 kusů):155,70*1,1",null,171.27,null,null,null,null,null,null,null,"KP DN200 (5 kusů):155,70*1,1"]
[null,null,"Na Stoce \"A.1\":",null,0,null,null,null,null,null,null,null,"Na Stoce \"A.1\":"]
[null,null,"KP DN200 (7 kusů):216,80*1,1",null,238.48,null,null,null,null,null,null,null,"KP DN200 (7 kusů):216,80*1,1"]
[null,null,"Na Stoce \"J\":",null,0,null,null,null,null,null,null,null,"Na Stoce \"J\":"]
[null,null,"DN 200 (4 kusy):93,40*1,1",null,102.74,null,null,null,null,null,null,null,"DN 200 (4 kusy):93,40*1,1"]
[23,"877313123R00","Montáž tvarovek jednoos. plast. gum.kroužek DN 150 ","kus",52.8,null,{"$f":"E304*F304","v":0},1.0000000000000001E-5,{"$f":"E304*H304","v":5.2800000000000004E-4},0,{"$f":"E304*J304","v":0},null,null,null,2,null,null,null,null,null,null,null,null,null,null,null,1,1,1,null,null,null,null,null,null,null,null,null,null,null,null,null,null,null,null,null,null,null,null,null,null,1,{"$f":"IF(AZ304=1,G304,0)","v":0},{"$f":"IF(AZ304=2,G304,0)","v":0},{"$f":"IF(AZ304=3,G304,0)","v":0},{"$f":"IF(AZ304=4,G304,0)","v":0},{"$f":"IF(AZ304=5,G304,0)","v":0},null,null,null,null,null,null,null,null,null,null,null,null,null,null,null,null,null,null,null,null,null,1,1]
[null,null,"Položka je určena pro montáž tvarovek jednoosých na potrubí z kanalizačních trub z plastu těsněných gumovým kroužkem v otevřeném výkopu.",null,null,null,null,null,null,null,null,"Položka je určena pro montáž tvarovek jednoosých na potrubí z kanalizačních trub z plastu těsněných gumovým kroužkem v otevřeném výkopu.",null,null,3]
[null,null,"Kanalizační přípojky PVC DN150 a DN200 + Rezerva 10%:",null,0,null,null,null,null,null,null,null,"Kanalizační přípojky PVC DN150 a DN200 + Rezerva 10%:"]
[null,null,"Kolena DN150 s úhlem 15°, 30°, 45° a 90°:",null,0,null,null,null,null,null,null,null,"Kolena DN150 s úhlem 15°, 30°, 45° a 90°:"]
[null,null,"Na Stoce \"A.1\":",null,0,null,null,null,null,null,null,null,"Na Stoce \"A.1\":"]
[null,null,"KP DN150 (10 kusů):20*1,1",null,22,null,null,null,null,null,null,null,"KP DN150 (10 kusů):20*1,1"]
[null,null,"Na Stoce \"A.1-1\":",null,0,null,null,null,null,null,null,null,"Na Stoce \"A.1-1\":"]
[null,null,"KP DN150 (3 kusy):6*1,1",null,6.6,null,null,null,null,null,null,null,"KP DN150 (3 kusy):6*1,1"]
[null,null,"Na Stoce \"B.1\":",null,0,null,null,null,null,null,null,null,"Na Stoce \"B.1\":"]
[null,null,"KP DN150 (2 kusy):4*1,1",null,4.4000000000000004,null,null,null,null,null,null,null,"KP DN150 (2 kusy):4*1,1"]
[null,null,"Na Stoce \"H\":",null,0,null,null,null,null,null,null,null,"Na Stoce \"H\":"]
[null,null,"KP DN150 (3 kusy):6*1,1",null,6.6,null,null,null,null,null,null,null,"KP DN150 (3 kusy):6*1,1"]
[null,null,"Na Stoce \"I\":",null,0,null,null,null,null,null,null,null,"Na Stoce \"I\":"]
[null,null,"KP DN150 (6 Kusů):12*1,1",null,13.2,null,null,null,null,null,null,null,"KP DN150 (6 Kusů):12*1,1"]
[24,"877353123R00","Montáž tvarovek jednoos. plast. gum.kroužek DN 200 ","kus",40.700000000000003,null,{"$f":"E318*F318","v":0},2.0000000000000002E-5,{"$f":"E318*H318","v":8.1400000000000016E-4},0,{"$f":"E318*J318","v":0},null,null,null,2,null,null,null,null,null,null,null,null,null,null,null,1,1,1,null,null,null,null,null,null,null,null,null,null,null,null,null,null,null,null,null,null,null,null,null,null,1,{"$f":"IF(AZ318=1,G318,0)","v":0},{"$f":"IF(AZ318=2,G318,0)","v":0},{"$f":"IF(AZ318=3,G318,0)","v":0},{"$f":"IF(AZ318=4,G318,0)","v":0},{"$f":"IF(AZ318=5,G318,0)","v":0},null,null,null,null,null,null,null,null,null,null,null,null,null,null,null,null,null,null,null,null,null,1,1]
[null,null,"Položka je určena pro montáž tvarovek jednoosých na potrubí z kanalizačních trub z plastu těsněných gumovým kroužkem v otevřeném výkopu.",null,null,null,null,null,null,null,null,"Položka je určena pro montáž tvarovek jednoosých na potrubí z kanalizačních trub z plastu těsněných gumovým kroužkem v otevřeném výkopu.",null,null,3]
[null,null,"Kanalizační přípojky PVC DN150 a DN200 + Rezerva 10%:",null,0,null,null,null,null,null,null,null,"Kanalizační přípojky PVC DN150 a DN200 + Rezerva 10%:"]
[null,null,"Kolena DN200 s úhlem 15°, 30°a 45°:",null,0,null,null,null,null,null,null,null,"Kolena DN200 s úhlem 15°, 30°a 45°:"]
[null,null,"Na Stoce \"A\":",null,0,null,null,null,null,null,null,null,"Na Stoce \"A\":"]
[null,null,"KP DN200 (5 kusů):10*1,1",null,11,null,null,null,null,null,null,null,"KP DN200 (5 kusů):10*1,1"]
[null,null,"Na Stoce \"A.1\":",null,0,null,null,null,null,null,null,null,"Na Stoce \"A.1\":"]
[null,null,"KP DN200 (7 kusů):14*1,1",null,15.4,null,null,null,null,null,null,null,"KP DN200 (7 kusů):14*1,1"]
[null,null,"Na Stoce \"J\":",null,0,null,null,null,null,null,null,null,"Na Stoce \"J\":"]
[null,null,"DN 200 (4 kusy):8*1,1",null,8.8000000000000007,null,null,null,null,null,null,null,"DN 200 (4 kusy):8*1,1"]
[null,null,"Přechodka DN200 kanal. PVC na kameninové hrdlo :",null,0,null,null,null,null,null,null,null,"Přechodka DN200 kanal. PVC na kameninové hrdlo :"]
[null,null,"Na Stoce \"A\":",null,0,null,null,null,null,null,null,null,"Na Stoce \"A\":"]
[null,null,"KP DN200 (5 kusů):5*1,1",null,5.5,null,null,null,null,null,null,null,"KP DN200 (5 kusů):5*1,1"]
[25,"891183439RX0","Přepojení potrubí PVC na přípojkách DN 150 včetně dodávky přepojovací tvarovky","kus",24,null,{"$f":"E331*F331","v":0},4.6000000000000001E-4,{"$f":"E331*H331","v":1.1040000000000001E-2},0,{"$f":"E331*J331","v":0},null,null,null,2,null,null,null,null,null,null,null,null,null,null,null,1,1,1,null,null,null,null,null,null,null,null,null,null,null,null,null,null,null,null,null,null,null,null,null,null,1,{"$f":"IF(AZ331=1,G331,0)","v":0},{"$f":"IF(AZ331=2,G331,0)","v":0},{"$f":"IF(AZ331=3,G331,0)","v":0},{"$f":"IF(AZ331=4,G331,0)","v":0},{"$f":"IF(AZ331=5,G331,0)","v":0},null,null,null,null,null,null,null,null,null,null,null,null,null,null,null,null,null,null,null,null,null,1,1]
[null,null,"Položka obsahuje přerušení stávajícího kameninového, betonového nebo PVC potrubí DN150, dodávku a montáž tvarovky pro napojení nového PVC potrubí DN150 na stávající potrubí. ",null,null,null,null,null,null,null,null,"Položka obsahuje přerušení stávajícího kameninového, betonového nebo PVC potrubí DN150, dodávku a montáž tvarovky pro napojení nového PVC potrubí DN150 na stávající potrubí. ",null,null,3]
[null,null,"Kanalizační přípojky PVC DN150 a DN200 + Rezerva 10%:",null,0,null,null,null,null,null,null,null,"Kanalizační přípojky PVC DN150 a DN200 + Rezerva 10%:"]
[null,null,"Na Stoce \"A.1\":",null,0,null,null,null,null,null,null,null,"Na Stoce \"A.1\":"]
[null,null,"KP DN150 (10 kusů):10",null,10,null,null,null,null,null,null,null,"KP DN150 (10 kusů):10"]
[null,null,"Na Stoce \"A.1-1\":",null,0,null,null,null,null,null,null,null,"Na Stoce \"A.1-1\":"]
[null,null,"KP DN150 (3 kusy):3",null,3,null,null,null,null,null,null,null,"KP DN150 (3 kusy):3"]
[null,null,"Na Stoce \"B.1\":",null,0,null,null,null,null,null,null,null,"Na Stoce \"B.1\":"]
[null,null,"KP DN150 (2 kusy):2",null,2,null,null,null,null,null,null,null,"KP DN150 (2 kusy):2"]
[null,null,"Na Stoce \"H\":",null,0,null,null,null,null,null,null,null,"Na Stoce \"H\":"]
[null,null,"KP DN150 (3 kusy):3",null,3,null,null,null,null,null,null,null,"KP DN150 (3 kusy):3"]
[null,null,"Na Stoce \"I\":",null,0,null,null,null,null,null,null,null,"Na Stoce \"I\":"]
[null,null,"KP DN150 (6 Kusů):6",null,6,null,null,null,null,null,null,null,"KP DN150 (6 Kusů):6"]
[26,"891183440RX0","Přepojení potrubí PVC na přípojkách DN 200 včetně dodávky přepojovací tvarovky","kus",16,null,{"$f":"E344*F344","v":0},4.6000000000000001E-4,{"$f":"E344*H344","v":7.3600000000000002E-3},0,{"$f":"E344*J344","v":0},null,null,null,2,null,null,null,null,null,null,null,null,null,null,null,1,1,1,null,null,null,null,null,null,null,null,null,null,null,null,null,null,null,null,null,null,null,null,null,null,1,{"$f":"IF(AZ344=1,G344,0)","v":0},{"$f":"IF(AZ344=2,G344,0)","v":0},{"$f":"IF(AZ344=3,G344,0)","v":0},{"$f":"IF(AZ344=4,G344,0)","v":0},{"$f":"IF(AZ344=5,G344,0)","v":0},null,null,null,null,null,null,null,null,null,null,null,null,null,null,null,null,null,null,null,null,null,1,1]
[null,null,"Položka obsahuje přerušení stávajícího kameninového, betonového nebo PVC potrubí DN200, dodávku a montáž tvarovky pro napojení nového PVC potrubí DN200 na stávající potrubí. ",null,null,null,null,null,null,null,null,"Položka obsahuje přerušení stávajícího kameninového, betonového nebo PVC potrubí DN200, dodávku a montáž tvarovky pro napojení nového PVC potrubí DN200 na stávající potrubí. ",null,null,3]
[null,null,"Kanalizační přípojky PVC DN150 a DN200 + Rezerva 10%:",null,0,null,null,null,null,null,null,null,"Kanalizační přípojky PVC DN150 a DN200 + Rezerva 10%:"]
[null,null,"Na Stoce \"A\":",null,0,null,null,null,null,null,null,null,"Na Stoce \"A\":"]
[null,null,"KP DN200 (5 kusů):5",null,5,null,null,null,null,null,null,null,"KP DN200 (5 kusů):5"]
[null,null,"Na Stoce \"A.1\":",null,0,null,null,null,null,null,null,null,"Na Stoce \"A.1\":"]
[null,null,"KP DN200 (7 kusů):7",null,7,null,null,null,null,null,null,null,"KP DN200 (7 kusů):7"]
[null,null,"Na Stoce \"J\":",null,0,null,null,null,null,null,null,null,"Na Stoce \"J\":"]
[null,null,"DN 200 (4 kusy):4",null,4,null,null,null,null,null,null,null,"DN 200 (4 kusy):4"]
[27,"892601121R00","Čištění kanalizační stoky do DN 200, do 15 m ","úsek",40,null,{"$f":"E353*F353","v":0},0,{"$f":"E353*H353","v":0},0,{"$f":"E353*J353","v":0},null,null,null,2,null,null,null,null,null,null,null,null,null,null,null,1,1,1,null,null,null,null,null,null,null,null,null,null,null,null,null,null,null,null,null,null,null,null,null,null,1,{"$f":"IF(AZ353=1,G353,0)","v":0},{"$f":"IF(AZ353=2,G353,0)","v":0},{"$f":"IF(AZ353=3,G353,0)","v":0},{"$f":"IF(AZ353=4,G353,0)","v":0},{"$f":"IF(AZ353=5,G353,0)","v":0},null,null,null,null,null,null,null,null,null,null,null,null,null,null,null,null,null,null,null,null,null,1,1]
[null,null,"V položce je zakalkulováno:",null,null,null,null,null,null,null,null,"V položce je zakalkulováno:",null,null,3]
[null,null,"a) otevření a uzavření revizních šachet a čisticích kusů",null,null,null,null,null,null,null,null,"a) otevření a uzavření revizních šachet a čisticích kusů",null,null,3]
[null,null,"b) natažení vysokotlakých hadic k místu odkud se bude kanalizace čistit",null,null,null,null,null,null,null,null,"b) natažení vysokotlakých hadic k místu odkud se bude kanalizace čistit",null,null,3]
[null,null,"c) vyčištění potrubí tlakovou vodou nebo motorovým pérem.",null,null,null,null,null,null,null,null,"c) vyčištění potrubí tlakovou vodou nebo motorovým pérem.",null,null,3]
[null,null,"Kanalizační přípojky PVC DN150 a DN200:",null,0,null,null,null,null,null,null,null,"Kanalizační přípojky PVC DN150 a DN200:"]
[null,null,"Na Stoce \"A\":",null,0,null,null,null,null,null,null,null,"Na Stoce \"A\":"]
[null,null,"KP DN200 (5 kusů):5",null,5,null,null,null,null,null,null,null,"KP DN200 (5 kusů):5"]
[null,null,"Na Stoce \"A.1\":",null,0,null,null,null,null,null,null,null,"Na Stoce \"A.1\":"]
[null,null,"KP DN150 (10 kusů):10",null,10,null,null,null,null,null,null,null,"KP DN150 (10 kusů):10"]
[null,null,"KP DN200 (7 kusů):7",null,7,null,null,null,null,null,null,null,"KP DN200 (7 kusů):7"]
[null,null,"Na Stoce \"A.1-1\":",null,0,null,null,null,null,null,null,null,"Na Stoce \"A.1-1\":"]
[null,null,"KP DN150 (3 kusy):3",null,3,null,null,null,null,null,null,null,"KP DN150 (3 kusy):3"]
[null,null,"Na Stoce \"B.1\":",null,0,null,null,null,null,null,null,null,"Na Stoce \"B.1\":"]
[null,null,"KP DN150 (2 kusy):2",null,2,null,null,null,null,null,null,null,"KP DN150 (2 kusy):2"]
[null,null,"Na Stoce \"H\":",null,0,null,null,null,null,null,null,null,"Na Stoce \"H\":"]
[null,null,"KP DN150 (3 kusy):3",null,3,null,null,null,null,null,null,null,"KP DN150 (3 kusy):3"]
[null,null,"Na Stoce \"I\":",null,0,null,null,null,null,null,null,null,"Na Stoce \"I\":"]
[null,null,"KP DN150 (6 Kusů):6",null,6,null,null,null,null,null,null,null,"KP DN150 (6 Kusů):6"]
[null,null,"Na Stoce \"J\":",null,0,null,null,null,null,null,null,null,"Na Stoce \"J\":"]
[null,null,"DN 200 (4 kusy):4",null,4,null,null,null,null,null,null,null,"DN 200 (4 kusy):4"]
[28,"892855111R00","Kontrola kanalizace TV kamerou do 15 m ","úsek",80,null,{"$f":"E374*F374","v":0},0,{"$f":"E374*H374","v":0},0,{"$f":"E374*J374","v":0},null,null,null,2,null,null,null,null,null,null,null,null,null,null,null,1,1,1,null,null,null,null,null,null,null,null,null,null,null,null,null,null,null,null,null,null,null,null,null,null,1,{"$f":"IF(AZ374=1,G374,0)","v":0},{"$f":"IF(AZ374=2,G374,0)","v":0},{"$f":"IF(AZ374=3,G374,0)","v":0},{"$f":"IF(AZ374=4,G374,0)","v":0},{"$f":"IF(AZ374=5,G374,0)","v":0},null,null,null,null,null,null,null,null,null,null,null,null,null,null,null,null,null,null,null,null,null,1,1]
[null,null,"Kanalizační přípojky PVC DN150 a DN200:",null,0,null,null,null,null,null,null,null,"Kanalizační přípojky PVC DN150 a DN200:"]
[null,null,"Na Stoce \"A\":",null,0,null,null,null,null,null,null,null,"Na Stoce \"A\":"]
[null,null,"KP DN200 (5 kusů):5*2",null,10,null,null,null,null,null,null,null,"KP DN200 (5 kusů):5*2"]
[null,null,"Na Stoce \"A.1\":",null,0,null,null,null,null,null,null,null,"Na Stoce \"A.1\":"]
[null,null,"KP DN150 (10 kusů):10*2",null,20,null,null,null,null,null,null,null,"KP DN150 (10 kusů):10*2"]
[null,null,"KP DN200 (7 kusů):7*2",null,14,null,null,null,null,null,null,null,"KP DN200 (7 kusů):7*2"]
[null,null,"Na Stoce \"A.1-1\":",null,0,null,null,null,null,null,null,null,"Na Stoce \"A.1-1\":"]
[null,null,"KP DN150 (3 kusy):3*2",null,6,null,null,null,null,null,null,null,"KP DN150 (3 kusy):3*2"]
[null,null,"Na Stoce \"B.1\":",null,0,null,null,null,null,null,null,null,"Na Stoce \"B.1\":"]
[null,null,"KP DN150 (2 kusy):2*2",null,4,null,null,null,null,null,null,null,"KP DN150 (2 kusy):2*2"]
[null,null,"Na Stoce \"H\":",null,0,null,null,null,null,null,null,null,"Na Stoce \"H\":"]
[null,null,"KP DN150 (3 kusy):3*2",null,6,null,null,null,null,null,null,null,"KP DN150 (3 kusy):3*2"]
[null,null,"Na Stoce \"I\":",null,0,null,null,null,null,null,null,null,"Na Stoce \"I\":"]
[null,null,"KP DN150 (6 Kusů):6*2",null,12,null,null,null,null,null,null,null,"KP DN150 (6 Kusů):6*2"]
[null,null,"Na Stoce \"J\":",null,0,null,null,null,null,null,null,null,"Na Stoce \"J\":"]
[null,null,"DN 200 (4 kusy):4*2",null,8,null,null,null,null,null,null,null,"DN 200 (4 kusy):4*2"]
[29,"894431332RAB","Šachta, D 425 mm, dl.šach.roury 3,0 m, 1 přítok dno KG D 160 mm, poklop šedá litina 40 t","kus",8,null,{"$f":"E391*F391","v":0},0.10087,{"$f":"E391*H391","v":0.80696000000000001},0,{"$f":"E391*J391","v":0},null,null,null,2,null,null,null,null,null,null,null,null,null,null,null,1,1,1,null,null,null,null,null,null,null,null,null,null,null,null,null,null,null,null,null,null,null,null,null,null,1,{"$f":"IF(AZ391=1,G391,0)","v":0},{"$f":"IF(AZ391=2,G391,0)","v":0},{"$f":"IF(AZ391=3,G391,0)","v":0},{"$f":"IF(AZ391=4,G391,0)","v":0},{"$f":"IF(AZ391=5,G391,0)","v":0},null,null,null,null,null,null,null,null,null,null,null,null,null,null,null,null,null,null,null,null,null,1,1]
[null,null,"Plastové dno, šachta z hladkostěnné trouby, těsnění, šachtová roura teleskopická, rám do teleskopické trouby, poklop litinový.",null,null,null,null,null,null,null,null,"Plastové dno, šachta z korugované trouby, těsnění, šachtová roura teleskopická, rám do teleskopické trouby, poklop litinový.",null,null,3]
[null,null,"Kanalizační přípojky PVC DN150 a DN200:",null,0,null,null,null,null,null,null,null,"Kanalizační přípojky PVC DN150 a DN200:"]
[null,null,"Na Stoce \"A.1\":",null,0,null,null,null,null,null,null,null,"Na Stoce \"A.1\":"]
[null,null,"KP DN150 (10 kusů):5",null,5,null,null,null,null,null,null,null,"KP DN150 (10 kusů):5"]
[null,null,"Na Stoce \"A.1-1\":",null,0,null,null,null,null,null,null,null,"Na Stoce \"A.1-1\":"]
[null,null,"KP DN150 (3 kusy):2",null,2,null,null,null,null,null,null,null,"KP DN150 (3 kusy):2"]
[null,null,"Na Stoce \"B.1\":",null,0,null,null,null,null,null,null,null,"Na Stoce \"B.1\":"]
[null,null,"KP DN150 (2 kusy):1",null,1,null,null,null,null,null,null,null,"KP DN150 (2 kusy):1"]
[30,"894431332RBB","Šachta, D 425 mm, dl.šach.roury 3,0 m, 1 přítok dno KG D 200 mm, poklop šedá litina 40 t","kus",12,null,{"$f":"E400*F400","v":0},0.10167,{"$f":"E400*H400","v":1.22004},0,{"$f":"E400*J400","v":0},null,null,null,2,null,null,null,null,null,null,null,null,null,null,null,1,1,1,null,null,null,null,null,null,null,null,null,null,null,null,null,null,null,null,null,null,null,null,null,null,1,{"$f":"IF(AZ400=1,G400,0)","v":0},{"$f":"IF(AZ400=2,G400,0)","v":0},{"$f":"IF(AZ400=3,G400,0)","v":0},{"$f":"IF(AZ400=4,G400,0)","v":0},{"$f":"IF(AZ400=5,G400,0)","v":0},null,null,null,null,null,null,null,null,null,null,null,null,null,null,null,null,null,null,null,null,null,1,1]
[null,null,"Plastové dno, šachta z hladkostěnné trouby, těsnění, šachtová roura teleskopická, rám do teleskopické trouby, poklop litinový.",null,null,null,null,null,null,null,null,"Plastové dno, šachta z korugované trouby, těsnění, šachtová roura teleskopická, rám do teleskopické trouby, poklop litinový.",null,null,3]
[null,null,"Kanalizační přípojky PVC DN150 a DN200:",null,0,null,null,null,null,null,null,null,"Kanalizační přípojky PVC DN150 a DN200:"]
[null,null,"Na Stoce \"A\":",null,0,null,null,null,null,null,null,null,"Na Stoce \"A\":"]
[null,null,"KP DN200 (5 kusů):8",null,8,null,null,null,null,null,null,null,"KP DN200 (5 kusů):8"]
[null,null,"Na Stoce \"A.1\":",null,0,null,null,null,null,null,null,null,"Na Stoce \"A.1\":"]
[null,null,"KP DN200 (7 kusů):1",null,1,null,null,null,null,null,null,null,"KP DN200 (7 kusů):1"]
[null,null,"Na Stoce \"J\":",null,0,null,null,null,null,null,null,null,"Na Stoce \"J\":"]
[null,null,"DN 200 (4 kusy):3",null,3,null,null,null,null,null,null,null,"DN 200 (4 kusy):3"]
[31,"894431333RBB","Šachta, D 425 mm, dl.šach.roury 3,0 m, sběrná dno KG D 160 mm, poklop šedá litina 40 t","kus",24,null,{"$f":"E409*F409","v":0},0.10147,{"$f":"E409*H409","v":2.4352800000000001},0,{"$f":"E409*J409","v":0},null,null,null,2,null,null,null,null,null,null,null,null,null,null,null,1,1,1,null,null,null,null,null,null,null,null,null,null,null,null,null,null,null,null,null,null,null,null,null,null,1,{"$f":"IF(AZ409=1,G409,0)","v":0},{"$f":"IF(AZ409=2,G409,0)","v":0},{"$f":"IF(AZ409=3,G409,0)","v":0},{"$f":"IF(AZ409=4,G409,0)","v":0},{"$f":"IF(AZ409=5,G409,0)","v":0},null,null,null,null,null,null,null,null,null,null,null,null,null,null,null,null,null,null,null,null,null,1,1]
[null,null,"Plastové dno, šachta z hladkostěnné trouby, těsnění, šachtová roura teleskopická, rám do teleskopické trouby, poklop litinový.",null,null,null,null,null,null,null,null,"Plastové dno, šachta z korugované trouby, těsnění, šachtová roura teleskopická, rám do teleskopické trouby, poklop litinový.",null,null,3]
[null,null,"Kanalizační přípojky PVC DN150 a DN200:",null,0,null,null,null,null,null,null,null,"Kanalizační přípojky PVC DN150 a DN200:"]
[null,null,"Na Stoce \"A.1\":",null,0,null,null,null,null,null,null,null,"Na Stoce \"A.1\":"]
[null,null,"KP DN150 (10 kusů):10",null,10,null,null,null,null,null,null,null,"KP DN150 (10 kusů):10"]
[null,null,"Na Stoce \"A.1-1\":",null,0,null,null,null,null,null,null,null,"Na Stoce \"A.1-1\":"]
[null,null,"KP DN150 (3 kusy):3",null,3,null,null,null,null,null,null,null,"KP DN150 (3 kusy):3"]
[null,null,"Na Stoce \"B.1\":",null,0,null,null,null,null,null,null,null,"Na Stoce \"B.1\":"]
[null,null,"KP DN150 (2 kusy):2",null,2,null,null,null,null,null,null,null,"KP DN150 (2 kusy):2"]
[null,null,"Na Stoce \"H\":",null,0,null,null,null,null,null,null,null,"Na Stoce \"H\":"]
[null,null,"KP DN150 (3 kusy):3",null,3,null,null,null,null,null,null,null,"KP DN150 (3 kusy):3"]
[null,null,"Na Stoce \"I\":",null,0,null,null,null,null,null,null,null,"Na Stoce \"I\":"]
[null,null,"KP DN150 (6 Kusů):6",null,6,null,null,null,null,null,null,null,"KP DN150 (6 Kusů):6"]
[32,"894431333RCB","Šachta, D 425 mm, dl.šach.roury 3,0 m, sběrná dno KG D 200 mm, poklop šedá litina 40 t","kus",14,null,{"$f":"E422*F422","v":0},0.10017,{"$f":"E422*H422","v":1.40238},0,{"$f":"E422*J422","v":0},null,null,null,2,null,null,null,null,null,null,null,null,null,null,null,1,1,1,null,null,null,null,null,null,null,null,null,null,null,null,null,null,null,null,null,null,null,null,null,null,1,{"$f":"IF(AZ422=1,G422,0)","v":0},{"$f":"IF(AZ422=2,G422,0)","v":0},{"$f":"IF(AZ422=3,G422,0)","v":0},{"$f":"IF(AZ422=4,G422,0)","v":0},{"$f":"IF(AZ422=5,G422,0)","v":0},null,null,null,null,null,null,null,null,null,null,null,null,null,null,null,null,null,null,null,null,null,1,1]
[null,null,"Plastové dno, šachta z hladkostenné trouby, těsnění, šachtová roura teleskopická, rám do teleskopické trouby, poklop litinový.",null,null,null,null,null,null,null,null,"Plastové dno, šachta z korugované trouby, těsnění, šachtová roura teleskopická, rám do teleskopické trouby, poklop litinový.",null,null,3]
[null,null,"Kanalizační přípojky PVC DN150 a DN200:",null,0,null,null,null,null,null,null,null,"Kanalizační přípojky PVC DN150 a DN200:"]
[null,null,"Na Stoce \"A\":",null,0,null,null,null,null,null,null,null,"Na Stoce \"A\":"]
[null,null,"KP DN200 (5 kusů):5",null,5,null,null,null,null,null,null,null,"KP DN200 (5 kusů):5"]
[null,null,"Na Stoce \"A.1\":",null,0,null,null,null,null,null,null,null,"Na Stoce \"A.1\":"]
[null,null,"KP DN200 (7 kusů):5",null,5,null,null,null,null,null,null,null,"KP DN200 (7 kusů):5"]
[null,null,"Na Stoce \"J\":",null,0,null,null,null,null,null,null,null,"Na Stoce \"J\":"]
[null,null,"DN 200 (4 kusy):4",null,4,null,null,null,null,null,null,null,"DN 200 (4 kusy):4"]
[33,"899711122R00","Fólie výstražná z PVC šedá, šířka 30 cm ","m",1096.26,null,{"$f":"E431*F431","v":0},0,{"$f":"E431*H431","v":0},0,{"$f":"E431*J431","v":0},null,null,null,2,null,null,null,null,null,null,null,null,null,null,null,1,1,1,null,null,null,null,null,null,null,null,null,null,null,null,null,null,null,null,null,null,null,null,null,null,1,{"$f":"IF(AZ431=1,G431,0)","v":0},{"$f":"IF(AZ431=2,G431,0)","v":0},{"$f":"IF(AZ431=3,G431,0)","v":0},{"$f":"IF(AZ431=4,G431,0)","v":0},{"$f":"IF(AZ431=5,G431,0)","v":0},null,null,null,null,null,null,null,null,null,null,null,null,null,null,null,null,null,null,null,null,null,1,1]
[null,null,"Kanalizační přípojky PVC DN150 a DN200 + Rezerva 10%:",null,0,null,null,null,null,null,null,null,"Kanalizační přípojky PVC DN150 a DN200 + Rezerva 10%:"]
[null,null,"Na Stoce \"A\":",null,0,null,null,null,null,null,null,null,"Na Stoce \"A\":"]
[null,null,"KP DN200 (5 kusů):155,70*1,1",null,171.27,null,null,null,null,null,null,null,"KP DN200 (5 kusů):155,70*1,1"]
[null,null,"Na Stoce \"A.1\":",null,0,null,null,null,null,null,null,null,"Na Stoce \"A.1\":"]
[null,null,"KP DN150 (10 kusů):223,20*1,1",null,245.52,null,null,null,null,null,null,null,"KP DN150 (10 kusů):223,20*1,1"]
[null,null,"KP DN200 (7 kusů):216,80*1,1",null,238.48,null,null,null,null,null,null,null,"KP DN200 (7 kusů):216,80*1,1"]
[null,null,"Na Stoce \"A.1-1\":",null,0,null,null,null,null,null,null,null,"Na Stoce \"A.1-1\":"]
[null,null,"KP DN150 (3 kusy):51,80*1,1",null,56.98,null,null,null,null,null,null,null,"KP DN150 (3 kusy):51,80*1,1"]
[null,null,"Na Stoce \"B.1\":",null,0,null,null,null,null,null,null,null,"Na Stoce \"B.1\":"]
[null,null,"KP DN150 (2 kusy):47,10*1,1",null,51.81,null,null,null,null,null,null,null,"KP DN150 (2 kusy):47,10*1,1"]
[null,null,"Na Stoce \"H\":",null,0,null,null,null,null,null,null,null,"Na Stoce \"H\":"]
[null,null,"KP DN150 (3 kusy):33,20*1,1",null,36.520000000000003,null,null,null,null,null,null,null,"KP DN150 (3 kusy):33,20*1,1"]
[null,null,"Na Stoce \"I\":",null,0,null,null,null,null,null,null,null,"Na Stoce \"I\":"]
[null,null,"KP DN150 (6 Kusů):175,40*1,1",null,192.94,null,null,null,null,null,null,null,"KP DN150 (6 Kusů):175,40*1,1"]
[null,null,"Na Stoce \"J\":",null,0,null,null,null,null,null,null,null,"Na Stoce \"J\":"]
[null,null,"DN 200 (4 kusy):93,40*1,1",null,102.74,null,null,null,null,null,null,null,"DN 200 (4 kusy):93,40*1,1"]
[34,"286111904","Trubka kanalizační PVC QUANTUM SN 12 DN 160","m",601.28309999999999,null,{"$f":"E448*F448","v":0},5.1000000000000004E-3,{"$f":"E448*H448","v":3.0665438100000002},null,{"$f":"E448*J448","v":0},null,null,null,2,null,null,null,null,null,null,null,null,null,null,null,3,1,286111904,null,null,null,null,null,null,null,null,null,null,null,null,null,null,null,null,null,null,null,null,null,null,1,{"$f":"IF(AZ448=1,G448,0)","v":0},{"$f":"IF(AZ448=2,G448,0)","v":0},{"$f":"IF(AZ448=3,G448,0)","v":0},{"$f":"IF(AZ448=4,G448,0)","v":0},{"$f":"IF(AZ448=5,G448,0)","v":0},null,null,null,null,null,null,null,null,null,null,null,null,null,null,null,null,null,null,null,null,null,3,1]
[null,null,"Jedná  se  o  plnostěnné kanalizační trubky DN 150 – DN 400, SN 12 kN/m2 , zvenčí  i  zevnitř  hladké. Jsou  opatřeny hrdlem,  v  němž  je  vložen vysoce  elastický  jazýčkový  kroužek.  konce  trubek  (dříků)  jsou opatřeny  zkosením  pod  úhlem  15°.  Způsob  použití  trubek  je  „U“  dle  normy  ČSN  EN  1401-1, tj. mimo budovy. Spolehlivá  funkce  těsnění  je  jištěna  výztužným  kroužkem  z  elastomeru.  Je  tak  zamezeno  vypad-nutí nebo vytlačení kroužku při manipulaci a montáži. Tento systém zaručuje při správné montáži ",null,null,null,null,null,null,null,null,"Jedná  se  o  plnostěnné kanalizační trubky DN 150 – DN 400, SN 12 kN/m2 , zvenčí  i  zevnitř  hladké. Jsou  opatřeny hrdlem,  v  němž  je  vložen vysoce  elastický  jazýčkový  kroužek.  konce  trubek  (dříků)  jsou opatřeny  zkosením  pod  úhlem  15°.  Způsob  použití  trubek  je  „U“  dle  normy  ČSN  EN  1401-1, tj. mimo budovy. Spolehlivá  funkce  těsnění  je  jištěna  výztužným  kroužkem  z  elastomeru.  Je  tak  zamezeno  vypad-nutí nebo vytlačení kroužku při manipulaci a montáži. Tento systém zaručuje při správné montáži ",null,null,3]
[null,null,"dokonalou  těsnost  do  výšky  vodního  sloupce  5  metrů.",null,null,null,null,null,null,null,null,"dokonalou  těsnost  do  výšky  vodního  sloupce  5  metrů.",null,null,3]
[null,null,null,null,null,null,null,null,null,null,null,null,null,null,3]
[null,null,"Teplota při pokládce: min. -10 °C, max. 50 °C",null,null,null,null,null,null,null,null,"Teplota při pokládce: min. -10 °C, max. 50 °C",null,null,3]
[null,null,"Max. teplota média: trvale do 40 °C, krátkodobě do 60 °C",null,null,null,null,null,null,null,null,"Max. teplota média: trvale do 40 °C, krátkodobě do 60 °C",null,null,3]
[null,null,"Orientační výška krytí: min. 0,5 m, max. 10 m",null,null,null,null,null,null,null,null,"Orientační výška krytí: min. 0,5 m, max. 10 m",null,null,3]
[null,null,"Max. rychlost média: 12 m/s",null,null,null,null,null,null,null,null,"Max. rychlost média: 12 m/s",null,null,3]
[null,null,"Kanalizační přípojky PVC DN150 a DN200 + Rezerva 10%:",null,0,null,null,null,null,null,null,null,"Kanalizační přípojky PVC DN150 a DN200 + Rezerva 10%:"]
[null,null,"Na Stoce \"A.1\":",null,0,null,null,null,null,null,null,null,"Na Stoce \"A.1\":"]
[null,null,"KP DN150 (10 kusů):223,20*1,1*1,03",null,252.88560000000001,null,null,null,null,null,null,null,"KP DN150 (10 kusů):223,20*1,1*1,03"]
[null,null,"Na Stoce \"A.1-1\":",null,0,null,null,null,null,null,null,null,"Na Stoce \"A.1-1\":"]
[null,null,"KP DN150 (3 kusy):51,80*1,1*1,03",null,58.689399999999999,null,null,null,null,null,null,null,"KP DN150 (3 kusy):51,80*1,1*1,03"]
[null,null,"Na Stoce \"B.1\":",null,0,null,null,null,null,null,null,null,"Na Stoce \"B.1\":"]
[null,null,"KP DN150 (2 kusy):47,10*1,1*1,03",null,53.3643,null,null,null,null,null,null,null,"KP DN150 (2 kusy):47,10*1,1*1,03"]
[null,null,"Na Stoce \"H\":",null,0,null,null,null,null,null,null,null,"Na Stoce \"H\":"]
[null,null,"KP DN150 (3 kusy):33,20*1,1*1,03",null,37.615600000000001,null,null,null,null,null,null,null,"KP DN150 (3 kusy):33,20*1,1*1,03"]
[null,null,"Na Stoce \"I\":",null,0,null,null,null,null,null,null,null,"Na Stoce \"I\":"]
[null,null,"KP DN150 (6 Kusů):175,40*1,1*1,03",null,198.72819999999999,null,null,null,null,null,null,null,"KP DN150 (6 Kusů):175,40*1,1*1,03"]
[35,"286111914.R","Trubka kanalizační PVC QUANTUM SN 12 DN 200","m",527.86469999999997,null,{"$f":"E467*F467","v":0},7.1000000000000004E-3,{"$f":"E467*H467","v":3.7478393699999999},null,{"$f":"E467*J467","v":0},null,null,null,2,null,null,null,null,null,null,null,null,null,null,null,3,1,"286111914.R",null,null,null,null,null,null,null,null,null,null,null,null,null,null,null,null,null,null,null,null,null,null,1,{"$f":"IF(AZ467=1,G467,0)","v":0},{"$f":"IF(AZ467=2,G467,0)","v":0},{"$f":"IF(AZ467=3,G467,0)","v":0},{"$f":"IF(AZ467=4,G467,0)","v":0},{"$f":"IF(AZ467=5,G467,0)","v":0},null,null,null,null,null,null,null,null,null,null,null,null,null,null,null,null,null,null,null,null,null,3,1]
[null,null,"Jedná  se  o  plnostěnné kanalizační trubky DN 150 – DN 400, SN 12 kN/m2 , zvenčí  i  zevnitř  hladké. Jsou  opatřeny hrdlem,  v  němž  je  vložen vysoce  elastický  jazýčkový  kroužek.  konce  trubek  (dříků)  jsou opatřeny  zkosením  pod  úhlem  15°.  Způsob  použití  trubek  je  „U“  dle  normy  ČSN  EN  1401-1, tj. mimo budovy. Spolehlivá  funkce  těsnění  je  jištěna  výztužným  kroužkem  z  elastomeru.  Je  tak  zamezeno  vypad-nutí nebo vytlačení kroužku při manipulaci a montáži. Tento systém zaručuje při správné montáži ",null,null,null,null,null,null,null,null,"Jedná  se  o  plnostěnné kanalizační trubky DN 150 – DN 400, SN 12 kN/m2 , zvenčí  i  zevnitř  hladké. Jsou  opatřeny hrdlem,  v  němž  je  vložen vysoce  elastický  jazýčkový  kroužek.  konce  trubek  (dříků)  jsou opatřeny  zkosením  pod  úhlem  15°.  Způsob  použití  trubek  je  „U“  dle  normy  ČSN  EN  1401-1, tj. mimo budovy. Spolehlivá  funkce  těsnění  je  jištěna  výztužným  kroužkem  z  elastomeru.  Je  tak  zamezeno  vypad-nutí nebo vytlačení kroužku při manipulaci a montáži. Tento systém zaručuje při správné montáži ",null,null,3]
[null,null,"dokonalou  těsnost  do  výšky  vodního  sloupce  5  metrů.",null,null,null,null,null,null,null,null,"dokonalou  těsnost  do  výšky  vodního  sloupce  5  metrů.",null,null,3]
[null,null,null,null,null,null,null,null,null,null,null,null,null,null,3]
[null,null,"Teplota při pokládce: min. -10 °C, max. 50 °C",null,null,null,null,null,null,null,null,"Teplota při pokládce: min. -10 °C, max. 50 °C",null,null,3]
[null,null,"Max. teplota média: trvale do 40 °C, krátkodobě do 60 °C",null,null,null,null,null,null,null,null,"Max. teplota média: trvale do 40 °C, krátkodobě do 60 °C",null,null,3]
[null,null,"Orientační výška krytí: min. 0,5 m, max. 10 m",null,null,null,null,null,null,null,null,"Orientační výška krytí: min. 0,5 m, max. 10 m",null,null,3]
[null,null,"Max. rychlost média: 12 m/s",null,null,null,null,null,null,null,null,"Max. rychlost média: 12 m/s",null,null,3]
[null,null,"Kanalizační přípojky PVC DN150 a DN200 + Rezerva 10%:",null,0,null,null,null,null,null,null,null,"Kanalizační přípojky PVC DN150 a DN200 + Rezerva 10%:"]
[null,null,"Na Stoce \"A\":",null,0,null,null,null,null,null,null,null,"Na Stoce \"A\":"]
[null,null,"KP DN200 (5 kusů):155,70*1,1*1,03",null,176.40809999999999,null,null,null,null,null,null,null,"KP DN200 (5 kusů):155,70*1,1*1,03"]
[null,null,"Na Stoce \"A.1\":",null,0,null,null,null,null,null,null,null,"Na Stoce \"A.1\":"]
[null,null,"KP DN200 (7 kusů):216,80*1,1*1,03",null,245.6344,null,null,null,null,null,null,null,"KP DN200 (7 kusů):216,80*1,1*1,03"]
[null,null,"Na Stoce \"J\":",null,0,null,null,null,null,null,null,null,"Na Stoce \"J\":"]
[null,null,"DN 200 (4 kusy):93,40*1,1*1,03",null,105.8222,null,null,null,null,null,null,null,"DN 200 (4 kusy):93,40*1,1*1,03"]
[36,"286506003.R","Koleno kanalizační PVC SDR 34 DN 160 Kolena s úhlem 15°, 30°, 45° a 90°","kus",53.591999999999999,null,{"$f":"E482*F482","v":0},1.2700000000000001E-3,{"$f":"E482*H482","v":6.8061839999999998E-2},null,{"$f":"E482*J482","v":0},null,null,null,2,null,null,null,null,null,null,null,null,null,null,null,3,1,"286506003.R",null,null,null,null,null,null,null,null,null,null,null,null,null,null,null,null,null,null,null,null,null,null,1,{"$f":"IF(AZ482=1,G482,0)","v":0},{"$f":"IF(AZ482=2,G482,0)","v":0},{"$f":"IF(AZ482=3,G482,0)","v":0},{"$f":"IF(AZ482=4,G482,0)","v":0},{"$f":"IF(AZ482=5,G482,0)","v":0},null,null,null,null,null,null,null,null,null,null,null,null,null,null,null,null,null,null,null,null,null,3,1]
[null,null,"Tvarovky kanalizačního systému PVC SDR 34",null,null,null,null,null,null,null,null,"Tvarovky kanalizačního systému PVC SDR 34",null,null,3]
[null,null,"Teplota při pokládce: min. -10 °C, max. 50 °C",null,null,null,null,null,null,null,null,"Teplota při pokládce: min. -10 °C, max. 50 °C",null,null,3]
[null,null,"Max. teplota média: trvale do 40 °C, krátkodobě do 60 °C",null,null,null,null,null,null,null,null,"Max. teplota média: trvale do 40 °C, krátkodobě do 60 °C",null,null,3]
[null,null,"Orientační výška krytí: min. 0,5 m, max. 10 m",null,null,null,null,null,null,null,null,"Orientační výška krytí: min. 0,5 m, max. 10 m",null,null,3]
[null,null,"Max. rychlost média: 12 m/s",null,null,null,null,null,null,null,null,"Max. rychlost média: 12 m/s",null,null,3]
[null,null,"Kanalizační přípojky PVC DN150 a DN200 + Rezerva 10%:",null,0,null,null,null,null,null,null,null,"Kanalizační přípojky PVC DN150 a DN200 + Rezerva 10%:"]
[null,null,"Kolena DN150 s úhlem 15°, 30°, 45° a 90°:",null,0,null,null,null,null,null,null,null,"Kolena DN150 s úhlem 15°, 30°, 45° a 90°:"]
[null,null,"Na Stoce \"A.1\":",null,0,null,null,null,null,null,null,null,"Na Stoce \"A.1\":"]
[null,null,"KP DN150 (10 kusů):20*1,1*1,015",null,22.33,null,null,null,null,null,null,null,"KP DN150 (10 kusů):20*1,1*1,015"]
[null,null,"Na Stoce \"A.1-1\":",null,0,null,null,null,null,null,null,null,"Na Stoce \"A.1-1\":"]
[null,null,"KP DN150 (3 kusy):6*1,1*1,015",null,6.6989999999999998,null,null,null,null,null,null,null,"KP DN150 (3 kusy):6*1,1*1,015"]
[null,null,"Na Stoce \"B.1\":",null,0,null,null,null,null,null,null,null,"Na Stoce \"B.1\":"]
[null,null,"KP DN150 (2 kusy):4*1,1*1,015",null,4.4660000000000002,null,null,null,null,null,null,null,"KP DN150 (2 kusy):4*1,1*1,015"]
[null,null,"Na Stoce \"H\":",null,0,null,null,null,null,null,null,null,"Na Stoce \"H\":"]
[null,null,"KP DN150 (3 kusy):6*1,1*1,015",null,6.6989999999999998,null,null,null,null,null,null,null,"KP DN150 (3 kusy):6*1,1*1,015"]
[null,null,"Na Stoce \"I\":",null,0,null,null,null,null,null,null,null,"Na Stoce \"I\":"]
[null,null,"KP DN150 (6 Kusů):12*1,1*1,015",null,13.398,null,null,null,null,null,null,null,"KP DN150 (6 Kusů):12*1,1*1,015"]
[37,"286506012.R","Koleno kanalizační PVC QUANTUM SDR 34 DN 200 Kolena s úhlem 15°, 30°a 45°","kus",35.728000000000002,null,{"$f":"E500*F500","v":0},1.07E-3,{"$f":"E500*H500","v":3.8228959999999999E-2},null,{"$f":"E500*J500","v":0},null,null,null,2,null,null,null,null,null,null,null,null,null,null,null,3,1,"286506012.R",null,null,null,null,null,null,null,null,null,null,null,null,null,null,null,null,null,null,null,null,null,null,1,{"$f":"IF(AZ500=1,G500,0)","v":0},{"$f":"IF(AZ500=2,G500,0)","v":0},{"$f":"IF(AZ500=3,G500,0)","v":0},{"$f":"IF(AZ500=4,G500,0)","v":0},{"$f":"IF(AZ500=5,G500,0)","v":0},null,null,null,null,null,null,null,null,null,null,null,null,null,null,null,null,null,null,null,null,null,3,1]
[null,null,"Tvarovky kanalizačního systému PVC SDR 34",null,null,null,null,null,null,null,null,"Tvarovky kanalizačního systému PVC SDR 34",null,null,3]
[null,null,"Teplota při pokládce: min. -10 °C, max. 50 °C",null,null,null,null,null,null,null,null,"Teplota při pokládce: min. -10 °C, max. 50 °C",null,null,3]
[null,null,"Max. teplota média: trvale do 40 °C, krátkodobě do 60 °C",null,null,null,null,null,null,null,null,"Max. teplota média: trvale do 40 °C, krátkodobě do 60 °C",null,null,3]
[null,null,"Orientační výška krytí: min. 0,5 m, max. 10 m",null,null,null,null,null,null,null,null,"Orientační výška krytí: min. 0,5 m, max. 10 m",null,null,3]
[null,null,"Max. rychlost média: 12 m/s",null,null,null,null,null,null,null,null,"Max. rychlost média: 12 m/s",null,null,3]
[null,null,"Kanalizační přípojky PVC DN150 a DN200 + Rezerva 10%:",null,0,null,null,null,null,null,null,null,"Kanalizační přípojky PVC DN150 a DN200 + Rezerva 10%:"]
[null,null,"Kolena DN200 s úhlem 15°, 30°a 45°:",null,0,null,null,null,null,null,null,null,"Kolena DN200 s úhlem 15°, 30°a 45°:"]
[null,null,"Na Stoce \"A\":",null,0,null,null,null,null,null,null,null,"Na Stoce \"A\":"]
[null,null,"KP DN200 (5 kusů):10*1,1*1,015",null,11.164999999999999,null,null,null,null,null,null,null,"KP DN200 (5 kusů):10*1,1*1,015"]
[null,null,"Na Stoce \"A.1\":",null,0,null,null,null,null,null,null,null,"Na Stoce \"A.1\":"]
[null,null,"KP DN200 (7 kusů):14*1,1*1,015",null,15.631,null,null,null,null,null,null,null,"KP DN200 (7 kusů):14*1,1*1,015"]
[null,null,"Na Stoce \"J\":",null,0,null,null,null,null,null,null,null,"Na Stoce \"J\":"]
[null,null,"DN 200 (4 kusy):8*1,1*1,015",null,8.9320000000000004,null,null,null,null,null,null,null,"DN 200 (4 kusy):8*1,1*1,015"]
[38,"28650814.R","Přechodka kanal. PVC na kameninové hrdlo DN 200 mm","kus",5.5824999999999996,null,{"$f":"E514*F514","v":0},7.7999999999999999E-4,{"$f":"E514*H514","v":4.3543499999999999E-3},null,{"$f":"E514*J514","v":0},null,null,null,2,null,null,null,null,null,null,null,null,null,null,null,3,1,"28650814.R",null,null,null,null,null,null,null,null,null,null,null,null,null,null,null,null,null,null,null,null,null,null,1,{"$f":"IF(AZ514=1,G514,0)","v":0},{"$f":"IF(AZ514=2,G514,0)","v":0},{"$f":"IF(AZ514=3,G514,0)","v":0},{"$f":"IF(AZ514=4,G514,0)","v":0},{"$f":"IF(AZ514=5,G514,0)","v":0},null,null,null,null,null,null,null,null,null,null,null,null,null,null,null,null,null,null,null,null,null,3,1]
[null,null,"Kanalizační přípojky PVC DN150 a DN200 + Rezerva 10%:",null,0,null,null,null,null,null,null,null,"Kanalizační přípojky PVC DN150 a DN200 + Rezerva 10%:"]
[null,null,"Přechodka DN200 kanal. PVC na kameninové hrdlo :",null,0,null,null,null,null,null,null,null,"Přechodka DN200 kanal. PVC na kameninové hrdlo :"]
[null,null,"Na Stoce \"A\":",null,0,null,null,null,null,null,null,null,"Na Stoce \"A\":"]
[null,null,"KP DN200 (5 kusů):5*1,1*1,015",null,5.5824999999999996,null,null,null,null,null,null,null,"KP DN200 (5 kusů):5*1,1*1,015"]
[null,"Celkem za","8 Trubní vedení",null,null,null,{"$f":"SUM(G281:G518)","v":0},null,{"$f":"SUM(I281:I518)","v":12.81455523},null,{"$f":"SUM(K281:K518)","v":0},null,null,null,4,null,null,null,null,null,null,null,null,null,null,null,null,null,null,null,null,null,null,null,null,null,null,null,null,null,null,null,null,null,null,null,null,null,null,null,null,null,{"$f":"SUM(BA281:BA518)","v":0},{"$f":"SUM(BB281:BB518)","v":0},{"$f":"SUM(BC281:BC518)","v":0},{"$f":"SUM(BD281:BD518)","v":0},{"$f":"SUM(BE281:BE518)","v":0}]
["Díl:","99","Staveništní přesun hmot",null,null,null,null,null,null,null,null,null,null,null,1]
[39,"998276101RXX","Přesun hmot, trubní vedení plastová, otevř. výkop pro celý rozsah objektu","t",1751.7221919470001,null,{"$f":"E521*F521","v":0},0,{"$f":"E521*H521","v":0},null,{"$f":"E521*J521","v":0},null,null,null,2,null,null,null,null,null,null,null,null,null,null,null,7,1,2,null,null,null,null,null,null,null,null,null,null,null,null,null,null,null,null,null,null,null,null,null,null,1,{"$f":"IF(AZ521=1,G521,0)","v":0},{"$f":"IF(AZ521=2,G521,0)","v":0},{"$f":"IF(AZ521=3,G521,0)","v":0},{"$f":"IF(AZ521=4,G521,0)","v":0},{"$f":"IF(AZ521=5,G521,0)","v":0},null,null,null,null,null,null,null,null,null,null,null,null,null,null,null,null,null,null,null,null,null,7,1]
[null,null,"Staveništní doprava pro celý rozsah objektu - doprava zmeziskládek vybudovaného zařízení staveniště zhotovitele na jednotlivé části staveniště.",null,null,null,null,null,null,null,null,"Staveništní doprava pro celý rozsah objektu - doprava zmeziskládek vybudovaného zařízení staveniště zhotovitele na jednotlivé části staveniště.",null,null,3]
[null,"Celkem za","99 Staveništní přesun hmot",null,null,null,{"$f":"SUM(G520:G522)","v":0},null,{"$f":"SUM(I520:I522)","v":0},null,{"$f":"SUM(K520:K522)","v":0},null,null,null,4,null,null,null,null,null,null,null,null,null,null,null,null,null,null,null,null,null,null,null,null,null,null,null,null,null,null,null,null,null,null,null,null,null,null,null,null,null,{"$f":"SUM(BA520:BA522)","v":0},{"$f":"SUM(BB520:BB522)","v":0},{"$f":"SUM(BC520:BC522)","v":0},{"$f":"SUM(BD520:BD522)","v":0},{"$f":"SUM(BE520:BE522)","v":0}]

{"sheet":"07 07.01 KL","index":56,"n_rows":45,"n_cols":8,"rows_kept":45,"cut":false,"hidden":false,"merged":[[22,0,22,1],[7,2,7,4],[8,2,8,4],[9,2,9,4],[10,2,10,4],[11,2,11,4],[50,1,50,6],[29,5,29,6],[30,5,30,6],[31,5,31,6],[32,5,32,6],[33,5,33,6],[36,1,44,6],[45,1,45,6],[46,1,46,6],[47,1,47,6],[48,1,48,6],[49,1,49,6]]}
["POLOŽKOVÝ ROZPOČET"]
["Rozpočet",null,"07.01","Přeložka dešťové kanalizace - Stoka \"A1\"",null,"JKSO ","827.21.A4"]
[]
["Objekt",null,null,null,null,"SKP "]
["07",null,"Přeložky dešťové kanalizace",null,null,"Měrná jednotka","m"]
["Stavba",null,null,null,null,"Počet jednotek",0]
["3395",null,"Kanalizace a ČOV Benešov u Semil",null,null,"Náklady na m.j.",{"$f":"IF(G6=0,,ROUND((F30+F32)/G6,1))","v":0}]
["Projektant",null,"Vodohospodářský rozvoj a výstavba a.s.",null,null,"Typ rozpočtu"]
["Zpracovatel projektu"]
["Objednatel",null,"Vodohospodářské sdružení Turnov"]
["Dodavatel",null,".",null,null,"Zakázkové číslo "]
["Rozpočtoval",null,null,null,null,"Počet listů"]
["ROZPOČTOVÉ NÁKLADY"]
["Základní rozpočtové náklady"]
[null,"HSV celkem",{"$f":"'07 07.01 Rek'!E14","v":0}]
["Z","PSV celkem",{"$f":"'07 07.01 Rek'!F14","v":0}]
["R","M práce celkem",{"$f":"'07 07.01 Rek'!H14","v":0}]
["N","M dodávky celkem",{"$f":"'07 07.01 Rek'!G14","v":0}]
["ZRN celkem",null,{"$f":"SUM(C15:C18)","v":0}]
[]
["HZS",null,{"$f":"'07 07.01 Rek'!I14","v":0}]
["ZRN+HZS",null,{"$f":"C19+C21","v":0}]
["ZRN+ost.náklady+HZS",null,{"$f":"C22+G23","v":0}]
["Vypracoval",null,null,"Za zhotovitele",null,"Za objednatele"]
["Jméno :",null,null,"Jméno :",null,"Jméno :"]
["Datum :",null,null,"Datum :",null,"Datum :"]
[]
["Podpis :",null,null,"Podpis:",null,"Podpis:"]
[]
["Základ pro DPH",null,21,"%  ",null,{"$f":"C23-F32","v":0}]
["DPH",null,{"$f":"C30","v":21},"% ",null,{"$f":"ROUND(PRODUCT(F30,C31/100),0)","v":0}]
["Základ pro DPH",null,0,"% ",null,0]
["DPH",null,{"$f":"C32","v":0},"% ",null,{"$f":"ROUND(PRODUCT(F32,C33/100),0)","v":0}]
["CENA ZA OBJEKT CELKEM",null,null,null,null,{"$f":"ROUND(SUM(F30:F33),0)","v":0}]
[]
["Poznámka :",null,null,null,null,null,null," "]
[null,null,null,null,null,null,null," "]
[null,null,null,null,null,null,null," "]
[null,null,null,null,null,null,null," "]
[null,null,null,null,null,null,null," "]
[null,null,null,null,null,null,null," "]
[null,null,null,null,null,null,null," "]
[null,null,null,null,null,null,null," "]
[null,null,null,null,null,null,null," "]
[null,null,null,null,null,null,null," "]

{"sheet":"07 07.01 Rek","index":57,"n_rows":14,"n_cols":9,"rows_kept":14,"cut":false,"hidden":false,"merged":[[0,0,0,1],[1,0,1,1],[1,6,1,8]]}
["Stavba :",null,"3395 Kanalizace a ČOV Benešov u Semil",null,null,null,"Rozpočet :","07.01"]
["Objekt :",null,"07 Přeložky dešťové kanalizace",null,null,null,"Přeložka dešťové kanalizace - Stoka \"A1\""]
[]
["REKAPITULACE  STAVEBNÍCH  DÍLŮ"]
[]
[null,"Stavební díl",null,null,"HSV","PSV","Dodávka","Montáž","HZS"]
[{"$f":"'07 07.01 Pol'!B7","v":"1"},{"$f":"'07 07.01 Pol'!C7","v":"Zemní práce"},null,null,{"$f":"'07 07.01 Pol'!BA135","v":0},{"$f":"'07 07.01 Pol'!BB135","v":0},{"$f":"'07 07.01 Pol'!BC135","v":0},{"$f":"'07 07.01 Pol'!BD135","v":0},{"$f":"'07 07.01 Pol'!BE135","v":0}]
[{"$f":"'07 07.01 Pol'!B136","v":"21"},{"$f":"'07 07.01 Pol'!C136","v":"Úprava podloží a základ.spáry"},null,null,{"$f":"'07 07.01 Pol'!BA140","v":0},{"$f":"'07 07.01 Pol'!BB140","v":0},{"$f":"'07 07.01 Pol'!BC140","v":0},{"$f":"'07 07.01 Pol'!BD140","v":0},{"$f":"'07 07.01 Pol'!BE140","v":0}]
[{"$f":"'07 07.01 Pol'!B141","v":"45"},{"$f":"'07 07.01 Pol'!C141","v":"Podkladní a vedlejší konstrukce"},null,null,{"$f":"'07 07.01 Pol'!BA169","v":0},{"$f":"'07 07.01 Pol'!BB169","v":0},{"$f":"'07 07.01 Pol'!BC169","v":0},{"$f":"'07 07.01 Pol'!BD169","v":0},{"$f":"'07 07.01 Pol'!BE169","v":0}]
[{"$f":"'07 07.01 Pol'!B170","v":"5"},{"$f":"'07 07.01 Pol'!C170","v":"Komunikace"},null,null,{"$f":"'07 07.01 Pol'!BA175","v":0},{"$f":"'07 07.01 Pol'!BB175","v":0},{"$f":"'07 07.01 Pol'!BC175","v":0},{"$f":"'07 07.01 Pol'!BD175","v":0},{"$f":"'07 07.01 Pol'!BE175","v":0}]
[{"$f":"'07 07.01 Pol'!B176","v":"8"},{"$f":"'07 07.01 Pol'!C176","v":"Trubní vedení"},null,null,{"$f":"'07 07.01 Pol'!BA363","v":0},{"$f":"'07 07.01 Pol'!BB363","v":0},{"$f":"'07 07.01 Pol'!BC363","v":0},{"$f":"'07 07.01 Pol'!BD363","v":0},{"$f":"'07 07.01 Pol'!BE363","v":0}]
[{"$f":"'07 07.01 Pol'!B364","v":"93"},{"$f":"'07 07.01 Pol'!C364","v":"Dokončovací práce inženýrských staveb"},null,null,{"$f":"'07 07.01 Pol'!BA380","v":0},{"$f":"'07 07.01 Pol'!BB380","v":0},{"$f":"'07 07.01 Pol'!BC380","v":0},{"$f":"'07 07.01 Pol'!BD380","v":0},{"$f":"'07 07.01 Pol'!BE380","v":0}]
[{"$f":"'07 07.01 Pol'!B381","v":"99"},{"$f":"'07 07.01 Pol'!C381","v":"Staveništní přesun hmot"},null,null,{"$f":"'07 07.01 Pol'!BA384","v":0},{"$f":"'07 07.01 Pol'!BB384","v":0},{"$f":"'07 07.01 Pol'!BC384","v":0},{"$f":"'07 07.01 Pol'!BD384","v":0},{"$f":"'07 07.01 Pol'!BE384","v":0}]
[null,"CELKEM  OBJEKT",null,null,{"$f":"SUM(E7:E13)","v":0},{"$f":"SUM(F7:F13)","v":0},{"$f":"SUM(G7:G13)","v":0},{"$f":"SUM(H7:H13)","v":0},{"$f":"SUM(I7:I13)","v":0}]

{"sheet":"07 07.01 Pol","index":58,"n_rows":384,"n_cols":80,"rows_kept":384,"cut":false,"hidden":false,"merged":[[14,2,14,6],[15,2,15,6],[16,2,16,3],[17,2,17,3],[18,2,18,3],[20,2,20,6],[0,0,0,6],[2,0,2,1],[3,0,3,1],[3,4,3,6],[8,2,8,6],[9,2,9,6],[11,2,11,3],[12,2,12,3],[27,2,27,3],[28,2,28,3],[29,2,29,3],[30,2,30,3],[31,2,31,3],[32,2,32,3],[21,2,21,3],[22,2,22,3],[23,2,23,3],[24,2,24,3],[25,2,25,3],[26,2,26,3],[40,2,40,3],[42,2,42,6],[43,2,43,3],[44,2,44,3],[45,2,45,3],[47,2,47,3],[33,2,33,3],[34,2,34,3],[35,2,35,3],[36,2,36,3],[38,2,38,3],[39,2,39,3],[56,2,56,3],[57,2,57,3],[58,2,58,3],[59,2,59,3],[60,2,60,3],[61,2,61,3],[48,2,48,3],[49,2,49,3],[51,2,51,6],[52,2,52,3],[53,2,53,3],[54,2,54,3],[69,2,69,3],[70,2,70,3],[71,2,71,3],[72,2,72,3],[74,2,74,3],[75,2,75,3],[62,2,62,3],[63,2,63,3],[65,2,65,3],[66,2,66,3],[67,2,67,3],[68,2,68,3],[83,2,83,3],[84,2,84,3],[85,2,85,3],[86,2,86,3],[87,2,87,3],[88,2,88,3],[76,2,76,3],[77,2,77,3],[79,2,79,6],[80,2,80,6],[81,2,81,3],[82,2,82,3],[95,2,95,3],[96,2,96,3],[97,2,97,3],[98,2,98,3],[99,2,99,3],[100,2,100,3],[89,2,89,3],[90,2,90,3],[91,2,91,3],[92,2,92,3],[93,2,93,3],[94,2,94,3],[108,2,108,3],[110,2,110,3],[111,2,111,3],[112,2,112,3],[113,2,113,3],[115,2,115,3],[101,2,101,3],[102,2,102,3],[103,2,103,3],[104,2,104,3],[105,2,105,3],[107,2,107,3],[123,2,123,3],[124,2,124,3],[125,2,125,3],[126,2,126,3],[127,2,127,3],[128,2,128,3],[116,2,116,3],[118,2,118,3],[119,2,119,3],[120,2,120,3],[121,2,121,3],[122,2,122,3],[137,2,137,3],[138,2,138,3],[142,2,142,3],[143,2,143,3],[145,2,145,6],[146,2,146,3],[147,2,147,3],[129,2,129,3],[130,2,130,3],[131,2,131,3],[132,2,132,3],[133,2,133,3],[157,2,157,3],[158,2,158,3],[160,2,160,3],[161,2,161,3],[163,2,163,3],[164,2,164,3],[148,2,148,3],[149,2,149,3],[151,2,151,3],[152,2,152,3],[154,2,154,6],[155,2,155,3],[177,2,177,6],[178,2,178,3],[179,2,179,3],[181,2,181,6],[182,2,182,3],[183,2,183,3],[185,2,185,6],[186,2,186,3],[166,2,166,3],[167,2,167,3],[171,2,171,3],[172,2,172,3],[173,2,173,3],[195,2,195,6],[196,2,196,6],[197,2,197,6],[198,2,198,6],[199,2,199,3],[200,2,200,3],[187,2,187,3],[189,2,189,6],[190,2,190,3],[191,2,191,3],[192,2,192,3],[193,2,193,3],[209,2,209,3],[210,2,210,3],[211,2,211,3],[213,2,213,6],[214,2,214,3],[216,2,216,6],[201,2,201,3],[203,2,203,6],[204,2,204,6],[205,2,205,6],[206,2,206,6],[207,2,207,3],[224,2,224,3],[225,2,225,3],[227,2,227,6],[228,2,228,3],[229,2,229,3],[231,2,231,6],[217,2,217,6],[218,2,218,3],[219,2,219,3],[220,2,220,3],[222,2,222,6],[223,2,223,6],[239,2,239,6],[240,2,240,3],[241,2,241,3],[243,2,243,3],[244,2,244,3],[245,2,245,3],[232,2,232,6],[233,2,233,6],[234,2,234,3],[235,2,235,3],[237,2,237,6],[238,2,238,6],[256,2,256,3],[258,2,258,6],[259,2,259,6],[260,2,260,6],[261,2,261,6],[262,2,262,6],[247,2,247,6],[249,2,249,6],[251,2,251,3],[252,2,252,3],[253,2,253,3],[255,2,255,3],[270,2,270,6],[271,2,271,6],[272,2,272,6],[273,2,273,3],[274,2,274,3],[275,2,275,3],[263,2,263,6],[264,2,264,6],[265,2,265,3],[266,2,266,3],[268,2,268,6],[269,2,269,6],[284,2,284,6],[285,2,285,6],[286,2,286,6],[287,2,287,6],[288,2,288,3],[289,2,289,3],[277,2,277,3],[278,2,278,3],[279,2,279,3],[281,2,281,6],[282,2,282,6],[283,2,283,6],[299,2,299,3],[301,2,301,3],[302,2,302,3],[304,2,304,3],[305,2,305,3],[307,2,307,3],[290,2,290,3],[292,2,292,3],[293,2,293,3],[295,2,295,3],[296,2,296,3],[298,2,298,3],[316,2,316,6],[317,2,317,6],[318,2,318,6],[319,2,319,6],[320,2,320,6],[321,2,321,3],[308,2,308,3],[310,2,310,3],[311,2,311,3],[313,2,313,6],[314,2,314,6],[315,2,315,6],[329,2,329,6],[330,2,330,6],[331,2,331,6],[332,2,332,6],[333,2,333,3],[334,2,334,3],[322,2,322,3],[323,2,323,3],[325,2,325,6],[326,2,326,6],[327,2,327,6],[328,2,328,6],[342,2,342,6],[343,2,343,6],[344,2,344,3],[345,2,345,3],[347,2,347,6],[348,2,348,6],[336,2,336,6],[337,2,337,6],[338,2,338,6],[339,2,339,6],[340,2,340,6],[341,2,341,6],[355,2,355,6],[356,2,356,6],[357,2,357,3],[358,2,358,3],[360,2,360,3],[361,2,361,3],[349,2,349,6],[350,2,350,6],[351,2,351,6],[352,2,352,6],[353,2,353,6],[354,2,354,6],[382,2,382,6],[373,2,373,6],[374,2,374,6],[376,2,376,6],[377,2,377,6],[378,2,378,6],[365,2,365,6],[366,2,366,6],[367,2,367,6],[368,2,368,6],[369,2,369,6],[370,2,370,6],[371,2,371,6],[372,2,372,6]]}
["Položkový rozpočet "]
[]
["Stavba :",null,"3395 Kanalizace a ČOV Benešov u Semil",null,"Rozpočet:",{"$f":"'07 07.01 Rek'!H1","v":"07.01"}]
["Objekt :",null,"07 Přeložky dešťové kanalizace",null,{"$f":"'07 07.01 Rek'!G2","v":"Přeložka dešťové kanalizace - Stoka \"A1\""}]
[]
["P.č.","Číslo položky","Název položky","MJ","množství","cena / MJ","celkem (Kč)","Jednotková hmotnost","Celková hmotnost","Jednotková dem.hmot.","Celková dem.hmot."]
["Díl:","1","Zemní práce",null,null,null,null,null,null,null,null,null,null,null,1]
[1,"115101201RRX","Přečerpávání nebo převedení splašků a dešť. vod ","h",240,null,{"$f":"E8*F8","v":0},0,{"$f":"E8*H8","v":0},0,{"$f":"E8*J8","v":0},null,null,null,2,null,null,null,null,null,null,null,null,null,null,null,1,1,1,null,null,null,null,null,null,null,null,null,null,null,null,null,null,null,null,null,null,null,null,null,null,1,{"$f":"IF(AZ8=1,G8,0)","v":0},{"$f":"IF(AZ8=2,G8,0)","v":0},{"$f":"IF(AZ8=3,G8,0)","v":0},{"$f":"IF(AZ8=4,G8,0)","v":0},{"$f":"IF(AZ8=5,G8,0)","v":0},null,null,null,null,null,null,null,null,null,null,null,null,null,null,null,null,null,null,null,null,null,1,1]
[null,null,"Převedení a čerpání splašků nebo dešťových vod dle zvolené technologie zhotovitele stavby.",null,null,null,null,null,null,null,null,"Převedení a čerpání splašků nebo dešťových vod dle zvolené technologie zhotovitele stavby.",null,null,3]
[null,null,"(Množství bude určeno na stavbě dle skutečnosti)",null,null,null,null,null,null,null,null,"(Množství bude určeno na stavbě dle skutečnosti)",null,null,3]
[2,"121100002RAA","Sejmutí ornice a uložení na deponii zpětný přesun, rozprostření v tl. 20 cm","m3",15,null,{"$f":"E11*F11","v":0},0,{"$f":"E11*H11","v":0},0,{"$f":"E11*J11","v":0},null,null,null,2,null,null,null,null,null,null,null,null,null,null,null,1,1,1,null,null,null,null,null,null,null,null,null,null,null,null,null,null,null,null,null,null,null,null,null,null,1,{"$f":"IF(AZ11=1,G11,0)","v":0},{"$f":"IF(AZ11=2,G11,0)","v":0},{"$f":"IF(AZ11=3,G11,0)","v":0},{"$f":"IF(AZ11=4,G11,0)","v":0},{"$f":"IF(AZ11=5,G11,0)","v":0},null,null,null,null,null,null,null,null,null,null,null,null,null,null,null,null,null,null,null,null,null,1,1]
[null,null,"Stoka \"A1\" KT DN400:",null,0,null,null,null,null,null,null,null,"Stoka \"A1\" KT DN400:"]
[null,null,"Objem ornice v pracovním prostoru:25,00*3,00*0,20",null,15,null,null,null,null,null,null,null,"Objem ornice v pracovním prostoru:25,00*3,00*0,20"]
[3,"130001101RRX","Příplatek za ztížené hloubení v blízkosti vedení ","m3",188.40020000000001,null,{"$f":"E14*F14","v":0},0,{"$f":"E14*H14","v":0},0,{"$f":"E14*J14","v":0},null,null,null,2,null,null,null,null,null,null,null,null,null,null,null,1,1,1,null,null,null,null,null,null,null,null,null,null,null,null,null,null,null,null,null,null,null,null,null,null,1,{"$f":"IF(AZ14=1,G14,0)","v":0},{"$f":"IF(AZ14=2,G14,0)","v":0},{"$f":"IF(AZ14=3,G14,0)","v":0},{"$f":"IF(AZ14=4,G14,0)","v":0},{"$f":"IF(AZ14=5,G14,0)","v":0},null,null,null,null,null,null,null,null,null,null,null,null,null,null,null,null,null,null,null,null,null,1,1]
[null,null,"Včetně případných nutných dokopávem a ručního výkopu podél sousedících inženýrských sítí.",null,null,null,null,null,null,null,null,"Včetně případných nutných dokopávem a ručního výkopu podél sousedících inženýrských sítí.",null,null,3]
[null,null,"Součástí položky je i dočasné zajištění inženýrských sítí v prostoru výkopů (potrubí, kabely a pod.)",null,null,null,null,null,null,null,null,"Součástí položky je i dočasné zajištění inženýrských sítí v prostoru výkopů (potrubí, kabely a pod.)",null,null,3]
[null,null,"Stoka \"A1\" KT DN400:",null,0,null,null,null,null,null,null,null,"Stoka \"A1\" KT DN400:"]
[null,null,"Výkopy:",null,0,null,null,null,null,null,null,null,"Výkopy:"]
[null,null,"V hornině tř. 3 - 5 - 22%:856,3645*0,22",null,188.40020000000001,null,null,null,null,null,null,null,"V hornině tř. 3 - 5 - 22%:856,3645*0,22"]
[4,"132201212R00","Hloubení rýh š.do 200 cm hor.3 do 1000m3,STROJNĚ ","m3",513.81870000000004,null,{"$f":"E20*F20","v":0},0,{"$f":"E20*H20","v":0},0,{"$f":"E20*J20","v":0},null,null,null,2,null,null,null,null,null,null,null,null,null,null,null,1,1,1,null,null,null,null,null,null,null,null,null,null,null,null,null,null,null,null,null,null,null,null,null,null,1,{"$f":"IF(AZ20=1,G20,0)","v":0},{"$f":"IF(AZ20=2,G20,0)","v":0},{"$f":"IF(AZ20=3,G20,0)","v":0},{"$f":"IF(AZ20=4,G20,0)","v":0},{"$f":"IF(AZ20=5,G20,0)","v":0},null,null,null,null,null,null,null,null,null,null,null,null,null,null,null,null,null,null,null,null,null,1,1]
[null,null,"Položka obsahuje hloubení rýh traktorbagrem, naložení výkopku na dopravní prostředek pro svislé, nebo vodorovné přemístění, popř. přemístění výkopku do 3 m (po povrchu území), případné zajištění rypadel polštáři, udržování pracoviště a ochranu výkopiště proti stékání srážkové vody z okolního terénu i s jejím odvodněním, nebo odvedením, přesekání a odstranění kořenů ve výkopišti, odstranění napadávek, urovnání dna výkopu.",null,null,null,null,null,null,null,null,"Položka obsahuje hloubení rýh traktorbagrem, naložení výkopku na dopravní prostředek pro svislé, nebo vodorovné přemístění, popř. přemístění výkopku do 3 m (po povrchu území), případné zajištění rypadel polštáři, udržování pracoviště a ochranu výkopiště proti stékání srážkové vody z okolního terénu i s jejím odvodněním, nebo odvedením, přesekání a odstranění kořenů ve výkopišti, odstranění napadávek, urovnání dna výkopu.",null,null,3]
[null,null,"Stoka \"A1\" KT DN400:",null,0,null,null,null,null,null,null,null,"Stoka \"A1\" KT DN400:"]
[null,null,"Výkopy:",null,0,null,null,null,null,null,null,null,"Výkopy:"]
[null,null,"Začátek provozního součtu",null,0,null,null,null,null,null,null,null,"Začátek provozního součtu"]
[null,null,"VO - ŠA1-01:10,96*1,30*(1,08+3,50)/2",null,32.627899999999997,null,null,null,null,null,null,null,"VO - ŠA1-01:10,96*1,30*(1,08+3,50)/2"]
[null,null,"ŠA1-01 - ŠA1-02:(24,29-10,96)*1,30*(2,79+4,50)/2",null,63.164200000000001,null,null,null,null,null,null,null,"ŠA1-01 - ŠA1-02:(24,29-10,96)*1,30*(2,79+4,50)/2"]
[null,null,"ŠA1-02 - ŠA1-09:(182,62-24,29)*1,30*(4,31+2,95)/2",null,747.15930000000003,null,null,null,null,null,null,null,"ŠA1-02 - ŠA1-09:(182,62-24,29)*1,30*(4,31+2,95)/2"]
[null,null,"Prohloubení pro RŠ:1,60*1,60*0,20*9",null,4.6079999999999997,null,null,null,null,null,null,null,"Prohloubení pro RŠ:1,60*1,60*0,20*9"]
[null,null,"Rozšíření pro RŠ:1,60*(1,60-1,30)*27,07",null,12.993600000000001,null,null,null,null,null,null,null,"Rozšíření pro RŠ:1,60*(1,60-1,30)*27,07"]
[null,null,"Přípojky k UV PVC DN200 + Rezerva 10%:",null,0,null,null,null,null,null,null,null,"Přípojky k UV PVC DN200 + Rezerva 10%:"]
[null,null,"Průměrná hloubka 2,90 m:",null,0,null,null,null,null,null,null,null,"Průměrná hloubka 2,90 m:"]
[null,null,"Výkopy pro UV:55,00*0,80*2,90",null,127.6,null,null,null,null,null,null,null,"Výkopy pro UV:55,00*0,80*2,90"]
[null,null,"Odpočet objemu konstrukce komunikace:-((182,62-24,29)*1,30+1,60*(1,60-1,30)*8)*0,50",null,-104.83450000000001,null,null,null,null,null,null,null,"Odpočet objemu konstrukce komunikace:-((182,62-24,29)*1,30+1,60*(1,60-1,30)*8)*0,50"]
[null,null,"-55,00*0,80*0,50",null,-22,null,null,null,null,null,null,null,"-55,00*0,80*0,50"]
[null,null,"Odpočet objemu ornice:-(24,29+1,60*(1,60-1,30)*1)*0,20",null,-4.9539999999999997,null,null,null,null,null,null,null,"Odpočet objemu ornice:-(24,29+1,60*(1,60-1,30)*1)*0,20"]
[null,null,"Konec provozního součtu",null,856.36450000000002,null,null,null,null,null,null,null,"Konec provozního součtu"]
[null,null,"V hornině tř. 3 - 60%:856,3645*0,6",null,513.81870000000004,null,null,null,null,null,null,null,"V hornině tř. 3 - 60%:856,3645*0,6"]
[5,"132201219R00","Přípl.za lepivost,hloubení rýh 200cm,hor.3,STROJNĚ ","m3",256.90940000000001,null,{"$f":"E38*F38","v":0},0,{"$f":"E38*H38","v":0},0,{"$f":"E38*J38","v":0},null,null,null,2,null,null,null,null,null,null,null,null,null,null,null,1,1,1,null,null,null,null,null,null,null,null,null,null,null,null,null,null,null,null,null,null,null,null,null,null,1,{"$f":"IF(AZ38=1,G38,0)","v":0},{"$f":"IF(AZ38=2,G38,0)","v":0},{"$f":"IF(AZ38=3,G38,0)","v":0},{"$f":"IF(AZ38=4,G38,0)","v":0},{"$f":"IF(AZ38=5,G38,0)","v":0},null,null,null,null,null,null,null,null,null,null,null,null,null,null,null,null,null,null,null,null,null,1,1]
[null,null,"Stoka \"A1\" KT DN400:",null,0,null,null,null,null,null,null,null,"Stoka \"A1\" KT DN400:"]
[null,null,"Výkopy:",null,0,null,null,null,null,null,null,null,"Výkopy:"]
[null,null,"V hornině tř. 3 - 60%:856,3645*0,6*0,5",null,256.90940000000001,null,null,null,null,null,null,null,"V hornině tř. 3 - 60%:856,3645*0,6*0,5"]
[6,"132301212R00","Hloubení rýh š.do 200 cm hor.4 do 1000 m3, STROJNĚ ","m3",256.90940000000001,null,{"$f":"E42*F42","v":0},0,{"$f":"E42*H42","v":0},0,{"$f":"E42*J42","v":0},null,null,null,2,null,null,null,null,null,null,null,null,null,null,null,1,1,1,null,null,null,null,null,null,null,null,null,null,null,null,null,null,null,null,null,null,null,null,null,null,1,{"$f":"IF(AZ42=1,G42,0)","v":0},{"$f":"IF(AZ42=2,G42,0)","v":0},{"$f":"IF(AZ42=3,G42,0)","v":0},{"$f":"IF(AZ42=4,G42,0)","v":0},{"$f":"IF(AZ42=5,G42,0)","v":0},null,null,null,null,null,null,null,null,null,null,null,null,null,null,null,null,null,null,null,null,null,1,1]
[null,null,"Položka obsahuje hloubení rýh traktorbagrem, naložení výkopku na dopravní prostředek pro svislé, nebo vodorovné přemístění, popř. přemístění výkopku do 3 m (po povrchu území), případné zajištění rypadel polštáři, udržování pracoviště a ochranu výkopiště proti stékání srážkové vody z okolního terénu i s jejím odvodněním, nebo odvedením, přesekání a odstranění kořenů ve výkopišti, odstranění napadávek, urovnání dna výkopu.",null,null,null,null,null,null,null,null,"Položka obsahuje hloubení rýh traktorbagrem, naložení výkopku na dopravní prostředek pro svislé, nebo vodorovné přemístění, popř. přemístění výkopku do 3 m (po povrchu území), případné zajištění rypadel polštáři, udržování pracoviště a ochranu výkopiště proti stékání srážkové vody z okolního terénu i s jejím odvodněním, nebo odvedením, přesekání a odstranění kořenů ve výkopišti, odstranění napadávek, urovnání dna výkopu.",null,null,3]
[null,null,"Stoka \"A1\" KT DN400:",null,0,null,null,null,null,null,null,null,"Stoka \"A1\" KT DN400:"]
[null,null,"Výkopy:",null,0,null,null,null,null,null,null,null,"Výkopy:"]
[null,null,"V hornině tř. 4 - 30%:856,3645*0,3",null,256.90940000000001,null,null,null,null,null,null,null,"V hornině tř. 4 - 30%:856,3645*0,3"]
[7,"132301219R00","Přípl.za lepivost,hloubení rýh 200cm,hor.4,STROJNĚ ","m3",128.4547,null,{"$f":"E47*F47","v":0},0,{"$f":"E47*H47","v":0},0,{"$f":"E47*J47","v":0},null,null,null,2,null,null,null,null,null,null,null,null,null,null,null,1,1,1,null,null,null,null,null,null,null,null,null,null,null,null,null,null,null,null,null,null,null,null,null,null,1,{"$f":"IF(AZ47=1,G47,0)","v":0},{"$f":"IF(AZ47=2,G47,0)","v":0},{"$f":"IF(AZ47=3,G47,0)","v":0},{"$f":"IF(AZ47=4,G47,0)","v":0},{"$f":"IF(AZ47=5,G47,0)","v":0},null,null,null,null,null,null,null,null,null,null,null,null,null,null,null,null,null,null,null,null,null,1,1]
[null,null,"Stoka \"A1\" KT DN400:",null,0,null,null,null,null,null,null,null,"Stoka \"A1\" KT DN400:"]
[null,null,"Výkopy:",null,0,null,null,null,null,null,null,null,"Výkopy:"]
[null,null,"V hornině tř. 4 - 30%:856,3645*0,3*0,5",null,128.4547,null,null,null,null,null,null,null,"V hornině tř. 4 - 30%:856,3645*0,3*0,5"]
[8,"132401211RRX","Hloubení rýh šířky do 200 cm v hor.5 STROJNĚ včetně případného dolamování ve vrstvě do 0,5 m","m3",85.636499999999998,null,{"$f":"E51*F51","v":0},1.0410000000000001E-2,{"$f":"E51*H51","v":0.89147596500000004},0,{"$f":"E51*J51","v":0},null,null,null,2,null,null,null,null,null,null,null,null,null,null,null,1,1,1,null,null,null,null,null,null,null,null,null,null,null,null,null,null,null,null,null,null,null,null,null,null,1,{"$f":"IF(AZ51=1,G51,0)","v":0},{"$f":"IF(AZ51=2,G51,0)","v":0},{"$f":"IF(AZ51=3,G51,0)","v":0},{"$f":"IF(AZ51=4,G51,0)","v":0},{"$f":"IF(AZ51=5,G51,0)","v":0},null,null,null,null,null,null,null,null,null,null,null,null,null,null,null,null,null,null,null,null,null,1,1]
[null,null,"Položka obsahuje hloubení rýh traktorbagrem, naložení výkopku na dopravní prostředek pro svislé, nebo vodorovné přemístění, popř. přemístění výkopku do 3 m (po povrchu území), případné zajištění rypadel polštáři, udržování pracoviště a ochranu výkopiště proti stékání srážkové vody z okolního terénu i s jejím odvodněním, nebo odvedením, přesekání a odstranění kořenů ve výkopišti, odstranění napadávek, urovnání dna výkopu.včetně případného dolamování ve vrstvě do 0,5 m",null,null,null,null,null,null,null,null,"Položka obsahuje hloubení rýh traktorbagrem, naložení výkopku na dopravní prostředek pro svislé, nebo vodorovné přemístění, popř. přemístění výkopku do 3 m (po povrchu území), případné zajištění rypadel polštáři, udržování pracoviště a ochranu výkopiště proti stékání srážkové vody z okolního terénu i s jejím odvodněním, nebo odvedením, přesekání a odstranění kořenů ve výkopišti, odstranění napadávek, urovnání dna výkopu.včetně případného dolamování ve vrstvě do 0,5 m",null,null,3]
[null,null,"Stoka \"A1\" KT DN400:",null,0,null,null,null,null,null,null,null,"Stoka \"A1\" KT DN400:"]
[null,null,"Výkopy:",null,0,null,null,null,null,null,null,null,"Výkopy:"]
[null,null,"V hornině tř. 5 - 10%:856,3645*0,1",null,85.636499999999998,null,null,null,null,null,null,null,"V hornině tř. 5 - 10%:856,3645*0,1"]
[9,"151101102R00","Pažení a rozepření stěn rýh - příložné - hl.do 4 m ","m2",1615.8483000000001,null,{"$f":"E56*F56","v":0},8.5999999999999998E-4,{"$f":"E56*H56","v":1.3896295380000001},0,{"$f":"E56*J56","v":0},null,null,null,2,null,null,null,null,null,null,null,null,null,null,null,1,1,1,null,null,null,null,null,null,null,null,null,null,null,null,null,null,null,null,null,null,null,null,null,null,1,{"$f":"IF(AZ56=1,G56,0)","v":0},{"$f":"IF(AZ56=2,G56,0)","v":0},{"$f":"IF(AZ56=3,G56,0)","v":0},{"$f":"IF(AZ56=4,G56,0)","v":0},{"$f":"IF(AZ56=5,G56,0)","v":0},null,null,null,null,null,null,null,null,null,null,null,null,null,null,null,null,null,null,null,null,null,1,1]
[null,null,"Stoka \"A1\" KT DN400:",null,0,null,null,null,null,null,null,null,"Stoka \"A1\" KT DN400:"]
[null,null,"Výkopy:",null,0,null,null,null,null,null,null,null,"Výkopy:"]
[null,null,"VO - ŠA1-01:10,96*(1,08+3,50)/2*2",null,50.196800000000003,null,null,null,null,null,null,null,"VO - ŠA1-01:10,96*(1,08+3,50)/2*2"]
[null,null,"ŠA1-01 - ŠA1-02:(24,29-10,96)*(2,79+4,50)/2*2",null,97.175700000000006,null,null,null,null,null,null,null,"ŠA1-01 - ŠA1-02:(24,29-10,96)*(2,79+4,50)/2*2"]
[null,null,"ŠA1-02 - ŠA1-09:(182,62-24,29)*(4,31+2,95)/2*2",null,1149.4757999999999,null,null,null,null,null,null,null,"ŠA1-02 - ŠA1-09:(182,62-24,29)*(4,31+2,95)/2*2"]
[null,null,"Přípojky k UV PVC DN200 + Rezerva 10%:",null,0,null,null,null,null,null,null,null,"Přípojky k UV PVC DN200 + Rezerva 10%:"]
[null,null,"Průměrná hloubka 2,90 m:",null,0,null,null,null,null,null,null,null,"Průměrná hloubka 2,90 m:"]
[null,null,"Výkopy pro UV:55,00*2,90*2",null,319,null,null,null,null,null,null,null,"Výkopy pro UV:55,00*2,90*2"]
[10,"151101112R00","Odstranění pažení stěn rýh - příložné - hl. do 4 m ","m2",1615.8483000000001,null,{"$f":"E65*F65","v":0},0,{"$f":"E65*H65","v":0},0,{"$f":"E65*J65","v":0},null,null,null,2,null,null,null,null,null,null,null,null,null,null,null,1,1,1,null,null,null,null,null,null,null,null,null,null,null,null,null,null,null,null,null,null,null,null,null,null,1,{"$f":"IF(AZ65=1,G65,0)","v":0},{"$f":"IF(AZ65=2,G65,0)","v":0},{"$f":"IF(AZ65=3,G65,0)","v":0},{"$f":"IF(AZ65=4,G65,0)","v":0},{"$f":"IF(AZ65=5,G65,0)","v":0},null,null,null,null,null,null,null,null,null,null,null,null,null,null,null,null,null,null,null,null,null,1,1]
[null,null,"Stoka \"A1\" KT DN400:",null,0,null,null,null,null,null,null,null,"Stoka \"A1\" KT DN400:"]
[null,null,"Výkopy:",null,0,null,null,null,null,null,null,null,"Výkopy:"]
[null,null,"VO - ŠA1-01:10,96*(1,08+3,50)/2*2",null,50.196800000000003,null,null,null,null,null,null,null,"VO - ŠA1-01:10,96*(1,08+3,50)/2*2"]
[null,null,"ŠA1-01 - ŠA1-02:(24,29-10,96)*(2,79+4,50)/2*2",null,97.175700000000006,null,null,null,null,null,null,null,"ŠA1-01 - ŠA1-02:(24,29-10,96)*(2,79+4,50)/2*2"]
[null,null,"ŠA1-02 - ŠA1-09:(182,62-24,29)*(4,31+2,95)/2*2",null,1149.4757999999999,null,null,null,null,null,null,null,"ŠA1-02 - ŠA1-09:(182,62-24,29)*(4,31+2,95)/2*2"]
[null,null,"Přípojky k UV PVC DN200 + Rezerva 10%:",null,0,null,null,null,null,null,null,null,"Přípojky k UV PVC DN200 + Rezerva 10%:"]
[null,null,"Průměrná hloubka 2,90 m:",null,0,null,null,null,null,null,null,null,"Průměrná hloubka 2,90 m:"]
[null,null,"Výkopy pro UV:55,00*2,90*2",null,319,null,null,null,null,null,null,null,"Výkopy pro UV:55,00*2,90*2"]
[11,"162701105RSZ","Vodorovné přemístění výkopku z hor.1-7 na skládku zhotovitele","m3",804.75789999999995,null,{"$f":"E74*F74","v":0},0,{"$f":"E74*H74","v":0},0,{"$f":"E74*J74","v":0},null,null,null,2,null,null,null,null,null,null,null,null,null,null,null,1,1,1,null,null,null,null,null,null,null,null,null,null,null,null,null,null,null,null,null,null,null,null,null,null,1,{"$f":"IF(AZ74=1,G74,0)","v":0},{"$f":"IF(AZ74=2,G74,0)","v":0},{"$f":"IF(AZ74=3,G74,0)","v":0},{"$f":"IF(AZ74=4,G74,0)","v":0},{"$f":"IF(AZ74=5,G74,0)","v":0},null,null,null,null,null,null,null,null,null,null,null,null,null,null,null,null,null,null,null,null,null,1,1]
[null,null,"Stoka \"A1\" KT DN400:",null,0,null,null,null,null,null,null,null,"Stoka \"A1\" KT DN400:"]
[null,null,"Výkopy:",null,0,null,null,null,null,null,null,null,"Výkopy:"]
[null,null,"V hornině tř. 3 - 5 :856,3645",null,856.36450000000002,null,null,null,null,null,null,null,"V hornině tř. 3 - 5 :856,3645"]
[null,null,"Odpočet zásypů zeminou:-51,6066",null,-51.6066,null,null,null,null,null,null,null,"Odpočet zásypů zeminou:-51,6066"]
[12,"174101101R00","Zásyp jam, rýh, šachet se zhutněním ","m3",559.15380000000005,null,{"$f":"E79*F79","v":0},0,{"$f":"E79*H79","v":0},0,{"$f":"E79*J79","v":0},null,null,null,2,null,null,null,null,null,null,null,null,null,null,null,1,1,1,null,null,null,null,null,null,null,null,null,null,null,null,null,null,null,null,null,null,null,null,null,null,1,{"$f":"IF(AZ79=1,G79,0)","v":0},{"$f":"IF(AZ79=2,G79,0)","v":0},{"$f":"IF(AZ79=3,G79,0)","v":0},{"$f":"IF(AZ79=4,G79,0)","v":0},{"$f":"IF(AZ79=5,G79,0)","v":0},null,null,null,null,null,null,null,null,null,null,null,null,null,null,null,null,null,null,null,null,null,1,1]
[null,null,"Položka obsahuje strojní přemístění materiálu pro zásyp ze vzdálenosti do 10 m od okraje zásypu.",null,null,null,null,null,null,null,null,"Položka obsahuje strojní přemístění materiálu pro zásyp ze vzdálenosti do 10 m od okraje zásypu.",null,null,3]
[null,null,null,null,null,null,null,null,null,null,null,null,null,null,3]
[null,null,"Stoka \"A1\" KT DN400:",null,0,null,null,null,null,null,null,null,"Stoka \"A1\" KT DN400:"]
[null,null,"Zásypy ŠD fr. 0-63 mm:507,5472",null,507.54719999999998,null,null,null,null,null,null,null,"Zásypy ŠD fr. 0-63 mm:507,5472"]
[null,null,"Začátek provozního součtu",null,0,null,null,null,null,null,null,null,"Začátek provozního součtu"]
[null,null,"Výkopy:",null,0,null,null,null,null,null,null,null,"Výkopy:"]
[null,null,"ŠA1-02 - ŠA1-09:(182,62-24,29)*1,30*(4,31+2,95)/2",null,747.15930000000003,null,null,null,null,null,null,null,"ŠA1-02 - ŠA1-09:(182,62-24,29)*1,30*(4,31+2,95)/2"]
[null,null,"Prohloubení pro RŠ:1,60*1,60*0,20*9",null,4.6079999999999997,null,null,null,null,null,null,null,"Prohloubení pro RŠ:1,60*1,60*0,20*9"]
[null,null,"Rozšíření pro RŠ:1,60*(1,60-1,30)*27,07",null,12.993600000000001,null,null,null,null,null,null,null,"Rozšíření pro RŠ:1,60*(1,60-1,30)*27,07"]
[null,null,"Přípojky k UV PVC DN200 + Rezerva 10%:",null,0,null,null,null,null,null,null,null,"Přípojky k UV PVC DN200 + Rezerva 10%:"]
[null,null,"Průměrná hloubka 2,90 m:",null,0,null,null,null,null,null,null,null,"Průměrná hloubka 2,90 m:"]
[null,null,"Výkopy pro UV:55,00*0,80*2,90",null,127.6,null,null,null,null,null,null,null,"Výkopy pro UV:55,00*0,80*2,90"]
[null,null,"Odpočet objemu konstrukce komunikace:-((182,62-24,29)*1,30+1,60*(1,60-1,30)*8)*0,50",null,-104.83450000000001,null,null,null,null,null,null,null,"Odpočet objemu konstrukce komunikace:-((182,62-24,29)*1,30+1,60*(1,60-1,30)*8)*0,50"]
[null,null,"-55,00*0,80*0,50",null,-22,null,null,null,null,null,null,null,"-55,00*0,80*0,50"]
[null,null,"Odpočet objemu lože, potrubí a obsypů:-(182,62-24,29)*1,2168",null,-192.6559,null,null,null,null,null,null,null,"Odpočet objemu lože, potrubí a obsypů:-(182,62-24,29)*1,2168"]
[null,null,"-55,00*0,80*(0,15+0,20+0,30)",null,-28.6,null,null,null,null,null,null,null,"-55,00*0,80*(0,15+0,20+0,30)"]
[null,null,"Odpočet objemu RŠ a UV:-36,7232",null,-36.723199999999999,null,null,null,null,null,null,null,"Odpočet objemu RŠ a UV:-36,7232"]
[null,null,"Konec provozního součtu",null,507.54729999999995,null,null,null,null,null,null,null,"Konec provozního součtu"]
[null,null,"Zásypy zeminou:51,6066",null,51.6066,null,null,null,null,null,null,null,"Zásypy zeminou:51,6066"]
[null,null,"Začátek provozního součtu",null,0,null,null,null,null,null,null,null,"Začátek provozního součtu"]
[null,null,"Výkopy:",null,0,null,null,null,null,null,null,null,"Výkopy:"]
[null,null,"VO - ŠA1-01:10,96*1,30*(1,08+3,50)/2",null,32.627899999999997,null,null,null,null,null,null,null,"VO - ŠA1-01:10,96*1,30*(1,08+3,50)/2"]
[null,null,"ŠA1-01 - ŠA1-02:(24,29-10,96)*1,30*(2,79+4,50)/2",null,63.164200000000001,null,null,null,null,null,null,null,"ŠA1-01 - ŠA1-02:(24,29-10,96)*1,30*(2,79+4,50)/2"]
[null,null,"Odpočet objemu ornice:-(24,29+1,60*(1,60-1,30)*1)*0,20",null,-4.9539999999999997,null,null,null,null,null,null,null,"Odpočet objemu ornice:-(24,29+1,60*(1,60-1,30)*1)*0,20"]
[null,null,"Odpočet objemu lože, potrubí a obsypů:-24,29*1,2168",null,-29.556100000000001,null,null,null,null,null,null,null,"Odpočet objemu lože, potrubí a obsypů:-24,29*1,2168"]
[null,null,"Odpočet objemu RŠ:-9,6755",null,-9.6754999999999995,null,null,null,null,null,null,null,"Odpočet objemu RŠ:-9,6755"]
[null,null,"Konec provozního součtu",null,51.606500000000011,null,null,null,null,null,null,null,"Konec provozního součtu"]
[13,"175101101R00","Obsyp potrubí bez prohození sypaniny ","m3",172.92570000000001,null,{"$f":"E107*F107","v":0},0,{"$f":"E107*H107","v":0},0,{"$f":"E107*J107","v":0},null,null,null,2,null,null,null,null,null,null,null,null,null,null,null,1,1,1,null,null,null,null,null,null,null,null,null,null,null,null,null,null,null,null,null,null,null,null,null,null,1,{"$f":"IF(AZ107=1,G107,0)","v":0},{"$f":"IF(AZ107=2,G107,0)","v":0},{"$f":"IF(AZ107=3,G107,0)","v":0},{"$f":"IF(AZ107=4,G107,0)","v":0},{"$f":"IF(AZ107=5,G107,0)","v":0},null,null,null,null,null,null,null,null,null,null,null,null,null,null,null,null,null,null,null,null,null,1,1]
[null,null,"Stoka \"A1\" KT DN400:182,60*0,836",null,152.65360000000001,null,null,null,null,null,null,null,"Stoka \"A1\" KT DN400:182,60*0,836"]
[null,null,"Přípojky k UV PVC DN200 + Rezerva 10%:55,00*(0,80*(0,20+0,30)-0,10^2*Pi)",null,20.272099999999998,null,null,null,null,null,null,null,"Přípojky k UV PVC DN200 + Rezerva 10%:55,00*(0,80*(0,20+0,30)-0,10^2*Pi)"]
[14,"199000002R00","Poplatek za skládku horniny 1- 7 č. dle katal. odpadů 17 05 04","m3",804.75789999999995,null,{"$f":"E110*F110","v":0},0,{"$f":"E110*H110","v":0},0,{"$f":"E110*J110","v":0},null,null,null,2,null,null,null,null,null,null,null,null,null,null,null,1,1,1,null,null,null,null,null,null,null,null,null,null,null,null,null,null,null,null,null,null,null,null,null,null,1,{"$f":"IF(AZ110=1,G110,0)","v":0},{"$f":"IF(AZ110=2,G110,0)","v":0},{"$f":"IF(AZ110=3,G110,0)","v":0},{"$f":"IF(AZ110=4,G110,0)","v":0},{"$f":"IF(AZ110=5,G110,0)","v":0},null,null,null,null,null,null,null,null,null,null,null,null,null,null,null,null,null,null,null,null,null,1,1]
[null,null,"Stoka \"A1\" KT DN400:",null,0,null,null,null,null,null,null,null,"Stoka \"A1\" KT DN400:"]
[null,null,"Výkopy:",null,0,null,null,null,null,null,null,null,"Výkopy:"]
[null,null,"V hornině tř. 3 - 5 :856,3645",null,856.36450000000002,null,null,null,null,null,null,null,"V hornině tř. 3 - 5 :856,3645"]
[null,null,"Odpočet zásypů zeminou:-51,6066",null,-51.6066,null,null,null,null,null,null,null,"Odpočet zásypů zeminou:-51,6066"]
[15,"58337308.R","Štěrkopísek frakce 0-2 tř.B","t",344.59429999999998,null,{"$f":"E115*F115","v":0},1,{"$f":"E115*H115","v":344.59429999999998},null,{"$f":"E115*J115","v":0},null,null,null,2,null,null,null,null,null,null,null,null,null,null,null,3,1,"58337308.R",null,null,null,null,null,null,null,null,null,null,null,null,null,null,null,null,null,null,null,null,null,null,1,{"$f":"IF(AZ115=1,G115,0)","v":0},{"$f":"IF(AZ115=2,G115,0)","v":0},{"$f":"IF(AZ115=3,G115,0)","v":0},{"$f":"IF(AZ115=4,G115,0)","v":0},{"$f":"IF(AZ115=5,G115,0)","v":0},null,null,null,null,null,null,null,null,null,null,null,null,null,null,null,null,null,null,null,null,null,3,1]
[null,null,"Stoka \"A1\" KT DN400:182,60*0,836*1,973*1,01",null,304.19740000000002,null,null,null,null,null,null,null,"Stoka \"A1\" KT DN400:182,60*0,836*1,973*1,01"]
[null,null,"Přípojky k UV PVC DN200 + Rezerva 10%:55,00*(0,80*(0,20+0,30)-0,10^2*Pi)*1,973*1,01",null,40.396900000000002,null,null,null,null,null,null,null,"Přípojky k UV PVC DN200 + Rezerva 10%:55,00*(0,80*(0,20+0,30)-0,10^2*Pi)*1,973*1,01"]
[16,"58344197R","Štěrkodrtě frakce 0-63 A","t",960.14229999999998,null,{"$f":"E118*F118","v":0},1,{"$f":"E118*H118","v":960.14229999999998},null,{"$f":"E118*J118","v":0},null,null,null,2,null,null,null,null,null,null,null,null,null,null,null,3,1,"58344197R",null,null,null,null,null,null,null,null,null,null,null,null,null,null,null,null,null,null,null,null,null,null,1,{"$f":"IF(AZ118=1,G118,0)","v":0},{"$f":"IF(AZ118=2,G118,0)","v":0},{"$f":"IF(AZ118=3,G118,0)","v":0},{"$f":"IF(AZ118=4,G118,0)","v":0},{"$f":"IF(AZ118=5,G118,0)","v":0},null,null,null,null,null,null,null,null,null,null,null,null,null,null,null,null,null,null,null,null,null,3,1]
[null,null,"Stoka \"A1\" KT DN400:",null,0,null,null,null,null,null,null,null,"Stoka \"A1\" KT DN400:"]
[null,null,"Zásypy ŠD fr. 0-63 mm:507,5472*1,873*1,01",null,960.14229999999998,null,null,null,null,null,null,null,"Zásypy ŠD fr. 0-63 mm:507,5472*1,873*1,01"]
[null,null,"Začátek provozního součtu",null,0,null,null,null,null,null,null,null,"Začátek provozního součtu"]
[null,null,"Výkopy:",null,0,null,null,null,null,null,null,null,"Výkopy:"]
[null,null,"ŠA1-02 - ŠA1-09:(182,62-24,29)*1,30*(4,31+2,95)/2",null,747.15930000000003,null,null,null,null,null,null,null,"ŠA1-02 - ŠA1-09:(182,62-24,29)*1,30*(4,31+2,95)/2"]
[null,null,"Prohloubení pro RŠ:1,60*1,60*0,20*9",null,4.6079999999999997,null,null,null,null,null,null,null,"Prohloubení pro RŠ:1,60*1,60*0,20*9"]
[null,null,"Rozšíření pro RŠ:1,60*(1,60-1,30)*27,07",null,12.993600000000001,null,null,null,null,null,null,null,"Rozšíření pro RŠ:1,60*(1,60-1,30)*27,07"]
[null,null,"Přípojky k UV PVC DN200 + Rezerva 10%:",null,0,null,null,null,null,null,null,null,"Přípojky k UV PVC DN200 + Rezerva 10%:"]
[null,null,"Průměrná hloubka 2,90 m:",null,0,null,null,null,null,null,null,null,"Průměrná hloubka 2,90 m:"]
[null,null,"Výkopy pro UV:55,00*0,80*2,90",null,127.6,null,null,null,null,null,null,null,"Výkopy pro UV:55,00*0,80*2,90"]
[null,null,"Odpočet objemu konstrukce komunikace:-((182,62-24,29)*1,30+1,60*(1,60-1,30)*8)*0,50",null,-104.83450000000001,null,null,null,null,null,null,null,"Odpočet objemu konstrukce komunikace:-((182,62-24,29)*1,30+1,60*(1,60-1,30)*8)*0,50"]
[null,null,"-55,00*0,80*0,50",null,-22,null,null,null,null,null,null,null,"-55,00*0,80*0,50"]
[null,null,"Odpočet objemu lože, potrubí a obsypů:-(182,62-24,29)*1,2168",null,-192.6559,null,null,null,null,null,null,null,"Odpočet objemu lože, potrubí a obsypů:-(182,62-24,29)*1,2168"]
[null,null,"-55,00*0,80*(0,15+0,20+0,30)",null,-28.6,null,null,null,null,null,null,null,"-55,00*0,80*(0,15+0,20+0,30)"]
[null,null,"Odpočet objemu RŠ a UV:-36,7232",null,-36.723199999999999,null,null,null,null,null,null,null,"Odpočet objemu RŠ a UV:-36,7232"]
[null,null,"Konec provozního součtu",null,507.54729999999995,null,null,null,null,null,null,null,"Konec provozního součtu"]
[null,"Celkem za","1 Zemní práce",null,null,null,{"$f":"SUM(G7:G134)","v":0},null,{"$f":"SUM(I7:I134)","v":1307.0177055029999},null,{"$f":"SUM(K7:K134)","v":0},null,null,null,4,null,null,null,null,null,null,null,null,null,null,null,null,null,null,null,null,null,null,null,null,null,null,null,null,null,null,null,null,null,null,null,null,null,null,null,null,null,{"$f":"SUM(BA7:BA134)","v":0},{"$f":"SUM(BB7:BB134)","v":0},{"$f":"SUM(BC7:BC134)","v":0},{"$f":"SUM(BD7:BD134)","v":0},{"$f":"SUM(BE7:BE134)","v":0}]
["Díl:","21","Úprava podloží a základ.spáry",null,null,null,null,null,null,null,null,null,null,null,1]
[17,"212810010RAC","Trativody z PVC drenážních flexibilních trubek lože štěrkopísek a obsyp kamenivo, trubky d 100 mm","m",182.6,null,{"$f":"E137*F137","v":0},0.43651000000000001,{"$f":"E137*H137","v":79.706726000000003},0,{"$f":"E137*J137","v":0},null,null,null,2,null,null,null,null,null,null,null,null,null,null,null,1,1,1,null,null,null,null,null,null,null,null,null,null,null,null,null,null,null,null,null,null,null,null,null,null,1,{"$f":"IF(AZ137=1,G137,0)","v":0},{"$f":"IF(AZ137=2,G137,0)","v":0},{"$f":"IF(AZ137=3,G137,0)","v":0},{"$f":"IF(AZ137=4,G137,0)","v":0},{"$f":"IF(AZ137=5,G137,0)","v":0},null,null,null,null,null,null,null,null,null,null,null,null,null,null,null,null,null,null,null,null,null,1,1]
[null,null,"Stoka \"A1\" KT DN400:",null,0,null,null,null,null,null,null,null,"Stoka \"A1\" KT DN400:"]
[null,null,"Drenáž DN100:182,60",null,182.6,null,null,null,null,null,null,null,"Drenáž DN100:182,60"]
[null,"Celkem za","21 Úprava podloží a základ.spáry",null,null,null,{"$f":"SUM(G136:G139)","v":0},null,{"$f":"SUM(I136:I139)","v":79.706726000000003},null,{"$f":"SUM(K136:K139)","v":0},null,null,null,4,null,null,null,null,null,null,null,null,null,null,null,null,null,null,null,null,null,null,null,null,null,null,null,null,null,null,null,null,null,null,null,null,null,null,null,null,null,{"$f":"SUM(BA136:BA139)","v":0},{"$f":"SUM(BB136:BB139)","v":0},{"$f":"SUM(BC136:BC139)","v":0},{"$f":"SUM(BD136:BD139)","v":0},{"$f":"SUM(BE136:BE139)","v":0}]
["Díl:","45","Podkladní a vedlejší konstrukce",null,null,null,null,null,null,null,null,null,null,null,1]
[18,"451572111R00","Lože pod potrubí z kameniva těženého 0 - 4 mm ","m3",6.6,null,{"$f":"E142*F142","v":0},0.43051,{"$f":"E142*H142","v":2.8413659999999998},0,{"$f":"E142*J142","v":0},null,null,null,2,null,null,null,null,null,null,null,null,null,null,null,1,1,1,null,null,null,null,null,null,null,null,null,null,null,null,null,null,null,null,null,null,null,null,null,null,1,{"$f":"IF(AZ142=1,G142,0)","v":0},{"$f":"IF(AZ142=2,G142,0)","v":0},{"$f":"IF(AZ142=3,G142,0)","v":0},{"$f":"IF(AZ142=4,G142,0)","v":0},{"$f":"IF(AZ142=5,G142,0)","v":0},null,null,null,null,null,null,null,null,null,null,null,null,null,null,null,null,null,null,null,null,null,1,1]
[null,null,"Stoka \"A1\" KT DN400:",null,0,null,null,null,null,null,null,null,"Stoka \"A1\" KT DN400:"]
[null,null,"Přípojky k UV PVC DN200 + Rezerva 10%:55,00*0,80*0,15",null,6.6,null,null,null,null,null,null,null,"Přípojky k UV PVC DN200 + Rezerva 10%:55,00*0,80*0,15"]
[19,"452112111R00","Osazení beton. prstenců pod poklopy,výšky do100 mm ","kus",11,null,{"$f":"E145*F145","v":0},6.6E-3,{"$f":"E145*H145","v":7.2599999999999998E-2},0,{"$f":"E145*J145","v":0},null,null,null,2,null,null,null,null,null,null,null,null,null,null,null,1,1,1,null,null,null,null,null,null,null,null,null,null,null,null,null,null,null,null,null,null,null,null,null,null,1,{"$f":"IF(AZ145=1,G145,0)","v":0},{"$f":"IF(AZ145=2,G145,0)","v":0},{"$f":"IF(AZ145=3,G145,0)","v":0},{"$f":"IF(AZ145=4,G145,0)","v":0},{"$f":"IF(AZ145=5,G145,0)","v":0},null,null,null,null,null,null,null,null,null,null,null,null,null,null,null,null,null,null,null,null,null,1,1]
[null,null,"Volba položky se řídí výškou prstence nebo rámu. V položkách nejsou zakalkulovány náklady na dodávku betonových výrobků;",null,null,null,null,null,null,null,null,"Volba položky se řídí výškou prstence nebo rámu. V položkách nejsou zakalkulovány náklady na dodávku betonových výrobků;",null,null,3]
[null,null,"Stoka \"A1\" KT DN400:",null,0,null,null,null,null,null,null,null,"Stoka \"A1\" KT DN400:"]
[null,null,"VP H60:4",null,4,null,null,null,null,null,null,null,"VP H60:4"]
[null,null,"VP H80:2",null,2,null,null,null,null,null,null,null,"VP H80:2"]
[null,null,"VP H100:5",null,5,null,null,null,null,null,null,null,"VP H100:5"]
[20,"452112121R00","Osazení beton. prstenců pod poklopy,výšky do200 mm ","kus",4,null,{"$f":"E151*F151","v":0},6.6E-3,{"$f":"E151*H151","v":2.64E-2},0,{"$f":"E151*J151","v":0},null,null,null,2,null,null,null,null,null,null,null,null,null,null,null,1,1,1,null,null,null,null,null,null,null,null,null,null,null,null,null,null,null,null,null,null,null,null,null,null,1,{"$f":"IF(AZ151=1,G151,0)","v":0},{"$f":"IF(AZ151=2,G151,0)","v":0},{"$f":"IF(AZ151=3,G151,0)","v":0},{"$f":"IF(AZ151=4,G151,0)","v":0},{"$f":"IF(AZ151=5,G151,0)","v":0},null,null,null,null,null,null,null,null,null,null,null,null,null,null,null,null,null,null,null,null,null,1,1]
[null,null,"Stoka \"A1\" KT DN400:",null,0,null,null,null,null,null,null,null,"Stoka \"A1\" KT DN400:"]
[null,null,"VP H120:4",null,4,null,null,null,null,null,null,null,"VP H120:4"]
[21,"452312131R00","Sedlové lože pod potrubí z betonu C 12/15 ","m3",61.718800000000002,null,{"$f":"E154*F154","v":0},2.5,{"$f":"E154*H154","v":154.297},0,{"$f":"E154*J154","v":0},null,null,null,2,null,null,null,null,null,null,null,null,null,null,null,1,1,1,null,null,null,null,null,null,null,null,null,null,null,null,null,null,null,null,null,null,null,null,null,null,1,{"$f":"IF(AZ154=1,G154,0)","v":0},{"$f":"IF(AZ154=2,G154,0)","v":0},{"$f":"IF(AZ154=3,G154,0)","v":0},{"$f":"IF(AZ154=4,G154,0)","v":0},{"$f":"IF(AZ154=5,G154,0)","v":0},null,null,null,null,null,null,null,null,null,null,null,null,null,null,null,null,null,null,null,null,null,1,1]
[null,null,"Položka je určena pro práce v otevřeném výkopu",null,null,null,null,null,null,null,null,"Položka je určena pro práce v otevřeném výkopu",null,null,3]
[null,null,"Stoka \"A1\" KT DN400:182,60*0,338",null,61.718800000000002,null,null,null,null,null,null,null,"Stoka \"A1\" KT DN400:182,60*0,338"]
[22,"59224347.A.R","Prstenec vyrovn šachetní TBW-Q.1 63/6","kus",4.04,null,{"$f":"E157*F157","v":0},0.04,{"$f":"E157*H157","v":0.16159999999999999},null,{"$f":"E157*J157","v":0},null,null,null,2,null,null,null,null,null,null,null,null,null,null,null,3,1,"59224347.A.R",null,null,null,null,null,null,null,null,null,null,null,null,null,null,null,null,null,null,null,null,null,null,1,{"$f":"IF(AZ157=1,G157,0)","v":0},{"$f":"IF(AZ157=2,G157,0)","v":0},{"$f":"IF(AZ157=3,G157,0)","v":0},{"$f":"IF(AZ157=4,G157,0)","v":0},{"$f":"IF(AZ157=5,G157,0)","v":0},null,null,null,null,null,null,null,null,null,null,null,null,null,null,null,null,null,null,null,null,null,3,1]
[null,null,"Stoka \"A1\" KT DN400:",null,0,null,null,null,null,null,null,null,"Stoka \"A1\" KT DN400:"]
[null,null,"VP H60:4*1,01",null,4.04,null,null,null,null,null,null,null,"VP H60:4*1,01"]
[23,"59224348.A.R","Prstenec vyrovn šachetní TBW-Q.1 63/8","kus",2.02,null,{"$f":"E160*F160","v":0},5.3999999999999999E-2,{"$f":"E160*H160","v":0.10908},null,{"$f":"E160*J160","v":0},null,null,null,2,null,null,null,null,null,null,null,null,null,null,null,3,1,"59224348.A.R",null,null,null,null,null,null,null,null,null,null,null,null,null,null,null,null,null,null,null,null,null,null,1,{"$f":"IF(AZ160=1,G160,0)","v":0},{"$f":"IF(AZ160=2,G160,0)","v":0},{"$f":"IF(AZ160=3,G160,0)","v":0},{"$f":"IF(AZ160=4,G160,0)","v":0},{"$f":"IF(AZ160=5,G160,0)","v":0},null,null,null,null,null,null,null,null,null,null,null,null,null,null,null,null,null,null,null,null,null,3,1]
[null,null,"Stoka \"A1\" KT DN400:",null,0,null,null,null,null,null,null,null,"Stoka \"A1\" KT DN400:"]
[null,null,"VP H80:2*1,01",null,2.02,null,null,null,null,null,null,null,"VP H80:2*1,01"]
[24,"59224349.A.R","Prstenec vyrovn šachetní TBW-Q.1 63/10","kus",5.05,null,{"$f":"E163*F163","v":0},6.8000000000000005E-2,{"$f":"E163*H163","v":0.34340000000000004},null,{"$f":"E163*J163","v":0},null,null,null,2,null,null,null,null,null,null,null,null,null,null,null,3,1,"59224349.A.R",null,null,null,null,null,null,null,null,null,null,null,null,null,null,null,null,null,null,null,null,null,null,1,{"$f":"IF(AZ163=1,G163,0)","v":0},{"$f":"IF(AZ163=2,G163,0)","v":0},{"$f":"IF(AZ163=3,G163,0)","v":0},{"$f":"IF(AZ163=4,G163,0)","v":0},{"$f":"IF(AZ163=5,G163,0)","v":0},null,null,null,null,null,null,null,null,null,null,null,null,null,null,null,null,null,null,null,null,null,3,1]
[null,null,"Stoka \"A1\" KT DN400:",null,0,null,null,null,null,null,null,null,"Stoka \"A1\" KT DN400:"]
[null,null,"VP H100:5*1,01",null,5.05,null,null,null,null,null,null,null,"VP H100:5*1,01"]
[25,"59224350.A.R","Prstenec vyrovn šachetní TBW-Q.1 63/12","kus",4.04,null,{"$f":"E166*F166","v":0},8.1000000000000003E-2,{"$f":"E166*H166","v":0.32724000000000003},null,{"$f":"E166*J166","v":0},null,null,null,2,null,null,null,null,null,null,null,null,null,null,null,3,1,"59224350.A.R",null,null,null,null,null,null,null,null,null,null,null,null,null,null,null,null,null,null,null,null,null,null,1,{"$f":"IF(AZ166=1,G166,0)","v":0},{"$f":"IF(AZ166=2,G166,0)","v":0},{"$f":"IF(AZ166=3,G166,0)","v":0},{"$f":"IF(AZ166=4,G166,0)","v":0},{"$f":"IF(AZ166=5,G166,0)","v":0},null,null,null,null,null,null,null,null,null,null,null,null,null,null,null,null,null,null,null,null,null,3,1]
[null,null,"Stoka \"A1\" KT DN400:",null,0,null,null,null,null,null,null,null,"Stoka \"A1\" KT DN400:"]
[null,null,"VP H120:4*1,01",null,4.04,null,null,null,null,null,null,null,"VP H120:4*1,01"]
[null,"Celkem za","45 Podkladní a vedlejší konstrukce",null,null,null,{"$f":"SUM(G141:G168)","v":0},null,{"$f":"SUM(I141:I168)","v":158.178686},null,{"$f":"SUM(K141:K168)","v":0},null,null,null,4,null,null,null,null,null,null,null,null,null,null,null,null,null,null,null,null,null,null,null,null,null,null,null,null,null,null,null,null,null,null,null,null,null,null,null,null,null,{"$f":"SUM(BA141:BA168)","v":0},{"$f":"SUM(BB141:BB168)","v":0},{"$f":"SUM(BC141:BC168)","v":0},{"$f":"SUM(BD141:BD168)","v":0},{"$f":"SUM(BE141:BE168)","v":0}]
["Díl:","5","Komunikace",null,null,null,null,null,null,null,null,null,null,null,1]
[26,"572701119RRX","Provizorní zásyp rýh kam. hrubě drceným nebo recyk s následným odstraněním a odvozem","m3",126.83450000000001,null,{"$f":"E171*F171","v":0},1.4804999999999999,{"$f":"E171*H171","v":187.77847725000001},0,{"$f":"E171*J171","v":0},null,null,null,2,null,null,null,null,null,null,null,null,null,null,null,1,1,1,null,null,null,null,null,null,null,null,null,null,null,null,null,null,null,null,null,null,null,null,null,null,1,{"$f":"IF(AZ171=1,G171,0)","v":0},{"$f":"IF(AZ171=2,G171,0)","v":0},{"$f":"IF(AZ171=3,G171,0)","v":0},{"$f":"IF(AZ171=4,G171,0)","v":0},{"$f":"IF(AZ171=5,G171,0)","v":0},null,null,null,null,null,null,null,null,null,null,null,null,null,null,null,null,null,null,null,null,null,1,1]
[null,null,"Stoka \"A1\" KT DN400:",null,0,null,null,null,null,null,null,null,"Stoka \"A1\" KT DN400:"]
[null,null,"Objem konstrukce komunikace:((182,62-24,29)*1,30+1,60*(1,60-1,30)*8)*0,50",null,104.83450000000001,null,null,null,null,null,null,null,"Objem konstrukce komunikace:((182,62-24,29)*1,30+1,60*(1,60-1,30)*8)*0,50"]
[null,null,"55,00*0,80*0,50",null,22,null,null,null,null,null,null,null,"55,00*0,80*0,50"]
[null,"Celkem za","5 Komunikace",null,null,null,{"$f":"SUM(G170:G174)","v":0},null,{"$f":"SUM(I170:I174)","v":187.77847725000001},null,{"$f":"SUM(K170:K174)","v":0},null,null,null,4,null,null,null,null,null,null,null,null,null,null,null,null,null,null,null,null,null,null,null,null,null,null,null,null,null,null,null,null,null,null,null,null,null,null,null,null,null,{"$f":"SUM(BA170:BA174)","v":0},{"$f":"SUM(BB170:BB174)","v":0},{"$f":"SUM(BC170:BC174)","v":0},{"$f":"SUM(BD170:BD174)","v":0},{"$f":"SUM(BE170:BE174)","v":0}]
["Díl:","8","Trubní vedení",null,null,null,null,null,null,null,null,null,null,null,1]
[27,"831392121R00","Montáž trub kameninových, pryž. kroužek, DN 400 ","m",176.6,null,{"$f":"E177*F177","v":0},6.0000000000000002E-5,{"$f":"E177*H177","v":1.0596E-2},0,{"$f":"E177*J177","v":0},null,null,null,2,null,null,null,null,null,null,null,null,null,null,null,1,1,1,null,null,null,null,null,null,null,null,null,null,null,null,null,null,null,null,null,null,null,null,null,null,1,{"$f":"IF(AZ177=1,G177,0)","v":0},{"$f":"IF(AZ177=2,G177,0)","v":0},{"$f":"IF(AZ177=3,G177,0)","v":0},{"$f":"IF(AZ177=4,G177,0)","v":0},{"$f":"IF(AZ177=5,G177,0)","v":0},null,null,null,null,null,null,null,null,null,null,null,null,null,null,null,null,null,null,null,null,null,1,1]
[null,null,"Položka je určena pro montáž potrubí z trub kameninových s polyuretanovým spojem v otevřeném výkopu ve sklonu do 20 % včetně případné potřeby krácení trub.",null,null,null,null,null,null,null,null,"Položka je určena pro montáž potrubí z trub kameninových s polyuretanovým spojem v otevřeném výkopu ve sklonu do 20 % včetně případné potřeby krácení trub.",null,null,3]
[null,null,"Stoka \"A1\" KT DN400:182,60",null,182.6,null,null,null,null,null,null,null,"Stoka \"A1\" KT DN400:182,60"]
[null,null,"Odpočet - Odbočka DN400/200:-0,75*8",null,-6,null,null,null,null,null,null,null,"Odpočet - Odbočka DN400/200:-0,75*8"]
[28,"837391221R00","Montáž tvarov. kamenin. odboč. pryž. krouž. DN 400 ","kus",8,null,{"$f":"E181*F181","v":0},8.0000000000000007E-5,{"$f":"E181*H181","v":6.4000000000000005E-4},0,{"$f":"E181*J181","v":0},null,null,null,2,null,null,null,null,null,null,null,null,null,null,null,1,1,1,null,null,null,null,null,null,null,null,null,null,null,null,null,null,null,null,null,null,null,null,null,null,1,{"$f":"IF(AZ181=1,G181,0)","v":0},{"$f":"IF(AZ181=2,G181,0)","v":0},{"$f":"IF(AZ181=3,G181,0)","v":0},{"$f":"IF(AZ181=4,G181,0)","v":0},{"$f":"IF(AZ181=5,G181,0)","v":0},null,null,null,null,null,null,null,null,null,null,null,null,null,null,null,null,null,null,null,null,null,1,1]
[null,null,"Položka je určena pro montáž kameninových tvarovek odbočných těsněných pryžovými nebo polyuretanovými spoji na potrubí z trub kameninových v otevřeném výkopu.",null,null,null,null,null,null,null,null,"Položka je určena pro montáž kameninových tvarovek odbočných těsněných pryžovými nebo polyuretanovými spoji na potrubí z trub kameninových v otevřeném výkopu.",null,null,3]
[null,null,"Stoka \"A1\" KT DN400:",null,0,null,null,null,null,null,null,null,"Stoka \"A1\" KT DN400:"]
[null,null,"Odbočka DN400/200:8",null,8,null,null,null,null,null,null,null,"Odbočka DN400/200:8"]
[29,"871353121R00","Montáž trub z plastu, gumový kroužek, DN 200 ","m",55,null,{"$f":"E185*F185","v":0},1.0000000000000001E-5,{"$f":"E185*H185","v":5.5000000000000003E-4},0,{"$f":"E185*J185","v":0},null,null,null,2,null,null,null,null,null,null,null,null,null,null,null,1,1,1,null,null,null,null,null,null,null,null,null,null,null,null,null,null,null,null,null,null,null,null,null,null,1,{"$f":"IF(AZ185=1,G185,0)","v":0},{"$f":"IF(AZ185=2,G185,0)","v":0},{"$f":"IF(AZ185=3,G185,0)","v":0},{"$f":"IF(AZ185=4,G185,0)","v":0},{"$f":"IF(AZ185=5,G185,0)","v":0},null,null,null,null,null,null,null,null,null,null,null,null,null,null,null,null,null,null,null,null,null,1,1]
[null,null,"V položce je uvažováno s jedním spojem na 6 m potrubí. Položka je určena pro montáž potrubí z kanalizačních trub z plastu těsněných gumovým kroužkem v otevřeném výkopu ve sklonu do 20 %.",null,null,null,null,null,null,null,null,"V položce je uvažováno s jedním spojem na 6 m potrubí. Položka je určena pro montáž potrubí z kanalizačních trub z plastu těsněných gumovým kroužkem v otevřeném výkopu ve sklonu do 20 %.",null,null,3]
[null,null,"Stoka \"A1\" KT DN400:",null,0,null,null,null,null,null,null,null,"Stoka \"A1\" KT DN400:"]
[null,null,"Přípojky k UV PVC DN200 + Rezerva 10%:55,00",null,55,null,null,null,null,null,null,null,"Přípojky k UV PVC DN200 + Rezerva 10%:55,00"]
[30,"877353123R00","Montáž tvarovek jednoos. plast. gum.kroužek DN 200 ","kus",28,null,{"$f":"E189*F189","v":0},2.0000000000000002E-5,{"$f":"E189*H189","v":5.6000000000000006E-4},0,{"$f":"E189*J189","v":0},null,null,null,2,null,null,null,null,null,null,null,null,null,null,null,1,1,1,null,null,null,null,null,null,null,null,null,null,null,null,null,null,null,null,null,null,null,null,null,null,1,{"$f":"IF(AZ189=1,G189,0)","v":0},{"$f":"IF(AZ189=2,G189,0)","v":0},{"$f":"IF(AZ189=3,G189,0)","v":0},{"$f":"IF(AZ189=4,G189,0)","v":0},{"$f":"IF(AZ189=5,G189,0)","v":0},null,null,null,null,null,null,null,null,null,null,null,null,null,null,null,null,null,null,null,null,null,1,1]
[null,null,"Položka je určena pro montáž tvarovek jednoosých na potrubí z kanalizačních trub z plastu těsněných gumovým kroužkem v otevřeném výkopu.",null,null,null,null,null,null,null,null,"Položka je určena pro montáž tvarovek jednoosých na potrubí z kanalizačních trub z plastu těsněných gumovým kroužkem v otevřeném výkopu.",null,null,3]
[null,null,"Stoka \"A1\" KT DN400:",null,0,null,null,null,null,null,null,null,"Stoka \"A1\" KT DN400:"]
[null,null,"Přípojky k UV PVC DN200 + Rezerva 10%:",null,0,null,null,null,null,null,null,null,"Přípojky k UV PVC DN200 + Rezerva 10%:"]
[null,null,"Koleno PVC DN200:20",null,20,null,null,null,null,null,null,null,"Koleno PVC DN200:20"]
[null,null,"Přechodka kanal. PVC na kameninové hrdlo DN200:8",null,8,null,null,null,null,null,null,null,"Přechodka kanal. PVC na kameninové hrdlo DN200:8"]
[31,"892601121R00","Čištění kanalizační stoky do DN 200, do 15 m ","úsek",8,null,{"$f":"E195*F195","v":0},0,{"$f":"E195*H195","v":0},0,{"$f":"E195*J195","v":0},null,null,null,2,null,null,null,null,null,null,null,null,null,null,null,1,1,1,null,null,null,null,null,null,null,null,null,null,null,null,null,null,null,null,null,null,null,null,null,null,1,{"$f":"IF(AZ195=1,G195,0)","v":0},{"$f":"IF(AZ195=2,G195,0)","v":0},{"$f":"IF(AZ195=3,G195,0)","v":0},{"$f":"IF(AZ195=4,G195,0)","v":0},{"$f":"IF(AZ195=5,G195,0)","v":0},null,null,null,null,null,null,null,null,null,null,null,null,null,null,null,null,null,null,null,null,null,1,1]
[null,null,"V položce je zakalkulováno:",null,null,null,null,null,null,null,null,"V položce je zakalkulováno:",null,null,3]
[null,null,"a) otevření a uzavření revizních šachet a čisticích kusů",null,null,null,null,null,null,null,null,"a) otevření a uzavření revizních šachet a čisticích kusů",null,null,3]
[null,null,"b) natažení vysokotlakých hadic k místu odkud se bude kanalizace čistit",null,null,null,null,null,null,null,null,"b) natažení vysokotlakých hadic k místu odkud se bude kanalizace čistit",null,null,3]
[null,null,"c) vyčištění potrubí tlakovou vodou nebo motorovým pérem.",null,null,null,null,null,null,null,null,"c) vyčištění potrubí tlakovou vodou nebo motorovým pérem.",null,null,3]
[null,null,"Stoka \"A1\" KT DN400:",null,0,null,null,null,null,null,null,null,"Stoka \"A1\" KT DN400:"]
[null,null,"Přípojky k UV PVC DN200 :",null,0,null,null,null,null,null,null,null,"Přípojky k UV PVC DN200 :"]
[null,null,"UV 1 až UV8:8",null,8,null,null,null,null,null,null,null,"UV 1 až UV8:8"]
[32,"892601154R00","Čištění kanalizační stoky do DN 500, nad 100 m ","m",182.6,null,{"$f":"E203*F203","v":0},0,{"$f":"E203*H203","v":0},0,{"$f":"E203*J203","v":0},null,null,null,2,null,null,null,null,null,null,null,null,null,null,null,1,0,0,null,null,null,null,null,null,null,null,null,null,null,null,null,null,null,null,null,null,null,null,null,null,1,{"$f":"IF(AZ203=1,G203,0)","v":0},{"$f":"IF(AZ203=2,G203,0)","v":0},{"$f":"IF(AZ203=3,G203,0)","v":0},{"$f":"IF(AZ203=4,G203,0)","v":0},{"$f":"IF(AZ203=5,G203,0)","v":0},null,null,null,null,null,null,null,null,null,null,null,null,null,null,null,null,null,null,null,null,null,1,0]
[null,null,"V položce je zakalkulováno:",null,null,null,null,null,null,null,null,"V položce je zakalkulováno:",null,null,3]
[null,null,"a) otevření a uzavření revizních šachet a čisticích kusů",null,null,null,null,null,null,null,null,"a) otevření a uzavření revizních šachet a čisticích kusů",null,null,3]
[null,null,"b) natažení vysokotlakých hadic k místu odkud se bude kanalizace čistit",null,null,null,null,null,null,null,null,"b) natažení vysokotlakých hadic k místu odkud se bude kanalizace čistit",null,null,3]
[null,null,"c) vyčištění potrubí tlakovou vodou nebo motorovým pérem.",null,null,null,null,null,null,null,null,"c) vyčištění potrubí tlakovou vodou nebo motorovým pérem.",null,null,3]
[null,null,"Stoka \"A1\" KT DN400:182,60",null,182.6,null,null,null,null,null,null,null,"Stoka \"A1\" KT DN400:182,60"]
[33,"892855111R00","Kontrola kanalizace TV kamerou do 15 m ","úsek",8,null,{"$f":"E209*F209","v":0},0,{"$f":"E209*H209","v":0},0,{"$f":"E209*J209","v":0},null,null,null,2,null,null,null,null,null,null,null,null,null,null,null,1,1,1,null,null,null,null,null,null,null,null,null,null,null,null,null,null,null,null,null,null,null,null,null,null,1,{"$f":"IF(AZ209=1,G209,0)","v":0},{"$f":"IF(AZ209=2,G209,0)","v":0},{"$f":"IF(AZ209=3,G209,0)","v":0},{"$f":"IF(AZ209=4,G209,0)","v":0},{"$f":"IF(AZ209=5,G209,0)","v":0},null,null,null,null,null,null,null,null,null,null,null,null,null,null,null,null,null,null,null,null,null,1,1]
[null,null,"Stoka \"A1\" KT DN400:",null,0,null,null,null,null,null,null,null,"Stoka \"A1\" KT DN400:"]
[null,null,"Přípojky k UV PVC DN200 :",null,0,null,null,null,null,null,null,null,"Přípojky k UV PVC DN200 :"]
[null,null,"UV 1 až UV8:8",null,8,null,null,null,null,null,null,null,"UV 1 až UV8:8"]
[34,"892855115R00","Kontrola kanalizace TV kamerou do 500 m ","m",365.2,null,{"$f":"E213*F213","v":0},0,{"$f":"E213*H213","v":0},0,{"$f":"E213*J213","v":0},null,null,null,2,null,null,null,null,null,null,null,null,null,null,null,1,1,1,null,null,null,null,null,null,null,null,null,null,null,null,null,null,null,null,null,null,null,null,null,null,1,{"$f":"IF(AZ213=1,G213,0)","v":0},{"$f":"IF(AZ213=2,G213,0)","v":0},{"$f":"IF(AZ213=3,G213,0)","v":0},{"$f":"IF(AZ213=4,G213,0)","v":0},{"$f":"IF(AZ213=5,G213,0)","v":0},null,null,null,null,null,null,null,null,null,null,null,null,null,null,null,null,null,null,null,null,null,1,1]
[null,null,"Provedení kaberové prohlídky včetně dodání elektronického záznamu na CD zadavateli a tištěné dokumentace průběhu kamerové prohlídky",null,null,null,null,null,null,null,null,"Provedení kaberové prohlídky včetně dodání elektronického záznamu na CD zadavateli a tištěné dokumentace průběhu kamerové prohlídky",null,null,3]
[null,null,"Stoka \"A1\" KT DN400:182,60*2",null,365.2,null,null,null,null,null,null,null,"Stoka \"A1\" KT DN400:182,60*2"]
[35,"894421111RT1","Osazení betonových dílců šachet skruže rovné, na kroužek, do 0,5 t","kus",9,null,{"$f":"E216*F216","v":0},0,{"$f":"E216*H216","v":0},0,{"$f":"E216*J216","v":0},null,null,null,2,null,null,null,null,null,null,null,null,null,null,null,1,1,1,null,null,null,null,null,null,null,null,null,null,null,null,null,null,null,null,null,null,null,null,null,null,1,{"$f":"IF(AZ216=1,G216,0)","v":0},{"$f":"IF(AZ216=2,G216,0)","v":0},{"$f":"IF(AZ216=3,G216,0)","v":0},{"$f":"IF(AZ216=4,G216,0)","v":0},{"$f":"IF(AZ216=5,G216,0)","v":0},null,null,null,null,null,null,null,null,null,null,null,null,null,null,null,null,null,null,null,null,null,1,1]
[null,null,"Položka je určena pro osazení betonových dílců šachet dle DIN 4034, skruže rovné na kroužek, hmotnost do 0,5 t.",null,null,null,null,null,null,null,null,"Položka je určena pro osazení betonových dílců šachet dle DIN 4034, skruže rovné na kroužek, hmotnost do 0,5 t.",null,null,3]
[null,null,"V položce nejsou zakalkulovány náklady na dodání betonových dílců; dílce se oceňují ve specifikaci.",null,null,null,null,null,null,null,null,"V položce nejsou zakalkulovány náklady na dodání betonových dílců; dílce se oceňují ve specifikaci.",null,null,3]
[null,null,"Stoka \"A1\" KT DN400:",null,0,null,null,null,null,null,null,null,"Stoka \"A1\" KT DN400:"]
[null,null,"Skruž H250:6",null,6,null,null,null,null,null,null,null,"Skruž H250:6"]
[null,null,"Skruž H500:3",null,3,null,null,null,null,null,null,null,"Skruž H500:3"]
[36,"894421112RT1","Osazení betonových dílců šachet skruže rovné, na kroužek, do 1,4 t","kus",11,null,{"$f":"E222*F222","v":0},0,{"$f":"E222*H222","v":0},0,{"$f":"E222*J222","v":0},null,null,null,2,null,null,null,null,null,null,null,null,null,null,null,1,1,1,null,null,null,null,null,null,null,null,null,null,null,null,null,null,null,null,null,null,null,null,null,null,1,{"$f":"IF(AZ222=1,G222,0)","v":0},{"$f":"IF(AZ222=2,G222,0)","v":0},{"$f":"IF(AZ222=3,G222,0)","v":0},{"$f":"IF(AZ222=4,G222,0)","v":0},{"$f":"IF(AZ222=5,G222,0)","v":0},null,null,null,null,null,null,null,null,null,null,null,null,null,null,null,null,null,null,null,null,null,1,1]
[null,null,"Položka je určena pro osazení betonových dílců šachet dle DIN 4034, skruže rovné na kroužek, hmotnost přes 0,5 do 1,4 t.",null,null,null,null,null,null,null,null,"Položka je určena pro osazení betonových dílců šachet dle DIN 4034, skruže rovné na kroužek, hmotnost přes 0,5 do 1,4 t.",null,null,3]
[null,null,"V položce nejsou zakalkulovány náklady na dodání betonových dílců; dílce se oceňují ve specifikaci.",null,null,null,null,null,null,null,null,"V položce nejsou zakalkulovány náklady na dodání betonových dílců; dílce se oceňují ve specifikaci.",null,null,3]
[null,null,"Stoka \"A1\" KT DN400:",null,0,null,null,null,null,null,null,null,"Stoka \"A1\" KT DN400:"]
[null,null,"Skruž H1000:11",null,11,null,null,null,null,null,null,null,"Skruž H1000:11"]
[37,"894422111RT1","Osazení betonových dílců šachet skruže přechodové, na kroužek","kus",9,null,{"$f":"E227*F227","v":0},0,{"$f":"E227*H227","v":0},0,{"$f":"E227*J227","v":0},null,null,null,2,null,null,null,null,null,null,null,null,null,null,null,1,1,1,null,null,null,null,null,null,null,null,null,null,null,null,null,null,null,null,null,null,null,null,null,null,1,{"$f":"IF(AZ227=1,G227,0)","v":0},{"$f":"IF(AZ227=2,G227,0)","v":0},{"$f":"IF(AZ227=3,G227,0)","v":0},{"$f":"IF(AZ227=4,G227,0)","v":0},{"$f":"IF(AZ227=5,G227,0)","v":0},null,null,null,null,null,null,null,null,null,null,null,null,null,null,null,null,null,null,null,null,null,1,1]
[null,null,"Položka je určena pro osazení betonových dílců šachet dle DIN 4034, skruže přechodové, zákrytové, kónusy,... na kroužek.",null,null,null,null,null,null,null,null,"Položka je určena pro osazení betonových dílců šachet dle DIN 4034, skruže přechodové, zákrytové, kónusy,... na kroužek.",null,null,3]
[null,null,"Stoka \"A1\" KT DN400:",null,0,null,null,null,null,null,null,null,"Stoka \"A1\" KT DN400:"]
[null,null,"Kónus H580:9",null,9,null,null,null,null,null,null,null,"Kónus H580:9"]
[38,"894423111RT1","Osazení betonových dílců šachet do 2,0 t šachtová dna, na kroužek, do 2,0 t","kus",8,null,{"$f":"E231*F231","v":0},0,{"$f":"E231*H231","v":0},0,{"$f":"E231*J231","v":0},null,null,null,2,null,null,null,null,null,null,null,null,null,null,null,1,1,1,null,null,null,null,null,null,null,null,null,null,null,null,null,null,null,null,null,null,null,null,null,null,1,{"$f":"IF(AZ231=1,G231,0)","v":0},{"$f":"IF(AZ231=2,G231,0)","v":0},{"$f":"IF(AZ231=3,G231,0)","v":0},{"$f":"IF(AZ231=4,G231,0)","v":0},{"$f":"IF(AZ231=5,G231,0)","v":0},null,null,null,null,null,null,null,null,null,null,null,null,null,null,null,null,null,null,null,null,null,1,1]
[null,null,"Položka je určena pro osazení betonových dílců šachet dle DIN 4034, šachtová dna na kroužek, hmotnost do 2,0 t.",null,null,null,null,null,null,null,null,"Položka je určena pro osazení betonových dílců šachet dle DIN 4034, šachtová dna na kroužek, hmotnost do 2,0 t.",null,null,3]
[null,null,"V položce nejsou zakalkulovány náklady na dodání betonových dílců;",null,null,null,null,null,null,null,null,"V položce nejsou zakalkulovány náklady na dodání betonových dílců;",null,null,3]
[null,null,"Součástí položky je i podbetonování šachtového dna betonem C12/15 v min. tl. 10 cm.",null,null,null,null,null,null,null,null,"Součástí položky je i podbetonování šachtového dna betonem C12/15 v min. tl. 10 cm.",null,null,3]
[null,null,"Stoka \"A1\" KT DN400:",null,0,null,null,null,null,null,null,null,"Stoka \"A1\" KT DN400:"]
[null,null,"ŠD H775:8",null,8,null,null,null,null,null,null,null,"ŠD H775:8"]
[39,"894423112RT1","Osazení betonových dílců šachet do 3,0 t šachtová dna, na kroužek, do 3,0 t","kus",1,null,{"$f":"E237*F237","v":0},0,{"$f":"E237*H237","v":0},0,{"$f":"E237*J237","v":0},null,null,null,2,null,null,null,null,null,null,null,null,null,null,null,1,1,1,null,null,null,null,null,null,null,null,null,null,null,null,null,null,null,null,null,null,null,null,null,null,1,{"$f":"IF(AZ237=1,G237,0)","v":0},{"$f":"IF(AZ237=2,G237,0)","v":0},{"$f":"IF(AZ237=3,G237,0)","v":0},{"$f":"IF(AZ237=4,G237,0)","v":0},{"$f":"IF(AZ237=5,G237,0)","v":0},null,null,null,null,null,null,null,null,null,null,null,null,null,null,null,null,null,null,null,null,null,1,1]
[null,null,"Položka je určena pro osazení betonových dílců šachet dle DIN 4034, šachtová dna na kroužek, hmotnost do 2,0 t.",null,null,null,null,null,null,null,null,"Položka je určena pro osazení betonových dílců šachet dle DIN 4034, šachtová dna na kroužek, hmotnost do 2,0 t.",null,null,3]
[null,null,"V položce nejsou zakalkulovány náklady na dodání betonových dílců;",null,null,null,null,null,null,null,null,"V položce nejsou zakalkulovány náklady na dodání betonových dílců;",null,null,3]
[null,null,"Součástí položky je i podbetonování šachtového dna betonem C12/15 v min. tl. 10 cm.",null,null,null,null,null,null,null,null,"Součástí položky je i podbetonování šachtového dna betonem C12/15 v min. tl. 10 cm.",null,null,3]
[null,null,"Stoka \"A1\" KT DN400:",null,0,null,null,null,null,null,null,null,"Stoka \"A1\" KT DN400:"]
[null,null,"ŠD H975:1",null,1,null,null,null,null,null,null,null,"ŠD H975:1"]
[40,"895941111R00","Zřízení vpusti uliční z dílců typ UV - 50 normální ","kus",8,null,{"$f":"E243*F243","v":0},0.34089999999999998,{"$f":"E243*H243","v":2.7271999999999998},0,{"$f":"E243*J243","v":0},null,null,null,2,null,null,null,null,null,null,null,null,null,null,null,1,1,1,null,null,null,null,null,null,null,null,null,null,null,null,null,null,null,null,null,null,null,null,null,null,1,{"$f":"IF(AZ243=1,G243,0)","v":0},{"$f":"IF(AZ243=2,G243,0)","v":0},{"$f":"IF(AZ243=3,G243,0)","v":0},{"$f":"IF(AZ243=4,G243,0)","v":0},{"$f":"IF(AZ243=5,G243,0)","v":0},null,null,null,null,null,null,null,null,null,null,null,null,null,null,null,null,null,null,null,null,null,1,1]
[null,null,"Stoka \"A1\" KT DN400:",null,0,null,null,null,null,null,null,null,"Stoka \"A1\" KT DN400:"]
[null,null,"Přípojky k UV PVC DN200 :",null,0,null,null,null,null,null,null,null,"Přípojky k UV PVC DN200 :"]
[null,null,"UV 1 až UV 8:8",null,8,null,null,null,null,null,null,null,"UV 1 až UV 8:8"]
[41,"899000504RRX","Výustní objekt pro KT DN400 ","kus",1,null,{"$f":"E247*F247","v":0},1.6167899999999999,{"$f":"E247*H247","v":1.6167899999999999},0,{"$f":"E247*J247","v":0},null,null,null,2,null,null,null,null,null,null,null,null,null,null,null,1,1,1,null,null,null,null,null,null,null,null,null,null,null,null,null,null,null,null,null,null,null,null,null,null,1,{"$f":"IF(AZ247=1,G247,0)","v":0},{"$f":"IF(AZ247=2,G247,0)","v":0},{"$f":"IF(AZ247=3,G247,0)","v":0},{"$f":"IF(AZ247=4,G247,0)","v":0},{"$f":"IF(AZ247=5,G247,0)","v":0},null,null,null,null,null,null,null,null,null,null,null,null,null,null,null,null,null,null,null,null,null,1,1]
[null,null,"Provedení dle projektové dokumentace",null,null,null,null,null,null,null,null,"Provedení dle projektové dokumentace",null,null,3]
[42,"899102111R00","Osazení poklopu s rámem do 100 kg ","kus",9,null,{"$f":"E249*F249","v":0},7.0200000000000002E-3,{"$f":"E249*H249","v":6.318E-2},0,{"$f":"E249*J249","v":0},null,null,null,2,null,null,null,null,null,null,null,null,null,null,null,1,1,1,null,null,null,null,null,null,null,null,null,null,null,null,null,null,null,null,null,null,null,null,null,null,1,{"$f":"IF(AZ249=1,G249,0)","v":0},{"$f":"IF(AZ249=2,G249,0)","v":0},{"$f":"IF(AZ249=3,G249,0)","v":0},{"$f":"IF(AZ249=4,G249,0)","v":0},{"$f":"IF(AZ249=5,G249,0)","v":0},null,null,null,null,null,null,null,null,null,null,null,null,null,null,null,null,null,null,null,null,null,1,1]
[null,null,"Osazení provizorních poklopů během realizace stavby  (nefakturovaný materiál zhotovitele)",null,null,null,null,null,null,null,null,"Osazení provizorních poklopů během realizace stavby  (nefakturovaný materiál zhotovitele)",null,null,3]
[43,"899202111R00","Osazení mříží litinových s rámem do 100kg ","kus",8,null,{"$f":"E251*F251","v":0},9.3600000000000003E-3,{"$f":"E251*H251","v":7.4880000000000002E-2},0,{"$f":"E251*J251","v":0},null,null,null,2,null,null,null,null,null,null,null,null,null,null,null,1,1,1,null,null,null,null,null,null,null,null,null,null,null,null,null,null,null,null,null,null,null,null,null,null,1,{"$f":"IF(AZ251=1,G251,0)","v":0},{"$f":"IF(AZ251=2,G251,0)","v":0},{"$f":"IF(AZ251=3,G251,0)","v":0},{"$f":"IF(AZ251=4,G251,0)","v":0},{"$f":"IF(AZ251=5,G251,0)","v":0},null,null,null,null,null,null,null,null,null,null,null,null,null,null,null,null,null,null,null,null,null,1,1]
[null,null,"Stoka \"A1\" KT DN400:",null,0,null,null,null,null,null,null,null,"Stoka \"A1\" KT DN400:"]
[null,null,"Přípojky k UV PVC DN200 :",null,0,null,null,null,null,null,null,null,"Přípojky k UV PVC DN200 :"]
[null,null,"UV 1 až UV 8:8",null,8,null,null,null,null,null,null,null,"UV 1 až UV 8:8"]
[44,"899711122R00","Fólie výstražná z PVC šedá, šířka 30 cm ","m",237.6,null,{"$f":"E255*F255","v":0},0,{"$f":"E255*H255","v":0},0,{"$f":"E255*J255","v":0},null,null,null,2,null,null,null,null,null,null,null,null,null,null,null,1,1,1,null,null,null,null,null,null,null,null,null,null,null,null,null,null,null,null,null,null,null,null,null,null,1,{"$f":"IF(AZ255=1,G255,0)","v":0},{"$f":"IF(AZ255=2,G255,0)","v":0},{"$f":"IF(AZ255=3,G255,0)","v":0},{"$f":"IF(AZ255=4,G255,0)","v":0},{"$f":"IF(AZ255=5,G255,0)","v":0},null,null,null,null,null,null,null,null,null,null,null,null,null,null,null,null,null,null,null,null,null,1,1]
[null,null,"Stoka \"A1\" KT DN400:182,60",null,182.6,null,null,null,null,null,null,null,"Stoka \"A1\" KT DN400:182,60"]
[null,null,"Přípojky k UV PVC DN200 + Rezerva 10%:55,00",null,55,null,null,null,null,null,null,null,"Přípojky k UV PVC DN200 + Rezerva 10%:55,00"]
[45,"286111914.R","Trubka kanalizační PVC QUANTUM SN 12 DN 200","m",56.65,null,{"$f":"E258*F258","v":0},7.1000000000000004E-3,{"$f":"E258*H258","v":0.40221499999999999},null,{"$f":"E258*J258","v":0},null,null,null,2,null,null,null,null,null,null,null,null,null,null,null,3,1,"286111914.R",null,null,null,null,null,null,null,null,null,null,null,null,null,null,null,null,null,null,null,null,null,null,1,{"$f":"IF(AZ258=1,G258,0)","v":0},{"$f":"IF(AZ258=2,G258,0)","v":0},{"$f":"IF(AZ258=3,G258,0)","v":0},{"$f":"IF(AZ258=4,G258,0)","v":0},{"$f":"IF(AZ258=5,G258,0)","v":0},null,null,null,null,null,null,null,null,null,null,null,null,null,null,null,null,null,null,null,null,null,3,1]
[null,null,"Jedná  se  o  plnostěnné kanalizační trubky DN 150 – DN 400, SN 12 kN/m2 , zvenčí  i  zevnitř  hladké. Jsou  opatřeny hrdlem,  v  němž  je  vložen vysoce  elastický  jazýčkový  kroužek.  konce  trubek  (dříků)  jsou opatřeny  zkosením  pod  úhlem  15°.  Způsob  použití  trubek  je  „U“  dle  normy  ČSN  EN  1401-1, tj. mimo budovy. Spolehlivá  funkce  těsnění  je  jištěna  výztužným  kroužkem  z  elastomeru.  Je  tak  zamezeno  vypad-nutí nebo vytlačení kroužku při manipulaci a montáži. Tento systém zaručuje při správné montáži ",null,null,null,null,null,null,null,null,"Jedná  se  o  plnostěnné kanalizační trubky DN 150 – DN 400, SN 12 kN/m2 , zvenčí  i  zevnitř  hladké. Jsou  opatřeny hrdlem,  v  němž  je  vložen vysoce  elastický  jazýčkový  kroužek.  konce  trubek  (dříků)  jsou opatřeny  zkosením  pod  úhlem  15°.  Způsob  použití  trubek  je  „U“  dle  normy  ČSN  EN  1401-1, tj. mimo budovy. Spolehlivá  funkce  těsnění  je  jištěna  výztužným  kroužkem  z  elastomeru.  Je  tak  zamezeno  vypad-nutí nebo vytlačení kroužku při manipulaci a montáži. Tento systém zaručuje při správné montáži ",null,null,3]
[null,null,"dokonalou  těsnost  do  výšky  vodního  sloupce  5  metrů.",null,null,null,null,null,null,null,null,"dokonalou  těsnost  do  výšky  vodního  sloupce  5  metrů.",null,null,3]
[null,null,null,null,null,null,null,null,null,null,null,null,null,null,3]
[null,null,"Teplota při pokládce: min. -10 °C, max. 50 °C",null,null,null,null,null,null,null,null,"Teplota při pokládce: min. -10 °C, max. 50 °C",null,null,3]
[null,null,"Max. teplota média: trvale do 40 °C, krátkodobě do 60 °C",null,null,null,null,null,null,null,null,"Max. teplota média: trvale do 40 °C, krátkodobě do 60 °C",null,null,3]
[null,null,"Orientační výška krytí: min. 0,5 m, max. 10 m",null,null,null,null,null,null,null,null,"Orientační výška krytí: min. 0,5 m, max. 10 m",null,null,3]
[null,null,"Max. rychlost média: 12 m/s",null,null,null,null,null,null,null,null,"Max. rychlost média: 12 m/s",null,null,3]
[null,null,"Stoka \"A1\" KT DN400:",null,0,null,null,null,null,null,null,null,"Stoka \"A1\" KT DN400:"]
[null,null,"Přípojky k UV PVC DN200 + Rezerva 10%:55,00*1,03",null,56.65,null,null,null,null,null,null,null,"Přípojky k UV PVC DN200 + Rezerva 10%:55,00*1,03"]
[46,"286506012.R","Koleno kanalizační PVC QUANTUM SDR 34 DN 200 Kolena s úhlem 15°, 30°a 45°","kus",20.3,null,{"$f":"E268*F268","v":0},1.07E-3,{"$f":"E268*H268","v":2.1721000000000001E-2},null,{"$f":"E268*J268","v":0},null,null,null,2,null,null,null,null,null,null,null,null,null,null,null,3,1,"286506012.R",null,null,null,null,null,null,null,null,null,null,null,null,null,null,null,null,null,null,null,null,null,null,1,{"$f":"IF(AZ268=1,G268,0)","v":0},{"$f":"IF(AZ268=2,G268,0)","v":0},{"$f":"IF(AZ268=3,G268,0)","v":0},{"$f":"IF(AZ268=4,G268,0)","v":0},{"$f":"IF(AZ268=5,G268,0)","v":0},null,null,null,null,null,null,null,null,null,null,null,null,null,null,null,null,null,null,null,null,null,3,1]
[null,null,"Tvarovky kanalizačního systému PVC SDR 34",null,null,null,null,null,null,null,null,"Tvarovky kanalizačního systému PVC SDR 34",null,null,3]
[null,null,"Teplota při pokládce: min. -10 °C, max. 50 °C",null,null,null,null,null,null,null,null,"Teplota při pokládce: min. -10 °C, max. 50 °C",null,null,3]
[null,null,"Max. teplota média: trvale do 40 °C, krátkodobě do 60 °C",null,null,null,null,null,null,null,null,"Max. teplota média: trvale do 40 °C, krátkodobě do 60 °C",null,null,3]
[null,null,"Orientační výška krytí: min. 0,5 m, max. 10 m",null,null,null,null,null,null,null,null,"Orientační výška krytí: min. 0,5 m, max. 10 m",null,null,3]
[null,null,"Max. rychlost média: 12 m/s",null,null,null,null,null,null,null,null,"Max. rychlost média: 12 m/s",null,null,3]
[null,null,"Stoka \"A1\" KT DN400:",null,0,null,null,null,null,null,null,null,"Stoka \"A1\" KT DN400:"]
[null,null,"Přípojky k UV PVC DN200 + Rezerva 10%:",null,0,null,null,null,null,null,null,null,"Přípojky k UV PVC DN200 + Rezerva 10%:"]
[null,null,"Koleno PVC DN200:20*1,015",null,20.3,null,null,null,null,null,null,null,"Koleno PVC DN200:20*1,015"]
[47,"28650814.R","Přechodka kanal. PVC na kameninové hrdlo DN 200 mm","kus",8.1199999999999992,null,{"$f":"E277*F277","v":0},7.7999999999999999E-4,{"$f":"E277*H277","v":6.3335999999999991E-3},null,{"$f":"E277*J277","v":0},null,null,null,2,null,null,null,null,null,null,null,null,null,null,null,3,1,"28650814.R",null,null,null,null,null,null,null,null,null,null,null,null,null,null,null,null,null,null,null,null,null,null,1,{"$f":"IF(AZ277=1,G277,0)","v":0},{"$f":"IF(AZ277=2,G277,0)","v":0},{"$f":"IF(AZ277=3,G277,0)","v":0},{"$f":"IF(AZ277=4,G277,0)","v":0},{"$f":"IF(AZ277=5,G277,0)","v":0},null,null,null,null,null,null,null,null,null,null,null,null,null,null,null,null,null,null,null,null,null,3,1]
[null,null,"Stoka \"A1\" KT DN400:",null,0,null,null,null,null,null,null,null,"Stoka \"A1\" KT DN400:"]
[null,null,"Přípojky k UV PVC DN200 + Rezerva 10%:",null,0,null,null,null,null,null,null,null,"Přípojky k UV PVC DN200 + Rezerva 10%:"]
[null,null,"Přechodka kanal. PVC na kameninové hrdlo DN200:8*1,015",null,8.1199999999999992,null,null,null,null,null,null,null,"Přechodka kanal. PVC na kameninové hrdlo DN200:8*1,015"]
[48,"59223824.R","Vpust uliční betonová TBV-Q 450 - komplet včetně kalového koše a litinové mříže s rámem","kus",8.08,null,{"$f":"E281*F281","v":0},0.374,{"$f":"E281*H281","v":3.0219200000000002},null,{"$f":"E281*J281","v":0},null,null,null,2,null,null,null,null,null,null,null,null,null,null,null,3,1,"59223824.R",null,null,null,null,null,null,null,null,null,null,null,null,null,null,null,null,null,null,null,null,null,null,1,{"$f":"IF(AZ281=1,G281,0)","v":0},{"$f":"IF(AZ281=2,G281,0)","v":0},{"$f":"IF(AZ281=3,G281,0)","v":0},{"$f":"IF(AZ281=4,G281,0)","v":0},{"$f":"IF(AZ281=5,G281,0)","v":0},null,null,null,null,null,null,null,null,null,null,null,null,null,null,null,null,null,null,null,null,null,3,1]
[null,null,"Dodávka dle projektové dokumentace",null,null,null,null,null,null,null,null,"Dodávka dle projektové dokumentace",null,null,3]
[null,null,"Sestava UV:",null,null,null,null,null,null,null,null,"Sestava UV:",null,null,3]
[null,null,"- Rám s mříží 500x500 mm KM12P včetně kalového koše H600 mm A4",null,null,null,null,null,null,null,null,"- Rám s mříží 500x500 mm KM12P včetně kalového koše H600 mm A4",null,null,3]
[null,null,"- Vyrovnávací prstenec TBV-Q 450/60 10a",null,null,null,null,null,null,null,null,"- Vyrovnávací prstenec TBV-Q 450/60 10a",null,null,3]
[null,null,"- Horní skruž TBV-Q 450/570/5d",null,null,null,null,null,null,null,null,"- Horní skruž TBV-Q 450/570/5d",null,null,3]
[null,null,"- Středová skruž TBV-Q 450/570/6a",null,null,null,null,null,null,null,null,"- Středová skruž TBV-Q 450/570/6a",null,null,3]
[null,null,"- Dno s výtokem TBV-Q 450/370/1a PVC DN200",null,null,null,null,null,null,null,null,"- Dno s výtokem TBV-Q 450/370/1a PVC DN200",null,null,3]
[null,null,"Stoka \"A1\" KT DN400:",null,0,null,null,null,null,null,null,null,"Stoka \"A1\" KT DN400:"]
[null,null,"Přípojky k UV PVC DN200 :",null,0,null,null,null,null,null,null,null,"Přípojky k UV PVC DN200 :"]
[null,null,"UV 1 až UV 8:8*1,01",null,8.08,null,null,null,null,null,null,null,"UV 1 až UV 8:8*1,01"]
[49,"592243543.R","Kónus šachetní TBR-Q.1 100x63/58/12 KPS","kus",9.09,null,{"$f":"E292*F292","v":0},0.58499999999999996,{"$f":"E292*H292","v":5.3176499999999995},null,{"$f":"E292*J292","v":0},null,null,null,2,null,null,null,null,null,null,null,null,null,null,null,3,1,"592243543.R",null,null,null,null,null,null,null,null,null,null,null,null,null,null,null,null,null,null,null,null,null,null,1,{"$f":"IF(AZ292=1,G292,0)","v":0},{"$f":"IF(AZ292=2,G292,0)","v":0},{"$f":"IF(AZ292=3,G292,0)","v":0},{"$f":"IF(AZ292=4,G292,0)","v":0},{"$f":"IF(AZ292=5,G292,0)","v":0},null,null,null,null,null,null,null,null,null,null,null,null,null,null,null,null,null,null,null,null,null,3,1]
[null,null,"Stoka \"A1\" KT DN400:",null,0,null,null,null,null,null,null,null,"Stoka \"A1\" KT DN400:"]
[null,null,"Kónus H580:9*1,01",null,9.09,null,null,null,null,null,null,null,"Kónus H580:9*1,01"]
[50,"59224358.A.R","Skruž šachetní TBS-Q.1 100/25/12 PS","kus",6.06,null,{"$f":"E295*F295","v":0},0.25,{"$f":"E295*H295","v":1.5149999999999999},null,{"$f":"E295*J295","v":0},null,null,null,2,null,null,null,null,null,null,null,null,null,null,null,3,1,"59224358.A.R",null,null,null,null,null,null,null,null,null,null,null,null,null,null,null,null,null,null,null,null,null,null,1,{"$f":"IF(AZ295=1,G295,0)","v":0},{"$f":"IF(AZ295=2,G295,0)","v":0},{"$f":"IF(AZ295=3,G295,0)","v":0},{"$f":"IF(AZ295=4,G295,0)","v":0},{"$f":"IF(AZ295=5,G295,0)","v":0},null,null,null,null,null,null,null,null,null,null,null,null,null,null,null,null,null,null,null,null,null,3,1]
[null,null,"Stoka \"A1\" KT DN400:",null,0,null,null,null,null,null,null,null,"Stoka \"A1\" KT DN400:"]
[null,null,"Skruž H250:6*1,01",null,6.06,null,null,null,null,null,null,null,"Skruž H250:6*1,01"]
[51,"59224361.A.R","Skruž šachetní TBS-Q.1 100/50/12 PS","kus",3.03,null,{"$f":"E298*F298","v":0},0.5,{"$f":"E298*H298","v":1.5149999999999999},null,{"$f":"E298*J298","v":0},null,null,null,2,null,null,null,null,null,null,null,null,null,null,null,3,1,"59224361.A.R",null,null,null,null,null,null,null,null,null,null,null,null,null,null,null,null,null,null,null,null,null,null,1,{"$f":"IF(AZ298=1,G298,0)","v":0},{"$f":"IF(AZ298=2,G298,0)","v":0},{"$f":"IF(AZ298=3,G298,0)","v":0},{"$f":"IF(AZ298=4,G298,0)","v":0},{"$f":"IF(AZ298=5,G298,0)","v":0},null,null,null,null,null,null,null,null,null,null,null,null,null,null,null,null,null,null,null,null,null,3,1]
[null,null,"Stoka \"A1\" KT DN400:",null,0,null,null,null,null,null,null,null,"Stoka \"A1\" KT DN400:"]
[null,null,"Skruž H500:3*1,01",null,3.03,null,null,null,null,null,null,null,"Skruž H500:3*1,01"]
[52,"59224364.A.R","Skruž šachetní TBS-Q.1 100/100/12 PS","kus",11.11,null,{"$f":"E301*F301","v":0},1,{"$f":"E301*H301","v":11.11},null,{"$f":"E301*J301","v":0},null,null,null,2,null,null,null,null,null,null,null,null,null,null,null,3,1,"59224364.A.R",null,null,null,null,null,null,null,null,null,null,null,null,null,null,null,null,null,null,null,null,null,null,1,{"$f":"IF(AZ301=1,G301,0)","v":0},{"$f":"IF(AZ301=2,G301,0)","v":0},{"$f":"IF(AZ301=3,G301,0)","v":0},{"$f":"IF(AZ301=4,G301,0)","v":0},{"$f":"IF(AZ301=5,G301,0)","v":0},null,null,null,null,null,null,null,null,null,null,null,null,null,null,null,null,null,null,null,null,null,3,1]
[null,null,"Stoka \"A1\" KT DN400:",null,0,null,null,null,null,null,null,null,"Stoka \"A1\" KT DN400:"]
[null,null,"Skruž H1000:11*1,01",null,11.11,null,null,null,null,null,null,null,"Skruž H1000:11*1,01"]
[53,"59224374.A.R","Dno šachetní TBZ-Q.1 100/78 KOM V30 včetně kynety dle PD","kus",8.08,null,{"$f":"E304*F304","v":0},1.58,{"$f":"E304*H304","v":12.766400000000001},null,{"$f":"E304*J304","v":0},null,null,null,2,null,null,null,null,null,null,null,null,null,null,null,3,1,"59224374.A.R",null,null,null,null,null,null,null,null,null,null,null,null,null,null,null,null,null,null,null,null,null,null,1,{"$f":"IF(AZ304=1,G304,0)","v":0},{"$f":"IF(AZ304=2,G304,0)","v":0},{"$f":"IF(AZ304=3,G304,0)","v":0},{"$f":"IF(AZ304=4,G304,0)","v":0},{"$f":"IF(AZ304=5,G304,0)","v":0},null,null,null,null,null,null,null,null,null,null,null,null,null,null,null,null,null,null,null,null,null,3,1]
[null,null,"Stoka \"A1\" KT DN400:",null,0,null,null,null,null,null,null,null,"Stoka \"A1\" KT DN400:"]
[null,null,"ŠD H775:8*1,01",null,8.08,null,null,null,null,null,null,null,"ŠD H775:8*1,01"]
[54,"59224376.A.R","Dno šachetní TBZ-Q.1 100/98 KOM V80 včetně kynety dle PD","kus",1.01,null,{"$f":"E307*F307","v":0},2.59,{"$f":"E307*H307","v":2.6158999999999999},null,{"$f":"E307*J307","v":0},null,null,null,2,null,null,null,null,null,null,null,null,null,null,null,3,1,"59224376.A.R",null,null,null,null,null,null,null,null,null,null,null,null,null,null,null,null,null,null,null,null,null,null,1,{"$f":"IF(AZ307=1,G307,0)","v":0},{"$f":"IF(AZ307=2,G307,0)","v":0},{"$f":"IF(AZ307=3,G307,0)","v":0},{"$f":"IF(AZ307=4,G307,0)","v":0},{"$f":"IF(AZ307=5,G307,0)","v":0},null,null,null,null,null,null,null,null,null,null,null,null,null,null,null,null,null,null,null,null,null,3,1]
[null,null,"Stoka \"A1\" KT DN400:",null,0,null,null,null,null,null,null,null,"Stoka \"A1\" KT DN400:"]
[null,null,"ŠD H975:1*1,01",null,1.01,null,null,null,null,null,null,null,"ŠD H975:1*1,01"]
[55,"59224380.R","Těsnění elastom pro šach díly EMT 100/1.7 - DN1000","kus",29.29,null,{"$f":"E310*F310","v":0},2E-3,{"$f":"E310*H310","v":5.858E-2},null,{"$f":"E310*J310","v":0},null,null,null,2,null,null,null,null,null,null,null,null,null,null,null,3,1,"59224380.R",null,null,null,null,null,null,null,null,null,null,null,null,null,null,null,null,null,null,null,null,null,null,1,{"$f":"IF(AZ310=1,G310,0)","v":0},{"$f":"IF(AZ310=2,G310,0)","v":0},{"$f":"IF(AZ310=3,G310,0)","v":0},{"$f":"IF(AZ310=4,G310,0)","v":0},{"$f":"IF(AZ310=5,G310,0)","v":0},null,null,null,null,null,null,null,null,null,null,null,null,null,null,null,null,null,null,null,null,null,3,1]
[null,null,"Stoka \"A1\" KT DN400:",null,0,null,null,null,null,null,null,null,"Stoka \"A1\" KT DN400:"]
[null,null,"Těsnění DN1000:29*1,01",null,29.29,null,null,null,null,null,null,null,"Těsnění DN1000:29*1,01"]
[56,"59710700.A.R","Trouba kameninová hrdlová DN 400, l=2,50 m, FN 64","m",165.54650000000001,null,{"$f":"E313*F313","v":0},0.13600000000000001,{"$f":"E313*H313","v":22.514324000000002},null,{"$f":"E313*J313","v":0},null,null,null,2,null,null,null,null,null,null,null,null,null,null,null,3,1,"59710700.A.R",null,null,null,null,null,null,null,null,null,null,null,null,null,null,null,null,null,null,null,null,null,null,1,{"$f":"IF(AZ313=1,G313,0)","v":0},{"$f":"IF(AZ313=2,G313,0)","v":0},{"$f":"IF(AZ313=3,G313,0)","v":0},{"$f":"IF(AZ313=4,G313,0)","v":0},{"$f":"IF(AZ313=5,G313,0)","v":0},null,null,null,null,null,null,null,null,null,null,null,null,null,null,null,null,null,null,null,null,null,3,1]
[null,null,"Hrdlové trouby KeraBase pro použití v komunální a průmyslové kanalizační systémy.",null,null,null,null,null,null,null,null,"Hrdlové trouby KeraBase pro použití v komunální a průmyslové kanalizační systémy.",null,null,3]
[null,null,"Otevřený výkop, normální zatížení.",null,null,null,null,null,null,null,null,"Otevřený výkop, normální zatížení.",null,null,3]
[null,null,"DN 400",null,null,null,null,null,null,null,null,"DN 400",null,null,3]
[null,null,"Délka 250 cm",null,null,null,null,null,null,null,null,"Délka 250 cm",null,null,3]
[null,null,"FN 64 kN/m",null,null,null,null,null,null,null,null,"FN 64 kN/m",null,null,3]
[null,null,"Hmotnost 350 kg/ks",null,null,null,null,null,null,null,null,"Hmotnost 350 kg/ks",null,null,3]
[null,null,"Hrdlo K/S",null,null,null,null,null,null,null,null,"Hrdlo K/S",null,null,3]
[null,null,"Třída pevnosti 160",null,null,null,null,null,null,null,null,"Třída pevnosti 160",null,null,3]
[null,null,"Stoka \"A1\" KT DN400:182,60*1,015",null,185.339,null,null,null,null,null,null,null,"Stoka \"A1\" KT DN400:182,60*1,015"]
[null,null,"Odpočet - Odbočka DN400/200:-0,75*8*1,015",null,-6.09,null,null,null,null,null,null,null,"Odpočet - Odbočka DN400/200:-0,75*8*1,015"]
[null,null,"Odpočet  - Tvarovky GA a GZ:-0,75*(9+9)*1,015",null,-13.702500000000001,null,null,null,null,null,null,null,"Odpočet  - Tvarovky GA a GZ:-0,75*(9+9)*1,015"]
[57,"59710826.A.R","Trouba kameninová zkrácená GZ DN 400, FN 64","kus",9.1349999999999998,null,{"$f":"E325*F325","v":0},0.115,{"$f":"E325*H325","v":1.0505249999999999},null,{"$f":"E325*J325","v":0},null,null,null,2,null,null,null,null,null,null,null,null,null,null,null,3,1,"59710826.A.R",null,null,null,null,null,null,null,null,null,null,null,null,null,null,null,null,null,null,null,null,null,null,1,{"$f":"IF(AZ325=1,G325,0)","v":0},{"$f":"IF(AZ325=2,G325,0)","v":0},{"$f":"IF(AZ325=3,G325,0)","v":0},{"$f":"IF(AZ325=4,G325,0)","v":0},{"$f":"IF(AZ325=5,G325,0)","v":0},null,null,null,null,null,null,null,null,null,null,null,null,null,null,null,null,null,null,null,null,null,3,1]
[null,null,"Zkrácené trouby KeraBase GZ pro použití v komunální a průmyslové kanalizační systémy.",null,null,null,null,null,null,null,null,"Zkrácené trouby KeraBase GZ pro použití v komunální a průmyslové kanalizační systémy.",null,null,3]
[null,null,"Otevřený výkop, normální zatížení.",null,null,null,null,null,null,null,null,"Otevřený výkop, normální zatížení.",null,null,3]
[null,null,"DN 400",null,null,null,null,null,null,null,null,"DN 400",null,null,3]
[null,null,"Délka 75 cm",null,null,null,null,null,null,null,null,"Délka 75 cm",null,null,3]
[null,null,"FN 64 kN/m",null,null,null,null,null,null,null,null,"FN 64 kN/m",null,null,3]
[null,null,"Hmotnost 115 kg/ks",null,null,null,null,null,null,null,null,"Hmotnost 115 kg/ks",null,null,3]
[null,null,"Hrdlo K",null,null,null,null,null,null,null,null,"Hrdlo K",null,null,3]
[null,null,"Třída pevnosti 160",null,null,null,null,null,null,null,null,"Třída pevnosti 160",null,null,3]
[null,null,"Stoka \"A1\" KT DN400:",null,0,null,null,null,null,null,null,null,"Stoka \"A1\" KT DN400:"]
[null,null,"Tvarovky GZ DN400:9*1,015",null,9.1349999999999998,null,null,null,null,null,null,null,"Tvarovky GZ DN400:9*1,015"]
[58,"59710839.A.R","Trouba kameninová zkrácená GA DN 400, FN 64","kus",9.1349999999999998,null,{"$f":"E336*F336","v":0},9.5000000000000001E-2,{"$f":"E336*H336","v":0.86782499999999996},null,{"$f":"E336*J336","v":0},null,null,null,2,null,null,null,null,null,null,null,null,null,null,null,3,1,"59710839.A.R",null,null,null,null,null,null,null,null,null,null,null,null,null,null,null,null,null,null,null,null,null,null,1,{"$f":"IF(AZ336=1,G336,0)","v":0},{"$f":"IF(AZ336=2,G336,0)","v":0},{"$f":"IF(AZ336=3,G336,0)","v":0},{"$f":"IF(AZ336=4,G336,0)","v":0},{"$f":"IF(AZ336=5,G336,0)","v":0},null,null,null,null,null,null,null,null,null,null,null,null,null,null,null,null,null,null,null,null,null,3,1]
[null,null,"Zkrácené trouby KeraBase GA pro použití v komunální a průmyslové kanalizační systémy.",null,null,null,null,null,null,null,null,"Zkrácené trouby KeraBase GA pro použití v komunální a průmyslové kanalizační systémy.",null,null,3]
[null,null,"Otevřený výkop, normální zatížení.",null,null,null,null,null,null,null,null,"Otevřený výkop, normální zatížení.",null,null,3]
[null,null,"DN 400",null,null,null,null,null,null,null,null,"DN 400",null,null,3]
[null,null,"Délka 75 cm",null,null,null,null,null,null,null,null,"Délka 75 cm",null,null,3]
[null,null,"FN 64 kN/m",null,null,null,null,null,null,null,null,"FN 64 kN/m",null,null,3]
[null,null,"Hmotnost 95 kg/ks",null,null,null,null,null,null,null,null,"Hmotnost 95 kg/ks",null,null,3]
[null,null,"Hrdlo K",null,null,null,null,null,null,null,null,"Hrdlo K",null,null,3]
[null,null,"Třída pevnosti 160",null,null,null,null,null,null,null,null,"Třída pevnosti 160",null,null,3]
[null,null,"Stoka \"A1\" KT DN400:",null,0,null,null,null,null,null,null,null,"Stoka \"A1\" KT DN400:"]
[null,null,"Tvarovky GA DN400:9*1,015",null,9.1349999999999998,null,null,null,null,null,null,null,"Tvarovky GA DN400:9*1,015"]
[59,"59711561.R","Odbočka 90° kamenina hrdlová 400/200 FN 64/34","kus",8.1199999999999992,null,{"$f":"E347*F347","v":0},0.14499999999999999,{"$f":"E347*H347","v":1.1773999999999998},null,{"$f":"E347*J347","v":0},null,null,null,2,null,null,null,null,null,null,null,null,null,null,null,3,1,"59711561.R",null,null,null,null,null,null,null,null,null,null,null,null,null,null,null,null,null,null,null,null,null,null,1,{"$f":"IF(AZ347=1,G347,0)","v":0},{"$f":"IF(AZ347=2,G347,0)","v":0},{"$f":"IF(AZ347=3,G347,0)","v":0},{"$f":"IF(AZ347=4,G347,0)","v":0},{"$f":"IF(AZ347=5,G347,0)","v":0},null,null,null,null,null,null,null,null,null,null,null,null,null,null,null,null,null,null,null,null,null,3,1]
[null,null,"KeraBase odbočky 90° pro normální zatížení.",null,null,null,null,null,null,null,null,"KeraBase odbočky 90° pro normální zatížení.",null,null,3]
[null,null,"Specif. 90° pravá/levá",null,null,null,null,null,null,null,null,"Specif. 90° pravá/levá",null,null,3]
[null,null,"Profil DN 400/200",null,null,null,null,null,null,null,null,"Profil DN 400/200",null,null,3]
[null,null,"Délka 100 cm",null,null,null,null,null,null,null,null,"Délka 100 cm",null,null,3]
[null,null,"Třída pevnosti 160/-",null,null,null,null,null,null,null,null,"Třída pevnosti 160/-",null,null,3]
[null,null,"Mezní únosnost FN 64/34 kN/m",null,null,null,null,null,null,null,null,"Mezní únosnost FN 64/34 kN/m",null,null,3]
[null,null,"Hmotnost 145 kg/ks",null,null,null,null,null,null,null,null,"Hmotnost 145 kg/ks",null,null,3]
[null,null,"Hrdlo KL",null,null,null,null,null,null,null,null,"Hrdlo KL",null,null,3]
[null,null,"levá - bílé značení",null,null,null,null,null,null,null,null,"levá - bílé značení",null,null,3]
[null,null,"pravá - červené značení",null,null,null,null,null,null,null,null,"pravá - červené značení",null,null,3]
[null,null,"Stoka \"A1\" KT DN400:",null,0,null,null,null,null,null,null,null,"Stoka \"A1\" KT DN400:"]
[null,null,"Odbočka DN400/200:8*1,015",null,8.1199999999999992,null,null,null,null,null,null,null,"Odbočka DN400/200:8*1,015"]
[60,"59711607.R","P-kroužek pro DN400","kus",15.225,null,{"$f":"E360*F360","v":0},0,{"$f":"E360*H360","v":0},null,{"$f":"E360*J360","v":0},null,null,null,2,null,null,null,null,null,null,null,null,null,null,null,3,1,"59711607.R",null,null,null,null,null,null,null,null,null,null,null,null,null,null,null,null,null,null,null,null,null,null,1,{"$f":"IF(AZ360=1,G360,0)","v":0},{"$f":"IF(AZ360=2,G360,0)","v":0},{"$f":"IF(AZ360=3,G360,0)","v":0},{"$f":"IF(AZ360=4,G360,0)","v":0},{"$f":"IF(AZ360=5,G360,0)","v":0},null,null,null,null,null,null,null,null,null,null,null,null,null,null,null,null,null,null,null,null,null,3,1]
[null,null,"Stoka \"A1\" KT DN400:",null,0,null,null,null,null,null,null,null,"Stoka \"A1\" KT DN400:"]
[null,null,"P-kroužek DN400:15*1,015",null,15.225,null,null,null,null,null,null,null,"P-kroužek DN400:15*1,015"]
[null,"Celkem za","8 Trubní vedení",null,null,null,{"$f":"SUM(G176:G362)","v":0},null,{"$f":"SUM(I176:I362)","v":68.455189599999997},null,{"$f":"SUM(K176:K362)","v":0},null,null,null,4,null,null,null,null,null,null,null,null,null,null,null,null,null,null,null,null,null,null,null,null,null,null,null,null,null,null,null,null,null,null,null,null,null,null,null,null,null,{"$f":"SUM(BA176:BA362)","v":0},{"$f":"SUM(BB176:BB362)","v":0},{"$f":"SUM(BC176:BC362)","v":0},{"$f":"SUM(BD176:BD362)","v":0},{"$f":"SUM(BE176:BE362)","v":0}]
["Díl:","93","Dokončovací práce inženýrských staveb",null,null,null,null,null,null,null,null,null,null,null,1]
[61,"939421111RT1","Osazení samonivelač.kanalizač.poklopu za finišerem bez dodávky poklopu","kus",9,null,{"$f":"E365*F365","v":0},0.15425,{"$f":"E365*H365","v":1.38825},0,{"$f":"E365*J365","v":0},null,null,null,2,null,null,null,null,null,null,null,null,null,null,null,1,0,0,null,null,null,null,null,null,null,null,null,null,null,null,null,null,null,null,null,null,null,null,null,null,1,{"$f":"IF(AZ365=1,G365,0)","v":0},{"$f":"IF(AZ365=2,G365,0)","v":0},{"$f":"IF(AZ365=3,G365,0)","v":0},{"$f":"IF(AZ365=4,G365,0)","v":0},{"$f":"IF(AZ365=5,G365,0)","v":0},null,null,null,null,null,null,null,null,null,null,null,null,null,null,null,null,null,null,null,null,null,1,0]
[null,null,"Položka obsahuje:",null,null,null,null,null,null,null,null,"Položka obsahuje:",null,null,3]
[null,null," osazení prefabrikovaného betonového prstence do rychletuhnoucí vysokopevnostní malty (s dodávkou hmot)",null,null,null,null,null,null,null,null,"- osazení prefabrikovaného betonového prstence do rychletuhnoucí malty (s dodávkou hmot)",null,null,3]
[null,null,"- zalití prstence rychletuhnoucí zálivkou do výše prstence (s dodávkou hmoty)",null,null,null,null,null,null,null,null,"- zalití prstence rychletuhnoucí zálivkou do výše prstence (s dodávkou hmoty)",null,null,3]
[null,null,"- vložení kruhového bednění",null,null,null,null,null,null,null,null,"- vložení kruhového bednění",null,null,3]
[null,null,"- doplnění mezikruží asfaltovou směsí do výšky současné podkladní vrstvy, zhutnění",null,null,null,null,null,null,null,null,"- doplnění mezikruží asfaltovou směsí do výšky současné podkladní vrstvy, zhutnění",null,null,3]
[null,null,"- vyjmutí kruhového bednění",null,null,null,null,null,null,null,null,"- vyjmutí kruhového bednění",null,null,3]
[null,null,"- osazení poklopu a zatlačení",null,null,null,null,null,null,null,null,"- osazení poklopu a zatlačení",null,null,3]
[null,null,"  (následuje pokládka finální vrstvy vozovky - není součástí položky)",null,null,null,null,null,null,null,null,"  (následuje pokládka finální vrstvy vozovky - není součástí položky)",null,null,3]
[null,null,"- povytažení poklopu",null,null,null,null,null,null,null,null,"- povytažení poklopu",null,null,3]
[null,null,"- podsyp asfaltovou směsí, spuštění poklopu a zhutnění směsi",null,null,null,null,null,null,null,null,"- podsyp asfaltovou směsí, spuštění poklopu a zhutnění směsi",null,null,3]
[62,"55244414.R","Poklop celolitinový v samonivelační rámu KDM03 D400 SN600","kus",9,null,{"$f":"E376*F376","v":0},0.113,{"$f":"E376*H376","v":1.0170000000000001},null,{"$f":"E376*J376","v":0},null,null,null,2,null,null,null,null,null,null,null,null,null,null,null,3,1,"55244414.R",null,null,null,null,null,null,null,null,null,null,null,null,null,null,null,null,null,null,null,null,null,null,1,{"$f":"IF(AZ376=1,G376,0)","v":0},{"$f":"IF(AZ376=2,G376,0)","v":0},{"$f":"IF(AZ376=3,G376,0)","v":0},{"$f":"IF(AZ376=4,G376,0)","v":0},{"$f":"IF(AZ376=5,G376,0)","v":0},null,null,null,null,null,null,null,null,null,null,null,null,null,null,null,null,null,null,null,null,null,3,1]
[null,null,"Kanalizační kruhový celolitinový samonivelační poklop bez pantu, horizontální PUR tlumící vložka na rámu, horizontální a vertikální  PUR tlumící vložka na víku, bez pružinového zajištění víka v rámu ",null,null,null,null,null,null,null,null,"Kanalizační kruhový celolitinový samonivelační poklop bez pantu, horizontální PUR tlumící vložka na rámu, horizontální a vertikální  PUR tlumící vložka na víku, bez pružinového zajištění víka v rámu ",null,null,3]
[null,null,"KDM03 s ventilací dle TS VHS Turnov",null,null,null,null,null,null,null,null,"KDM65 bez ventilace nebo s ventilací dle TS VHS Turnov",null,null,3]
[null,null,"Víko se znakem Města ",null,null,null,null,null,null,null,null,"Víko se znakem Města ",null,null,3]
[null,"Celkem za","93 Dokončovací práce inženýrských staveb",null,null,null,{"$f":"SUM(G364:G379)","v":0},null,{"$f":"SUM(I364:I379)","v":2.4052500000000001},null,{"$f":"SUM(K364:K379)","v":0},null,null,null,4,null,null,null,null,null,null,null,null,null,null,null,null,null,null,null,null,null,null,null,null,null,null,null,null,null,null,null,null,null,null,null,null,null,null,null,null,null,{"$f":"SUM(BA364:BA379)","v":0},{"$f":"SUM(BB364:BB379)","v":0},{"$f":"SUM(BC364:BC379)","v":0},{"$f":"SUM(BD364:BD379)","v":0},{"$f":"SUM(BE364:BE379)","v":0}]
["Díl:","99","Staveništní přesun hmot",null,null,null,null,null,null,null,null,null,null,null,1]
[63,"998275101RRX","Přesun hmot, kanalizace kameninové, otevřený výkop pro celý rozsah stavby","t",1803.542034353,null,{"$f":"E382*F382","v":0},0,{"$f":"E382*H382","v":0},null,{"$f":"E382*J382","v":0},null,null,null,2,null,null,null,null,null,null,null,null,null,null,null,7,1,2,null,null,null,null,null,null,null,null,null,null,null,null,null,null,null,null,null,null,null,null,null,null,1,{"$f":"IF(AZ382=1,G382,0)","v":0},{"$f":"IF(AZ382=2,G382,0)","v":0},{"$f":"IF(AZ382=3,G382,0)","v":0},{"$f":"IF(AZ382=4,G382,0)","v":0},{"$f":"IF(AZ382=5,G382,0)","v":0},null,null,null,null,null,null,null,null,null,null,null,null,null,null,null,null,null,null,null,null,null,7,1]
[null,null,"Staveništní doprava pro celý rozsah objektu - doprava zmeziskládek vybudovaného zařízení staveniště zhotovitele na jednotlivé části staveniště.",null,null,null,null,null,null,null,null,"Staveništní doprava pro celý rozsah objektu - doprava zmeziskládek vybudovaného zařízení staveniště zhotovitele na jednotlivé části staveniště.",null,null,3]
[null,"Celkem za","99 Staveništní přesun hmot",null,null,null,{"$f":"SUM(G381:G383)","v":0},null,{"$f":"SUM(I381:I383)","v":0},null,{"$f":"SUM(K381:K383)","v":0},null,null,null,4,null,null,null,null,null,null,null,null,null,null,null,null,null,null,null,null,null,null,null,null,null,null,null,null,null,null,null,null,null,null,null,null,null,null,null,null,null,{"$f":"SUM(BA381:BA383)","v":0},{"$f":"SUM(BB381:BB383)","v":0},{"$f":"SUM(BC381:BC383)","v":0},{"$f":"SUM(BD381:BD383)","v":0},{"$f":"SUM(BE381:BE383)","v":0}]

{"sheet":"07 07.02 KL","index":59,"n_rows":45,"n_cols":8,"rows_kept":45,"cut":false,"hidden":false,"merged":[[22,0,22,1],[7,2,7,4],[8,2,8,4],[9,2,9,4],[10,2,10,4],[11,2,11,4],[50,1,50,6],[29,5,29,6],[30,5,30,6],[31,5,31,6],[32,5,32,6],[33,5,33,6],[36,1,44,6],[45,1,45,6],[46,1,46,6],[47,1,47,6],[48,1,48,6],[49,1,49,6]]}
["POLOŽKOVÝ ROZPOČET"]
["Rozpočet",null,"07.02","Přeložka dešťové kanalizace - Stoka \"A1.1\"",null,"JKSO ","827.21.A4"]
[]
["Objekt",null,null,null,null,"SKP "]
["07",null,"Přeložky dešťové kanalizace",null,null,"Měrná jednotka","m"]
["Stavba",null,null,null,null,"Počet jednotek",0]
["3395",null,"Kanalizace a ČOV Benešov u Semil",null,null,"Náklady na m.j.",{"$f":"IF(G6=0,,ROUND((F30+F32)/G6,1))","v":0}]
["Projektant",null,"Vodohospodářský rozvoj a výstavba a.s.",null,null,"Typ rozpočtu"]
["Zpracovatel projektu"]
["Objednatel",null,"Vodohospodářské sdružení Turnov"]
["Dodavatel",null,".",null,null,"Zakázkové číslo "]
["Rozpočtoval",null,null,null,null,"Počet listů"]
["ROZPOČTOVÉ NÁKLADY"]
["Základní rozpočtové náklady"]
[null,"HSV celkem",{"$f":"'07 07.02 Rek'!E14","v":0}]
["Z","PSV celkem",{"$f":"'07 07.02 Rek'!F14","v":0}]
["R","M práce celkem",{"$f":"'07 07.02 Rek'!H14","v":0}]
["N","M dodávky celkem",{"$f":"'07 07.02 Rek'!G14","v":0}]
["ZRN celkem",null,{"$f":"SUM(C15:C18)","v":0}]
[]
["HZS",null,{"$f":"'07 07.02 Rek'!I14","v":0}]
["ZRN+HZS",null,{"$f":"C19+C21","v":0}]
["ZRN+ost.náklady+HZS",null,{"$f":"C22+G23","v":0}]
["Vypracoval",null,null,"Za zhotovitele",null,"Za objednatele"]
["Jméno :",null,null,"Jméno :",null,"Jméno :"]
["Datum :",null,null,"Datum :",null,"Datum :"]
[]
["Podpis :",null,null,"Podpis:",null,"Podpis:"]
[]
["Základ pro DPH",null,21,"%  ",null,{"$f":"C23-F32","v":0}]
["DPH",null,{"$f":"C30","v":21},"% ",null,{"$f":"ROUND(PRODUCT(F30,C31/100),0)","v":0}]
["Základ pro DPH",null,0,"% ",null,0]
["DPH",null,{"$f":"C32","v":0},"% ",null,{"$f":"ROUND(PRODUCT(F32,C33/100),0)","v":0}]
["CENA ZA OBJEKT CELKEM",null,null,null,null,{"$f":"ROUND(SUM(F30:F33),0)","v":0}]
[]
["Poznámka :",null,null,null,null,null,null," "]
[null,null,null,null,null,null,null," "]
[null,null,null,null,null,null,null," "]
[null,null,null,null,null,null,null," "]
[null,null,null,null,null,null,null," "]
[null,null,null,null,null,null,null," "]
[null,null,null,null,null,null,null," "]
[null,null,null,null,null,null,null," "]
[null,null,null,null,null,null,null," "]
[null,null,null,null,null,null,null," "]

{"sheet":"07 07.02 Rek","index":60,"n_rows":14,"n_cols":9,"rows_kept":14,"cut":false,"hidden":false,"merged":[[0,0,0,1],[1,0,1,1],[1,6,1,8]]}
["Stavba :",null,"3395 Kanalizace a ČOV Benešov u Semil",null,null,null,"Rozpočet :","07.02"]
["Objekt :",null,"07 Přeložky dešťové kanalizace",null,null,null,"Přeložka dešťové kanalizace - Stoka \"A1.1\""]
[]
["REKAPITULACE  STAVEBNÍCH  DÍLŮ"]
[]
[null,"Stavební díl",null,null,"HSV","PSV","Dodávka","Montáž","HZS"]
[{"$f":"'07 07.02 Pol'!B7","v":"1"},{"$f":"'07 07.02 Pol'!C7","v":"Zemní práce"},null,null,{"$f":"'07 07.02 Pol'!BA134","v":0},{"$f":"'07 07.02 Pol'!BB134","v":0},{"$f":"'07 07.02 Pol'!BC134","v":0},{"$f":"'07 07.02 Pol'!BD134","v":0},{"$f":"'07 07.02 Pol'!BE134","v":0}]
[{"$f":"'07 07.02 Pol'!B135","v":"21"},{"$f":"'07 07.02 Pol'!C135","v":"Úprava podloží a základ.spáry"},null,null,{"$f":"'07 07.02 Pol'!BA139","v":0},{"$f":"'07 07.02 Pol'!BB139","v":0},{"$f":"'07 07.02 Pol'!BC139","v":0},{"$f":"'07 07.02 Pol'!BD139","v":0},{"$f":"'07 07.02 Pol'!BE139","v":0}]
[{"$f":"'07 07.02 Pol'!B140","v":"45"},{"$f":"'07 07.02 Pol'!C140","v":"Podkladní a vedlejší konstrukce"},null,null,{"$f":"'07 07.02 Pol'!BA162","v":0},{"$f":"'07 07.02 Pol'!BB162","v":0},{"$f":"'07 07.02 Pol'!BC162","v":0},{"$f":"'07 07.02 Pol'!BD162","v":0},{"$f":"'07 07.02 Pol'!BE162","v":0}]
[{"$f":"'07 07.02 Pol'!B163","v":"5"},{"$f":"'07 07.02 Pol'!C163","v":"Komunikace"},null,null,{"$f":"'07 07.02 Pol'!BA176","v":0},{"$f":"'07 07.02 Pol'!BB176","v":0},{"$f":"'07 07.02 Pol'!BC176","v":0},{"$f":"'07 07.02 Pol'!BD176","v":0},{"$f":"'07 07.02 Pol'!BE176","v":0}]
[{"$f":"'07 07.02 Pol'!B177","v":"8"},{"$f":"'07 07.02 Pol'!C177","v":"Trubní vedení"},null,null,{"$f":"'07 07.02 Pol'!BA306","v":0},{"$f":"'07 07.02 Pol'!BB306","v":0},{"$f":"'07 07.02 Pol'!BC306","v":0},{"$f":"'07 07.02 Pol'!BD306","v":0},{"$f":"'07 07.02 Pol'!BE306","v":0}]
[{"$f":"'07 07.02 Pol'!B307","v":"93"},{"$f":"'07 07.02 Pol'!C307","v":"Dokončovací práce inženýrských staveb"},null,null,{"$f":"'07 07.02 Pol'!BA323","v":0},{"$f":"'07 07.02 Pol'!BB323","v":0},{"$f":"'07 07.02 Pol'!BC323","v":0},{"$f":"'07 07.02 Pol'!BD323","v":0},{"$f":"'07 07.02 Pol'!BE323","v":0}]
[{"$f":"'07 07.02 Pol'!B324","v":"99"},{"$f":"'07 07.02 Pol'!C324","v":"Staveništní přesun hmot"},null,null,{"$f":"'07 07.02 Pol'!BA327","v":0},{"$f":"'07 07.02 Pol'!BB327","v":0},{"$f":"'07 07.02 Pol'!BC327","v":0},{"$f":"'07 07.02 Pol'!BD327","v":0},{"$f":"'07 07.02 Pol'!BE327","v":0}]
[null,"CELKEM  OBJEKT",null,null,{"$f":"SUM(E7:E13)","v":0},{"$f":"SUM(F7:F13)","v":0},{"$f":"SUM(G7:G13)","v":0},{"$f":"SUM(H7:H13)","v":0},{"$f":"SUM(I7:I13)","v":0}]

{"sheet":"07 07.02 Pol","index":61,"n_rows":327,"n_cols":80,"rows_kept":327,"cut":false,"hidden":false,"merged":[[13,2,13,3],[14,2,14,3],[15,2,15,3],[17,2,17,6],[18,2,18,3],[19,2,19,3],[0,0,0,6],[2,0,2,1],[3,0,3,1],[3,4,3,6],[8,2,8,6],[9,2,9,6],[11,2,11,6],[12,2,12,6],[26,2,26,3],[27,2,27,3],[28,2,28,3],[29,2,29,3],[30,2,30,3],[31,2,31,3],[20,2,20,3],[21,2,21,3],[22,2,22,3],[23,2,23,3],[24,2,24,3],[25,2,25,3],[40,2,40,6],[41,2,41,3],[42,2,42,3],[43,2,43,3],[45,2,45,3],[46,2,46,3],[32,2,32,3],[33,2,33,3],[34,2,34,3],[36,2,36,3],[37,2,37,3],[38,2,38,3],[55,2,55,3],[56,2,56,3],[57,2,57,3],[58,2,58,3],[59,2,59,3],[60,2,60,3],[47,2,47,3],[49,2,49,6],[50,2,50,3],[51,2,51,3],[52,2,52,3],[54,2,54,3],[68,2,68,3],[69,2,69,3],[70,2,70,3],[71,2,71,3],[72,2,72,3],[73,2,73,3],[61,2,61,3],[62,2,62,3],[63,2,63,3],[65,2,65,3],[66,2,66,3],[67,2,67,3],[82,2,82,3],[83,2,83,3],[84,2,84,3],[85,2,85,3],[86,2,86,3],[87,2,87,3],[74,2,74,3],[76,2,76,3],[77,2,77,3],[78,2,78,3],[80,2,80,6],[81,2,81,6],[94,2,94,3],[95,2,95,3],[96,2,96,3],[97,2,97,3],[98,2,98,3],[99,2,99,3],[88,2,88,3],[89,2,89,3],[90,2,90,3],[91,2,91,3],[92,2,92,3],[93,2,93,3],[108,2,108,3],[110,2,110,3],[111,2,111,3],[113,2,113,3],[114,2,114,3],[115,2,115,3],[100,2,100,3],[101,2,101,3],[103,2,103,3],[104,2,104,3],[106,2,106,3],[107,2,107,3],[122,2,122,3],[123,2,123,3],[124,2,124,3],[125,2,125,3],[126,2,126,3],[127,2,127,3],[116,2,116,3],[117,2,117,3],[118,2,118,3],[119,2,119,3],[120,2,120,3],[121,2,121,3],[136,2,136,3],[137,2,137,3],[141,2,141,3],[142,2,142,3],[143,2,143,3],[145,2,145,6],[146,2,146,3],[128,2,128,3],[129,2,129,3],[130,2,130,3],[131,2,131,3],[132,2,132,3],[156,2,156,3],[157,2,157,3],[159,2,159,3],[160,2,160,3],[164,2,164,3],[165,2,165,3],[166,2,166,3],[168,2,168,6],[147,2,147,3],[148,2,148,3],[150,2,150,3],[151,2,151,3],[153,2,153,3],[154,2,154,3],[178,2,178,6],[179,2,179,3],[180,2,180,3],[182,2,182,3],[183,2,183,3],[185,2,185,6],[186,2,186,3],[187,2,187,3],[169,2,169,6],[170,2,170,6],[171,2,171,6],[172,2,172,6],[173,2,173,3],[174,2,174,3],[196,2,196,6],[197,2,197,6],[198,2,198,3],[199,2,199,3],[200,2,200,3],[201,2,201,3],[188,2,188,3],[190,2,190,6],[191,2,191,3],[192,2,192,3],[194,2,194,6],[195,2,195,6],[210,2,210,3],[211,2,211,3],[212,2,212,3],[214,2,214,6],[215,2,215,3],[217,2,217,6],[203,2,203,6],[204,2,204,6],[205,2,205,6],[206,2,206,6],[207,2,207,3],[209,2,209,3],[225,2,225,3],[226,2,226,3],[228,2,228,6],[229,2,229,3],[230,2,230,3],[232,2,232,6],[218,2,218,6],[219,2,219,3],[220,2,220,3],[221,2,221,3],[223,2,223,6],[224,2,224,6],[240,2,240,3],[242,2,242,6],[244,2,244,3],[245,2,245,3],[246,2,246,3],[248,2,248,3],[233,2,233,6],[234,2,234,6],[235,2,235,3],[236,2,236,3],[238,2,238,3],[239,2,239,3],[256,2,256,6],[257,2,257,6],[258,2,258,3],[259,2,259,3],[261,2,261,6],[262,2,262,6],[249,2,249,3],[251,2,251,6],[252,2,252,6],[253,2,253,6],[254,2,254,6],[255,2,255,6],[270,2,270,3],[271,2,271,3],[272,2,272,3],[274,2,274,3],[275,2,275,3],[277,2,277,6],[263,2,263,3],[265,2,265,6],[266,2,266,6],[267,2,267,6],[268,2,268,6],[269,2,269,6],[284,2,284,3],[285,2,285,3],[286,2,286,3],[288,2,288,3],[289,2,289,3],[291,2,291,3],[278,2,278,6],[279,2,279,6],[280,2,280,6],[281,2,281,6],[282,2,282,6],[283,2,283,6],[301,2,301,3],[303,2,303,3],[304,2,304,3],[308,2,308,6],[309,2,309,6],[310,2,310,6],[311,2,311,6],[312,2,312,6],[292,2,292,3],[294,2,294,3],[295,2,295,3],[297,2,297,3],[298,2,298,3],[300,2,300,3],[320,2,320,6],[321,2,321,6],[325,2,325,6],[313,2,313,6],[314,2,314,6],[315,2,315,6],[316,2,316,6],[317,2,317,6],[319,2,319,6]]}
["Položkový rozpočet "]
[]
["Stavba :",null,"3395 Kanalizace a ČOV Benešov u Semil",null,"Rozpočet:",{"$f":"'07 07.02 Rek'!H1","v":"07.02"}]
["Objekt :",null,"07 Přeložky dešťové kanalizace",null,{"$f":"'07 07.02 Rek'!G2","v":"Přeložka dešťové kanalizace - Stoka \"A1.1\""}]
[]
["P.č.","Číslo položky","Název položky","MJ","množství","cena / MJ","celkem (Kč)","Jednotková hmotnost","Celková hmotnost","Jednotková dem.hmot.","Celková dem.hmot."]
["Díl:","1","Zemní práce",null,null,null,null,null,null,null,null,null,null,null,1]
[1,"115101201RRX","Přečerpávání nebo převedení splašků a dešť. vod ","h",260,null,{"$f":"E8*F8","v":0},0,{"$f":"E8*H8","v":0},0,{"$f":"E8*J8","v":0},null,null,null,2,null,null,null,null,null,null,null,null,null,null,null,1,1,1,null,null,null,null,null,null,null,null,null,null,null,null,null,null,null,null,null,null,null,null,null,null,1,{"$f":"IF(AZ8=1,G8,0)","v":0},{"$f":"IF(AZ8=2,G8,0)","v":0},{"$f":"IF(AZ8=3,G8,0)","v":0},{"$f":"IF(AZ8=4,G8,0)","v":0},{"$f":"IF(AZ8=5,G8,0)","v":0},null,null,null,null,null,null,null,null,null,null,null,null,null,null,null,null,null,null,null,null,null,1,1]
[null,null,"Převedení a čerpání splašků nebo dešťových vod dle zvolené technologie zhotovitele stavby.",null,null,null,null,null,null,null,null,"Převedení a čerpání splašků nebo dešťových vod dle zvolené technologie zhotovitele stavby.",null,null,3]
[null,null,"(Množství bude určeno na stavbě dle skutečnosti)",null,null,null,null,null,null,null,null,"(Množství bude určeno na stavbě dle skutečnosti)",null,null,3]
[2,"130001101RRX","Příplatek za ztížené hloubení v blízkosti vedení ","m3",99.295299999999997,null,{"$f":"E11*F11","v":0},0,{"$f":"E11*H11","v":0},0,{"$f":"E11*J11","v":0},null,null,null,2,null,null,null,null,null,null,null,null,null,null,null,1,1,1,null,null,null,null,null,null,null,null,null,null,null,null,null,null,null,null,null,null,null,null,null,null,1,{"$f":"IF(AZ11=1,G11,0)","v":0},{"$f":"IF(AZ11=2,G11,0)","v":0},{"$f":"IF(AZ11=3,G11,0)","v":0},{"$f":"IF(AZ11=4,G11,0)","v":0},{"$f":"IF(AZ11=5,G11,0)","v":0},null,null,null,null,null,null,null,null,null,null,null,null,null,null,null,null,null,null,null,null,null,1,1]
[null,null,"Včetně případných nutných dokopávem a ručního výkopu podél sousedících inženýrských sítí.",null,null,null,null,null,null,null,null,"Včetně případných nutných dokopávem a ručního výkopu podél sousedících inženýrských sítí.",null,null,3]
[null,null,"Součástí položky je i dočasné zajištění inženýrských sítí v prostoru výkopů (potrubí, kabely a pod.)",null,null,null,null,null,null,null,null,"Součástí položky je i dočasné zajištění inženýrských sítí v prostoru výkopů (potrubí, kabely a pod.)",null,null,3]
[null,null,"Stoka \"A1.1\" PVC DN315:",null,0,null,null,null,null,null,null,null,"Stoka \"A1.1\" PVC DN315:"]
[null,null,"Výkopy:",null,0,null,null,null,null,null,null,null,"Výkopy:"]
[null,null,"V hornině tř. 3 - 5 - 20%:496,4763*0,2",null,99.295299999999997,null,null,null,null,null,null,null,"V hornině tř. 3 - 5 - 20%:496,4763*0,2"]
[3,"132201212R00","Hloubení rýh š.do 200 cm hor.3 do 1000m3,STROJNĚ ","m3",297.88580000000002,null,{"$f":"E17*F17","v":0},0,{"$f":"E17*H17","v":0},0,{"$f":"E17*J17","v":0},null,null,null,2,null,null,null,null,null,null,null,null,null,null,null,1,1,1,null,null,null,null,null,null,null,null,null,null,null,null,null,null,null,null,null,null,null,null,null,null,1,{"$f":"IF(AZ17=1,G17,0)","v":0},{"$f":"IF(AZ17=2,G17,0)","v":0},{"$f":"IF(AZ17=3,G17,0)","v":0},{"$f":"IF(AZ17=4,G17,0)","v":0},{"$f":"IF(AZ17=5,G17,0)","v":0},null,null,null,null,null,null,null,null,null,null,null,null,null,null,null,null,null,null,null,null,null,1,1]
[null,null,"Položka obsahuje hloubení rýh traktorbagrem, naložení výkopku na dopravní prostředek pro svislé, nebo vodorovné přemístění, popř. přemístění výkopku do 3 m (po povrchu území), případné zajištění rypadel polštáři, udržování pracoviště a ochranu výkopiště proti stékání srážkové vody z okolního terénu i s jejím odvodněním, nebo odvedením, přesekání a odstranění kořenů ve výkopišti, odstranění napadávek, urovnání dna výkopu.",null,null,null,null,null,null,null,null,"Položka obsahuje hloubení rýh traktorbagrem, naložení výkopku na dopravní prostředek pro svislé, nebo vodorovné přemístění, popř. přemístění výkopku do 3 m (po povrchu území), případné zajištění rypadel polštáři, udržování pracoviště a ochranu výkopiště proti stékání srážkové vody z okolního terénu i s jejím odvodněním, nebo odvedením, přesekání a odstranění kořenů ve výkopišti, odstranění napadávek, urovnání dna výkopu.",null,null,3]
[null,null,"Stoka \"A1.1\" PVC DN315:",null,0,null,null,null,null,null,null,null,"Stoka \"A1.1\" PVC DN315:"]
[null,null,"Výkopy:",null,0,null,null,null,null,null,null,null,"Výkopy:"]
[null,null,"Začátek provozního součtu",null,0,null,null,null,null,null,null,null,"Začátek provozního součtu"]
[null,null,"ŠA1-08 - ŠA1.1-03:55,67*1,10*(2,96+2,52)/2",null,167.7894,null,null,null,null,null,null,null,"ŠA1-08 - ŠA1.1-03:55,67*1,10*(2,96+2,52)/2"]
[null,null,"ŠA1.1-03 -ŠA1.1-04:(67,53-55,67)*1,10*(2,52+2,89)/2",null,35.289400000000001,null,null,null,null,null,null,null,"ŠA1.1-03 -ŠA1.1-04:(67,53-55,67)*1,10*(2,52+2,89)/2"]
[null,null,"ŠA1.1-04 - ŠA1.1-05:(93,65-67,53)*1,10*(2,89+2,48)/2",null,77.145399999999995,null,null,null,null,null,null,null,"ŠA1.1-04 - ŠA1.1-05:(93,65-67,53)*1,10*(2,89+2,48)/2"]
[null,null,"ŠA1.1-05 - ŠA1.1-07:(144,13-93,65)*1,10*(2,48+2,25)/2",null,131.3237,null,null,null,null,null,null,null,"ŠA1.1-05 - ŠA1.1-07:(144,13-93,65)*1,10*(2,48+2,25)/2"]
[null,null,"ŠA1.1-07 - ŠA1.1-08:(191,00-144,13)*1,10*(2,25+2,06)/2",null,111.1053,null,null,null,null,null,null,null,"ŠA1.1-07 - ŠA1.1-08:(191,00-144,13)*1,10*(2,25+2,06)/2"]
[null,null,"Prohlouení pro RŠ:1,60*1,60*0,20*8",null,4.0960000000000001,null,null,null,null,null,null,null,"Prohlouení pro RŠ:1,60*1,60*0,20*8"]
[null,null,"Rozšíření pro RŠ:1,60*(1,60-1,10)*16,45",null,13.16,null,null,null,null,null,null,null,"Rozšíření pro RŠ:1,60*(1,60-1,10)*16,45"]
[null,null,"Přípojky k UV PVC DN200 + Rezerva 10%:",null,0,null,null,null,null,null,null,null,"Přípojky k UV PVC DN200 + Rezerva 10%:"]
[null,null,"Průměrná hloubka výkopů k UV 2,54 m:",null,0,null,null,null,null,null,null,null,"Průměrná hloubka výkopů k UV 2,54 m:"]
[null,null,"Výkopy pro UV:31,00*0,80*2,54",null,62.991999999999997,null,null,null,null,null,null,null,"Výkopy pro UV:31,00*0,80*2,54"]
[null,null,"Odpočet objemu konstrukce komunikace:-(191,00*1,10+1,60*(1,60-1,10)*2)*0,45",null,-95.265000000000001,null,null,null,null,null,null,null,"Odpočet objemu konstrukce komunikace:-(191,00*1,10+1,60*(1,60-1,10)*2)*0,45"]
[null,null,"-31,00*0,80*0,45",null,-11.16,null,null,null,null,null,null,null,"-31,00*0,80*0,45"]
[null,null,"Konec provozního součtu",null,496.47619999999989,null,null,null,null,null,null,null,"Konec provozního součtu"]
[null,null,"V hornině tř. 3 - 60%:496,4763*0,6",null,297.88580000000002,null,null,null,null,null,null,null,"V hornině tř. 3 - 60%:496,4763*0,6"]
[4,"132201219R00","Přípl.za lepivost,hloubení rýh 200cm,hor.3,STROJNĚ ","m3",148.94290000000001,null,{"$f":"E36*F36","v":0},0,{"$f":"E36*H36","v":0},0,{"$f":"E36*J36","v":0},null,null,null,2,null,null,null,null,null,null,null,null,null,null,null,1,1,1,null,null,null,null,null,null,null,null,null,null,null,null,null,null,null,null,null,null,null,null,null,null,1,{"$f":"IF(AZ36=1,G36,0)","v":0},{"$f":"IF(AZ36=2,G36,0)","v":0},{"$f":"IF(AZ36=3,G36,0)","v":0},{"$f":"IF(AZ36=4,G36,0)","v":0},{"$f":"IF(AZ36=5,G36,0)","v":0},null,null,null,null,null,null,null,null,null,null,null,null,null,null,null,null,null,null,null,null,null,1,1]
[null,null,"Stoka \"A1.1\" PVC DN315:",null,0,null,null,null,null,null,null,null,"Stoka \"A1.1\" PVC DN315:"]
[null,null,"Výkopy:",null,0,null,null,null,null,null,null,null,"Výkopy:"]
[null,null,"V hornině tř. 3 - 60%:496,4763*0,6*0,5",null,148.94290000000001,null,null,null,null,null,null,null,"V hornině tř. 3 - 60%:496,4763*0,6*0,5"]
[5,"132301212R00","Hloubení rýh š.do 200 cm hor.4 do 1000 m3, STROJNĚ ","m3",148.94290000000001,null,{"$f":"E40*F40","v":0},0,{"$f":"E40*H40","v":0},0,{"$f":"E40*J40","v":0},null,null,null,2,null,null,null,null,null,null,null,null,null,null,null,1,1,1,null,null,null,null,null,null,null,null,null,null,null,null,null,null,null,null,null,null,null,null,null,null,1,{"$f":"IF(AZ40=1,G40,0)","v":0},{"$f":"IF(AZ40=2,G40,0)","v":0},{"$f":"IF(AZ40=3,G40,0)","v":0},{"$f":"IF(AZ40=4,G40,0)","v":0},{"$f":"IF(AZ40=5,G40,0)","v":0},null,null,null,null,null,null,null,null,null,null,null,null,null,null,null,null,null,null,null,null,null,1,1]
[null,null,"Položka obsahuje hloubení rýh traktorbagrem, naložení výkopku na dopravní prostředek pro svislé, nebo vodorovné přemístění, popř. přemístění výkopku do 3 m (po povrchu území), případné zajištění rypadel polštáři, udržování pracoviště a ochranu výkopiště proti stékání srážkové vody z okolního terénu i s jejím odvodněním, nebo odvedením, přesekání a odstranění kořenů ve výkopišti, odstranění napadávek, urovnání dna výkopu.",null,null,null,null,null,null,null,null,"Položka obsahuje hloubení rýh traktorbagrem, naložení výkopku na dopravní prostředek pro svislé, nebo vodorovné přemístění, popř. přemístění výkopku do 3 m (po povrchu území), případné zajištění rypadel polštáři, udržování pracoviště a ochranu výkopiště proti stékání srážkové vody z okolního terénu i s jejím odvodněním, nebo odvedením, přesekání a odstranění kořenů ve výkopišti, odstranění napadávek, urovnání dna výkopu.",null,null,3]
[null,null,"Stoka \"A1.1\" PVC DN315:",null,0,null,null,null,null,null,null,null,"Stoka \"A1.1\" PVC DN315:"]
[null,null,"Výkopy:",null,0,null,null,null,null,null,null,null,"Výkopy:"]
[null,null,"V hornině tř. 4 - 30%:496,4763*0,3",null,148.94290000000001,null,null,null,null,null,null,null,"V hornině tř. 4 - 30%:496,4763*0,3"]
[6,"132301219R00","Přípl.za lepivost,hloubení rýh 200cm,hor.4,STROJNĚ ","m3",74.471400000000003,null,{"$f":"E45*F45","v":0},0,{"$f":"E45*H45","v":0},0,{"$f":"E45*J45","v":0},null,null,null,2,null,null,null,null,null,null,null,null,null,null,null,1,1,1,null,null,null,null,null,null,null,null,null,null,null,null,null,null,null,null,null,null,null,null,null,null,1,{"$f":"IF(AZ45=1,G45,0)","v":0},{"$f":"IF(AZ45=2,G45,0)","v":0},{"$f":"IF(AZ45=3,G45,0)","v":0},{"$f":"IF(AZ45=4,G45,0)","v":0},{"$f":"IF(AZ45=5,G45,0)","v":0},null,null,null,null,null,null,null,null,null,null,null,null,null,null,null,null,null,null,null,null,null,1,1]
[null,null,"Stoka \"A1.1\" PVC DN315:",null,0,null,null,null,null,null,null,null,"Stoka \"A1.1\" PVC DN315:"]
[null,null,"Výkopy:",null,0,null,null,null,null,null,null,null,"Výkopy:"]
[null,null,"V hornině tř. 4 - 30%:496,4763*0,3*0,5",null,74.471400000000003,null,null,null,null,null,null,null,"V hornině tř. 4 - 30%:496,4763*0,3*0,5"]
[7,"132401211RRX","Hloubení rýh šířky do 200 cm v hor.5 STROJNĚ včetně případného dolamování ve vrstvě do 0,5 m","m3",49.647599999999997,null,{"$f":"E49*F49","v":0},1.0410000000000001E-2,{"$f":"E49*H49","v":0.51683151599999999},0,{"$f":"E49*J49","v":0},null,null,null,2,null,null,null,null,null,null,null,null,null,null,null,1,1,1,null,null,null,null,null,null,null,null,null,null,null,null,null,null,null,null,null,null,null,null,null,null,1,{"$f":"IF(AZ49=1,G49,0)","v":0},{"$f":"IF(AZ49=2,G49,0)","v":0},{"$f":"IF(AZ49=3,G49,0)","v":0},{"$f":"IF(AZ49=4,G49,0)","v":0},{"$f":"IF(AZ49=5,G49,0)","v":0},null,null,null,null,null,null,null,null,null,null,null,null,null,null,null,null,null,null,null,null,null,1,1]
[null,null,"Položka obsahuje hloubení rýh traktorbagrem, naložení výkopku na dopravní prostředek pro svislé, nebo vodorovné přemístění, popř. přemístění výkopku do 3 m (po povrchu území), případné zajištění rypadel polštáři, udržování pracoviště a ochranu výkopiště proti stékání srážkové vody z okolního terénu i s jejím odvodněním, nebo odvedením, přesekání a odstranění kořenů ve výkopišti, odstranění napadávek, urovnání dna výkopu.včetně případného dolamování ve vrstvě do 0,5 m",null,null,null,null,null,null,null,null,"Položka obsahuje hloubení rýh traktorbagrem, naložení výkopku na dopravní prostředek pro svislé, nebo vodorovné přemístění, popř. přemístění výkopku do 3 m (po povrchu území), případné zajištění rypadel polštáři, udržování pracoviště a ochranu výkopiště proti stékání srážkové vody z okolního terénu i s jejím odvodněním, nebo odvedením, přesekání a odstranění kořenů ve výkopišti, odstranění napadávek, urovnání dna výkopu.včetně případného dolamování ve vrstvě do 0,5 m",null,null,3]
[null,null,"Stoka \"A1.1\" PVC DN315:",null,0,null,null,null,null,null,null,null,"Stoka \"A1.1\" PVC DN315:"]
[null,null,"Výkopy:",null,0,null,null,null,null,null,null,null,"Výkopy:"]
[null,null,"V hornině tř. 5 - 10%:496,4763*0,1",null,49.647599999999997,null,null,null,null,null,null,null,"V hornině tř. 5 - 10%:496,4763*0,1"]
[8,"151101102R00","Pažení a rozepření stěn rýh - příložné - hl.do 4 m ","m2",1107.7587000000001,null,{"$f":"E54*F54","v":0},8.5999999999999998E-4,{"$f":"E54*H54","v":0.9526724820000001},0,{"$f":"E54*J54","v":0},null,null,null,2,null,null,null,null,null,null,null,null,null,null,null,1,1,1,null,null,null,null,null,null,null,null,null,null,null,null,null,null,null,null,null,null,null,null,null,null,1,{"$f":"IF(AZ54=1,G54,0)","v":0},{"$f":"IF(AZ54=2,G54,0)","v":0},{"$f":"IF(AZ54=3,G54,0)","v":0},{"$f":"IF(AZ54=4,G54,0)","v":0},{"$f":"IF(AZ54=5,G54,0)","v":0},null,null,null,null,null,null,null,null,null,null,null,null,null,null,null,null,null,null,null,null,null,1,1]
[null,null,"Stoka \"A1.1\" PVC DN315:",null,0,null,null,null,null,null,null,null,"Stoka \"A1.1\" PVC DN315:"]
[null,null,"Výkopy:",null,0,null,null,null,null,null,null,null,"Výkopy:"]
[null,null,"ŠA1-08 - ŠA1.1-03:55,67*(2,96+2,52)/2*2",null,305.07159999999999,null,null,null,null,null,null,null,"ŠA1-08 - ŠA1.1-03:55,67*(2,96+2,52)/2*2"]
[null,null,"ŠA1.1-03 -ŠA1.1-04:(67,53-55,67)*(2,52+2,89)/2*2",null,64.162599999999998,null,null,null,null,null,null,null,"ŠA1.1-03 -ŠA1.1-04:(67,53-55,67)*(2,52+2,89)/2*2"]
[null,null,"ŠA1.1-04 - ŠA1.1-05:(93,65-67,53)*(2,89+2,48)/2*2",null,140.26439999999999,null,null,null,null,null,null,null,"ŠA1.1-04 - ŠA1.1-05:(93,65-67,53)*(2,89+2,48)/2*2"]
[null,null,"ŠA1.1-05 - ŠA1.1-07:(144,13-93,65)*(2,48+2,25)/2*2",null,238.7704,null,null,null,null,null,null,null,"ŠA1.1-05 - ŠA1.1-07:(144,13-93,65)*(2,48+2,25)/2*2"]
[null,null,"ŠA1.1-07 - ŠA1.1-08:(191,00-144,13)*(2,25+2,06)/2*2",null,202.00970000000001,null,null,null,null,null,null,null,"ŠA1.1-07 - ŠA1.1-08:(191,00-144,13)*(2,25+2,06)/2*2"]
[null,null,"Přípojky k UV PVC DN200 + Rezerva 10%:",null,0,null,null,null,null,null,null,null,"Přípojky k UV PVC DN200 + Rezerva 10%:"]
[null,null,"Průměrná hloubka výkopů k UV 2,54 m:",null,0,null,null,null,null,null,null,null,"Průměrná hloubka výkopů k UV 2,54 m:"]
[null,null,"Výkopy pro UV:31,00*2,54*2",null,157.47999999999999,null,null,null,null,null,null,null,"Výkopy pro UV:31,00*2,54*2"]
[9,"151101112R00","Odstranění pažení stěn rýh - příložné - hl. do 4 m ","m2",1107.7587000000001,null,{"$f":"E65*F65","v":0},0,{"$f":"E65*H65","v":0},0,{"$f":"E65*J65","v":0},null,null,null,2,null,null,null,null,null,null,null,null,null,null,null,1,1,1,null,null,null,null,null,null,null,null,null,null,null,null,null,null,null,null,null,null,null,null,null,null,1,{"$f":"IF(AZ65=1,G65,0)","v":0},{"$f":"IF(AZ65=2,G65,0)","v":0},{"$f":"IF(AZ65=3,G65,0)","v":0},{"$f":"IF(AZ65=4,G65,0)","v":0},{"$f":"IF(AZ65=5,G65,0)","v":0},null,null,null,null,null,null,null,null,null,null,null,null,null,null,null,null,null,null,null,null,null,1,1]
[null,null,"Stoka \"A1.1\" PVC DN315:",null,0,null,null,null,null,null,null,null,"Stoka \"A1.1\" PVC DN315:"]
[null,null,"Výkopy:",null,0,null,null,null,null,null,null,null,"Výkopy:"]
[null,null,"ŠA1-08 - ŠA1.1-03:55,67*(2,96+2,52)/2*2",null,305.07159999999999,null,null,null,null,null,null,null,"ŠA1-08 - ŠA1.1-03:55,67*(2,96+2,52)/2*2"]
[null,null,"ŠA1.1-03 -ŠA1.1-04:(67,53-55,67)*(2,52+2,89)/2*2",null,64.162599999999998,null,null,null,null,null,null,null,"ŠA1.1-03 -ŠA1.1-04:(67,53-55,67)*(2,52+2,89)/2*2"]
[null,null,"ŠA1.1-04 - ŠA1.1-05:(93,65-67,53)*(2,89+2,48)/2*2",null,140.26439999999999,null,null,null,null,null,null,null,"ŠA1.1-04 - ŠA1.1-05:(93,65-67,53)*(2,89+2,48)/2*2"]
[null,null,"ŠA1.1-05 - ŠA1.1-07:(144,13-93,65)*(2,48+2,25)/2*2",null,238.7704,null,null,null,null,null,null,null,"ŠA1.1-05 - ŠA1.1-07:(144,13-93,65)*(2,48+2,25)/2*2"]
[null,null,"ŠA1.1-07 - ŠA1.1-08:(191,00-144,13)*(2,25+2,06)/2*2",null,202.00970000000001,null,null,null,null,null,null,null,"ŠA1.1-07 - ŠA1.1-08:(191,00-144,13)*(2,25+2,06)/2*2"]
[null,null,"Přípojky k UV PVC DN200 + Rezerva 10%:",null,0,null,null,null,null,null,null,null,"Přípojky k UV PVC DN200 + Rezerva 10%:"]
[null,null,"Průměrná hloubka výkopů k UV 2,54 m:",null,0,null,null,null,null,null,null,null,"Průměrná hloubka výkopů k UV 2,54 m:"]
[null,null,"Výkopy pro UV:31,00*2,54*2",null,157.47999999999999,null,null,null,null,null,null,null,"Výkopy pro UV:31,00*2,54*2"]
[10,"162701105RSZ","Vodorovné přemístění výkopku z hor.1-7 na skládku zhotovitele","m3",496.47629999999998,null,{"$f":"E76*F76","v":0},0,{"$f":"E76*H76","v":0},0,{"$f":"E76*J76","v":0},null,null,null,2,null,null,null,null,null,null,null,null,null,null,null,1,1,1,null,null,null,null,null,null,null,null,null,null,null,null,null,null,null,null,null,null,null,null,null,null,1,{"$f":"IF(AZ76=1,G76,0)","v":0},{"$f":"IF(AZ76=2,G76,0)","v":0},{"$f":"IF(AZ76=3,G76,0)","v":0},{"$f":"IF(AZ76=4,G76,0)","v":0},{"$f":"IF(AZ76=5,G76,0)","v":0},null,null,null,null,null,null,null,null,null,null,null,null,null,null,null,null,null,null,null,null,null,1,1]
[null,null,"Stoka \"A1.1\" PVC DN315:",null,0,null,null,null,null,null,null,null,"Stoka \"A1.1\" PVC DN315:"]
[null,null,"Výkopy:",null,0,null,null,null,null,null,null,null,"Výkopy:"]
[null,null,"V hornině tř. 3 - 5 :496,4763",null,496.47629999999998,null,null,null,null,null,null,null,"V hornině tř. 3 - 5 :496,4763"]
[11,"174101101R00","Zásyp jam, rýh, šachet se zhutněním ","m3",296.60390000000001,null,{"$f":"E80*F80","v":0},0,{"$f":"E80*H80","v":0},0,{"$f":"E80*J80","v":0},null,null,null,2,null,null,null,null,null,null,null,null,null,null,null,1,1,1,null,null,null,null,null,null,null,null,null,null,null,null,null,null,null,null,null,null,null,null,null,null,1,{"$f":"IF(AZ80=1,G80,0)","v":0},{"$f":"IF(AZ80=2,G80,0)","v":0},{"$f":"IF(AZ80=3,G80,0)","v":0},{"$f":"IF(AZ80=4,G80,0)","v":0},{"$f":"IF(AZ80=5,G80,0)","v":0},null,null,null,null,null,null,null,null,null,null,null,null,null,null,null,null,null,null,null,null,null,1,1]
[null,null,"Položka obsahuje strojní přemístění materiálu pro zásyp ze vzdálenosti do 10 m od okraje zásypu.",null,null,null,null,null,null,null,null,"Položka obsahuje strojní přemístění materiálu pro zásyp ze vzdálenosti do 10 m od okraje zásypu.",null,null,3]
[null,null,null,null,null,null,null,null,null,null,null,null,null,null,3]
[null,null,"Stoka \"A1.1\" PVC DN315:",null,0,null,null,null,null,null,null,null,"Stoka \"A1.1\" PVC DN315:"]
[null,null,"Zásypy ŠD fr. 0-63 mm:296,6039",null,296.60390000000001,null,null,null,null,null,null,null,"Zásypy ŠD fr. 0-63 mm:296,6039"]
[null,null,"Výkopy:",null,0,null,null,null,null,null,null,null,"Výkopy:"]
[null,null,"Začátek provozního součtu",null,0,null,null,null,null,null,null,null,"Začátek provozního součtu"]
[null,null,"ŠA1-08 - ŠA1.1-03:55,67*1,10*(2,96+2,52)/2",null,167.7894,null,null,null,null,null,null,null,"ŠA1-08 - ŠA1.1-03:55,67*1,10*(2,96+2,52)/2"]
[null,null,"ŠA1.1-03 -ŠA1.1-04:(67,53-55,67)*1,10*(2,52+2,89)/2",null,35.289400000000001,null,null,null,null,null,null,null,"ŠA1.1-03 -ŠA1.1-04:(67,53-55,67)*1,10*(2,52+2,89)/2"]
[null,null,"ŠA1.1-04 - ŠA1.1-05:(93,65-67,53)*1,10*(2,89+2,48)/2",null,77.145399999999995,null,null,null,null,null,null,null,"ŠA1.1-04 - ŠA1.1-05:(93,65-67,53)*1,10*(2,89+2,48)/2"]
[null,null,"ŠA1.1-05 - ŠA1.1-07:(144,13-93,65)*1,10*(2,48+2,25)/2",null,131.3237,null,null,null,null,null,null,null,"ŠA1.1-05 - ŠA1.1-07:(144,13-93,65)*1,10*(2,48+2,25)/2"]
[null,null,"ŠA1.1-07 - ŠA1.1-08:(191,00-144,13)*1,10*(2,25+2,06)/2",null,111.1053,null,null,null,null,null,null,null,"ŠA1.1-07 - ŠA1.1-08:(191,00-144,13)*1,10*(2,25+2,06)/2"]
[null,null,"Prohlouení pro RŠ:1,60*1,60*0,20*8",null,4.0960000000000001,null,null,null,null,null,null,null,"Prohlouení pro RŠ:1,60*1,60*0,20*8"]
[null,null,"Rozšíření pro RŠ:1,60*(1,60-1,10)*16,45",null,13.16,null,null,null,null,null,null,null,"Rozšíření pro RŠ:1,60*(1,60-1,10)*16,45"]
[null,null,"Přípojky k UV PVC DN200 + Rezerva 10%:",null,0,null,null,null,null,null,null,null,"Přípojky k UV PVC DN200 + Rezerva 10%:"]
[null,null,"Průměrná hloubka výkopů k UV 2,54 m:",null,0,null,null,null,null,null,null,null,"Průměrná hloubka výkopů k UV 2,54 m:"]
[null,null,"Výkopy pro UV:31,00*0,80*2,54",null,62.991999999999997,null,null,null,null,null,null,null,"Výkopy pro UV:31,00*0,80*2,54"]
[null,null,"Odpočet objemu konstrukce komunikace:-(191,00*1,10+1,60*(1,60-1,10)*2)*0,45",null,-95.265000000000001,null,null,null,null,null,null,null,"Odpočet objemu konstrukce komunikace:-(191,00*1,10+1,60*(1,60-1,10)*2)*0,45"]
[null,null,"-31,00*0,80*0,45",null,-11.16,null,null,null,null,null,null,null,"-31,00*0,80*0,45"]
[null,null,"Odpočet objemu lože, potrubí a obsypů:-191,00*1,10*(0,15+0,315+0,30)",null,-160.72649999999999,null,null,null,null,null,null,null,"Odpočet objemu lože, potrubí a obsypů:-191,00*1,10*(0,15+0,315+0,30)"]
[null,null,"-31,00*0,80*(0,15+0,20+0,30)",null,-16.12,null,null,null,null,null,null,null,"-31,00*0,80*(0,15+0,20+0,30)"]
[null,null,"Odpočet objemu RŠ a UV:-23,0259",null,-23.0259,null,null,null,null,null,null,null,"Odpočet objemu RŠ a UV:-23,0259"]
[null,null,"Konec provozního součtu",null,296.60379999999992,null,null,null,null,null,null,null,"Konec provozního součtu"]
[12,"175101101R00","Obsyp potrubí bez prohození sypaniny ","m3",123.4547,null,{"$f":"E103*F103","v":0},0,{"$f":"E103*H103","v":0},0,{"$f":"E103*J103","v":0},null,null,null,2,null,null,null,null,null,null,null,null,null,null,null,1,1,1,null,null,null,null,null,null,null,null,null,null,null,null,null,null,null,null,null,null,null,null,null,null,1,{"$f":"IF(AZ103=1,G103,0)","v":0},{"$f":"IF(AZ103=2,G103,0)","v":0},{"$f":"IF(AZ103=3,G103,0)","v":0},{"$f":"IF(AZ103=4,G103,0)","v":0},{"$f":"IF(AZ103=5,G103,0)","v":0},null,null,null,null,null,null,null,null,null,null,null,null,null,null,null,null,null,null,null,null,null,1,1]
[null,null,"Stoka \"A1.1\" PVC DN315:190,10*(1,10*(0,30+0,30)-0,15^2*Pi)",null,112.0286,null,null,null,null,null,null,null,"Stoka \"A1.1\" PVC DN315:190,10*(1,10*(0,30+0,30)-0,15^2*Pi)"]
[null,null,"Přípojky k UV PVC DN200 + Rezerva 10%:31,00*(0,80*(0,20+0,30)-0,10^2*Pi)",null,11.4261,null,null,null,null,null,null,null,"Přípojky k UV PVC DN200 + Rezerva 10%:31,00*(0,80*(0,20+0,30)-0,10^2*Pi)"]
[13,"199000002R00","Poplatek za skládku horniny 1- 7 č. dle katal. odpadů 17 05 04","m3",496.47629999999998,null,{"$f":"E106*F106","v":0},0,{"$f":"E106*H106","v":0},0,{"$f":"E106*J106","v":0},null,null,null,2,null,null,null,null,null,null,null,null,null,null,null,1,1,1,null,null,null,null,null,null,null,null,null,null,null,null,null,null,null,null,null,null,null,null,null,null,1,{"$f":"IF(AZ106=1,G106,0)","v":0},{"$f":"IF(AZ106=2,G106,0)","v":0},{"$f":"IF(AZ106=3,G106,0)","v":0},{"$f":"IF(AZ106=4,G106,0)","v":0},{"$f":"IF(AZ106=5,G106,0)","v":0},null,null,null,null,null,null,null,null,null,null,null,null,null,null,null,null,null,null,null,null,null,1,1]
[null,null,"Stoka \"A1.1\" PVC DN315:",null,0,null,null,null,null,null,null,null,"Stoka \"A1.1\" PVC DN315:"]
[null,null,"Výkopy:",null,0,null,null,null,null,null,null,null,"Výkopy:"]
[null,null,"V hornině tř. 3 - 5 :496,4763",null,496.47629999999998,null,null,null,null,null,null,null,"V hornině tř. 3 - 5 :496,4763"]
[14,"58337308.R","Štěrkopísek frakce 0-2 tř.B","t",246.0119,null,{"$f":"E110*F110","v":0},1,{"$f":"E110*H110","v":246.0119},null,{"$f":"E110*J110","v":0},null,null,null,2,null,null,null,null,null,null,null,null,null,null,null,3,1,"58337308.R",null,null,null,null,null,null,null,null,null,null,null,null,null,null,null,null,null,null,null,null,null,null,1,{"$f":"IF(AZ110=1,G110,0)","v":0},{"$f":"IF(AZ110=2,G110,0)","v":0},{"$f":"IF(AZ110=3,G110,0)","v":0},{"$f":"IF(AZ110=4,G110,0)","v":0},{"$f":"IF(AZ110=5,G110,0)","v":0},null,null,null,null,null,null,null,null,null,null,null,null,null,null,null,null,null,null,null,null,null,3,1]
[null,null,"Stoka \"A1.1\" PVC DN315:190,10*(1,10*(0,30+0,30)-0,15^2*Pi)*1,973*1,01",null,223.24279999999999,null,null,null,null,null,null,null,"Stoka \"A1.1\" PVC DN315:190,10*(1,10*(0,30+0,30)-0,15^2*Pi)*1,973*1,01"]
[null,null,"Přípojky k UV PVC DN200 + Rezerva 10%:31,00*(0,80*(0,20+0,30)-0,10^2*Pi)*1,973*1,01",null,22.769100000000002,null,null,null,null,null,null,null,"Přípojky k UV PVC DN200 + Rezerva 10%:31,00*(0,80*(0,20+0,30)-0,10^2*Pi)*1,973*1,01"]
[15,"58344197R","Štěrkodrtě frakce 0-63 A","t",561.09450000000004,null,{"$f":"E113*F113","v":0},1,{"$f":"E113*H113","v":561.09450000000004},null,{"$f":"E113*J113","v":0},null,null,null,2,null,null,null,null,null,null,null,null,null,null,null,3,1,"58344197R",null,null,null,null,null,null,null,null,null,null,null,null,null,null,null,null,null,null,null,null,null,null,1,{"$f":"IF(AZ113=1,G113,0)","v":0},{"$f":"IF(AZ113=2,G113,0)","v":0},{"$f":"IF(AZ113=3,G113,0)","v":0},{"$f":"IF(AZ113=4,G113,0)","v":0},{"$f":"IF(AZ113=5,G113,0)","v":0},null,null,null,null,null,null,null,null,null,null,null,null,null,null,null,null,null,null,null,null,null,3,1]
[null,null,"Stoka \"A1.1\" PVC DN315:",null,0,null,null,null,null,null,null,null,"Stoka \"A1.1\" PVC DN315:"]
[null,null,"Zásypy ŠD fr. 0-63 mm:296,6039*1,873*1,01",null,561.09450000000004,null,null,null,null,null,null,null,"Zásypy ŠD fr. 0-63 mm:296,6039*1,873*1,01"]
[null,null,"Výkopy:",null,0,null,null,null,null,null,null,null,"Výkopy:"]
[null,null,"Začátek provozního součtu",null,0,null,null,null,null,null,null,null,"Začátek provozního součtu"]
[null,null,"ŠA1-08 - ŠA1.1-03:55,67*1,10*(2,96+2,52)/2",null,167.7894,null,null,null,null,null,null,null,"ŠA1-08 - ŠA1.1-03:55,67*1,10*(2,96+2,52)/2"]
[null,null,"ŠA1.1-03 -ŠA1.1-04:(67,53-55,67)*1,10*(2,52+2,89)/2",null,35.289400000000001,null,null,null,null,null,null,null,"ŠA1.1-03 -ŠA1.1-04:(67,53-55,67)*1,10*(2,52+2,89)/2"]
[null,null,"ŠA1.1-04 - ŠA1.1-05:(93,65-67,53)*1,10*(2,89+2,48)/2",null,77.145399999999995,null,null,null,null,null,null,null,"ŠA1.1-04 - ŠA1.1-05:(93,65-67,53)*1,10*(2,89+2,48)/2"]
[null,null,"ŠA1.1-05 - ŠA1.1-07:(144,13-93,65)*1,10*(2,48+2,25)/2",null,131.3237,null,null,null,null,null,null,null,"ŠA1.1-05 - ŠA1.1-07:(144,13-93,65)*1,10*(2,48+2,25)/2"]
[null,null,"ŠA1.1-07 - ŠA1.1-08:(191,00-144,13)*1,10*(2,25+2,06)/2",null,111.1053,null,null,null,null,null,null,null,"ŠA1.1-07 - ŠA1.1-08:(191,00-144,13)*1,10*(2,25+2,06)/2"]
[null,null,"Prohlouení pro RŠ:1,60*1,60*0,20*8",null,4.0960000000000001,null,null,null,null,null,null,null,"Prohlouení pro RŠ:1,60*1,60*0,20*8"]
[null,null,"Rozšíření pro RŠ:1,60*(1,60-1,10)*16,45",null,13.16,null,null,null,null,null,null,null,"Rozšíření pro RŠ:1,60*(1,60-1,10)*16,45"]
[null,null,"Přípojky k UV PVC DN200 + Rezerva 10%:",null,0,null,null,null,null,null,null,null,"Přípojky k UV PVC DN200 + Rezerva 10%:"]
[null,null,"Průměrná hloubka výkopů k UV 2,54 m:",null,0,null,null,null,null,null,null,null,"Průměrná hloubka výkopů k UV 2,54 m:"]
[null,null,"Výkopy pro UV:31,00*0,80*2,54",null,62.991999999999997,null,null,null,null,null,null,null,"Výkopy pro UV:31,00*0,80*2,54"]
[null,null,"Odpočet objemu konstrukce komunikace:-(191,00*1,10+1,60*(1,60-1,10)*2)*0,45",null,-95.265000000000001,null,null,null,null,null,null,null,"Odpočet objemu konstrukce komunikace:-(191,00*1,10+1,60*(1,60-1,10)*2)*0,45"]
[null,null,"-31,00*0,80*0,45",null,-11.16,null,null,null,null,null,null,null,"-31,00*0,80*0,45"]
[null,null,"Odpočet objemu lože, potrubí a obsypů:-191,00*1,10*(0,15+0,315+0,30)",null,-160.72649999999999,null,null,null,null,null,null,null,"Odpočet objemu lože, potrubí a obsypů:-191,00*1,10*(0,15+0,315+0,30)"]
[null,null,"-31,00*0,80*(0,15+0,20+0,30)",null,-16.12,null,null,null,null,null,null,null,"-31,00*0,80*(0,15+0,20+0,30)"]
[null,null,"Odpočet objemu RŠ a UV:-23,0259",null,-23.0259,null,null,null,null,null,null,null,"Odpočet objemu RŠ a UV:-23,0259"]
[null,null,"Konec provozního součtu",null,296.60379999999992,null,null,null,null,null,null,null,"Konec provozního součtu"]
[null,"Celkem za","1 Zemní práce",null,null,null,{"$f":"SUM(G7:G133)","v":0},null,{"$f":"SUM(I7:I133)","v":808.57590399800006},null,{"$f":"SUM(K7:K133)","v":0},null,null,null,4,null,null,null,null,null,null,null,null,null,null,null,null,null,null,null,null,null,null,null,null,null,null,null,null,null,null,null,null,null,null,null,null,null,null,null,null,null,{"$f":"SUM(BA7:BA133)","v":0},{"$f":"SUM(BB7:BB133)","v":0},{"$f":"SUM(BC7:BC133)","v":0},{"$f":"SUM(BD7:BD133)","v":0},{"$f":"SUM(BE7:BE133)","v":0}]
["Díl:","21","Úprava podloží a základ.spáry",null,null,null,null,null,null,null,null,null,null,null,1]
[16,"212810010RAC","Trativody z PVC drenážních flexibilních trubek lože štěrkopísek a obsyp kamenivo, trubky d 100 mm","m",95.05,null,{"$f":"E136*F136","v":0},0.43651000000000001,{"$f":"E136*H136","v":41.490275500000003},0,{"$f":"E136*J136","v":0},null,null,null,2,null,null,null,null,null,null,null,null,null,null,null,1,1,1,null,null,null,null,null,null,null,null,null,null,null,null,null,null,null,null,null,null,null,null,null,null,1,{"$f":"IF(AZ136=1,G136,0)","v":0},{"$f":"IF(AZ136=2,G136,0)","v":0},{"$f":"IF(AZ136=3,G136,0)","v":0},{"$f":"IF(AZ136=4,G136,0)","v":0},{"$f":"IF(AZ136=5,G136,0)","v":0},null,null,null,null,null,null,null,null,null,null,null,null,null,null,null,null,null,null,null,null,null,1,1]
[null,null,"Stoka \"A1.1\" PVC DN315:",null,0,null,null,null,null,null,null,null,"Stoka \"A1.1\" PVC DN315:"]
[null,null,"Drenáž DN100:190,10*0,5",null,95.05,null,null,null,null,null,null,null,"Drenáž DN100:190,10*0,5"]
[null,"Celkem za","21 Úprava podloží a základ.spáry",null,null,null,{"$f":"SUM(G135:G138)","v":0},null,{"$f":"SUM(I135:I138)","v":41.490275500000003},null,{"$f":"SUM(K135:K138)","v":0},null,null,null,4,null,null,null,null,null,null,null,null,null,null,null,null,null,null,null,null,null,null,null,null,null,null,null,null,null,null,null,null,null,null,null,null,null,null,null,null,null,{"$f":"SUM(BA135:BA138)","v":0},{"$f":"SUM(BB135:BB138)","v":0},{"$f":"SUM(BC135:BC138)","v":0},{"$f":"SUM(BD135:BD138)","v":0},{"$f":"SUM(BE135:BE138)","v":0}]
["Díl:","45","Podkladní a vedlejší konstrukce",null,null,null,null,null,null,null,null,null,null,null,1]
[17,"451572111R00","Lože pod potrubí z kameniva těženého 0 - 4 mm ","m3",35.086500000000001,null,{"$f":"E141*F141","v":0},0.43051,{"$f":"E141*H141","v":15.105089115},0,{"$f":"E141*J141","v":0},null,null,null,2,null,null,null,null,null,null,null,null,null,null,null,1,1,1,null,null,null,null,null,null,null,null,null,null,null,null,null,null,null,null,null,null,null,null,null,null,1,{"$f":"IF(AZ141=1,G141,0)","v":0},{"$f":"IF(AZ141=2,G141,0)","v":0},{"$f":"IF(AZ141=3,G141,0)","v":0},{"$f":"IF(AZ141=4,G141,0)","v":0},{"$f":"IF(AZ141=5,G141,0)","v":0},null,null,null,null,null,null,null,null,null,null,null,null,null,null,null,null,null,null,null,null,null,1,1]
[null,null,"Stoka \"A1.1\" PVC DN315:",null,0,null,null,null,null,null,null,null,"Stoka \"A1.1\" PVC DN315:"]
[null,null,"PVC DN315:190,10*1,10*0,15",null,31.366499999999998,null,null,null,null,null,null,null,"PVC DN315:190,10*1,10*0,15"]
[null,null,"Přípojky k UV PVC DN200 + Rezerva 10%:31,00*0,80*0,15",null,3.72,null,null,null,null,null,null,null,"Přípojky k UV PVC DN200 + Rezerva 10%:31,00*0,80*0,15"]
[18,"452112111R00","Osazení beton. prstenců pod poklopy,výšky do100 mm ","kus",5,null,{"$f":"E145*F145","v":0},6.6E-3,{"$f":"E145*H145","v":3.3000000000000002E-2},0,{"$f":"E145*J145","v":0},null,null,null,2,null,null,null,null,null,null,null,null,null,null,null,1,1,1,null,null,null,null,null,null,null,null,null,null,null,null,null,null,null,null,null,null,null,null,null,null,1,{"$f":"IF(AZ145=1,G145,0)","v":0},{"$f":"IF(AZ145=2,G145,0)","v":0},{"$f":"IF(AZ145=3,G145,0)","v":0},{"$f":"IF(AZ145=4,G145,0)","v":0},{"$f":"IF(AZ145=5,G145,0)","v":0},null,null,null,null,null,null,null,null,null,null,null,null,null,null,null,null,null,null,null,null,null,1,1]
[null,null,"Volba položky se řídí výškou prstence nebo rámu. V položkách nejsou zakalkulovány náklady na dodávku betonových výrobků;",null,null,null,null,null,null,null,null,"Volba položky se řídí výškou prstence nebo rámu. V položkách nejsou zakalkulovány náklady na dodávku betonových výrobků;",null,null,3]
[null,null,"Stoka \"A1.1\" PVC DN315:",null,0,null,null,null,null,null,null,null,"Stoka \"A1.1\" PVC DN315:"]
[null,null,"VP H60:1",null,1,null,null,null,null,null,null,null,"VP H60:1"]
[null,null,"VP H100:4",null,4,null,null,null,null,null,null,null,"VP H100:4"]
[19,"452112121R00","Osazení beton. prstenců pod poklopy,výšky do200 mm ","kus",1,null,{"$f":"E150*F150","v":0},6.6E-3,{"$f":"E150*H150","v":6.6E-3},0,{"$f":"E150*J150","v":0},null,null,null,2,null,null,null,null,null,null,null,null,null,null,null,1,1,1,null,null,null,null,null,null,null,null,null,null,null,null,null,null,null,null,null,null,null,null,null,null,1,{"$f":"IF(AZ150=1,G150,0)","v":0},{"$f":"IF(AZ150=2,G150,0)","v":0},{"$f":"IF(AZ150=3,G150,0)","v":0},{"$f":"IF(AZ150=4,G150,0)","v":0},{"$f":"IF(AZ150=5,G150,0)","v":0},null,null,null,null,null,null,null,null,null,null,null,null,null,null,null,null,null,null,null,null,null,1,1]
[null,null,"Stoka \"A1.1\" PVC DN315:",null,0,null,null,null,null,null,null,null,"Stoka \"A1.1\" PVC DN315:"]
[null,null,"VP H120:1",null,1,null,null,null,null,null,null,null,"VP H120:1"]
[20,"59224347.A.R","Prstenec vyrovn šachetní TBW-Q.1 63/6","kus",1.01,null,{"$f":"E153*F153","v":0},0.04,{"$f":"E153*H153","v":4.0399999999999998E-2},null,{"$f":"E153*J153","v":0},null,null,null,2,null,null,null,null,null,null,null,null,null,null,null,3,1,"59224347.A.R",null,null,null,null,null,null,null,null,null,null,null,null,null,null,null,null,null,null,null,null,null,null,1,{"$f":"IF(AZ153=1,G153,0)","v":0},{"$f":"IF(AZ153=2,G153,0)","v":0},{"$f":"IF(AZ153=3,G153,0)","v":0},{"$f":"IF(AZ153=4,G153,0)","v":0},{"$f":"IF(AZ153=5,G153,0)","v":0},null,null,null,null,null,null,null,null,null,null,null,null,null,null,null,null,null,null,null,null,null,3,1]
[null,null,"Stoka \"A1.1\" PVC DN315:",null,0,null,null,null,null,null,null,null,"Stoka \"A1.1\" PVC DN315:"]
[null,null,"VP H60:1*1,01",null,1.01,null,null,null,null,null,null,null,"VP H60:1*1,01"]
[21,"59224349.A.R","Prstenec vyrovn šachetní TBW-Q.1 63/10","kus",4.04,null,{"$f":"E156*F156","v":0},6.8000000000000005E-2,{"$f":"E156*H156","v":0.27472000000000002},null,{"$f":"E156*J156","v":0},null,null,null,2,null,null,null,null,null,null,null,null,null,null,null,3,1,"59224349.A.R",null,null,null,null,null,null,null,null,null,null,null,null,null,null,null,null,null,null,null,null,null,null,1,{"$f":"IF(AZ156=1,G156,0)","v":0},{"$f":"IF(AZ156=2,G156,0)","v":0},{"$f":"IF(AZ156=3,G156,0)","v":0},{"$f":"IF(AZ156=4,G156,0)","v":0},{"$f":"IF(AZ156=5,G156,0)","v":0},null,null,null,null,null,null,null,null,null,null,null,null,null,null,null,null,null,null,null,null,null,3,1]
[null,null,"Stoka \"A1.1\" PVC DN315:",null,0,null,null,null,null,null,null,null,"Stoka \"A1.1\" PVC DN315:"]
[null,null,"VP H100:4*1,01",null,4.04,null,null,null,null,null,null,null,"VP H100:4*1,01"]
[22,"59224350.A.R","Prstenec vyrovn šachetní TBW-Q.1 63/12","kus",1.01,null,{"$f":"E159*F159","v":0},8.1000000000000003E-2,{"$f":"E159*H159","v":8.1810000000000008E-2},null,{"$f":"E159*J159","v":0},null,null,null,2,null,null,null,null,null,null,null,null,null,null,null,3,1,"59224350.A.R",null,null,null,null,null,null,null,null,null,null,null,null,null,null,null,null,null,null,null,null,null,null,1,{"$f":"IF(AZ159=1,G159,0)","v":0},{"$f":"IF(AZ159=2,G159,0)","v":0},{"$f":"IF(AZ159=3,G159,0)","v":0},{"$f":"IF(AZ159=4,G159,0)","v":0},{"$f":"IF(AZ159=5,G159,0)","v":0},null,null,null,null,null,null,null,null,null,null,null,null,null,null,null,null,null,null,null,null,null,3,1]
[null,null,"Stoka \"A1.1\" PVC DN315:",null,0,null,null,null,null,null,null,null,"Stoka \"A1.1\" PVC DN315:"]
[null,null,"VP H120:1*1,01",null,1.01,null,null,null,null,null,null,null,"VP H120:1*1,01"]
[null,"Celkem za","45 Podkladní a vedlejší konstrukce",null,null,null,{"$f":"SUM(G140:G161)","v":0},null,{"$f":"SUM(I140:I161)","v":15.541619115000001},null,{"$f":"SUM(K140:K161)","v":0},null,null,null,4,null,null,null,null,null,null,null,null,null,null,null,null,null,null,null,null,null,null,null,null,null,null,null,null,null,null,null,null,null,null,null,null,null,null,null,null,null,{"$f":"SUM(BA140:BA161)","v":0},{"$f":"SUM(BB140:BB161)","v":0},{"$f":"SUM(BC140:BC161)","v":0},{"$f":"SUM(BD140:BD161)","v":0},{"$f":"SUM(BE140:BE161)","v":0}]
["Díl:","5","Komunikace",null,null,null,null,null,null,null,null,null,null,null,1]
[23,"572701119RRX","Provizorní zásyp rýh kam. hrubě drceným nebo recyk s následným odstraněním a odvozem","m3",106.425,null,{"$f":"E164*F164","v":0},1.4804999999999999,{"$f":"E164*H164","v":157.56221249999999},0,{"$f":"E164*J164","v":0},null,null,null,2,null,null,null,null,null,null,null,null,null,null,null,1,1,1,null,null,null,null,null,null,null,null,null,null,null,null,null,null,null,null,null,null,null,null,null,null,1,{"$f":"IF(AZ164=1,G164,0)","v":0},{"$f":"IF(AZ164=2,G164,0)","v":0},{"$f":"IF(AZ164=3,G164,0)","v":0},{"$f":"IF(AZ164=4,G164,0)","v":0},{"$f":"IF(AZ164=5,G164,0)","v":0},null,null,null,null,null,null,null,null,null,null,null,null,null,null,null,null,null,null,null,null,null,1,1]
[null,null,"Stoka \"A1.1\" PVC DN315:",null,0,null,null,null,null,null,null,null,"Stoka \"A1.1\" PVC DN315:"]
[null,null,"Objem konstrukce komunikace:(191,00*1,10+1,60*(1,60-1,10)*2)*0,45",null,95.265000000000001,null,null,null,null,null,null,null,"Objem konstrukce komunikace:(191,00*1,10+1,60*(1,60-1,10)*2)*0,45"]
[null,null,"31,00*0,80*0,45",null,11.16,null,null,null,null,null,null,null,"31,00*0,80*0,45"]
[24,"597092311RRX","Žlab odvodňovací DŽ1 - dl. 3,0 m včetně lit. mříží šířka 235 mm","kus",1,null,{"$f":"E168*F168","v":0},0.33535999999999999,{"$f":"E168*H168","v":0.33535999999999999},0,{"$f":"E168*J168","v":0},null,null,null,2,null,null,null,null,null,null,null,null,null,null,null,1,1,1,null,null,null,null,null,null,null,null,null,null,null,null,null,null,null,null,null,null,null,null,null,null,1,{"$f":"IF(AZ168=1,G168,0)","v":0},{"$f":"IF(AZ168=2,G168,0)","v":0},{"$f":"IF(AZ168=3,G168,0)","v":0},{"$f":"IF(AZ168=4,G168,0)","v":0},{"$f":"IF(AZ168=5,G168,0)","v":0},null,null,null,null,null,null,null,null,null,null,null,null,null,null,null,null,null,null,null,null,null,1,1]
[null,null,"Součástí položky je dodávka a montáž včetně obetonování",null,null,null,null,null,null,null,null,"Součástí položky je dodávka a montáž včetně obetonování",null,null,3]
[null,null,"- žlabu včetně čel",null,null,null,null,null,null,null,null,"- žlabu včetně čel",null,null,3]
[null,null,"- litinových mříží",null,null,null,null,null,null,null,null,"- litinových mříží",null,null,3]
[null,null,"- napojení na PVC DN200",null,null,null,null,null,null,null,null,"- napojení na PVC DN200",null,null,3]
[null,null,"Provedení dle projektové dokumentace.",null,null,null,null,null,null,null,null,"Provedení dle projektové dokumentace.",null,null,3]
[null,null,"Stoka \"A1.1\" PVC DN315:",null,0,null,null,null,null,null,null,null,"Stoka \"A1.1\" PVC DN315:"]
[null,null,"Odvodňovací žlab DŽ1 - Délka 3,0 m:1",null,1,null,null,null,null,null,null,null,"Odvodňovací žlab DŽ1 - Délka 3,0 m:1"]
[null,"Celkem za","5 Komunikace",null,null,null,{"$f":"SUM(G163:G175)","v":0},null,{"$f":"SUM(I163:I175)","v":157.8975725},null,{"$f":"SUM(K163:K175)","v":0},null,null,null,4,null,null,null,null,null,null,null,null,null,null,null,null,null,null,null,null,null,null,null,null,null,null,null,null,null,null,null,null,null,null,null,null,null,null,null,null,null,{"$f":"SUM(BA163:BA175)","v":0},{"$f":"SUM(BB163:BB175)","v":0},{"$f":"SUM(BC163:BC175)","v":0},{"$f":"SUM(BD163:BD175)","v":0},{"$f":"SUM(BE163:BE175)","v":0}]
["Díl:","8","Trubní vedení",null,null,null,null,null,null,null,null,null,null,null,1]
[25,"871353121R00","Montáž trub z plastu, gumový kroužek, DN 200 ","m",31,null,{"$f":"E178*F178","v":0},1.0000000000000001E-5,{"$f":"E178*H178","v":3.1E-4},0,{"$f":"E178*J178","v":0},null,null,null,2,null,null,null,null,null,null,null,null,null,null,null,1,1,1,null,null,null,null,null,null,null,null,null,null,null,null,null,null,null,null,null,null,null,null,null,null,1,{"$f":"IF(AZ178=1,G178,0)","v":0},{"$f":"IF(AZ178=2,G178,0)","v":0},{"$f":"IF(AZ178=3,G178,0)","v":0},{"$f":"IF(AZ178=4,G178,0)","v":0},{"$f":"IF(AZ178=5,G178,0)","v":0},null,null,null,null,null,null,null,null,null,null,null,null,null,null,null,null,null,null,null,null,null,1,1]
[null,null,"V položce je uvažováno s jedním spojem na 6 m potrubí. Položka je určena pro montáž potrubí z kanalizačních trub z plastu těsněných gumovým kroužkem v otevřeném výkopu ve sklonu do 20 %.",null,null,null,null,null,null,null,null,"V položce je uvažováno s jedním spojem na 6 m potrubí. Položka je určena pro montáž potrubí z kanalizačních trub z plastu těsněných gumovým kroužkem v otevřeném výkopu ve sklonu do 20 %.",null,null,3]
[null,null,"Stoka \"A1.1\" PVC DN315:",null,0,null,null,null,null,null,null,null,"Stoka \"A1.1\" PVC DN315:"]
[null,null,"Přípojky k UV PVC DN200 + Rezerva 10%:31,00",null,31,null,null,null,null,null,null,null,"Přípojky k UV PVC DN200 + Rezerva 10%:31,00"]
[26,"871373121R00","Montáž trub z plastu, gumový kroužek, DN 300 ","m",190.1,null,{"$f":"E182*F182","v":0},1.0000000000000001E-5,{"$f":"E182*H182","v":1.9010000000000001E-3},0,{"$f":"E182*J182","v":0},null,null,null,2,null,null,null,null,null,null,null,null,null,null,null,1,1,1,null,null,null,null,null,null,null,null,null,null,null,null,null,null,null,null,null,null,null,null,null,null,1,{"$f":"IF(AZ182=1,G182,0)","v":0},{"$f":"IF(AZ182=2,G182,0)","v":0},{"$f":"IF(AZ182=3,G182,0)","v":0},{"$f":"IF(AZ182=4,G182,0)","v":0},{"$f":"IF(AZ182=5,G182,0)","v":0},null,null,null,null,null,null,null,null,null,null,null,null,null,null,null,null,null,null,null,null,null,1,1]
[null,null,"Stoka \"A1.1\" PVC DN315:",null,0,null,null,null,null,null,null,null,"Stoka \"A1.1\" PVC DN315:"]
[null,null,"PVC DN315:190,10",null,190.1,null,null,null,null,null,null,null,"PVC DN315:190,10"]
[27,"877353123R00","Montáž tvarovek jednoos. plast. gum.kroužek DN 200 ","kus",22,null,{"$f":"E185*F185","v":0},2.0000000000000002E-5,{"$f":"E185*H185","v":4.4000000000000002E-4},0,{"$f":"E185*J185","v":0},null,null,null,2,null,null,null,null,null,null,null,null,null,null,null,1,1,1,null,null,null,null,null,null,null,null,null,null,null,null,null,null,null,null,null,null,null,null,null,null,1,{"$f":"IF(AZ185=1,G185,0)","v":0},{"$f":"IF(AZ185=2,G185,0)","v":0},{"$f":"IF(AZ185=3,G185,0)","v":0},{"$f":"IF(AZ185=4,G185,0)","v":0},{"$f":"IF(AZ185=5,G185,0)","v":0},null,null,null,null,null,null,null,null,null,null,null,null,null,null,null,null,null,null,null,null,null,1,1]
[null,null,"Položka je určena pro montáž tvarovek jednoosých na potrubí z kanalizačních trub z plastu těsněných gumovým kroužkem v otevřeném výkopu.",null,null,null,null,null,null,null,null,"Položka je určena pro montáž tvarovek jednoosých na potrubí z kanalizačních trub z plastu těsněných gumovým kroužkem v otevřeném výkopu.",null,null,3]
[null,null,"Stoka \"A1.1\" PVC DN315:",null,0,null,null,null,null,null,null,null,"Stoka \"A1.1\" PVC DN315:"]
[null,null,"Přípojky k UV PVC DN200 + Rezerva 10%:",null,0,null,null,null,null,null,null,null,"Přípojky k UV PVC DN200 + Rezerva 10%:"]
[null,null,"Koleno PVC DN200:22",null,22,null,null,null,null,null,null,null,"Koleno PVC DN200:22"]
[28,"877373121R00","Montáž tvarovek odboč. plast. gum. kroužek DN 300 ","kus",7,null,{"$f":"E190*F190","v":0},5.0000000000000002E-5,{"$f":"E190*H190","v":3.5E-4},0,{"$f":"E190*J190","v":0},null,null,null,2,null,null,null,null,null,null,null,null,null,null,null,1,1,1,null,null,null,null,null,null,null,null,null,null,null,null,null,null,null,null,null,null,null,null,null,null,1,{"$f":"IF(AZ190=1,G190,0)","v":0},{"$f":"IF(AZ190=2,G190,0)","v":0},{"$f":"IF(AZ190=3,G190,0)","v":0},{"$f":"IF(AZ190=4,G190,0)","v":0},{"$f":"IF(AZ190=5,G190,0)","v":0},null,null,null,null,null,null,null,null,null,null,null,null,null,null,null,null,null,null,null,null,null,1,1]
[null,null,"Položka je určena pro montáž tvarovek odbočných na potrubí z kanalizačních trub z plastu těsněných gumovým kroužkem v otevřeném výkopu.",null,null,null,null,null,null,null,null,"Položka je určena pro montáž tvarovek odbočných na potrubí z kanalizačních trub z plastu těsněných gumovým kroužkem v otevřeném výkopu.",null,null,3]
[null,null,"Stoka \"A1.1\" PVC DN315:",null,0,null,null,null,null,null,null,null,"Stoka \"A1.1\" PVC DN315:"]
[null,null,"Odbočka PVC DN315/200:7",null,7,null,null,null,null,null,null,null,"Odbočka PVC DN315/200:7"]
[29,"892601121R00","Čištění kanalizační stoky do DN 200, do 15 m ","úsek",9,null,{"$f":"E194*F194","v":0},0,{"$f":"E194*H194","v":0},0,{"$f":"E194*J194","v":0},null,null,null,2,null,null,null,null,null,null,null,null,null,null,null,1,1,1,null,null,null,null,null,null,null,null,null,null,null,null,null,null,null,null,null,null,null,null,null,null,1,{"$f":"IF(AZ194=1,G194,0)","v":0},{"$f":"IF(AZ194=2,G194,0)","v":0},{"$f":"IF(AZ194=3,G194,0)","v":0},{"$f":"IF(AZ194=4,G194,0)","v":0},{"$f":"IF(AZ194=5,G194,0)","v":0},null,null,null,null,null,null,null,null,null,null,null,null,null,null,null,null,null,null,null,null,null,1,1]
[null,null,"V položce je zakalkulováno:",null,null,null,null,null,null,null,null,"V položce je zakalkulováno:",null,null,3]
[null,null,"a) otevření a uzavření revizních šachet a čisticích kusů",null,null,null,null,null,null,null,null,"a) otevření a uzavření revizních šachet a čisticích kusů",null,null,3]
[null,null,"b) natažení vysokotlakých hadic k místu odkud se bude kanalizace čistit",null,null,null,null,null,null,null,null,"b) natažení vysokotlakých hadic k místu odkud se bude kanalizace čistit",null,null,3]
[null,null,"c) vyčištění potrubí tlakovou vodou nebo motorovým pérem.",null,null,null,null,null,null,null,null,"c) vyčištění potrubí tlakovou vodou nebo motorovým pérem.",null,null,3]
[null,null,"Stoka \"A1.1\" PVC DN315:",null,0,null,null,null,null,null,null,null,"Stoka \"A1.1\" PVC DN315:"]
[null,null,"Přípojky k UV PVC DN200 :",null,0,null,null,null,null,null,null,null,"Přípojky k UV PVC DN200 :"]
[null,null,"UV 9 až UV 17:8",null,8,null,null,null,null,null,null,null,"UV 9 až UV 17:8"]
[null,null,"DŽ1:1",null,1,null,null,null,null,null,null,null,"DŽ1:1"]
[30,"892601154R00","Čištění kanalizační stoky do DN 500, nad 100 m ","m",190.1,null,{"$f":"E203*F203","v":0},0,{"$f":"E203*H203","v":0},0,{"$f":"E203*J203","v":0},null,null,null,2,null,null,null,null,null,null,null,null,null,null,null,1,0,0,null,null,null,null,null,null,null,null,null,null,null,null,null,null,null,null,null,null,null,null,null,null,1,{"$f":"IF(AZ203=1,G203,0)","v":0},{"$f":"IF(AZ203=2,G203,0)","v":0},{"$f":"IF(AZ203=3,G203,0)","v":0},{"$f":"IF(AZ203=4,G203,0)","v":0},{"$f":"IF(AZ203=5,G203,0)","v":0},null,null,null,null,null,null,null,null,null,null,null,null,null,null,null,null,null,null,null,null,null,1,0]
[null,null,"V položce je zakalkulováno:",null,null,null,null,null,null,null,null,"V položce je zakalkulováno:",null,null,3]
[null,null,"a) otevření a uzavření revizních šachet a čisticích kusů",null,null,null,null,null,null,null,null,"a) otevření a uzavření revizních šachet a čisticích kusů",null,null,3]
[null,null,"b) natažení vysokotlakých hadic k místu odkud se bude kanalizace čistit",null,null,null,null,null,null,null,null,"b) natažení vysokotlakých hadic k místu odkud se bude kanalizace čistit",null,null,3]
[null,null,"c) vyčištění potrubí tlakovou vodou nebo motorovým pérem.",null,null,null,null,null,null,null,null,"c) vyčištění potrubí tlakovou vodou nebo motorovým pérem.",null,null,3]
[null,null,"Stoka \"A1.1\" PVC DN315:190,10",null,190.1,null,null,null,null,null,null,null,"Stoka \"A1.1\" PVC DN315:190,10"]
[31,"892855111R00","Kontrola kanalizace TV kamerou do 15 m ","úsek",9,null,{"$f":"E209*F209","v":0},0,{"$f":"E209*H209","v":0},0,{"$f":"E209*J209","v":0},null,null,null,2,null,null,null,null,null,null,null,null,null,null,null,1,1,1,null,null,null,null,null,null,null,null,null,null,null,null,null,null,null,null,null,null,null,null,null,null,1,{"$f":"IF(AZ209=1,G209,0)","v":0},{"$f":"IF(AZ209=2,G209,0)","v":0},{"$f":"IF(AZ209=3,G209,0)","v":0},{"$f":"IF(AZ209=4,G209,0)","v":0},{"$f":"IF(AZ209=5,G209,0)","v":0},null,null,null,null,null,null,null,null,null,null,null,null,null,null,null,null,null,null,null,null,null,1,1]
[null,null,"Stoka \"A1.1\" PVC DN315:",null,0,null,null,null,null,null,null,null,"Stoka \"A1.1\" PVC DN315:"]
[null,null,"Přípojky k UV PVC DN200 :",null,0,null,null,null,null,null,null,null,"Přípojky k UV PVC DN200 :"]
[null,null,"UV 9 až UV 17:8",null,8,null,null,null,null,null,null,null,"UV 9 až UV 17:8"]
[null,null,"DŽ1:1",null,1,null,null,null,null,null,null,null,"DŽ1:1"]
[32,"892855115R00","Kontrola kanalizace TV kamerou do 500 m ","m",380.2,null,{"$f":"E214*F214","v":0},0,{"$f":"E214*H214","v":0},0,{"$f":"E214*J214","v":0},null,null,null,2,null,null,null,null,null,null,null,null,null,null,null,1,1,1,null,null,null,null,null,null,null,null,null,null,null,null,null,null,null,null,null,null,null,null,null,null,1,{"$f":"IF(AZ214=1,G214,0)","v":0},{"$f":"IF(AZ214=2,G214,0)","v":0},{"$f":"IF(AZ214=3,G214,0)","v":0},{"$f":"IF(AZ214=4,G214,0)","v":0},{"$f":"IF(AZ214=5,G214,0)","v":0},null,null,null,null,null,null,null,null,null,null,null,null,null,null,null,null,null,null,null,null,null,1,1]
[null,null,"Provedení kaberové prohlídky včetně dodání elektronického záznamu na CD zadavateli a tištěné dokumentace průběhu kamerové prohlídky",null,null,null,null,null,null,null,null,"Provedení kaberové prohlídky včetně dodání elektronického záznamu na CD zadavateli a tištěné dokumentace průběhu kamerové prohlídky",null,null,3]
[null,null,"Stoka \"A1.1\" PVC DN315:190,10*2",null,380.2,null,null,null,null,null,null,null,"Stoka \"A1.1\" PVC DN315:190,10*2"]
[33,"894421111RT1","Osazení betonových dílců šachet skruže rovné, na kroužek, do 0,5 t","kus",7,null,{"$f":"E217*F217","v":0},0,{"$f":"E217*H217","v":0},0,{"$f":"E217*J217","v":0},null,null,null,2,null,null,null,null,null,null,null,null,null,null,null,1,1,1,null,null,null,null,null,null,null,null,null,null,null,null,null,null,null,null,null,null,null,null,null,null,1,{"$f":"IF(AZ217=1,G217,0)","v":0},{"$f":"IF(AZ217=2,G217,0)","v":0},{"$f":"IF(AZ217=3,G217,0)","v":0},{"$f":"IF(AZ217=4,G217,0)","v":0},{"$f":"IF(AZ217=5,G217,0)","v":0},null,null,null,null,null,null,null,null,null,null,null,null,null,null,null,null,null,null,null,null,null,1,1]
[null,null,"Položka je určena pro osazení betonových dílců šachet dle DIN 4034, skruže rovné na kroužek, hmotnost do 0,5 t.",null,null,null,null,null,null,null,null,"Položka je určena pro osazení betonových dílců šachet dle DIN 4034, skruže rovné na kroužek, hmotnost do 0,5 t.",null,null,3]
[null,null,"V položce nejsou zakalkulovány náklady na dodání betonových dílců; dílce se oceňují ve specifikaci.",null,null,null,null,null,null,null,null,"V položce nejsou zakalkulovány náklady na dodání betonových dílců; dílce se oceňují ve specifikaci.",null,null,3]
[null,null,"Stoka \"A1.1\" PVC DN315:",null,0,null,null,null,null,null,null,null,"Stoka \"A1.1\" PVC DN315:"]
[null,null,"Skruž H250:5",null,5,null,null,null,null,null,null,null,"Skruž H250:5"]
[null,null,"Skruž H500:2",null,2,null,null,null,null,null,null,null,"Skruž H500:2"]
[34,"894421112RT1","Osazení betonových dílců šachet skruže rovné, na kroužek, do 1,4 t","kus",6,null,{"$f":"E223*F223","v":0},0,{"$f":"E223*H223","v":0},0,{"$f":"E223*J223","v":0},null,null,null,2,null,null,null,null,null,null,null,null,null,null,null,1,1,1,null,null,null,null,null,null,null,null,null,null,null,null,null,null,null,null,null,null,null,null,null,null,1,{"$f":"IF(AZ223=1,G223,0)","v":0},{"$f":"IF(AZ223=2,G223,0)","v":0},{"$f":"IF(AZ223=3,G223,0)","v":0},{"$f":"IF(AZ223=4,G223,0)","v":0},{"$f":"IF(AZ223=5,G223,0)","v":0},null,null,null,null,null,null,null,null,null,null,null,null,null,null,null,null,null,null,null,null,null,1,1]
[null,null,"Položka je určena pro osazení betonových dílců šachet dle DIN 4034, skruže rovné na kroužek, hmotnost přes 0,5 do 1,4 t.",null,null,null,null,null,null,null,null,"Položka je určena pro osazení betonových dílců šachet dle DIN 4034, skruže rovné na kroužek, hmotnost přes 0,5 do 1,4 t.",null,null,3]
[null,null,"V položce nejsou zakalkulovány náklady na dodání betonových dílců; dílce se oceňují ve specifikaci.",null,null,null,null,null,null,null,null,"V položce nejsou zakalkulovány náklady na dodání betonových dílců; dílce se oceňují ve specifikaci.",null,null,3]
[null,null,"Stoka \"A1.1\" PVC DN315:",null,0,null,null,null,null,null,null,null,"Stoka \"A1.1\" PVC DN315:"]
[null,null,"Skruž H1000:6",null,6,null,null,null,null,null,null,null,"Skruž H1000:6"]
[35,"894422111RT1","Osazení betonových dílců šachet skruže přechodové, na kroužek","kus",8,null,{"$f":"E228*F228","v":0},0,{"$f":"E228*H228","v":0},0,{"$f":"E228*J228","v":0},null,null,null,2,null,null,null,null,null,null,null,null,null,null,null,1,1,1,null,null,null,null,null,null,null,null,null,null,null,null,null,null,null,null,null,null,null,null,null,null,1,{"$f":"IF(AZ228=1,G228,0)","v":0},{"$f":"IF(AZ228=2,G228,0)","v":0},{"$f":"IF(AZ228=3,G228,0)","v":0},{"$f":"IF(AZ228=4,G228,0)","v":0},{"$f":"IF(AZ228=5,G228,0)","v":0},null,null,null,null,null,null,null,null,null,null,null,null,null,null,null,null,null,null,null,null,null,1,1]
[null,null,"Položka je určena pro osazení betonových dílců šachet dle DIN 4034, skruže přechodové, zákrytové, kónusy,... na kroužek.",null,null,null,null,null,null,null,null,"Položka je určena pro osazení betonových dílců šachet dle DIN 4034, skruže přechodové, zákrytové, kónusy,... na kroužek.",null,null,3]
[null,null,"Stoka \"A1.1\" PVC DN315:",null,0,null,null,null,null,null,null,null,"Stoka \"A1.1\" PVC DN315:"]
[null,null,"Kónus H580:8",null,8,null,null,null,null,null,null,null,"Kónus H580:8"]
[36,"894423111RT1","Osazení betonových dílců šachet do 2,0 t šachtová dna, na kroužek, do 2,0 t","kus",8,null,{"$f":"E232*F232","v":0},0,{"$f":"E232*H232","v":0},0,{"$f":"E232*J232","v":0},null,null,null,2,null,null,null,null,null,null,null,null,null,null,null,1,1,1,null,null,null,null,null,null,null,null,null,null,null,null,null,null,null,null,null,null,null,null,null,null,1,{"$f":"IF(AZ232=1,G232,0)","v":0},{"$f":"IF(AZ232=2,G232,0)","v":0},{"$f":"IF(AZ232=3,G232,0)","v":0},{"$f":"IF(AZ232=4,G232,0)","v":0},{"$f":"IF(AZ232=5,G232,0)","v":0},null,null,null,null,null,null,null,null,null,null,null,null,null,null,null,null,null,null,null,null,null,1,1]
[null,null,"Položka je určena pro osazení betonových dílců šachet dle DIN 4034, šachtová dna na kroužek, hmotnost do 2,0 t.",null,null,null,null,null,null,null,null,"Položka je určena pro osazení betonových dílců šachet dle DIN 4034, šachtová dna na kroužek, hmotnost do 2,0 t.",null,null,3]
[null,null,"V položce nejsou zakalkulovány náklady na dodání betonových dílců;",null,null,null,null,null,null,null,null,"V položce nejsou zakalkulovány náklady na dodání betonových dílců;",null,null,3]
[null,null,"Součástí položky je i podbetonování šachtového dna betonem C12/15 v min. tl. 10 cm.",null,null,null,null,null,null,null,null,"Součástí položky je i podbetonování šachtového dna betonem C12/15 v min. tl. 10 cm.",null,null,3]
[null,null,"Stoka \"A1.1\" PVC DN315:",null,0,null,null,null,null,null,null,null,"Stoka \"A1.1\" PVC DN315:"]
[null,null,"ŠD H775:8",null,8,null,null,null,null,null,null,null,"ŠD H775:8"]
[37,"895941111R00","Zřízení vpusti uliční z dílců typ UV - 50 normální ","kus",9,null,{"$f":"E238*F238","v":0},0.34089999999999998,{"$f":"E238*H238","v":3.0680999999999998},0,{"$f":"E238*J238","v":0},null,null,null,2,null,null,null,null,null,null,null,null,null,null,null,1,1,1,null,null,null,null,null,null,null,null,null,null,null,null,null,null,null,null,null,null,null,null,null,null,1,{"$f":"IF(AZ238=1,G238,0)","v":0},{"$f":"IF(AZ238=2,G238,0)","v":0},{"$f":"IF(AZ238=3,G238,0)","v":0},{"$f":"IF(AZ238=4,G238,0)","v":0},{"$f":"IF(AZ238=5,G238,0)","v":0},null,null,null,null,null,null,null,null,null,null,null,null,null,null,null,null,null,null,null,null,null,1,1]
[null,null,"Stoka \"A1.1\" PVC DN315:",null,0,null,null,null,null,null,null,null,"Stoka \"A1.1\" PVC DN315:"]
[null,null,"Přípojky k UV PVC DN200 :",null,0,null,null,null,null,null,null,null,"Přípojky k UV PVC DN200 :"]
[null,null,"UV 9 až UV 17:9",null,9,null,null,null,null,null,null,null,"UV 9 až UV 17:9"]
[38,"899102111R00","Osazení poklopu s rámem do 100 kg ","kus",8,null,{"$f":"E242*F242","v":0},7.0200000000000002E-3,{"$f":"E242*H242","v":5.6160000000000002E-2},0,{"$f":"E242*J242","v":0},null,null,null,2,null,null,null,null,null,null,null,null,null,null,null,1,1,1,null,null,null,null,null,null,null,null,null,null,null,null,null,null,null,null,null,null,null,null,null,null,1,{"$f":"IF(AZ242=1,G242,0)","v":0},{"$f":"IF(AZ242=2,G242,0)","v":0},{"$f":"IF(AZ242=3,G242,0)","v":0},{"$f":"IF(AZ242=4,G242,0)","v":0},{"$f":"IF(AZ242=5,G242,0)","v":0},null,null,null,null,null,null,null,null,null,null,null,null,null,null,null,null,null,null,null,null,null,1,1]
[null,null,"Osazení provizorních poklopů během realizace stavby  (nefakturovaný materiál zhotovitele)",null,null,null,null,null,null,null,null,"Osazení provizorních poklopů během realizace stavby  (nefakturovaný materiál zhotovitele)",null,null,3]
[39,"899202111R00","Osazení mříží litinových s rámem do 100kg ","kus",9,null,{"$f":"E244*F244","v":0},9.3600000000000003E-3,{"$f":"E244*H244","v":8.4240000000000009E-2},0,{"$f":"E244*J244","v":0},null,null,null,2,null,null,null,null,null,null,null,null,null,null,null,1,1,1,null,null,null,null,null,null,null,null,null,null,null,null,null,null,null,null,null,null,null,null,null,null,1,{"$f":"IF(AZ244=1,G244,0)","v":0},{"$f":"IF(AZ244=2,G244,0)","v":0},{"$f":"IF(AZ244=3,G244,0)","v":0},{"$f":"IF(AZ244=4,G244,0)","v":0},{"$f":"IF(AZ244=5,G244,0)","v":0},null,null,null,null,null,null,null,null,null,null,null,null,null,null,null,null,null,null,null,null,null,1,1]
[null,null,"Stoka \"A1.1\" PVC DN315:",null,0,null,null,null,null,null,null,null,"Stoka \"A1.1\" PVC DN315:"]
[null,null,"Přípojky k UV PVC DN200 :",null,0,null,null,null,null,null,null,null,"Přípojky k UV PVC DN200 :"]
[null,null,"UV 9 až UV 17:9",null,9,null,null,null,null,null,null,null,"UV 9 až UV 17:9"]
[40,"899711122R00","Fólie výstražná z PVC šedá, šířka 30 cm ","m",221.1,null,{"$f":"E248*F248","v":0},0,{"$f":"E248*H248","v":0},0,{"$f":"E248*J248","v":0},null,null,null,2,null,null,null,null,null,null,null,null,null,null,null,1,1,1,null,null,null,null,null,null,null,null,null,null,null,null,null,null,null,null,null,null,null,null,null,null,1,{"$f":"IF(AZ248=1,G248,0)","v":0},{"$f":"IF(AZ248=2,G248,0)","v":0},{"$f":"IF(AZ248=3,G248,0)","v":0},{"$f":"IF(AZ248=4,G248,0)","v":0},{"$f":"IF(AZ248=5,G248,0)","v":0},null,null,null,null,null,null,null,null,null,null,null,null,null,null,null,null,null,null,null,null,null,1,1]
[null,null,"Stoka \"A1.1\" PVC DN315:190,10",null,190.1,null,null,null,null,null,null,null,"Stoka \"A1.1\" PVC DN315:190,10"]
[null,null,"Přípojky k UV PVC DN200 + Rezerva 10%:31,00",null,31,null,null,null,null,null,null,null,"Přípojky k UV PVC DN200 + Rezerva 10%:31,00"]
[41,"286111914.R","Trubka kanalizační PVC QUANTUM SN 12 DN 200","m",31.93,null,{"$f":"E251*F251","v":0},7.1000000000000004E-3,{"$f":"E251*H251","v":0.22670300000000002},null,{"$f":"E251*J251","v":0},null,null,null,2,null,null,null,null,null,null,null,null,null,null,null,3,1,"286111914.R",null,null,null,null,null,null,null,null,null,null,null,null,null,null,null,null,null,null,null,null,null,null,1,{"$f":"IF(AZ251=1,G251,0)","v":0},{"$f":"IF(AZ251=2,G251,0)","v":0},{"$f":"IF(AZ251=3,G251,0)","v":0},{"$f":"IF(AZ251=4,G251,0)","v":0},{"$f":"IF(AZ251=5,G251,0)","v":0},null,null,null,null,null,null,null,null,null,null,null,null,null,null,null,null,null,null,null,null,null,3,1]
[null,null,"Jedná  se  o  plnostěnné kanalizační trubky DN 150 – DN 400, SN 12 kN/m2 , zvenčí  i  zevnitř  hladké. Jsou  opatřeny hrdlem,  v  němž  je  vložen vysoce  elastický  jazýčkový  kroužek.  konce  trubek  (dříků)  jsou opatřeny  zkosením  pod  úhlem  15°.  Způsob  použití  trubek  je  „U“  dle  normy  ČSN  EN  1401-1, tj. mimo budovy. Spolehlivá  funkce  těsnění  je  jištěna  výztužným  kroužkem  z  elastomeru.  Je  tak  zamezeno  vypad-nutí nebo vytlačení kroužku při manipulaci a montáži. Tento systém zaručuje při správné montáži ",null,null,null,null,null,null,null,null,"Jedná  se  o  plnostěnné kanalizační trubky DN 150 – DN 400, SN 12 kN/m2 , zvenčí  i  zevnitř  hladké. Jsou  opatřeny hrdlem,  v  němž  je  vložen vysoce  elastický  jazýčkový  kroužek.  konce  trubek  (dříků)  jsou opatřeny  zkosením  pod  úhlem  15°.  Způsob  použití  trubek  je  „U“  dle  normy  ČSN  EN  1401-1, tj. mimo budovy. Spolehlivá  funkce  těsnění  je  jištěna  výztužným  kroužkem  z  elastomeru.  Je  tak  zamezeno  vypad-nutí nebo vytlačení kroužku při manipulaci a montáži. Tento systém zaručuje při správné montáži ",null,null,3]
[null,null,"dokonalou  těsnost  do  výšky  vodního  sloupce  5  metrů.",null,null,null,null,null,null,null,null,"dokonalou  těsnost  do  výšky  vodního  sloupce  5  metrů.",null,null,3]
[null,null,null,null,null,null,null,null,null,null,null,null,null,null,3]
[null,null,"Teplota při pokládce: min. -10 °C, max. 50 °C",null,null,null,null,null,null,null,null,"Teplota při pokládce: min. -10 °C, max. 50 °C",null,null,3]
[null,null,"Max. teplota média: trvale do 40 °C, krátkodobě do 60 °C",null,null,null,null,null,null,null,null,"Max. teplota média: trvale do 40 °C, krátkodobě do 60 °C",null,null,3]
[null,null,"Orientační výška krytí: min. 0,5 m, max. 10 m",null,null,null,null,null,null,null,null,"Orientační výška krytí: min. 0,5 m, max. 10 m",null,null,3]
[null,null,"Max. rychlost média: 12 m/s",null,null,null,null,null,null,null,null,"Max. rychlost média: 12 m/s",null,null,3]
[null,null,"Stoka \"A1.1\" PVC DN315:",null,0,null,null,null,null,null,null,null,"Stoka \"A1.1\" PVC DN315:"]
[null,null,"Přípojky k UV PVC DN200 + Rezerva 10%:31,00*1,03",null,31.93,null,null,null,null,null,null,null,"Přípojky k UV PVC DN200 + Rezerva 10%:31,00*1,03"]
[42,"286111934.R","Trubka kanalizační PVC QUANTUM SN 12 DN 315","m",195.803,null,{"$f":"E261*F261","v":0},1.0200000000000001E-3,{"$f":"E261*H261","v":0.19971906},null,{"$f":"E261*J261","v":0},null,null,null,2,null,null,null,null,null,null,null,null,null,null,null,3,1,"286111934.R",null,null,null,null,null,null,null,null,null,null,null,null,null,null,null,null,null,null,null,null,null,null,1,{"$f":"IF(AZ261=1,G261,0)","v":0},{"$f":"IF(AZ261=2,G261,0)","v":0},{"$f":"IF(AZ261=3,G261,0)","v":0},{"$f":"IF(AZ261=4,G261,0)","v":0},{"$f":"IF(AZ261=5,G261,0)","v":0},null,null,null,null,null,null,null,null,null,null,null,null,null,null,null,null,null,null,null,null,null,3,1]
[null,null,"Jedná  se  o  plnostěnné kanalizační trubky DN 150 – DN 400, SN 12 kN/m2 , zvenčí  i  zevnitř  hladké. Jsou  opatřeny hrdlem,  v  němž  je  vložen vysoce  elastický  jazýčkový  kroužek.  konce  trubek  (dříků)  jsou opatřeny  zkosením  pod  úhlem  15°.  Způsob  použití  trubek  je  „U“  dle  normy  ČSN  EN  1401-1, tj. mimo budovy. Spolehlivá  funkce  těsnění  je  jištěna  výztužným  kroužkem  z  elastomeru.  Je  tak  zamezeno  vypad-nutí nebo vytlačení kroužku při manipulaci a montáži. Tento systém zaručuje při správné montáži ",null,null,null,null,null,null,null,null,"Jedná  se  o  plnostěnné kanalizační trubky DN 150 – DN 400, SN 12 kN/m2 , zvenčí  i  zevnitř  hladké. Jsou  opatřeny hrdlem,  v  němž  je  vložen vysoce  elastický  jazýčkový  kroužek.  konce  trubek  (dříků)  jsou opatřeny  zkosením  pod  úhlem  15°.  Způsob  použití  trubek  je  „U“  dle  normy  ČSN  EN  1401-1, tj. mimo budovy. Spolehlivá  funkce  těsnění  je  jištěna  výztužným  kroužkem  z  elastomeru.  Je  tak  zamezeno  vypad-nutí nebo vytlačení kroužku při manipulaci a montáži. Tento systém zaručuje při správné montáži ",null,null,3]
[null,null,"dokonalou  těsnost  do  výšky  vodního  sloupce  5  metrů.",null,null,null,null,null,null,null,null,"dokonalou  těsnost  do  výšky  vodního  sloupce  5  metrů.",null,null,3]
[null,null,"Stoka \"A1.1\" PVC DN315:190,10*1,03",null,195.803,null,null,null,null,null,null,null,"Stoka \"A1.1\" PVC DN315:190,10*1,03"]
[43,"286506012.R","Koleno kanalizační PVC QUANTUM SDR 34 DN 200 Kolena s úhlem 15°, 30°a 45°","kus",22.33,null,{"$f":"E265*F265","v":0},1.07E-3,{"$f":"E265*H265","v":2.3893099999999997E-2},null,{"$f":"E265*J265","v":0},null,null,null,2,null,null,null,null,null,null,null,null,null,null,null,3,1,"286506012.R",null,null,null,null,null,null,null,null,null,null,null,null,null,null,null,null,null,null,null,null,null,null,1,{"$f":"IF(AZ265=1,G265,0)","v":0},{"$f":"IF(AZ265=2,G265,0)","v":0},{"$f":"IF(AZ265=3,G265,0)","v":0},{"$f":"IF(AZ265=4,G265,0)","v":0},{"$f":"IF(AZ265=5,G265,0)","v":0},null,null,null,null,null,null,null,null,null,null,null,null,null,null,null,null,null,null,null,null,null,3,1]
[null,null,"Tvarovky kanalizačního systému PVC SDR 34",null,null,null,null,null,null,null,null,"Tvarovky kanalizačního systému PVC SDR 34",null,null,3]
[null,null,"Teplota při pokládce: min. -10 °C, max. 50 °C",null,null,null,null,null,null,null,null,"Teplota při pokládce: min. -10 °C, max. 50 °C",null,null,3]
[null,null,"Max. teplota média: trvale do 40 °C, krátkodobě do 60 °C",null,null,null,null,null,null,null,null,"Max. teplota média: trvale do 40 °C, krátkodobě do 60 °C",null,null,3]
[null,null,"Orientační výška krytí: min. 0,5 m, max. 10 m",null,null,null,null,null,null,null,null,"Orientační výška krytí: min. 0,5 m, max. 10 m",null,null,3]
[null,null,"Max. rychlost média: 12 m/s",null,null,null,null,null,null,null,null,"Max. rychlost média: 12 m/s",null,null,3]
[null,null,"Stoka \"A1.1\" PVC DN315:",null,0,null,null,null,null,null,null,null,"Stoka \"A1.1\" PVC DN315:"]
[null,null,"Přípojky k UV PVC DN200 + Rezerva 10%:",null,0,null,null,null,null,null,null,null,"Přípojky k UV PVC DN200 + Rezerva 10%:"]
[null,null,"Koleno PVC DN200:22*1,015",null,22.33,null,null,null,null,null,null,null,"Koleno PVC DN200:22*1,015"]
[44,"286506132.R","Odbočka kanaliz. PVC QUANTUM SDR 34 DN 300/200/45°","kus",7.1050000000000004,null,{"$f":"E274*F274","v":0},7.1700000000000002E-3,{"$f":"E274*H274","v":5.0942850000000005E-2},null,{"$f":"E274*J274","v":0},null,null,null,2,null,null,null,null,null,null,null,null,null,null,null,3,1,"286506132.R",null,null,null,null,null,null,null,null,null,null,null,null,null,null,null,null,null,null,null,null,null,null,1,{"$f":"IF(AZ274=1,G274,0)","v":0},{"$f":"IF(AZ274=2,G274,0)","v":0},{"$f":"IF(AZ274=3,G274,0)","v":0},{"$f":"IF(AZ274=4,G274,0)","v":0},{"$f":"IF(AZ274=5,G274,0)","v":0},null,null,null,null,null,null,null,null,null,null,null,null,null,null,null,null,null,null,null,null,null,3,1]
[null,null,"Stoka \"A1.1\" PVC DN315:",null,0,null,null,null,null,null,null,null,"Stoka \"A1.1\" PVC DN315:"]
[null,null,"Odbočka PVC DN315/200:7*1,015",null,7.1050000000000004,null,null,null,null,null,null,null,"Odbočka PVC DN315/200:7*1,015"]
[45,"59223824.R","Vpust uliční betonová TBV-Q 450 - komplet včetně kalového koše a litinové mříže s rámem","kus",9.09,null,{"$f":"E277*F277","v":0},0.374,{"$f":"E277*H277","v":3.3996599999999999},null,{"$f":"E277*J277","v":0},null,null,null,2,null,null,null,null,null,null,null,null,null,null,null,3,1,"59223824.R",null,null,null,null,null,null,null,null,null,null,null,null,null,null,null,null,null,null,null,null,null,null,1,{"$f":"IF(AZ277=1,G277,0)","v":0},{"$f":"IF(AZ277=2,G277,0)","v":0},{"$f":"IF(AZ277=3,G277,0)","v":0},{"$f":"IF(AZ277=4,G277,0)","v":0},{"$f":"IF(AZ277=5,G277,0)","v":0},null,null,null,null,null,null,null,null,null,null,null,null,null,null,null,null,null,null,null,null,null,3,1]
[null,null,"Dodávka dle projektové dokumentace",null,null,null,null,null,null,null,null,"Dodávka dle projektové dokumentace",null,null,3]
[null,null,"Sestava UV:",null,null,null,null,null,null,null,null,"Sestava UV:",null,null,3]
[null,null,"- Rám s mříží 500x500 mm KM12P včetně kalového koše H600 mm A4",null,null,null,null,null,null,null,null,"- Rám s mříží 500x500 mm KM12P včetně kalového koše H600 mm A4",null,null,3]
[null,null,"- Vyrovnávací prstenec TBV-Q 450/60 10a",null,null,null,null,null,null,null,null,"- Vyrovnávací prstenec TBV-Q 450/60 10a",null,null,3]
[null,null,"- Horní skruž TBV-Q 450/570/5d",null,null,null,null,null,null,null,null,"- Horní skruž TBV-Q 450/570/5d",null,null,3]
[null,null,"- Středová skruž TBV-Q 450/570/6a",null,null,null,null,null,null,null,null,"- Středová skruž TBV-Q 450/570/6a",null,null,3]
[null,null,"- Dno s výtokem TBV-Q 450/370/1a PVC DN200",null,null,null,null,null,null,null,null,"- Dno s výtokem TBV-Q 450/370/1a PVC DN200",null,null,3]
[null,null,"Stoka \"A1.1\" PVC DN315:",null,0,null,null,null,null,null,null,null,"Stoka \"A1.1\" PVC DN315:"]
[null,null,"Přípojky k UV PVC DN200 :",null,0,null,null,null,null,null,null,null,"Přípojky k UV PVC DN200 :"]
[null,null,"UV 9 až UV 17:9*1,01",null,9.09,null,null,null,null,null,null,null,"UV 9 až UV 17:9*1,01"]
[46,"592243543.R","Kónus šachetní TBR-Q.1 100x63/58/12 KPS","kus",8.08,null,{"$f":"E288*F288","v":0},0.58499999999999996,{"$f":"E288*H288","v":4.7267999999999999},null,{"$f":"E288*J288","v":0},null,null,null,2,null,null,null,null,null,null,null,null,null,null,null,3,1,"592243543.R",null,null,null,null,null,null,null,null,null,null,null,null,null,null,null,null,null,null,null,null,null,null,1,{"$f":"IF(AZ288=1,G288,0)","v":0},{"$f":"IF(AZ288=2,G288,0)","v":0},{"$f":"IF(AZ288=3,G288,0)","v":0},{"$f":"IF(AZ288=4,G288,0)","v":0},{"$f":"IF(AZ288=5,G288,0)","v":0},null,null,null,null,null,null,null,null,null,null,null,null,null,null,null,null,null,null,null,null,null,3,1]
[null,null,"Stoka \"A1.1\" PVC DN315:",null,0,null,null,null,null,null,null,null,"Stoka \"A1.1\" PVC DN315:"]
[null,null,"Kónus H580:8*1,01",null,8.08,null,null,null,null,null,null,null,"Kónus H580:8*1,01"]
[47,"59224358.A.R","Skruž šachetní TBS-Q.1 100/25/12 PS","kus",5.05,null,{"$f":"E291*F291","v":0},0.25,{"$f":"E291*H291","v":1.2625},null,{"$f":"E291*J291","v":0},null,null,null,2,null,null,null,null,null,null,null,null,null,null,null,3,1,"59224358.A.R",null,null,null,null,null,null,null,null,null,null,null,null,null,null,null,null,null,null,null,null,null,null,1,{"$f":"IF(AZ291=1,G291,0)","v":0},{"$f":"IF(AZ291=2,G291,0)","v":0},{"$f":"IF(AZ291=3,G291,0)","v":0},{"$f":"IF(AZ291=4,G291,0)","v":0},{"$f":"IF(AZ291=5,G291,0)","v":0},null,null,null,null,null,null,null,null,null,null,null,null,null,null,null,null,null,null,null,null,null,3,1]
[null,null,"Stoka \"A1.1\" PVC DN315:",null,0,null,null,null,null,null,null,null,"Stoka \"A1.1\" PVC DN315:"]
[null,null,"Skruž H250:5*1,01",null,5.05,null,null,null,null,null,null,null,"Skruž H250:5*1,01"]
[48,"59224361.A.R","Skruž šachetní TBS-Q.1 100/50/12 PS","kus",2.02,null,{"$f":"E294*F294","v":0},0.5,{"$f":"E294*H294","v":1.01},null,{"$f":"E294*J294","v":0},null,null,null,2,null,null,null,null,null,null,null,null,null,null,null,3,1,"59224361.A.R",null,null,null,null,null,null,null,null,null,null,null,null,null,null,null,null,null,null,null,null,null,null,1,{"$f":"IF(AZ294=1,G294,0)","v":0},{"$f":"IF(AZ294=2,G294,0)","v":0},{"$f":"IF(AZ294=3,G294,0)","v":0},{"$f":"IF(AZ294=4,G294,0)","v":0},{"$f":"IF(AZ294=5,G294,0)","v":0},null,null,null,null,null,null,null,null,null,null,null,null,null,null,null,null,null,null,null,null,null,3,1]
[null,null,"Stoka \"A1.1\" PVC DN315:",null,0,null,null,null,null,null,null,null,"Stoka \"A1.1\" PVC DN315:"]
[null,null,"Skruž H500:2*1,01",null,2.02,null,null,null,null,null,null,null,"Skruž H500:2*1,01"]
[49,"59224364.A.R","Skruž šachetní TBS-Q.1 100/100/12 PS","kus",6.06,null,{"$f":"E297*F297","v":0},1,{"$f":"E297*H297","v":6.06},null,{"$f":"E297*J297","v":0},null,null,null,2,null,null,null,null,null,null,null,null,null,null,null,3,1,"59224364.A.R",null,null,null,null,null,null,null,null,null,null,null,null,null,null,null,null,null,null,null,null,null,null,1,{"$f":"IF(AZ297=1,G297,0)","v":0},{"$f":"IF(AZ297=2,G297,0)","v":0},{"$f":"IF(AZ297=3,G297,0)","v":0},{"$f":"IF(AZ297=4,G297,0)","v":0},{"$f":"IF(AZ297=5,G297,0)","v":0},null,null,null,null,null,null,null,null,null,null,null,null,null,null,null,null,null,null,null,null,null,3,1]
[null,null,"Stoka \"A1.1\" PVC DN315:",null,0,null,null,null,null,null,null,null,"Stoka \"A1.1\" PVC DN315:"]
[null,null,"Skruž H1000:6*1,01",null,6.06,null,null,null,null,null,null,null,"Skruž H1000:6*1,01"]
[50,"59224373.A.R","Dno šachetní TBZ-Q.1 100/68 KOM V30 včetně kynety dle PD","kus",8.08,null,{"$f":"E300*F300","v":0},1.45,{"$f":"E300*H300","v":11.715999999999999},null,{"$f":"E300*J300","v":0},null,null,null,2,null,null,null,null,null,null,null,null,null,null,null,3,1,"59224373.A.R",null,null,null,null,null,null,null,null,null,null,null,null,null,null,null,null,null,null,null,null,null,null,1,{"$f":"IF(AZ300=1,G300,0)","v":0},{"$f":"IF(AZ300=2,G300,0)","v":0},{"$f":"IF(AZ300=3,G300,0)","v":0},{"$f":"IF(AZ300=4,G300,0)","v":0},{"$f":"IF(AZ300=5,G300,0)","v":0},null,null,null,null,null,null,null,null,null,null,null,null,null,null,null,null,null,null,null,null,null,3,1]
[null,null,"Stoka \"A1.1\" PVC DN315:",null,0,null,null,null,null,null,null,null,"Stoka \"A1.1\" PVC DN315:"]
[null,null,"ŠD H675:8*1,01",null,8.08,null,null,null,null,null,null,null,"ŠD H675:8*1,01"]
[51,"59224380.R","Těsnění elastom pro šach díly EMT 100/1.7 - DN1000","kus",21.21,null,{"$f":"E303*F303","v":0},2E-3,{"$f":"E303*H303","v":4.2419999999999999E-2},null,{"$f":"E303*J303","v":0},null,null,null,2,null,null,null,null,null,null,null,null,null,null,null,3,1,"59224380.R",null,null,null,null,null,null,null,null,null,null,null,null,null,null,null,null,null,null,null,null,null,null,1,{"$f":"IF(AZ303=1,G303,0)","v":0},{"$f":"IF(AZ303=2,G303,0)","v":0},{"$f":"IF(AZ303=3,G303,0)","v":0},{"$f":"IF(AZ303=4,G303,0)","v":0},{"$f":"IF(AZ303=5,G303,0)","v":0},null,null,null,null,null,null,null,null,null,null,null,null,null,null,null,null,null,null,null,null,null,3,1]
[null,null,"Stoka \"A1.1\" PVC DN315:",null,0,null,null,null,null,null,null,null,"Stoka \"A1.1\" PVC DN315:"]
[null,null,"Těsnění DN1000:21*1,01",null,21.21,null,null,null,null,null,null,null,"Těsnění DN1000:21*1,01"]
[null,"Celkem za","8 Trubní vedení",null,null,null,{"$f":"SUM(G177:G305)","v":0},null,{"$f":"SUM(I177:I305)","v":31.930139009999998},null,{"$f":"SUM(K177:K305)","v":0},null,null,null,4,null,null,null,null,null,null,null,null,null,null,null,null,null,null,null,null,null,null,null,null,null,null,null,null,null,null,null,null,null,null,null,null,null,null,null,null,null,{"$f":"SUM(BA177:BA305)","v":0},{"$f":"SUM(BB177:BB305)","v":0},{"$f":"SUM(BC177:BC305)","v":0},{"$f":"SUM(BD177:BD305)","v":0},{"$f":"SUM(BE177:BE305)","v":0}]
["Díl:","93","Dokončovací práce inženýrských staveb",null,null,null,null,null,null,null,null,null,null,null,1]
[52,"939421111RT1","Osazení samonivelač.kanalizač.poklopu za finišerem bez dodávky poklopu","kus",8,null,{"$f":"E308*F308","v":0},0.15425,{"$f":"E308*H308","v":1.234},0,{"$f":"E308*J308","v":0},null,null,null,2,null,null,null,null,null,null,null,null,null,null,null,1,0,0,null,null,null,null,null,null,null,null,null,null,null,null,null,null,null,null,null,null,null,null,null,null,1,{"$f":"IF(AZ308=1,G308,0)","v":0},{"$f":"IF(AZ308=2,G308,0)","v":0},{"$f":"IF(AZ308=3,G308,0)","v":0},{"$f":"IF(AZ308=4,G308,0)","v":0},{"$f":"IF(AZ308=5,G308,0)","v":0},null,null,null,null,null,null,null,null,null,null,null,null,null,null,null,null,null,null,null,null,null,1,0]
[null,null,"Položka obsahuje:",null,null,null,null,null,null,null,null,"Položka obsahuje:",null,null,3]
[null,null," osazení prefabrikovaného betonového prstence do rychletuhnoucí vysokopevnostní malty (s dodávkou hmot)",null,null,null,null,null,null,null,null,"- osazení prefabrikovaného betonového prstence do rychletuhnoucí malty (s dodávkou hmot)",null,null,3]
[null,null,"- zalití prstence rychletuhnoucí zálivkou do výše prstence (s dodávkou hmoty)",null,null,null,null,null,null,null,null,"- zalití prstence rychletuhnoucí zálivkou do výše prstence (s dodávkou hmoty)",null,null,3]
[null,null,"- vložení kruhového bednění",null,null,null,null,null,null,null,null,"- vložení kruhového bednění",null,null,3]
[null,null,"- doplnění mezikruží asfaltovou směsí do výšky současné podkladní vrstvy, zhutnění",null,null,null,null,null,null,null,null,"- doplnění mezikruží asfaltovou směsí do výšky současné podkladní vrstvy, zhutnění",null,null,3]
[null,null,"- vyjmutí kruhového bednění",null,null,null,null,null,null,null,null,"- vyjmutí kruhového bednění",null,null,3]
[null,null,"- osazení poklopu a zatlačení",null,null,null,null,null,null,null,null,"- osazení poklopu a zatlačení",null,null,3]
[null,null,"  (následuje pokládka finální vrstvy vozovky - není součástí položky)",null,null,null,null,null,null,null,null,"  (následuje pokládka finální vrstvy vozovky - není součástí položky)",null,null,3]
[null,null,"- povytažení poklopu",null,null,null,null,null,null,null,null,"- povytažení poklopu",null,null,3]
[null,null,"- podsyp asfaltovou směsí, spuštění poklopu a zhutnění směsi",null,null,null,null,null,null,null,null,"- podsyp asfaltovou směsí, spuštění poklopu a zhutnění směsi",null,null,3]
[53,"55244414.R","Poklop celolitinový v samonivelační rámu KDM03 D400 SN600","kus",8,null,{"$f":"E319*F319","v":0},0.113,{"$f":"E319*H319","v":0.90400000000000003},null,{"$f":"E319*J319","v":0},null,null,null,2,null,null,null,null,null,null,null,null,null,null,null,3,1,"55244414.R",null,null,null,null,null,null,null,null,null,null,null,null,null,null,null,null,null,null,null,null,null,null,1,{"$f":"IF(AZ319=1,G319,0)","v":0},{"$f":"IF(AZ319=2,G319,0)","v":0},{"$f":"IF(AZ319=3,G319,0)","v":0},{"$f":"IF(AZ319=4,G319,0)","v":0},{"$f":"IF(AZ319=5,G319,0)","v":0},null,null,null,null,null,null,null,null,null,null,null,null,null,null,null,null,null,null,null,null,null,3,1]
[null,null,"Kanalizační kruhový celolitinový samonivelační poklop bez pantu, horizontální PUR tlumící vložka na rámu, horizontální a vertikální  PUR tlumící vložka na víku, bez pružinového zajištění víka v rámu ",null,null,null,null,null,null,null,null,"Kanalizační kruhový celolitinový samonivelační poklop bez pantu, horizontální PUR tlumící vložka na rámu, horizontální a vertikální  PUR tlumící vložka na víku, bez pružinového zajištění víka v rámu ",null,null,3]
[null,null,"KDM03 s ventilací dle TS VHS Turnov",null,null,null,null,null,null,null,null,"KDM65 bez ventilace nebo s ventilací dle TS VHS Turnov",null,null,3]
[null,null,"Víko se znakem Města ",null,null,null,null,null,null,null,null,"Víko se znakem Města ",null,null,3]
[null,"Celkem za","93 Dokončovací práce inženýrských staveb",null,null,null,{"$f":"SUM(G307:G322)","v":0},null,{"$f":"SUM(I307:I322)","v":2.1379999999999999},null,{"$f":"SUM(K307:K322)","v":0},null,null,null,4,null,null,null,null,null,null,null,null,null,null,null,null,null,null,null,null,null,null,null,null,null,null,null,null,null,null,null,null,null,null,null,null,null,null,null,null,null,{"$f":"SUM(BA307:BA322)","v":0},{"$f":"SUM(BB307:BB322)","v":0},{"$f":"SUM(BC307:BC322)","v":0},{"$f":"SUM(BD307:BD322)","v":0},{"$f":"SUM(BE307:BE322)","v":0}]
["Díl:","99","Staveništní přesun hmot",null,null,null,null,null,null,null,null,null,null,null,1]
[54,"998276101RXX","Přesun hmot, trubní vedení plastová, otevř. výkop pro celý rozsah objektu","t",1057.573510123,null,{"$f":"E325*F325","v":0},0,{"$f":"E325*H325","v":0},null,{"$f":"E325*J325","v":0},null,null,null,2,null,null,null,null,null,null,null,null,null,null,null,7,1,2,null,null,null,null,null,null,null,null,null,null,null,null,null,null,null,null,null,null,null,null,null,null,1,{"$f":"IF(AZ325=1,G325,0)","v":0},{"$f":"IF(AZ325=2,G325,0)","v":0},{"$f":"IF(AZ325=3,G325,0)","v":0},{"$f":"IF(AZ325=4,G325,0)","v":0},{"$f":"IF(AZ325=5,G325,0)","v":0},null,null,null,null,null,null,null,null,null,null,null,null,null,null,null,null,null,null,null,null,null,7,1]
[null,null,"Staveništní doprava pro celý rozsah objektu - doprava zmeziskládek vybudovaného zařízení staveniště zhotovitele na jednotlivé části staveniště.",null,null,null,null,null,null,null,null,"Staveništní doprava pro celý rozsah objektu - doprava zmeziskládek vybudovaného zařízení staveniště zhotovitele na jednotlivé části staveniště.",null,null,3]
[null,"Celkem za","99 Staveništní přesun hmot",null,null,null,{"$f":"SUM(G324:G326)","v":0},null,{"$f":"SUM(I324:I326)","v":0},null,{"$f":"SUM(K324:K326)","v":0},null,null,null,4,null,null,null,null,null,null,null,null,null,null,null,null,null,null,null,null,null,null,null,null,null,null,null,null,null,null,null,null,null,null,null,null,null,null,null,null,null,{"$f":"SUM(BA324:BA326)","v":0},{"$f":"SUM(BB324:BB326)","v":0},{"$f":"SUM(BC324:BC326)","v":0},{"$f":"SUM(BD324:BD326)","v":0},{"$f":"SUM(BE324:BE326)","v":0}]

{"sheet":"08 08.01 KL","index":62,"n_rows":45,"n_cols":8,"rows_kept":45,"cut":false,"hidden":false,"merged":[[22,0,22,1],[7,2,7,4],[8,2,8,4],[9,2,9,4],[10,2,10,4],[11,2,11,4],[50,1,50,6],[29,5,29,6],[30,5,30,6],[31,5,31,6],[32,5,32,6],[33,5,33,6],[36,1,44,6],[45,1,45,6],[46,1,46,6],[47,1,47,6],[48,1,48,6],[49,1,49,6]]}
["POLOŽKOVÝ ROZPOČET"]
["Rozpočet",null,"08.01","Oprava komunikací a chodníků",null,"JKSO ","822.23"]
[]
["Objekt",null,null,null,null,"SKP "]
["08",null,"Komunikace a chodníky",null,null,"Měrná jednotka","m2"]
["Stavba",null,null,null,null,"Počet jednotek",0]
["3395",null,"Kanalizace a ČOV Benešov u Semil",null,null,"Náklady na m.j.",{"$f":"IF(G6=0,,ROUND((F30+F32)/G6,1))","v":0}]
["Projektant",null,"Vodohospodářský rozvoj a výstavba a.s.",null,null,"Typ rozpočtu"]
["Zpracovatel projektu"]
["Objednatel",null,"Vodohospodářské sdružení Turnov"]
["Dodavatel",null,".",null,null,"Zakázkové číslo "]
["Rozpočtoval",null,null,null,null,"Počet listů"]
["ROZPOČTOVÉ NÁKLADY"]
["Základní rozpočtové náklady"]
[null,"HSV celkem",{"$f":"'08 08.01 Rek'!E12","v":0}]
["Z","PSV celkem",{"$f":"'08 08.01 Rek'!F12","v":0}]
["R","M práce celkem",{"$f":"'08 08.01 Rek'!H12","v":0}]
["N","M dodávky celkem",{"$f":"'08 08.01 Rek'!G12","v":0}]
["ZRN celkem",null,{"$f":"SUM(C15:C18)","v":0}]
[]
["HZS",null,{"$f":"'08 08.01 Rek'!I12","v":0}]
["ZRN+HZS",null,{"$f":"C19+C21","v":0}]
["ZRN+ost.náklady+HZS",null,{"$f":"C22+G23","v":0}]
["Vypracoval",null,null,"Za zhotovitele",null,"Za objednatele"]
["Jméno :",null,null,"Jméno :",null,"Jméno :"]
["Datum :",null,null,"Datum :",null,"Datum :"]
[]
["Podpis :",null,null,"Podpis:",null,"Podpis:"]
[]
["Základ pro DPH",null,21,"%  ",null,{"$f":"C23-F32","v":0}]
["DPH",null,{"$f":"C30","v":21},"% ",null,{"$f":"ROUND(PRODUCT(F30,C31/100),0)","v":0}]
["Základ pro DPH",null,0,"% ",null,0]
["DPH",null,{"$f":"C32","v":0},"% ",null,{"$f":"ROUND(PRODUCT(F32,C33/100),0)","v":0}]
["CENA ZA OBJEKT CELKEM",null,null,null,null,{"$f":"ROUND(SUM(F30:F33),0)","v":0}]
[]
["Poznámka :",null,null,null,null,null,null," "]
[null,null,null,null,null,null,null," "]
[null,null,null,null,null,null,null," "]
[null,null,null,null,null,null,null," "]
[null,null,null,null,null,null,null," "]
[null,null,null,null,null,null,null," "]
[null,null,null,null,null,null,null," "]
[null,null,null,null,null,null,null," "]
[null,null,null,null,null,null,null," "]
[null,null,null,null,null,null,null," "]

{"sheet":"08 08.01 Rek","index":63,"n_rows":12,"n_cols":9,"rows_kept":12,"cut":false,"hidden":false,"merged":[[0,0,0,1],[1,0,1,1],[1,6,1,8]]}
["Stavba :",null,"3395 Kanalizace a ČOV Benešov u Semil",null,null,null,"Rozpočet :","08.01"]
["Objekt :",null,"08 Komunikace a chodníky",null,null,null,"Oprava komunikací a chodníků"]
[]
["REKAPITULACE  STAVEBNÍCH  DÍLŮ"]
[]
[null,"Stavební díl",null,null,"HSV","PSV","Dodávka","Montáž","HZS"]
[{"$f":"'08 08.01 Pol'!B7","v":"1"},{"$f":"'08 08.01 Pol'!C7","v":"Zemní práce"},null,null,{"$f":"'08 08.01 Pol'!BA114","v":0},{"$f":"'08 08.01 Pol'!BB114","v":0},{"$f":"'08 08.01 Pol'!BC114","v":0},{"$f":"'08 08.01 Pol'!BD114","v":0},{"$f":"'08 08.01 Pol'!BE114","v":0}]
[{"$f":"'08 08.01 Pol'!B115","v":"5"},{"$f":"'08 08.01 Pol'!C115","v":"Komunikace"},null,null,{"$f":"'08 08.01 Pol'!BA301","v":0},{"$f":"'08 08.01 Pol'!BB301","v":0},{"$f":"'08 08.01 Pol'!BC301","v":0},{"$f":"'08 08.01 Pol'!BD301","v":0},{"$f":"'08 08.01 Pol'!BE301","v":0}]
[{"$f":"'08 08.01 Pol'!B302","v":"91"},{"$f":"'08 08.01 Pol'!C302","v":"Doplňující práce na komunikaci"},null,null,{"$f":"'08 08.01 Pol'!BA339","v":0},{"$f":"'08 08.01 Pol'!BB339","v":0},{"$f":"'08 08.01 Pol'!BC339","v":0},{"$f":"'08 08.01 Pol'!BD339","v":0},{"$f":"'08 08.01 Pol'!BE339","v":0}]
[{"$f":"'08 08.01 Pol'!B340","v":"93"},{"$f":"'08 08.01 Pol'!C340","v":"Dokončovací práce inženýrských staveb"},null,null,{"$f":"'08 08.01 Pol'!BA384","v":0},{"$f":"'08 08.01 Pol'!BB384","v":0},{"$f":"'08 08.01 Pol'!BC384","v":0},{"$f":"'08 08.01 Pol'!BD384","v":0},{"$f":"'08 08.01 Pol'!BE384","v":0}]
[{"$f":"'08 08.01 Pol'!B385","v":"99"},{"$f":"'08 08.01 Pol'!C385","v":"Staveništní přesun hmot"},null,null,{"$f":"'08 08.01 Pol'!BA388","v":0},{"$f":"'08 08.01 Pol'!BB388","v":0},{"$f":"'08 08.01 Pol'!BC388","v":0},{"$f":"'08 08.01 Pol'!BD388","v":0},{"$f":"'08 08.01 Pol'!BE388","v":0}]
[null,"CELKEM  OBJEKT",null,null,{"$f":"SUM(E7:E11)","v":0},{"$f":"SUM(F7:F11)","v":0},{"$f":"SUM(G7:G11)","v":0},{"$f":"SUM(H7:H11)","v":0},{"$f":"SUM(I7:I11)","v":0}]

{"sheet":"08 08.01 Pol","index":64,"n_rows":388,"n_cols":80,"rows_kept":388,"cut":false,"hidden":false,"merged":[[13,2,13,3],[14,2,14,3],[15,2,15,3],[16,2,16,3],[17,2,17,3],[19,2,19,6],[0,0,0,6],[2,0,2,1],[3,0,3,1],[3,4,3,6],[8,2,8,3],[9,2,9,3],[11,2,11,3],[12,2,12,3],[26,2,26,3],[27,2,27,3],[28,2,28,3],[30,2,30,3],[31,2,31,3],[33,2,33,3],[20,2,20,3],[21,2,21,3],[22,2,22,3],[23,2,23,3],[24,2,24,3],[25,2,25,3],[42,2,42,3],[43,2,43,3],[44,2,44,3],[45,2,45,3],[46,2,46,3],[48,2,48,3],[34,2,34,3],[36,2,36,3],[37,2,37,3],[38,2,38,3],[40,2,40,3],[41,2,41,3],[56,2,56,3],[57,2,57,3],[59,2,59,3],[60,2,60,3],[61,2,61,3],[63,2,63,3],[49,2,49,3],[51,2,51,3],[52,2,52,3],[53,2,53,3],[54,2,54,3],[55,2,55,3],[70,2,70,3],[71,2,71,3],[72,2,72,3],[73,2,73,3],[74,2,74,3],[75,2,75,3],[64,2,64,3],[65,2,65,3],[66,2,66,3],[67,2,67,3],[68,2,68,3],[69,2,69,3],[82,2,82,3],[83,2,83,3],[84,2,84,3],[85,2,85,3],[86,2,86,3],[87,2,87,3],[76,2,76,3],[77,2,77,3],[78,2,78,3],[79,2,79,3],[80,2,80,3],[81,2,81,3],[96,2,96,3],[97,2,97,3],[99,2,99,3],[100,2,100,3],[101,2,101,3],[102,2,102,3],[88,2,88,3],[89,2,89,3],[90,2,90,3],[91,2,91,3],[93,2,93,3],[94,2,94,3],[112,2,112,3],[116,2,116,3],[117,2,117,3],[118,2,118,3],[120,2,120,3],[121,2,121,3],[122,2,122,3],[124,2,124,3],[104,2,104,3],[105,2,105,3],[107,2,107,3],[108,2,108,3],[110,2,110,6],[111,2,111,3],[132,2,132,3],[133,2,133,3],[134,2,134,3],[135,2,135,3],[136,2,136,3],[137,2,137,3],[125,2,125,3],[126,2,126,3],[128,2,128,3],[129,2,129,3],[130,2,130,3],[131,2,131,3],[147,2,147,3],[148,2,148,3],[149,2,149,3],[150,2,150,3],[151,2,151,3],[152,2,152,3],[138,2,138,3],[140,2,140,3],[141,2,141,3],[143,2,143,3],[144,2,144,3],[145,2,145,3],[160,2,160,3],[161,2,161,3],[163,2,163,3],[164,2,164,3],[166,2,166,3],[167,2,167,3],[153,2,153,3],[155,2,155,3],[156,2,156,3],[157,2,157,3],[158,2,158,3],[159,2,159,3],[175,2,175,3],[176,2,176,3],[178,2,178,3],[179,2,179,3],[180,2,180,3],[181,2,181,3],[168,2,168,3],[169,2,169,3],[170,2,170,3],[171,2,171,3],[172,2,172,3],[174,2,174,3],[190,2,190,3],[192,2,192,3],[193,2,193,3],[194,2,194,3],[195,2,195,3],[197,2,197,3],[182,2,182,3],[183,2,183,3],[184,2,184,3],[186,2,186,3],[187,2,187,3],[189,2,189,3],[205,2,205,3],[206,2,206,3],[207,2,207,3],[208,2,208,3],[209,2,209,3],[210,2,210,3],[198,2,198,3],[200,2,200,3],[201,2,201,3],[202,2,202,3],[203,2,203,3],[204,2,204,3],[218,2,218,3],[219,2,219,3],[220,2,220,3],[221,2,221,3],[222,2,222,3],[223,2,223,3],[211,2,211,3],[212,2,212,3],[213,2,213,3],[214,2,214,3],[216,2,216,3],[217,2,217,3],[230,2,230,3],[231,2,231,3],[232,2,232,3],[233,2,233,3],[235,2,235,3],[236,2,236,3],[224,2,224,3],[225,2,225,3],[226,2,226,3],[227,2,227,3],[228,2,228,3],[229,2,229,3],[243,2,243,3],[245,2,245,3],[246,2,246,3],[248,2,248,3],[249,2,249,3],[250,2,250,3],[237,2,237,3],[238,2,238,3],[239,2,239,3],[240,2,240,3],[241,2,241,3],[242,2,242,3],[258,2,258,3],[259,2,259,3],[261,2,261,3],[262,2,262,3],[264,2,264,3],[265,2,265,3],[251,2,251,3],[252,2,252,3],[253,2,253,3],[254,2,254,3],[255,2,255,3],[256,2,256,3],[273,2,273,6],[274,2,274,6],[275,2,275,3],[276,2,276,3],[277,2,277,3],[279,2,279,3],[266,2,266,3],[267,2,267,3],[268,2,268,3],[269,2,269,3],[270,2,270,3],[271,2,271,3],[286,2,286,3],[288,2,288,6],[289,2,289,3],[290,2,290,3],[292,2,292,3],[293,2,293,3],[280,2,280,3],[281,2,281,3],[282,2,282,3],[283,2,283,3],[284,2,284,3],[285,2,285,3],[308,2,308,3],[309,2,309,3],[311,2,311,3],[312,2,312,3],[313,2,313,3],[315,2,315,3],[295,2,295,3],[296,2,296,3],[298,2,298,3],[299,2,299,3],[303,2,303,3],[304,2,304,3],[305,2,305,3],[307,2,307,3],[322,2,322,3],[323,2,323,3],[324,2,324,3],[325,2,325,3],[326,2,326,3],[327,2,327,3],[316,2,316,3],[317,2,317,3],[318,2,318,3],[319,2,319,3],[320,2,320,3],[321,2,321,3],[336,2,336,3],[337,2,337,3],[341,2,341,6],[342,2,342,3],[343,2,343,3],[344,2,344,3],[345,2,345,3],[346,2,346,3],[328,2,328,3],[329,2,329,3],[331,2,331,3],[332,2,332,3],[333,2,333,3],[334,2,334,3],[353,2,353,3],[354,2,354,3],[355,2,355,3],[356,2,356,3],[357,2,357,3],[358,2,358,3],[347,2,347,3],[348,2,348,3],[349,2,349,3],[350,2,350,3],[351,2,351,3],[352,2,352,3],[366,2,366,3],[367,2,367,3],[368,2,368,3],[369,2,369,3],[370,2,370,3],[371,2,371,3],[359,2,359,3],[360,2,360,3],[361,2,361,3],[363,2,363,3],[364,2,364,3],[365,2,365,3],[386,2,386,6],[378,2,378,3],[379,2,379,3],[380,2,380,3],[381,2,381,3],[382,2,382,3],[372,2,372,3],[373,2,373,3],[374,2,374,3],[375,2,375,3],[376,2,376,3],[377,2,377,3]]}
["Položkový rozpočet "]
[]
["Stavba :",null,"3395 Kanalizace a ČOV Benešov u Semil",null,"Rozpočet:",{"$f":"'08 08.01 Rek'!H1","v":"08.01"}]
["Objekt :",null,"08 Komunikace a chodníky",null,{"$f":"'08 08.01 Rek'!G2","v":"Oprava komunikací a chodníků"}]
[]
["P.č.","Číslo položky","Název položky","MJ","množství","cena / MJ","celkem (Kč)","Jednotková hmotnost","Celková hmotnost","Jednotková dem.hmot.","Celková dem.hmot."]
["Díl:","1","Zemní práce",null,null,null,null,null,null,null,null,null,null,null,1]
[1,"113107615R00","Odstranění podkladu nad 50 m2,kam.drcené tl.15 cm ","m2",1007,null,{"$f":"E8*F8","v":0},0,{"$f":"E8*H8","v":0},-0.33,{"$f":"E8*J8","v":-332.31},null,null,null,2,null,null,null,null,null,null,null,null,null,null,null,1,1,1,null,null,null,null,null,null,null,null,null,null,null,null,null,null,null,null,null,null,null,null,null,null,1,{"$f":"IF(AZ8=1,G8,0)","v":0},{"$f":"IF(AZ8=2,G8,0)","v":0},{"$f":"IF(AZ8=3,G8,0)","v":0},{"$f":"IF(AZ8=4,G8,0)","v":0},{"$f":"IF(AZ8=5,G8,0)","v":0},null,null,null,null,null,null,null,null,null,null,null,null,null,null,null,null,null,null,null,null,null,1,1]
[null,null,"Kanalizace a ČOV Benešov u Semil - I.etapa:",null,0,null,null,null,null,null,null,null,"Kanalizace a ČOV Benešov u Semil - I.etapa:"]
[null,null,"Plochy chodníku - asfalt:747,00+260,00",null,1007,null,null,null,null,null,null,null,"Plochy chodníku - asfalt:747,00+260,00"]
[2,"113107625R00","Odstranění podkladu nad 50 m2,kam.drcené tl.25 cm ","m2",1164,null,{"$f":"E11*F11","v":0},0,{"$f":"E11*H11","v":0},-0.55000000000000004,{"$f":"E11*J11","v":-640.20000000000005},null,null,null,2,null,null,null,null,null,null,null,null,null,null,null,1,1,1,null,null,null,null,null,null,null,null,null,null,null,null,null,null,null,null,null,null,null,null,null,null,1,{"$f":"IF(AZ11=1,G11,0)","v":0},{"$f":"IF(AZ11=2,G11,0)","v":0},{"$f":"IF(AZ11=3,G11,0)","v":0},{"$f":"IF(AZ11=4,G11,0)","v":0},{"$f":"IF(AZ11=5,G11,0)","v":0},null,null,null,null,null,null,null,null,null,null,null,null,null,null,null,null,null,null,null,null,null,1,1]
[null,null,"Kanalizace a ČOV Benešov u Semil - I.etapa:",null,0,null,null,null,null,null,null,null,"Kanalizace a ČOV Benešov u Semil - I.etapa:"]
[null,null,"Skladba \"S2\":",null,0,null,null,null,null,null,null,null,"Skladba \"S2\":"]
[null,null,"Komunikace \"K2\":241,00",null,241,null,null,null,null,null,null,null,"Komunikace \"K2\":241,00"]
[null,null,"Komunikace \"K3\":421,00",null,421,null,null,null,null,null,null,null,"Komunikace \"K3\":421,00"]
[null,null,"Komunikace \"K4\":142,00",null,142,null,null,null,null,null,null,null,"Komunikace \"K4\":142,00"]
[null,null,"Komunikace u Stoky \"H\":200,00",null,200,null,null,null,null,null,null,null,"Komunikace u Stoky \"H\":200,00"]
[null,null,"Komunikace u Stoky \"J\":160,00",null,160,null,null,null,null,null,null,null,"Komunikace u Stoky \"J\":160,00"]
[3,"113107630R00","Odstranění podkladu nad 50 m2,kam.drcené tl.30 cm ","m2",4772,null,{"$f":"E19*F19","v":0},0,{"$f":"E19*H19","v":0},-0.66,{"$f":"E19*J19","v":-3149.52},null,null,null,2,null,null,null,null,null,null,null,null,null,null,null,1,1,1,null,null,null,null,null,null,null,null,null,null,null,null,null,null,null,null,null,null,null,null,null,null,1,{"$f":"IF(AZ19=1,G19,0)","v":0},{"$f":"IF(AZ19=2,G19,0)","v":0},{"$f":"IF(AZ19=3,G19,0)","v":0},{"$f":"IF(AZ19=4,G19,0)","v":0},{"$f":"IF(AZ19=5,G19,0)","v":0},null,null,null,null,null,null,null,null,null,null,null,null,null,null,null,null,null,null,null,null,null,1,1]
[null,null,null,null,null,null,null,null,null,null,null,null,null,null,3]
[null,null,"Kanalizace a ČOV Benešov u Semil - I.etapa:",null,0,null,null,null,null,null,null,null,"Kanalizace a ČOV Benešov u Semil - I.etapa:"]
[null,null,"Skladba \"S1\":",null,0,null,null,null,null,null,null,null,"Skladba \"S1\":"]
[null,null,"Komunikace \"K1\" (KSS LK III.tř):2120,00",null,2120,null,null,null,null,null,null,null,"Komunikace \"K1\" (KSS LK III.tř):2120,00"]
[null,null,"Skladba \"S3\":",null,0,null,null,null,null,null,null,null,"Skladba \"S3\":"]
[null,null,"Komunikace \"K5\" (KSS LK II.tř):1402,00",null,1402,null,null,null,null,null,null,null,"Komunikace \"K5\" (KSS LK II.tř):1402,00"]
[null,null,"Komunikace podél Stoky \"B\", \"B1\"  a části \"Výtlačného řadu A\"  (KSS LK II.tř.):1080,00",null,1080,null,null,null,null,null,null,null,"Komunikace podél Stoky \"B\", \"B1\"  a části \"Výtlačného řadu A\"  (KSS LK II.tř.):1080,00"]
[null,null,"Komunikace u části \"Výtlačného řadu A\" (KSS LK II.tř) - Prostor u Proplachovacích šachet:20,00*2",null,40,null,null,null,null,null,null,null,"Komunikace u části \"Výtlačného řadu A\" (KSS LK II.tř) - Prostor u Proplachovacích šachet:20,00*2"]
[null,null,"Komunikace u části \"Výtlačného řadu A\" (KSS LK II.tř) - Prostor u \"Napojovacího místa\":80,00",null,80,null,null,null,null,null,null,null,"Komunikace u části \"Výtlačného řadu A\" (KSS LK II.tř) - Prostor u \"Napojovacího místa\":80,00"]
[null,null,"Komunikace u části \"Výtlačného řadu A\" (KSS LK II.tř) - Prostor u kolmého přechohu komunikace:25,00*2",null,50,null,null,null,null,null,null,null,"Komunikace u části \"Výtlačného řadu A\" (KSS LK II.tř) - Prostor u kolmého přechohu komunikace:25,00*2"]
[4,"113108410R00","Odstranění asfaltové vrstvy pl.nad 50 m2, tl.10 cm ","m2",1007,null,{"$f":"E30*F30","v":0},0,{"$f":"E30*H30","v":0},-0.22,{"$f":"E30*J30","v":-221.54},null,null,null,2,null,null,null,null,null,null,null,null,null,null,null,1,1,1,null,null,null,null,null,null,null,null,null,null,null,null,null,null,null,null,null,null,null,null,null,null,1,{"$f":"IF(AZ30=1,G30,0)","v":0},{"$f":"IF(AZ30=2,G30,0)","v":0},{"$f":"IF(AZ30=3,G30,0)","v":0},{"$f":"IF(AZ30=4,G30,0)","v":0},{"$f":"IF(AZ30=5,G30,0)","v":0},null,null,null,null,null,null,null,null,null,null,null,null,null,null,null,null,null,null,null,null,null,1,1]
[null,null,"Kanalizace a ČOV Benešov u Semil - I.etapa:",null,0,null,null,null,null,null,null,null,"Kanalizace a ČOV Benešov u Semil - I.etapa:"]
[null,null,"Plochy chodníku - asfalt:747,00+260,00",null,1007,null,null,null,null,null,null,null,"Plochy chodníku - asfalt:747,00+260,00"]
[5,"113108415R00","Odstranění asfaltové vrstvy pl.nad 50 m2, tl.15 cm ","m2",65,null,{"$f":"E33*F33","v":0},0,{"$f":"E33*H33","v":0},-0.33,{"$f":"E33*J33","v":-21.45},null,null,null,2,null,null,null,null,null,null,null,null,null,null,null,1,1,1,null,null,null,null,null,null,null,null,null,null,null,null,null,null,null,null,null,null,null,null,null,null,1,{"$f":"IF(AZ33=1,G33,0)","v":0},{"$f":"IF(AZ33=2,G33,0)","v":0},{"$f":"IF(AZ33=3,G33,0)","v":0},{"$f":"IF(AZ33=4,G33,0)","v":0},{"$f":"IF(AZ33=5,G33,0)","v":0},null,null,null,null,null,null,null,null,null,null,null,null,null,null,null,null,null,null,null,null,null,1,1]
[null,null,"Kanalizace a ČOV Benešov u Semil - I.etapa:",null,0,null,null,null,null,null,null,null,"Kanalizace a ČOV Benešov u Semil - I.etapa:"]
[null,null,"Komunikace u části \"Výtlačného řadu A\" (KSS LK II.tř) - Prostory vjezdů:65,00",null,65,null,null,null,null,null,null,null,"Komunikace u části \"Výtlačného řadu A\" (KSS LK II.tř) - Prostory vjezdů:65,00"]
[6,"113153214R00","Fréz.beton.krytu nad 500 m2, bez překážek, tl.5 cm ","m2",250,null,{"$f":"E36*F36","v":0},0,{"$f":"E36*H36","v":0},-0.11,{"$f":"E36*J36","v":-27.5},null,null,null,2,null,null,null,null,null,null,null,null,null,null,null,1,1,1,null,null,null,null,null,null,null,null,null,null,null,null,null,null,null,null,null,null,null,null,null,null,1,{"$f":"IF(AZ36=1,G36,0)","v":0},{"$f":"IF(AZ36=2,G36,0)","v":0},{"$f":"IF(AZ36=3,G36,0)","v":0},{"$f":"IF(AZ36=4,G36,0)","v":0},{"$f":"IF(AZ36=5,G36,0)","v":0},null,null,null,null,null,null,null,null,null,null,null,null,null,null,null,null,null,null,null,null,null,1,1]
[null,null,"Kanalizace a ČOV Benešov u Semil - I.etapa:",null,0,null,null,null,null,null,null,null,"Kanalizace a ČOV Benešov u Semil - I.etapa:"]
[null,null,"Skladba \"S4\":",null,0,null,null,null,null,null,null,null,"Skladba \"S4\":"]
[null,null,"Komunikace \"K5\" - lokální rozšíření (odhad) (KSS LK II.tř.):250,00",null,250,null,null,null,null,null,null,null,"Komunikace \"K5\" - lokální rozšíření (odhad) (KSS LK II.tř.):250,00"]
[7,"113153219R00","Fréz.beton.krytu nad 500 m2, bez překážek, tl.10cm ","m2",1164,null,{"$f":"E40*F40","v":0},0,{"$f":"E40*H40","v":0},-0.22,{"$f":"E40*J40","v":-256.08},null,null,null,2,null,null,null,null,null,null,null,null,null,null,null,1,1,1,null,null,null,null,null,null,null,null,null,null,null,null,null,null,null,null,null,null,null,null,null,null,1,{"$f":"IF(AZ40=1,G40,0)","v":0},{"$f":"IF(AZ40=2,G40,0)","v":0},{"$f":"IF(AZ40=3,G40,0)","v":0},{"$f":"IF(AZ40=4,G40,0)","v":0},{"$f":"IF(AZ40=5,G40,0)","v":0},null,null,null,null,null,null,null,null,null,null,null,null,null,null,null,null,null,null,null,null,null,1,1]
[null,null,"Kanalizace a ČOV Benešov u Semil - I.etapa:",null,0,null,null,null,null,null,null,null,"Kanalizace a ČOV Benešov u Semil - I.etapa:"]
[null,null,"Skladba \"S2\":",null,0,null,null,null,null,null,null,null,"Skladba \"S2\":"]
[null,null,"Komunikace \"K2\":241,00",null,241,null,null,null,null,null,null,null,"Komunikace \"K2\":241,00"]
[null,null,"Komunikace \"K3\":421,00",null,421,null,null,null,null,null,null,null,"Komunikace \"K3\":421,00"]
[null,null,"Komunikace \"K4\":142,00",null,142,null,null,null,null,null,null,null,"Komunikace \"K4\":142,00"]
[null,null,"Komunikace u Stoky \"H\":200,00",null,200,null,null,null,null,null,null,null,"Komunikace u Stoky \"H\":200,00"]
[null,null,"Komunikace u Stoky \"J\":160,00",null,160,null,null,null,null,null,null,null,"Komunikace u Stoky \"J\":160,00"]
[8,"113153250R00","Fréz.beton.krytu nad 500 m2, bez překážek, tl.15cm ","m2",2120,null,{"$f":"E48*F48","v":0},0,{"$f":"E48*H48","v":0},-0.33,{"$f":"E48*J48","v":-699.6},null,null,null,2,null,null,null,null,null,null,null,null,null,null,null,1,1,1,null,null,null,null,null,null,null,null,null,null,null,null,null,null,null,null,null,null,null,null,null,null,1,{"$f":"IF(AZ48=1,G48,0)","v":0},{"$f":"IF(AZ48=2,G48,0)","v":0},{"$f":"IF(AZ48=3,G48,0)","v":0},{"$f":"IF(AZ48=4,G48,0)","v":0},{"$f":"IF(AZ48=5,G48,0)","v":0},null,null,null,null,null,null,null,null,null,null,null,null,null,null,null,null,null,null,null,null,null,1,1]
[null,null,"Skladba \"S1\":",null,0,null,null,null,null,null,null,null,"Skladba \"S1\":"]
[null,null,"Komunikace \"K1\" (KSS LK III.tř):2120,00",null,2120,null,null,null,null,null,null,null,"Komunikace \"K1\" (KSS LK III.tř):2120,00"]
[9,"113153255R00","Fréz.beton.krytu nad 500 m2, bez překážek, tl.20cm ","m2",2652,null,{"$f":"E51*F51","v":0},0,{"$f":"E51*H51","v":0},-0.44,{"$f":"E51*J51","v":-1166.8800000000001},null,null,null,2,null,null,null,null,null,null,null,null,null,null,null,1,1,1,null,null,null,null,null,null,null,null,null,null,null,null,null,null,null,null,null,null,null,null,null,null,1,{"$f":"IF(AZ51=1,G51,0)","v":0},{"$f":"IF(AZ51=2,G51,0)","v":0},{"$f":"IF(AZ51=3,G51,0)","v":0},{"$f":"IF(AZ51=4,G51,0)","v":0},{"$f":"IF(AZ51=5,G51,0)","v":0},null,null,null,null,null,null,null,null,null,null,null,null,null,null,null,null,null,null,null,null,null,1,1]
[null,null,"Kanalizace a ČOV Benešov u Semil - I.etapa:",null,0,null,null,null,null,null,null,null,"Kanalizace a ČOV Benešov u Semil - I.etapa:"]
[null,null,"Skladba \"S3\":",null,0,null,null,null,null,null,null,null,"Skladba \"S3\":"]
[null,null,"Komunikace \"K5\" (KSS LK II.tř):1402,00",null,1402,null,null,null,null,null,null,null,"Komunikace \"K5\" (KSS LK II.tř):1402,00"]
[null,null,"Komunikace podél Stoky \"B\", \"B1\"  a části \"Výtlačného řadu A\"  (KSS LK II.tř.):1080,00",null,1080,null,null,null,null,null,null,null,"Komunikace podél Stoky \"B\", \"B1\"  a části \"Výtlačného řadu A\"  (KSS LK II.tř.):1080,00"]
[null,null,"Komunikace u části \"Výtlačného řadu A\" (KSS LK II.tř) - Prostor u Proplachovacích šachet:20,00*2",null,40,null,null,null,null,null,null,null,"Komunikace u části \"Výtlačného řadu A\" (KSS LK II.tř) - Prostor u Proplachovacích šachet:20,00*2"]
[null,null,"Komunikace u části \"Výtlačného řadu A\" (KSS LK II.tř) - Prostor u \"Napojovacího místa\":80,00",null,80,null,null,null,null,null,null,null,"Komunikace u části \"Výtlačného řadu A\" (KSS LK II.tř) - Prostor u \"Napojovacího místa\":80,00"]
[null,null,"Komunikace u části \"Výtlačného řadu A\" (KSS LK II.tř) - Prostor u kolmého přechohu komunikace:25,00*2",null,50,null,null,null,null,null,null,null,"Komunikace u části \"Výtlačného řadu A\" (KSS LK II.tř) - Prostor u kolmého přechohu komunikace:25,00*2"]
[10,"113201111R00","Vytrhání obrubníků chodníkových a parkových ","m",1947,null,{"$f":"E59*F59","v":0},0,{"$f":"E59*H59","v":0},-0.22,{"$f":"E59*J59","v":-428.34},null,null,null,2,null,null,null,null,null,null,null,null,null,null,null,1,1,1,null,null,null,null,null,null,null,null,null,null,null,null,null,null,null,null,null,null,null,null,null,null,1,{"$f":"IF(AZ59=1,G59,0)","v":0},{"$f":"IF(AZ59=2,G59,0)","v":0},{"$f":"IF(AZ59=3,G59,0)","v":0},{"$f":"IF(AZ59=4,G59,0)","v":0},{"$f":"IF(AZ59=5,G59,0)","v":0},null,null,null,null,null,null,null,null,null,null,null,null,null,null,null,null,null,null,null,null,null,1,1]
[null,null,"Kanalizace a ČOV Benešov u Semil - I.etapa:",null,0,null,null,null,null,null,null,null,"Kanalizace a ČOV Benešov u Semil - I.etapa:"]
[null,null,"Stávající asfaltový chodník:(710,00+175,00)*2",null,1770,null,null,null,null,null,null,null,"Stávající asfaltový chodník:(710,00+175,00)*2"]
[null,null,"Rezerva 10%:177,00",null,177,null,null,null,null,null,null,null,"Rezerva 10%:177,00"]
[11,"181101102R00","Úprava pláně v zářezech v hor. 1-4, se zhutněním ","m2",8315.4599999999991,null,{"$f":"E63*F63","v":0},0,{"$f":"E63*H63","v":0},0,{"$f":"E63*J63","v":0},null,null,null,2,null,null,null,null,null,null,null,null,null,null,null,1,1,1,null,null,null,null,null,null,null,null,null,null,null,null,null,null,null,null,null,null,null,null,null,null,1,{"$f":"IF(AZ63=1,G63,0)","v":0},{"$f":"IF(AZ63=2,G63,0)","v":0},{"$f":"IF(AZ63=3,G63,0)","v":0},{"$f":"IF(AZ63=4,G63,0)","v":0},{"$f":"IF(AZ63=5,G63,0)","v":0},null,null,null,null,null,null,null,null,null,null,null,null,null,null,null,null,null,null,null,null,null,1,1]
[null,null,"Kanalizace a ČOV Benešov u Semil - I.etapa:",null,0,null,null,null,null,null,null,null,"Kanalizace a ČOV Benešov u Semil - I.etapa:"]
[null,null,"Skladba \"S1\":",null,0,null,null,null,null,null,null,null,"Skladba \"S1\":"]
[null,null,"Komunikace \"K1\":2120,00*1,1",null,2332,null,null,null,null,null,null,null,"Komunikace \"K1\":2120,00*1,1"]
[null,null,"Skladba \"S2\":",null,0,null,null,null,null,null,null,null,"Skladba \"S2\":"]
[null,null,"Komunikace \"K2\":241,00*1,1",null,265.10000000000002,null,null,null,null,null,null,null,"Komunikace \"K2\":241,00*1,1"]
[null,null,"Komunikace \"K3\":421,00*1,1",null,463.1,null,null,null,null,null,null,null,"Komunikace \"K3\":421,00*1,1"]
[null,null,"Komunikace \"K4\":142,00*1,1",null,156.19999999999999,null,null,null,null,null,null,null,"Komunikace \"K4\":142,00*1,1"]
[null,null,"Komunikace u Stoky \"H\":200,00*1,1",null,220,null,null,null,null,null,null,null,"Komunikace u Stoky \"H\":200,00*1,1"]
[null,null,"Komunikace u Stoky \"J\":160,00*1,1",null,176,null,null,null,null,null,null,null,"Komunikace u Stoky \"J\":160,00*1,1"]
[null,null,"Skladba \"S3\":",null,0,null,null,null,null,null,null,null,"Skladba \"S3\":"]
[null,null,"Komunikace \"K5\" (KSS LK II.tř):1402,00*1,1",null,1542.2,null,null,null,null,null,null,null,"Komunikace \"K5\" (KSS LK II.tř):1402,00*1,1"]
[null,null,"Komunikace podél Stoky \"B\", \"B1\"  a části \"Výtlačného řadu A\"  (KSS LK II.tř.):1080,00*1,1",null,1188,null,null,null,null,null,null,null,"Komunikace podél Stoky \"B\", \"B1\"  a části \"Výtlačného řadu A\"  (KSS LK II.tř.):1080,00*1,1"]
[null,null,"Komunikace u části \"Výtlačného řadu A\" (KSS LK II.tř) - Prostor u Proplachovacích šachet:20,00*2*1,1",null,44,null,null,null,null,null,null,null,"Komunikace u části \"Výtlačného řadu A\" (KSS LK II.tř) - Prostor u Proplachovacích šachet:20,00*2*1,1"]
[null,null,"Komunikace u části \"Výtlačného řadu A\" (KSS LK II.tř) - Prostor u \"Napojovacího místa\":80,00*1,1",null,88,null,null,null,null,null,null,null,"Komunikace u části \"Výtlačného řadu A\" (KSS LK II.tř) - Prostor u \"Napojovacího místa\":80,00*1,1"]
[null,null,"Komunikace u části \"Výtlačného řadu A\" (KSS LK II.tř) - Prostor u kolmého přechohu komunikace:25,00*2*1,1",null,55,null,null,null,null,null,null,null,"Komunikace u části \"Výtlačného řadu A\" (KSS LK II.tř) - Prostor u kolmého přechohu komunikace:25,00*2*1,1"]
[null,null,"Plochy chodníku - zámková dlažba:260,00*1,1",null,286,null,null,null,null,null,null,null,"Plochy chodníku - zámková dlažba:260,00*1,1"]
[null,null,"Plochy chodníku - asfalt:747,00*1,1",null,821.7,null,null,null,null,null,null,null,"Plochy chodníku - asfalt:747,00*1,1"]
[null,null,"Plochy chodníku - zámková dlažba:260,00*1,1",null,286,null,null,null,null,null,null,null,"Plochy chodníku - zámková dlažba:260,00*1,1"]
[null,null,"Ostatní plochy:",null,0,null,null,null,null,null,null,null,"Ostatní plochy:"]
[null,null,"Komunikace \"K1\":",null,0,null,null,null,null,null,null,null,"Komunikace \"K1\":"]
[null,null,"Kamenný žlab:117,00*0,80",null,93.6,null,null,null,null,null,null,null,"Kamenný žlab:117,00*0,80"]
[null,null,"Kamenná svodnice (3 kusy):7,00",null,7,null,null,null,null,null,null,null,"Kamenná svodnice (3 kusy):7,00"]
[null,null,"Komunikace \"K3\":",null,0,null,null,null,null,null,null,null,"Komunikace \"K3\":"]
[null,null,"Skluz z kamenné dlažby:3,00",null,3,null,null,null,null,null,null,null,"Skluz z kamenné dlažby:3,00"]
[null,null,"Komunikace \"K4\":",null,0,null,null,null,null,null,null,null,"Komunikace \"K4\":"]
[null,null,"Kamenný žlab:23,20*0,80",null,18.559999999999999,null,null,null,null,null,null,null,"Kamenný žlab:23,20*0,80"]
[null,null,"Krajnice:",null,0,null,null,null,null,null,null,null,"Krajnice:"]
[null,null,"Komunikace \"K1\":150,00",null,150,null,null,null,null,null,null,null,"Komunikace \"K1\":150,00"]
[null,null,"Komunikace \"K2\":120,00",null,120,null,null,null,null,null,null,null,"Komunikace \"K2\":120,00"]
[12,"979082112RMB","Vodorovná doprava frézovaného asfaltu na skládku Obce Benešov u Semil do 5 km","t",221.54,null,{"$f":"E93*F93","v":0},0,{"$f":"E93*H93","v":0},0,{"$f":"E93*J93","v":0},null,null,null,2,null,null,null,null,null,null,null,null,null,null,null,1,1,1,null,null,null,null,null,null,null,null,null,null,null,null,null,null,null,null,null,null,null,null,null,null,1,{"$f":"IF(AZ93=1,G93,0)","v":0},{"$f":"IF(AZ93=2,G93,0)","v":0},{"$f":"IF(AZ93=3,G93,0)","v":0},{"$f":"IF(AZ93=4,G93,0)","v":0},{"$f":"IF(AZ93=5,G93,0)","v":0},null,null,null,null,null,null,null,null,null,null,null,null,null,null,null,null,null,null,null,null,null,1,1]
[null,null,"Kanalizace a ČOV Benešov u Semil - I.etapa:",null,0,null,null,null,null,null,null,null,"Kanalizace a ČOV Benešov u Semil - I.etapa:"]
[null,null,"Frézovaný asfalt z místních komunikací:221,54",null,221.54,null,null,null,null,null,null,null,"Frézovaný asfalt z místních komunikací:221,54"]
[13,"979082113RMK","Vodorovná doprava frézovaného asfaltu na skládku KSS LK do 5 km","t",1893.98,null,{"$f":"E96*F96","v":0},0,{"$f":"E96*H96","v":0},0,{"$f":"E96*J96","v":0},null,null,null,2,null,null,null,null,null,null,null,null,null,null,null,1,1,1,null,null,null,null,null,null,null,null,null,null,null,null,null,null,null,null,null,null,null,null,null,null,1,{"$f":"IF(AZ96=1,G96,0)","v":0},{"$f":"IF(AZ96=2,G96,0)","v":0},{"$f":"IF(AZ96=3,G96,0)","v":0},{"$f":"IF(AZ96=4,G96,0)","v":0},{"$f":"IF(AZ96=5,G96,0)","v":0},null,null,null,null,null,null,null,null,null,null,null,null,null,null,null,null,null,null,null,null,null,1,1]
[null,null,"Kanalizace a ČOV Benešov u Semil - I.etapa:",null,0,null,null,null,null,null,null,null,"Kanalizace a ČOV Benešov u Semil - I.etapa:"]
[null,null,"Frézovaný asfalt k komunikací KSS LK:1893,98",null,1893.98,null,null,null,null,null,null,null,"Frézovaný asfalt k komunikací KSS LK:1893,98"]
[14,"979082113RSZ","Vodorovná doprava suti po suchu na skládku zhotovitele","t",4799.3,null,{"$f":"E99*F99","v":0},0,{"$f":"E99*H99","v":0},0,{"$f":"E99*J99","v":0},null,null,null,2,null,null,null,null,null,null,null,null,null,null,null,1,1,1,null,null,null,null,null,null,null,null,null,null,null,null,null,null,null,null,null,null,null,null,null,null,1,{"$f":"IF(AZ99=1,G99,0)","v":0},{"$f":"IF(AZ99=2,G99,0)","v":0},{"$f":"IF(AZ99=3,G99,0)","v":0},{"$f":"IF(AZ99=4,G99,0)","v":0},{"$f":"IF(AZ99=5,G99,0)","v":0},null,null,null,null,null,null,null,null,null,null,null,null,null,null,null,null,null,null,null,null,null,1,1]
[null,null,"Kanalizace a ČOV Benešov u Semil - I.etapa:",null,0,null,null,null,null,null,null,null,"Kanalizace a ČOV Benešov u Semil - I.etapa:"]
[null,null,"Štěrky z komunikací:4122,03",null,4122.03,null,null,null,null,null,null,null,"Štěrky z komunikací:4122,03"]
[null,null,"Betony:434,28",null,434.28,null,null,null,null,null,null,null,"Betony:434,28"]
[null,null,"Asfalty:242,99",null,242.99,null,null,null,null,null,null,null,"Asfalty:242,99"]
[15,"979089001R00","Poplatek za skládku stavební suti štěrky z komunikací, skupina odpadu 010408","t",4122.03,null,{"$f":"E104*F104","v":0},0,{"$f":"E104*H104","v":0},0,{"$f":"E104*J104","v":0},null,null,null,2,null,null,null,null,null,null,null,null,null,null,null,1,1,1,null,null,null,null,null,null,null,null,null,null,null,null,null,null,null,null,null,null,null,null,null,null,1,{"$f":"IF(AZ104=1,G104,0)","v":0},{"$f":"IF(AZ104=2,G104,0)","v":0},{"$f":"IF(AZ104=3,G104,0)","v":0},{"$f":"IF(AZ104=4,G104,0)","v":0},{"$f":"IF(AZ104=5,G104,0)","v":0},null,null,null,null,null,null,null,null,null,null,null,null,null,null,null,null,null,null,null,null,null,1,1]
[null,null,"Kanalizace a ČOV Benešov u Semil - I.etapa:",null,0,null,null,null,null,null,null,null,"Kanalizace a ČOV Benešov u Semil - I.etapa:"]
[null,null,"Štěrky z komunikací:4122,03",null,4122.03,null,null,null,null,null,null,null,"Štěrky z komunikací:4122,03"]
[16,"979990103R00","Poplatek za skládku stavební suti beton  skupina odpadu 170101","t",434.28,null,{"$f":"E107*F107","v":0},0,{"$f":"E107*H107","v":0},0,{"$f":"E107*J107","v":0},null,null,null,2,null,null,null,null,null,null,null,null,null,null,null,1,1,1,null,null,null,null,null,null,null,null,null,null,null,null,null,null,null,null,null,null,null,null,null,null,1,{"$f":"IF(AZ107=1,G107,0)","v":0},{"$f":"IF(AZ107=2,G107,0)","v":0},{"$f":"IF(AZ107=3,G107,0)","v":0},{"$f":"IF(AZ107=4,G107,0)","v":0},{"$f":"IF(AZ107=5,G107,0)","v":0},null,null,null,null,null,null,null,null,null,null,null,null,null,null,null,null,null,null,null,null,null,1,1]
[null,null,"Kanalizace a ČOV Benešov u Semil - I.etapa:",null,0,null,null,null,null,null,null,null,"Kanalizace a ČOV Benešov u Semil - I.etapa:"]
[null,null,"Betony:434,28",null,434.28,null,null,null,null,null,null,null,"Betony:434,28"]
[17,"979999995R00","Poplatek za reciklaci asfaltu, kusovost do 1600cm2 skupina 170302","t",242.99,null,{"$f":"E110*F110","v":0},0,{"$f":"E110*H110","v":0},0,{"$f":"E110*J110","v":0},null,null,null,2,null,null,null,null,null,null,null,null,null,null,null,1,1,1,null,null,null,null,null,null,null,null,null,null,null,null,null,null,null,null,null,null,null,null,null,null,1,{"$f":"IF(AZ110=1,G110,0)","v":0},{"$f":"IF(AZ110=2,G110,0)","v":0},{"$f":"IF(AZ110=3,G110,0)","v":0},{"$f":"IF(AZ110=4,G110,0)","v":0},{"$f":"IF(AZ110=5,G110,0)","v":0},null,null,null,null,null,null,null,null,null,null,null,null,null,null,null,null,null,null,null,null,null,1,1]
[null,null,"Položka je určena pro suť o velikosti kusu do 30x30 cm (technologický materiál určený k recyklaci).",null,null,null,null,null,null,null,null,"Položka je určena pro suť o velikosti kusu do 30x30 cm (technologický materiál určený k recyklaci).",null,null,3]
[null,null,"Kanalizace a ČOV Benešov u Semil - I.etapa:",null,0,null,null,null,null,null,null,null,"Kanalizace a ČOV Benešov u Semil - I.etapa:"]
[null,null,"Asfalty:242,99",null,242.99,null,null,null,null,null,null,null,"Asfalty:242,99"]
[null,"Celkem za","1 Zemní práce",null,null,null,{"$f":"SUM(G7:G113)","v":0},null,{"$f":"SUM(I7:I113)","v":0},null,{"$f":"SUM(K7:K113)","v":-6943.42},null,null,null,4,null,null,null,null,null,null,null,null,null,null,null,null,null,null,null,null,null,null,null,null,null,null,null,null,null,null,null,null,null,null,null,null,null,null,null,null,null,{"$f":"SUM(BA7:BA113)","v":0},{"$f":"SUM(BB7:BB113)","v":0},{"$f":"SUM(BC7:BC113)","v":0},{"$f":"SUM(BD7:BD113)","v":0},{"$f":"SUM(BE7:BE113)","v":0}]
["Díl:","5","Komunikace",null,null,null,null,null,null,null,null,null,null,null,1]
[18,"564661111R00","Podklad z kameniva drceného 63-125 mm, tl. 20 cm ","m2",124,null,{"$f":"E116*F116","v":0},0.43,{"$f":"E116*H116","v":53.32},0,{"$f":"E116*J116","v":0},null,null,null,2,null,null,null,null,null,null,null,null,null,null,null,1,1,1,null,null,null,null,null,null,null,null,null,null,null,null,null,null,null,null,null,null,null,null,null,null,1,{"$f":"IF(AZ116=1,G116,0)","v":0},{"$f":"IF(AZ116=2,G116,0)","v":0},{"$f":"IF(AZ116=3,G116,0)","v":0},{"$f":"IF(AZ116=4,G116,0)","v":0},{"$f":"IF(AZ116=5,G116,0)","v":0},null,null,null,null,null,null,null,null,null,null,null,null,null,null,null,null,null,null,null,null,null,1,1]
[null,null,"Kanalizace a ČOV Benešov u Semil - I.etapa:",null,0,null,null,null,null,null,null,null,"Kanalizace a ČOV Benešov u Semil - I.etapa:"]
[null,null,"Komunikace \"K1\" (KSS LK III.tř.):",null,0,null,null,null,null,null,null,null,"Komunikace \"K1\" (KSS LK III.tř.):"]
[null,null,"Zasakovací krajnice:62,00*2",null,124,null,null,null,null,null,null,null,"Zasakovací krajnice:62,00*2"]
[19,"564681111R00","Podklad z kameniva drceného 63-125 mm, tl. 30 cm ","m2",124,null,{"$f":"E120*F120","v":0},0.64500000000000002,{"$f":"E120*H120","v":79.98},0,{"$f":"E120*J120","v":0},null,null,null,2,null,null,null,null,null,null,null,null,null,null,null,1,1,1,null,null,null,null,null,null,null,null,null,null,null,null,null,null,null,null,null,null,null,null,null,null,1,{"$f":"IF(AZ120=1,G120,0)","v":0},{"$f":"IF(AZ120=2,G120,0)","v":0},{"$f":"IF(AZ120=3,G120,0)","v":0},{"$f":"IF(AZ120=4,G120,0)","v":0},{"$f":"IF(AZ120=5,G120,0)","v":0},null,null,null,null,null,null,null,null,null,null,null,null,null,null,null,null,null,null,null,null,null,1,1]
[null,null,"Kanalizace a ČOV Benešov u Semil - I.etapa:",null,0,null,null,null,null,null,null,null,"Kanalizace a ČOV Benešov u Semil - I.etapa:"]
[null,null,"Komunikace \"K1\" (KSS LK III.tř.):",null,0,null,null,null,null,null,null,null,"Komunikace \"K1\" (KSS LK III.tř.):"]
[null,null,"Zasakovací krajnice:62,00*2",null,124,null,null,null,null,null,null,null,"Zasakovací krajnice:62,00*2"]
[20,"564851111RT2","Podklad ze štěrkodrti po zhutnění tloušťky 15 cm štěrkodrť frakce 0-32 mm","m2",62,null,{"$f":"E124*F124","v":0},0.378,{"$f":"E124*H124","v":23.436},0,{"$f":"E124*J124","v":0},null,null,null,2,null,null,null,null,null,null,null,null,null,null,null,1,1,1,null,null,null,null,null,null,null,null,null,null,null,null,null,null,null,null,null,null,null,null,null,null,1,{"$f":"IF(AZ124=1,G124,0)","v":0},{"$f":"IF(AZ124=2,G124,0)","v":0},{"$f":"IF(AZ124=3,G124,0)","v":0},{"$f":"IF(AZ124=4,G124,0)","v":0},{"$f":"IF(AZ124=5,G124,0)","v":0},null,null,null,null,null,null,null,null,null,null,null,null,null,null,null,null,null,null,null,null,null,1,1]
[null,null,"Kanalizace a ČOV Benešov u Semil - I.etapa:",null,0,null,null,null,null,null,null,null,"Kanalizace a ČOV Benešov u Semil - I.etapa:"]
[null,null,"Komunikace \"K1\" (KSS LK III.tř.):",null,0,null,null,null,null,null,null,null,"Komunikace \"K1\" (KSS LK III.tř.):"]
[null,null,"Zasakovací krajnice:62,00",null,62,null,null,null,null,null,null,null,"Zasakovací krajnice:62,00"]
[21,"564851111RT4","Podklad ze štěrkodrti po zhutnění tloušťky 15 cm štěrkodrť frakce 0-63 mm","m2",7746,null,{"$f":"E128*F128","v":0},0.378,{"$f":"E128*H128","v":2927.9879999999998},0,{"$f":"E128*J128","v":0},null,null,null,2,null,null,null,null,null,null,null,null,null,null,null,1,1,1,null,null,null,null,null,null,null,null,null,null,null,null,null,null,null,null,null,null,null,null,null,null,1,{"$f":"IF(AZ128=1,G128,0)","v":0},{"$f":"IF(AZ128=2,G128,0)","v":0},{"$f":"IF(AZ128=3,G128,0)","v":0},{"$f":"IF(AZ128=4,G128,0)","v":0},{"$f":"IF(AZ128=5,G128,0)","v":0},null,null,null,null,null,null,null,null,null,null,null,null,null,null,null,null,null,null,null,null,null,1,1]
[null,null,"Kanalizace a ČOV Benešov u Semil - I.etapa:",null,0,null,null,null,null,null,null,null,"Kanalizace a ČOV Benešov u Semil - I.etapa:"]
[null,null,"Skladba \"S1\":",null,0,null,null,null,null,null,null,null,"Skladba \"S1\":"]
[null,null,"Komunikace \"K1\" (KSS LK III.tř.):2120,00",null,2120,null,null,null,null,null,null,null,"Komunikace \"K1\" (KSS LK III.tř.):2120,00"]
[null,null,"Zasakovací krajnice:62,00",null,62,null,null,null,null,null,null,null,"Zasakovací krajnice:62,00"]
[null,null,"Skladba \"S3\":",null,0,null,null,null,null,null,null,null,"Skladba \"S3\":"]
[null,null,"Komunikace \"K5\" (KSS LK II.tř):1402,00*2",null,2804,null,null,null,null,null,null,null,"Komunikace \"K5\" (KSS LK II.tř):1402,00*2"]
[null,null,"Komunikace podél Stoky \"B\", \"B1\"  a části \"Výtlačného řadu A\"  (KSS LK II.tř.):1080,00*2",null,2160,null,null,null,null,null,null,null,"Komunikace podél Stoky \"B\", \"B1\"  a části \"Výtlačného řadu A\"  (KSS LK II.tř.):1080,00*2"]
[null,null,"Komunikace u části \"Výtlačného řadu A\" (KSS LK II.tř) - Prostor u Proplachovacích šachet:20,00*2*2",null,80,null,null,null,null,null,null,null,"Komunikace u části \"Výtlačného řadu A\" (KSS LK II.tř) - Prostor u Proplachovacích šachet:20,00*2*2"]
[null,null,"Komunikace u části \"Výtlačného řadu A\" (KSS LK II.tř) - Prostor u \"Napojovacího místa\":80,00*2",null,160,null,null,null,null,null,null,null,"Komunikace u části \"Výtlačného řadu A\" (KSS LK II.tř) - Prostor u \"Napojovacího místa\":80,00*2"]
[null,null,"Komunikace u části \"Výtlačného řadu A\" (KSS LK II.tř) - Prostor u kolmého přechohu komunikace:25,00*2*2",null,100,null,null,null,null,null,null,null,"Komunikace u části \"Výtlačného řadu A\" (KSS LK II.tř) - Prostor u kolmého přechohu komunikace:25,00*2*2"]
[null,null,"Plochy chodníku - zámková dlažba:260,00",null,260,null,null,null,null,null,null,null,"Plochy chodníku - zámková dlažba:260,00"]
[22,"564851113RT4","Podklad ze štěrkodrti po zhutnění tloušťky 17 cm štěrkodrť frakce 0-63 mm","m2",747,null,{"$f":"E140*F140","v":0},0.4284,{"$f":"E140*H140","v":320.01479999999998},0,{"$f":"E140*J140","v":0},null,null,null,2,null,null,null,null,null,null,null,null,null,null,null,1,1,1,null,null,null,null,null,null,null,null,null,null,null,null,null,null,null,null,null,null,null,null,null,null,1,{"$f":"IF(AZ140=1,G140,0)","v":0},{"$f":"IF(AZ140=2,G140,0)","v":0},{"$f":"IF(AZ140=3,G140,0)","v":0},{"$f":"IF(AZ140=4,G140,0)","v":0},{"$f":"IF(AZ140=5,G140,0)","v":0},null,null,null,null,null,null,null,null,null,null,null,null,null,null,null,null,null,null,null,null,null,1,1]
[null,null,"Kanalizace a ČOV Benešov u Semil - I.etapa:",null,0,null,null,null,null,null,null,null,"Kanalizace a ČOV Benešov u Semil - I.etapa:"]
[null,null,"Plochy chodníku - asfalt:747,00",null,747,null,null,null,null,null,null,null,"Plochy chodníku - asfalt:747,00"]
[23,"564861111RT4","Podklad ze štěrkodrti po zhutnění tloušťky 20 cm štěrkodrť frakce 0-63 mm","m2",2120,null,{"$f":"E143*F143","v":0},0.441,{"$f":"E143*H143","v":934.92},0,{"$f":"E143*J143","v":0},null,null,null,2,null,null,null,null,null,null,null,null,null,null,null,1,1,1,null,null,null,null,null,null,null,null,null,null,null,null,null,null,null,null,null,null,null,null,null,null,1,{"$f":"IF(AZ143=1,G143,0)","v":0},{"$f":"IF(AZ143=2,G143,0)","v":0},{"$f":"IF(AZ143=3,G143,0)","v":0},{"$f":"IF(AZ143=4,G143,0)","v":0},{"$f":"IF(AZ143=5,G143,0)","v":0},null,null,null,null,null,null,null,null,null,null,null,null,null,null,null,null,null,null,null,null,null,1,1]
[null,null,"Kanalizace a ČOV Benešov u Semil - I.etapa:",null,0,null,null,null,null,null,null,null,"Kanalizace a ČOV Benešov u Semil - I.etapa:"]
[null,null,"Skladba \"S1\":",null,0,null,null,null,null,null,null,null,"Skladba \"S1\":"]
[null,null,"Komunikace \"K1\" (KSS LK III.tř.):2120,00",null,2120,null,null,null,null,null,null,null,"Komunikace \"K1\" (KSS LK III.tř.):2120,00"]
[24,"564871111RT4","Podklad ze štěrkodrti po zhutnění tloušťky 25 cm štěrkodrť frakce 0-63 mm","m2",1164,null,{"$f":"E147*F147","v":0},0.55125000000000002,{"$f":"E147*H147","v":641.65499999999997},0,{"$f":"E147*J147","v":0},null,null,null,2,null,null,null,null,null,null,null,null,null,null,null,1,1,1,null,null,null,null,null,null,null,null,null,null,null,null,null,null,null,null,null,null,null,null,null,null,1,{"$f":"IF(AZ147=1,G147,0)","v":0},{"$f":"IF(AZ147=2,G147,0)","v":0},{"$f":"IF(AZ147=3,G147,0)","v":0},{"$f":"IF(AZ147=4,G147,0)","v":0},{"$f":"IF(AZ147=5,G147,0)","v":0},null,null,null,null,null,null,null,null,null,null,null,null,null,null,null,null,null,null,null,null,null,1,1]
[null,null,"Kanalizace a ČOV Benešov u Semil - I.etapa:",null,0,null,null,null,null,null,null,null,"Kanalizace a ČOV Benešov u Semil - I.etapa:"]
[null,null,"Skladba \"S2\":",null,0,null,null,null,null,null,null,null,"Skladba \"S2\":"]
[null,null,"Komunikace \"K2\":241,00",null,241,null,null,null,null,null,null,null,"Komunikace \"K2\":241,00"]
[null,null,"Komunikace \"K3\":421,00",null,421,null,null,null,null,null,null,null,"Komunikace \"K3\":421,00"]
[null,null,"Komunikace \"K4\":142,00",null,142,null,null,null,null,null,null,null,"Komunikace \"K4\":142,00"]
[null,null,"Komunikace u Stoky \"H\":200,00",null,200,null,null,null,null,null,null,null,"Komunikace u Stoky \"H\":200,00"]
[null,null,"Komunikace u Stoky \"J\":160,00",null,160,null,null,null,null,null,null,null,"Komunikace u Stoky \"J\":160,00"]
[25,"565141211R00","Podklad z obal kam.ACP 16+,ACP 22+,nad 3 m,tl.6 cm ","m2",1164,null,{"$f":"E155*F155","v":0},0,{"$f":"E155*H155","v":0},0,{"$f":"E155*J155","v":0},null,null,null,2,null,null,null,null,null,null,null,null,null,null,null,1,1,1,null,null,null,null,null,null,null,null,null,null,null,null,null,null,null,null,null,null,null,null,null,null,1,{"$f":"IF(AZ155=1,G155,0)","v":0},{"$f":"IF(AZ155=2,G155,0)","v":0},{"$f":"IF(AZ155=3,G155,0)","v":0},{"$f":"IF(AZ155=4,G155,0)","v":0},{"$f":"IF(AZ155=5,G155,0)","v":0},null,null,null,null,null,null,null,null,null,null,null,null,null,null,null,null,null,null,null,null,null,1,1]
[null,null,"Kanalizace a ČOV Benešov u Semil - I.etapa:",null,0,null,null,null,null,null,null,null,"Kanalizace a ČOV Benešov u Semil - I.etapa:"]
[null,null,"Skladba \"S2\":",null,0,null,null,null,null,null,null,null,"Skladba \"S2\":"]
[null,null,"Komunikace \"K2\":241,00",null,241,null,null,null,null,null,null,null,"Komunikace \"K2\":241,00"]
[null,null,"Komunikace \"K3\":421,00",null,421,null,null,null,null,null,null,null,"Komunikace \"K3\":421,00"]
[null,null,"Komunikace \"K4\":142,00",null,142,null,null,null,null,null,null,null,"Komunikace \"K4\":142,00"]
[null,null,"Komunikace u Stoky \"H\":200,00",null,200,null,null,null,null,null,null,null,"Komunikace u Stoky \"H\":200,00"]
[null,null,"Komunikace u Stoky \"J\":160,00",null,160,null,null,null,null,null,null,null,"Komunikace u Stoky \"J\":160,00"]
[26,"565151111RT2","Podklad z obal kam.ACP 16+,ACP 22+,do 3 m,tl. 7 cm plochy 201-1000 m2","m2",747,null,{"$f":"E163*F163","v":0},0,{"$f":"E163*H163","v":0},0,{"$f":"E163*J163","v":0},null,null,null,2,null,null,null,null,null,null,null,null,null,null,null,1,1,1,null,null,null,null,null,null,null,null,null,null,null,null,null,null,null,null,null,null,null,null,null,null,1,{"$f":"IF(AZ163=1,G163,0)","v":0},{"$f":"IF(AZ163=2,G163,0)","v":0},{"$f":"IF(AZ163=3,G163,0)","v":0},{"$f":"IF(AZ163=4,G163,0)","v":0},{"$f":"IF(AZ163=5,G163,0)","v":0},null,null,null,null,null,null,null,null,null,null,null,null,null,null,null,null,null,null,null,null,null,1,1]
[null,null,"Kanalizace a ČOV Benešov u Semil - I.etapa:",null,0,null,null,null,null,null,null,null,"Kanalizace a ČOV Benešov u Semil - I.etapa:"]
[null,null,"Plochy chodníku - asfalt:747,00",null,747,null,null,null,null,null,null,null,"Plochy chodníku - asfalt:747,00"]
[27,"565151211R00","Podklad z obal kam.ACP 16+,ACP 22+,nad 3 m,tl.7 cm ","m2",2652,null,{"$f":"E166*F166","v":0},0,{"$f":"E166*H166","v":0},0,{"$f":"E166*J166","v":0},null,null,null,2,null,null,null,null,null,null,null,null,null,null,null,1,1,1,null,null,null,null,null,null,null,null,null,null,null,null,null,null,null,null,null,null,null,null,null,null,1,{"$f":"IF(AZ166=1,G166,0)","v":0},{"$f":"IF(AZ166=2,G166,0)","v":0},{"$f":"IF(AZ166=3,G166,0)","v":0},{"$f":"IF(AZ166=4,G166,0)","v":0},{"$f":"IF(AZ166=5,G166,0)","v":0},null,null,null,null,null,null,null,null,null,null,null,null,null,null,null,null,null,null,null,null,null,1,1]
[null,null,"Kanalizace a ČOV Benešov u Semil - I.etapa:",null,0,null,null,null,null,null,null,null,"Kanalizace a ČOV Benešov u Semil - I.etapa:"]
[null,null,"Skladba \"S3\":",null,0,null,null,null,null,null,null,null,"Skladba \"S3\":"]
[null,null,"Komunikace \"K5\" (KSS LK II.tř):1402,00",null,1402,null,null,null,null,null,null,null,"Komunikace \"K5\" (KSS LK II.tř):1402,00"]
[null,null,"Komunikace podél Stoky \"B\", \"B1\"  a části \"Výtlačného řadu A\"  (KSS LK II.tř.):1080,00",null,1080,null,null,null,null,null,null,null,"Komunikace podél Stoky \"B\", \"B1\"  a části \"Výtlačného řadu A\"  (KSS LK II.tř.):1080,00"]
[null,null,"Komunikace u části \"Výtlačného řadu A\" (KSS LK II.tř) - Prostor u Proplachovacích šachet:20,00*2",null,40,null,null,null,null,null,null,null,"Komunikace u části \"Výtlačného řadu A\" (KSS LK II.tř) - Prostor u Proplachovacích šachet:20,00*2"]
[null,null,"Komunikace u části \"Výtlačného řadu A\" (KSS LK II.tř) - Prostor u \"Napojovacího místa\":80,00",null,80,null,null,null,null,null,null,null,"Komunikace u části \"Výtlačného řadu A\" (KSS LK II.tř) - Prostor u \"Napojovacího místa\":80,00"]
[null,null,"Komunikace u části \"Výtlačného řadu A\" (KSS LK II.tř) - Prostor u kolmého přechohu komunikace:25,00*2",null,50,null,null,null,null,null,null,null,"Komunikace u části \"Výtlačného řadu A\" (KSS LK II.tř) - Prostor u kolmého přechohu komunikace:25,00*2"]
[28,"565161212R00","Podklad z obal kamen.ACP 16+, š.nad 3 m, tl. 9 cm ","m2",2120,null,{"$f":"E174*F174","v":0},0,{"$f":"E174*H174","v":0},0,{"$f":"E174*J174","v":0},null,null,null,2,null,null,null,null,null,null,null,null,null,null,null,1,1,1,null,null,null,null,null,null,null,null,null,null,null,null,null,null,null,null,null,null,null,null,null,null,1,{"$f":"IF(AZ174=1,G174,0)","v":0},{"$f":"IF(AZ174=2,G174,0)","v":0},{"$f":"IF(AZ174=3,G174,0)","v":0},{"$f":"IF(AZ174=4,G174,0)","v":0},{"$f":"IF(AZ174=5,G174,0)","v":0},null,null,null,null,null,null,null,null,null,null,null,null,null,null,null,null,null,null,null,null,null,1,1]
[null,null,"Kanalizace a ČOV Benešov u Semil - I.etapa:",null,0,null,null,null,null,null,null,null,"Kanalizace a ČOV Benešov u Semil - I.etapa:"]
[null,null,"Skladba \"S1\":",null,0,null,null,null,null,null,null,null,"Skladba \"S1\":"]
[null,null,"Komunikace \"K1\" (KSS LK III.tř.):2120,00",null,2120,null,null,null,null,null,null,null,"Komunikace \"K1\" (KSS LK III.tř.):2120,00"]
[29,"565171211R00","Podklad z obal kamen.ACP 22+, š.nad 3 m, tl. 10 cm ","m2",2652,null,{"$f":"E178*F178","v":0},0,{"$f":"E178*H178","v":0},0,{"$f":"E178*J178","v":0},null,null,null,2,null,null,null,null,null,null,null,null,null,null,null,1,1,1,null,null,null,null,null,null,null,null,null,null,null,null,null,null,null,null,null,null,null,null,null,null,1,{"$f":"IF(AZ178=1,G178,0)","v":0},{"$f":"IF(AZ178=2,G178,0)","v":0},{"$f":"IF(AZ178=3,G178,0)","v":0},{"$f":"IF(AZ178=4,G178,0)","v":0},{"$f":"IF(AZ178=5,G178,0)","v":0},null,null,null,null,null,null,null,null,null,null,null,null,null,null,null,null,null,null,null,null,null,1,1]
[null,null,"Kanalizace a ČOV Benešov u Semil - I.etapa:",null,0,null,null,null,null,null,null,null,"Kanalizace a ČOV Benešov u Semil - I.etapa:"]
[null,null,"Skladba \"S3\":",null,0,null,null,null,null,null,null,null,"Skladba \"S3\":"]
[null,null,"Komunikace \"K5\" (KSS LK II.tř):1402,00",null,1402,null,null,null,null,null,null,null,"Komunikace \"K5\" (KSS LK II.tř):1402,00"]
[null,null,"Komunikace podél Stoky \"B\", \"B1\"  a části \"Výtlačného řadu A\"  (KSS LK II.tř.):1080,00",null,1080,null,null,null,null,null,null,null,"Komunikace podél Stoky \"B\", \"B1\"  a části \"Výtlačného řadu A\"  (KSS LK II.tř.):1080,00"]
[null,null,"Komunikace u části \"Výtlačného řadu A\" (KSS LK II.tř) - Prostor u Proplachovacích šachet:20,00*2",null,40,null,null,null,null,null,null,null,"Komunikace u části \"Výtlačného řadu A\" (KSS LK II.tř) - Prostor u Proplachovacích šachet:20,00*2"]
[null,null,"Komunikace u části \"Výtlačného řadu A\" (KSS LK II.tř) - Prostor u \"Napojovacího místa\":80,00",null,80,null,null,null,null,null,null,null,"Komunikace u části \"Výtlačného řadu A\" (KSS LK II.tř) - Prostor u \"Napojovacího místa\":80,00"]
[null,null,"Komunikace u části \"Výtlačného řadu A\" (KSS LK II.tř) - Prostor u kolmého přechohu komunikace:25,00*2",null,50,null,null,null,null,null,null,null,"Komunikace u části \"Výtlačného řadu A\" (KSS LK II.tř) - Prostor u kolmého přechohu komunikace:25,00*2"]
[30,"566903111R00","Vyspravení podkladu po překopech kam.hrubě drceným ","t",36.523499999999999,null,{"$f":"E186*F186","v":0},1.1000000000000001,{"$f":"E186*H186","v":40.175850000000004},0,{"$f":"E186*J186","v":0},null,null,null,2,null,null,null,null,null,null,null,null,null,null,null,1,1,1,null,null,null,null,null,null,null,null,null,null,null,null,null,null,null,null,null,null,null,null,null,null,1,{"$f":"IF(AZ186=1,G186,0)","v":0},{"$f":"IF(AZ186=2,G186,0)","v":0},{"$f":"IF(AZ186=3,G186,0)","v":0},{"$f":"IF(AZ186=4,G186,0)","v":0},{"$f":"IF(AZ186=5,G186,0)","v":0},null,null,null,null,null,null,null,null,null,null,null,null,null,null,null,null,null,null,null,null,null,1,1]
[null,null,"Kanalizace a ČOV Benešov u Semil - I.etapa:",null,0,null,null,null,null,null,null,null,"Kanalizace a ČOV Benešov u Semil - I.etapa:"]
[null,null,"Komunikace u části \"Výtlačného řadu A\" (KSS LK II.tř) - Prostory vjezdů:65,00*0,30*1,873",null,36.523499999999999,null,null,null,null,null,null,null,"Komunikace u části \"Výtlačného řadu A\" (KSS LK II.tř) - Prostory vjezdů:65,00*0,30*1,873"]
[31,"566904111R00","Vyspravení podkladu po překopech kam.obal.asfaltem ","t",17.875,null,{"$f":"E189*F189","v":0},1,{"$f":"E189*H189","v":17.875},0,{"$f":"E189*J189","v":0},null,null,null,2,null,null,null,null,null,null,null,null,null,null,null,1,1,1,null,null,null,null,null,null,null,null,null,null,null,null,null,null,null,null,null,null,null,null,null,null,1,{"$f":"IF(AZ189=1,G189,0)","v":0},{"$f":"IF(AZ189=2,G189,0)","v":0},{"$f":"IF(AZ189=3,G189,0)","v":0},{"$f":"IF(AZ189=4,G189,0)","v":0},{"$f":"IF(AZ189=5,G189,0)","v":0},null,null,null,null,null,null,null,null,null,null,null,null,null,null,null,null,null,null,null,null,null,1,1]
[null,null,"Kanalizace a ČOV Benešov u Semil - I.etapa:",null,0,null,null,null,null,null,null,null,"Kanalizace a ČOV Benešov u Semil - I.etapa:"]
[null,null,"Komunikace u části \"Výtlačného řadu A\" (KSS LK II.tř) - Prostory vjezdů:65,00*0,10*2,5*1,1",null,17.875,null,null,null,null,null,null,null,"Komunikace u části \"Výtlačného řadu A\" (KSS LK II.tř) - Prostory vjezdů:65,00*0,10*2,5*1,1"]
[32,"569851111R00","Zpevnění krajnic štěrkodrtí tloušťky  15 cm ","m2",270,null,{"$f":"E192*F192","v":0},0.27799000000000001,{"$f":"E192*H192","v":75.057299999999998},0,{"$f":"E192*J192","v":0},null,null,null,2,null,null,null,null,null,null,null,null,null,null,null,1,1,1,null,null,null,null,null,null,null,null,null,null,null,null,null,null,null,null,null,null,null,null,null,null,1,{"$f":"IF(AZ192=1,G192,0)","v":0},{"$f":"IF(AZ192=2,G192,0)","v":0},{"$f":"IF(AZ192=3,G192,0)","v":0},{"$f":"IF(AZ192=4,G192,0)","v":0},{"$f":"IF(AZ192=5,G192,0)","v":0},null,null,null,null,null,null,null,null,null,null,null,null,null,null,null,null,null,null,null,null,null,1,1]
[null,null,"Kanalizace a ČOV Benešov u Semil - I.etapa:",null,0,null,null,null,null,null,null,null,"Kanalizace a ČOV Benešov u Semil - I.etapa:"]
[null,null,"Krajnice:",null,0,null,null,null,null,null,null,null,"Krajnice:"]
[null,null,"Komunikace \"K1\" (KSS LK III.tř.):150,00",null,150,null,null,null,null,null,null,null,"Komunikace \"K1\" (KSS LK III.tř.):150,00"]
[null,null,"Komunikace \"K2\":120,00",null,120,null,null,null,null,null,null,null,"Komunikace \"K2\":120,00"]
[33,"572952112R00","Vyspravení krytu po překopu asf.betonem tl.do 7 cm ","m2",71.5,null,{"$f":"E197*F197","v":0},0.15382000000000001,{"$f":"E197*H197","v":10.998130000000002},0,{"$f":"E197*J197","v":0},null,null,null,2,null,null,null,null,null,null,null,null,null,null,null,1,1,1,null,null,null,null,null,null,null,null,null,null,null,null,null,null,null,null,null,null,null,null,null,null,1,{"$f":"IF(AZ197=1,G197,0)","v":0},{"$f":"IF(AZ197=2,G197,0)","v":0},{"$f":"IF(AZ197=3,G197,0)","v":0},{"$f":"IF(AZ197=4,G197,0)","v":0},{"$f":"IF(AZ197=5,G197,0)","v":0},null,null,null,null,null,null,null,null,null,null,null,null,null,null,null,null,null,null,null,null,null,1,1]
[null,null,"Kanalizace a ČOV Benešov u Semil - I.etapa:",null,0,null,null,null,null,null,null,null,"Kanalizace a ČOV Benešov u Semil - I.etapa:"]
[null,null,"Komunikace u části \"Výtlačného řadu A\" (KSS LK II.tř) - Prostory vjezdů:65,00*1,1",null,71.5,null,null,null,null,null,null,null,"Komunikace u části \"Výtlačného řadu A\" (KSS LK II.tř) - Prostory vjezdů:65,00*1,1"]
[34,"573111124R00","Postřik infiltrační, množství zbytkového asfaltového pojiva 1,00 kg/m2","m2",5936,null,{"$f":"E200*F200","v":0},6.0099999999999997E-3,{"$f":"E200*H200","v":35.675359999999998},0,{"$f":"E200*J200","v":0},null,null,null,2,null,null,null,null,null,null,null,null,null,null,null,1,0,0,null,null,null,null,null,null,null,null,null,null,null,null,null,null,null,null,null,null,null,null,null,null,1,{"$f":"IF(AZ200=1,G200,0)","v":0},{"$f":"IF(AZ200=2,G200,0)","v":0},{"$f":"IF(AZ200=3,G200,0)","v":0},{"$f":"IF(AZ200=4,G200,0)","v":0},{"$f":"IF(AZ200=5,G200,0)","v":0},null,null,null,null,null,null,null,null,null,null,null,null,null,null,null,null,null,null,null,null,null,1,0]
[null,null,"Kanalizace a ČOV Benešov u Semil - I.etapa:",null,0,null,null,null,null,null,null,null,"Kanalizace a ČOV Benešov u Semil - I.etapa:"]
[null,null,"Skladba \"S1\":",null,0,null,null,null,null,null,null,null,"Skladba \"S1\":"]
[null,null,"Komunikace \"K1\" (KSS LK III.tř.):2120,00",null,2120,null,null,null,null,null,null,null,"Komunikace \"K1\" (KSS LK III.tř.):2120,00"]
[null,null,"Skladba \"S2\":",null,0,null,null,null,null,null,null,null,"Skladba \"S2\":"]
[null,null,"Komunikace \"K2\":241,00",null,241,null,null,null,null,null,null,null,"Komunikace \"K2\":241,00"]
[null,null,"Komunikace \"K3\":421,00",null,421,null,null,null,null,null,null,null,"Komunikace \"K3\":421,00"]
[null,null,"Komunikace \"K4\":142,00",null,142,null,null,null,null,null,null,null,"Komunikace \"K4\":142,00"]
[null,null,"Komunikace u Stoky \"H\":200,00",null,200,null,null,null,null,null,null,null,"Komunikace u Stoky \"H\":200,00"]
[null,null,"Komunikace u Stoky \"J\":160,00",null,160,null,null,null,null,null,null,null,"Komunikace u Stoky \"J\":160,00"]
[null,null,"Skladba \"S3\":",null,0,null,null,null,null,null,null,null,"Skladba \"S3\":"]
[null,null,"Komunikace \"K5\" (KSS LK II.tř):1402,00",null,1402,null,null,null,null,null,null,null,"Komunikace \"K5\" (KSS LK II.tř):1402,00"]
[null,null,"Komunikace podél Stoky \"B\", \"B1\"  a části \"Výtlačného řadu A\"  (KSS LK II.tř.):1080,00",null,1080,null,null,null,null,null,null,null,"Komunikace podél Stoky \"B\", \"B1\"  a části \"Výtlačného řadu A\"  (KSS LK II.tř.):1080,00"]
[null,null,"Komunikace u části \"Výtlačného řadu A\" (KSS LK II.tř) - Prostor u Proplachovacích šachet:20,00*2",null,40,null,null,null,null,null,null,null,"Komunikace u části \"Výtlačného řadu A\" (KSS LK II.tř) - Prostor u Proplachovacích šachet:20,00*2"]
[null,null,"Komunikace u části \"Výtlačného řadu A\" (KSS LK II.tř) - Prostor u \"Napojovacího místa\":80,00",null,80,null,null,null,null,null,null,null,"Komunikace u části \"Výtlačného řadu A\" (KSS LK II.tř) - Prostor u \"Napojovacího místa\":80,00"]
[null,null,"Komunikace u části \"Výtlačného řadu A\" (KSS LK II.tř) - Prostor u kolmého přechohu komunikace:25,00*2",null,50,null,null,null,null,null,null,null,"Komunikace u části \"Výtlačného řadu A\" (KSS LK II.tř) - Prostor u kolmého přechohu komunikace:25,00*2"]
[35,"573231110R00","Postřik spojovací z KAE množství zbytkového asfaltu 0,3 kg/m2","m2",9585,null,{"$f":"E216*F216","v":0},5.0000000000000001E-4,{"$f":"E216*H216","v":4.7925000000000004},0,{"$f":"E216*J216","v":0},null,null,null,2,null,null,null,null,null,null,null,null,null,null,null,1,1,1,null,null,null,null,null,null,null,null,null,null,null,null,null,null,null,null,null,null,null,null,null,null,1,{"$f":"IF(AZ216=1,G216,0)","v":0},{"$f":"IF(AZ216=2,G216,0)","v":0},{"$f":"IF(AZ216=3,G216,0)","v":0},{"$f":"IF(AZ216=4,G216,0)","v":0},{"$f":"IF(AZ216=5,G216,0)","v":0},null,null,null,null,null,null,null,null,null,null,null,null,null,null,null,null,null,null,null,null,null,1,1]
[null,null,"Kanalizace a ČOV Benešov u Semil - I.etapa:",null,0,null,null,null,null,null,null,null,"Kanalizace a ČOV Benešov u Semil - I.etapa:"]
[null,null,"Skladba \"S1\":",null,0,null,null,null,null,null,null,null,"Skladba \"S1\":"]
[null,null,"Komunikace \"K1\" (KSS LK III.tř.):2120,00",null,2120,null,null,null,null,null,null,null,"Komunikace \"K1\" (KSS LK III.tř.):2120,00"]
[null,null,"Skladba \"S2\":",null,0,null,null,null,null,null,null,null,"Skladba \"S2\":"]
[null,null,"Komunikace \"K2\":241,00",null,241,null,null,null,null,null,null,null,"Komunikace \"K2\":241,00"]
[null,null,"Komunikace \"K3\":421,00",null,421,null,null,null,null,null,null,null,"Komunikace \"K3\":421,00"]
[null,null,"Komunikace \"K4\":142,00",null,142,null,null,null,null,null,null,null,"Komunikace \"K4\":142,00"]
[null,null,"Komunikace u Stoky \"H\":200,00",null,200,null,null,null,null,null,null,null,"Komunikace u Stoky \"H\":200,00"]
[null,null,"Komunikace u Stoky \"J\":160,00",null,160,null,null,null,null,null,null,null,"Komunikace u Stoky \"J\":160,00"]
[null,null,"Skladba \"S3\":",null,0,null,null,null,null,null,null,null,"Skladba \"S3\":"]
[null,null,"Komunikace \"K5\" (KSS LK II.tř):1402,00*2",null,2804,null,null,null,null,null,null,null,"Komunikace \"K5\" (KSS LK II.tř):1402,00*2"]
[null,null,"Komunikace podél Stoky \"B\", \"B1\"  a části \"Výtlačného řadu A\"  (KSS LK II.tř.):1080,00*2",null,2160,null,null,null,null,null,null,null,"Komunikace podél Stoky \"B\", \"B1\"  a části \"Výtlačného řadu A\"  (KSS LK II.tř.):1080,00*2"]
[null,null,"Komunikace u části \"Výtlačného řadu A\" (KSS LK II.tř) - Prostor u Proplachovacích šachet:20,00*2*2",null,80,null,null,null,null,null,null,null,"Komunikace u části \"Výtlačného řadu A\" (KSS LK II.tř) - Prostor u Proplachovacích šachet:20,00*2*2"]
[null,null,"Komunikace u části \"Výtlačného řadu A\" (KSS LK II.tř) - Prostor u \"Napojovacího místa\":80,00*2",null,160,null,null,null,null,null,null,null,"Komunikace u části \"Výtlačného řadu A\" (KSS LK II.tř) - Prostor u \"Napojovacího místa\":80,00*2"]
[null,null,"Komunikace u části \"Výtlačného řadu A\" (KSS LK II.tř) - Prostor u kolmého přechohu komunikace:25,00*2*2",null,100,null,null,null,null,null,null,null,"Komunikace u části \"Výtlačného řadu A\" (KSS LK II.tř) - Prostor u kolmého přechohu komunikace:25,00*2*2"]
[null,null,"Skladba \"S4\":",null,0,null,null,null,null,null,null,null,"Skladba \"S4\":"]
[null,null,"Komunikace \"K5\" - lokální rozšíření (odhad) (KSS LK II.tř.):250,00",null,250,null,null,null,null,null,null,null,"Komunikace \"K5\" - lokální rozšíření (odhad) (KSS LK II.tř.):250,00"]
[null,null,"Plochy chodníku - asfalt:747,00",null,747,null,null,null,null,null,null,null,"Plochy chodníku - asfalt:747,00"]
[36,"577112124R00","Beton asfalt. ACO 11 S modifik. š.nad 3 m, tl.5 cm ","m2",2902,null,{"$f":"E235*F235","v":0},0,{"$f":"E235*H235","v":0},0,{"$f":"E235*J235","v":0},null,null,null,2,null,null,null,null,null,null,null,null,null,null,null,1,1,1,null,null,null,null,null,null,null,null,null,null,null,null,null,null,null,null,null,null,null,null,null,null,1,{"$f":"IF(AZ235=1,G235,0)","v":0},{"$f":"IF(AZ235=2,G235,0)","v":0},{"$f":"IF(AZ235=3,G235,0)","v":0},{"$f":"IF(AZ235=4,G235,0)","v":0},{"$f":"IF(AZ235=5,G235,0)","v":0},null,null,null,null,null,null,null,null,null,null,null,null,null,null,null,null,null,null,null,null,null,1,1]
[null,null,"Kanalizace a ČOV Benešov u Semil - I.etapa:",null,0,null,null,null,null,null,null,null,"Kanalizace a ČOV Benešov u Semil - I.etapa:"]
[null,null,"Skladba \"S3\":",null,0,null,null,null,null,null,null,null,"Skladba \"S3\":"]
[null,null,"Komunikace \"K5\" (KSS LK II.tř):1402,00",null,1402,null,null,null,null,null,null,null,"Komunikace \"K5\" (KSS LK II.tř):1402,00"]
[null,null,"Komunikace podél Stoky \"B\", \"B1\"  a části \"Výtlačného řadu A\"  (KSS LK II.tř.):1080,00",null,1080,null,null,null,null,null,null,null,"Komunikace podél Stoky \"B\", \"B1\"  a části \"Výtlačného řadu A\"  (KSS LK II.tř.):1080,00"]
[null,null,"Komunikace u části \"Výtlačného řadu A\" (KSS LK II.tř) - Prostor u Proplachovacích šachet:20,00*2",null,40,null,null,null,null,null,null,null,"Komunikace u části \"Výtlačného řadu A\" (KSS LK II.tř) - Prostor u Proplachovacích šachet:20,00*2"]
[null,null,"Komunikace u části \"Výtlačného řadu A\" (KSS LK II.tř) - Prostor u \"Napojovacího místa\":80,00",null,80,null,null,null,null,null,null,null,"Komunikace u části \"Výtlačného řadu A\" (KSS LK II.tř) - Prostor u \"Napojovacího místa\":80,00"]
[null,null,"Komunikace u části \"Výtlačného řadu A\" (KSS LK II.tř) - Prostor u kolmého přechohu komunikace:25,00*2",null,50,null,null,null,null,null,null,null,"Komunikace u části \"Výtlačného řadu A\" (KSS LK II.tř) - Prostor u kolmého přechohu komunikace:25,00*2"]
[null,null,"Skladba \"S4\":",null,0,null,null,null,null,null,null,null,"Skladba \"S4\":"]
[null,null,"Komunikace \"K5\" - lokální rozšíření (odhad) (KSS LK II.tř.):250,00",null,250,null,null,null,null,null,null,null,"Komunikace \"K5\" - lokální rozšíření (odhad) (KSS LK II.tř.):250,00"]
[37,"577131211RT2","Beton asfalt. ACO 8,nebo ACO 11, do 3 m, tl. 4 cm plochy 201-1000 m2","m2",747,null,{"$f":"E245*F245","v":0},0,{"$f":"E245*H245","v":0},0,{"$f":"E245*J245","v":0},null,null,null,2,null,null,null,null,null,null,null,null,null,null,null,1,1,1,null,null,null,null,null,null,null,null,null,null,null,null,null,null,null,null,null,null,null,null,null,null,1,{"$f":"IF(AZ245=1,G245,0)","v":0},{"$f":"IF(AZ245=2,G245,0)","v":0},{"$f":"IF(AZ245=3,G245,0)","v":0},{"$f":"IF(AZ245=4,G245,0)","v":0},{"$f":"IF(AZ245=5,G245,0)","v":0},null,null,null,null,null,null,null,null,null,null,null,null,null,null,null,null,null,null,null,null,null,1,1]
[null,null,"Kanalizace a ČOV Benešov u Semil - I.etapa:",null,0,null,null,null,null,null,null,null,"Kanalizace a ČOV Benešov u Semil - I.etapa:"]
[null,null,"Plochy chodníku - asfalt:747,00",null,747,null,null,null,null,null,null,null,"Plochy chodníku - asfalt:747,00"]
[38,"577132111R00","Beton asfalt. ACO 11+ obrusný, š.nad 3 m, tl. 4 cm ","m2",3284,null,{"$f":"E248*F248","v":0},0,{"$f":"E248*H248","v":0},0,{"$f":"E248*J248","v":0},null,null,null,2,null,null,null,null,null,null,null,null,null,null,null,1,1,1,null,null,null,null,null,null,null,null,null,null,null,null,null,null,null,null,null,null,null,null,null,null,1,{"$f":"IF(AZ248=1,G248,0)","v":0},{"$f":"IF(AZ248=2,G248,0)","v":0},{"$f":"IF(AZ248=3,G248,0)","v":0},{"$f":"IF(AZ248=4,G248,0)","v":0},{"$f":"IF(AZ248=5,G248,0)","v":0},null,null,null,null,null,null,null,null,null,null,null,null,null,null,null,null,null,null,null,null,null,1,1]
[null,null,"Kanalizace a ČOV Benešov u Semil - I.etapa:",null,0,null,null,null,null,null,null,null,"Kanalizace a ČOV Benešov u Semil - I.etapa:"]
[null,null,"Skladba \"S1\":",null,0,null,null,null,null,null,null,null,"Skladba \"S1\":"]
[null,null,"Komunikace \"K1\" (KSS LK III.tř.):2120,00",null,2120,null,null,null,null,null,null,null,"Komunikace \"K1\" (KSS LK III.tř.):2120,00"]
[null,null,"Skladba \"S2\":",null,0,null,null,null,null,null,null,null,"Skladba \"S2\":"]
[null,null,"Komunikace \"K2\":241,00",null,241,null,null,null,null,null,null,null,"Komunikace \"K2\":241,00"]
[null,null,"Komunikace \"K3\":421,00",null,421,null,null,null,null,null,null,null,"Komunikace \"K3\":421,00"]
[null,null,"Komunikace \"K4\":142,00",null,142,null,null,null,null,null,null,null,"Komunikace \"K4\":142,00"]
[null,null,"Komunikace u Stoky \"H\":200,00",null,200,null,null,null,null,null,null,null,"Komunikace u Stoky \"H\":200,00"]
[null,null,"Komunikace u Stoky \"J\":160,00",null,160,null,null,null,null,null,null,null,"Komunikace u Stoky \"J\":160,00"]
[39,"596215021R00","Kladení zámkové dlažby tl. 6 cm do drtě tl. 4 cm ","m2",260,null,{"$f":"E258*F258","v":0},7.3899999999999993E-2,{"$f":"E258*H258","v":19.213999999999999},0,{"$f":"E258*J258","v":0},null,null,null,2,null,null,null,null,null,null,null,null,null,null,null,1,1,1,null,null,null,null,null,null,null,null,null,null,null,null,null,null,null,null,null,null,null,null,null,null,1,{"$f":"IF(AZ258=1,G258,0)","v":0},{"$f":"IF(AZ258=2,G258,0)","v":0},{"$f":"IF(AZ258=3,G258,0)","v":0},{"$f":"IF(AZ258=4,G258,0)","v":0},{"$f":"IF(AZ258=5,G258,0)","v":0},null,null,null,null,null,null,null,null,null,null,null,null,null,null,null,null,null,null,null,null,null,1,1]
[null,null,"Kanalizace a ČOV Benešov u Semil - I.etapa:",null,0,null,null,null,null,null,null,null,"Kanalizace a ČOV Benešov u Semil - I.etapa:"]
[null,null,"Plochy chodníku - zámková dlažba:260,00",null,260,null,null,null,null,null,null,null,"Plochy chodníku - zámková dlažba:260,00"]
[40,"596291111R00","Řezání zámkové dlažby tl. 60 mm ","m",130,null,{"$f":"E261*F261","v":0},3.3E-4,{"$f":"E261*H261","v":4.2900000000000001E-2},0,{"$f":"E261*J261","v":0},null,null,null,2,null,null,null,null,null,null,null,null,null,null,null,1,1,1,null,null,null,null,null,null,null,null,null,null,null,null,null,null,null,null,null,null,null,null,null,null,1,{"$f":"IF(AZ261=1,G261,0)","v":0},{"$f":"IF(AZ261=2,G261,0)","v":0},{"$f":"IF(AZ261=3,G261,0)","v":0},{"$f":"IF(AZ261=4,G261,0)","v":0},{"$f":"IF(AZ261=5,G261,0)","v":0},null,null,null,null,null,null,null,null,null,null,null,null,null,null,null,null,null,null,null,null,null,1,1]
[null,null,"Kanalizace a ČOV Benešov u Semil - I.etapa:",null,0,null,null,null,null,null,null,null,"Kanalizace a ČOV Benešov u Semil - I.etapa:"]
[null,null,"Plochy chodníku - zámková dlažba:130,00",null,130,null,null,null,null,null,null,null,"Plochy chodníku - zámková dlažba:130,00"]
[41,"597069111R00","Příplatek za každý další 1 cm tl. lože nad 10 cm ","m2",1221.5999999999999,null,{"$f":"E264*F264","v":0},2.5250000000000002E-2,{"$f":"E264*H264","v":30.845399999999998},0,{"$f":"E264*J264","v":0},null,null,null,2,null,null,null,null,null,null,null,null,null,null,null,1,1,1,null,null,null,null,null,null,null,null,null,null,null,null,null,null,null,null,null,null,null,null,null,null,1,{"$f":"IF(AZ264=1,G264,0)","v":0},{"$f":"IF(AZ264=2,G264,0)","v":0},{"$f":"IF(AZ264=3,G264,0)","v":0},{"$f":"IF(AZ264=4,G264,0)","v":0},{"$f":"IF(AZ264=5,G264,0)","v":0},null,null,null,null,null,null,null,null,null,null,null,null,null,null,null,null,null,null,null,null,null,1,1]
[null,null,"Kanalizace a ČOV Benešov u Semil - I.etapa:",null,0,null,null,null,null,null,null,null,"Kanalizace a ČOV Benešov u Semil - I.etapa:"]
[null,null,"Komunikace \"K1\" (KSS LK III.tř.):",null,0,null,null,null,null,null,null,null,"Komunikace \"K1\" (KSS LK III.tř.):"]
[null,null,"Kamenný žlab:117,00*0,80*10",null,936,null,null,null,null,null,null,null,"Kamenný žlab:117,00*0,80*10"]
[null,null,"Kamenná svodnice (3 kusy):7,00*10",null,70,null,null,null,null,null,null,null,"Kamenná svodnice (3 kusy):7,00*10"]
[null,null,"Komunikace \"K3\":",null,0,null,null,null,null,null,null,null,"Komunikace \"K3\":"]
[null,null,"Skluz z kamenné dlažby:3,00*10",null,30,null,null,null,null,null,null,null,"Skluz z kamenné dlažby:3,00*10"]
[null,null,"Komunikace \"K4\":",null,0,null,null,null,null,null,null,null,"Komunikace \"K4\":"]
[null,null,"Kamenný žlab:23,20*0,80*10",null,185.6,null,null,null,null,null,null,null,"Kamenný žlab:23,20*0,80*10"]
[42,"597121211RT2","Montáž odvod.mikroštěrbinových trub -trouba dl.1 m včetně trouby bez vnitřního spádu 220/260/1000","kus",52,null,{"$f":"E273*F273","v":0},0.24664,{"$f":"E273*H273","v":12.825279999999999},0,{"$f":"E273*J273","v":0},null,null,null,2,null,null,null,null,null,null,null,null,null,null,null,1,1,1,null,null,null,null,null,null,null,null,null,null,null,null,null,null,null,null,null,null,null,null,null,null,1,{"$f":"IF(AZ273=1,G273,0)","v":0},{"$f":"IF(AZ273=2,G273,0)","v":0},{"$f":"IF(AZ273=3,G273,0)","v":0},{"$f":"IF(AZ273=4,G273,0)","v":0},{"$f":"IF(AZ273=5,G273,0)","v":0},null,null,null,null,null,null,null,null,null,null,null,null,null,null,null,null,null,null,null,null,null,1,1]
[null,null,"Položka obsahuje zřízení podkladního betonu tl. 100 mm, položení lože ze suchého betonu tl. 30 mm a montáž trub včetně jejich dodávky.",null,null,null,null,null,null,null,null,"Položka obsahuje zřízení podkladního betonu tl. 100 mm, položení lože ze suchého betonu tl. 30 mm a montáž trub včetně jejich dodávky.",null,null,3]
[null,null,"Položka neobsahuje náklady na zálivku dilatační spáry se sousední konstrukcí.",null,null,null,null,null,null,null,null,"Položka neobsahuje náklady na zálivku dilatační spáry se sousední konstrukcí.",null,null,3]
[null,null,"Kanalizace a ČOV Benešov u Semil - I.etapa:",null,0,null,null,null,null,null,null,null,"Kanalizace a ČOV Benešov u Semil - I.etapa:"]
[null,null,"Komunikace \"K3\":",null,0,null,null,null,null,null,null,null,"Komunikace \"K3\":"]
[null,null,"Mikroštěrbina:52,00",null,52,null,null,null,null,null,null,null,"Mikroštěrbina:52,00"]
[43,"597661111R00","Rigol dlážděn.do lože C-/7,5 tl.10cm kostky drobné ","m2",122.16,null,{"$f":"E279*F279","v":0},0.54818,{"$f":"E279*H279","v":66.965668800000003},0,{"$f":"E279*J279","v":0},null,null,null,2,null,null,null,null,null,null,null,null,null,null,null,1,1,1,null,null,null,null,null,null,null,null,null,null,null,null,null,null,null,null,null,null,null,null,null,null,1,{"$f":"IF(AZ279=1,G279,0)","v":0},{"$f":"IF(AZ279=2,G279,0)","v":0},{"$f":"IF(AZ279=3,G279,0)","v":0},{"$f":"IF(AZ279=4,G279,0)","v":0},{"$f":"IF(AZ279=5,G279,0)","v":0},null,null,null,null,null,null,null,null,null,null,null,null,null,null,null,null,null,null,null,null,null,1,1]
[null,null,"Kanalizace a ČOV Benešov u Semil - I.etapa:",null,0,null,null,null,null,null,null,null,"Kanalizace a ČOV Benešov u Semil - I.etapa:"]
[null,null,"Komunikace \"K1\" (KSS LK III.tř.):",null,0,null,null,null,null,null,null,null,"Komunikace \"K1\" (KSS LK III.tř.):"]
[null,null,"Kamenný žlab:117,00*0,80",null,93.6,null,null,null,null,null,null,null,"Kamenný žlab:117,00*0,80"]
[null,null,"Kamenná svodnice (3 kusy):7,00",null,7,null,null,null,null,null,null,null,"Kamenná svodnice (3 kusy):7,00"]
[null,null,"Komunikace \"K3\":",null,0,null,null,null,null,null,null,null,"Komunikace \"K3\":"]
[null,null,"Skluz z kamenné dlažby:3,00",null,3,null,null,null,null,null,null,null,"Skluz z kamenné dlažby:3,00"]
[null,null,"Komunikace \"K4\":",null,0,null,null,null,null,null,null,null,"Komunikace \"K4\":"]
[null,null,"Kamenný žlab:23,20*0,80",null,18.559999999999999,null,null,null,null,null,null,null,"Kamenný žlab:23,20*0,80"]
[44,"599142111RRX","Úprava zálivky pracovní spáry ","m",810,null,{"$f":"E288*F288","v":0},2.2399999999999998E-3,{"$f":"E288*H288","v":1.8143999999999998},0,{"$f":"E288*J288","v":0},null,null,null,2,null,null,null,null,null,null,null,null,null,null,null,1,1,1,null,null,null,null,null,null,null,null,null,null,null,null,null,null,null,null,null,null,null,null,null,null,1,{"$f":"IF(AZ288=1,G288,0)","v":0},{"$f":"IF(AZ288=2,G288,0)","v":0},{"$f":"IF(AZ288=3,G288,0)","v":0},{"$f":"IF(AZ288=4,G288,0)","v":0},{"$f":"IF(AZ288=5,G288,0)","v":0},null,null,null,null,null,null,null,null,null,null,null,null,null,null,null,null,null,null,null,null,null,1,1]
[null,null,"Včetně vyčištění spár, zalití spár asfaltovou zálivkou, nátěru asfaltovým lakem a posyp drtí.",null,null,null,null,null,null,null,null,"Včetně vyčištění spár, zalití spár asfaltovou zálivkou, nátěru asfaltovým lakem a posyp drtí.",null,null,3]
[null,null,"Kanalizace a ČOV Benešov u Semil - I.etapa:",null,0,null,null,null,null,null,null,null,"Kanalizace a ČOV Benešov u Semil - I.etapa:"]
[null,null,"Napojovací místa modifikovaného a obrusného asfaltu:810,00",null,810,null,null,null,null,null,null,null,"Napojovací místa modifikovaného a obrusného asfaltu:810,00"]
[45,"919731121R00","Zarovnání styčné plochy živičné tl. do 5 cm ","m",810,null,{"$f":"E292*F292","v":0},0,{"$f":"E292*H292","v":0},0,{"$f":"E292*J292","v":0},null,null,null,2,null,null,null,null,null,null,null,null,null,null,null,1,1,1,null,null,null,null,null,null,null,null,null,null,null,null,null,null,null,null,null,null,null,null,null,null,1,{"$f":"IF(AZ292=1,G292,0)","v":0},{"$f":"IF(AZ292=2,G292,0)","v":0},{"$f":"IF(AZ292=3,G292,0)","v":0},{"$f":"IF(AZ292=4,G292,0)","v":0},{"$f":"IF(AZ292=5,G292,0)","v":0},null,null,null,null,null,null,null,null,null,null,null,null,null,null,null,null,null,null,null,null,null,1,1]
[null,null,"Kanalizace a ČOV Benešov u Semil - I.etapa:",null,0,null,null,null,null,null,null,null,"Kanalizace a ČOV Benešov u Semil - I.etapa:"]
[null,null,"Napojovací místa modifikovaného a obrusného asfaltu:810,00",null,810,null,null,null,null,null,null,null,"Napojovací místa modifikovaného a obrusného asfaltu:810,00"]
[46,"59245020.R","Dlažba betonová vibrolisovaná zámková přírodní rozměr 200/100/60 mm","m2",241.5,null,{"$f":"E295*F295","v":0},0.12959999999999999,{"$f":"E295*H295","v":31.298399999999997},null,{"$f":"E295*J295","v":0},null,null,null,2,null,null,null,null,null,null,null,null,null,null,null,3,1,"59245020.R",null,null,null,null,null,null,null,null,null,null,null,null,null,null,null,null,null,null,null,null,null,null,1,{"$f":"IF(AZ295=1,G295,0)","v":0},{"$f":"IF(AZ295=2,G295,0)","v":0},{"$f":"IF(AZ295=3,G295,0)","v":0},{"$f":"IF(AZ295=4,G295,0)","v":0},{"$f":"IF(AZ295=5,G295,0)","v":0},null,null,null,null,null,null,null,null,null,null,null,null,null,null,null,null,null,null,null,null,null,3,1]
[null,null,"Kanalizace a ČOV Benešov u Semil - I.etapa:",null,0,null,null,null,null,null,null,null,"Kanalizace a ČOV Benešov u Semil - I.etapa:"]
[null,null,"Plochy chodníku - zámková dlažba:230,00*1,05",null,241.5,null,null,null,null,null,null,null,"Plochy chodníku - zámková dlažba:230,00*1,05"]
[47,"59245264.R","Dlažba betonová vibrolisovaná zámková červená pro nevidomé, rozměr 200x100x60 mm","m2",31.5,null,{"$f":"E298*F298","v":0},0.13400000000000001,{"$f":"E298*H298","v":4.2210000000000001},null,{"$f":"E298*J298","v":0},null,null,null,2,null,null,null,null,null,null,null,null,null,null,null,3,1,"59245264.R",null,null,null,null,null,null,null,null,null,null,null,null,null,null,null,null,null,null,null,null,null,null,1,{"$f":"IF(AZ298=1,G298,0)","v":0},{"$f":"IF(AZ298=2,G298,0)","v":0},{"$f":"IF(AZ298=3,G298,0)","v":0},{"$f":"IF(AZ298=4,G298,0)","v":0},{"$f":"IF(AZ298=5,G298,0)","v":0},null,null,null,null,null,null,null,null,null,null,null,null,null,null,null,null,null,null,null,null,null,3,1]
[null,null,"Kanalizace a ČOV Benešov u Semil - I.etapa:",null,0,null,null,null,null,null,null,null,"Kanalizace a ČOV Benešov u Semil - I.etapa:"]
[null,null,"Plochy chodníku - zámková dlažba:30,00*1,05",null,31.5,null,null,null,null,null,null,null,"Plochy chodníku - zámková dlažba:30,00*1,05"]
[null,"Celkem za","5 Komunikace",null,null,null,{"$f":"SUM(G115:G300)","v":0},null,{"$f":"SUM(I115:I300)","v":5333.1149887999991},null,{"$f":"SUM(K115:K300)","v":0},null,null,null,4,null,null,null,null,null,null,null,null,null,null,null,null,null,null,null,null,null,null,null,null,null,null,null,null,null,null,null,null,null,null,null,null,null,null,null,null,null,{"$f":"SUM(BA115:BA300)","v":0},{"$f":"SUM(BB115:BB300)","v":0},{"$f":"SUM(BC115:BC300)","v":0},{"$f":"SUM(BD115:BD300)","v":0},{"$f":"SUM(BE115:BE300)","v":0}]
["Díl:","91","Doplňující práce na komunikaci",null,null,null,null,null,null,null,null,null,null,null,1]
[48,"915711111RT1","Vodorovné značení dělicích čar 12 cm střík.barvou barva bílá","m",1490,null,{"$f":"E303*F303","v":0},9.0000000000000006E-5,{"$f":"E303*H303","v":0.1341},0,{"$f":"E303*J303","v":0},null,null,null,2,null,null,null,null,null,null,null,null,null,null,null,1,1,1,null,null,null,null,null,null,null,null,null,null,null,null,null,null,null,null,null,null,null,null,null,null,1,{"$f":"IF(AZ303=1,G303,0)","v":0},{"$f":"IF(AZ303=2,G303,0)","v":0},{"$f":"IF(AZ303=3,G303,0)","v":0},{"$f":"IF(AZ303=4,G303,0)","v":0},{"$f":"IF(AZ303=5,G303,0)","v":0},null,null,null,null,null,null,null,null,null,null,null,null,null,null,null,null,null,null,null,null,null,1,1]
[null,null,"Kanalizace a ČOV Benešov u Semil - I.etapa:",null,0,null,null,null,null,null,null,null,"Kanalizace a ČOV Benešov u Semil - I.etapa:"]
[null,null,"Komunikace \"K1\" (KSS LK III.tř.):1060,00",null,1060,null,null,null,null,null,null,null,"Komunikace \"K1\" (KSS LK III.tř.):1060,00"]
[null,null,"Komunikace \"K5\" (KSS LK II.tř) - odhad:430,00",null,430,null,null,null,null,null,null,null,"Komunikace \"K5\" (KSS LK II.tř) - odhad:430,00"]
[49,"915712111RT1","Vodorovné značení proužků š.25 cm střík.barvou barva bílá","m",725,null,{"$f":"E307*F307","v":0},1.8000000000000001E-4,{"$f":"E307*H307","v":0.1305},0,{"$f":"E307*J307","v":0},null,null,null,2,null,null,null,null,null,null,null,null,null,null,null,1,1,1,null,null,null,null,null,null,null,null,null,null,null,null,null,null,null,null,null,null,null,null,null,null,1,{"$f":"IF(AZ307=1,G307,0)","v":0},{"$f":"IF(AZ307=2,G307,0)","v":0},{"$f":"IF(AZ307=3,G307,0)","v":0},{"$f":"IF(AZ307=4,G307,0)","v":0},{"$f":"IF(AZ307=5,G307,0)","v":0},null,null,null,null,null,null,null,null,null,null,null,null,null,null,null,null,null,null,null,null,null,1,1]
[null,null,"Kanalizace a ČOV Benešov u Semil - I.etapa:",null,0,null,null,null,null,null,null,null,"Kanalizace a ČOV Benešov u Semil - I.etapa:"]
[null,null,"Skladba \"S3\":",null,0,null,null,null,null,null,null,null,"Skladba \"S3\":"]
[null,null,"Komunikace \"K5\" (KSS LK II.tř) - odhad:725,00",null,725,null,null,null,null,null,null,null,"Komunikace \"K5\" (KSS LK II.tř) - odhad:725,00"]
[50,"915791111R00","Předznačení pro značení dělící čáry,vodící proužky ","m",2215,null,{"$f":"E311*F311","v":0},0,{"$f":"E311*H311","v":0},0,{"$f":"E311*J311","v":0},null,null,null,2,null,null,null,null,null,null,null,null,null,null,null,1,1,1,null,null,null,null,null,null,null,null,null,null,null,null,null,null,null,null,null,null,null,null,null,null,1,{"$f":"IF(AZ311=1,G311,0)","v":0},{"$f":"IF(AZ311=2,G311,0)","v":0},{"$f":"IF(AZ311=3,G311,0)","v":0},{"$f":"IF(AZ311=4,G311,0)","v":0},{"$f":"IF(AZ311=5,G311,0)","v":0},null,null,null,null,null,null,null,null,null,null,null,null,null,null,null,null,null,null,null,null,null,1,1]
[null,null,"Kanalizace a ČOV Benešov u Semil - I.etapa:",null,0,null,null,null,null,null,null,null,"Kanalizace a ČOV Benešov u Semil - I.etapa:"]
[null,null,"Komunikace \"K1\" (KSS LK III.tř.) - odhad:1060,00",null,1060,null,null,null,null,null,null,null,"Komunikace \"K1\" (KSS LK III.tř.) - odhad:1060,00"]
[null,null,"Komunikace \"K5\" (KSS LK II.tř) - odhad:430,00+725,00",null,1155,null,null,null,null,null,null,null,"Komunikace \"K5\" (KSS LK II.tř) - odhad:430,00+725,00"]
[51,"917862114RT7","Osazení stojat. obrub.bet. s opěrou,lože z C 25/30 včetně obrubníku  1000/100/250","m",2307,null,{"$f":"E315*F315","v":0},0.22133,{"$f":"E315*H315","v":510.60831000000002},0,{"$f":"E315*J315","v":0},null,null,null,2,null,null,null,null,null,null,null,null,null,null,null,1,1,1,null,null,null,null,null,null,null,null,null,null,null,null,null,null,null,null,null,null,null,null,null,null,1,{"$f":"IF(AZ315=1,G315,0)","v":0},{"$f":"IF(AZ315=2,G315,0)","v":0},{"$f":"IF(AZ315=3,G315,0)","v":0},{"$f":"IF(AZ315=4,G315,0)","v":0},{"$f":"IF(AZ315=5,G315,0)","v":0},null,null,null,null,null,null,null,null,null,null,null,null,null,null,null,null,null,null,null,null,null,1,1]
[null,null,"Kanalizace a ČOV Benešov u Semil - I.etapa:",null,0,null,null,null,null,null,null,null,"Kanalizace a ČOV Benešov u Semil - I.etapa:"]
[null,null,"Komunikace \"K1\" (KSS LK III.tř):",null,0,null,null,null,null,null,null,null,"Komunikace \"K1\" (KSS LK III.tř):"]
[null,null,"Obrubník 100/250:370,00",null,370,null,null,null,null,null,null,null,"Obrubník 100/250:370,00"]
[null,null,"Komunikace \"K2\":",null,0,null,null,null,null,null,null,null,"Komunikace \"K2\":"]
[null,null,"Obrubník 100/250:92,00",null,92,null,null,null,null,null,null,null,"Obrubník 100/250:92,00"]
[null,null,"Komunikace \"K3\":",null,0,null,null,null,null,null,null,null,"Komunikace \"K3\":"]
[null,null,"Obrubník 100/250:75,00",null,75,null,null,null,null,null,null,null,"Obrubník 100/250:75,00"]
[null,null,"Asfaltový chodníku:",null,0,null,null,null,null,null,null,null,"Asfaltový chodníku:"]
[null,null,"Obrubník 100/250:710,00",null,710,null,null,null,null,null,null,null,"Obrubník 100/250:710,00"]
[null,null,"Chodník ze zámkové dlažby :",null,0,null,null,null,null,null,null,null,"Chodník ze zámkové dlažby :"]
[null,null,"Obrubník 100/250:175,00",null,175,null,null,null,null,null,null,null,"Obrubník 100/250:175,00"]
[null,null,"Asfaltový chodníku:",null,0,null,null,null,null,null,null,null,"Asfaltový chodníku:"]
[null,null,"Obrubník 100/250:710,00",null,710,null,null,null,null,null,null,null,"Obrubník 100/250:710,00"]
[null,null,"Chodník ze zámkové dlažby :",null,0,null,null,null,null,null,null,null,"Chodník ze zámkové dlažby :"]
[null,null,"Obrubník 100/250:175,00",null,175,null,null,null,null,null,null,null,"Obrubník 100/250:175,00"]
[52,"917862114RU2","Osazení stojat. obrub.bet. s opěrou,lože z C 25/30 včetně obrubníku 1000/120-150/250","m",920,null,{"$f":"E331*F331","v":0},0.26980999999999999,{"$f":"E331*H331","v":248.2252},0,{"$f":"E331*J331","v":0},null,null,null,2,null,null,null,null,null,null,null,null,null,null,null,1,1,1,null,null,null,null,null,null,null,null,null,null,null,null,null,null,null,null,null,null,null,null,null,null,1,{"$f":"IF(AZ331=1,G331,0)","v":0},{"$f":"IF(AZ331=2,G331,0)","v":0},{"$f":"IF(AZ331=3,G331,0)","v":0},{"$f":"IF(AZ331=4,G331,0)","v":0},{"$f":"IF(AZ331=5,G331,0)","v":0},null,null,null,null,null,null,null,null,null,null,null,null,null,null,null,null,null,null,null,null,null,1,1]
[null,null,"Kanalizace a ČOV Benešov u Semil - I.etapa:",null,0,null,null,null,null,null,null,null,"Kanalizace a ČOV Benešov u Semil - I.etapa:"]
[null,null,"Komunikace \"K5\" (KSS LK II.tř) -  Napojení ČS:35,00",null,35,null,null,null,null,null,null,null,"Komunikace \"K5\" (KSS LK II.tř) -  Napojení ČS:35,00"]
[null,null,"Asfaltový chodníku:710,00",null,710,null,null,null,null,null,null,null,"Asfaltový chodníku:710,00"]
[null,null,"Chodník ze zámkové dlažby :175,00",null,175,null,null,null,null,null,null,null,"Chodník ze zámkové dlažby :175,00"]
[53,"919735112R00","Řezání stávajícího živičného krytu tl. 5 - 10 cm ","m",130,null,{"$f":"E336*F336","v":0},0,{"$f":"E336*H336","v":0},0,{"$f":"E336*J336","v":0},null,null,null,2,null,null,null,null,null,null,null,null,null,null,null,1,1,1,null,null,null,null,null,null,null,null,null,null,null,null,null,null,null,null,null,null,null,null,null,null,1,{"$f":"IF(AZ336=1,G336,0)","v":0},{"$f":"IF(AZ336=2,G336,0)","v":0},{"$f":"IF(AZ336=3,G336,0)","v":0},{"$f":"IF(AZ336=4,G336,0)","v":0},{"$f":"IF(AZ336=5,G336,0)","v":0},null,null,null,null,null,null,null,null,null,null,null,null,null,null,null,null,null,null,null,null,null,1,1]
[null,null,"Kanalizace a ČOV Benešov u Semil - I.etapa:",null,0,null,null,null,null,null,null,null,"Kanalizace a ČOV Benešov u Semil - I.etapa:"]
[null,null,"Komunikace u části \"Výtlačného řadu A\" (KSS LK II.tř) - Prostory vjezdů:65,00*2",null,130,null,null,null,null,null,null,null,"Komunikace u části \"Výtlačného řadu A\" (KSS LK II.tř) - Prostory vjezdů:65,00*2"]
[null,"Celkem za","91 Doplňující práce na komunikaci",null,null,null,{"$f":"SUM(G302:G338)","v":0},null,{"$f":"SUM(I302:I338)","v":759.09811000000002},null,{"$f":"SUM(K302:K338)","v":0},null,null,null,4,null,null,null,null,null,null,null,null,null,null,null,null,null,null,null,null,null,null,null,null,null,null,null,null,null,null,null,null,null,null,null,null,null,null,null,null,null,{"$f":"SUM(BA302:BA338)","v":0},{"$f":"SUM(BB302:BB338)","v":0},{"$f":"SUM(BC302:BC338)","v":0},{"$f":"SUM(BD302:BD338)","v":0},{"$f":"SUM(BE302:BE338)","v":0}]
["Díl:","93","Dokončovací práce inženýrských staveb",null,null,null,null,null,null,null,null,null,null,null,1]
[54,"938908411RRX","Očištění povrchu krytu vodou ","m2",12203,null,{"$f":"E341*F341","v":0},1.0000000000000001E-5,{"$f":"E341*H341","v":0.12203000000000001},0,{"$f":"E341*J341","v":0},null,null,null,2,null,null,null,null,null,null,null,null,null,null,null,1,1,1,null,null,null,null,null,null,null,null,null,null,null,null,null,null,null,null,null,null,null,null,null,null,1,{"$f":"IF(AZ341=1,G341,0)","v":0},{"$f":"IF(AZ341=2,G341,0)","v":0},{"$f":"IF(AZ341=3,G341,0)","v":0},{"$f":"IF(AZ341=4,G341,0)","v":0},{"$f":"IF(AZ341=5,G341,0)","v":0},null,null,null,null,null,null,null,null,null,null,null,null,null,null,null,null,null,null,null,null,null,1,1]
[null,null,"Očištění před realizací vodorovného dopravního značení",null,null,null,null,null,null,null,null,"Očištění před realizací vodorovného dopravního značení",null,null,3]
[null,null,"Kanalizace a ČOV Benešov u Semil - I.etapa:",null,0,null,null,null,null,null,null,null,"Kanalizace a ČOV Benešov u Semil - I.etapa:"]
[null,null,"Skladba \"S1\":",null,0,null,null,null,null,null,null,null,"Skladba \"S1\":"]
[null,null,"Komunikace \"K1\" (KSS LK III.tř.):2120,00",null,2120,null,null,null,null,null,null,null,"Komunikace \"K1\" (KSS LK III.tř.):2120,00"]
[null,null,"Skladba \"S2\":",null,0,null,null,null,null,null,null,null,"Skladba \"S2\":"]
[null,null,"Komunikace \"K2\":241,00",null,241,null,null,null,null,null,null,null,"Komunikace \"K2\":241,00"]
[null,null,"Komunikace \"K3\":421,00",null,421,null,null,null,null,null,null,null,"Komunikace \"K3\":421,00"]
[null,null,"Komunikace \"K4\":142,00",null,142,null,null,null,null,null,null,null,"Komunikace \"K4\":142,00"]
[null,null,"Komunikace u Stoky \"H\":200,00",null,200,null,null,null,null,null,null,null,"Komunikace u Stoky \"H\":200,00"]
[null,null,"Komunikace u Stoky \"J\":160,00",null,160,null,null,null,null,null,null,null,"Komunikace u Stoky \"J\":160,00"]
[null,null,"Skladba \"S3\":",null,0,null,null,null,null,null,null,null,"Skladba \"S3\":"]
[null,null,"Komunikace \"K5\" (KSS LK II.tř):1402,00",null,1402,null,null,null,null,null,null,null,"Komunikace \"K5\" (KSS LK II.tř):1402,00"]
[null,null,"Komunikace podél Stoky \"B\", \"B1\"  a části \"Výtlačného řadu A\"  (KSS LK II.tř.):1080,00",null,1080,null,null,null,null,null,null,null,"Komunikace podél Stoky \"B\", \"B1\"  a části \"Výtlačného řadu A\"  (KSS LK II.tř.):1080,00"]
[null,null,"Komunikace u části \"Výtlačného řadu A\" (KSS LK II.tř) - Prostor u Proplachovacích šachet:20,00*2",null,40,null,null,null,null,null,null,null,"Komunikace u části \"Výtlačného řadu A\" (KSS LK II.tř) - Prostor u Proplachovacích šachet:20,00*2"]
[null,null,"Komunikace u části \"Výtlačného řadu A\" (KSS LK II.tř) - Prostor u \"Napojovacího místa\":80,00",null,80,null,null,null,null,null,null,null,"Komunikace u části \"Výtlačného řadu A\" (KSS LK II.tř) - Prostor u \"Napojovacího místa\":80,00"]
[null,null,"Komunikace u části \"Výtlačného řadu A\" (KSS LK II.tř) - Prostor u kolmého přechohu komunikace:25,00*2",null,50,null,null,null,null,null,null,null,"Komunikace u části \"Výtlačného řadu A\" (KSS LK II.tř) - Prostor u kolmého přechohu komunikace:25,00*2"]
[null,null,"Plochy chodníku - zámková dlažba:260,00",null,260,null,null,null,null,null,null,null,"Plochy chodníku - zámková dlažba:260,00"]
[null,null,"Plochy chodníku - asfalt:747,00",null,747,null,null,null,null,null,null,null,"Plochy chodníku - asfalt:747,00"]
[null,null,"Plochy chodníku - zámková dlažba:260,00",null,260,null,null,null,null,null,null,null,"Plochy chodníku - zámková dlažba:260,00"]
[null,null,"Ostatní plochy:",null,0,null,null,null,null,null,null,null,"Ostatní plochy:"]
[null,null,"Okolní komunikace při realizaci stavby - odhad:5000,00",null,5000,null,null,null,null,null,null,null,"Okolní komunikace při realizaci stavby - odhad:5000,00"]
[55,"938909311R00","Odstranění nánosu z povrchu živičného nebo beton. ","m2",12203,null,{"$f":"E363*F363","v":0},0,{"$f":"E363*H363","v":0},0,{"$f":"E363*J363","v":0},null,null,null,2,null,null,null,null,null,null,null,null,null,null,null,1,1,1,null,null,null,null,null,null,null,null,null,null,null,null,null,null,null,null,null,null,null,null,null,null,1,{"$f":"IF(AZ363=1,G363,0)","v":0},{"$f":"IF(AZ363=2,G363,0)","v":0},{"$f":"IF(AZ363=3,G363,0)","v":0},{"$f":"IF(AZ363=4,G363,0)","v":0},{"$f":"IF(AZ363=5,G363,0)","v":0},null,null,null,null,null,null,null,null,null,null,null,null,null,null,null,null,null,null,null,null,null,1,1]
[null,null,"Kanalizace a ČOV Benešov u Semil - I.etapa:",null,0,null,null,null,null,null,null,null,"Kanalizace a ČOV Benešov u Semil - I.etapa:"]
[null,null,"Skladba \"S1\":",null,0,null,null,null,null,null,null,null,"Skladba \"S1\":"]
[null,null,"Komunikace \"K1\" (KSS LK III.tř.):2120,00",null,2120,null,null,null,null,null,null,null,"Komunikace \"K1\" (KSS LK III.tř.):2120,00"]
[null,null,"Skladba \"S2\":",null,0,null,null,null,null,null,null,null,"Skladba \"S2\":"]
[null,null,"Komunikace \"K2\":241,00",null,241,null,null,null,null,null,null,null,"Komunikace \"K2\":241,00"]
[null,null,"Komunikace \"K3\":421,00",null,421,null,null,null,null,null,null,null,"Komunikace \"K3\":421,00"]
[null,null,"Komunikace \"K4\":142,00",null,142,null,null,null,null,null,null,null,"Komunikace \"K4\":142,00"]
[null,null,"Komunikace u Stoky \"H\":200,00",null,200,null,null,null,null,null,null,null,"Komunikace u Stoky \"H\":200,00"]
[null,null,"Komunikace u Stoky \"J\":160,00",null,160,null,null,null,null,null,null,null,"Komunikace u Stoky \"J\":160,00"]
[null,null,"Skladba \"S3\":",null,0,null,null,null,null,null,null,null,"Skladba \"S3\":"]
[null,null,"Komunikace \"K5\" (KSS LK II.tř):1402,00",null,1402,null,null,null,null,null,null,null,"Komunikace \"K5\" (KSS LK II.tř):1402,00"]
[null,null,"Komunikace podél Stoky \"B\", \"B1\"  a části \"Výtlačného řadu A\"  (KSS LK II.tř.):1080,00",null,1080,null,null,null,null,null,null,null,"Komunikace podél Stoky \"B\", \"B1\"  a části \"Výtlačného řadu A\"  (KSS LK II.tř.):1080,00"]
[null,null,"Komunikace u části \"Výtlačného řadu A\" (KSS LK II.tř) - Prostor u Proplachovacích šachet:20,00*2",null,40,null,null,null,null,null,null,null,"Komunikace u části \"Výtlačného řadu A\" (KSS LK II.tř) - Prostor u Proplachovacích šachet:20,00*2"]
[null,null,"Komunikace u části \"Výtlačného řadu A\" (KSS LK II.tř) - Prostor u \"Napojovacího místa\":80,00",null,80,null,null,null,null,null,null,null,"Komunikace u části \"Výtlačného řadu A\" (KSS LK II.tř) - Prostor u \"Napojovacího místa\":80,00"]
[null,null,"Komunikace u části \"Výtlačného řadu A\" (KSS LK II.tř) - Prostor u kolmého přechohu komunikace:25,00*2",null,50,null,null,null,null,null,null,null,"Komunikace u části \"Výtlačného řadu A\" (KSS LK II.tř) - Prostor u kolmého přechohu komunikace:25,00*2"]
[null,null,"Plochy chodníku - zámková dlažba:260,00",null,260,null,null,null,null,null,null,null,"Plochy chodníku - zámková dlažba:260,00"]
[null,null,"Plochy chodníku - asfalt:747,00",null,747,null,null,null,null,null,null,null,"Plochy chodníku - asfalt:747,00"]
[null,null,"Plochy chodníku - zámková dlažba:260,00",null,260,null,null,null,null,null,null,null,"Plochy chodníku - zámková dlažba:260,00"]
[null,null,"Ostatní plochy:",null,0,null,null,null,null,null,null,null,"Ostatní plochy:"]
[null,null,"Okolní komunikace při realizaci stavby - odhad:5000,00",null,5000,null,null,null,null,null,null,null,"Okolní komunikace při realizaci stavby - odhad:5000,00"]
[null,"Celkem za","93 Dokončovací práce inženýrských staveb",null,null,null,{"$f":"SUM(G340:G383)","v":0},null,{"$f":"SUM(I340:I383)","v":0.12203000000000001},null,{"$f":"SUM(K340:K383)","v":0},null,null,null,4,null,null,null,null,null,null,null,null,null,null,null,null,null,null,null,null,null,null,null,null,null,null,null,null,null,null,null,null,null,null,null,null,null,null,null,null,null,{"$f":"SUM(BA340:BA383)","v":0},{"$f":"SUM(BB340:BB383)","v":0},{"$f":"SUM(BC340:BC383)","v":0},{"$f":"SUM(BD340:BD383)","v":0},{"$f":"SUM(BE340:BE383)","v":0}]
["Díl:","99","Staveništní přesun hmot",null,null,null,null,null,null,null,null,null,null,null,1]
[56,"998225311R00","Přesun hmot, oprava komunikací, kryt živič. a bet. ","t",6092.3351288000003,null,{"$f":"E386*F386","v":0},0,{"$f":"E386*H386","v":0},null,{"$f":"E386*J386","v":0},null,null,null,2,null,null,null,null,null,null,null,null,null,null,null,7,1,2,null,null,null,null,null,null,null,null,null,null,null,null,null,null,null,null,null,null,null,null,null,null,1,{"$f":"IF(AZ386=1,G386,0)","v":0},{"$f":"IF(AZ386=2,G386,0)","v":0},{"$f":"IF(AZ386=3,G386,0)","v":0},{"$f":"IF(AZ386=4,G386,0)","v":0},{"$f":"IF(AZ386=5,G386,0)","v":0},null,null,null,null,null,null,null,null,null,null,null,null,null,null,null,null,null,null,null,null,null,7,1]
[null,null,"Platí pro celý rozsah stavby ",null,null,null,null,null,null,null,null,"Platí pro celý rozsah stavby ",null,null,3]
[null,"Celkem za","99 Staveništní přesun hmot",null,null,null,{"$f":"SUM(G385:G387)","v":0},null,{"$f":"SUM(I385:I387)","v":0},null,{"$f":"SUM(K385:K387)","v":0},null,null,null,4,null,null,null,null,null,null,null,null,null,null,null,null,null,null,null,null,null,null,null,null,null,null,null,null,null,null,null,null,null,null,null,null,null,null,null,null,null,{"$f":"SUM(BA385:BA387)","v":0},{"$f":"SUM(BB385:BB387)","v":0},{"$f":"SUM(BC385:BC387)","v":0},{"$f":"SUM(BD385:BD387)","v":0},{"$f":"SUM(BE385:BE387)","v":0}]

{"sheet":"OaVNS","index":65,"n_rows":30,"n_cols":67,"rows_kept":30,"cut":false,"hidden":false,"merged":[[0,0,0,6],[2,0,2,1],[3,0,3,1],[3,4,3,6],[6,2,6,6]]}
["Položkový rozpočet "]
[]
["Stavba :",null,"3395 Kanalizace a ČOV Benešov u Semil",null,"Rozpočet:","OaVNS_ I.Etapa"]
["Objekt :",null,"OaVNS - Ostatní a vedlejší náklady stavby "]
[]
["P.č.","Číslo položky","Název položky","MJ","množství","cena / MJ","celkem (Kč)","Jednotková hmotnost","Celková hmotnost","Jednotková dem.hmot.","Celková dem.hmot."]
["Díl:","950","Ostatní náklady stavby"]
[1,"950 99-0001.ONS","Zajištění prostoru a vybudování zařízení staveniště včetně potřebných staveništních komunikací","soubor",1,null,{"$f":"SUM(E8*F8)","v":0},8.6899999999999998E-3,{"$f":"E8*H8","v":8.6899999999999998E-3},0,{"$f":"E8*J8","v":0},null,null,null,null,null,null,null,null,null,null,null,null,null,null,null,null,null,null,null,null,null,null,null,null,null,null,null,null,null,null,null,null,null,null,null,null,null,null,null,null,null,null,null,null,null,null,null,null,null,null,null,null,null,null,1,1]
[2,"950 99-0003.ONS","Zajištění bezpečnosti při provádění stavby ve smyslu bezpečnosti práce i ochrany životního prostředí a zeleně","soubor",1,null,{"$f":"SUM(E9*F9)","v":0}]
[3,"950 99-0005.ONS","Vytýčení stavby a hranic pozemků při provádění stavby ","soubor",1,null,0]
[4,"950 99-0006.ONS","Zajištění včasného oznámení o zahájení prací majitelům pozemků a správců sítí dotčených stavbou","soubor",1,null,0]
[5,"950 99-0007.ONS","Spolupráce s vlastníky pozemků při případném uvolnění pozemků pro stavbu (např. skládky osobního materiálu vlastníků)","soubor",1,null,0,2.478E-2,{"$f":"E12*H12","v":2.478E-2},0,{"$f":"E12*J12","v":0},null,null,null,null,null,null,null,null,null,null,null,null,null,null,null,null,null,null,null,null,null,null,null,null,null,null,null,null,null,null,null,null,null,null,null,null,null,null,null,null,null,null,null,null,null,null,null,null,null,null,null,null,null,null,1,1]
[6,"950 99-0008.ONS","Zajištění vytýčení podzemních zařízení, a v případě jejich křížení či souběhu v otevřeném výkopu, jejich písemné předání zpět jejich správcům před zásypem","soubor",1,null,0]
[7,"950 99-0009.ONS","Vypracování a projednání návrhu dočasných dopravních opatření (případně i po etapách dle zvoleného postupu prací zhotovitelem)","soubor",1,null,0]
[8,"950 99-0010.ONS","Zajištění povolení zvláštního užívání komunikací v souladu s postupem výstavby,včetně správních poplatků a povolení k užívání dalších, stavbou dotčených pozemků   (skládky materiálu, mezideponie atd.)","soubor",1,null,0]
[9,"950 99-0011.ONS","Zřízení, údržba a likvidace dopravního opatření po dobu realizace stavby (případně i po etapách dle zvoleného postupu prací zhotovitelem)","soubor",1,null,0,0,{"$f":"E16*H16","v":0},0,{"$f":"E16*J16","v":0},null,null,null,null,null,null,null,null,null,null,null,null,null,null,null,null,null,null,null,null,null,null,null,null,null,null,null,null,null,null,null,null,null,null,null,null,null,null,null,null,null,null,null,null,null,null,null,null,null,null,null,null,null,null,1,1]
[10,"950 99-0013.ONS","Zajištění činnosti odpovědného geodeta zhotovitele","soubor",1,null,0]
[11,"950 99-0014.ONS","Zajištění činnosti odpovědného geologa zhotovitele","soubor",1,null,0]
[12,"950 99-0015.ONS","Zajištění čistoty na staveništi a v jeho okolí, zajištění každodenního čištění komunikací dotčených provozem zhotovitele","soubor",1,null,0]
[13,"950 99-0016.ONS","Fotodokumentace průběhu díla; zhotovitel zajistí a předá objednateli průběžnou fotodokumentaci realizace díla. Fotodokumentace bude dokladovat průběh díla a bude zejména dokumentovat části stavby a konstrukce před jejich zakrytím","soubor",1,null,0]
[14,"950 99-0017.ONS","Péče o nepředané objekty nebo jejich části a konstrukce stavby, jejich ošetřování a nutný rozsah pojištění","soubor",1,null,0,0,{"$f":"E21*H21","v":0},0,{"$f":"E21*J21","v":0},null,null,null,null,null,null,null,null,null,null,null,null,null,null,null,null,null,null,null,null,null,null,null,null,null,null,null,null,null,null,null,null,null,null,null,null,null,null,null,null,null,null,null,null,null,null,null,null,null,null,null,null,null,null,1,1]
[15,"950 99-0018.ONS","Zkoušky hutnění komunikací a rýh dle ČSN a EN","soubor",1,null,0]
[16,"950 99-0021.ONS","Inženýrská a kompletační činnost zhotovitele ","soubor",1,null,0]
[17,"950 99-0022.ONS","Zhotovení dokumentace skutečného provedení díla ","soubor",1,null,0]
[18,"950 99-0023.ONS","Geodetické zaměření stavby","soubor",1,null,0]
[19,"950 99-0024.ONS","Pasportizace objektů a komunikací před zahájením stavby včetně předání fotokokumentace investorovi stavby v digitální a tištěné podobě.","soubor",1,null,0]
[20,"950 99-0025.ONS","Provizorní zásobování vodou (cisterny)","soubor",1,null,0]
[20,"950 99-0027.ONS","Ostatní činnosti nutné ke zdárnému provedení díla, které jsou vymezeny zejména v technické specifikaci stavby","soubor",1,null,0]
[]
[null,"ONS Celkem",null,null,null,null,{"$f":"SUM(G8:G28)","v":0}]