{"text_format":"1","workbook":"xlsx","n_sheets":81,"sheets":["Stavba","101 3542101 KL","101 3542101 Pol","102 3542102 KL","102 3542102 Pol","103 3542103 KL","103 3542103 Pol","104 3542104 KL","104 3542104 Pol","105 3542105 KL","105 3542105 Pol","106 3542106 KL","106 3542106 Pol","131 3542131 KL","131 3542131 Pol","132 3542132 KL","132 3542132 Pol","301 3542301.1 KL","301 3542301.1 Rek","301 3542301.1 Pol","301 3542301.2 KL","301 3542301.2 Rek","301 3542301.2 Pol","302 3542302.1 KL","302 3542302.1 Rek","302 3542302.1 Pol","302 3542302.2 KL","302 3542302.2 Rek","302 3542302.2 Pol","302 3542302.3 KL","302 3542302.3 Rek","302 3542302.3 Pol","303 3542303.1 KL","303 3542303.1 Rek","303 3542303.1 Pol","303 3542303.2 KL","303 3542303.2 Rek","303 3542303.2 Pol","304 3542304.1 KL","304 3542304.1 Rek","304 3542304.1 Pol","304 3542304.2 KL","304 3542304.2 Rek","304 3542304.2 Pol","304 3542304.3 KL","304 3542304.3 Rek","304 3542304.3 Pol","305 3542305.1 KL","305 3542305.1 Rek","305 3542305.1 Pol","305 3542305.2 KL","305 3542305.2 Rek","305 3542305.2 Pol","306 3542306.1 KL","306 3542306.1 Rek","306 3542306.1 Pol","306 3542306.2 KL","306 3542306.2 Rek","306 3542306.2 Pol","306 3542306.3 KL","306 3542306.3 Rek","306 3542306.3 Pol","307 3542307.1 KL","307 3542307.1 Rek","307 3542307.1 Pol","307 3542307.2 KL","307 3542307.2 Rek","307 3542307.2 Pol","307 3542307.3 KL","307 3542307.3 Rek","307 3542307.3 Pol","307 3542307.4 KL","307 3542307.4 Rek","307 3542307.4 Pol","308 3542308.1 KL","308 3542308.1 Rek","308 3542308.1 Pol","308 3542308.2 KL","308 3542308.2 Rek","308 3542308.2 Pol","OaVNS"],"not_rendered":{"charts":0,"images":1,"macros":0,"external_links":0,"defined_names":297,"comments":0,"pivot_tables":0},"unopened":[],"bounds":{"document_bytes":16777216,"sheet_cells":100000,"rows_first":2000,"rows_last":500,"rows_between":2000,"halvings":0,"cell_chars":16384,"cell_head_chars":4096},"cells_cut":0,"cells_raw":0,"read":"whole","date_system":"1900"}

{"sheet":"Stavba","index":0,"n_rows":81,"n_cols":10,"rows_kept":81,"cut":false,"hidden":false,"merged":[[18,8,18,9],[19,8,19,9],[20,8,20,9],[21,8,21,9],[22,8,22,9]]}
[]
[null,null,"Položkový rozpočet stavby",null,null,null,null,"Datum: "]
[null,null,null," "]
[]
[null,null,"Stavba :","3542","Semily - Obnova VH infrastruktury a komunikací"]
[null,null,null,null,"ul. Smetanova, Dvořákova, větrná a Nad Špejcharem"]
[null,null,"Objednatel : ","Vodohospodářské sdružení Turnov",null,null,null,"IČO :","49295934"]
[null,null,null,"Antonína Dvořáka 287",null,null,null,"DIČ :","CZ49295934"]
[null,null,"51101","Turnov"]
[]
[null,null,"Zhotovitel : ",".",null,null,null,"IČO :"]
[null,null,null,null,null,null,null,"DIČ :"]
[]
[null,null,"Za zhotovitele :",null,null,null,null,"Za objednatele :"]
[]
[null,null,"_______________",null,null,null,null,"_______________"]
[]
[null,null,null,null,null,null,null,null,null,"Rozpočtové náklady"]
[null,"Základ pro DPH",null,15,"%",null,null,null,{"$f":"ROUND(G47,0)","v":0}]
[null,"DPH ",null,{"$f":"SazbaDPH1","v":15},"%",null,null,null,{"$f":"ROUND(I19*D20/100,0)","v":0}]
[null,"Základ pro DPH",null,21,"%",null,null,null,{"$f":"ROUND(H47,0)","v":1000000}]
[null,"DPH ",null,{"$f":"SazbaDPH2","v":21},"%",null,null,null,{"$f":"ROUND(I21*D21/100,0)","v":210000}]
[null,"Cena celkem za stavbu",null,null,null,null,null,null,{"$f":"SUM(I19:I22)","v":1210000}]
[]
[]
[null,"Rekapitulace stavebních objektů a provozních souborů"]
[]
[null,"Číslo a název objektu / provozního souboru",null,null,null,"Cena celkem",{"$f":"CONCATENATE(\"Základ DPH \",SazbaDPH1,\" %\")","v":"Základ DPH 15 %"},{"$f":"CONCATENATE(\"Základ DPH \",SazbaDPH2,\" %\")","v":"Základ DPH 21 %"},"DPH celkem","%"]
[null,"101","Rekonstrukce komunikace ul. Větrná",null,null,{"$f":"G29+H29+I29","v":0},0,{"$f":"SUM(H52)","v":0},{"$f":"(G29*SazbaDPH1)/100+(H29*SazbaDPH2)/100","v":0},{"$f":"IF(CelkemObjekty=0,\"\",F29/CelkemObjekty*100)","v":0}]
[null,"102","Novostavba parkovacího puhu ul. Větrná",null,null,{"$f":"G30+H30+I30","v":0},0,0,0,0]
[null,"103","Rekonstrukce komunikace ul. Smetanova",null,null,0,0,0,0,0]
[null,"104","Novostavba parkovacího pruhu ul.Smetanova",null,null,0,0,0,0,0]
[null,"105","Rekonstrukce komunikace ul. Dvořákova",null,null,0,0,0,0,0]
[null,"106","Novostavba parkovacího pruhu ul. Dvořákova",null,null,0,0,0,0,0]
[null,"131","Rekonstrukce chodníku ul. Větrná",null,null,0,0,0,0,0]
[null,"132","Rekonstrukce chodníku ul. Smetanova",null,null,0,0,0,0,0]
[null,"301","Oprava vodovodní řadů S1 a S2 ul. Smetanova",null,null,0,0,{"$f":"SUM(H60:H61)","v":0},0,0]
[null,"302","Oprava gravitační stoky S ul. Smetanova",null,null,0,0,{"$f":"SUM(H62:H64)","v":0},0,0]
[null,"303","Oprava vodovodního řadu D ul. Dvořákova",null,null,0,0,{"$f":"SUM(H65:H66)","v":0},0,0]
[null,"304","Oprava gravitační stoky D ul. Dvořákova",null,null,0,0,{"$f":"SUM(H67:H69)","v":0},0,0]
[null,"305","Oprava vodovodního řadu V ul. Větrná",null,null,0,0,{"$f":"SUM(H70:H71)","v":0},0,0]
[null,"306","Oprava gravitační stoky V1 a  V2 ul. Větrná",null,null,0,0,{"$f":"SUM(H72:H74)","v":0},0,0]
[null,"307","Oprava vodovodního řadu SP ul. Nad Špejcharem",null,null,0,0,{"$f":"SUM(H75:H78)","v":0},0,0]
[null,"308","Obnova kanalizace Gymnázium Semily",null,null,0,0,{"$f":"SUM(H79:H80)","v":0},0,0]
[null,"OaVNS","Ostatní a vedlejší náklady stavby",null,null,0,0,{"$f":"SUM(OaVNS!G30)","v":0},0,0]
[null,"PR","Povinná rezerva",null,null,1210000,0,1000000,210000,100]
[null,"Celkem za stavbu",null,null,null,{"$f":"SUM(F29:F46)","v":1210000},{"$f":"SUM(G29:G46)","v":0},{"$f":"SUM(H29:H46)","v":1000000},{"$f":"SUM(I29:I46)","v":210000},{"$f":"IF(CelkemObjekty=0,\"\",F47/CelkemObjekty*100)","v":100}]
[]
[null,"Rekapitulace stavebních rozpočtů"]
[]
[null,"Číslo objektu","Číslo a název rozpočtu",null,null,"Cena celkem",{"$f":"CONCATENATE(\"Základ DPH \",SazbaDPH1,\" %\")","v":"Základ DPH 15 %"},{"$f":"CONCATENATE(\"Základ DPH \",SazbaDPH2,\" %\")","v":"Základ DPH 21 %"},"DPH celkem","%"]
[null,"101","3542/101 Rekonstrukce komunikace ul. Větrná",null,null,{"$f":"G52+H52+I52","v":0},0,{"$f":"SUM('101 3542101 KL'!C23)","v":0},{"$f":"(G52*SazbaDPH1)/100+(H52*SazbaDPH2)/100","v":0},{"$f":"IF(CelkemObjekty=0,\"\",F52/CelkemObjekty*100)","v":0}]
[null,"102","3542/102 Novostavba parkovacího puhu ul. Větrná",null,null,{"$f":"G53+H53+I53","v":0},0,{"$f":"SUM('102 3542102 KL'!C23)","v":0},0,0]
[null,"103","3542/103 Rekonstrukce komunikace ul. Smetanova",null,null,0,0,{"$f":"SUM('103 3542103 KL'!C23)","v":0},0,0]
[null,"104","3542/104 Novostavba parkovacího pruhu ul.Smetanova",null,null,0,0,{"$f":"SUM('104 3542104 KL'!C23)","v":0},0,0]
[null,"105","3542/105 Rekonstrukce komunikace ul. Dvořákova",null,null,0,0,{"$f":"SUM('105 3542105 KL'!C23)","v":0},0,0]
[null,"106","3542/106 Novostavba parkovacího pruhu ul. Dvořákova",null,null,0,0,{"$f":"SUM('106 3542106 KL'!C23)","v":0},0,0]
[null,"131","3542/131 Rekonstrukce chodníku ul. Větrná",null,null,0,0,{"$f":"SUM('131 3542131 KL'!C23)","v":0},0,0]
[null,"132","3542/132 Rekonstrukce chodníku ul. Smetanova",null,null,0,0,{"$f":"SUM('132 3542132 KL'!C23)","v":0},0,0]
[null,"301","3542/301.1 Oprava vodovodní řadů S1 a S2",null,null,0,0,{"$f":"SUM('301 3542301.1 KL'!C23)","v":0},0,0]
[null,"301","3542/301.2 Vodovodní napojovací body",null,null,0,0,{"$f":"SUM('301 3542301.2 KL'!C23)","v":0},0,0]
[null,"302","3542/302.1 Oprava gravitační stoky S",null,null,0,0,{"$f":"SUM('302 3542302.1 KL'!C23)","v":0},0,0]
[null,"302","3542/302.2 Odstavení stávající kanalizační stoky",null,null,0,0,{"$f":"SUM('302 3542302.2 KL'!C23)","v":0},0,0]
[null,"302","3542/302.3 Kanalizační napojovací body",null,null,0,0,{"$f":"SUM('302 3542302.3 KL'!C23)","v":0},0,0]
[null,"303","3542/303.1 Oprava vodovodního řadu D",null,null,0,0,{"$f":"SUM('303 3542303.1 KL'!C23)","v":0},0,0]
[null,"303","3542/303.2 Vodovodní napojovací body",null,null,0,0,{"$f":"SUM('303 3542303.2 KL'!C23)","v":0},0,0]
[null,"304","3542/304.1 Oprava gravitační stoky D",null,null,0,0,{"$f":"SUM('304 3542304.1 KL'!C23)","v":0},0,0]
[null,"304","3542/304.2 Odstavení stávající kanalizační stoky",null,null,0,0,{"$f":"SUM('304 3542304.2 KL'!C23)","v":0},0,0]
[null,"304","3542/304.3 Kanalizační napojovací body",null,null,0,0,{"$f":"SUM('304 3542304.3 KL'!C23)","v":0},0,0]
[null,"305","3542/305.1 Oprava vodovodního řadu V",null,null,0,0,{"$f":"SUM('305 3542305.1 KL'!C23)","v":0},0,0]
[null,"305","3542/305.2 Vodovodní napojovací body",null,null,0,0,{"$f":"SUM('305 3542305.2 KL'!C23)","v":0},0,0]
[null,"306","3542/306.1 Oprava gravitační stoky V1 a  V2",null,null,0,0,{"$f":"SUM('306 3542306.1 KL'!C23)","v":0},0,0]
[null,"306","3542/306.2 Odstavení stávající kanalizační stoky",null,null,0,0,{"$f":"SUM('306 3542306.2 KL'!C23)","v":0},0,0]
[null,"306","3542/306.3 Kanalizační napojovací body",null,null,0,0,{"$f":"SUM('306 3542306.3 KL'!C23)","v":0},0,0]
[null,"307","3542/307.1 Oprava vodovodního řadu SP",null,null,0,0,{"$f":"SUM('307 3542307.1 KL'!C23)","v":0},0,0]
[null,"307","3542/307.2 Odpad z PK",null,null,0,0,{"$f":"SUM('307 3542307.2 KL'!C23)","v":0},0,0]
[null,"307","3542/307.3 Vodovodní napojovací body",null,null,0,0,{"$f":"SUM('307 3542307.3 KL'!C23)","v":0},0,0]
[null,"307","3542/307.4 Opravy povrchů komunikace ul. Nad Špejcharem",null,null,0,0,{"$f":"SUM('307 3542307.4 KL'!C23)","v":0},0,0]
[null,"308","3542/308.1 Obnova kanalizace - Gravitační stoka G",null,null,0,0,{"$f":"SUM('308 3542308.1 KL'!C23)","v":0},0,0]
[null,"308","3542/308.2 Zrušení stávající kanalizace",null,null,0,0,{"$f":"SUM('308 3542308.2 KL'!C23)","v":0},0,0]
[null,"Celkem za stavbu",null,null,null,{"$f":"SUM(F52:F80)","v":0},{"$f":"SUM(G52:G80)","v":0},{"$f":"SUM(H52:H80)","v":0},{"$f":"SUM(I52:I80)","v":0},{"$f":"IF(CelkemObjekty=0,\"\",F81/CelkemObjekty*100)","v":0}]

{"sheet":"101 3542101 KL","index":1,"n_rows":45,"n_cols":8,"rows_kept":45,"cut":false,"hidden":false,"merged":[[50,1,50,6],[29,5,29,6],[30,5,30,6],[31,5,31,6],[32,5,32,6],[33,5,33,6],[36,1,44,6],[45,1,45,6],[46,1,46,6],[47,1,47,6],[48,1,48,6],[49,1,49,6],[22,0,22,1],[7,2,7,4],[8,2,8,4],[9,2,9,4],[10,2,10,4],[11,2,11,4]]}
["POLOŽKOVÝ ROZPOČET"]
["Rozpočet",null,"3542/101","Rekonstrukce komunikace ul. Větrná",null,"JKSO ","822.27"]
[]
["Objekt",null,null,null,null,"SKP "]
["101",null,"Rekonstrukce komunikace ul. Větrná",null,null,"Měrná jednotka","m2"]
["Stavba",null,null,null,null,"Počet jednotek",0]
["3542",null,"Semily - Obnova VH infrastruktury a komunikací",null,null,"Náklady na m.j.",{"$f":"IF(G6=0,,ROUND((F30+F32)/G6,1))","v":0}]
["Projektant",null,null,null,null,"Typ rozpočtu"]
["Zpracovatel projektu"]
["Objednatel",null,"Vodohospodářské sdružení Turnov"]
["Dodavatel",null,".",null,null,"Zakázkové číslo "]
["Rozpočtoval",null,null,null,null,"Počet listů"]
["ROZPOČTOVÉ NÁKLADY"]
["Základní rozpočtové náklady"]
[null,"HSV celkem",{"$f":"SUM('101 3542101 Pol'!I3)","v":0}]
["Z","PSV celkem",0]
["R","M práce celkem",0]
["N","M dodávky celkem",0]
["ZRN celkem",null,{"$f":"SUM(C15:C18)","v":0}]
[]
["HZS",null,0]
["ZRN+HZS",null,{"$f":"C19+C21","v":0}]
["ZRN+ost.náklady+HZS",null,{"$f":"C22+G23","v":0}]
["Vypracoval",null,null,"Za zhotovitele",null,"Za objednatele"]
["Jméno :",null,null,"Jméno :",null,"Jméno :"]
["Datum :",null,null,"Datum :",null,"Datum :"]
[]
["Podpis :",null,null,"Podpis:",null,"Podpis:"]
[]
["Základ pro DPH",null,21,"%  ",null,{"$f":"C23-F32","v":0}]
["DPH",null,{"$f":"C30","v":21},"% ",null,{"$f":"ROUND(PRODUCT(F30,C31/100),0)","v":0}]
["Základ pro DPH",null,0,"% ",null,0]
["DPH",null,{"$f":"C32","v":0},"% ",null,{"$f":"ROUND(PRODUCT(F32,C33/100),0)","v":0}]
["CENA ZA OBJEKT CELKEM",null,null,null,null,{"$f":"ROUND(SUM(F30:F33),0)","v":0}]
[]
["Poznámka :",null,null,null,null,null,null," "]
[null,null,null,null,null,null,null," "]
[null,null,null,null,null,null,null," "]
[null,null,null,null,null,null,null," "]
[null,null,null,null,null,null,null," "]
[null,null,null,null,null,null,null," "]
[null,null,null,null,null,null,null," "]
[null,null,null,null,null,null,null," "]
[null,null,null,null,null,null,null," "]
[null,null,null,null,null,null,null," "]

{"sheet":"101 3542101 Pol","index":2,"n_rows":121,"n_cols":16,"rows_kept":121,"cut":false,"hidden":false,"merged":[[2,2,2,3],[3,2,3,3],[4,5,5,5],[4,6,5,6],[4,7,4,8],[4,9,5,9],[4,0,5,0],[4,1,5,1],[4,2,5,2],[4,3,5,3],[4,4,5,4]]}
["EstiCon",null,null,null,"Firma: ",null,null,null,null,null,null,null,null,null,null,3]
[null,null,null,null,"Soupis prací objektu"]
["S","Stavba:","22-069",null,"Oprava ulic Větrná, Smetanova a Dvořákova",null,null,"SO 101",{"$f":"SUMIFS(I8:I121,A8:A121,\"SD\")","v":0},null,null,null,null,null,0,2]
["O","Rozpočet:","SO 101",null,"Rekonstrukce komunikace - ul. Větrná",null,null,null,null,null,null,null,null,null,0.12,2]
["Typ","Poř. číslo","Kód položky","Varianta","Název Položky","MJ","Množství","Cena",null,"Cenová soustava",null,null,null,null,0.21]
[null,null,null,null,null,null,null,"Jednotková","Celkem"]
[0,1,2,3,4,5,6,7,8,9]
["SD",null,"0",null,"Všeobecné konstrukce a práce",null,null,null,{"$f":"SUMIFS(I9:I20,A9:A20,\"P\")","v":0}]
["P",1,"015111","","POPLATKY ZA LIKVIDACI ODPADŮ NEKONTAMINOVANÝCH - 17 05 04  VYTĚŽENÉ ZEMINY A HORNINY -  I. TŘÍDA TĚŽITELNOSTI","T",234.15,null,{"$f":"ROUND(G9*H9,P4)","v":0},null,null,null,null,null,{"$f":"I9*0.21","v":0},3]
["PP",null,null,null,""]
["VV",null,null,null,"pol. 123738 19,725*2,0 = 39,450 [A]\r\npol. 132738 97,35*2,0 = 194,700 [B]\r\nCelkové množství = 234,150"]
["P",2,"015130","","POPLATKY ZA LIKVIDACI ODPADŮ NEKONTAMINOVANÝCH - 17 03 02  VYBOURANÝ ASFALTOVÝ BETON BEZ DEHTU","T",177.768,null,{"$f":"ROUND(G12*H12,P4)","v":0},null,null,null,null,null,{"$f":"I12*0.21","v":0},3]
["PP",null,null,null,""]
["VV",null,null,null,"pol. 11372 74,07*2,4 = 177,768 [A]"]
["P",3,"015140","","POPLATKY ZA LIKVIDACI ODPADŮ NEKONTAMINOVANÝCH - 17 01 01  BETON Z DEMOLIC OBJEKTŮ, ZÁKLADŮ TV","T",17.684999999999999,null,{"$f":"ROUND(G15*H15,P4)","v":0},null,null,null,null,null,{"$f":"I15*0.21","v":0},3]
["PP",null,null,null,""]
["VV",null,null,null,"pol. 11352 393*0,15*0,3 = 17,685 [B]"]
["P",4,"015330","","POPLATKY ZA LIKVIDACI ODPADŮ NEKONTAMINOVANÝCH - 17 05 04  KAMENNÁ SUŤ","T",4.5599999999999996,null,{"$f":"ROUND(G18*H18,P4)","v":0},null,null,null,null,null,{"$f":"I18*0.21","v":0},3]
["PP",null,null,null,""]
["VV",null,null,null,"dle pol. 11332 2,4*1,9 = 4,560 [A]"]
["SD",null,"1",null,"Zemní práce",null,null,null,{"$f":"SUMIFS(I22:I63,A22:A63,\"P\")","v":0}]
["P",5,"11318","","ODSTRANĚNÍ KRYTU ZPEVNĚNÝCH PLOCH Z DLAŽDIC","M3",26.9,null,{"$f":"ROUND(G22*H22,P4)","v":0},null,null,null,null,null,{"$f":"I22*0.21","v":0},3]
["PP",null,null,null,""]
["VV",null,null,null,"stávající dlážděná křižovatka (pl. * tl.) 269*0.1 = 26,900 [A]"]
["P",6,"11332","","ODSTRANĚNÍ PODKLADŮ ZPEVNĚNÝCH PLOCH Z KAMENIVA NESTMELENÉHO","M3",2.4,null,{"$f":"ROUND(G25*H25,P4)","v":0},null,null,null,null,null,{"$f":"I25*0.21","v":0},3]
["PP",null,null,null,""]
["VV",null,null,null,"odstranění podkladních vrstev komunikace (pl. * tl.) 784*0,3 = 235,200 [A]\r\nodstranění podkladních vrstev dlážděná křižovatka (pl. * tl.) 269*0,3 = 80,700 [B]\r\nstávající nezpevněné plochy (pl. * tl.) 16*0,15 = 2,400 [C]"]
["P",7,"11352","","ODSTRANĚNÍ CHODNÍKOVÝCH A SILNIČNÍCH OBRUBNÍKŮ BETONOVÝCH","M",393,null,{"$f":"ROUND(G28*H28,P4)","v":0},null,null,null,null,null,{"$f":"I28*0.21","v":0},3]
["PP"]
["VV",null,null,null,"stávající stav 393 = 393,000 [A]"]
["P",8,"11356","","ODSTRANĚNÍ OBRUB Z DLAŽEBNÍCH KOSTEK DVOJITÝCH","M",17,null,{"$f":"ROUND(G31*H31,P4)","v":0},null,null,null,null,null,{"$f":"I31*0.21","v":0},3]
["PP"]
["VV",null,null,null,"stávající stav 17 = 17,000 [A]"]
["P",9,"11372","","FRÉZOVÁNÍ ZPEVNĚNÝCH PLOCH ASFALTOVÝCH","M3",74.069999999999993,null,{"$f":"ROUND(G34*H34,P4)","v":0},null,null,null,null,null,{"$f":"I34*0.21","v":0},3]
["PP",null,null,null,"Zhotovitel v ceně zohlední možnost použití materiálu zpět na stavbě. Včetně odvozu a uložení na skládku zhotovitele."]
["VV",null,null,null,"celoplošné frézování vozovky (pl. * hl.) 784*0,09 = 70,560 [A]\r\nstupňovité napojení (pl. * hl.) 39*0,09 = 3,510 [B]\r\nCelkové množství = 74,070"]
["P",10,"113764","","FRÉZOVÁNÍ DRÁŽKY PRŮŘEZU DO 400MM2 V ASFALTOVÉ VOZOVCE","M",340,null,{"$f":"ROUND(G37*H37,P4)","v":0},null,null,null,null,null,{"$f":"I37*0.21","v":0},3]
["PP",null,null,null,"komůrka dle VL 211.07 pro zálivku za horka"]
["VV",null,null,null,"dvoulinka 340 = 340,000 [A]"]
["P",11,"12110","","SEJMUTÍ ORNICE NEBO LESNÍ PŮDY","M3",7.05,null,{"$f":"ROUND(G40*H40,P4)","v":0},null,null,null,null,null,{"$f":"I40*0.21","v":0},3]
["PP",null,null,null,""]
["VV",null,null,null,"terénní úpravy (pl. * tl.) 47*0,15 = 7,050 [A]"]
["P",12,"123738","","ODKOP PRO SPOD STAVBU SILNIC A ŽELEZNIC TŘ. I, ODVOZ DO 20KM","M3",190.72499999999999,null,{"$f":"ROUND(G43*H43,P4)","v":0},null,null,null,null,null,{"$f":"I43*0.21","v":0},3]
["PP",null,null,null,"ZHOTOVITEL V CENĚ ZOHLEDNÍ SKUTEČNÉ NÁKLADY NA DOPRAVU NA MÍSTO ULOŽENÍ"]
["VV",null,null,null,"předpokládaný rozsah sanace (pl. * 50% rozsahu) - pol. 18110 1271,5*0,5 = 635,750 [A]\r\npředpokládaná tloušťka sanace 0.3 = 0,300 [B]\r\ncelkem sanace A*B = 190,725 [C]"]
["P",13,"132738","","HLOUBENÍ RÝH ŠÍŘ DO 2M PAŽ I NEPAŽ TŘ. I, ODVOZ DO 20KM","M3",97.35,null,{"$f":"ROUND(G46*H46,P4)","v":0},null,null,null,null,null,{"$f":"I46*0.21","v":0},3]
["PP",null,null,null,"ZHOTOVITEL V CENĚ ZOHLEDNÍ SKUTEČNÉ NÁKLADY NA DOPRAVU NA MÍSTO ULOŽENÍ"]
["VV",null,null,null,"dvoulinka (dl. * š. * hl.) 340*0,3*0,3 = 30,600 [B]\r\nobruby (dl. * š. * hl.) 445*0.3*0,5 = 66,750 [A]\r\nCelkové množství = 97,350"]
["P",14,"17120","","ULOŽENÍ SYPANINY DO NÁSYPŮ A NA SKLÁDKY BEZ ZHUTNĚNÍ","M3",322.42500000000001,null,{"$f":"ROUND(G49*H49,P4)","v":0},null,null,null,null,null,{"$f":"I49*0.21","v":0},3]
["PP",null,null,null,""]
["VV",null,null,null,"pol. 123738 225,075 = 225,075 [A]\r\npol. 132738 97,35 = 97,350 [B]\r\nCelkové množství = 322,425"]
["P",15,"18110","","ÚPRAVA PLÁNĚ SE ZHUTNĚNÍM V HORNINĚ TŘ. I","M2",1271.5,null,{"$f":"ROUND(G52*H52,P4)","v":0},null,null,null,null,null,{"$f":"I52*0.21","v":0},3]
["PP",null,null,null,""]
["VV",null,null,null,"Konstrukce A 784 = 784,000 [A]\r\nKonstrukce B 269 = 269,000 [B]\r\nPod sil. obrubami (dl. * š.) 445*0,3 = 133,500 [C]\r\nPod dvoulinkou (dl. * š.) 340*0,25 = 85,000 [D]\r\nCelkové množství = 1271,500"]
["P",16,"18230","","ROZPROSTŘENÍ ORNICE V ROVINĚ","M3",7.05,null,{"$f":"ROUND(G55*H55,P4)","v":0},null,null,null,null,null,{"$f":"I55*0.21","v":0},3]
["PP",null,null,null,"včetně získání materiálu k ohumusování"]
["VV",null,null,null,"terénní úpravy 7,05 = 7,050 [A]"]
["P",17,"18241","","ZALOŽENÍ TRÁVNÍKU RUČNÍM VÝSEVEM","M2",55,null,{"$f":"ROUND(G58*H58,P4)","v":0},null,null,null,null,null,{"$f":"I58*0.21","v":0},3]
["PP"]
["VV",null,null,null,"terénní úpravy 55 = 55,000 [A]"]
["P",18,"183511","","CHEMICKÉ ODPLEVELENÍ CELOPLOŠNÉ","M2",55,null,{"$f":"ROUND(G61*H61,P4)","v":0},null,null,null,null,null,{"$f":"I61*0.21","v":0},3]
["PP"]
["VV",null,null,null,"terénní úpravy 55 = 55,000 [A]"]
["SD",null,"2",null,"Základy",null,null,null,{"$f":"SUMIFS(I65:I73,A65:A73,\"P\")","v":0}]
["P",19,"212636","","TRATIVODY KOMPL Z TRUB Z PLAST HM DN DO 150MM, RÝHA TŘ II","M",145,null,{"$f":"ROUND(G65*H65,P4)","v":0},null,null,null,null,null,{"$f":"I65*0.21","v":0},3]
["PP",null,null,null,"Trativod DN 150"]
["VV",null,null,null,"trativod 145 = 145,000 [A]"]
["P",20,"21361","","DRENÁŽNÍ VRSTVY Z GEOTEXTILIE","M2",1271.5,null,{"$f":"ROUND(G68*H68,P4)","v":0},null,null,null,null,null,{"$f":"I68*0.21","v":0},3]
["PP",null,null,null,"netkaná geotextílie 500 g/m2, CBR>3 kN, odolnost proti proražení < 10 mm, tažnost > 50% dle TP 97 \nseparační a filtrační funkce"]
["VV",null,null,null,"pol. 18110 1271,5 = 1271,500 [A]"]
["P",21,"21452",null,"SANAČNÍ VRSTVY Z KAMENIVA DRCENÉHO","M3",190.72499999999999,null,{"$f":"ROUND(G71*H71,P4)","v":0},null,null,null,null,null,{"$f":"I71*0.21","v":0},3]
["PP",null,null,null,"sanace aktivní zóny - nakupený materiál dle ČSN 73 6133"]
["VV",null,null,null,"předpokládaný rozsah sanace (pl. * 50% rozsahu) - pol. 18110 1271,5*0,5 = 635,750 [A]\r\npředpokládaná tloušťka sanace 0.3 = 0,300 [B]\r\ncelkem sanace A*B = 190,725 [C]"]
["SD",null,"5",null,"Komunikace",null,null,null,{"$f":"SUMIFS(I75:I95,A75:A95,\"P\")","v":0}]
["P",22,"56313","","VOZOVKOVÉ VRSTVY Z MECHANICKY ZPEVNĚNÉHO KAMENIVA TL. DO 150MM","M2",269,null,{"$f":"ROUND(G75*H75,P4)","v":0},null,null,null,null,null,{"$f":"I75*0.21","v":0},3]
["PP",null,null,null,"MZK - 150 mm"]
["VV",null,null,null,"Konstrukce B 269 = 269,000 [A]"]
["P",23,"56333","","VOZOVKOVÉ VRSTVY ZE ŠTĚRKODRTI TL. DO 150MM","M2",1837,null,{"$f":"ROUND(G78*H78,P4)","v":0},null,null,null,null,null,{"$f":"I78*0.21","v":0},3]
["PP",null,null,null,"ŠDA 0/32 - 150 mm"]
["VV",null,null,null,"Konstrukce A 784*2 = 1568,000 [A]\r\nKonstrukce B 269 = 269,000 [B]\r\nCelkové množství = 1837,000"]
["P",24,"572123","","INFILTRAČNÍ POSTŘIK Z EMULZE DO 1,0KG/M2","M2",784,null,{"$f":"ROUND(G81*H81,P4)","v":0},null,null,null,null,null,{"$f":"I81*0.21","v":0},3]
["PP",null,null,null,"PI-C 1,00 kg/m2"]
["VV",null,null,null,"Konstrukce A 784 = 784,000 [A]"]
["P",25,"572213","","SPOJOVACÍ POSTŘIK Z EMULZE DO 0,5KG/M2","M2",803.5,null,{"$f":"ROUND(G84*H84,P4)","v":0},null,null,null,null,null,{"$f":"I84*0.21","v":0},3]
["PP",null,null,null,"PS-C 0,30 kg/m2"]
["VV",null,null,null,"Konstrukce A 784 = 784,000 [A]\r\nStupňovité napojení 39/2 = 19,500 [B]\r\nCelkové množství = 803,500"]
["P",26,"574A33","","ASFALTOVÝ BETON PRO OBRUSNÉ VRSTVY ACO 11 TL. 40MM","M2",823,null,{"$f":"ROUND(G87*H87,P4)","v":0},null,null,null,null,null,{"$f":"I87*0.21","v":0},3]
["PP",null,null,null,"ACO 11, 50/70 - 40 mm"]
["VV",null,null,null,"Konstrukce A 784 = 784,000 [A]\r\nStupňovité napojení 39 = 39,000 [B]\r\nCelkové množství = 823,000"]
["P",27,"574E46","","ASFALTOVÝ BETON PRO PODKLADNÍ VRSTVY ACP 16+, 16S TL. 50MM","M2",803.5,null,{"$f":"ROUND(G90*H90,P4)","v":0},null,null,null,null,null,{"$f":"I90*0.21","v":0},3]
["PP",null,null,null,"ACP 16+, 50/70 - 50 mm"]
["VV",null,null,null,"Konstrukce A 784 = 784,000 [A]\r\nStupňovité napojení 39/2 = 19,500 [B]\r\nCelkové množství = 803,500"]
["P",28,"582612","","KRYTY Z BETON DLAŽDIC SE ZÁMKEM ŠEDÝCH TL 80MM DO LOŽE Z KAM","M2",269,null,{"$f":"ROUND(G93*H93,P4)","v":0},null,null,null,null,null,{"$f":"I93*0.21","v":0},3]
["PP",null,null,null,"Betonová dlažba (2x vyspárováno), šedá - 80 mm"]
["VV",null,null,null,"Konstrukce B 269 = 269,000 [A]"]
["SD",null,"8",null,"Potrubí",null,null,null,{"$f":"SUMIFS(I97:I102,A97:A102,\"P\")","v":0}]
["P",29,"89712","","VPUSŤ KANALIZAČNÍ ULIČNÍ KOMPLETNÍ Z BETONOVÝCH DÍLCŮ","KUS",7,null,{"$f":"ROUND(G97*H97,P4)","v":0},null,null,null,null,null,{"$f":"I97*0.21","v":0},3]
["PP",null,null,null,""]
["VV",null,null,null,"uliční vpusť 7 = 7,000 [A]"]
["P",30,"89921","","VÝŠKOVÁ ÚPRAVA POKLOPŮ","KUS",6,null,{"$f":"ROUND(G100*H100,P4)","v":0},null,null,null,null,null,{"$f":"I100*0.21","v":0},3]
["PP",null,null,null,"výšková úprava poklopů v komunikaci na novou úroveň nivelety \nvčetně nutného materiálu a prací pro snížení nebo zvýšení do 100mm"]
["VV",null,null,null,"dle situace 6 = 6,000 [A]"]
["SD",null,"9",null,"Ostatní konstrukce a práce",null,null,null,{"$f":"SUMIFS(I104:I121,A104:A121,\"P\")","v":0}]
["P",31,"917224","","SILNIČNÍ A CHODNÍKOVÉ OBRUBY Z BETONOVÝCH OBRUBNÍKŮ ŠÍŘ 150MM","M",445,null,{"$f":"ROUND(G104*H104,P4)","v":0},null,null,null,null,null,{"$f":"I104*0.21","v":0},3]
["PP",null,null,null,""]
["VV",null,null,null,"silniční obruby 445 = 445,000 [A]"]
["P",32,"91772","","OBRUBA Z DLAŽEBNÍCH KOSTEK DROBNÝCH","M",680,null,{"$f":"ROUND(G107*H107,P4)","v":0},null,null,null,null,null,{"$f":"I107*0.21","v":0},3]
["PP",null,null,null,""]
["VV",null,null,null,"Dvoulinka ze žulových kostek 340*2 = 680,000 [A]"]
["P",33,"91781","","VÝŠKOVÁ ÚPRAVA OBRUBNÍKŮ BETONOVÝCH","M",16,null,{"$f":"ROUND(G110*H110,P4)","v":0},null,null,null,null,null,{"$f":"I110*0.21","v":0},3]
["PP",null,null,null,""]
["VV",null,null,null,"napojení na stávající stavy 8*2 = 16,000 [A]"]
["P",34,"919112","","ŘEZÁNÍ ASFALTOVÉHO KRYTU VOZOVEK TL DO 100MM","M",36,null,{"$f":"ROUND(G113*H113,P4)","v":0},null,null,null,null,null,{"$f":"I113*0.21","v":0},3]
["PP",null,null,null,""]
["VV",null,null,null,"v napojení na stáv. stav 36 = 36,000 [A]"]
["P",35,"931324","","TĚSNĚNÍ DILATAČ SPAR ASF ZÁLIVKOU MODIFIK PRŮŘ DO 400MM2","M",376,null,{"$f":"ROUND(G116*H116,P4)","v":0},null,null,null,null,null,{"$f":"I116*0.21","v":0},3]
["PP",null,null,null,"zálivka spar ve vozovce  \nzálivka za horka dle ČSN 14188 - typ N2"]
["VV",null,null,null,"v napojení 36 = 36,000 [A]\r\ndvoulinka 340 = 340,000 [B]\r\nCelkové množství = 376,000"]
["P",36,"96615","","BOURÁNÍ KONSTRUKCÍ Z PROSTÉHO BETONU","M3",2,null,{"$f":"ROUND(G119*H119,P4)","v":0},null,null,null,null,null,{"$f":"I119*0.21","v":0},3]
["PP",null,null,null,"bourání v trase na trvalou skládku"]
["VV",null,null,null,"bourání v trase 2 = 2,000 [A]"]

{"sheet":"102 3542102 KL","index":3,"n_rows":45,"n_cols":8,"rows_kept":45,"cut":false,"hidden":false,"merged":[[50,1,50,6],[29,5,29,6],[30,5,30,6],[31,5,31,6],[32,5,32,6],[33,5,33,6],[36,1,44,6],[45,1,45,6],[46,1,46,6],[47,1,47,6],[48,1,48,6],[49,1,49,6],[22,0,22,1],[7,2,7,4],[8,2,8,4],[9,2,9,4],[10,2,10,4],[11,2,11,4]]}
["POLOŽKOVÝ ROZPOČET"]
["Rozpočet",null,"3542/102","Novostavba parkovacího puhu ul. Větrná",null,"JKSO ","822.27"]
[]
["Objekt",null,null,null,null,"SKP "]
["102",null,"Novostavba parkovacího puhu ul. Větrná",null,null,"Měrná jednotka","m2"]
["Stavba",null,null,null,null,"Počet jednotek",0]
["3542",null,"Semily - Obnova VH infrastruktury a komunikací",null,null,"Náklady na m.j.",{"$f":"IF(G6=0,,ROUND((F30+F32)/G6,1))","v":0}]
["Projektant",null,null,null,null,"Typ rozpočtu"]
["Zpracovatel projektu"]
["Objednatel",null,"Vodohospodářské sdružení Turnov"]
["Dodavatel",null,".",null,null,"Zakázkové číslo "]
["Rozpočtoval",null,null,null,null,"Počet listů"]
["ROZPOČTOVÉ NÁKLADY"]
["Základní rozpočtové náklady"]
[null,"HSV celkem",{"$f":"SUM('102 3542102 Pol'!I3)","v":0}]
["Z","PSV celkem",0]
["R","M práce celkem",0]
["N","M dodávky celkem",0]
["ZRN celkem",null,{"$f":"SUM(C15:C18)","v":0}]
[]
["HZS",null,0]
["ZRN+HZS",null,{"$f":"C19+C21","v":0}]
["ZRN+ost.náklady+HZS",null,{"$f":"C22+G23","v":0}]
["Vypracoval",null,null,"Za zhotovitele",null,"Za objednatele"]
["Jméno :",null,null,"Jméno :",null,"Jméno :"]
["Datum :",null,null,"Datum :",null,"Datum :"]
[]
["Podpis :",null,null,"Podpis:",null,"Podpis:"]
[]
["Základ pro DPH",null,21,"%  ",null,{"$f":"C23-F32","v":0}]
["DPH",null,{"$f":"C30","v":21},"% ",null,{"$f":"ROUND(PRODUCT(F30,C31/100),0)","v":0}]
["Základ pro DPH",null,0,"% ",null,0]
["DPH",null,{"$f":"C32","v":0},"% ",null,{"$f":"ROUND(PRODUCT(F32,C33/100),0)","v":0}]
["CENA ZA OBJEKT CELKEM",null,null,null,null,{"$f":"ROUND(SUM(F30:F33),0)","v":0}]
[]
["Poznámka :",null,null,null,null,null,null," "]
[null,null,null,null,null,null,null," "]
[null,null,null,null,null,null,null," "]
[null,null,null,null,null,null,null," "]
[null,null,null,null,null,null,null," "]
[null,null,null,null,null,null,null," "]
[null,null,null,null,null,null,null," "]
[null,null,null,null,null,null,null," "]
[null,null,null,null,null,null,null," "]
[null,null,null,null,null,null,null," "]

{"sheet":"102 3542102 Pol","index":4,"n_rows":68,"n_cols":16,"rows_kept":68,"cut":false,"hidden":false,"merged":[[2,2,2,3],[3,2,3,3],[4,5,5,5],[4,6,5,6],[4,7,4,8],[4,9,5,9],[4,0,5,0],[4,1,5,1],[4,2,5,2],[4,3,5,3],[4,4,5,4]]}
["EstiCon",null,null,null,"Firma: ",null,null,null,null,null,null,null,null,null,null,3]
[null,null,null,null,"Soupis prací objektu"]
["S","Stavba:","22-069",null,"Oprava ulic Větrná, Smetanova a Dvořákova",null,null,"SO 102",{"$f":"SUMIFS(I8:I68,A8:A68,\"SD\")","v":0},null,null,null,null,null,0,2]
["O","Rozpočet:","SO 102",null,"Novostavba parkovacího pruhu - ul. Větrná",null,null,null,null,null,null,null,null,null,0.12,2]
["Typ","Poř. číslo","Kód položky","Varianta","Název Položky","MJ","Množství","Cena",null,"Cenová soustava",null,null,null,null,0.21]
[null,null,null,null,null,null,null,"Jednotková","Celkem"]
[0,1,2,3,4,5,6,7,8,9]
["SD",null,"0",null,"Všeobecné konstrukce a práce",null,null,null,{"$f":"SUMIFS(I9:I17,A9:A17,\"P\")","v":0}]
["P",1,"015111","","POPLATKY ZA LIKVIDACI ODPADŮ NEKONTAMINOVANÝCH - 17 05 04  VYTĚŽENÉ ZEMINY A HORNINY -  I. TŘÍDA TĚŽITELNOSTI","T",78.599999999999994,null,{"$f":"ROUND(G9*H9,P4)","v":0},null,null,null,null,null,{"$f":"I9*0.21","v":0},3]
["PP",null,null,null,""]
["VV",null,null,null,"pol. 123738 37,5*2,0 = 75,000 [A]\r\npol. 132738 1,8*2,0 = 3,600 [B]\r\nCelkové množství = 78,600"]
["P",2,"015130","","POPLATKY ZA LIKVIDACI ODPADŮ NEKONTAMINOVANÝCH - 17 03 02  VYBOURANÝ ASFALTOVÝ BETON BEZ DEHTU","T",60,null,{"$f":"ROUND(G12*H12,P4)","v":0},null,null,null,null,null,{"$f":"I12*0.21","v":0},3]
["PP",null,null,null,""]
["VV",null,null,null,"pol. 11313 25*2,4 = 60,000 [A]"]
["P",3,"015330","","POPLATKY ZA LIKVIDACI ODPADŮ NEKONTAMINOVANÝCH - 17 05 04  KAMENNÁ SUŤ","T",128.25,null,{"$f":"ROUND(G15*H15,P4)","v":0},null,null,null,null,null,{"$f":"I15*0.21","v":0},3]
["PP",null,null,null,""]
["VV",null,null,null,"dle pol. 11332 67,5*1,9 = 128,250 [A]"]
["SD",null,"1",null,"Zemní práce",null,null,null,{"$f":"SUMIFS(I19:I36,A19:A36,\"P\")","v":0}]
["P",4,"11313","","ODSTRANĚNÍ KRYTU ZPEVNĚNÝCH PLOCH S ASFALTOVÝM POJIVEM","M3",25,null,{"$f":"ROUND(G19*H19,P4)","v":0},null,null,null,null,null,{"$f":"I19*0.21","v":0},3]
["PP",null,null,null,""]
["VV",null,null,null,"stávající chodník 250*0,1 = 25,000 [A]"]
["P",5,"11332","","ODSTRANĚNÍ PODKLADŮ ZPEVNĚNÝCH PLOCH Z KAMENIVA NESTMELENÉHO","M3",67.5,null,{"$f":"ROUND(G22*H22,P4)","v":0},null,null,null,null,null,{"$f":"I22*0.21","v":0},3]
["PP",null,null,null,""]
["VV",null,null,null,"odstranění podkladních vrstev stávajícího chodníku (pl. * tl.) 250*0,27 = 67,500 [A]"]
["P",6,"123738","","ODKOP PRO SPOD STAVBU SILNIC A ŽELEZNIC TŘ. I, ODVOZ DO 20KM","M3",37.5,null,{"$f":"ROUND(G25*H25,P4)","v":0},null,null,null,null,null,{"$f":"I25*0.21","v":0},3]
["PP",null,null,null,"ZHOTOVITEL V CENĚ ZOHLEDNÍ SKUTEČNÉ NÁKLADY NA DOPRAVU NA MÍSTO ULOŽENÍ"]
["VV",null,null,null,"předpokládaný rozsah sanace (pl. * 50% rozsahu) - pol. 18110 250*0,5 = 125,000 [A]\r\npředpokládaná tloušťka sanace 0.3 = 0,300 [B]\r\ncelkem sanace A*B = 37,500 [C]"]
["P",7,"132738","","HLOUBENÍ RÝH ŠÍŘ DO 2M PAŽ I NEPAŽ TŘ. I, ODVOZ DO 20KM","M3",1.8,null,{"$f":"ROUND(G28*H28,P4)","v":0},null,null,null,null,null,{"$f":"I28*0.21","v":0},3]
["PP",null,null,null,"ZHOTOVITEL V CENĚ ZOHLEDNÍ SKUTEČNÉ NÁKLADY NA DOPRAVU NA MÍSTO ULOŽENÍ"]
["VV",null,null,null,"obruby (dl. * š. * hl.) 12*0.3*0,5 = 1,800 [A]"]
["P",8,"17120","","ULOŽENÍ SYPANINY DO NÁSYPŮ A NA SKLÁDKY BEZ ZHUTNĚNÍ","M3",39.299999999999997,null,{"$f":"ROUND(G31*H31,P4)","v":0},null,null,null,null,null,{"$f":"I31*0.21","v":0},3]
["PP",null,null,null,""]
["VV",null,null,null,"pol. 123738 37,5 = 37,500 [A]\r\npol. 132738 1,8 = 1,800 [B]\r\nCelkové množství = 39,300"]
["P",9,"18110","","ÚPRAVA PLÁNĚ SE ZHUTNĚNÍM V HORNINĚ TŘ. I","M2",253.45,null,{"$f":"ROUND(G34*H34,P4)","v":0},null,null,null,null,null,{"$f":"I34*0.21","v":0},3]
["PP",null,null,null,""]
["VV",null,null,null,"Konstrukce C 250 = 250,000 [A]\r\nPod sil. obrubami 9*0,3 = 2,700 [C]\r\nPod chod. obrubou 3*0,25 = 0,750 [D]\r\nCelkové množství = 253,450"]
["SD",null,"2",null,"Základy",null,null,null,{"$f":"SUMIFS(I38:I43,A38:A43,\"P\")","v":0}]
["P",10,"21361","","DRENÁŽNÍ VRSTVY Z GEOTEXTILIE","M2",253.45,null,{"$f":"ROUND(G38*H38,P4)","v":0},null,null,null,null,null,{"$f":"I38*0.21","v":0},3]
["PP",null,null,null,"netkaná geotextílie 500 g/m2, CBR>3 kN, odolnost proti proražení < 10 mm, tažnost > 50% dle TP 97 \nseparační a filtrační funkce"]
["VV",null,null,null,"pol. 18110 253,45 = 253,450 [A]"]
["P",11,"21452","","SANAČNÍ VRSTVY Z KAMENIVA DRCENÉHO","M3",37.5,null,{"$f":"ROUND(G41*H41,P4)","v":0},null,null,null,null,null,{"$f":"I41*0.21","v":0},3]
["PP",null,null,null,"sanace aktivní zóny - nakupený materiál dle ČSN 73 6133"]
["VV",null,null,null,"předpokládaný rozsah sanace (pl. * 50% rozsahu) - pol. 18110 250*0,5 = 125,000 [A]\r\npředpokládaná tloušťka sanace 0.3 = 0,300 [B]\r\ncelkem sanace A*B = 37,500 [C]"]
["SD",null,"5",null,"Komunikace",null,null,null,{"$f":"SUMIFS(I45:I53,A45:A53,\"P\")","v":0}]
["P",12,"56333","","VOZOVKOVÉ VRSTVY ZE ŠTĚRKODRTI TL. DO 150MM","M2",250,null,{"$f":"ROUND(G45*H45,P4)","v":0},null,null,null,null,null,{"$f":"I45*0.21","v":0},3]
["PP",null,null,null,"ŠDA 0/32 - 150 mm"]
["VV",null,null,null,"Konstrukce C 164+86 = 250,000 [B]"]
["P",13,"582612","1","KRYTY Z BETON DLAŽDIC SE ZÁMKEM ŠEDÝCH TL 80MM DO LOŽE Z KAM","M2",164,null,{"$f":"ROUND(G48*H48,P4)","v":0},null,null,null,null,null,{"$f":"I48*0.21","v":0},3]
["PP",null,null,null,"Betonová dlažba (2x vyspárováno), šedá - 80 mm"]
["VV",null,null,null,"Konstrukce C 164 = 164,000 [A]"]
["P",14,"582612","2","KRYTY Z BETON DLAŽDIC SE ZÁMKEM ŠEDÝCH TL 80MM DO LOŽE Z KAM","M2",86,null,{"$f":"ROUND(G51*H51,P4)","v":0},null,null,null,null,null,{"$f":"I51*0.21","v":0},3]
["PP",null,null,null,"Betonová dlažba (2x vyspárováno), antracit - 80 mm"]
["VV",null,null,null,"Konstrukce C 86 = 86,000 [A]"]
["SD",null,"7",null,"Přidružená stavební výroba",null,null,null,{"$f":"SUMIFS(I55:I57,A55:A57,\"P\")","v":0}]
["P",15,"711117","","IZOLACE BĚŽNÝCH KONSTRUKCÍ PROTI ZEMNÍ VLHKOSTI Z PE FÓLIÍ","M2",118.5,null,{"$f":"ROUND(G55*H55,P4)","v":0},null,null,null,null,null,{"$f":"I55*0.21","v":0},3]
["PP",null,null,null,"nopová fólie v místě souběhu s nemovitostí nebo podezdívkou"]
["VV",null,null,null,"délka souběhu podél konstrukcí 133+25 = 158,000 [A]\r\ndélka izolace v řezu 0,75 = 0,750 [B]\r\ncelkem a*b = 118,500 [C]"]
["SD",null,"8",null,"Potrubí",null,null,null,{"$f":"SUMIFS(I59:I61,A59:A61,\"P\")","v":0}]
["P",16,"89921","","VÝŠKOVÁ ÚPRAVA POKLOPŮ","KUS",2,null,{"$f":"ROUND(G59*H59,P4)","v":0},null,null,null,null,null,{"$f":"I59*0.21","v":0},3]
["PP",null,null,null,"výšková úprava poklopů v komunikaci na novou úroveň nivelety \nvčetně nutného materiálu a prací pro snížení nebo zvýšení do 100mm"]
["VV",null,null,null,"dle situace 2 = 2,000 [A]"]
["SD",null,"9",null,"Ostatní konstrukce a práce",null,null,null,{"$f":"SUMIFS(I63:I68,A63:A68,\"P\")","v":0}]
["P",17,"917223","","SILNIČNÍ A CHODNÍKOVÉ OBRUBY Z BETONOVÝCH OBRUBNÍKŮ ŠÍŘ 100MM","M",9,null,{"$f":"ROUND(G63*H63,P4)","v":0},null,null,null,null,null,{"$f":"I63*0.21","v":0},3]
["PP",null,null,null,""]
["VV",null,null,null,"chodníkové obruby 9 = 9,000 [A]"]
["P",18,"917224","","SILNIČNÍ A CHODNÍKOVÉ OBRUBY Z BETONOVÝCH OBRUBNÍKŮ ŠÍŘ 150MM","M",3,null,{"$f":"ROUND(G66*H66,P4)","v":0},null,null,null,null,null,{"$f":"I66*0.21","v":0},3]
["PP",null,null,null,""]
["VV",null,null,null,"silniční obruby 3 = 3,000 [A]"]

{"sheet":"103 3542103 KL","index":5,"n_rows":45,"n_cols":8,"rows_kept":45,"cut":false,"hidden":false,"merged":[[50,1,50,6],[29,5,29,6],[30,5,30,6],[31,5,31,6],[32,5,32,6],[33,5,33,6],[36,1,44,6],[45,1,45,6],[46,1,46,6],[47,1,47,6],[48,1,48,6],[49,1,49,6],[22,0,22,1],[7,2,7,4],[8,2,8,4],[9,2,9,4],[10,2,10,4],[11,2,11,4]]}
["POLOŽKOVÝ ROZPOČET"]
["Rozpočet",null,"3542/103","Rekonstrukce komunikace ul. Smetanova",null,"JKSO ","822.27"]
[]
["Objekt",null,null,null,null,"SKP "]
["103",null,"Rekonstrukce komunikace ul. Smetanova",null,null,"Měrná jednotka","m2"]
["Stavba",null,null,null,null,"Počet jednotek",0]
["3542",null,"Semily - Obnova VH infrastruktury a komunikací",null,null,"Náklady na m.j.",{"$f":"IF(G6=0,,ROUND((F30+F32)/G6,1))","v":0}]
["Projektant",null,null,null,null,"Typ rozpočtu"]
["Zpracovatel projektu"]
["Objednatel",null,"Vodohospodářské sdružení Turnov"]
["Dodavatel",null,".",null,null,"Zakázkové číslo "]
["Rozpočtoval",null,null,null,null,"Počet listů"]
["ROZPOČTOVÉ NÁKLADY"]
["Základní rozpočtové náklady"]
[null,"HSV celkem",{"$f":"SUM('103 3542103 Pol'!I3)","v":0}]
["Z","PSV celkem",0]
["R","M práce celkem",0]
["N","M dodávky celkem",0]
["ZRN celkem",null,{"$f":"SUM(C15:C18)","v":0}]
[]
["HZS",null,0]
["ZRN+HZS",null,{"$f":"C19+C21","v":0}]
["ZRN+ost.náklady+HZS",null,{"$f":"C22+G23","v":0}]
["Vypracoval",null,null,"Za zhotovitele",null,"Za objednatele"]
["Jméno :",null,null,"Jméno :",null,"Jméno :"]
["Datum :",null,null,"Datum :",null,"Datum :"]
[]
["Podpis :",null,null,"Podpis:",null,"Podpis:"]
[]
["Základ pro DPH",null,21,"%  ",null,{"$f":"C23-F32","v":0}]
["DPH",null,{"$f":"C30","v":21},"% ",null,{"$f":"ROUND(PRODUCT(F30,C31/100),0)","v":0}]
["Základ pro DPH",null,0,"% ",null,0]
["DPH",null,{"$f":"C32","v":0},"% ",null,{"$f":"ROUND(PRODUCT(F32,C33/100),0)","v":0}]
["CENA ZA OBJEKT CELKEM",null,null,null,null,{"$f":"ROUND(SUM(F30:F33),0)","v":0}]
[]
["Poznámka :",null,null,null,null,null,null," "]
[null,null,null,null,null,null,null," "]
[null,null,null,null,null,null,null," "]
[null,null,null,null,null,null,null," "]
[null,null,null,null,null,null,null," "]
[null,null,null,null,null,null,null," "]
[null,null,null,null,null,null,null," "]
[null,null,null,null,null,null,null," "]
[null,null,null,null,null,null,null," "]
[null,null,null,null,null,null,null," "]

{"sheet":"103 3542103 Pol","index":6,"n_rows":130,"n_cols":16,"rows_kept":130,"cut":false,"hidden":false,"merged":[[2,2,2,3],[3,2,3,3],[4,5,5,5],[4,6,5,6],[4,7,4,8],[4,9,5,9],[4,0,5,0],[4,1,5,1],[4,2,5,2],[4,3,5,3],[4,4,5,4]]}
["EstiCon",null,null,null,"Firma: ",null,null,null,null,null,null,null,null,null,null,3]
[null,null,null,null,"Soupis prací objektu"]
["S","Stavba:","22-069",null,"Oprava ulic Větrná, Smetanova a Dvořákova",null,null,"SO 103",{"$f":"SUMIFS(I8:I130,A8:A130,\"SD\")","v":0},null,null,null,null,null,0,2]
["O","Rozpočet:","SO 103",null,"Rekonstrukce komunikace - ul. Smetanova",null,null,null,null,null,null,null,null,null,0.12,2]
["Typ","Poř. číslo","Kód položky","Varianta","Název Položky","MJ","Množství","Cena",null,"Cenová soustava",null,null,null,null,0.21]
[null,null,null,null,null,null,null,"Jednotková","Celkem"]
[0,1,2,3,4,5,6,7,8,9]
["SD",null,"0",null,"Všeobecné konstrukce a práce",null,null,null,{"$f":"SUMIFS(I9:I20,A9:A20,\"P\")","v":0}]
["P",1,"015111","","POPLATKY ZA LIKVIDACI ODPADŮ NEKONTAMINOVANÝCH - 17 05 04  VYTĚŽENÉ ZEMINY A HORNINY -  I. TŘÍDA TĚŽITELNOSTI","T",592.89,null,{"$f":"ROUND(G9*H9,P4)","v":0},null,null,null,null,null,{"$f":"I9*0.21","v":0},3]
["PP",null,null,null,""]
["VV",null,null,null,"pol. 123738 190,725*2,0 = 381,450 [A]\r\npol. 132738 105,72*2,0 = 211,440 [B]\r\nCelkové množství = 592,890"]
["P",2,"015130","","POPLATKY ZA LIKVIDACI ODPADŮ NEKONTAMINOVANÝCH - 17 03 02  VYBOURANÝ ASFALTOVÝ BETON BEZ DEHTU","T",160.27199999999999,null,{"$f":"ROUND(G12*H12,P4)","v":0},null,null,null,null,null,{"$f":"I12*0.21","v":0},3]
["PP",null,null,null,""]
["VV",null,null,null,"pol. 11372 66,78*2,4 = 160,272 [A]"]
["P",3,"015140","","POPLATKY ZA LIKVIDACI ODPADŮ NEKONTAMINOVANÝCH - 17 01 01  BETON Z DEMOLIC OBJEKTŮ, ZÁKLADŮ TV","T",10.395,null,{"$f":"ROUND(G15*H15,P4)","v":0},null,null,null,null,null,{"$f":"I15*0.21","v":0},3]
["PP",null,null,null,""]
["VV",null,null,null,"pol. 11352 231*0,15*0,3 = 10,395 [B]"]
["P",4,"015330","","POPLATKY ZA LIKVIDACI ODPADŮ NEKONTAMINOVANÝCH - 17 05 04  KAMENNÁ SUŤ","T",429.495,null,{"$f":"ROUND(G18*H18,P4)","v":0},null,null,null,null,null,{"$f":"I18*0.21","v":0},3]
["PP",null,null,null,""]
["VV",null,null,null,"dle pol. 11332 226,05*1,9 = 429,495 [A]"]
["SD",null,"1",null,"Zemní práce",null,null,null,{"$f":"SUMIFS(I22:I57,A22:A57,\"P\")","v":0}]
["P",5,"11332","","ODSTRANĚNÍ PODKLADŮ ZPEVNĚNÝCH PLOCH Z KAMENIVA NESTMELENÉHO","M3",226.05,null,{"$f":"ROUND(G22*H22,P4)","v":0},null,null,null,null,null,{"$f":"I22*0.21","v":0},3]
["PP",null,null,null,""]
["VV",null,null,null,"odstranění podkladních vrstev komunikace (pl. * tl.) 742*0,3 = 222,600 [A]\r\nstávající nezpevněné plochy (pl. * tl.) 23*0,15 = 3,450 [C]\r\nCelkové množství = 226,050"]
["P",6,"11352","","ODSTRANĚNÍ CHODNÍKOVÝCH A SILNIČNÍCH OBRUBNÍKŮ BETONOVÝCH","M",231,null,{"$f":"ROUND(G25*H25,P4)","v":0},null,null,null,null,null,{"$f":"I25*0.21","v":0},3]
["PP",null,null,null,"ZHOTOVITEL V CENĚ ZOHLEDNÍ SKUTEČNÉ NÁKLADY NA DOPRAVU NA MÍSTO ULOŽENÍ"]
["VV",null,null,null,"stávající stav 231 = 231,000 [A]"]
["P",7,"11372","","FRÉZOVÁNÍ ZPEVNĚNÝCH PLOCH ASFALTOVÝCH","M3",66.78,null,{"$f":"ROUND(G28*H28,P4)","v":0},null,null,null,null,null,{"$f":"I28*0.21","v":0},3]
["PP",null,null,null,"Zhotovitel v ceně zohlední možnost použití materiálu zpět na stavbě. Včetně odvozu a uložení na skládku zhotovitele."]
["VV",null,null,null,"celoplošné frézování vozovky (pl. * hl.) 742*0,09 = 66,780 [A]"]
["P",8,"113764","","FRÉZOVÁNÍ DRÁŽKY PRŮŘEZU DO 400MM2 V ASFALTOVÉ VOZOVCE","M",343,null,{"$f":"ROUND(G31*H31,P4)","v":0},null,null,null,null,null,{"$f":"I31*0.21","v":0},3]
["PP",null,null,null,"komůrka dle VL 211.07 pro zálivku za horka"]
["VV",null,null,null,"dvoulinka 343 = 343,000 [A]"]
["P",9,"12110","","SEJMUTÍ ORNICE NEBO LESNÍ PŮDY","M3",35.25,null,{"$f":"ROUND(G34*H34,P4)","v":0},null,null,null,null,null,{"$f":"I34*0.21","v":0},3]
["PP",null,null,null,""]
["VV",null,null,null,"terénní úpravy (pl. * hl.) 235*0,15 = 35,250 [A]"]
["P",10,"123738","","ODKOP PRO SPOD STAVBU SILNIC A ŽELEZNIC TŘ. I, ODVOZ DO 20KM","M3",190.72499999999999,null,{"$f":"ROUND(G37*H37,P4)","v":0},null,null,null,null,null,{"$f":"I37*0.21","v":0},3]
["PP",null,null,null,"ZHOTOVITEL V CENĚ ZOHLEDNÍ SKUTEČNÉ NÁKLADY NA DOPRAVU NA MÍSTO ULOŽENÍ"]
["VV",null,null,null,"předpokládaný rozsah sanace (pl. * 50% rozsahu) - pol. 18110 1271,5*0,5 = 635,750 [A]\r\npředpokládaná tloušťka sanace 0.3 = 0,300 [B]\r\ncelkem sanace A*B = 190,725 [C]"]
["P",11,"132738","","HLOUBENÍ RÝH ŠÍŘ DO 2M PAŽ I NEPAŽ TŘ. I, ODVOZ DO 20KM","M3",105.72,null,{"$f":"ROUND(G40*H40,P4)","v":0},null,null,null,null,null,{"$f":"I40*0.21","v":0},3]
["PP",null,null,null,"ZHOTOVITEL V CENĚ ZOHLEDNÍ SKUTEČNÉ NÁKLADY NA DOPRAVU NA MÍSTO ULOŽENÍ"]
["VV",null,null,null,"dvoulinka (dl. * š. * hl.) 343*0,3*0,3 = 30,870 [B]\r\nobruby (dl. * š. * hl.) (407+4)*0.3*0,5 = 61,650 [A]\r\nkanalizační přípojka (dl. * š. * hl.) 23*0,5*1 = 11,500 [C]\r\nodvodňovací žlab (dl. * š. * hl.) 17*0,25*0,4 = 1,700 [D]\r\nCelkové množství = 105,720"]
["P",12,"17120","","ULOŽENÍ SYPANINY DO NÁSYPŮ A NA SKLÁDKY BEZ ZHUTNĚNÍ","M3",296.44499999999999,null,{"$f":"ROUND(G43*H43,P4)","v":0},null,null,null,null,null,{"$f":"I43*0.21","v":0},3]
["PP",null,null,null,""]
["VV",null,null,null,"pol. 123738 190,725 = 190,725 [A]\r\npol. 132738 105,72 = 105,720 [B]\r\nCelkové množství = 296,445"]
["P",13,"18110","","ÚPRAVA PLÁNĚ SE ZHUTNĚNÍM V HORNINĚ TŘ. I","M2",1021.4,null,{"$f":"ROUND(G46*H46,P4)","v":0},null,null,null,null,null,{"$f":"I46*0.21","v":0},3]
["PP",null,null,null,""]
["VV",null,null,null,"Konstrukce A 811 = 811,000 [A]\r\nPod sil. obrubami 407*0,3 = 122,100 [C]\r\nPod dvoulinkou 343*0,25 = 85,750 [D]\r\nPod odvod. žlabem 17*0.15 = 2,550 [B]\r\nCelkové množství = 1021,400"]
["P",14,"18230","","ROZPROSTŘENÍ ORNICE V ROVINĚ","M3",35.25,null,{"$f":"ROUND(G49*H49,P4)","v":0},null,null,null,null,null,{"$f":"I49*0.21","v":0},3]
["PP",null,null,null,"včetně získání materiálu k ohumusování"]
["VV",null,null,null,"terénní úpravy 235*0,15 = 35,250 [A]"]
["P",15,"18241","","ZALOŽENÍ TRÁVNÍKU RUČNÍM VÝSEVEM","M2",235,null,{"$f":"ROUND(G52*H52,P4)","v":0},null,null,null,null,null,{"$f":"I52*0.21","v":0},3]
["PP"]
["VV",null,null,null,"terénní úpravy 235 = 235,000 [A]"]
["P",16,"183511","","CHEMICKÉ ODPLEVELENÍ CELOPLOŠNÉ","M2",235,null,{"$f":"ROUND(G55*H55,P4)","v":0},null,null,null,null,null,{"$f":"I55*0.21","v":0},3]
["PP"]
["VV",null,null,null,"terénní úpravy 235 = 235,000 [A]"]
["SD",null,"2",null,"Základy",null,null,null,{"$f":"SUMIFS(I59:I67,A59:A67,\"P\")","v":0}]
["P",17,"212636","","TRATIVODY KOMPL Z TRUB Z PLAST HM DN DO 150MM, RÝHA TŘ II","M",145,null,{"$f":"ROUND(G59*H59,P4)","v":0},null,null,null,null,null,{"$f":"I59*0.21","v":0},3]
["PP",null,null,null,"Trativod DN 150"]
["VV",null,null,null,"trativod 145 = 145,000 [A]"]
["P",18,"21361","","DRENÁŽNÍ VRSTVY Z GEOTEXTILIE","M2",1021.4,null,{"$f":"ROUND(G62*H62,P4)","v":0},null,null,null,null,null,{"$f":"I62*0.21","v":0},3]
["PP",null,null,null,"netkaná geotextílie 500 g/m2, CBR>3 kN, odolnost proti proražení < 10 mm, tažnost > 50% dle TP 97 \nseparační a filtrační funkce"]
["VV",null,null,null,"pol. 18110 1021,4 = 1021,400 [A]"]
["P",19,"21452",null,"SANAČNÍ VRSTVY Z KAMENIVA DRCENÉHO","M3",225.07499999999999,null,{"$f":"ROUND(G65*H65,P4)","v":0},null,null,null,null,null,{"$f":"I65*0.21","v":0},3]
["PP",null,null,null,"sanace aktivní zóny - nakupený materiál dle ČSN 73 6133"]
["VV",null,null,null,"předpokládaný rozsah sanace (pl. * 50% rozsahu) - pol. 18110 1500,5*0,5 = 750,250 [A]\r\npředpokládaná tloušťka sanace 0.3 = 0,300 [B]\r\ncelkem sanace A*B = 225,075 [C]"]
["SD",null,"5",null,"Komunikace",null,null,null,{"$f":"SUMIFS(I69:I92,A69:A92,\"P\")","v":0}]
["P",20,"56333","","VOZOVKOVÉ VRSTVY ZE ŠTĚRKODRTI TL. DO 150MM","M2",1622,null,{"$f":"ROUND(G69*H69,P4)","v":0},null,null,null,null,null,{"$f":"I69*0.21","v":0},3]
["PP",null,null,null,"ŠDA 0/32 - 150 mm"]
["VV",null,null,null,"Konstrukce A 811*2 = 1622,000 [A]"]
["P",21,"56334","","VOZOVKOVÉ VRSTVY ZE ŠTĚRKODRTI TL. DO 200MM","M2",17,null,{"$f":"ROUND(G72*H72,P4)","v":0},null,null,null,null,null,{"$f":"I72*0.21","v":0},3]
["PP",null,null,null,""]
["VV",null,null,null,"sjezdy 17 = 17,000 [A]"]
["P",22,"56363","","VOZOVKOVÉ VRSTVY Z RECYKLOVANÉHO MATERIÁLU TL DO 150MM","M2",23,null,{"$f":"ROUND(G75*H75,P4)","v":0},null,null,null,null,null,{"$f":"I75*0.21","v":0},3]
["PP"]
["VV",null,null,null,"nezpevněné sjezdy 23 = 23,000 [A]"]
["P",23,"572123","","INFILTRAČNÍ POSTŘIK Z EMULZE DO 1,0KG/M2","M2",811,null,{"$f":"ROUND(G78*H78,P4)","v":0},null,null,null,null,null,{"$f":"I78*0.21","v":0},3]
["PP",null,null,null,"PI-C 1,00 kg/m2"]
["VV",null,null,null,"Konstrukce A 811 = 811,000 [A]"]
["P",24,"572213","","SPOJOVACÍ POSTŘIK Z EMULZE DO 0,5KG/M2","M2",811,null,{"$f":"ROUND(G81*H81,P4)","v":0},null,null,null,null,null,{"$f":"I81*0.21","v":0},3]
["PP",null,null,null,"PS-C 0,30 kg/m2"]
["VV",null,null,null,"Konstrukce A 811 = 811,000 [A]"]
["P",25,"574A33","","ASFALTOVÝ BETON PRO OBRUSNÉ VRSTVY ACO 11 TL. 40MM","M2",811,null,{"$f":"ROUND(G84*H84,P4)","v":0},null,null,null,null,null,{"$f":"I84*0.21","v":0},3]
["PP",null,null,null,"ACO 11, 50/70 - 40 mm"]
["VV",null,null,null,"Konstrukce A 811 = 811,000 [A]"]
["P",26,"574E46","","ASFALTOVÝ BETON PRO PODKLADNÍ VRSTVY ACP 16+, 16S TL. 50MM","M2",811,null,{"$f":"ROUND(G87*H87,P4)","v":0},null,null,null,null,null,{"$f":"I87*0.21","v":0},3]
["PP",null,null,null,"ACP 16+, 50/70 - 50 mm"]
["VV",null,null,null,"Konstrukce A 811 = 811,000 [A]"]
["P",27,"582615","","KRYTY Z BETON DLAŽDIC SE ZÁMKEM BAREV TL 80MM DO LOŽE Z KAM","M2",17,null,{"$f":"ROUND(G90*H90,P4)","v":0},null,null,null,null,null,{"$f":"I90*0.21","v":0},3]
["PP",null,null,null,""]
["VV",null,null,null,"sjezdy 17 = 17,000 [A]"]
["SD",null,"8",null,"Potrubí",null,null,null,{"$f":"SUMIFS(I94:I111,A94:A111,\"P\")","v":0}]
["P",28,"87433","","POTRUBÍ Z TRUB PLASTOVÝCH ODPADNÍCH DN DO 150MM","M",23,null,{"$f":"ROUND(G94*H94,P4)","v":0},null,null,null,null,null,{"$f":"I94*0.21","v":0},3]
["PP",null,null,null,"PP DN150  SN10"]
["VV",null,null,null,"kanalizační přípojky 23 = 23,000 [A]"]
["P",29,"89712","","VPUSŤ KANALIZAČNÍ ULIČNÍ KOMPLETNÍ Z BETONOVÝCH DÍLCŮ","KUS",5,null,{"$f":"ROUND(G97*H97,P4)","v":0},null,null,null,null,null,{"$f":"I97*0.21","v":0},3]
["PP",null,null,null,""]
["VV",null,null,null,"uliční vpusť 5 = 5,000 [A]"]
["P",30,"897522","","VPUSŤ ODVOD ŽLABŮ Z BETON DÍLCŮ SV. ŠÍŘKY DO 150MM","KUS",2,null,{"$f":"ROUND(G100*H100,P4)","v":0},null,null,null,null,null,{"$f":"I100*0.21","v":0},3]
["PP",null,null,null,""]
["VV",null,null,null,"2 = 2,000 [A]"]
["P",31,"89921","","VÝŠKOVÁ ÚPRAVA POKLOPŮ","KUS",4,null,{"$f":"ROUND(G103*H103,P4)","v":0},null,null,null,null,null,{"$f":"I103*0.21","v":0},3]
["PP",null,null,null,"výšková úprava poklopů v komunikaci na novou úroveň nivelety \nvčetně nutného materiálu a prací pro snížení nebo zvýšení do 100mm"]
["VV",null,null,null,"dle situace 4 = 4,000 [A]"]
["P",32,"899525","","OBETONOVÁNÍ POTRUBÍ Z PROSTÉHO BETONU DO C30/37","M3",1.7,null,{"$f":"ROUND(G106*H106,P4)","v":0},null,null,null,null,null,{"$f":"I106*0.21","v":0},3]
["PP",null,null,null,"obetonování odvodňovacího žlabu"]
["VV",null,null,null,"dle podkladů výrobce 0,1*17 = 1,700 [A]"]
["P",33,"899901","","PŘEPOJENÍ PŘÍPOJEK","KUS",4,null,{"$f":"ROUND(G109*H109,P4)","v":0},null,null,null,null,null,{"$f":"I109*0.21","v":0},3]
["PP",null,null,null,""]
["VV",null,null,null,"napojení do stávající šachty 4 = 4,000 [A]"]
["SD",null,"9",null,"Ostatní konstrukce a práce",null,null,null,{"$f":"SUMIFS(I113:I130,A113:A130,\"P\")","v":0}]
["P",34,"917223","","SILNIČNÍ A CHODNÍKOVÉ OBRUBY Z BETONOVÝCH OBRUBNÍKŮ ŠÍŘ 100MM","M",4,null,{"$f":"ROUND(G113*H113,P4)","v":0},null,null,null,null,null,{"$f":"I113*0.21","v":0},3]
["PP",null,null,null,""]
["VV",null,null,null,"chodníkové obruby 4 = 4,000 [A]"]
["P",35,"917224","","SILNIČNÍ A CHODNÍKOVÉ OBRUBY Z BETONOVÝCH OBRUBNÍKŮ ŠÍŘ 150MM","M",407,null,{"$f":"ROUND(G116*H116,P4)","v":0},null,null,null,null,null,{"$f":"I116*0.21","v":0},3]
["PP",null,null,null,""]
["VV",null,null,null,"silniční obruby 407 = 407,000 [A]"]
["P",36,"91772","","OBRUBA Z DLAŽEBNÍCH KOSTEK DROBNÝCH","M",686,null,{"$f":"ROUND(G119*H119,P4)","v":0},null,null,null,null,null,{"$f":"I119*0.21","v":0},3]
["PP",null,null,null,""]
["VV",null,null,null,"Dvoulinka ze žulových kostek 343*2 = 686,000 [A]"]
["P",37,"931324","","TĚSNĚNÍ DILATAČ SPAR ASF ZÁLIVKOU MODIFIK PRŮŘ DO 400MM2","M",343,null,{"$f":"ROUND(G122*H122,P4)","v":0},null,null,null,null,null,{"$f":"I122*0.21","v":0},3]
["PP",null,null,null,"zálivka spar ve vozovce  \nzálivka za horka dle ČSN 14188 - typ N2"]
["VV",null,null,null,"dvoulinka 343 = 343,000 [B]"]
["P",38,"93542","","ŽLABY Z DÍLCŮ Z POLYMERBETONU SVĚTLÉ ŠÍŘKY DO 150MM VČETNĚ MŘÍŽÍ","M",17,null,{"$f":"ROUND(G125*H125,P4)","v":0},null,null,null,null,null,{"$f":"I125*0.21","v":0},3]
["PP",null,null,null,"monolitický žlab z polymerbetonu včetně integrované mříže\r\nšířka 150 mm"]
["VV",null,null,null,"odvodňovací žlaby š. 0,15 m 17 = 17,000 [A]"]
["P",39,"96615","","BOURÁNÍ KONSTRUKCÍ Z PROSTÉHO BETONU","M3",2,null,{"$f":"ROUND(G128*H128,P4)","v":0},null,null,null,null,null,{"$f":"I128*0.21","v":0},3]
["PP",null,null,null,"bourání v trase na trvalou skládku"]
["VV",null,null,null,"bourání v trase 2 = 2,000 [A]"]

{"sheet":"104 3542104 KL","index":7,"n_rows":45,"n_cols":8,"rows_kept":45,"cut":false,"hidden":false,"merged":[[50,1,50,6],[29,5,29,6],[30,5,30,6],[31,5,31,6],[32,5,32,6],[33,5,33,6],[36,1,44,6],[45,1,45,6],[46,1,46,6],[47,1,47,6],[48,1,48,6],[49,1,49,6],[22,0,22,1],[7,2,7,4],[8,2,8,4],[9,2,9,4],[10,2,10,4],[11,2,11,4]]}
["POLOŽKOVÝ ROZPOČET"]
["Rozpočet",null,"3542/104","Novostavba parkovacího pruhu ul.Smetanova",null,"JKSO ","822.27"]
[]
["Objekt",null,null,null,null,"SKP "]
["104",null,"Novostavba parkovacího pruhu ul.Smetanova",null,null,"Měrná jednotka","m2"]
["Stavba",null,null,null,null,"Počet jednotek",0]
["3542",null,"Semily - Obnova VH infrastruktury a komunikací",null,null,"Náklady na m.j.",{"$f":"IF(G6=0,,ROUND((F30+F32)/G6,1))","v":0}]
["Projektant",null,null,null,null,"Typ rozpočtu"]
["Zpracovatel projektu"]
["Objednatel",null,"Vodohospodářské sdružení Turnov"]
["Dodavatel",null,".",null,null,"Zakázkové číslo "]
["Rozpočtoval",null,null,null,null,"Počet listů"]
["ROZPOČTOVÉ NÁKLADY"]
["Základní rozpočtové náklady"]
[null,"HSV celkem",{"$f":"SUM('104 3542104 Pol'!I3)","v":0}]
["Z","PSV celkem",0]
["R","M práce celkem",0]
["N","M dodávky celkem",0]
["ZRN celkem",null,{"$f":"SUM(C15:C18)","v":0}]
[]
["HZS",null,0]
["ZRN+HZS",null,{"$f":"C19+C21","v":0}]
["ZRN+ost.náklady+HZS",null,{"$f":"C22+G23","v":0}]
["Vypracoval",null,null,"Za zhotovitele",null,"Za objednatele"]
["Jméno :",null,null,"Jméno :",null,"Jméno :"]
["Datum :",null,null,"Datum :",null,"Datum :"]
[]
["Podpis :",null,null,"Podpis:",null,"Podpis:"]
[]
["Základ pro DPH",null,21,"%  ",null,{"$f":"C23-F32","v":0}]
["DPH",null,{"$f":"C30","v":21},"% ",null,{"$f":"ROUND(PRODUCT(F30,C31/100),0)","v":0}]
["Základ pro DPH",null,0,"% ",null,0]
["DPH",null,{"$f":"C32","v":0},"% ",null,{"$f":"ROUND(PRODUCT(F32,C33/100),0)","v":0}]
["CENA ZA OBJEKT CELKEM",null,null,null,null,{"$f":"ROUND(SUM(F30:F33),0)","v":0}]
[]
["Poznámka :",null,null,null,null,null,null," "]
[null,null,null,null,null,null,null," "]
[null,null,null,null,null,null,null," "]
[null,null,null,null,null,null,null," "]
[null,null,null,null,null,null,null," "]
[null,null,null,null,null,null,null," "]
[null,null,null,null,null,null,null," "]
[null,null,null,null,null,null,null," "]
[null,null,null,null,null,null,null," "]
[null,null,null,null,null,null,null," "]

{"sheet":"104 3542104 Pol","index":8,"n_rows":64,"n_cols":16,"rows_kept":64,"cut":false,"hidden":false,"merged":[[2,2,2,3],[3,2,3,3],[4,5,5,5],[4,6,5,6],[4,7,4,8],[4,9,5,9],[4,0,5,0],[4,1,5,1],[4,2,5,2],[4,3,5,3],[4,4,5,4]]}
["EstiCon",null,null,null,"Firma: ",null,null,null,null,null,null,null,null,null,null,3]
[null,null,null,null,"Soupis prací objektu"]
["S","Stavba:","22-069",null,"Oprava ulic Větrná, Smetanova a Dvořákova",null,null,"SO 104",{"$f":"SUMIFS(I8:I64,A8:A64,\"SD\")","v":0},null,null,null,null,null,0,2]
["O","Rozpočet:","SO 104",null,"Novostavba parkovacího pruhu - ul. Smetanova",null,null,null,null,null,null,null,null,null,0.12,2]
["Typ","Poř. číslo","Kód položky","Varianta","Název Položky","MJ","Množství","Cena",null,"Cenová soustava",null,null,null,null,0.21]
[null,null,null,null,null,null,null,"Jednotková","Celkem"]
[0,1,2,3,4,5,6,7,8,9]
["SD",null,"0",null,"Všeobecné konstrukce a práce",null,null,null,{"$f":"SUMIFS(I9:I17,A9:A17,\"P\")","v":0}]
["P",1,"015111","","POPLATKY ZA LIKVIDACI ODPADŮ NEKONTAMINOVANÝCH - 17 05 04  VYTĚŽENÉ ZEMINY A HORNINY -  I. TŘÍDA TĚŽITELNOSTI","T",132.96,null,{"$f":"ROUND(G9*H9,P4)","v":0},null,null,null,null,null,{"$f":"I9*0.21","v":0},3]
["PP",null,null,null,""]
["VV",null,null,null,"pol. 123738 64,68*2,0 = 129,360 [A]\r\npol. 132738 1,8*2,0 = 3,600 [B]\r\nCelkové množství = 132,960"]
["P",2,"015140","","POPLATKY ZA LIKVIDACI ODPADŮ NEKONTAMINOVANÝCH - 17 01 01  BETON Z DEMOLIC OBJEKTŮ, ZÁKLADŮ TV","T",0.72,null,{"$f":"ROUND(G12*H12,P4)","v":0},null,null,null,null,null,{"$f":"I12*0.21","v":0},3]
["PP",null,null,null,""]
["VV",null,null,null,"pol. 11315 0,3*2,4 = 0,720 [A]"]
["P",3,"015330","","POPLATKY ZA LIKVIDACI ODPADŮ NEKONTAMINOVANÝCH - 17 05 04  KAMENNÁ SUŤ","T",129.27600000000001,null,{"$f":"ROUND(G15*H15,P4)","v":0},null,null,null,null,null,{"$f":"I15*0.21","v":0},3]
["PP",null,null,null,""]
["VV",null,null,null,"pol. 11332 68,04*1,9 = 129,276 [A]"]
["SD",null,"1",null,"Zemní práce",null,null,null,{"$f":"SUMIFS(I19:I39,A19:A39,\"P\")","v":0}]
["P",4,"11315","","ODSTRANĚNÍ KRYTU ZPEVNĚNÝCH PLOCH Z BETONU","M3",0.3,null,{"$f":"ROUND(G19*H19,P4)","v":0},null,null,null,null,null,{"$f":"I19*0.21","v":0},3]
["PP",null,null,null,""]
["VV",null,null,null,"stávající sjezd 2*0,15 = 0,300 [A]"]
["P",5,"11332","","ODSTRANĚNÍ PODKLADŮ ZPEVNĚNÝCH PLOCH Z KAMENIVA NESTMELENÉHO","M3",68.040000000000006,null,{"$f":"ROUND(G22*H22,P4)","v":0},null,null,null,null,null,{"$f":"I22*0.21","v":0},3]
["PP",null,null,null,""]
["VV",null,null,null,"odstranění podkladních vrstev - Konstrukce C (pl. * tl.) 250*0,27 = 67,500 [A]\r\nodstranění podkladních vrstev stávajícího sjezdu 2*0,27 = 0,540 [B]\r\nCelkové množství = 68,040"]
["P",6,"12110","","SEJMUTÍ ORNICE NEBO LESNÍ PŮDY","M3",26.1,null,{"$f":"ROUND(G25*H25,P4)","v":0},null,null,null,null,null,{"$f":"I25*0.21","v":0},3]
["PP",null,null,null,""]
["VV",null,null,null,"terénní úpravy 174*0,15 = 26,100 [A]"]
["P",7,"123738","","ODKOP PRO SPOD STAVBU SILNIC A ŽELEZNIC TŘ. I, ODVOZ DO 20KM","M3",64.680000000000007,null,{"$f":"ROUND(G28*H28,P4)","v":0},null,null,null,null,null,{"$f":"I28*0.21","v":0},3]
["PP",null,null,null,"ZHOTOVITEL V CENĚ ZOHLEDNÍ SKUTEČNÉ NÁKLADY NA DOPRAVU NA MÍSTO ULOŽENÍ"]
["VV",null,null,null,"předpokládaný rozsah sanace (pl. * 50% rozsahu) - pol. 18110 176*0,5 = 88,000 [A]\r\npředpokládaná tloušťka sanace 0.3 = 0,300 [B]\r\ncelkem sanace A*B = 26,400 [C]\r\nvýkop zeminy 174*0,22 = 38,280 [D]\r\nCelkem C+D = 64,680 [E]"]
["P",8,"132738","","HLOUBENÍ RÝH ŠÍŘ DO 2M PAŽ I NEPAŽ TŘ. I, ODVOZ DO 20KM","M3",1.8,null,{"$f":"ROUND(G31*H31,P4)","v":0},null,null,null,null,null,{"$f":"I31*0.21","v":0},3]
["PP",null,null,null,"ZHOTOVITEL V CENĚ ZOHLEDNÍ SKUTEČNÉ NÁKLADY NA DOPRAVU NA MÍSTO ULOŽENÍ"]
["VV",null,null,null,"obruby (dl. * š. * hl.) 12*0.3*0,5 = 1,800 [A]"]
["P",9,"17120","","ULOŽENÍ SYPANINY DO NÁSYPŮ A NA SKLÁDKY BEZ ZHUTNĚNÍ","M3",66.48,null,{"$f":"ROUND(G34*H34,P4)","v":0},null,null,null,null,null,{"$f":"I34*0.21","v":0},3]
["PP",null,null,null,""]
["VV",null,null,null,"pol. 123738 64,68 = 64,680 [A]\r\npol. 132738 1,8 = 1,800 [B]\r\nCelkové množství = 66,480"]
["P",10,"18110","","ÚPRAVA PLÁNĚ SE ZHUTNĚNÍM V HORNINĚ TŘ. I","M2",179.6,null,{"$f":"ROUND(G37*H37,P4)","v":0},null,null,null,null,null,{"$f":"I37*0.21","v":0},3]
["PP",null,null,null,""]
["VV",null,null,null,"Konstrukce C 176 = 176,000 [A]\r\nPod sil. obrubami 12*0,3 = 3,600 [C]\r\nCelkové množství = 179,600"]
["SD",null,"2",null,"Základy",null,null,null,{"$f":"SUMIFS(I41:I46,A41:A46,\"P\")","v":0}]
["P",11,"21361","","DRENÁŽNÍ VRSTVY Z GEOTEXTILIE","M2",179.6,null,{"$f":"ROUND(G41*H41,P4)","v":0},null,null,null,null,null,{"$f":"I41*0.21","v":0},3]
["PP",null,null,null,"netkaná geotextílie 500 g/m2, CBR>3 kN, odolnost proti proražení < 10 mm, tažnost > 50% dle TP 97 \nseparační a filtrační funkce"]
["VV",null,null,null,"pol. 18110 179,6 = 179,600 [A]"]
["P",12,"21452","","SANAČNÍ VRSTVY Z KAMENIVA DRCENÉHO","M3",26.4,null,{"$f":"ROUND(G44*H44,P4)","v":0},null,null,null,null,null,{"$f":"I44*0.21","v":0},3]
["PP",null,null,null,"sanace aktivní zóny - nakupený materiál dle ČSN 73 6133"]
["VV",null,null,null,"předpokládaný rozsah sanace (pl. * 50% rozsahu) - pol. 18110 176*0,5 = 88,000 [A]\r\npředpokládaná tloušťka sanace 0.3 = 0,300 [B]\r\ncelkem sanace A*B = 26,400 [C]"]
["SD",null,"5",null,"Komunikace",null,null,null,{"$f":"SUMIFS(I48:I56,A48:A56,\"P\")","v":0}]
["P",13,"56333","","VOZOVKOVÉ VRSTVY ZE ŠTĚRKODRTI TL. DO 150MM","M2",176,null,{"$f":"ROUND(G48*H48,P4)","v":0},null,null,null,null,null,{"$f":"I48*0.21","v":0},3]
["PP",null,null,null,"ŠDA 0/32 - 150 mm"]
["VV",null,null,null,"Konstrukce C 166+10 = 176,000 [B]"]
["P",14,"582612","1","KRYTY Z BETON DLAŽDIC SE ZÁMKEM ŠEDÝCH TL 80MM DO LOŽE Z KAM","M2",166,null,{"$f":"ROUND(G51*H51,P4)","v":0},null,null,null,null,null,{"$f":"I51*0.21","v":0},3]
["PP",null,null,null,"Betonová dlažba (2x vyspárováno), šedá - 80 mm"]
["VV",null,null,null,"Konstrukce C 166 = 166,000 [A]"]
["P",15,"582612","2","KRYTY Z BETON DLAŽDIC SE ZÁMKEM ŠEDÝCH TL 80MM DO LOŽE Z KAM","M2",10,null,{"$f":"ROUND(G54*H54,P4)","v":0},null,null,null,null,null,{"$f":"I54*0.21","v":0},3]
["PP",null,null,null,"Betonová dlažba (2x vyspárováno), antracit - 80 mm"]
["VV",null,null,null,"Konstrukce C 10 = 10,000 [A]"]
["SD",null,"7",null,"Přidružená stavební výroba",null,null,null,{"$f":"SUMIFS(I58:I60,A58:A60,\"P\")","v":0}]
["P",16,"711117","","IZOLACE BĚŽNÝCH KONSTRUKCÍ PROTI ZEMNÍ VLHKOSTI Z PE FÓLIÍ","M2",69.75,null,{"$f":"ROUND(G58*H58,P4)","v":0},null,null,null,null,null,{"$f":"I58*0.21","v":0},3]
["PP",null,null,null,"nopová fólie v místě souběhu s nemovitostí nebo podezdívkou"]
["VV",null,null,null,"délka souběhu podél konstrukcí 39+54 = 93,000 [A]\r\ndélka izolace v řezu 0,75 = 0,750 [B]\r\ncelkem a*b = 69,750 [C]"]
["SD",null,"9",null,"Ostatní konstrukce a práce",null,null,null,{"$f":"SUMIFS(I62:I64,A62:A64,\"P\")","v":0}]
["P",17,"917224","","SILNIČNÍ A CHODNÍKOVÉ OBRUBY Z BETONOVÝCH OBRUBNÍKŮ ŠÍŘ 150MM","M",12,null,{"$f":"ROUND(G62*H62,P4)","v":0},null,null,null,null,null,{"$f":"I62*0.21","v":0},3]
["PP",null,null,null,""]
["VV",null,null,null,"chodníkové obruby 12 = 12,000 [A]"]

{"sheet":"105 3542105 KL","index":9,"n_rows":45,"n_cols":8,"rows_kept":45,"cut":false,"hidden":false,"merged":[[50,1,50,6],[29,5,29,6],[30,5,30,6],[31,5,31,6],[32,5,32,6],[33,5,33,6],[36,1,44,6],[45,1,45,6],[46,1,46,6],[47,1,47,6],[48,1,48,6],[49,1,49,6],[22,0,22,1],[7,2,7,4],[8,2,8,4],[9,2,9,4],[10,2,10,4],[11,2,11,4]]}
["POLOŽKOVÝ ROZPOČET"]
["Rozpočet",null,"3542/105","Rekonstrukce komunikace ul. Dvořákova",null,"JKSO ","822.27"]
[]
["Objekt",null,null,null,null,"SKP "]
["105",null,"Rekonstrukce komunikace ul. Dvořákova",null,null,"Měrná jednotka","m2"]
["Stavba",null,null,null,null,"Počet jednotek",0]
["3542",null,"Semily - Obnova VH infrastruktury a komunikací",null,null,"Náklady na m.j.",{"$f":"IF(G6=0,,ROUND((F30+F32)/G6,1))","v":0}]
["Projektant",null,null,null,null,"Typ rozpočtu"]
["Zpracovatel projektu"]
["Objednatel",null,"Vodohospodářské sdružení Turnov"]
["Dodavatel",null,".",null,null,"Zakázkové číslo "]
["Rozpočtoval",null,null,null,null,"Počet listů"]
["ROZPOČTOVÉ NÁKLADY"]
["Základní rozpočtové náklady"]
[null,"HSV celkem",{"$f":"SUM('105 3542105 Pol'!I3)","v":0}]
["Z","PSV celkem",0]
["R","M práce celkem",0]
["N","M dodávky celkem",0]
["ZRN celkem",null,{"$f":"SUM(C15:C18)","v":0}]
[]
["HZS",null,0]
["ZRN+HZS",null,{"$f":"C19+C21","v":0}]
["ZRN+ost.náklady+HZS",null,{"$f":"C22+G23","v":0}]
["Vypracoval",null,null,"Za zhotovitele",null,"Za objednatele"]
["Jméno :",null,null,"Jméno :",null,"Jméno :"]
["Datum :",null,null,"Datum :",null,"Datum :"]
[]
["Podpis :",null,null,"Podpis:",null,"Podpis:"]
[]
["Základ pro DPH",null,21,"%  ",null,{"$f":"C23-F32","v":0}]
["DPH",null,{"$f":"C30","v":21},"% ",null,{"$f":"ROUND(PRODUCT(F30,C31/100),0)","v":0}]
["Základ pro DPH",null,0,"% ",null,0]
["DPH",null,{"$f":"C32","v":0},"% ",null,{"$f":"ROUND(PRODUCT(F32,C33/100),0)","v":0}]
["CENA ZA OBJEKT CELKEM",null,null,null,null,{"$f":"ROUND(SUM(F30:F33),0)","v":0}]
[]
["Poznámka :",null,null,null,null,null,null," "]
[null,null,null,null,null,null,null," "]
[null,null,null,null,null,null,null," "]
[null,null,null,null,null,null,null," "]
[null,null,null,null,null,null,null," "]
[null,null,null,null,null,null,null," "]
[null,null,null,null,null,null,null," "]
[null,null,null,null,null,null,null," "]
[null,null,null,null,null,null,null," "]
[null,null,null,null,null,null,null," "]

{"sheet":"105 3542105 Pol","index":10,"n_rows":139,"n_cols":16,"rows_kept":139,"cut":false,"hidden":false,"merged":[[2,2,2,3],[3,2,3,3],[4,5,5,5],[4,6,5,6],[4,7,4,8],[4,9,5,9],[4,0,5,0],[4,1,5,1],[4,2,5,2],[4,3,5,3],[4,4,5,4]]}
["EstiCon",null,null,null,"Firma: ",null,null,null,null,null,null,null,null,null,null,3]
[null,null,null,null,"Soupis prací objektu"]
["S","Stavba:","22-069",null,"Oprava ulic Větrná, Smetanova a Dvořákova",null,null,"SO 105",{"$f":"SUMIFS(I8:I139,A8:A139,\"SD\")","v":0},null,null,null,null,null,0,2]
["O","Rozpočet:","SO 105",null,"Rekonstrukce komunikace - ul. Dvořákova",null,null,null,null,null,null,null,null,null,0.12,2]
["Typ","Poř. číslo","Kód položky","Varianta","Název Položky","MJ","Množství","Cena",null,"Cenová soustava",null,null,null,null,0.21]
[null,null,null,null,null,null,null,"Jednotková","Celkem"]
[0,1,2,3,4,5,6,7,8,9]
["SD",null,"0",null,"Všeobecné konstrukce a práce",null,null,null,{"$f":"SUMIFS(I9:I20,A9:A20,\"P\")","v":0}]
["P",1,"015111","","POPLATKY ZA LIKVIDACI ODPADŮ NEKONTAMINOVANÝCH - 17 05 04  VYTĚŽENÉ ZEMINY A HORNINY -  I. TŘÍDA TĚŽITELNOSTI","T",335.92,null,{"$f":"ROUND(G9*H9,P4)","v":0},null,null,null,null,null,{"$f":"I9*0.21","v":0},3]
["PP",null,null,null,""]
["VV",null,null,null,"pol. 123738 105,9*2,0 = 211,800 [A]\r\npol. 132738 62,06*2,0 = 124,120 [B]\r\nCelkové množství = 335,920"]
["P",2,"015130","","POPLATKY ZA LIKVIDACI ODPADŮ NEKONTAMINOVANÝCH - 17 03 02  VYBOURANÝ ASFALTOVÝ BETON BEZ DEHTU","T",131.11199999999999,null,{"$f":"ROUND(G12*H12,P4)","v":0},null,null,null,null,null,{"$f":"I12*0.21","v":0},3]
["PP",null,null,null,""]
["VV",null,null,null,"pol. 11372 54,63*2,4 = 131,112 [A]"]
["P",3,"015140","","POPLATKY ZA LIKVIDACI ODPADŮ NEKONTAMINOVANÝCH - 17 01 01  BETON Z DEMOLIC OBJEKTŮ, ZÁKLADŮ TV","T",15.885,null,{"$f":"ROUND(G15*H15,P4)","v":0},null,null,null,null,null,{"$f":"I15*0.21","v":0},3]
["PP",null,null,null,""]
["VV",null,null,null,"pol. 11315 2,25*2,4 = 5,400 [A]\r\npol. 11352 233*0,15*0,3 = 10,485 [B]\r\nCelkové množství = 15,885"]
["P",4,"015330","","POPLATKY ZA LIKVIDACI ODPADŮ NEKONTAMINOVANÝCH - 17 05 04  KAMENNÁ SUŤ","T",339.435,null,{"$f":"ROUND(G18*H18,P4)","v":0},null,null,null,null,null,{"$f":"I18*0.21","v":0},3]
["PP",null,null,null,""]
["VV",null,null,null,"dle pol. 11332 178,65*1,9 = 339,435 [A]"]
["SD",null,"1",null,"Zemní práce",null,null,null,{"$f":"SUMIFS(I22:I63,A22:A63,\"P\")","v":0}]
["P",5,"11315","","ODSTRANĚNÍ KRYTU ZPEVNĚNÝCH PLOCH Z BETONU","M3",2.25,null,{"$f":"ROUND(G22*H22,P4)","v":0},null,null,null,null,null,{"$f":"I22*0.21","v":0},3]
["PP",null,null,null,""]
["VV",null,null,null,"stávající sjezd 15*0,15 = 2,250 [A]"]
["P",6,"11318","","ODSTRANĚNÍ KRYTU ZPEVNĚNÝCH PLOCH Z DLAŽDIC","M3",0.3,null,{"$f":"ROUND(G25*H25,P4)","v":0},null,null,null,null,null,{"$f":"I25*0.21","v":0},3]
["PP",null,null,null,""]
["VV",null,null,null,"stávající sjezd 3*0.1 = 0,300 [A]"]
["P",7,"11332","","ODSTRANĚNÍ PODKLADŮ ZPEVNĚNÝCH PLOCH Z KAMENIVA NESTMELENÉHO","M3",178.65,null,{"$f":"ROUND(G28*H28,P4)","v":0},null,null,null,null,null,{"$f":"I28*0.21","v":0},3]
["PP",null,null,null,""]
["VV",null,null,null,"odstranění podkladních vrstev - Konstrukce A (pl. * tl.) 580*0,3 = 174,000 [A]\r\nstávající nezpevněné plochy (pl. * tl.) 7*0,15 = 1,050 [C]\r\nodstranění podkladních vrstev - sjezdy 18*0,2 = 3,600 [B]\r\nCelkové množství = 178,650"]
["P",8,"11352","","ODSTRANĚNÍ CHODNÍKOVÝCH A SILNIČNÍCH OBRUBNÍKŮ BETONOVÝCH","M",233,null,{"$f":"ROUND(G31*H31,P4)","v":0},null,null,null,null,null,{"$f":"I31*0.21","v":0},3]
["PP",null,null,null,"ZHOTOVITEL V CENĚ ZOHLEDNÍ SKUTEČNÉ NÁKLADY NA DOPRAVU NA MÍSTO ULOŽENÍ"]
["VV",null,null,null,"stávající stav 233 = 233,000 [A]"]
["P",9,"11372","","FRÉZOVÁNÍ ZPEVNĚNÝCH PLOCH ASFALTOVÝCH","M3",54.63,null,{"$f":"ROUND(G34*H34,P4)","v":0},null,null,null,null,null,{"$f":"I34*0.21","v":0},3]
["PP",null,null,null,"Zhotovitel v ceně zohlední možnost použití materiálu zpět na stavbě. Včetně odvozu a uložení na skládku zhotovitele."]
["VV",null,null,null,"celoplošné frézování vozovky (pl. * hl.) 580*0,09 = 52,200 [A]\r\nStupňovité napojení 27*0,09 = 2,430 [B]\r\nCelkové množství = 54,630"]
["P",10,"113764","","FRÉZOVÁNÍ DRÁŽKY PRŮŘEZU DO 400MM2 V ASFALTOVÉ VOZOVCE","M",204,null,{"$f":"ROUND(G37*H37,P4)","v":0},null,null,null,null,null,{"$f":"I37*0.21","v":0},3]
["PP",null,null,null,"komůrka dle VL 211.07 pro zálivku za horka"]
["VV",null,null,null,"dvoulinka 204 = 204,000 [A]"]
["P",11,"12110","","SEJMUTÍ ORNICE NEBO LESNÍ PŮDY","M3",31.95,null,{"$f":"ROUND(G40*H40,P4)","v":0},null,null,null,null,null,{"$f":"I40*0.21","v":0},3]
["PP",null,null,null,""]
["VV",null,null,null,"terénní úpravy 213*0,15 = 31,950 [A]"]
["P",12,"123738","","ODKOP PRO SPOD STAVBU SILNIC A ŽELEZNIC TŘ. I, ODVOZ DO 20KM","M3",105.9,null,{"$f":"ROUND(G43*H43,P4)","v":0},null,null,null,null,null,{"$f":"I43*0.21","v":0},3]
["PP",null,null,null,"ZHOTOVITEL V CENĚ ZOHLEDNÍ SKUTEČNÉ NÁKLADY NA DOPRAVU NA MÍSTO ULOŽENÍ"]
["VV",null,null,null,"předpokládaný rozsah sanace (pl. * 50% rozsahu) - pol. 18110 706*0,5 = 353,000 [A]\r\npředpokládaná tloušťka sanace 0.3 = 0,300 [B]\r\ncelkem sanace A*B = 105,900 [C]"]
["P",13,"132738","","HLOUBENÍ RÝH ŠÍŘ DO 2M PAŽ I NEPAŽ TŘ. I, ODVOZ DO 20KM","M3",62.06,null,{"$f":"ROUND(G46*H46,P4)","v":0},null,null,null,null,null,{"$f":"I46*0.21","v":0},3]
["PP",null,null,null,"ZHOTOVITEL V CENĚ ZOHLEDNÍ SKUTEČNÉ NÁKLADY NA DOPRAVU NA MÍSTO ULOŽENÍ"]
["VV",null,null,null,"dvoulinka (dl. * š. * hl.) 204*0,3*0,3 = 18,360 [B]\r\nobruby (dl. * š. * hl.) (235+23)*0.3*0,5 = 38,700 [A]\r\nkanalizační přípojka (dl. * š. * hl.) 4*0,5*1 = 2,000 [C]\r\nodvodňovací žlab 30*0,25*0,4 = 3,000 [D]\r\nCelkové množství = 62,060"]
["P",14,"17120","","ULOŽENÍ SYPANINY DO NÁSYPŮ A NA SKLÁDKY BEZ ZHUTNĚNÍ","M3",167.96,null,{"$f":"ROUND(G49*H49,P4)","v":0},null,null,null,null,null,{"$f":"I49*0.21","v":0},3]
["PP",null,null,null,""]
["VV",null,null,null,"pol. 123738 105,9 = 105,900 [A]\r\npol. 132738 62,06 = 62,060 [B]\r\nCelkové množství = 167,960"]
["P",15,"18110","","ÚPRAVA PLÁNĚ SE ZHUTNĚNÍM V HORNINĚ TŘ. I","M2",706,null,{"$f":"ROUND(G52*H52,P4)","v":0},null,null,null,null,null,{"$f":"I52*0.21","v":0},3]
["PP",null,null,null,""]
["VV",null,null,null,"Konstrukce A 580 = 580,000 [A]\r\nPod sil. obrubami 235*0,3 = 70,500 [C]\r\nPod dvoulinkou 204*0,25 = 51,000 [D]\r\nPod odvod. žlabem 30*0.15 = 4,500 [B]\r\nCelkové množství = 706,000"]
["P",16,"18230","","ROZPROSTŘENÍ ORNICE V ROVINĚ","M3",31.95,null,{"$f":"ROUND(G55*H55,P4)","v":0},null,null,null,null,null,{"$f":"I55*0.21","v":0},3]
["PP",null,null,null,"včetně získání materiálu k ohumusování"]
["VV",null,null,null,"terénní úpravy 213*0,15 = 31,950 [A]"]
["P",17,"18241","","ZALOŽENÍ TRÁVNÍKU RUČNÍM VÝSEVEM","M2",213,null,{"$f":"ROUND(G58*H58,P4)","v":0},null,null,null,null,null,{"$f":"I58*0.21","v":0},3]
["PP"]
["VV",null,null,null,"terénní úpravy 213 = 213,000 [A]"]
["P",18,"183511","","CHEMICKÉ ODPLEVELENÍ CELOPLOŠNÉ","M2",213,null,{"$f":"ROUND(G61*H61,P4)","v":0},null,null,null,null,null,{"$f":"I61*0.21","v":0},3]
["PP"]
["VV",null,null,null,"terénní úpravy 213 = 213,000 [A]"]
["SD",null,"2",null,"Základy",null,null,null,{"$f":"SUMIFS(I65:I73,A65:A73,\"P\")","v":0}]
["P",19,"212636","","TRATIVODY KOMPL Z TRUB Z PLAST HM DN DO 150MM, RÝHA TŘ II","M",106,null,{"$f":"ROUND(G65*H65,P4)","v":0},null,null,null,null,null,{"$f":"I65*0.21","v":0},3]
["PP",null,null,null,"Trativod DN 150"]
["VV",null,null,null,"trativod 106 = 106,000 [A]"]
["P",20,"21361","","DRENÁŽNÍ VRSTVY Z GEOTEXTILIE","M2",706,null,{"$f":"ROUND(G68*H68,P4)","v":0},null,null,null,null,null,{"$f":"I68*0.21","v":0},3]
["PP",null,null,null,"netkaná geotextílie 500 g/m2, CBR>3 kN, odolnost proti proražení < 10 mm, tažnost > 50% dle TP 97 \nseparační a filtrační funkce"]
["VV",null,null,null,"pol. 18110 706 = 706,000 [A]"]
["P",21,"21452",null,"SANAČNÍ VRSTVY Z KAMENIVA DRCENÉHO","M3",225.07499999999999,null,{"$f":"ROUND(G71*H71,P4)","v":0},null,null,null,null,null,{"$f":"I71*0.21","v":0},3]
["PP",null,null,null,"sanace aktivní zóny - nakupený materiál dle ČSN 73 6133"]
["VV",null,null,null,"předpokládaný rozsah sanace (pl. * 50% rozsahu) - pol. 18110 1500,5*0,5 = 750,250 [A]\r\npředpokládaná tloušťka sanace 0.3 = 0,300 [B]\r\ncelkem sanace A*B = 225,075 [C]"]
["SD",null,"5",null,"Komunikace",null,null,null,{"$f":"SUMIFS(I75:I95,A75:A95,\"P\")","v":0}]
["P",22,"56333","","VOZOVKOVÉ VRSTVY ZE ŠTĚRKODRTI TL. DO 150MM","M2",1160,null,{"$f":"ROUND(G75*H75,P4)","v":0},null,null,null,null,null,{"$f":"I75*0.21","v":0},3]
["PP",null,null,null,"ŠDA 0/32 - 150 mm"]
["VV",null,null,null,"Konstrukce A 580*2 = 1160,000 [A]"]
["P",23,"56334","","VOZOVKOVÉ VRSTVY ZE ŠTĚRKODRTI TL. DO 200MM","M2",20,null,{"$f":"ROUND(G78*H78,P4)","v":0},null,null,null,null,null,{"$f":"I78*0.21","v":0},3]
["PP",null,null,null,""]
["VV",null,null,null,"sjezdy 20 = 20,000 [A]"]
["P",24,"572123","","INFILTRAČNÍ POSTŘIK Z EMULZE DO 1,0KG/M2","M2",580,null,{"$f":"ROUND(G81*H81,P4)","v":0},null,null,null,null,null,{"$f":"I81*0.21","v":0},3]
["PP",null,null,null,"PI-C 1,00 kg/m2"]
["VV",null,null,null,"Konstrukce A 580 = 580,000 [A]"]
["P",25,"572213","","SPOJOVACÍ POSTŘIK Z EMULZE DO 0,5KG/M2","M2",593.5,null,{"$f":"ROUND(G84*H84,P4)","v":0},null,null,null,null,null,{"$f":"I84*0.21","v":0},3]
["PP",null,null,null,"PS-C 0,30 kg/m2"]
["VV",null,null,null,"Konstrukce A 580 = 580,000 [A]\r\nStupňovité napojení 27/2 = 13,500 [B]\r\nCelkové množství = 593,500"]
["P",26,"574A33","","ASFALTOVÝ BETON PRO OBRUSNÉ VRSTVY ACO 11 TL. 40MM","M2",607,null,{"$f":"ROUND(G87*H87,P4)","v":0},null,null,null,null,null,{"$f":"I87*0.21","v":0},3]
["PP",null,null,null,"ACO 11, 50/70 - 40 mm"]
["VV",null,null,null,"Konstrukce A 580 = 580,000 [A]\r\nStupňovité napojení 27 = 27,000 [B]\r\nCelkové množství = 607,000"]
["P",27,"574E46","","ASFALTOVÝ BETON PRO PODKLADNÍ VRSTVY ACP 16+, 16S TL. 50MM","M2",593.5,null,{"$f":"ROUND(G90*H90,P4)","v":0},null,null,null,null,null,{"$f":"I90*0.21","v":0},3]
["PP",null,null,null,"ACP 16+, 50/70 - 50 mm"]
["VV",null,null,null,"Konstrukce A 580 = 580,000 [A]\r\nStupňovité napojení 27/2 = 13,500 [B]\r\nCelkové množství = 593,500"]
["P",28,"582615","","KRYTY Z BETON DLAŽDIC SE ZÁMKEM BAREV TL 80MM DO LOŽE Z KAM","M2",20,null,{"$f":"ROUND(G93*H93,P4)","v":0},null,null,null,null,null,{"$f":"I93*0.21","v":0},3]
["PP",null,null,null,""]
["VV",null,null,null,"sjezdy 20 = 20,000 [A]"]
["SD",null,"8",null,"Potrubí",null,null,null,{"$f":"SUMIFS(I97:I114,A97:A114,\"P\")","v":0}]
["P",29,"87433","","POTRUBÍ Z TRUB PLASTOVÝCH ODPADNÍCH DN DO 150MM","M",4,null,{"$f":"ROUND(G97*H97,P4)","v":0},null,null,null,null,null,{"$f":"I97*0.21","v":0},3]
["PP",null,null,null,"PP DN150  SN10"]
["VV",null,null,null,"kanalizační přípojky 4 = 4,000 [A]"]
["P",30,"89712","","VPUSŤ KANALIZAČNÍ ULIČNÍ KOMPLETNÍ Z BETONOVÝCH DÍLCŮ","KUS",2,null,{"$f":"ROUND(G100*H100,P4)","v":0},null,null,null,null,null,{"$f":"I100*0.21","v":0},3]
["PP",null,null,null,""]
["VV",null,null,null,"uliční vpusť 2 = 2,000 [A]"]
["P",31,"897522","","VPUSŤ ODVOD ŽLABŮ Z BETON DÍLCŮ SV. ŠÍŘKY DO 150MM","KUS",1,null,{"$f":"ROUND(G103*H103,P4)","v":0},null,null,null,null,null,{"$f":"I103*0.21","v":0},3]
["PP",null,null,null,""]
["VV",null,null,null,"1 = 1,000 [A]"]
["P",32,"89921","","VÝŠKOVÁ ÚPRAVA POKLOPŮ","KUS",3,null,{"$f":"ROUND(G106*H106,P4)","v":0},null,null,null,null,null,{"$f":"I106*0.21","v":0},3]
["PP",null,null,null,"výšková úprava poklopů v komunikaci na novou úroveň nivelety \nvčetně nutného materiálu a prací pro snížení nebo zvýšení do 100mm"]
["VV",null,null,null,"dle situace 3 = 3,000 [A]"]
["P",33,"899525","","OBETONOVÁNÍ POTRUBÍ Z PROSTÉHO BETONU DO C30/37","M3",3,null,{"$f":"ROUND(G109*H109,P4)","v":0},null,null,null,null,null,{"$f":"I109*0.21","v":0},3]
["PP",null,null,null,"obetonování odvodňovacího žlabu"]
["VV",null,null,null,"dle podkladů výrobce 0,1*30 = 3,000 [A]"]
["P",34,"899901","","PŘEPOJENÍ PŘÍPOJEK","KUS",1,null,{"$f":"ROUND(G112*H112,P4)","v":0},null,null,null,null,null,{"$f":"I112*0.21","v":0},3]
["PP",null,null,null,""]
["VV",null,null,null,"napojení do stávající šachty 1 = 1,000 [A]"]
["SD",null,"9",null,"Ostatní konstrukce a práce",null,null,null,{"$f":"SUMIFS(I116:I139,A116:A139,\"P\")","v":0}]
["P",35,"917223","","SILNIČNÍ A CHODNÍKOVÉ OBRUBY Z BETONOVÝCH OBRUBNÍKŮ ŠÍŘ 100MM","M",23,null,{"$f":"ROUND(G116*H116,P4)","v":0},null,null,null,null,null,{"$f":"I116*0.21","v":0},3]
["PP",null,null,null,""]
["VV",null,null,null,"chodníkové obruby 23 = 23,000 [A]"]
["P",36,"917224","","SILNIČNÍ A CHODNÍKOVÉ OBRUBY Z BETONOVÝCH OBRUBNÍKŮ ŠÍŘ 150MM","M",235,null,{"$f":"ROUND(G119*H119,P4)","v":0},null,null,null,null,null,{"$f":"I119*0.21","v":0},3]
["PP",null,null,null,""]
["VV",null,null,null,"silniční obruby 235 = 235,000 [A]"]
["P",37,"91772","","OBRUBA Z DLAŽEBNÍCH KOSTEK DROBNÝCH","M",408,null,{"$f":"ROUND(G122*H122,P4)","v":0},null,null,null,null,null,{"$f":"I122*0.21","v":0},3]
["PP",null,null,null,""]
["VV",null,null,null,"Dvoulinka ze žulových kostek 204*2 = 408,000 [A]"]
["P",38,"91781","","VÝŠKOVÁ ÚPRAVA OBRUBNÍKŮ BETONOVÝCH","M",4,null,{"$f":"ROUND(G125*H125,P4)","v":0},null,null,null,null,null,{"$f":"I125*0.21","v":0},3]
["PP",null,null,null,""]
["VV",null,null,null,"napojení na stávající stavy 2*2 = 4,000 [A]"]
["P",39,"919112","","ŘEZÁNÍ ASFALTOVÉHO KRYTU VOZOVEK TL DO 100MM","M",26,null,{"$f":"ROUND(G128*H128,P4)","v":0},null,null,null,null,null,{"$f":"I128*0.21","v":0},3]
["PP",null,null,null,""]
["VV",null,null,null,"v napojení na stáv. stav 26 = 26,000 [A]"]
["P",40,"931324","","TĚSNĚNÍ DILATAČ SPAR ASF ZÁLIVKOU MODIFIK PRŮŘ DO 400MM2","M",230,null,{"$f":"ROUND(G131*H131,P4)","v":0},null,null,null,null,null,{"$f":"I131*0.21","v":0},3]
["PP",null,null,null,"zálivka spar ve vozovce  \nzálivka za horka dle ČSN 14188 - typ N2"]
["VV",null,null,null,"v napojení 26 = 26,000 [A]\r\ndvoulinka 204 = 204,000 [B]\r\nCelkové množství = 230,000"]
["P",41,"93552","","ŽLABY Z DÍLCŮ Z BETONU SVĚTLÉ ŠÍŘKY DO 150MM VČETNĚ MŘÍŽÍ","M",30,null,{"$f":"ROUND(G134*H134,P4)","v":0},null,null,null,null,null,{"$f":"I134*0.21","v":0},3]
["PP",null,null,null,"monolitický žlab z polymerbetonu včetně integrované mříže\r\nšířka 150 mm"]
["VV",null,null,null,"odvodňovací žlaby š. 0,15 m 30 = 30,000 [A]"]
["P",42,"96615","","BOURÁNÍ KONSTRUKCÍ Z PROSTÉHO BETONU","M3",2,null,{"$f":"ROUND(G137*H137,P4)","v":0},null,null,null,null,null,{"$f":"I137*0.21","v":0},3]
["PP",null,null,null,"bourání v trase na trvalou skládku"]
["VV",null,null,null,"bourání v trase 2 = 2,000 [A]"]

{"sheet":"106 3542106 KL","index":11,"n_rows":45,"n_cols":8,"rows_kept":45,"cut":false,"hidden":false,"merged":[[50,1,50,6],[29,5,29,6],[30,5,30,6],[31,5,31,6],[32,5,32,6],[33,5,33,6],[36,1,44,6],[45,1,45,6],[46,1,46,6],[47,1,47,6],[48,1,48,6],[49,1,49,6],[22,0,22,1],[7,2,7,4],[8,2,8,4],[9,2,9,4],[10,2,10,4],[11,2,11,4]]}
["POLOŽKOVÝ ROZPOČET"]
["Rozpočet",null,"3542/106","Novostavba parkovacího pruhu ul. Dvořákova",null,"JKSO ","822.27"]
[]
["Objekt",null,null,null,null,"SKP "]
["106",null,"Novostavba parkovacího pruhu ul. Dvořákova",null,null,"Měrná jednotka","m2"]
["Stavba",null,null,null,null,"Počet jednotek",0]
["3542",null,"Semily - Obnova VH infrastruktury a komunikací",null,null,"Náklady na m.j.",{"$f":"IF(G6=0,,ROUND((F30+F32)/G6,1))","v":0}]
["Projektant",null,null,null,null,"Typ rozpočtu"]
["Zpracovatel projektu"]
["Objednatel",null,"Vodohospodářské sdružení Turnov"]
["Dodavatel",null,".",null,null,"Zakázkové číslo "]
["Rozpočtoval",null,null,null,null,"Počet listů"]
["ROZPOČTOVÉ NÁKLADY"]
["Základní rozpočtové náklady"]
[null,"HSV celkem",{"$f":"SUM('106 3542106 Pol'!I3)","v":0}]
["Z","PSV celkem",0]
["R","M práce celkem",0]
["N","M dodávky celkem",0]
["ZRN celkem",null,{"$f":"SUM(C15:C18)","v":0}]
[]
["HZS",null,0]
["ZRN+HZS",null,{"$f":"C19+C21","v":0}]
["ZRN+ost.náklady+HZS",null,{"$f":"C22+G23","v":0}]
["Vypracoval",null,null,"Za zhotovitele",null,"Za objednatele"]
["Jméno :",null,null,"Jméno :",null,"Jméno :"]
["Datum :",null,null,"Datum :",null,"Datum :"]
[]
["Podpis :",null,null,"Podpis:",null,"Podpis:"]
[]
["Základ pro DPH",null,21,"%  ",null,{"$f":"C23-F32","v":0}]
["DPH",null,{"$f":"C30","v":21},"% ",null,{"$f":"ROUND(PRODUCT(F30,C31/100),0)","v":0}]
["Základ pro DPH",null,0,"% ",null,0]
["DPH",null,{"$f":"C32","v":0},"% ",null,{"$f":"ROUND(PRODUCT(F32,C33/100),0)","v":0}]
["CENA ZA OBJEKT CELKEM",null,null,null,null,{"$f":"ROUND(SUM(F30:F33),0)","v":0}]
[]
["Poznámka :",null,null,null,null,null,null," "]
[null,null,null,null,null,null,null," "]
[null,null,null,null,null,null,null," "]
[null,null,null,null,null,null,null," "]
[null,null,null,null,null,null,null," "]
[null,null,null,null,null,null,null," "]
[null,null,null,null,null,null,null," "]
[null,null,null,null,null,null,null," "]
[null,null,null,null,null,null,null," "]
[null,null,null,null,null,null,null," "]

{"sheet":"106 3542106 Pol","index":12,"n_rows":64,"n_cols":16,"rows_kept":64,"cut":false,"hidden":false,"merged":[[2,2,2,3],[3,2,3,3],[4,5,5,5],[4,6,5,6],[4,7,4,8],[4,9,5,9],[4,0,5,0],[4,1,5,1],[4,2,5,2],[4,3,5,3],[4,4,5,4]]}
["EstiCon",null,null,null,"Firma: ",null,null,null,null,null,null,null,null,null,null,3]
[null,null,null,null,"Soupis prací objektu"]
["S","Stavba:","22-069",null,"Oprava ulic Větrná, Smetanova a Dvořákova",null,null,"SO 106",{"$f":"SUMIFS(I8:I64,A8:A64,\"SD\")","v":0},null,null,null,null,null,0,2]
["O","Rozpočet:","SO 106",null,"Novostavba parkovacího pruhu - ul. Dvořákova",null,null,null,null,null,null,null,null,null,0.12,2]
["Typ","Poř. číslo","Kód položky","Varianta","Název Položky","MJ","Množství","Cena",null,"Cenová soustava",null,null,null,null,0.21]
[null,null,null,null,null,null,null,"Jednotková","Celkem"]
[0,1,2,3,4,5,6,7,8,9]
["SD",null,"0",null,"Všeobecné konstrukce a práce",null,null,null,{"$f":"SUMIFS(I9:I14,A9:A14,\"P\")","v":0}]
["P",1,"015111","","POPLATKY ZA LIKVIDACI ODPADŮ NEKONTAMINOVANÝCH - 17 05 04  VYTĚŽENÉ ZEMINY A HORNINY -  I. TŘÍDA TĚŽITELNOSTI","T",105.12,null,{"$f":"ROUND(G9*H9,P4)","v":0},null,null,null,null,null,{"$f":"I9*0.21","v":0},3]
["PP",null,null,null,""]
["VV",null,null,null,"pol. 123738 52,11*2,0 = 104,220 [A]\r\npol. 132738 0,45*2,0 = 0,900 [B]\r\nCelkové množství = 105,120"]
["P",2,"015330","","POPLATKY ZA LIKVIDACI ODPADŮ NEKONTAMINOVANÝCH - 17 05 04  KAMENNÁ SUŤ","T",22.571999999999999,null,{"$f":"ROUND(G12*H12,P4)","v":0},null,null,null,null,null,{"$f":"I12*0.21","v":0},3]
["PP",null,null,null,""]
["VV",null,null,null,"dle pol. 11332 11,88*1,9 = 22,572 [A]"]
["SD",null,"1",null,"Zemní práce",null,null,null,{"$f":"SUMIFS(I16:I36,A16:A36,\"P\")","v":0}]
["P",3,"11318","","ODSTRANĚNÍ KRYTU ZPEVNĚNÝCH PLOCH Z DLAŽDIC","M3",4.4000000000000004,null,{"$f":"ROUND(G16*H16,P4)","v":0},null,null,null,null,null,{"$f":"I16*0.21","v":0},3]
["PP",null,null,null,""]
["VV",null,null,null,"stávající sjezd 44*0,1 = 4,400 [A]"]
["P",4,"11332","","ODSTRANĚNÍ PODKLADŮ ZPEVNĚNÝCH PLOCH Z KAMENIVA NESTMELENÉHO","M3",11.88,null,{"$f":"ROUND(G19*H19,P4)","v":0},null,null,null,null,null,{"$f":"I19*0.21","v":0},3]
["PP",null,null,null,""]
["VV",null,null,null,"odstranění podkladních vrstev - Konstrukce C (pl. * tl.) 44*0,27 = 11,880 [A]"]
["P",5,"12110","","SEJMUTÍ ORNICE NEBO LESNÍ PŮDY","M3",18.45,null,{"$f":"ROUND(G22*H22,P4)","v":0},null,null,null,null,null,{"$f":"I22*0.21","v":0},3]
["PP",null,null,null,""]
["VV",null,null,null,"terénní úpravy 123*0,15 = 18,450 [A]"]
["P",6,"123738","","ODKOP PRO SPOD STAVBU SILNIC A ŽELEZNIC TŘ. I, ODVOZ DO 20KM","M3",52.11,null,{"$f":"ROUND(G25*H25,P4)","v":0},null,null,null,null,null,{"$f":"I25*0.21","v":0},3]
["PP",null,null,null,"ZHOTOVITEL V CENĚ ZOHLEDNÍ SKUTEČNÉ NÁKLADY NA DOPRAVU NA MÍSTO ULOŽENÍ"]
["VV",null,null,null,"předpokládaný rozsah sanace (pl. * 50% rozsahu) - pol. 18110 167*0,5 = 83,500 [A]\r\npředpokládaná tloušťka sanace 0.3 = 0,300 [B]\r\ncelkem sanace A*B = 25,050 [C]\r\nVýkop zeminy 123*0,22 = 27,060 [D]\r\nCelkem C+D = 52,110 [E]"]
["P",7,"132738","","HLOUBENÍ RÝH ŠÍŘ DO 2M PAŽ I NEPAŽ TŘ. I, ODVOZ DO 20KM","M3",0.45,null,{"$f":"ROUND(G28*H28,P4)","v":0},null,null,null,null,null,{"$f":"I28*0.21","v":0},3]
["PP",null,null,null,"ZHOTOVITEL V CENĚ ZOHLEDNÍ SKUTEČNÉ NÁKLADY NA DOPRAVU NA MÍSTO ULOŽENÍ"]
["VV",null,null,null,"obruby (dl. * š. * hl.) 3*0.3*0,5 = 0,450 [A]"]
["P",8,"17120","","ULOŽENÍ SYPANINY DO NÁSYPŮ A NA SKLÁDKY BEZ ZHUTNĚNÍ","M3",52.56,null,{"$f":"ROUND(G31*H31,P4)","v":0},null,null,null,null,null,{"$f":"I31*0.21","v":0},3]
["PP",null,null,null,""]
["VV",null,null,null,"pol. 123738 52,11 = 52,110 [A]\r\npol. 132738 0,45 = 0,450 [B]\r\nCelkové množství = 52,560"]
["P",9,"18110","","ÚPRAVA PLÁNĚ SE ZHUTNĚNÍM V HORNINĚ TŘ. I","M2",167.9,null,{"$f":"ROUND(G34*H34,P4)","v":0},null,null,null,null,null,{"$f":"I34*0.21","v":0},3]
["PP",null,null,null,""]
["VV",null,null,null,"Konstrukce C 167 = 167,000 [A]\r\nPod chod. obrubami 3*0,3 = 0,900 [C]\r\nCelkové množství = 167,900"]
["SD",null,"2",null,"Základy",null,null,null,{"$f":"SUMIFS(I38:I43,A38:A43,\"P\")","v":0}]
["P",10,"21361","","DRENÁŽNÍ VRSTVY Z GEOTEXTILIE","M2",167.9,null,{"$f":"ROUND(G38*H38,P4)","v":0},null,null,null,null,null,{"$f":"I38*0.21","v":0},3]
["PP",null,null,null,"netkaná geotextílie 500 g/m2, CBR>3 kN, odolnost proti proražení < 10 mm, tažnost > 50% dle TP 97 \nseparační a filtrační funkce"]
["VV",null,null,null,"pol. 18110 167,9 = 167,900 [A]"]
["P",11,"21452","","SANAČNÍ VRSTVY Z KAMENIVA DRCENÉHO","M3",25.05,null,{"$f":"ROUND(G41*H41,P4)","v":0},null,null,null,null,null,{"$f":"I41*0.21","v":0},3]
["PP",null,null,null,"sanace aktivní zóny - nakupený materiál dle ČSN 73 6133"]
["VV",null,null,null,"předpokládaný rozsah sanace (pl. * 50% rozsahu) - pol. 18110 167*0,5 = 83,500 [A]\r\npředpokládaná tloušťka sanace 0.3 = 0,300 [B]\r\ncelkem sanace A*B = 25,050 [C]"]
["SD",null,"5",null,"Komunikace",null,null,null,{"$f":"SUMIFS(I45:I56,A45:A56,\"P\")","v":0}]
["P",12,"56333","","VOZOVKOVÉ VRSTVY ZE ŠTĚRKODRTI TL. DO 150MM","M2",167,null,{"$f":"ROUND(G45*H45,P4)","v":0},null,null,null,null,null,{"$f":"I45*0.21","v":0},3]
["PP",null,null,null,"ŠDA 0/32 - 150 mm"]
["VV",null,null,null,"Konstrukce C 123+44 = 167,000 [B]"]
["P",13,"582612","1","KRYTY Z BETON DLAŽDIC SE ZÁMKEM ŠEDÝCH TL 80MM DO LOŽE Z KAM","M2",123,null,{"$f":"ROUND(G48*H48,P4)","v":0},null,null,null,null,null,{"$f":"I48*0.21","v":0},3]
["PP",null,null,null,"Betonová dlažba (2x vyspárováno), šedá - 80 mm"]
["VV",null,null,null,"Konstrukce C 123 = 123,000 [A]"]
["P",14,"582612","2","KRYTY Z BETON DLAŽDIC SE ZÁMKEM ŠEDÝCH TL 80MM DO LOŽE Z KAM","M2",44,null,{"$f":"ROUND(G51*H51,P4)","v":0},null,null,null,null,null,{"$f":"I51*0.21","v":0},3]
["PP",null,null,null,"Betonová dlažba (2x vyspárováno), antracit - 80 mm"]
["VV",null,null,null,"Konstrukce C 44 = 44,000 [A]"]
["P",15,"587206","","PŘEDLÁŽDĚNÍ KRYTU Z BETONOVÝCH DLAŽDIC SE ZÁMKEM","M2",30,null,{"$f":"ROUND(G54*H54,P4)","v":0},null,null,null,null,null,{"$f":"I54*0.21","v":0},3]
["PP",null,null,null,""]
["VV",null,null,null,"předláždění dlažby v místech napojení na stávající stav 15*2 = 30,000 [A]"]
["SD",null,"7",null,"Přidružená stavební výroba",null,null,null,{"$f":"SUMIFS(I58:I60,A58:A60,\"P\")","v":0}]
["P",16,"711117","","IZOLACE BĚŽNÝCH KONSTRUKCÍ PROTI ZEMNÍ VLHKOSTI Z PE FÓLIÍ","M2",69.75,null,{"$f":"ROUND(G58*H58,P4)","v":0},null,null,null,null,null,{"$f":"I58*0.21","v":0},3]
["PP",null,null,null,"nopová fólie v místě souběhu s nemovitostí nebo podezdívkou"]
["VV",null,null,null,"délka souběhu podél konstrukcí 93 = 93,000 [A]\r\ndélka izolace v řezu 0,75 = 0,750 [B]\r\ncelkem a*b = 69,750 [C]"]
["SD",null,"9",null,"Ostatní konstrukce a práce",null,null,null,{"$f":"SUMIFS(I62:I64,A62:A64,\"P\")","v":0}]
["P",17,"917223","","SILNIČNÍ A CHODNÍKOVÉ OBRUBY Z BETONOVÝCH OBRUBNÍKŮ ŠÍŘ 100MM","M",3,null,{"$f":"ROUND(G62*H62,P4)","v":0},null,null,null,null,null,{"$f":"I62*0.21","v":0},3]
["PP",null,null,null,""]
["VV",null,null,null,"chodníkové obruby 3 = 3,000 [A]"]

{"sheet":"131 3542131 KL","index":13,"n_rows":45,"n_cols":8,"rows_kept":45,"cut":false,"hidden":false,"merged":[[50,1,50,6],[29,5,29,6],[30,5,30,6],[31,5,31,6],[32,5,32,6],[33,5,33,6],[36,1,44,6],[45,1,45,6],[46,1,46,6],[47,1,47,6],[48,1,48,6],[49,1,49,6],[22,0,22,1],[7,2,7,4],[8,2,8,4],[9,2,9,4],[10,2,10,4],[11,2,11,4]]}
["POLOŽKOVÝ ROZPOČET"]
["Rozpočet",null,"3542/131","Rekonstrukce chodníku ul. Větrná",null,"JKSO ","822.27"]
[]
["Objekt",null,null,null,null,"SKP "]
["131",null,"Rekonstrukce chodníku ul. Větrná",null,null,"Měrná jednotka","m2"]
["Stavba",null,null,null,null,"Počet jednotek",0]
["3542",null,"Semily - Obnova VH infrastruktury a komunikací",null,null,"Náklady na m.j.",{"$f":"IF(G6=0,,ROUND((F30+F32)/G6,1))","v":0}]
["Projektant",null,null,null,null,"Typ rozpočtu"]
["Zpracovatel projektu"]
["Objednatel",null,"Vodohospodářské sdružení Turnov"]
["Dodavatel",null,".",null,null,"Zakázkové číslo "]
["Rozpočtoval",null,null,null,null,"Počet listů"]
["ROZPOČTOVÉ NÁKLADY"]
["Základní rozpočtové náklady"]
[null,"HSV celkem",{"$f":"SUM('131 3542131 Pol'!I3)","v":0}]
["Z","PSV celkem",0]
["R","M práce celkem",0]
["N","M dodávky celkem",0]
["ZRN celkem",null,{"$f":"SUM(C15:C18)","v":0}]
[]
["HZS",null,0]
["ZRN+HZS",null,{"$f":"C19+C21","v":0}]
["ZRN+ost.náklady+HZS",null,{"$f":"C22+G23","v":0}]
["Vypracoval",null,null,"Za zhotovitele",null,"Za objednatele"]
["Jméno :",null,null,"Jméno :",null,"Jméno :"]
["Datum :",null,null,"Datum :",null,"Datum :"]
[]
["Podpis :",null,null,"Podpis:",null,"Podpis:"]
[]
["Základ pro DPH",null,21,"%  ",null,{"$f":"C23-F32","v":0}]
["DPH",null,{"$f":"C30","v":21},"% ",null,{"$f":"ROUND(PRODUCT(F30,C31/100),0)","v":0}]
["Základ pro DPH",null,0,"% ",null,0]
["DPH",null,{"$f":"C32","v":0},"% ",null,{"$f":"ROUND(PRODUCT(F32,C33/100),0)","v":0}]
["CENA ZA OBJEKT CELKEM",null,null,null,null,{"$f":"ROUND(SUM(F30:F33),0)","v":0}]
[]
["Poznámka :",null,null,null,null,null,null," "]
[null,null,null,null,null,null,null," "]
[null,null,null,null,null,null,null," "]
[null,null,null,null,null,null,null," "]
[null,null,null,null,null,null,null," "]
[null,null,null,null,null,null,null," "]
[null,null,null,null,null,null,null," "]
[null,null,null,null,null,null,null," "]
[null,null,null,null,null,null,null," "]
[null,null,null,null,null,null,null," "]

{"sheet":"131 3542131 Pol","index":14,"n_rows":82,"n_cols":16,"rows_kept":82,"cut":false,"hidden":false,"merged":[[2,2,2,3],[3,2,3,3],[4,5,5,5],[4,6,5,6],[4,7,4,8],[4,9,5,9],[4,0,5,0],[4,1,5,1],[4,2,5,2],[4,3,5,3],[4,4,5,4]]}
["EstiCon",null,null,null,"Firma: ",null,null,null,null,null,null,null,null,null,null,3]
[null,null,null,null,"Soupis prací objektu"]
["S","Stavba:","22-069",null,"Oprava ulic Větrná, Smetanova a Dvořákova",null,null,"SO 131",{"$f":"SUMIFS(I8:I82,A8:A82,\"SD\")","v":0},null,null,null,null,null,0,2]
["O","Rozpočet:","SO 131",null,"Rekonstrukce chodníků - ul. Větrná",null,null,null,null,null,null,null,null,null,0.12,2]
["Typ","Poř. číslo","Kód položky","Varianta","Název Položky","MJ","Množství","Cena",null,"Cenová soustava",null,null,null,null,0.21]
[null,null,null,null,null,null,null,"Jednotková","Celkem"]
[0,1,2,3,4,5,6,7,8,9]
["SD",null,"0",null,"Všeobecné konstrukce a práce",null,null,null,{"$f":"SUMIFS(I9:I17,A9:A17,\"P\")","v":0}]
["P",1,"015111","","POPLATKY ZA LIKVIDACI ODPADŮ NEKONTAMINOVANÝCH - 17 05 04  VYTĚŽENÉ ZEMINY A HORNINY -  I. TŘÍDA TĚŽITELNOSTI","T",1.62,null,{"$f":"ROUND(G9*H9,P4)","v":0},null,null,null,null,null,{"$f":"I9*0.21","v":0},3]
["PP",null,null,null,""]
["VV",null,null,null,"pol. 123738 0,81*2,0 = 1,620 [A]"]
["P",2,"015130","","POPLATKY ZA LIKVIDACI ODPADŮ NEKONTAMINOVANÝCH - 17 03 02  VYBOURANÝ ASFALTOVÝ BETON BEZ DEHTU","T",96.24,null,{"$f":"ROUND(G12*H12,P4)","v":0},null,null,null,null,null,{"$f":"I12*0.21","v":0},3]
["PP",null,null,null,""]
["VV",null,null,null,"pol. 11313 40,1*2,4 = 96,240 [A]"]
["P",3,"015330","","POPLATKY ZA LIKVIDACI ODPADŮ NEKONTAMINOVANÝCH - 17 05 04  KAMENNÁ SUŤ","T",121.98,null,{"$f":"ROUND(G15*H15,P4)","v":0},null,null,null,null,null,{"$f":"I15*0.21","v":0},3]
["PP",null,null,null,""]
["VV",null,null,null,"dle pol. 11332 64,2*1,9 = 121,980 [A]"]
["SD",null,"1",null,"Zemní práce",null,null,null,{"$f":"SUMIFS(I19:I48,A19:A48,\"P\")","v":0}]
["P",4,"11313","","ODSTRANĚNÍ KRYTU ZPEVNĚNÝCH PLOCH S ASFALTOVÝM POJIVEM","M3",40.1,null,{"$f":"ROUND(G19*H19,P4)","v":0},null,null,null,null,null,{"$f":"I19*0.21","v":0},3]
["PP",null,null,null,""]
["VV",null,null,null,"stávající chodník 401*0,1 = 40,100 [A]"]
["P",5,"11318","","ODSTRANĚNÍ KRYTU ZPEVNĚNÝCH PLOCH Z DLAŽDIC","M3",0.2,null,{"$f":"ROUND(G22*H22,P4)","v":0},null,null,null,null,null,{"$f":"I22*0.21","v":0},3]
["PP",null,null,null,""]
["VV",null,null,null,"stávající dlážděná křižovatka 2*0.1 = 0,200 [A]"]
["P",6,"11332","","ODSTRANĚNÍ PODKLADŮ ZPEVNĚNÝCH PLOCH Z KAMENIVA NESTMELENÉHO","M3",64.2,null,{"$f":"ROUND(G25*H25,P4)","v":0},null,null,null,null,null,{"$f":"I25*0.21","v":0},3]
["PP",null,null,null,""]
["VV",null,null,null,"stávající asfaltový chodník 334*0,14 = 46,760 [A]\r\nstávající dlážděný chodník 2*0,14 = 0,280 [B]\r\nstávající asfaltové vjezdy 78*0,22 = 17,160 [C]\r\nCelkové množství = 64,200"]
["P",7,"12110","","SEJMUTÍ ORNICE NEBO LESNÍ PŮDY","M3",1.35,null,{"$f":"ROUND(G28*H28,P4)","v":0},null,null,null,null,null,{"$f":"I28*0.21","v":0},3]
["PP",null,null,null,""]
["VV",null,null,null,"sejmutí ornice pod novou dlážděnou plochou 9*0,15 = 1,350 [A]"]
["P",8,"123738","","ODKOP PRO SPOD STAVBU SILNIC A ŽELEZNIC TŘ. I, ODVOZ DO 20KM","M3",0.81,null,{"$f":"ROUND(G31*H31,P4)","v":0},null,null,null,null,null,{"$f":"I31*0.21","v":0},3]
["PP",null,null,null,"ZHOTOVITEL V CENĚ ZOHLEDNÍ SKUTEČNÉ NÁKLADY NA DOPRAVU NA MÍSTO ULOŽENÍ"]
["VV",null,null,null,"sejmutí ornice pod novou dlážděnou plochou 9*0,09 = 0,810 [A]"]
["P",9,"17120","","ULOŽENÍ SYPANINY DO NÁSYPŮ A NA SKLÁDKY BEZ ZHUTNĚNÍ","M3",0.81,null,{"$f":"ROUND(G34*H34,P4)","v":0},null,null,null,null,null,{"$f":"I34*0.21","v":0},3]
["PP",null,null,null,""]
["VV",null,null,null,"pol. 123738 0,81 = 0,810 [A]"]
["P",10,"18110","","ÚPRAVA PLÁNĚ SE ZHUTNĚNÍM V HORNINĚ TŘ. I","M2",412,null,{"$f":"ROUND(G37*H37,P4)","v":0},null,null,null,null,null,{"$f":"I37*0.21","v":0},3]
["PP",null,null,null,""]
["VV",null,null,null,"Konstrukce D 334 = 334,000 [A]\r\nKonstrukce D.1 78 = 78,000 [B]\r\nCelkové množství = 412,000"]
["P",11,"18230","","ROZPROSTŘENÍ ORNICE V ROVINĚ","M3",3.3,null,{"$f":"ROUND(G40*H40,P4)","v":0},null,null,null,null,null,{"$f":"I40*0.21","v":0},3]
["PP",null,null,null,"včetně získání materiálu k ohumusování"]
["VV",null,null,null,"terénní úpravy 22*0,15 = 3,300 [A]"]
["P",12,"18241","","ZALOŽENÍ TRÁVNÍKU RUČNÍM VÝSEVEM","M2",22,null,{"$f":"ROUND(G43*H43,P4)","v":0},null,null,null,null,null,{"$f":"I43*0.21","v":0},3]
["PP"]
["VV",null,null,null,"terénní úpravy 22 = 22,000 [A]"]
["P",13,"183511","","CHEMICKÉ ODPLEVELENÍ CELOPLOŠNÉ","M2",22,null,{"$f":"ROUND(G46*H46,P4)","v":0},null,null,null,null,null,{"$f":"I46*0.21","v":0},3]
["PP"]
["VV",null,null,null,"terénní úpravy 22 = 22,000 [A]"]
["SD",null,"2",null,"Základy",null,null,null,{"$f":"SUMIFS(I50:I52,A50:A52,\"P\")","v":0}]
["P",14,"21361","","DRENÁŽNÍ VRSTVY Z GEOTEXTILIE","M2",412,null,{"$f":"ROUND(G50*H50,P4)","v":0},null,null,null,null,null,{"$f":"I50*0.21","v":0},3]
["PP",null,null,null,"netkaná geotextílie 500 g/m2, CBR>3 kN, odolnost proti proražení < 10 mm, tažnost > 50% dle TP 97 \nseparační a filtrační funkce"]
["VV",null,null,null,"pol. 18110 412 = 412,000 [A]"]
["SD",null,"5",null,"Komunikace",null,null,null,{"$f":"SUMIFS(I54:I74,A54:A74,\"P\")","v":0}]
["P",15,"56333","","VOZOVKOVÉ VRSTVY ZE ŠTĚRKODRTI TL. DO 150MM","M2",334,null,{"$f":"ROUND(G54*H54,P4)","v":0},null,null,null,null,null,{"$f":"I54*0.21","v":0},3]
["PP",null,null,null,"ŠDA 0/32 - 150 mm"]
["VV",null,null,null,"Konstrukce D 309+25 = 334,000 [A]"]
["P",16,"56334","","VOZOVKOVÉ VRSTVY ZE ŠTĚRKODRTI TL. DO 200MM","M2",78,null,{"$f":"ROUND(G57*H57,P4)","v":0},null,null,null,null,null,{"$f":"I57*0.21","v":0},3]
["PP",null,null,null,"ŠDA 0/32 - 200 mm"]
["VV",null,null,null,"Konstrukce D.1 59+19 = 78,000 [A]"]
["P",17,"582614","","KRYTY Z BETON DLAŽDIC SE ZÁMKEM BAREV TL 60MM DO LOŽE Z KAM","M2",309,null,{"$f":"ROUND(G60*H60,P4)","v":0},null,null,null,null,null,{"$f":"I60*0.21","v":0},3]
["PP",null,null,null,"Betonová dlažba (2x vyspárováno), žlutá - 60 mm"]
["VV",null,null,null,"Konstrukce D 309 = 309,000 [A]"]
["P",18,"582615","","KRYTY Z BETON DLAŽDIC SE ZÁMKEM BAREV TL 80MM DO LOŽE Z KAM","M2",59,null,{"$f":"ROUND(G63*H63,P4)","v":0},null,null,null,null,null,{"$f":"I63*0.21","v":0},3]
["PP",null,null,null,"Betonová dlažba (2x vyspárováno), žlutá - 80 mm"]
["VV",null,null,null,"Konstrukce D.1 59 = 59,000 [A]"]
["P",19,"58261A","","KRYTY Z BETON DLAŽDIC SE ZÁMKEM BAREV RELIÉF TL 60MM DO LOŽE Z KAM","M2",25,null,{"$f":"ROUND(G66*H66,P4)","v":0},null,null,null,null,null,{"$f":"I66*0.21","v":0},3]
["PP",null,null,null,"Betonová dlažba (2x vyspárováno), antracit - 60 mm - s hmatovou úpravou"]
["VV",null,null,null,"Konstrukce D 25 = 25,000 [A]"]
["P",20,"58261B","","KRYTY Z BETON DLAŽDIC SE ZÁMKEM BAREV RELIÉF TL 80MM DO LOŽE Z KAM","M2",19,null,{"$f":"ROUND(G69*H69,P4)","v":0},null,null,null,null,null,{"$f":"I69*0.21","v":0},3]
["PP",null,null,null,"Betonová dlažba (2x vyspárováno), antracit - 80 mm - s hmatovou úpravou"]
["VV",null,null,null,"Konstrukce D.1 19 = 19,000 [A]"]
["P",21,"587206","","PŘEDLÁŽDĚNÍ KRYTU Z BETONOVÝCH DLAŽDIC SE ZÁMKEM","M2",16,null,{"$f":"ROUND(G72*H72,P4)","v":0},null,null,null,null,null,{"$f":"I72*0.21","v":0},3]
["PP",null,null,null,""]
["VV",null,null,null,"předláždění dlažby v místech napojení na stávající stav 8*2 = 16,000 [A]"]
["SD",null,"7",null,"Přidružená stavební výroba",null,null,null,{"$f":"SUMIFS(I76:I78,A76:A78,\"P\")","v":0}]
["P",22,"711117","","IZOLACE BĚŽNÝCH KONSTRUKCÍ PROTI ZEMNÍ VLHKOSTI Z PE FÓLIÍ","M2",111.75,null,{"$f":"ROUND(G76*H76,P4)","v":0},null,null,null,null,null,{"$f":"I76*0.21","v":0},3]
["PP",null,null,null,"nopová fólie v místě souběhu s nemovitostí nebo podezdívkou"]
["VV",null,null,null,"délka souběhu podél konstrukcí 149 = 149,000 [A]\r\ndélka izolace v řezu 0,75 = 0,750 [B]\r\ncelkem a*b = 111,750 [C]"]
["SD",null,"9",null,"Ostatní konstrukce a práce",null,null,null,{"$f":"SUMIFS(I80:I82,A80:A82,\"P\")","v":0}]
["P",23,"917223","","SILNIČNÍ A CHODNÍKOVÉ OBRUBY Z BETONOVÝCH OBRUBNÍKŮ ŠÍŘ 100MM","M",19,null,{"$f":"ROUND(G80*H80,P4)","v":0},null,null,null,null,null,{"$f":"I80*0.21","v":0},3]
["PP",null,null,null,""]
["VV",null,null,null,"chodníkové obruby 19 = 19,000 [A]"]

{"sheet":"132 3542132 KL","index":15,"n_rows":45,"n_cols":8,"rows_kept":45,"cut":false,"hidden":false,"merged":[[50,1,50,6],[29,5,29,6],[30,5,30,6],[31,5,31,6],[32,5,32,6],[33,5,33,6],[36,1,44,6],[45,1,45,6],[46,1,46,6],[47,1,47,6],[48,1,48,6],[49,1,49,6],[22,0,22,1],[7,2,7,4],[8,2,8,4],[9,2,9,4],[10,2,10,4],[11,2,11,4]]}
["POLOŽKOVÝ ROZPOČET"]
["Rozpočet",null,"3542/132","Rekonstrukce chodníku ul. Smetanova",null,"JKSO ","822.27"]
[]
["Objekt",null,null,null,null,"SKP "]
["132",null,"Rekonstrukce chodníku ul. Smetanova",null,null,"Měrná jednotka","m2"]
["Stavba",null,null,null,null,"Počet jednotek",0]
["3542",null,"Semily - Obnova VH infrastruktury a komunikací",null,null,"Náklady na m.j.",{"$f":"IF(G6=0,,ROUND((F30+F32)/G6,1))","v":0}]
["Projektant",null,null,null,null,"Typ rozpočtu"]
["Zpracovatel projektu"]
["Objednatel",null,"Vodohospodářské sdružení Turnov"]
["Dodavatel",null,".",null,null,"Zakázkové číslo "]
["Rozpočtoval",null,null,null,null,"Počet listů"]
["ROZPOČTOVÉ NÁKLADY"]
["Základní rozpočtové náklady"]
[null,"HSV celkem",{"$f":"SUM('132 3542132 Pol'!I3)","v":0}]
["Z","PSV celkem",0]
["R","M práce celkem",0]
["N","M dodávky celkem",0]
["ZRN celkem",null,{"$f":"SUM(C15:C18)","v":0}]
[]
["HZS",null,0]
["ZRN+HZS",null,{"$f":"C19+C21","v":0}]
["ZRN+ost.náklady+HZS",null,{"$f":"C22+G23","v":0}]
["Vypracoval",null,null,"Za zhotovitele",null,"Za objednatele"]
["Jméno :",null,null,"Jméno :",null,"Jméno :"]
["Datum :",null,null,"Datum :",null,"Datum :"]
[]
["Podpis :",null,null,"Podpis:",null,"Podpis:"]
[]
["Základ pro DPH",null,21,"%  ",null,{"$f":"C23-F32","v":0}]
["DPH",null,{"$f":"C30","v":21},"% ",null,{"$f":"ROUND(PRODUCT(F30,C31/100),0)","v":0}]
["Základ pro DPH",null,0,"% ",null,0]
["DPH",null,{"$f":"C32","v":0},"% ",null,{"$f":"ROUND(PRODUCT(F32,C33/100),0)","v":0}]
["CENA ZA OBJEKT CELKEM",null,null,null,null,{"$f":"ROUND(SUM(F30:F33),0)","v":0}]
[]
["Poznámka :",null,null,null,null,null,null," "]
[null,null,null,null,null,null,null," "]
[null,null,null,null,null,null,null," "]
[null,null,null,null,null,null,null," "]
[null,null,null,null,null,null,null," "]
[null,null,null,null,null,null,null," "]
[null,null,null,null,null,null,null," "]
[null,null,null,null,null,null,null," "]
[null,null,null,null,null,null,null," "]
[null,null,null,null,null,null,null," "]

{"sheet":"132 3542132 Pol","index":16,"n_rows":58,"n_cols":16,"rows_kept":58,"cut":false,"hidden":false,"merged":[[2,2,2,3],[3,2,3,3],[4,5,5,5],[4,6,5,6],[4,7,4,8],[4,9,5,9],[4,0,5,0],[4,1,5,1],[4,2,5,2],[4,3,5,3],[4,4,5,4]]}
["EstiCon",null,null,null,"Firma: ",null,null,null,null,null,null,null,null,null,null,3]
[null,null,null,null,"Soupis prací objektu"]
["S","Stavba:","22-069",null,"Oprava ulic Větrná, Smetanova a Dvořákova",null,null,"SO 132",{"$f":"SUMIFS(I8:I58,A8:A58,\"SD\")","v":0},null,null,null,null,null,0,2]
["O","Rozpočet:","SO 132",null,"Rekonstrukce chodníků - ul. Smetanova",null,null,null,null,null,null,null,null,null,0.12,2]
["Typ","Poř. číslo","Kód položky","Varianta","Název Položky","MJ","Množství","Cena",null,"Cenová soustava",null,null,null,null,0.21]
[null,null,null,null,null,null,null,"Jednotková","Celkem"]
[0,1,2,3,4,5,6,7,8,9]
["SD",null,"0",null,"Všeobecné konstrukce a práce",null,null,null,{"$f":"SUMIFS(I9:I14,A9:A14,\"P\")","v":0}]
["P",1,"015130","","POPLATKY ZA LIKVIDACI ODPADŮ NEKONTAMINOVANÝCH - 17 03 02  VYBOURANÝ ASFALTOVÝ BETON BEZ DEHTU","T",36.479999999999997,null,{"$f":"ROUND(G9*H9,P4)","v":0},null,null,null,null,null,{"$f":"I9*0.21","v":0},3]
["PP",null,null,null,""]
["VV",null,null,null,"pol. 11313 15,2*2,4 = 36,480 [A]"]
["P",2,"015330","","POPLATKY ZA LIKVIDACI ODPADŮ NEKONTAMINOVANÝCH - 17 05 04  KAMENNÁ SUŤ","T",48.526000000000003,null,{"$f":"ROUND(G12*H12,P4)","v":0},null,null,null,null,null,{"$f":"I12*0.21","v":0},3]
["PP",null,null,null,""]
["VV",null,null,null,"dle pol. 11332 25,54*1,9 = 48,526 [A]"]
["SD",null,"1",null,"Zemní práce",null,null,null,{"$f":"SUMIFS(I16:I27,A16:A27,\"P\")","v":0}]
["P",3,"11313","","ODSTRANĚNÍ KRYTU ZPEVNĚNÝCH PLOCH S ASFALTOVÝM POJIVEM","M3",15.2,null,{"$f":"ROUND(G16*H16,P4)","v":0},null,null,null,null,null,{"$f":"I16*0.21","v":0},3]
["PP",null,null,null,""]
["VV",null,null,null,"stávající chodník 152*0,1 = 15,200 [A]"]
["P",4,"11318","","ODSTRANĚNÍ KRYTU ZPEVNĚNÝCH PLOCH Z DLAŽDIC","M3",0.3,null,{"$f":"ROUND(G19*H19,P4)","v":0},null,null,null,null,null,{"$f":"I19*0.21","v":0},3]
["PP",null,null,null,""]
["VV",null,null,null,"stávající dlážděná křižovatka 3*0.1 = 0,300 [A]"]
["P",5,"11332","","ODSTRANĚNÍ PODKLADŮ ZPEVNĚNÝCH PLOCH Z KAMENIVA NESTMELENÉHO","M3",25.54,null,{"$f":"ROUND(G22*H22,P4)","v":0},null,null,null,null,null,{"$f":"I22*0.21","v":0},3]
["PP",null,null,null,""]
["VV",null,null,null,"stávající asfaltový chodník 104*0,14 = 14,560 [A]\r\nstávající dlážděný chodník 3*0,14 = 0,420 [B]\r\nstávající asfaltové vjezdy 48*0,22 = 10,560 [C]\r\nCelkové množství = 25,540"]
["P",6,"18110","","ÚPRAVA PLÁNĚ SE ZHUTNĚNÍM V HORNINĚ TŘ. I","M2",155,null,{"$f":"ROUND(G25*H25,P4)","v":0},null,null,null,null,null,{"$f":"I25*0.21","v":0},3]
["PP",null,null,null,""]
["VV",null,null,null,"Konstrukce D 107 = 107,000 [A]\r\nKonstrukce D.1 48 = 48,000 [B]\r\nCelkové množství = 155,000"]
["SD",null,"2",null,"Základy",null,null,null,{"$f":"SUMIFS(I29:I31,A29:A31,\"P\")","v":0}]
["P",7,"21361","","DRENÁŽNÍ VRSTVY Z GEOTEXTILIE","M2",155,null,{"$f":"ROUND(G29*H29,P4)","v":0},null,null,null,null,null,{"$f":"I29*0.21","v":0},3]
["PP",null,null,null,"netkaná geotextílie 500 g/m2, CBR>3 kN, odolnost proti proražení < 10 mm, tažnost > 50% dle TP 97 \nseparační a filtrační funkce"]
["VV",null,null,null,"pol. 18110 155 = 155,000 [A]"]
["SD",null,"5",null,"Komunikace",null,null,null,{"$f":"SUMIFS(I33:I50,A33:A50,\"P\")","v":0}]
["P",8,"56333","","VOZOVKOVÉ VRSTVY ZE ŠTĚRKODRTI TL. DO 150MM","M2",107,null,{"$f":"ROUND(G33*H33,P4)","v":0},null,null,null,null,null,{"$f":"I33*0.21","v":0},3]
["PP",null,null,null,"ŠDA 0/32 - 150 mm"]
["VV",null,null,null,"Konstrukce D 107 = 107,000 [A]"]
["P",9,"56334","","VOZOVKOVÉ VRSTVY ZE ŠTĚRKODRTI TL. DO 200MM","M2",48,null,{"$f":"ROUND(G36*H36,P4)","v":0},null,null,null,null,null,{"$f":"I36*0.21","v":0},3]
["PP",null,null,null,"ŠDA 0/32 - 200 mm"]
["VV",null,null,null,"Konstrukce D.1 37+11 = 48,000 [A]"]
["P",10,"582614","","KRYTY Z BETON DLAŽDIC SE ZÁMKEM BAREV TL 60MM DO LOŽE Z KAM","M2",107,null,{"$f":"ROUND(G39*H39,P4)","v":0},null,null,null,null,null,{"$f":"I39*0.21","v":0},3]
["PP",null,null,null,"Betonová dlažba (2x vyspárováno), žlutá - 60 mm"]
["VV",null,null,null,"Konstrukce D 107 = 107,000 [A]"]
["P",11,"582615","","KRYTY Z BETON DLAŽDIC SE ZÁMKEM BAREV TL 80MM DO LOŽE Z KAM","M2",37,null,{"$f":"ROUND(G42*H42,P4)","v":0},null,null,null,null,null,{"$f":"I42*0.21","v":0},3]
["PP",null,null,null,"Betonová dlažba (2x vyspárováno), žlutá - 80 mm"]
["VV",null,null,null,"Konstrukce D.1 37 = 37,000 [A]"]
["P",12,"58261B","","KRYTY Z BETON DLAŽDIC SE ZÁMKEM BAREV RELIÉF TL 80MM DO LOŽE Z KAM","M2",11,null,{"$f":"ROUND(G45*H45,P4)","v":0},null,null,null,null,null,{"$f":"I45*0.21","v":0},3]
["PP",null,null,null,"Betonová dlažba (2x vyspárováno), antracit - 80 mm - s hmatovou úpravou"]
["VV",null,null,null,"Konstrukce D.1 11 = 11,000 [A]"]
["P",13,"587206","","PŘEDLÁŽDĚNÍ KRYTU Z BETONOVÝCH DLAŽDIC SE ZÁMKEM","M2",4,null,{"$f":"ROUND(G48*H48,P4)","v":0},null,null,null,null,null,{"$f":"I48*0.21","v":0},3]
["PP",null,null,null,""]
["VV",null,null,null,"předláždění dlažby v místech napojení na stávající stav 2*2 = 4,000 [A]"]
["SD",null,"7",null,"Přidružená stavební výroba",null,null,null,{"$f":"SUMIFS(I52:I54,A52:A54,\"P\")","v":0}]
["P",14,"711117","","IZOLACE BĚŽNÝCH KONSTRUKCÍ PROTI ZEMNÍ VLHKOSTI Z PE FÓLIÍ","M2",85.5,null,{"$f":"ROUND(G52*H52,P4)","v":0},null,null,null,null,null,{"$f":"I52*0.21","v":0},3]
["PP",null,null,null,"nopová fólie v místě souběhu s nemovitostí nebo podezdívkou"]
["VV",null,null,null,"délka souběhu podél konstrukcí 114 = 114,000 [A]\r\ndélka izolace v řezu 0,75 = 0,750 [B]\r\ncelkem a*b = 85,500 [C]"]
["SD",null,"9",null,"Ostatní konstrukce a práce",null,null,null,{"$f":"SUMIFS(I56:I58,A56:A58,\"P\")","v":0}]
["P",15,"917223","","SILNIČNÍ A CHODNÍKOVÉ OBRUBY Z BETONOVÝCH OBRUBNÍKŮ ŠÍŘ 100MM","M",2,null,{"$f":"ROUND(G56*H56,P4)","v":0},null,null,null,null,null,{"$f":"I56*0.21","v":0},3]
["PP",null,null,null,""]
["VV",null,null,null,"chodníkové obruby 2 = 2,000 [A]"]

{"sheet":"301 3542301.1 KL","index":17,"n_rows":45,"n_cols":8,"rows_kept":45,"cut":false,"hidden":false,"merged":[[50,1,50,6],[29,5,29,6],[30,5,30,6],[31,5,31,6],[32,5,32,6],[33,5,33,6],[36,1,44,6],[45,1,45,6],[46,1,46,6],[47,1,47,6],[48,1,48,6],[49,1,49,6],[22,0,22,1],[7,2,7,4],[8,2,8,4],[9,2,9,4],[10,2,10,4],[11,2,11,4]]}
["POLOŽKOVÝ ROZPOČET"]
["Rozpočet",null,"3542/301.1","Oprava vodovodní řadů S1 a S2",null,"JKSO ","827.13"]
[]
["Objekt",null,null,null,null,"SKP "]
["301",null,"Oprava vodovodní řadů S1 a S2 ul. Smetanova",null,null,"Měrná jednotka","m"]
["Stavba",null,null,null,null,"Počet jednotek",0]
["3542",null,"Semily - Obnova VH infrastruktury a komunikací",null,null,"Náklady na m.j.",{"$f":"IF(G6=0,,ROUND((F30+F32)/G6,1))","v":0}]
["Projektant",null,null,null,null,"Typ rozpočtu"]
["Zpracovatel projektu"]
["Objednatel",null,"Vodohospodářské sdružení Turnov"]
["Dodavatel",null,".",null,null,"Zakázkové číslo "]
["Rozpočtoval",null,null,null,null,"Počet listů"]
["ROZPOČTOVÉ NÁKLADY"]
["Základní rozpočtové náklady"]
[null,"HSV celkem",{"$f":"'301 3542301.1 Rek'!E15","v":0}]
["Z","PSV celkem",{"$f":"'301 3542301.1 Rek'!F15","v":0}]
["R","M práce celkem",{"$f":"'301 3542301.1 Rek'!H15","v":0}]
["N","M dodávky celkem",{"$f":"'301 3542301.1 Rek'!G15","v":0}]
["ZRN celkem",null,{"$f":"SUM(C15:C18)","v":0}]
[]
["HZS",null,{"$f":"'301 3542301.1 Rek'!I15","v":0}]
["ZRN+HZS",null,{"$f":"C19+C21","v":0}]
["ZRN+ost.náklady+HZS",null,{"$f":"C22+G23","v":0}]
["Vypracoval",null,null,"Za zhotovitele",null,"Za objednatele"]
["Jméno :",null,null,"Jméno :",null,"Jméno :"]
["Datum :",null,null,"Datum :",null,"Datum :"]
[]
["Podpis :",null,null,"Podpis:",null,"Podpis:"]
[]
["Základ pro DPH",null,21,"%  ",null,{"$f":"C23-F32","v":0}]
["DPH",null,{"$f":"C30","v":21},"% ",null,{"$f":"ROUND(PRODUCT(F30,C31/100),0)","v":0}]
["Základ pro DPH",null,0,"% ",null,0]
["DPH",null,{"$f":"C32","v":0},"% ",null,{"$f":"ROUND(PRODUCT(F32,C33/100),0)","v":0}]
["CENA ZA OBJEKT CELKEM",null,null,null,null,{"$f":"ROUND(SUM(F30:F33),0)","v":0}]
[]
["Poznámka :",null,null,null,null,null,null," "]
[null,null,null,null,null,null,null," "]
[null,null,null,null,null,null,null," "]
[null,null,null,null,null,null,null," "]
[null,null,null,null,null,null,null," "]
[null,null,null,null,null,null,null," "]
[null,null,null,null,null,null,null," "]
[null,null,null,null,null,null,null," "]
[null,null,null,null,null,null,null," "]
[null,null,null,null,null,null,null," "]

{"sheet":"301 3542301.1 Rek","index":18,"n_rows":15,"n_cols":9,"rows_kept":15,"cut":false,"hidden":false,"merged":[[0,0,0,1],[1,0,1,1],[1,6,1,8]]}
["Stavba :",null,"3542 Semily - Obnova VH infrastruktury a komunikací",null,null,null,"Rozpočet :","3542/301.1"]
["Objekt :",null,"301 Oprava vodovodní řadů S1 a S2 ul. Smetanova",null,null,null,"Oprava vodovodní řadů S1 a S2"]
[]
["REKAPITULACE  STAVEBNÍCH  DÍLŮ"]
[]
[null,"Stavební díl",null,null,"HSV","PSV","Dodávka","Montáž","HZS"]
[{"$f":"'301 3542301.1 Pol'!B7","v":"1"},{"$f":"'301 3542301.1 Pol'!C7","v":"Zemní práce"},null,null,{"$f":"'301 3542301.1 Pol'!BA86","v":0},{"$f":"'301 3542301.1 Pol'!BB86","v":0},{"$f":"'301 3542301.1 Pol'!BC86","v":0},{"$f":"'301 3542301.1 Pol'!BD86","v":0},{"$f":"'301 3542301.1 Pol'!BE86","v":0}]
[{"$f":"'301 3542301.1 Pol'!B87","v":"21"},{"$f":"'301 3542301.1 Pol'!C87","v":"Úprava podloží a základ.spáry"},null,null,{"$f":"'301 3542301.1 Pol'!BA93","v":0},{"$f":"'301 3542301.1 Pol'!BB93","v":0},{"$f":"'301 3542301.1 Pol'!BC93","v":0},{"$f":"'301 3542301.1 Pol'!BD93","v":0},{"$f":"'301 3542301.1 Pol'!BE93","v":0}]
[{"$f":"'301 3542301.1 Pol'!B94","v":"45"},{"$f":"'301 3542301.1 Pol'!C94","v":"Podkladní a vedlejší konstrukce"},null,null,{"$f":"'301 3542301.1 Pol'!BA100","v":0},{"$f":"'301 3542301.1 Pol'!BB100","v":0},{"$f":"'301 3542301.1 Pol'!BC100","v":0},{"$f":"'301 3542301.1 Pol'!BD100","v":0},{"$f":"'301 3542301.1 Pol'!BE100","v":0}]
[{"$f":"'301 3542301.1 Pol'!B101","v":"5"},{"$f":"'301 3542301.1 Pol'!C101","v":"Komunikace"},null,null,{"$f":"'301 3542301.1 Pol'!BA107","v":0},{"$f":"'301 3542301.1 Pol'!BB107","v":0},{"$f":"'301 3542301.1 Pol'!BC107","v":0},{"$f":"'301 3542301.1 Pol'!BD107","v":0},{"$f":"'301 3542301.1 Pol'!BE107","v":0}]
[{"$f":"'301 3542301.1 Pol'!B108","v":"8"},{"$f":"'301 3542301.1 Pol'!C108","v":"Trubní vedení"},null,null,{"$f":"'301 3542301.1 Pol'!BA253","v":0},{"$f":"'301 3542301.1 Pol'!BB253","v":0},{"$f":"'301 3542301.1 Pol'!BC253","v":0},{"$f":"'301 3542301.1 Pol'!BD253","v":0},{"$f":"'301 3542301.1 Pol'!BE253","v":0}]
[{"$f":"'301 3542301.1 Pol'!B254","v":"89"},{"$f":"'301 3542301.1 Pol'!C254","v":"Ostatní konstrukce na trubním vedení"},null,null,{"$f":"'301 3542301.1 Pol'!BA282","v":0},{"$f":"'301 3542301.1 Pol'!BB282","v":0},{"$f":"'301 3542301.1 Pol'!BC282","v":0},{"$f":"'301 3542301.1 Pol'!BD282","v":0},{"$f":"'301 3542301.1 Pol'!BE282","v":0}]
[{"$f":"'301 3542301.1 Pol'!B283","v":"93"},{"$f":"'301 3542301.1 Pol'!C283","v":"Dokončovací práce inženýrských staveb"},null,null,{"$f":"'301 3542301.1 Pol'!BA338","v":0},{"$f":"'301 3542301.1 Pol'!BB338","v":0},{"$f":"'301 3542301.1 Pol'!BC338","v":0},{"$f":"'301 3542301.1 Pol'!BD338","v":0},{"$f":"'301 3542301.1 Pol'!BE338","v":0}]
[{"$f":"'301 3542301.1 Pol'!B339","v":"99"},{"$f":"'301 3542301.1 Pol'!C339","v":"Staveništní přesun hmot"},null,null,{"$f":"'301 3542301.1 Pol'!BA342","v":0},{"$f":"'301 3542301.1 Pol'!BB342","v":0},{"$f":"'301 3542301.1 Pol'!BC342","v":0},{"$f":"'301 3542301.1 Pol'!BD342","v":0},{"$f":"'301 3542301.1 Pol'!BE342","v":0}]
[null,"CELKEM  OBJEKT",null,null,{"$f":"SUM(E7:E14)","v":0},{"$f":"SUM(F7:F14)","v":0},{"$f":"SUM(G7:G14)","v":0},{"$f":"SUM(H7:H14)","v":0},{"$f":"SUM(I7:I14)","v":0}]

{"sheet":"301 3542301.1 Pol","index":19,"n_rows":342,"n_cols":80,"rows_kept":342,"cut":false,"hidden":false,"merged":[[336,2,336,3],[340,2,340,6],[330,2,330,6],[331,2,331,6],[332,2,332,6],[333,2,333,6],[334,2,334,6],[335,2,335,3],[323,2,323,6],[324,2,324,6],[325,2,325,6],[326,2,326,6],[327,2,327,3],[328,2,328,3],[316,2,316,6],[317,2,317,6],[318,2,318,6],[319,2,319,3],[320,2,320,3],[322,2,322,6],[309,2,309,6],[310,2,310,6],[311,2,311,3],[312,2,312,3],[314,2,314,6],[315,2,315,6],[303,2,303,6],[304,2,304,6],[305,2,305,6],[306,2,306,6],[307,2,307,6],[308,2,308,6],[296,2,296,3],[298,2,298,6],[299,2,299,6],[300,2,300,6],[301,2,301,6],[302,2,302,6],[290,2,290,6],[291,2,291,6],[292,2,292,6],[293,2,293,6],[294,2,294,3],[295,2,295,3],[279,2,279,3],[280,2,280,3],[284,2,284,6],[285,2,285,6],[286,2,286,6],[287,2,287,6],[288,2,288,6],[289,2,289,6],[273,2,273,6],[274,2,274,6],[275,2,275,6],[276,2,276,6],[277,2,277,6],[278,2,278,3],[266,2,266,3],[267,2,267,3],[269,2,269,6],[270,2,270,6],[271,2,271,6],[272,2,272,6],[260,2,260,6],[261,2,261,6],[262,2,262,6],[263,2,263,6],[264,2,264,3],[265,2,265,3],[248,2,248,3],[250,2,250,3],[251,2,251,3],[255,2,255,6],[256,2,256,6],[257,2,257,6],[258,2,258,6],[259,2,259,6],[240,2,240,6],[241,2,241,3],[242,2,242,3],[244,2,244,3],[245,2,245,3],[247,2,247,3],[233,2,233,3],[235,2,235,6],[236,2,236,6],[237,2,237,6],[238,2,238,6],[239,2,239,6],[225,2,225,3],[226,2,226,3],[228,2,228,6],[229,2,229,3],[230,2,230,3],[232,2,232,3],[217,2,217,3],[218,2,218,3],[220,2,220,3],[221,2,221,3],[223,2,223,6],[224,2,224,3],[208,2,208,3],[209,2,209,3],[211,2,211,3],[212,2,212,3],[214,2,214,3],[215,2,215,3],[199,2,199,3],[200,2,200,3],[202,2,202,3],[203,2,203,3],[205,2,205,3],[206,2,206,3],[194,2,194,6],[195,2,195,3],[196,2,196,3],[197,2,197,3],[185,2,185,3],[187,2,187,3],[188,2,188,3],[190,2,190,3],[191,2,191,3],[193,2,193,6],[179,2,179,3],[180,2,180,3],[181,2,181,3],[182,2,182,3],[183,2,183,3],[184,2,184,3],[174,2,174,3],[175,2,175,3],[176,2,176,3],[178,2,178,6],[169,2,169,3],[171,2,171,3],[172,2,172,3],[161,2,161,3],[162,2,162,3],[163,2,163,3],[165,2,165,3],[166,2,166,3],[168,2,168,3],[153,2,153,3],[155,2,155,6],[156,2,156,3],[157,2,157,3],[158,2,158,3],[160,2,160,6],[145,2,145,3],[147,2,147,6],[148,2,148,6],[149,2,149,3],[150,2,150,3],[152,2,152,3],[138,2,138,3],[139,2,139,3],[140,2,140,3],[142,2,142,6],[143,2,143,6],[144,2,144,3],[130,2,130,3],[132,2,132,6],[133,2,133,3],[134,2,134,3],[135,2,135,3],[137,2,137,3],[123,2,123,3],[124,2,124,3],[125,2,125,3],[127,2,127,6],[128,2,128,6],[129,2,129,3],[109,2,109,6],[110,2,110,6],[111,2,111,6],[112,2,112,6],[113,2,113,6],[114,2,114,6],[115,2,115,6],[116,2,116,6],[117,2,117,6],[102,2,102,3],[103,2,103,3],[104,2,104,3],[105,2,105,3],[118,2,118,3],[119,2,119,3],[121,2,121,6],[122,2,122,6],[95,2,95,3],[96,2,96,3],[97,2,97,3],[84,2,84,3],[88,2,88,3],[89,2,89,3],[90,2,90,3],[91,2,91,3],[76,2,76,3],[77,2,77,3],[79,2,79,3],[80,2,80,3],[81,2,81,3],[83,2,83,3],[68,2,68,3],[69,2,69,3],[71,2,71,3],[72,2,72,3],[73,2,73,3],[75,2,75,3],[62,2,62,3],[63,2,63,3],[64,2,64,3],[65,2,65,3],[66,2,66,3],[67,2,67,3],[55,2,55,3],[56,2,56,3],[57,2,57,3],[59,2,59,6],[60,2,60,6],[61,2,61,3],[48,2,48,3],[49,2,49,3],[50,2,50,3],[51,2,51,3],[52,2,52,3],[53,2,53,3],[41,2,41,3],[42,2,42,3],[43,2,43,3],[44,2,44,3],[45,2,45,3],[46,2,46,3],[33,2,33,3],[34,2,34,3],[35,2,35,3],[37,2,37,3],[38,2,38,3],[39,2,39,3],[25,2,25,3],[26,2,26,3],[28,2,28,3],[29,2,29,3],[30,2,30,3],[32,2,32,6],[19,2,19,3],[20,2,20,3],[21,2,21,3],[22,2,22,3],[23,2,23,3],[24,2,24,3],[12,2,12,3],[14,2,14,6],[15,2,15,3],[16,2,16,3],[17,2,17,3],[18,2,18,3],[0,0,0,6],[2,0,2,1],[3,0,3,1],[3,4,3,6],[8,2,8,6],[9,2,9,6],[10,2,10,3],[11,2,11,3]]}
["Položkový rozpočet "]
[]
["Stavba :",null,"3542 Semily - Obnova VH infrastruktury a komunikací",null,"Rozpočet:",{"$f":"'301 3542301.1 Rek'!H1","v":"3542/301.1"}]
["Objekt :",null,"301 Oprava vodovodní řadů S1 a S2 ul. Smetanova",null,{"$f":"'301 3542301.1 Rek'!G2","v":"Oprava vodovodní řadů S1 a S2"}]
[]
["P.č.","Číslo položky","Název položky","MJ","množství","cena / MJ","celkem (Kč)","Jednotková hmotnost","Celková hmotnost","Jednotková dem.hmot.","Celková dem.hmot."]
["Díl:","1","Zemní práce",null,null,null,null,null,null,null,null,null,null,null,1]
[1,"130001101RRX","Příplatek za ztížené hloubení v blízkosti vedení ","m3",45.567999999999998,null,{"$f":"E8*F8","v":0},0,{"$f":"E8*H8","v":0},0,{"$f":"E8*J8","v":0},null,null,null,2,null,null,null,null,null,null,null,null,null,null,null,1,1,1,null,null,null,null,null,null,null,null,null,null,null,null,null,null,null,null,null,null,null,null,null,null,1,{"$f":"IF(AZ8=1,G8,0)","v":0},{"$f":"IF(AZ8=2,G8,0)","v":0},{"$f":"IF(AZ8=3,G8,0)","v":0},{"$f":"IF(AZ8=4,G8,0)","v":0},{"$f":"IF(AZ8=5,G8,0)","v":0},null,null,null,null,null,null,null,null,null,null,null,null,null,null,null,null,null,null,null,null,null,1,1]
[null,null,"Včetně případných nutných dokopávek a ručního výkopu podél sousedících inženýrských sítí.",null,null,null,null,null,null,null,null,"Včetně případných nutných dokopávek a ručního výkopu podél sousedících inženýrských sítí.",null,null,3]
[null,null,"Součástí položky je i dočasné zajištění stávajících inženýrských sítí v prostoru výkopů (potrubí, kabely a pod.)",null,null,null,null,null,null,null,null,"Součástí položky je i dočasné zajištění stávajících inženýrských sítí v prostoru výkopů (potrubí, kabely a pod.)",null,null,3]
[null,null,"Vodovodní řady \"S1 a S2\" PE D 90x8,2 mm:",null,0,null,null,null,null,null,null,null,"Vodovodní řady \"S1 a S2\" PE D 90x8,2 mm:"]
[null,null,"Výkopy :",null,0,null,null,null,null,null,null,null,"Výkopy :"]
[null,null,"V hornině tř. 3 - 4 - 32%:142,4000*0,32",null,45.567999999999998,null,null,null,null,null,null,null,"V hornině tř. 3 - 4 - 32%:142,4000*0,32"]
[2,"132201212R00","Hloubení rýh š.do 200 cm hor.3 do 1000m3,STROJNĚ ","m3",71.2,null,{"$f":"E14*F14","v":0},0,{"$f":"E14*H14","v":0},0,{"$f":"E14*J14","v":0},null,null,null,2,null,null,null,null,null,null,null,null,null,null,null,1,1,1,null,null,null,null,null,null,null,null,null,null,null,null,null,null,null,null,null,null,null,null,null,null,1,{"$f":"IF(AZ14=1,G14,0)","v":0},{"$f":"IF(AZ14=2,G14,0)","v":0},{"$f":"IF(AZ14=3,G14,0)","v":0},{"$f":"IF(AZ14=4,G14,0)","v":0},{"$f":"IF(AZ14=5,G14,0)","v":0},null,null,null,null,null,null,null,null,null,null,null,null,null,null,null,null,null,null,null,null,null,1,1]
[null,null,"Položka obsahuje hloubení rýh traktorbagrem, naložení výkopku na dopravní prostředek pro svislé, nebo vodorovné přemístění, popř. přemístění výkopku do 3 m (po povrchu území), případné zajištění rypadel polštáři, udržování pracoviště a ochranu výkopiště proti stékání srážkové vody z okolního terénu i s jejím odvodněním, nebo odvedením, přesekání a odstranění kořenů ve výkopišti, odstranění napadávek, urovnání dna výkopu.",null,null,null,null,null,null,null,null,"Položka obsahuje hloubení rýh traktorbagrem, naložení výkopku na dopravní prostředek pro svislé, nebo vodorovné přemístění, popř. přemístění výkopku do 3 m (po povrchu území), případné zajištění rypadel polštáři, udržování pracoviště a ochranu výkopiště proti stékání srážkové vody z okolního terénu i s jejím odvodněním, nebo odvedením, přesekání a odstranění kořenů ve výkopišti, odstranění napadávek, urovnání dna výkopu.",null,null,3]
[null,null,"Vodovodní řady \"S1 a S2\" PE D 90x8,2 mm:",null,0,null,null,null,null,null,null,null,"Vodovodní řady \"S1 a S2\" PE D 90x8,2 mm:"]
[null,null,"Výkopy :",null,0,null,null,null,null,null,null,null,"Výkopy :"]
[null,null,"Začátek provozního součtu",null,0,null,null,null,null,null,null,null,"Začátek provozního součtu"]
[null,null,"Průměrná hloubka výkopů od nivelety stávající komunikace 1,60 m:",null,0,null,null,null,null,null,null,null,"Průměrná hloubka výkopů od nivelety stávající komunikace 1,60 m:"]
[null,null,"Řad \"S1\":111,00*0,80*1,60",null,142.08000000000001,null,null,null,null,null,null,null,"Řad \"S1\":111,00*0,80*1,60"]
[null,null,"Průměrná hloubka výkopů od nivelety stávající komunikace 1,68 m:",null,0,null,null,null,null,null,null,null,"Průměrná hloubka výkopů od nivelety stávající komunikace 1,68 m:"]
[null,null,"Řad \"S2\":35,00*0,80*1,68",null,47.04,null,null,null,null,null,null,null,"Řad \"S2\":35,00*0,80*1,68"]
[null,null,"Odpočet objemu konstrukce komunikace a chodníků:",null,0,null,null,null,null,null,null,null,"Odpočet objemu konstrukce komunikace a chodníků:"]
[null,null,"Řad \"S1\":-111,00*0,80*0,40",null,-35.520000000000003,null,null,null,null,null,null,null,"Řad \"S1\":-111,00*0,80*0,40"]
[null,null,"Řad \"S2\":-35,00*0,80*0,40",null,-11.2,null,null,null,null,null,null,null,"Řad \"S2\":-35,00*0,80*0,40"]
[null,null,"Konec provozního součtu",null,142.4,null,null,null,null,null,null,null,"Konec provozního součtu"]
[null,null,"V hornině tř. 3 - 50%:142,4000*0,5",null,71.2,null,null,null,null,null,null,null,"V hornině tř. 3 - 50%:142,4000*0,5"]
[3,"132201219R00","Přípl.za lepivost,hloubení rýh 200cm,hor.3,STROJNĚ ","m3",35.6,null,{"$f":"E28*F28","v":0},0,{"$f":"E28*H28","v":0},0,{"$f":"E28*J28","v":0},null,null,null,2,null,null,null,null,null,null,null,null,null,null,null,1,1,1,null,null,null,null,null,null,null,null,null,null,null,null,null,null,null,null,null,null,null,null,null,null,1,{"$f":"IF(AZ28=1,G28,0)","v":0},{"$f":"IF(AZ28=2,G28,0)","v":0},{"$f":"IF(AZ28=3,G28,0)","v":0},{"$f":"IF(AZ28=4,G28,0)","v":0},{"$f":"IF(AZ28=5,G28,0)","v":0},null,null,null,null,null,null,null,null,null,null,null,null,null,null,null,null,null,null,null,null,null,1,1]
[null,null,"Vodovodní řady \"S1 a S2\" PE D 90x8,2 mm:",null,0,null,null,null,null,null,null,null,"Vodovodní řady \"S1 a S2\" PE D 90x8,2 mm:"]
[null,null,"Výkopy :",null,0,null,null,null,null,null,null,null,"Výkopy :"]
[null,null,"V hornině tř. 3 - 50%:142,4000*0,5*0,5",null,35.6,null,null,null,null,null,null,null,"V hornině tř. 3 - 50%:142,4000*0,5*0,5"]
[4,"132301212R00","Hloubení rýh š.do 200 cm hor.4 do 1000 m3, STROJNĚ ","m3",71.2,null,{"$f":"E32*F32","v":0},0,{"$f":"E32*H32","v":0},0,{"$f":"E32*J32","v":0},null,null,null,2,null,null,null,null,null,null,null,null,null,null,null,1,1,1,null,null,null,null,null,null,null,null,null,null,null,null,null,null,null,null,null,null,null,null,null,null,1,{"$f":"IF(AZ32=1,G32,0)","v":0},{"$f":"IF(AZ32=2,G32,0)","v":0},{"$f":"IF(AZ32=3,G32,0)","v":0},{"$f":"IF(AZ32=4,G32,0)","v":0},{"$f":"IF(AZ32=5,G32,0)","v":0},null,null,null,null,null,null,null,null,null,null,null,null,null,null,null,null,null,null,null,null,null,1,1]
[null,null,"Položka obsahuje hloubení rýh traktorbagrem, naložení výkopku na dopravní prostředek pro svislé, nebo vodorovné přemístění, popř. přemístění výkopku do 3 m (po povrchu území), případné zajištění rypadel polštáři, udržování pracoviště a ochranu výkopiště proti stékání srážkové vody z okolního terénu i s jejím odvodněním, nebo odvedením, přesekání a odstranění kořenů ve výkopišti, odstranění napadávek, urovnání dna výkopu.",null,null,null,null,null,null,null,null,"Položka obsahuje hloubení rýh traktorbagrem, naložení výkopku na dopravní prostředek pro svislé, nebo vodorovné přemístění, popř. přemístění výkopku do 3 m (po povrchu území), případné zajištění rypadel polštáři, udržování pracoviště a ochranu výkopiště proti stékání srážkové vody z okolního terénu i s jejím odvodněním, nebo odvedením, přesekání a odstranění kořenů ve výkopišti, odstranění napadávek, urovnání dna výkopu.",null,null,3]
[null,null,"Vodovodní řady \"S1 a S2\" PE D 90x8,2 mm:",null,0,null,null,null,null,null,null,null,"Vodovodní řady \"S1 a S2\" PE D 90x8,2 mm:"]
[null,null,"Výkopy :",null,0,null,null,null,null,null,null,null,"Výkopy :"]
[null,null,"V hornině tř. 4 - 50%:142,4000*0,5",null,71.2,null,null,null,null,null,null,null,"V hornině tř. 4 - 50%:142,4000*0,5"]
[5,"132301219R00","Přípl.za lepivost,hloubení rýh 200cm,hor.4,STROJNĚ ","m3",35.6,null,{"$f":"E37*F37","v":0},0,{"$f":"E37*H37","v":0},0,{"$f":"E37*J37","v":0},null,null,null,2,null,null,null,null,null,null,null,null,null,null,null,1,1,1,null,null,null,null,null,null,null,null,null,null,null,null,null,null,null,null,null,null,null,null,null,null,1,{"$f":"IF(AZ37=1,G37,0)","v":0},{"$f":"IF(AZ37=2,G37,0)","v":0},{"$f":"IF(AZ37=3,G37,0)","v":0},{"$f":"IF(AZ37=4,G37,0)","v":0},{"$f":"IF(AZ37=5,G37,0)","v":0},null,null,null,null,null,null,null,null,null,null,null,null,null,null,null,null,null,null,null,null,null,1,1]
[null,null,"Vodovodní řady \"S1 a S2\" PE D 90x8,2 mm:",null,0,null,null,null,null,null,null,null,"Vodovodní řady \"S1 a S2\" PE D 90x8,2 mm:"]
[null,null,"Výkopy :",null,0,null,null,null,null,null,null,null,"Výkopy :"]
[null,null,"V hornině tř. 4 - 50%:142,4000*0,5*0,5",null,35.6,null,null,null,null,null,null,null,"V hornině tř. 4 - 50%:142,4000*0,5*0,5"]
[6,"151101101R00","Pažení a rozepření stěn rýh - příložné - hl.do 2 m ","m2",472.8,null,{"$f":"E41*F41","v":0},9.8999999999999999E-4,{"$f":"E41*H41","v":0.46807199999999999},0,{"$f":"E41*J41","v":0},null,null,null,2,null,null,null,null,null,null,null,null,null,null,null,1,1,1,null,null,null,null,null,null,null,null,null,null,null,null,null,null,null,null,null,null,null,null,null,null,1,{"$f":"IF(AZ41=1,G41,0)","v":0},{"$f":"IF(AZ41=2,G41,0)","v":0},{"$f":"IF(AZ41=3,G41,0)","v":0},{"$f":"IF(AZ41=4,G41,0)","v":0},{"$f":"IF(AZ41=5,G41,0)","v":0},null,null,null,null,null,null,null,null,null,null,null,null,null,null,null,null,null,null,null,null,null,1,1]
[null,null,"Vodovodní řady \"S1 a S2\" PE D 90x8,2 mm:",null,0,null,null,null,null,null,null,null,"Vodovodní řady \"S1 a S2\" PE D 90x8,2 mm:"]
[null,null,"Výkopy :",null,0,null,null,null,null,null,null,null,"Výkopy :"]
[null,null,"Průměrná hloubka výkopů od nivelety stávající komunikace 1,60 m:",null,0,null,null,null,null,null,null,null,"Průměrná hloubka výkopů od nivelety stávající komunikace 1,60 m:"]
[null,null,"Řad \"S1\":111,00*1,60*2",null,355.2,null,null,null,null,null,null,null,"Řad \"S1\":111,00*1,60*2"]
[null,null,"Průměrná hloubka výkopů od nivelety stávající komunikace 1,68 m:",null,0,null,null,null,null,null,null,null,"Průměrná hloubka výkopů od nivelety stávající komunikace 1,68 m:"]
[null,null,"Řad \"S2\":35,00*1,68*2",null,117.6,null,null,null,null,null,null,null,"Řad \"S2\":35,00*1,68*2"]
[7,"151101111R00","Odstranění pažení stěn rýh - příložné - hl. do 2 m ","m2",472.8,null,{"$f":"E48*F48","v":0},0,{"$f":"E48*H48","v":0},0,{"$f":"E48*J48","v":0},null,null,null,2,null,null,null,null,null,null,null,null,null,null,null,1,1,1,null,null,null,null,null,null,null,null,null,null,null,null,null,null,null,null,null,null,null,null,null,null,1,{"$f":"IF(AZ48=1,G48,0)","v":0},{"$f":"IF(AZ48=2,G48,0)","v":0},{"$f":"IF(AZ48=3,G48,0)","v":0},{"$f":"IF(AZ48=4,G48,0)","v":0},{"$f":"IF(AZ48=5,G48,0)","v":0},null,null,null,null,null,null,null,null,null,null,null,null,null,null,null,null,null,null,null,null,null,1,1]
[null,null,"Vodovodní řady \"S1 a S2\" PE D 90x8,2 mm:",null,0,null,null,null,null,null,null,null,"Vodovodní řady \"S1 a S2\" PE D 90x8,2 mm:"]
[null,null,"Výkopy :",null,0,null,null,null,null,null,null,null,"Výkopy :"]
[null,null,"Průměrná hloubka výkopů od nivelety stávající komunikace 1,60 m:",null,0,null,null,null,null,null,null,null,"Průměrná hloubka výkopů od nivelety stávající komunikace 1,60 m:"]
[null,null,"Řad \"S1\":111,00*1,60*2",null,355.2,null,null,null,null,null,null,null,"Řad \"S1\":111,00*1,60*2"]
[null,null,"Průměrná hloubka výkopů od nivelety stávající komunikace 1,68 m:",null,0,null,null,null,null,null,null,null,"Průměrná hloubka výkopů od nivelety stávající komunikace 1,68 m:"]
[null,null,"Řad \"S2\":35,00*1,68*2",null,117.6,null,null,null,null,null,null,null,"Řad \"S2\":35,00*1,68*2"]
[8,"162701105RSZ","Vodorovné přemístění výkopku z hor.1-7 na skládku zhotovitele","m3",142.4,null,{"$f":"E55*F55","v":0},0,{"$f":"E55*H55","v":0},0,{"$f":"E55*J55","v":0},null,null,null,2,null,null,null,null,null,null,null,null,null,null,null,1,1,1,null,null,null,null,null,null,null,null,null,null,null,null,null,null,null,null,null,null,null,null,null,null,1,{"$f":"IF(AZ55=1,G55,0)","v":0},{"$f":"IF(AZ55=2,G55,0)","v":0},{"$f":"IF(AZ55=3,G55,0)","v":0},{"$f":"IF(AZ55=4,G55,0)","v":0},{"$f":"IF(AZ55=5,G55,0)","v":0},null,null,null,null,null,null,null,null,null,null,null,null,null,null,null,null,null,null,null,null,null,1,1]
[null,null,"Vodovodní řady \"S1 a S2\" PE D 90x8,2 mm:",null,0,null,null,null,null,null,null,null,"Vodovodní řady \"S1 a S2\" PE D 90x8,2 mm:"]
[null,null,"Výkopy :",null,0,null,null,null,null,null,null,null,"Výkopy :"]
[null,null,"V hornině tř. 3 - 4:142,4000",null,142.4,null,null,null,null,null,null,null,"V hornině tř. 3 - 4:142,4000"]
[9,"174101101R00","Zásyp jam, rýh, šachet se zhutněním ","m3",79.328000000000003,null,{"$f":"E59*F59","v":0},0,{"$f":"E59*H59","v":0},0,{"$f":"E59*J59","v":0},null,null,null,2,null,null,null,null,null,null,null,null,null,null,null,1,1,1,null,null,null,null,null,null,null,null,null,null,null,null,null,null,null,null,null,null,null,null,null,null,1,{"$f":"IF(AZ59=1,G59,0)","v":0},{"$f":"IF(AZ59=2,G59,0)","v":0},{"$f":"IF(AZ59=3,G59,0)","v":0},{"$f":"IF(AZ59=4,G59,0)","v":0},{"$f":"IF(AZ59=5,G59,0)","v":0},null,null,null,null,null,null,null,null,null,null,null,null,null,null,null,null,null,null,null,null,null,1,1]
[null,null,"Položka obsahuje strojní přemístění materiálu pro zásyp ze vzdálenosti do 10 m od okraje zásypu.",null,null,null,null,null,null,null,null,"Položka obsahuje strojní přemístění materiálu pro zásyp ze vzdálenosti do 10 m od okraje zásypu.",null,null,3]
[null,null,null,null,null,null,null,null,null,null,null,null,null,null,3]
[null,null,"Vodovodní řady \"S1 a S2\" PE D 90x8,2 mm:",null,0,null,null,null,null,null,null,null,"Vodovodní řady \"S1 a S2\" PE D 90x8,2 mm:"]
[null,null,"Zásyp ŠD fr. 0-63 mm:79,3280",null,79.328000000000003,null,null,null,null,null,null,null,"Zásyp ŠD fr. 0-63 mm:79,3280"]
[null,null,"Začátek provozního součtu",null,0,null,null,null,null,null,null,null,"Začátek provozního součtu"]
[null,null,"Výkopy:142,4000",null,142.4,null,null,null,null,null,null,null,"Výkopy:142,4000"]
[null,null,"Odpočet lože, potrubí a obsypů:",null,0,null,null,null,null,null,null,null,"Odpočet lože, potrubí a obsypů:"]
[null,null,"Řad \"S1\":-111,00*0,80*(0,15+0,09+0,30)",null,-47.951999999999998,null,null,null,null,null,null,null,"Řad \"S1\":-111,00*0,80*(0,15+0,09+0,30)"]
[null,null,"Řad \"S2\":-35,00*0,80*(0,15+0,09+0,30)",null,-15.12,null,null,null,null,null,null,null,"Řad \"S2\":-35,00*0,80*(0,15+0,09+0,30)"]
[null,null,"0",null,0,null,null,null,null,null,null,null,0]
[null,null,"Konec provozního součtu",null,79.328000000000003,null,null,null,null,null,null,null,"Konec provozního součtu"]
[10,"175101101R00","Obsyp potrubí bez prohození sypaniny ","m3",44.623199999999997,null,{"$f":"E71*F71","v":0},0,{"$f":"E71*H71","v":0},0,{"$f":"E71*J71","v":0},null,null,null,2,null,null,null,null,null,null,null,null,null,null,null,1,1,1,null,null,null,null,null,null,null,null,null,null,null,null,null,null,null,null,null,null,null,null,null,null,1,{"$f":"IF(AZ71=1,G71,0)","v":0},{"$f":"IF(AZ71=2,G71,0)","v":0},{"$f":"IF(AZ71=3,G71,0)","v":0},{"$f":"IF(AZ71=4,G71,0)","v":0},{"$f":"IF(AZ71=5,G71,0)","v":0},null,null,null,null,null,null,null,null,null,null,null,null,null,null,null,null,null,null,null,null,null,1,1]
[null,null,"Vodovodní řady \"S1 a S2\" PE D 90x8,2 mm:",null,0,null,null,null,null,null,null,null,"Vodovodní řady \"S1 a S2\" PE D 90x8,2 mm:"]
[null,null,"Řad \"S1\":111,00*(0,80*(0,09+0,30)-0,045^2*Pi)",null,33.925800000000002,null,null,null,null,null,null,null,"Řad \"S1\":111,00*(0,80*(0,09+0,30)-0,045^2*Pi)"]
[null,null,"Řad \"S2\":35,00*(0,80*(0,09+0,30)-0,045^2*Pi)",null,10.6973,null,null,null,null,null,null,null,"Řad \"S2\":35,00*(0,80*(0,09+0,30)-0,045^2*Pi)"]
[11,"199000002R00","Poplatek za skládku horniny 1- 7 č. dle katal. odpadů 17 05 04","m3",142.4,null,{"$f":"E75*F75","v":0},0,{"$f":"E75*H75","v":0},0,{"$f":"E75*J75","v":0},null,null,null,2,null,null,null,null,null,null,null,null,null,null,null,1,1,1,null,null,null,null,null,null,null,null,null,null,null,null,null,null,null,null,null,null,null,null,null,null,1,{"$f":"IF(AZ75=1,G75,0)","v":0},{"$f":"IF(AZ75=2,G75,0)","v":0},{"$f":"IF(AZ75=3,G75,0)","v":0},{"$f":"IF(AZ75=4,G75,0)","v":0},{"$f":"IF(AZ75=5,G75,0)","v":0},null,null,null,null,null,null,null,null,null,null,null,null,null,null,null,null,null,null,null,null,null,1,1]
[null,null,"Vodovodní řady \"S1 a S2\" PE D 90x8,2 mm:",null,0,null,null,null,null,null,null,null,"Vodovodní řady \"S1 a S2\" PE D 90x8,2 mm:"]
[null,null,"Výkopy :",null,0,null,null,null,null,null,null,null,"Výkopy :"]
[null,null,"V hornině tř. 3 - 4:142,4000",null,142.4,null,null,null,null,null,null,null,"V hornině tř. 3 - 4:142,4000"]
[12,"58337308.R","Štěrkopísek frakce 0-2 tř.B","t",88.921999999999997,null,{"$f":"E79*F79","v":0},1,{"$f":"E79*H79","v":88.921999999999997},null,{"$f":"E79*J79","v":0},null,null,null,2,null,null,null,null,null,null,null,null,null,null,null,3,1,"58337308.R",null,null,null,null,null,null,null,null,null,null,null,null,null,null,null,null,null,null,null,null,null,null,1,{"$f":"IF(AZ79=1,G79,0)","v":0},{"$f":"IF(AZ79=2,G79,0)","v":0},{"$f":"IF(AZ79=3,G79,0)","v":0},{"$f":"IF(AZ79=4,G79,0)","v":0},{"$f":"IF(AZ79=5,G79,0)","v":0},null,null,null,null,null,null,null,null,null,null,null,null,null,null,null,null,null,null,null,null,null,3,1]
[null,null,"Vodovodní řady \"S1 a S2\" PE D 90x8,2 mm:",null,0,null,null,null,null,null,null,null,"Vodovodní řady \"S1 a S2\" PE D 90x8,2 mm:"]
[null,null,"Řad \"S1\":111,00*(0,80*(0,09+0,30)-0,045^2*Pi)*1,973*1,01",null,67.605099999999993,null,null,null,null,null,null,null,"Řad \"S1\":111,00*(0,80*(0,09+0,30)-0,045^2*Pi)*1,973*1,01"]
[null,null,"Řad \"S2\":35,00*(0,80*(0,09+0,30)-0,045^2*Pi)*1,973*1,01",null,21.3169,null,null,null,null,null,null,null,"Řad \"S2\":35,00*(0,80*(0,09+0,30)-0,045^2*Pi)*1,973*1,01"]
[13,"58344197R","Štěrkodrtě frakce 0-63 A","t",150.06720000000001,null,{"$f":"E83*F83","v":0},1,{"$f":"E83*H83","v":150.06720000000001},null,{"$f":"E83*J83","v":0},null,null,null,2,null,null,null,null,null,null,null,null,null,null,null,3,1,"58344197R",null,null,null,null,null,null,null,null,null,null,null,null,null,null,null,null,null,null,null,null,null,null,1,{"$f":"IF(AZ83=1,G83,0)","v":0},{"$f":"IF(AZ83=2,G83,0)","v":0},{"$f":"IF(AZ83=3,G83,0)","v":0},{"$f":"IF(AZ83=4,G83,0)","v":0},{"$f":"IF(AZ83=5,G83,0)","v":0},null,null,null,null,null,null,null,null,null,null,null,null,null,null,null,null,null,null,null,null,null,3,1]
[null,null,"Vodovodní řady \"S1 a S2\" PE D 90x8,2 mm:",null,0,null,null,null,null,null,null,null,"Vodovodní řady \"S1 a S2\" PE D 90x8,2 mm:"]
[null,null,"Zásyp ŠD fr. 0-63 mm:79,3280*1,873*1,01",null,150.06720000000001,null,null,null,null,null,null,null,"Zásyp ŠD fr. 0-63 mm:79,3280*1,873*1,01"]
[null,"Celkem za","1 Zemní práce",null,null,null,{"$f":"SUM(G7:G85)","v":0},null,{"$f":"SUM(I7:I85)","v":239.45727200000002},null,{"$f":"SUM(K7:K85)","v":0},null,null,null,4,null,null,null,null,null,null,null,null,null,null,null,null,null,null,null,null,null,null,null,null,null,null,null,null,null,null,null,null,null,null,null,null,null,null,null,null,null,{"$f":"SUM(BA7:BA85)","v":0},{"$f":"SUM(BB7:BB85)","v":0},{"$f":"SUM(BC7:BC85)","v":0},{"$f":"SUM(BD7:BD85)","v":0},{"$f":"SUM(BE7:BE85)","v":0}]
["Díl:","21","Úprava podloží a základ.spáry",null,null,null,null,null,null,null,null,null,null,null,1]
[14,"215901101RT5","Zhutnění podloží do 92% PS vibrační deskou","m2",116.8,null,{"$f":"E88*F88","v":0},0,{"$f":"E88*H88","v":0},0,{"$f":"E88*J88","v":0},null,null,null,2,null,null,null,null,null,null,null,null,null,null,null,1,1,1,null,null,null,null,null,null,null,null,null,null,null,null,null,null,null,null,null,null,null,null,null,null,1,{"$f":"IF(AZ88=1,G88,0)","v":0},{"$f":"IF(AZ88=2,G88,0)","v":0},{"$f":"IF(AZ88=3,G88,0)","v":0},{"$f":"IF(AZ88=4,G88,0)","v":0},{"$f":"IF(AZ88=5,G88,0)","v":0},null,null,null,null,null,null,null,null,null,null,null,null,null,null,null,null,null,null,null,null,null,1,1]
[null,null,"Vodovodní řady \"S1 a S2\" PE D 90x8,2 mm:",null,0,null,null,null,null,null,null,null,"Vodovodní řady \"S1 a S2\" PE D 90x8,2 mm:"]
[null,null,"Výkopy :",null,0,null,null,null,null,null,null,null,"Výkopy :"]
[null,null,"Řad \"S1\":111,00*0,80",null,88.8,null,null,null,null,null,null,null,"Řad \"S1\":111,00*0,80"]
[null,null,"Řad \"S2\":35,00*0,80",null,28,null,null,null,null,null,null,null,"Řad \"S2\":35,00*0,80"]
[null,"Celkem za","21 Úprava podloží a základ.spáry",null,null,null,{"$f":"SUM(G87:G92)","v":0},null,{"$f":"SUM(I87:I92)","v":0},null,{"$f":"SUM(K87:K92)","v":0},null,null,null,4,null,null,null,null,null,null,null,null,null,null,null,null,null,null,null,null,null,null,null,null,null,null,null,null,null,null,null,null,null,null,null,null,null,null,null,null,null,{"$f":"SUM(BA87:BA92)","v":0},{"$f":"SUM(BB87:BB92)","v":0},{"$f":"SUM(BC87:BC92)","v":0},{"$f":"SUM(BD87:BD92)","v":0},{"$f":"SUM(BE87:BE92)","v":0}]
["Díl:","45","Podkladní a vedlejší konstrukce",null,null,null,null,null,null,null,null,null,null,null,1]
[15,"451572111R00","Lože pod potrubí z kameniva těženého 0 - 4 mm ","m3",17.52,null,{"$f":"E95*F95","v":0},0.43051,{"$f":"E95*H95","v":7.5425351999999997},0,{"$f":"E95*J95","v":0},null,null,null,2,null,null,null,null,null,null,null,null,null,null,null,1,1,1,null,null,null,null,null,null,null,null,null,null,null,null,null,null,null,null,null,null,null,null,null,null,1,{"$f":"IF(AZ95=1,G95,0)","v":0},{"$f":"IF(AZ95=2,G95,0)","v":0},{"$f":"IF(AZ95=3,G95,0)","v":0},{"$f":"IF(AZ95=4,G95,0)","v":0},{"$f":"IF(AZ95=5,G95,0)","v":0},null,null,null,null,null,null,null,null,null,null,null,null,null,null,null,null,null,null,null,null,null,1,1]
[null,null,"Vodovodní řady \"S1 a S2\" PE D 90x8,2 mm:",null,0,null,null,null,null,null,null,null,"Vodovodní řady \"S1 a S2\" PE D 90x8,2 mm:"]
[null,null,"Řad \"S1\":111,00*0,80*0,15",null,13.32,null,null,null,null,null,null,null,"Řad \"S1\":111,00*0,80*0,15"]
[null,null,"Řad \"S2\":35,00*0,80*0,15",null,4.2,null,null,null,null,null,null,null,"Řad \"S2\":35,00*0,80*0,15"]
[16,"452313141R00","Bloky pro potrubí z betonu C 16/20 vč. bednění ","m3",0.29199999999999998,null,{"$f":"E99*F99","v":0},2.5,{"$f":"E99*H99","v":0.73},0,{"$f":"E99*J99","v":0},null,null,null,2,null,null,null,null,null,null,null,null,null,null,null,1,1,1,null,null,null,null,null,null,null,null,null,null,null,null,null,null,null,null,null,null,null,null,null,null,1,{"$f":"IF(AZ99=1,G99,0)","v":0},{"$f":"IF(AZ99=2,G99,0)","v":0},{"$f":"IF(AZ99=3,G99,0)","v":0},{"$f":"IF(AZ99=4,G99,0)","v":0},{"$f":"IF(AZ99=5,G99,0)","v":0},null,null,null,null,null,null,null,null,null,null,null,null,null,null,null,null,null,null,null,null,null,1,1]
[null,"Celkem za","45 Podkladní a vedlejší konstrukce",null,null,null,{"$f":"SUM(G94:G99)","v":0},null,{"$f":"SUM(I94:I99)","v":8.2725352000000001},null,{"$f":"SUM(K94:K99)","v":0},null,null,null,4,null,null,null,null,null,null,null,null,null,null,null,null,null,null,null,null,null,null,null,null,null,null,null,null,null,null,null,null,null,null,null,null,null,null,null,null,null,{"$f":"SUM(BA94:BA99)","v":0},{"$f":"SUM(BB94:BB99)","v":0},{"$f":"SUM(BC94:BC99)","v":0},{"$f":"SUM(BD94:BD99)","v":0},{"$f":"SUM(BE94:BE99)","v":0}]
["Díl:","5","Komunikace",null,null,null,null,null,null,null,null,null,null,null,1]
[17,"572701119RRX","Provizorní zásyp rýh kam. hrubě drceným nebo recyk s následným odstraněním a odvozem","m3",46.72,null,{"$f":"E102*F102","v":0},1.4804999999999999,{"$f":"E102*H102","v":69.168959999999998},0,{"$f":"E102*J102","v":0},null,null,null,2,null,null,null,null,null,null,null,null,null,null,null,1,1,1,null,null,null,null,null,null,null,null,null,null,null,null,null,null,null,null,null,null,null,null,null,null,1,{"$f":"IF(AZ102=1,G102,0)","v":0},{"$f":"IF(AZ102=2,G102,0)","v":0},{"$f":"IF(AZ102=3,G102,0)","v":0},{"$f":"IF(AZ102=4,G102,0)","v":0},{"$f":"IF(AZ102=5,G102,0)","v":0},null,null,null,null,null,null,null,null,null,null,null,null,null,null,null,null,null,null,null,null,null,1,1]
[null,null,"Vodovodní řady \"S1 a S2\" PE D 90x8,2 mm:",null,0,null,null,null,null,null,null,null,"Vodovodní řady \"S1 a S2\" PE D 90x8,2 mm:"]
[null,null,"Provizorní zásypy stávající konstrukce komunikace a chodníků:",null,0,null,null,null,null,null,null,null,"Provizorní zásypy stávající konstrukce komunikace a chodníků:"]
[null,null,"Řad \"S1\":111,00*0,80*0,40",null,35.520000000000003,null,null,null,null,null,null,null,"Řad \"S1\":111,00*0,80*0,40"]
[null,null,"Řad \"S2\":35,00*0,80*0,40",null,11.2,null,null,null,null,null,null,null,"Řad \"S2\":35,00*0,80*0,40"]
[null,"Celkem za","5 Komunikace",null,null,null,{"$f":"SUM(G101:G106)","v":0},null,{"$f":"SUM(I101:I106)","v":69.168959999999998},null,{"$f":"SUM(K101:K106)","v":0},null,null,null,4,null,null,null,null,null,null,null,null,null,null,null,null,null,null,null,null,null,null,null,null,null,null,null,null,null,null,null,null,null,null,null,null,null,null,null,null,null,{"$f":"SUM(BA101:BA106)","v":0},{"$f":"SUM(BB101:BB106)","v":0},{"$f":"SUM(BC101:BC106)","v":0},{"$f":"SUM(BD101:BD106)","v":0},{"$f":"SUM(BE101:BE106)","v":0}]
["Díl:","8","Trubní vedení",null,null,null,null,null,null,null,null,null,null,null,1]
[18,"850245121R00","Výřez nebo výsek na potrubí DN 80 ","kus",1,null,{"$f":"E109*F109","v":0},0,{"$f":"E109*H109","v":0},0,{"$f":"E109*J109","v":0},null,null,null,2,null,null,null,null,null,null,null,null,null,null,null,1,1,1,null,null,null,null,null,null,null,null,null,null,null,null,null,null,null,null,null,null,null,null,null,null,1,{"$f":"IF(AZ109=1,G109,0)","v":0},{"$f":"IF(AZ109=2,G109,0)","v":0},{"$f":"IF(AZ109=3,G109,0)","v":0},{"$f":"IF(AZ109=4,G109,0)","v":0},{"$f":"IF(AZ109=5,G109,0)","v":0},null,null,null,null,null,null,null,null,null,null,null,null,null,null,null,null,null,null,null,null,null,1,1]
[null,null,"Položky výřezu nebo výseku na potrubí z trub litinových tlakových jsou určeny pro dva řezy nebo seky prováděné na potrubí dodatečně. V položkách jsou zakalkulovány náklady na",null,null,null,null,null,null,null,null,"Položky výřezu nebo výseku na potrubí z trub litinových tlakových jsou určeny pro dva řezy nebo seky prováděné na potrubí dodatečně. V položkách jsou zakalkulovány náklady na",null,null,3]
[null,null,"- ohlášení uzavírání vody",null,null,null,null,null,null,null,null,"- ohlášení uzavírání vody",null,null,3]
[null,null,"- uzavření a otevření šoupat",null,null,null,null,null,null,null,null,"- uzavření a otevření šoupat",null,null,3]
[null,null,"- vypuštění a napuštění vody",null,null,null,null,null,null,null,null,"- vypuštění a napuštění vody",null,null,3]
[null,null,"- odvzdušnění potrubí",null,null,null,null,null,null,null,null,"- odvzdušnění potrubí",null,null,3]
[null,null,"- strojní nebo ruční výřez potrubí",null,null,null,null,null,null,null,null,"- strojní nebo ruční výřez potrubí",null,null,3]
[null,null,"- nutné úpravy výkopu v prostoru provádění",null,null,null,null,null,null,null,null,"- nutné úpravy výkopu v prostoru provádění",null,null,3]
[null,null,"- demonzáž stávajícich tvarovek a armatur",null,null,null,null,null,null,null,null,"- demonzáž stávajícich tvarovek a armatur",null,null,3]
[null,null,"- montáž tvarovky",null,null,null,null,null,null,null,null,"- montáž tvarovky",null,null,3]
[null,null,"Vodovodní řady \"S1 a S2\" PE D 90x8,2 mm:",null,0,null,null,null,null,null,null,null,"Vodovodní řady \"S1 a S2\" PE D 90x8,2 mm:"]
[null,null,"Přerušení stáv. potrubí DN80:1",null,1,null,null,null,null,null,null,null,"Přerušení stáv. potrubí DN80:1"]
[19,"857242121R00","Montáž tvarovek litin. jednoos.přír. výkop DN 80 včetně nerezových spoj. prvků a obandážování spoje","kus",8,null,{"$f":"E121*F121","v":0},2.2000000000000001E-4,{"$f":"E121*H121","v":1.7600000000000001E-3},0,{"$f":"E121*J121","v":0},null,null,null,2,null,null,null,null,null,null,null,null,null,null,null,1,1,1,null,null,null,null,null,null,null,null,null,null,null,null,null,null,null,null,null,null,null,null,null,null,1,{"$f":"IF(AZ121=1,G121,0)","v":0},{"$f":"IF(AZ121=2,G121,0)","v":0},{"$f":"IF(AZ121=3,G121,0)","v":0},{"$f":"IF(AZ121=4,G121,0)","v":0},{"$f":"IF(AZ121=5,G121,0)","v":0},null,null,null,null,null,null,null,null,null,null,null,null,null,null,null,null,null,null,null,null,null,1,1]
[null,null,"Položka je určena pro montáž litinových tvarovek na potrubí litinovém tlakovém přírubovém jednoosých v otevřeném výkopu, v otevřeném kanálu nebo v šachtě.",null,null,null,null,null,null,null,null,"Položka je určena pro montáž litinových tvarovek na potrubí litinovém tlakovém přírubovém jednoosých v otevřeném výkopu, v otevřeném kanálu nebo v šachtě.",null,null,3]
[null,null,"Součástí položky je i dodávka nerezových spojovacích prvků (šrouby, podložky, matky) a kompletního obandážování spojů. ",null,null,null,null,null,null,null,null,"Součástí položky je i dodávka nerezových spojovacích prvků (šrouby, podložky, matky) a kompletního obandážování spojů. ",null,null,3]
[null,null,"Vodovodní řady \"S1 a S2\" PE D 90x8,2 mm:",null,0,null,null,null,null,null,null,null,"Vodovodní řady \"S1 a S2\" PE D 90x8,2 mm:"]
[null,null,"LN + TP D90/DN80:6",null,6,null,null,null,null,null,null,null,"LN + TP D90/DN80:6"]
[null,null,"PPL DN80:2",null,2,null,null,null,null,null,null,null,"PPL DN80:2"]
[20,"857244121R00","Montáž tvarovek litin. odboč. přír. výkop DN 80 včetně nerezových spoj. prvků a obandážování spoje","kus",1,null,{"$f":"E127*F127","v":0},3.2000000000000003E-4,{"$f":"E127*H127","v":3.2000000000000003E-4},0,{"$f":"E127*J127","v":0},null,null,null,2,null,null,null,null,null,null,null,null,null,null,null,1,1,1,null,null,null,null,null,null,null,null,null,null,null,null,null,null,null,null,null,null,null,null,null,null,1,{"$f":"IF(AZ127=1,G127,0)","v":0},{"$f":"IF(AZ127=2,G127,0)","v":0},{"$f":"IF(AZ127=3,G127,0)","v":0},{"$f":"IF(AZ127=4,G127,0)","v":0},{"$f":"IF(AZ127=5,G127,0)","v":0},null,null,null,null,null,null,null,null,null,null,null,null,null,null,null,null,null,null,null,null,null,1,1]
[null,null,"Položka je určena pro montáž litinových tvarovek na potrubí litinovém tlakovém přírubovém, odbočných, v otevřeném výkopu, v otevřeném kanálu nebo v šachtě.",null,null,null,null,null,null,null,null,"Položka je určena pro montáž litinových tvarovek na potrubí litinovém tlakovém přírubovém, odbočných, v otevřeném výkopu, v otevřeném kanálu nebo v šachtě.",null,null,3]
[null,null,"Součástí položky je i dodávka nerezových spojovacích prvků (šrouby, podložky, matky) a kompletního obandážování spojů. ",null,null,null,null,null,null,null,null,"Součástí položky je i dodávka nerezových spojovacích prvků (šrouby, podložky, matky) a kompletního obandážování spojů. ",null,null,3]
[null,null,"Vodovodní řady \"S1 a S2\" PE D 90x8,2 mm:",null,0,null,null,null,null,null,null,null,"Vodovodní řady \"S1 a S2\" PE D 90x8,2 mm:"]
[null,null,"T DN80/80:1",null,1,null,null,null,null,null,null,null,"T DN80/80:1"]
[21,"871241121R00","Montáž potrubí polyetylenového ve výkopu d 90 mm ","m",146,null,{"$f":"E132*F132","v":0},0,{"$f":"E132*H132","v":0},0,{"$f":"E132*J132","v":0},null,null,null,2,null,null,null,null,null,null,null,null,null,null,null,1,1,1,null,null,null,null,null,null,null,null,null,null,null,null,null,null,null,null,null,null,null,null,null,null,1,{"$f":"IF(AZ132=1,G132,0)","v":0},{"$f":"IF(AZ132=2,G132,0)","v":0},{"$f":"IF(AZ132=3,G132,0)","v":0},{"$f":"IF(AZ132=4,G132,0)","v":0},{"$f":"IF(AZ132=5,G132,0)","v":0},null,null,null,null,null,null,null,null,null,null,null,null,null,null,null,null,null,null,null,null,null,1,1]
[null,null,"V položce je uvažováno s jedním spojem na 6 m potrubí. ",null,null,null,null,null,null,null,null,"V položce je uvažováno s jedním spojem na 6 m potrubí. ",null,null,3]
[null,null,"Vodovodní řady \"S1 a S2\" PE D 90x8,2 mm:",null,0,null,null,null,null,null,null,null,"Vodovodní řady \"S1 a S2\" PE D 90x8,2 mm:"]
[null,null,"Řad \"S1\":111,00",null,111,null,null,null,null,null,null,null,"Řad \"S1\":111,00"]
[null,null,"Řad \"S2\":35,00",null,35,null,null,null,null,null,null,null,"Řad \"S2\":35,00"]
[22,"877242121R00","Přirážka za 1 spoj elektrotvarovky d 90 mm ","kus",29,null,{"$f":"E137*F137","v":0},0,{"$f":"E137*H137","v":0},0,{"$f":"E137*J137","v":0},null,null,null,2,null,null,null,null,null,null,null,null,null,null,null,1,1,1,null,null,null,null,null,null,null,null,null,null,null,null,null,null,null,null,null,null,null,null,null,null,1,{"$f":"IF(AZ137=1,G137,0)","v":0},{"$f":"IF(AZ137=2,G137,0)","v":0},{"$f":"IF(AZ137=3,G137,0)","v":0},{"$f":"IF(AZ137=4,G137,0)","v":0},{"$f":"IF(AZ137=5,G137,0)","v":0},null,null,null,null,null,null,null,null,null,null,null,null,null,null,null,null,null,null,null,null,null,1,1]
[null,null,"Vodovodní řady \"S1 a S2\" PE D 90x8,2 mm:",null,0,null,null,null,null,null,null,null,"Vodovodní řady \"S1 a S2\" PE D 90x8,2 mm:"]
[null,null,"Elektrospojka PE D90:26",null,26,null,null,null,null,null,null,null,"Elektrospojka PE D90:26"]
[null,null,"Oblouk PE D90/30°:1",null,1,null,null,null,null,null,null,null,"Oblouk PE D90/30°:1"]
[null,null,"Oblouk PE D90/11°:2",null,2,null,null,null,null,null,null,null,"Oblouk PE D90/11°:2"]
[23,"891241111R00","Montáž vodovodních šoupátek ve výkopu DN 80 včetně nerezových spoj. prvků a obandážování spoje","kus",3,null,{"$f":"E142*F142","v":0},2.2000000000000001E-4,{"$f":"E142*H142","v":6.6E-4},0,{"$f":"E142*J142","v":0},null,null,null,2,null,null,null,null,null,null,null,null,null,null,null,1,1,1,null,null,null,null,null,null,null,null,null,null,null,null,null,null,null,null,null,null,null,null,null,null,1,{"$f":"IF(AZ142=1,G142,0)","v":0},{"$f":"IF(AZ142=2,G142,0)","v":0},{"$f":"IF(AZ142=3,G142,0)","v":0},{"$f":"IF(AZ142=4,G142,0)","v":0},{"$f":"IF(AZ142=5,G142,0)","v":0},null,null,null,null,null,null,null,null,null,null,null,null,null,null,null,null,null,null,null,null,null,1,1]
[null,null,"Položka je určena pro montáž vodovodních šoupátek v otevřeném výkopu nebo v šachtách s osazením zemní soupravy (bez poklopů). V položce jsou zakalkulovány i náklady na vytvoření otvorů ve stropech šachet pro prostup zemních souprav šoupátek.",null,null,null,null,null,null,null,null,"Položka je určena pro montáž vodovodních šoupátek v otevřeném výkopu nebo v šachtách s osazením zemní soupravy (bez poklopů). V položce jsou zakalkulovány i náklady na vytvoření otvorů ve stropech šachet pro prostup zemních souprav šoupátek.",null,null,3]
[null,null,"Součástí položky je i dodávka nerezových spojovacích prvků (šrouby, podložky, matky) a kompletního obandážování spojů. ",null,null,null,null,null,null,null,null,"Součástí položky je i dodávka nerezových spojovacích prvků (šrouby, podložky, matky) a kompletního obandážování spojů. ",null,null,3]
[null,null,"Vodovodní řady \"S1 a S2\" PE D 90x8,2 mm:",null,0,null,null,null,null,null,null,null,"Vodovodní řady \"S1 a S2\" PE D 90x8,2 mm:"]
[null,null,"Šoupě DN80:3",null,3,null,null,null,null,null,null,null,"Šoupě DN80:3"]
[24,"891247111R00","Montáž hydrantů podzemních DN 80 včetně nerezových spoj. prvků a obandážování spoje","kus",2,null,{"$f":"E147*F147","v":0},1.1E-4,{"$f":"E147*H147","v":2.2000000000000001E-4},0,{"$f":"E147*J147","v":0},null,null,null,2,null,null,null,null,null,null,null,null,null,null,null,1,1,1,null,null,null,null,null,null,null,null,null,null,null,null,null,null,null,null,null,null,null,null,null,null,1,{"$f":"IF(AZ147=1,G147,0)","v":0},{"$f":"IF(AZ147=2,G147,0)","v":0},{"$f":"IF(AZ147=3,G147,0)","v":0},{"$f":"IF(AZ147=4,G147,0)","v":0},{"$f":"IF(AZ147=5,G147,0)","v":0},null,null,null,null,null,null,null,null,null,null,null,null,null,null,null,null,null,null,null,null,null,1,1]
[null,null,"Položka je určena pro montáž hydrantů podzemních (bez osazení poklopů) na potrubí.",null,null,null,null,null,null,null,null,"Položka je určena pro montáž hydrantů podzemních (bez osazení poklopů) na potrubí.",null,null,3]
[null,null,"Součástí položky je i dodávka nerezových spojovacích prvků (šrouby, podložky, matky) a kompletního obandážování spojů. ",null,null,null,null,null,null,null,null,"Součástí položky je i dodávka nerezových spojovacích prvků (šrouby, podložky, matky) a kompletního obandážování spojů. ",null,null,3]
[null,null,"Vodovodní řady \"S1 a S2\" PE D 90x8,2 mm:",null,0,null,null,null,null,null,null,null,"Vodovodní řady \"S1 a S2\" PE D 90x8,2 mm:"]
[null,null,"Hp DN80/1,5:2",null,2,null,null,null,null,null,null,null,"Hp DN80/1,5:2"]
[25,"891249111R00","Montáž navrtávacích pasů DN 80 s ventilem ","kus",10,null,{"$f":"E152*F152","v":0},0,{"$f":"E152*H152","v":0},0,{"$f":"E152*J152","v":0},null,null,null,2,null,null,null,null,null,null,null,null,null,null,null,1,1,1,null,null,null,null,null,null,null,null,null,null,null,null,null,null,null,null,null,null,null,null,null,null,1,{"$f":"IF(AZ152=1,G152,0)","v":0},{"$f":"IF(AZ152=2,G152,0)","v":0},{"$f":"IF(AZ152=3,G152,0)","v":0},{"$f":"IF(AZ152=4,G152,0)","v":0},{"$f":"IF(AZ152=5,G152,0)","v":0},null,null,null,null,null,null,null,null,null,null,null,null,null,null,null,null,null,null,null,null,null,1,1]
[null,null,"Vodovodní řady \"S1 a S2\" PE D 90x8,2 mm:",null,0,null,null,null,null,null,null,null,"Vodovodní řady \"S1 a S2\" PE D 90x8,2 mm:"]
[null,null,"Pro VP - NP D90/32:10",null,10,null,null,null,null,null,null,null,"Pro VP - NP D90/32:10"]
[26,"892241111R00","Tlaková zkouška vodovodního potrubí DN 80 včetně zajištění konců potrubí","m",146,null,{"$f":"E155*F155","v":0},0,{"$f":"E155*H155","v":0},0,{"$f":"E155*J155","v":0},null,null,null,2,null,null,null,null,null,null,null,null,null,null,null,1,1,1,null,null,null,null,null,null,null,null,null,null,null,null,null,null,null,null,null,null,null,null,null,null,1,{"$f":"IF(AZ155=1,G155,0)","v":0},{"$f":"IF(AZ155=2,G155,0)","v":0},{"$f":"IF(AZ155=3,G155,0)","v":0},{"$f":"IF(AZ155=4,G155,0)","v":0},{"$f":"IF(AZ155=5,G155,0)","v":0},null,null,null,null,null,null,null,null,null,null,null,null,null,null,null,null,null,null,null,null,null,1,1]
[null,null,"V položce jsou započteny náklady na přísun, montáž, demontáž a odsun zkoušecího čerpadla, napuštění tlakovou vodou a dodání vody pro tlakovou zkoušku",null,null,null,null,null,null,null,null,"V položce jsou započteny náklady na přísun, montáž, demontáž a odsun zkoušecího čerpadla, napuštění tlakovou vodou a dodání vody pro tlakovou zkoušku",null,null,3]
[null,null,"Vodovodní řady \"S1 a S2\" PE D 90x8,2 mm:",null,0,null,null,null,null,null,null,null,"Vodovodní řady \"S1 a S2\" PE D 90x8,2 mm:"]
[null,null,"Řad \"S1\":111,00",null,111,null,null,null,null,null,null,null,"Řad \"S1\":111,00"]
[null,null,"Řad \"S2\":35,00",null,35,null,null,null,null,null,null,null,"Řad \"S2\":35,00"]
[27,"892273111R00","Desinfekce vodovodního potrubí DN 125 ","m",146,null,{"$f":"E160*F160","v":0},0,{"$f":"E160*H160","v":0},0,{"$f":"E160*J160","v":0},null,null,null,2,null,null,null,null,null,null,null,null,null,null,null,1,1,1,null,null,null,null,null,null,null,null,null,null,null,null,null,null,null,null,null,null,null,null,null,null,1,{"$f":"IF(AZ160=1,G160,0)","v":0},{"$f":"IF(AZ160=2,G160,0)","v":0},{"$f":"IF(AZ160=3,G160,0)","v":0},{"$f":"IF(AZ160=4,G160,0)","v":0},{"$f":"IF(AZ160=5,G160,0)","v":0},null,null,null,null,null,null,null,null,null,null,null,null,null,null,null,null,null,null,null,null,null,1,1]
[null,null,"V položce jsou zakalkulovány náklady na napuštění a vypuštění vody, dodání vody a desinfekčního prostředku a na bakteriologický rozbor vody.",null,null,null,null,null,null,null,null,"V položce jsou zakalkulovány náklady na napuštění a vypuštění vody, dodání vody a desinfekčního prostředku a na bakteriologický rozbor vody.",null,null,3]
[null,null,"Vodovodní řady \"S1 a S2\" PE D 90x8,2 mm:",null,0,null,null,null,null,null,null,null,"Vodovodní řady \"S1 a S2\" PE D 90x8,2 mm:"]
[null,null,"Řad \"S1\":111,00",null,111,null,null,null,null,null,null,null,"Řad \"S1\":111,00"]
[null,null,"Řad \"S2\":35,00",null,35,null,null,null,null,null,null,null,"Řad \"S2\":35,00"]
[28,"899401111R00","Osazení poklopů litinových ventilových ","kus",3,null,{"$f":"E165*F165","v":0},6.3829999999999998E-2,{"$f":"E165*H165","v":0.19148999999999999},0,{"$f":"E165*J165","v":0},null,null,null,2,null,null,null,null,null,null,null,null,null,null,null,1,1,1,null,null,null,null,null,null,null,null,null,null,null,null,null,null,null,null,null,null,null,null,null,null,1,{"$f":"IF(AZ165=1,G165,0)","v":0},{"$f":"IF(AZ165=2,G165,0)","v":0},{"$f":"IF(AZ165=3,G165,0)","v":0},{"$f":"IF(AZ165=4,G165,0)","v":0},{"$f":"IF(AZ165=5,G165,0)","v":0},null,null,null,null,null,null,null,null,null,null,null,null,null,null,null,null,null,null,null,null,null,1,1]
[null,null,"Vodovodní řady \"S1 a S2\" PE D 90x8,2 mm:",null,0,null,null,null,null,null,null,null,"Vodovodní řady \"S1 a S2\" PE D 90x8,2 mm:"]
[null,null,"Pro VP:3",null,3,null,null,null,null,null,null,null,"Pro VP:3"]
[29,"899401112R00","Osazení poklopů litinových šoupátkových ","kus",1,null,{"$f":"E168*F168","v":0},0.12303,{"$f":"E168*H168","v":0.12303},0,{"$f":"E168*J168","v":0},null,null,null,2,null,null,null,null,null,null,null,null,null,null,null,1,1,1,null,null,null,null,null,null,null,null,null,null,null,null,null,null,null,null,null,null,null,null,null,null,1,{"$f":"IF(AZ168=1,G168,0)","v":0},{"$f":"IF(AZ168=2,G168,0)","v":0},{"$f":"IF(AZ168=3,G168,0)","v":0},{"$f":"IF(AZ168=4,G168,0)","v":0},{"$f":"IF(AZ168=5,G168,0)","v":0},null,null,null,null,null,null,null,null,null,null,null,null,null,null,null,null,null,null,null,null,null,1,1]
[null,null,"Vodovodní řady \"S1 a S2\" PE D 90x8,2 mm:",null,0,null,null,null,null,null,null,null,"Vodovodní řady \"S1 a S2\" PE D 90x8,2 mm:"]
[null,null,"Pro Šoupě DN80:1",null,1,null,null,null,null,null,null,null,"Pro Šoupě DN80:1"]
[30,"899401113R00","Osazení poklopů litinových hydrantových ","kus",1,null,{"$f":"E171*F171","v":0},0.32906000000000002,{"$f":"E171*H171","v":0.32906000000000002},0,{"$f":"E171*J171","v":0},null,null,null,2,null,null,null,null,null,null,null,null,null,null,null,1,1,1,null,null,null,null,null,null,null,null,null,null,null,null,null,null,null,null,null,null,null,null,null,null,1,{"$f":"IF(AZ171=1,G171,0)","v":0},{"$f":"IF(AZ171=2,G171,0)","v":0},{"$f":"IF(AZ171=3,G171,0)","v":0},{"$f":"IF(AZ171=4,G171,0)","v":0},{"$f":"IF(AZ171=5,G171,0)","v":0},null,null,null,null,null,null,null,null,null,null,null,null,null,null,null,null,null,null,null,null,null,1,1]
[null,null,"Vodovodní řady \"S1 a S2\" PE D 90x8,2 mm:",null,0,null,null,null,null,null,null,null,"Vodovodní řady \"S1 a S2\" PE D 90x8,2 mm:"]
[null,null,"Pro Hp DN80/1,5:1",null,1,null,null,null,null,null,null,null,"Pro Hp DN80/1,5:1"]
[31,"899721112R00","Fólie výstražná z PVC bílá, šířka 30 cm ","m",146,null,{"$f":"E174*F174","v":0},0,{"$f":"E174*H174","v":0},0,{"$f":"E174*J174","v":0},null,null,null,2,null,null,null,null,null,null,null,null,null,null,null,1,1,1,null,null,null,null,null,null,null,null,null,null,null,null,null,null,null,null,null,null,null,null,null,null,1,{"$f":"IF(AZ174=1,G174,0)","v":0},{"$f":"IF(AZ174=2,G174,0)","v":0},{"$f":"IF(AZ174=3,G174,0)","v":0},{"$f":"IF(AZ174=4,G174,0)","v":0},{"$f":"IF(AZ174=5,G174,0)","v":0},null,null,null,null,null,null,null,null,null,null,null,null,null,null,null,null,null,null,null,null,null,1,1]
[null,null,"Vodovodní řady \"S1 a S2\" PE D 90x8,2 mm:",null,0,null,null,null,null,null,null,null,"Vodovodní řady \"S1 a S2\" PE D 90x8,2 mm:"]
[null,null,"Řad \"S1\":111,00",null,111,null,null,null,null,null,null,null,"Řad \"S1\":111,00"]
[null,null,"Řad \"S2\":35,00",null,35,null,null,null,null,null,null,null,"Řad \"S2\":35,00"]
[32,"899731114R00","Vodič signalizační CYY 6 mm2 ","m",202,null,{"$f":"E178*F178","v":0},8.0000000000000007E-5,{"$f":"E178*H178","v":1.6160000000000001E-2},0,{"$f":"E178*J178","v":0},null,null,null,2,null,null,null,null,null,null,null,null,null,null,null,1,1,1,null,null,null,null,null,null,null,null,null,null,null,null,null,null,null,null,null,null,null,null,null,null,1,{"$f":"IF(AZ178=1,G178,0)","v":0},{"$f":"IF(AZ178=2,G178,0)","v":0},{"$f":"IF(AZ178=3,G178,0)","v":0},{"$f":"IF(AZ178=4,G178,0)","v":0},{"$f":"IF(AZ178=5,G178,0)","v":0},null,null,null,null,null,null,null,null,null,null,null,null,null,null,null,null,null,null,null,null,null,1,1]
[null,null,"Součástí položky je zajištění proměření vodiče a výchozí zevize.",null,null,null,null,null,null,null,null,"Součástí položky je zajištění proměření vodiče a výchozí zevize.",null,null,3]
[null,null,"Vodovodní řady \"S1 a S2\" PE D 90x8,2 mm:",null,0,null,null,null,null,null,null,null,"Vodovodní řady \"S1 a S2\" PE D 90x8,2 mm:"]
[null,null,"Řad \"S1\":111,00",null,111,null,null,null,null,null,null,null,"Řad \"S1\":111,00"]
[null,null,"Řad \"S2\":35,00",null,35,null,null,null,null,null,null,null,"Řad \"S2\":35,00"]
[null,null,"Vyvedení:",null,0,null,null,null,null,null,null,null,"Vyvedení:"]
[null,null,"Pro Šoupě DN80:2,00*2*3",null,12,null,null,null,null,null,null,null,"Pro Šoupě DN80:2,00*2*3"]
[null,null,"Pro Hp DN80/1,5:2,00*1*2",null,4,null,null,null,null,null,null,null,"Pro Hp DN80/1,5:2,00*1*2"]
[null,null,"Pro VP:2,00*2*10",null,40,null,null,null,null,null,null,null,"Pro VP:2,00*2*10"]
[33,"28613070.DAV.R","T-kus odbočkový navrtávací DAV (KIT) D90/32","kus",10,null,{"$f":"E187*F187","v":0},0,{"$f":"E187*H187","v":0},null,{"$f":"E187*J187","v":0},null,null,null,2,null,null,null,null,null,null,null,null,null,null,null,3,1,"28613070.DAV.R",null,null,null,null,null,null,null,null,null,null,null,null,null,null,null,null,null,null,null,null,null,null,1,{"$f":"IF(AZ187=1,G187,0)","v":0},{"$f":"IF(AZ187=2,G187,0)","v":0},{"$f":"IF(AZ187=3,G187,0)","v":0},{"$f":"IF(AZ187=4,G187,0)","v":0},{"$f":"IF(AZ187=5,G187,0)","v":0},null,null,null,null,null,null,null,null,null,null,null,null,null,null,null,null,null,null,null,null,null,3,1]
[null,null,"Vodovodní řady \"S1 a S2\" PE D 90x8,2 mm:",null,0,null,null,null,null,null,null,null,"Vodovodní řady \"S1 a S2\" PE D 90x8,2 mm:"]
[null,null,"Pro VP - NP D90/32:10",null,10,null,null,null,null,null,null,null,"Pro VP - NP D90/32:10"]
[34,"28613090.EBS.R","Zemní souprava EBS 1,1-1,8 pro DAV (KIT)","kus",10,null,{"$f":"E190*F190","v":0},0,{"$f":"E190*H190","v":0},null,{"$f":"E190*J190","v":0},null,null,null,2,null,null,null,null,null,null,null,null,null,null,null,3,1,"28613090.EBS.R",null,null,null,null,null,null,null,null,null,null,null,null,null,null,null,null,null,null,null,null,null,null,1,{"$f":"IF(AZ190=1,G190,0)","v":0},{"$f":"IF(AZ190=2,G190,0)","v":0},{"$f":"IF(AZ190=3,G190,0)","v":0},{"$f":"IF(AZ190=4,G190,0)","v":0},{"$f":"IF(AZ190=5,G190,0)","v":0},null,null,null,null,null,null,null,null,null,null,null,null,null,null,null,null,null,null,null,null,null,3,1]
[null,null,"Vodovodní řady \"S1 a S2\" PE D 90x8,2 mm:",null,0,null,null,null,null,null,null,null,"Vodovodní řady \"S1 a S2\" PE D 90x8,2 mm:"]
[null,null,"Pro VP - NP D90/32:10",null,10,null,null,null,null,null,null,null,"Pro VP - NP D90/32:10"]
[35,"286134213.R","Trubka tlaková PE 100 RC2 PE100 90x8,2 mm PN16 tyče L=12 m","m",148.19,null,{"$f":"E193*F193","v":0},2.1199999999999999E-3,{"$f":"E193*H193","v":0.31416279999999996},null,{"$f":"E193*J193","v":0},null,null,null,2,null,null,null,null,null,null,null,null,null,null,null,3,1,"286134213.R",null,null,null,null,null,null,null,null,null,null,null,null,null,null,null,null,null,null,null,null,null,null,1,{"$f":"IF(AZ193=1,G193,0)","v":0},{"$f":"IF(AZ193=2,G193,0)","v":0},{"$f":"IF(AZ193=3,G193,0)","v":0},{"$f":"IF(AZ193=4,G193,0)","v":0},{"$f":"IF(AZ193=5,G193,0)","v":0},null,null,null,null,null,null,null,null,null,null,null,null,null,null,null,null,null,null,null,null,null,3,1]
[null,null,"Vodovodní laková trubka PE 100 RC2 dle normy EN 12 201-2",null,null,null,null,null,null,null,null,"Vodovodní PE tlaková trubka AQUALINE RC2 dle normy EN 12 201-2",null,null,3]
[null,null,"(doprava pitné a užitkové vody)",null,null,null,null,null,null,null,null,"(doprava pitné a užitkové vody)",null,null,3]
[null,null,"Vodovodní řady \"S1 a S2\" PE D 90x8,2 mm:",null,0,null,null,null,null,null,null,null,"Vodovodní řady \"S1 a S2\" PE D 90x8,2 mm:"]
[null,null,"Řad \"S1\":111,00*1,015",null,112.66500000000001,null,null,null,null,null,null,null,"Řad \"S1\":111,00*1,015"]
[null,null,"Řad \"S2\":35,00*1,015",null,35.524999999999999,null,null,null,null,null,null,null,"Řad \"S2\":35,00*1,015"]
[36,"28653079.11.R","Elektrospojka d 90 mm PE 100 SDR11","kus",26.39,null,{"$f":"E199*F199","v":0},1.2999999999999999E-3,{"$f":"E199*H199","v":3.4306999999999997E-2},null,{"$f":"E199*J199","v":0},null,null,null,2,null,null,null,null,null,null,null,null,null,null,null,3,1,"28653079.11.R",null,null,null,null,null,null,null,null,null,null,null,null,null,null,null,null,null,null,null,null,null,null,1,{"$f":"IF(AZ199=1,G199,0)","v":0},{"$f":"IF(AZ199=2,G199,0)","v":0},{"$f":"IF(AZ199=3,G199,0)","v":0},{"$f":"IF(AZ199=4,G199,0)","v":0},{"$f":"IF(AZ199=5,G199,0)","v":0},null,null,null,null,null,null,null,null,null,null,null,null,null,null,null,null,null,null,null,null,null,3,1]
[null,null,"Vodovodní řady \"S1 a S2\" PE D 90x8,2 mm:",null,0,null,null,null,null,null,null,null,"Vodovodní řady \"S1 a S2\" PE D 90x8,2 mm:"]
[null,null,"Elektrospojka PE D90:26*1,015",null,26.39,null,null,null,null,null,null,null,"Elektrospojka PE D90:26*1,015"]
[37,"28653438.A.R","Oblouk 30° PE d 90 mm PE100 SDR11","kus",1.0149999999999999,null,{"$f":"E202*F202","v":0},1.0499999999999999E-3,{"$f":"E202*H202","v":1.0657499999999999E-3},null,{"$f":"E202*J202","v":0},null,null,null,2,null,null,null,null,null,null,null,null,null,null,null,3,1,"28653438.A.R",null,null,null,null,null,null,null,null,null,null,null,null,null,null,null,null,null,null,null,null,null,null,1,{"$f":"IF(AZ202=1,G202,0)","v":0},{"$f":"IF(AZ202=2,G202,0)","v":0},{"$f":"IF(AZ202=3,G202,0)","v":0},{"$f":"IF(AZ202=4,G202,0)","v":0},{"$f":"IF(AZ202=5,G202,0)","v":0},null,null,null,null,null,null,null,null,null,null,null,null,null,null,null,null,null,null,null,null,null,3,1]
[null,null,"Vodovodní řady \"S1 a S2\" PE D 90x8,2 mm:",null,0,null,null,null,null,null,null,null,"Vodovodní řady \"S1 a S2\" PE D 90x8,2 mm:"]
[null,null,"Oblouk PE D90/30°:1*1,015",null,1.0149999999999999,null,null,null,null,null,null,null,"Oblouk PE D90/30°:1*1,015"]
[38,"28653440.A.R","Oblouk 11° PE d 90 mm PE100 SDR11","kus",2.0299999999999998,null,{"$f":"E205*F205","v":0},1.0499999999999999E-3,{"$f":"E205*H205","v":2.1314999999999997E-3},null,{"$f":"E205*J205","v":0},null,null,null,2,null,null,null,null,null,null,null,null,null,null,null,3,1,"28653440.A.R",null,null,null,null,null,null,null,null,null,null,null,null,null,null,null,null,null,null,null,null,null,null,1,{"$f":"IF(AZ205=1,G205,0)","v":0},{"$f":"IF(AZ205=2,G205,0)","v":0},{"$f":"IF(AZ205=3,G205,0)","v":0},{"$f":"IF(AZ205=4,G205,0)","v":0},{"$f":"IF(AZ205=5,G205,0)","v":0},null,null,null,null,null,null,null,null,null,null,null,null,null,null,null,null,null,null,null,null,null,3,1]
[null,null,"Vodovodní řady \"S1 a S2\" PE D 90x8,2 mm:",null,0,null,null,null,null,null,null,null,"Vodovodní řady \"S1 a S2\" PE D 90x8,2 mm:"]
[null,null,"Oblouk PE D90/11°:2*1,015",null,2.0299999999999998,null,null,null,null,null,null,null,"Oblouk PE D90/11°:2*1,015"]
[39,"28653765.R","LN + TP D90/DN80 PE100 SDR11","kus",6,null,{"$f":"E208*F208","v":0},3.5E-4,{"$f":"E208*H208","v":2.0999999999999999E-3},null,{"$f":"E208*J208","v":0},null,null,null,2,null,null,null,null,null,null,null,null,null,null,null,3,1,"28653765.R",null,null,null,null,null,null,null,null,null,null,null,null,null,null,null,null,null,null,null,null,null,null,1,{"$f":"IF(AZ208=1,G208,0)","v":0},{"$f":"IF(AZ208=2,G208,0)","v":0},{"$f":"IF(AZ208=3,G208,0)","v":0},{"$f":"IF(AZ208=4,G208,0)","v":0},{"$f":"IF(AZ208=5,G208,0)","v":0},null,null,null,null,null,null,null,null,null,null,null,null,null,null,null,null,null,null,null,null,null,3,1]
[null,null,"Vodovodní řady \"S1 a S2\" PE D 90x8,2 mm:",null,0,null,null,null,null,null,null,null,"Vodovodní řady \"S1 a S2\" PE D 90x8,2 mm:"]
[null,null,"LN + TP D90/DN80:6",null,6,null,null,null,null,null,null,null,"LN + TP D90/DN80:6"]
[40,"42200240.3.R","Hydrant podzemní DUO DN80/1,5 m","kus",2,null,{"$f":"E211*F211","v":0},4.7999999999999996E-3,{"$f":"E211*H211","v":9.5999999999999992E-3},null,{"$f":"E211*J211","v":0},null,null,null,2,null,null,null,null,null,null,null,null,null,null,null,3,1,"42200240.3.R",null,null,null,null,null,null,null,null,null,null,null,null,null,null,null,null,null,null,null,null,null,null,1,{"$f":"IF(AZ211=1,G211,0)","v":0},{"$f":"IF(AZ211=2,G211,0)","v":0},{"$f":"IF(AZ211=3,G211,0)","v":0},{"$f":"IF(AZ211=4,G211,0)","v":0},{"$f":"IF(AZ211=5,G211,0)","v":0},null,null,null,null,null,null,null,null,null,null,null,null,null,null,null,null,null,null,null,null,null,3,1]
[null,null,"Vodovodní řady \"S1 a S2\" PE D 90x8,2 mm:",null,0,null,null,null,null,null,null,null,"Vodovodní řady \"S1 a S2\" PE D 90x8,2 mm:"]
[null,null,"Hp DN80/1,5:2",null,2,null,null,null,null,null,null,null,"Hp DN80/1,5:2"]
[41,"42201650.R","Poklop uliční ventilový pro DVP č.1650","kus",3,null,{"$f":"E214*F214","v":0},1.1299999999999999E-2,{"$f":"E214*H214","v":3.39E-2},null,{"$f":"E214*J214","v":0},null,null,null,2,null,null,null,null,null,null,null,null,null,null,null,3,1,"42201650.R",null,null,null,null,null,null,null,null,null,null,null,null,null,null,null,null,null,null,null,null,null,null,1,{"$f":"IF(AZ214=1,G214,0)","v":0},{"$f":"IF(AZ214=2,G214,0)","v":0},{"$f":"IF(AZ214=3,G214,0)","v":0},{"$f":"IF(AZ214=4,G214,0)","v":0},{"$f":"IF(AZ214=5,G214,0)","v":0},null,null,null,null,null,null,null,null,null,null,null,null,null,null,null,null,null,null,null,null,null,3,1]
[null,null,"Vodovodní řady \"S1 a S2\" PE D 90x8,2 mm:",null,0,null,null,null,null,null,null,null,"Vodovodní řady \"S1 a S2\" PE D 90x8,2 mm:"]
[null,null,"Pro VP:3",null,3,null,null,null,null,null,null,null,"Pro VP:3"]
[42,"42201750.R","Poklop uliční šoupátkový č.1750","kus",1,null,{"$f":"E217*F217","v":0},1.1299999999999999E-2,{"$f":"E217*H217","v":1.1299999999999999E-2},null,{"$f":"E217*J217","v":0},null,null,null,2,null,null,null,null,null,null,null,null,null,null,null,3,1,"42201750.R",null,null,null,null,null,null,null,null,null,null,null,null,null,null,null,null,null,null,null,null,null,null,1,{"$f":"IF(AZ217=1,G217,0)","v":0},{"$f":"IF(AZ217=2,G217,0)","v":0},{"$f":"IF(AZ217=3,G217,0)","v":0},{"$f":"IF(AZ217=4,G217,0)","v":0},{"$f":"IF(AZ217=5,G217,0)","v":0},null,null,null,null,null,null,null,null,null,null,null,null,null,null,null,null,null,null,null,null,null,3,1]
[null,null,"Vodovodní řady \"S1 a S2\" PE D 90x8,2 mm:",null,0,null,null,null,null,null,null,null,"Vodovodní řady \"S1 a S2\" PE D 90x8,2 mm:"]
[null,null,"Pro Šoupě DN80:1",null,1,null,null,null,null,null,null,null,"Pro Šoupě DN80:1"]
[43,"42201950.R","Poklop uliční hydrantový  č.1950","kus",1,null,{"$f":"E220*F220","v":0},1.1299999999999999E-2,{"$f":"E220*H220","v":1.1299999999999999E-2},null,{"$f":"E220*J220","v":0},null,null,null,2,null,null,null,null,null,null,null,null,null,null,null,3,1,"42201950.R",null,null,null,null,null,null,null,null,null,null,null,null,null,null,null,null,null,null,null,null,null,null,1,{"$f":"IF(AZ220=1,G220,0)","v":0},{"$f":"IF(AZ220=2,G220,0)","v":0},{"$f":"IF(AZ220=3,G220,0)","v":0},{"$f":"IF(AZ220=4,G220,0)","v":0},{"$f":"IF(AZ220=5,G220,0)","v":0},null,null,null,null,null,null,null,null,null,null,null,null,null,null,null,null,null,null,null,null,null,3,1]
[null,null,"Vodovodní řady \"S1 a S2\" PE D 90x8,2 mm:",null,0,null,null,null,null,null,null,null,"Vodovodní řady \"S1 a S2\" PE D 90x8,2 mm:"]
[null,null,"Pro Hp DN80/1,5:1",null,1,null,null,null,null,null,null,null,"Pro Hp DN80/1,5:1"]
[44,"42203481.R","Podkladová deska č. 3481","kus",4,null,{"$f":"E223*F223","v":0},5.9999999999999995E-4,{"$f":"E223*H223","v":2.3999999999999998E-3},null,{"$f":"E223*J223","v":0},null,null,null,2,null,null,null,null,null,null,null,null,null,null,null,3,1,"42203481.R",null,null,null,null,null,null,null,null,null,null,null,null,null,null,null,null,null,null,null,null,null,null,1,{"$f":"IF(AZ223=1,G223,0)","v":0},{"$f":"IF(AZ223=2,G223,0)","v":0},{"$f":"IF(AZ223=3,G223,0)","v":0},{"$f":"IF(AZ223=4,G223,0)","v":0},{"$f":"IF(AZ223=5,G223,0)","v":0},null,null,null,null,null,null,null,null,null,null,null,null,null,null,null,null,null,null,null,null,null,3,1]
[null,null,null,null,null,null,null,null,null,null,null,null,null,null,3]
[null,null,"Vodovodní řady \"S1 a S2\" PE D 90x8,2 mm:",null,0,null,null,null,null,null,null,null,"Vodovodní řady \"S1 a S2\" PE D 90x8,2 mm:"]
[null,null,"Pro Šoupě DN80:1",null,1,null,null,null,null,null,null,null,"Pro Šoupě DN80:1"]
[null,null,"Pro VP:3",null,3,null,null,null,null,null,null,null,"Pro VP:3"]
[45,"42203482.R","Podkladová deska č. 3482","kus",1,null,{"$f":"E228*F228","v":0},5.9999999999999995E-4,{"$f":"E228*H228","v":5.9999999999999995E-4},null,{"$f":"E228*J228","v":0},null,null,null,2,null,null,null,null,null,null,null,null,null,null,null,3,1,"42203482.R",null,null,null,null,null,null,null,null,null,null,null,null,null,null,null,null,null,null,null,null,null,null,1,{"$f":"IF(AZ228=1,G228,0)","v":0},{"$f":"IF(AZ228=2,G228,0)","v":0},{"$f":"IF(AZ228=3,G228,0)","v":0},{"$f":"IF(AZ228=4,G228,0)","v":0},{"$f":"IF(AZ228=5,G228,0)","v":0},null,null,null,null,null,null,null,null,null,null,null,null,null,null,null,null,null,null,null,null,null,3,1]
[null,null,null,null,null,null,null,null,null,null,null,null,null,null,3]
[null,null,"Vodovodní řady \"S1 a S2\" PE D 90x8,2 mm:",null,0,null,null,null,null,null,null,null,"Vodovodní řady \"S1 a S2\" PE D 90x8,2 mm:"]
[null,null,"Pro Hp DN80/1,5:1",null,1,null,null,null,null,null,null,null,"Pro Hp DN80/1,5:1"]
[46,"42209999.R","Drenážní obal","kus",2,null,{"$f":"E232*F232","v":0},4.7999999999999996E-3,{"$f":"E232*H232","v":9.5999999999999992E-3},null,{"$f":"E232*J232","v":0},null,null,null,2,null,null,null,null,null,null,null,null,null,null,null,3,1,"42209999.R",null,null,null,null,null,null,null,null,null,null,null,null,null,null,null,null,null,null,null,null,null,null,1,{"$f":"IF(AZ232=1,G232,0)","v":0},{"$f":"IF(AZ232=2,G232,0)","v":0},{"$f":"IF(AZ232=3,G232,0)","v":0},{"$f":"IF(AZ232=4,G232,0)","v":0},{"$f":"IF(AZ232=5,G232,0)","v":0},null,null,null,null,null,null,null,null,null,null,null,null,null,null,null,null,null,null,null,null,null,3,1]
[null,null,"Vodovodní řady \"S1 a S2\" PE D 90x8,2 mm:",null,0,null,null,null,null,null,null,null,"Vodovodní řady \"S1 a S2\" PE D 90x8,2 mm:"]
[null,null,"Pro Hp DN80/1,5:2",null,2,null,null,null,null,null,null,null,"Pro Hp DN80/1,5:2"]
[47,"42228310.R","Šoupátko 4000E3 DN 80 přírubové, voda PN16","kus",3,null,{"$f":"E235*F235","v":0},1.6500000000000001E-2,{"$f":"E235*H235","v":4.9500000000000002E-2},null,{"$f":"E235*J235","v":0},null,null,null,2,null,null,null,null,null,null,null,null,null,null,null,3,1,"42228310.R",null,null,null,null,null,null,null,null,null,null,null,null,null,null,null,null,null,null,null,null,null,null,1,{"$f":"IF(AZ235=1,G235,0)","v":0},{"$f":"IF(AZ235=2,G235,0)","v":0},{"$f":"IF(AZ235=3,G235,0)","v":0},{"$f":"IF(AZ235=4,G235,0)","v":0},{"$f":"IF(AZ235=5,G235,0)","v":0},null,null,null,null,null,null,null,null,null,null,null,null,null,null,null,null,null,null,null,null,null,3,1]
[null,null,"Šoupátko přírubové krkové - měkcetěsnící klínové šoupátko s hladkým a volným průtokovým kanálem",null,null,null,null,null,null,null,null,"Šoupátko přírubové krkové - měkcetěsnící klínové šoupátko s hladkým a volným průtokovým kanálem",null,null,3]
[null,null,"č. 4000E3",null,null,null,null,null,null,null,null,"č. 4000E3",null,null,3]
[null,null,"PN 16",null,null,null,null,null,null,null,null,"PN 16",null,null,3]
[null,null,"DN 80",null,null,null,null,null,null,null,null,"DN 80",null,null,3]
[null,null,"těleso a víko: tvárná litina GGG 400 - DIN 1693",null,null,null,null,null,null,null,null,"těleso a víko: tvárná litina GGG 400 - DIN 1693",null,null,3]
[null,null,"medium: pitná voda, neagresivní odpadní voda",null,null,null,null,null,null,null,null,"medium: pitná voda, neagresivní odpadní voda",null,null,3]
[null,null,"Vodovodní řady \"S1 a S2\" PE D 90x8,2 mm:",null,0,null,null,null,null,null,null,null,"Vodovodní řady \"S1 a S2\" PE D 90x8,2 mm:"]
[null,null,"Šoupě DN80:3",null,3,null,null,null,null,null,null,null,"Šoupě DN80:3"]
[48,"42293250.R","Souprava zemní tel.9502E2/E3 DN50 -100, 1,3-1,8m","kus",3,null,{"$f":"E244*F244","v":0},7.3000000000000001E-3,{"$f":"E244*H244","v":2.1899999999999999E-2},null,{"$f":"E244*J244","v":0},null,null,null,2,null,null,null,null,null,null,null,null,null,null,null,3,1,"42293250.R",null,null,null,null,null,null,null,null,null,null,null,null,null,null,null,null,null,null,null,null,null,null,1,{"$f":"IF(AZ244=1,G244,0)","v":0},{"$f":"IF(AZ244=2,G244,0)","v":0},{"$f":"IF(AZ244=3,G244,0)","v":0},{"$f":"IF(AZ244=4,G244,0)","v":0},{"$f":"IF(AZ244=5,G244,0)","v":0},null,null,null,null,null,null,null,null,null,null,null,null,null,null,null,null,null,null,null,null,null,3,1]
[null,null,"Vodovodní řady \"S1 a S2\" PE D 90x8,2 mm:",null,0,null,null,null,null,null,null,null,"Vodovodní řady \"S1 a S2\" PE D 90x8,2 mm:"]
[null,null,"Pro Šoupě DN80:3",null,3,null,null,null,null,null,null,null,"Pro Šoupě DN80:3"]
[49,"552599939.R","Tvarovka přír. s přír. odb. T DN 80/80","kus",1,null,{"$f":"E247*F247","v":0},1.49E-2,{"$f":"E247*H247","v":1.49E-2},null,{"$f":"E247*J247","v":0},null,null,null,2,null,null,null,null,null,null,null,null,null,null,null,3,1,"552599939.R",null,null,null,null,null,null,null,null,null,null,null,null,null,null,null,null,null,null,null,null,null,null,1,{"$f":"IF(AZ247=1,G247,0)","v":0},{"$f":"IF(AZ247=2,G247,0)","v":0},{"$f":"IF(AZ247=3,G247,0)","v":0},{"$f":"IF(AZ247=4,G247,0)","v":0},{"$f":"IF(AZ247=5,G247,0)","v":0},null,null,null,null,null,null,null,null,null,null,null,null,null,null,null,null,null,null,null,null,null,3,1]
[null,null,"Vodovodní řady \"S1 a S2\" PE D 90x8,2 mm:",null,0,null,null,null,null,null,null,null,"Vodovodní řady \"S1 a S2\" PE D 90x8,2 mm:"]
[null,null,"T DN80/80:1",null,1,null,null,null,null,null,null,null,"T DN80/80:1"]
[50,"5526009705.R","Koleno prodloužené přír.s patkou PPL DN 80","kus",2,null,{"$f":"E250*F250","v":0},1.2200000000000001E-2,{"$f":"E250*H250","v":2.4400000000000002E-2},null,{"$f":"E250*J250","v":0},null,null,null,2,null,null,null,null,null,null,null,null,null,null,null,3,1,"5526009705.R",null,null,null,null,null,null,null,null,null,null,null,null,null,null,null,null,null,null,null,null,null,null,1,{"$f":"IF(AZ250=1,G250,0)","v":0},{"$f":"IF(AZ250=2,G250,0)","v":0},{"$f":"IF(AZ250=3,G250,0)","v":0},{"$f":"IF(AZ250=4,G250,0)","v":0},{"$f":"IF(AZ250=5,G250,0)","v":0},null,null,null,null,null,null,null,null,null,null,null,null,null,null,null,null,null,null,null,null,null,3,1]
[null,null,"Vodovodní řady \"S1 a S2\" PE D 90x8,2 mm:",null,0,null,null,null,null,null,null,null,"Vodovodní řady \"S1 a S2\" PE D 90x8,2 mm:"]
[null,null,"PPL DN80:2",null,2,null,null,null,null,null,null,null,"PPL DN80:2"]
[null,"Celkem za","8 Trubní vedení",null,null,null,{"$f":"SUM(G108:G252)","v":0},null,{"$f":"SUM(I108:I252)","v":1.2058670500000002},null,{"$f":"SUM(K108:K252)","v":0},null,null,null,4,null,null,null,null,null,null,null,null,null,null,null,null,null,null,null,null,null,null,null,null,null,null,null,null,null,null,null,null,null,null,null,null,null,null,null,null,null,{"$f":"SUM(BA108:BA252)","v":0},{"$f":"SUM(BB108:BB252)","v":0},{"$f":"SUM(BC108:BC252)","v":0},{"$f":"SUM(BD108:BD252)","v":0},{"$f":"SUM(BE108:BE252)","v":0}]
["Díl:","89","Ostatní konstrukce na trubním vedení",null,null,null,null,null,null,null,null,null,null,null,1]
[51,"899 01-0001.RRX","Provizorní vodovod PE100 RC1 D 63x5,8 mm včetně příslušných tvarovek a propojů","m",146,null,{"$f":"E255*F255","v":0},0,{"$f":"E255*H255","v":0},null,{"$f":"E255*J255","v":0},null,null,null,2,null,null,null,null,null,null,null,null,null,null,null,12,0,1,null,null,null,null,null,null,null,null,null,null,null,null,null,null,null,null,null,null,null,null,null,null,1,{"$f":"IF(AZ255=1,G255,0)","v":0},{"$f":"IF(AZ255=2,G255,0)","v":0},{"$f":"IF(AZ255=3,G255,0)","v":0},{"$f":"IF(AZ255=4,G255,0)","v":0},{"$f":"IF(AZ255=5,G255,0)","v":0},null,null,null,null,null,null,null,null,null,null,null,null,null,null,null,null,null,null,null,null,null,12,0]
[null,null,"Součástí položky je ",null,null,null,null,null,null,null,null,"Součástí položky je ",null,null,3]
[null,null,"- Dodávka a montáž příslušného potrubí ",null,null,null,null,null,null,null,null,"- Dodávka a montáž příslušného potrubí ",null,null,3]
[null,null,"- Dodávka a montáž propojovacích tvarovek a armatur dle zvolené technologie zhotovitelem potřebné pro provoz provizorního vodovou",null,null,null,null,null,null,null,null,"- Dodávka a montáž propojovacích tvarovek a armatur dle zvolené technologie zhotovitelem potřebné pro provoz provizorního vodovou",null,null,3]
[null,null,"- Přerušení stávajícího potrubí pro napojení provizorního vodovodu",null,null,null,null,null,null,null,null,"- Přerušení stávajícího potrubí pro napojení provizorního vodovodu",null,null,3]
[null,null,"- Provedení tlakové zkoušky včetně proplachu a desinfekce potrubí dle ČSN",null,null,null,null,null,null,null,null,"- Provedení tlakové zkoušky včetně proplachu a desinfekce potrubí dle ČSN",null,null,3]
[null,null,"- Potředné zemní práce pro provedení propojů včetně případného odstranění konstrukcí komunikací a chodníků a provizorní úprava povrchů v prostoru vedení provizorního vodovodu",null,null,null,null,null,null,null,null,"- Potředné zemní práce pro provedení propojů včetně případného odstranění konstrukcí komunikací a chodníků a provizorní úprava povrchů v prostoru vedení provizorního vodovodu",null,null,3]
[null,null,"- Demontáž a odpojení propojů provizorního vodovodu  včetně potřebných zemních prací.",null,null,null,null,null,null,null,null,"- Demontáž a odpojení propojů provizorního vodovodu  včetně potřebných zemních prací.",null,null,3]
[null,null,"- Likvidace veškerého materiálu provizorních vodovodů ",null,null,null,null,null,null,null,null,"- Likvidace veškerého materiálu provizorních vodovodů ",null,null,3]
[null,null,"- Součástí položky jsou i náklady na přesuny materiálů - Součástí položky jsou náklady zhotovitele na poplatky za skládky materiálu",null,null,null,null,null,null,null,null,"- Součástí položky jsou i náklady na přesuny materiálů - Součástí položky jsou náklady zhotovitele na poplatky za skládky materiálu",null,null,3]
[null,null,"Vodovodní řady \"S1 a S2\" PE D 90x8,2 mm:",null,0,null,null,null,null,null,null,null,"Vodovodní řady \"S1 a S2\" PE D 90x8,2 mm:"]
[null,null,"Provizorní vodovod:",null,0,null,null,null,null,null,null,null,"Provizorní vodovod:"]
[null,null,"Řad \"S1\":111,00",null,111,null,null,null,null,null,null,null,"Řad \"S1\":111,00"]
[null,null,"Řad \"S2\":35,00",null,35,null,null,null,null,null,null,null,"Řad \"S2\":35,00"]
[52,"899 02-0001.RRX","Provizorní VP PE100 RC1 D32x3,0 mm - délky do 8 m vč. příslušných tvarovek a armatur","soubor",10,null,{"$f":"E269*F269","v":0},0,{"$f":"E269*H269","v":0},null,{"$f":"E269*J269","v":0},null,null,null,2,null,null,null,null,null,null,null,null,null,null,null,12,0,2,null,null,null,null,null,null,null,null,null,null,null,null,null,null,null,null,null,null,null,null,null,null,1,{"$f":"IF(AZ269=1,G269,0)","v":0},{"$f":"IF(AZ269=2,G269,0)","v":0},{"$f":"IF(AZ269=3,G269,0)","v":0},{"$f":"IF(AZ269=4,G269,0)","v":0},{"$f":"IF(AZ269=5,G269,0)","v":0},null,null,null,null,null,null,null,null,null,null,null,null,null,null,null,null,null,null,null,null,null,12,0]
[null,null,"Součástí položky je ",null,null,null,null,null,null,null,null,"Součástí položky je ",null,null,3]
[null,null,"- Dodávka a montáž příslušného potrubí dle PD ",null,null,null,null,null,null,null,null,"- Dodávka a montáž příslušného potrubí dle PD ",null,null,3]
[null,null,"- Dodávka a montáž propojovacích tvarovek a armatur dle zvolené technologie zhotovitelem potřebné pro provoz provizorního propojení VP",null,null,null,null,null,null,null,null,"- Dodávka a montáž propojovacích tvarovek a armatur dle zvolené technologie zhotovitelem potřebné pro provoz provizorního propojení VP",null,null,3]
[null,null,"- Přerušení stávajícího potrubí přípojky",null,null,null,null,null,null,null,null,"- Přerušení stávajícího potrubí přípojky",null,null,3]
[null,null,"- Provedení tlakové zkoušky včetně proplachu a desinfekce potrubí dle ČSN",null,null,null,null,null,null,null,null,"- Provedení tlakové zkoušky včetně proplachu a desinfekce potrubí dle ČSN",null,null,3]
[null,null,"- Potředné zemní práce pro provedení propoje včetně případného odstranění konstrukcí komunikací a provizorní úprava povrchů v prostoru vedení provizorního vodovodu",null,null,null,null,null,null,null,null,"- Potředné zemní práce pro provedení propoje včetně případného odstranění konstrukcí komunikací a provizorní úprava povrchů v prostoru vedení provizorního vodovodu",null,null,3]
[null,null,"- Demontáž a odpojení propojů provizorní přípojky  včetně potřebných zemních prací.",null,null,null,null,null,null,null,null,"- Demontáž a odpojení propojů provizorní přípojky  včetně potřebných zemních prací.",null,null,3]
[null,null,"- Likvidace veškerého materiálu provizorních vodovodních přípojek",null,null,null,null,null,null,null,null,"- Likvidace veškerého materiálu provizorních vodovodních přípojek",null,null,3]
[null,null,"- Součástí položky jsou i náklady na přesuny materiálů - Součástí položky jsou náklady zhotovitele na poplatky za skládky materiálu",null,null,null,null,null,null,null,null,"- Součástí položky jsou i náklady na přesuny materiálů - Součástí položky jsou náklady zhotovitele na poplatky za skládky materiálu",null,null,3]
[null,null,"Vodovodní řady \"S1 a S2\" PE D 90x8,2 mm:",null,0,null,null,null,null,null,null,null,"Vodovodní řady \"S1 a S2\" PE D 90x8,2 mm:"]
[null,null,"Provizorní vodovod:",null,0,null,null,null,null,null,null,null,"Provizorní vodovod:"]
[null,null,"Přípojky :10",null,10,null,null,null,null,null,null,null,"Přípojky :10"]
[null,"Celkem za","89 Ostatní konstrukce na trubním vedení",null,null,null,{"$f":"SUM(G254:G281)","v":0},null,{"$f":"SUM(I254:I281)","v":0},null,{"$f":"SUM(K254:K281)","v":0},null,null,null,4,null,null,null,null,null,null,null,null,null,null,null,null,null,null,null,null,null,null,null,null,null,null,null,null,null,null,null,null,null,null,null,null,null,null,null,null,null,{"$f":"SUM(BA254:BA281)","v":0},{"$f":"SUM(BB254:BB281)","v":0},{"$f":"SUM(BC254:BC281)","v":0},{"$f":"SUM(BD254:BD281)","v":0},{"$f":"SUM(BE254:BE281)","v":0}]
["Díl:","93","Dokončovací práce inženýrských staveb",null,null,null,null,null,null,null,null,null,null,null,1]
[53,"939421121RT1","Osazení samonivelač.vodovod.poklopu za finišerem bez dodávky poklopu","kus",9,null,{"$f":"E284*F284","v":0},5.2499999999999998E-2,{"$f":"E284*H284","v":0.47249999999999998},0,{"$f":"E284*J284","v":0},null,null,null,2,null,null,null,null,null,null,null,null,null,null,null,1,1,1,null,null,null,null,null,null,null,null,null,null,null,null,null,null,null,null,null,null,null,null,null,null,1,{"$f":"IF(AZ284=1,G284,0)","v":0},{"$f":"IF(AZ284=2,G284,0)","v":0},{"$f":"IF(AZ284=3,G284,0)","v":0},{"$f":"IF(AZ284=4,G284,0)","v":0},{"$f":"IF(AZ284=5,G284,0)","v":0},null,null,null,null,null,null,null,null,null,null,null,null,null,null,null,null,null,null,null,null,null,1,1]
[null,null,"Položka obsahuje:",null,null,null,null,null,null,null,null,"Položka obsahuje:",null,null,3]
[null,null,"- osazení prefabrikovaného betonového prstence do rychletuhnoucí malty (s dodávkou hmot)",null,null,null,null,null,null,null,null,"- osazení prefabrikovaného betonového prstence do rychletuhnoucí malty (s dodávkou hmot)",null,null,3]
[null,null,"- zalití prstence rychletuhnoucí zálivkou do výše prstence (s dodávkou hmoty)",null,null,null,null,null,null,null,null,"- zalití prstence rychletuhnoucí zálivkou do výše prstence (s dodávkou hmoty)",null,null,3]
[null,null,"- vložení kruhového bednění",null,null,null,null,null,null,null,null,"- vložení kruhového bednění",null,null,3]
[null,null,"- doplnění mezikruží asfaltovou směsí do výšky současné podkladní vrstvy, zhutnění",null,null,null,null,null,null,null,null,"- doplnění mezikruží asfaltovou směsí do výšky současné podkladní vrstvy, zhutnění",null,null,3]
[null,null,"- vyjmutí kruhového bednění",null,null,null,null,null,null,null,null,"- vyjmutí kruhového bednění",null,null,3]
[null,null,"- osazení poklopu a zatlačení",null,null,null,null,null,null,null,null,"- osazení poklopu a zatlačení",null,null,3]
[null,null,"  (následuje pokládka finální vrstvy vozovky - není součástí položky)",null,null,null,null,null,null,null,null,"  (následuje pokládka finální vrstvy vozovky - není součástí položky)",null,null,3]
[null,null,"- povytažení poklopu",null,null,null,null,null,null,null,null,"- povytažení poklopu",null,null,3]
[null,null,"- podsyp asfaltovou směsí, spuštění poklopu a zhutnění směsi",null,null,null,null,null,null,null,null,"- podsyp asfaltovou směsí, spuštění poklopu a zhutnění směsi",null,null,3]
[null,null,"Vodovodní řady \"S1 a S2\" PE D 90x8,2 mm:",null,0,null,null,null,null,null,null,null,"Vodovodní řady \"S1 a S2\" PE D 90x8,2 mm:"]
[null,null,"Pro Šoupě DN80:2",null,2,null,null,null,null,null,null,null,"Pro Šoupě DN80:2"]
[null,null,"Pro VP:7",null,7,null,null,null,null,null,null,null,"Pro VP:7"]
[54,"939421131RT1","Osazení samonivelač.hydrant.poklopu za finišerem bez dodávky poklopu","kus",1,null,{"$f":"E298*F298","v":0},6.8250000000000005E-2,{"$f":"E298*H298","v":6.8250000000000005E-2},0,{"$f":"E298*J298","v":0},null,null,null,2,null,null,null,null,null,null,null,null,null,null,null,1,1,1,null,null,null,null,null,null,null,null,null,null,null,null,null,null,null,null,null,null,null,null,null,null,1,{"$f":"IF(AZ298=1,G298,0)","v":0},{"$f":"IF(AZ298=2,G298,0)","v":0},{"$f":"IF(AZ298=3,G298,0)","v":0},{"$f":"IF(AZ298=4,G298,0)","v":0},{"$f":"IF(AZ298=5,G298,0)","v":0},null,null,null,null,null,null,null,null,null,null,null,null,null,null,null,null,null,null,null,null,null,1,1]
[null,null,"Položka obsahuje:",null,null,null,null,null,null,null,null,"Položka obsahuje:",null,null,3]
[null,null,"- osazení prefabrikovaného betonového prstence do rychletuhnoucí malty (s dodávkou hmot)",null,null,null,null,null,null,null,null,"- osazení prefabrikovaného betonového prstence do rychletuhnoucí malty (s dodávkou hmot)",null,null,3]
[null,null,"- zalití prstence rychletuhnoucí zálivkou do výše prstence (s dodávkou hmoty)",null,null,null,null,null,null,null,null,"- zalití prstence rychletuhnoucí zálivkou do výše prstence (s dodávkou hmoty)",null,null,3]
[null,null,"- vložení kruhového bednění",null,null,null,null,null,null,null,null,"- vložení kruhového bednění",null,null,3]
[null,null,"- doplnění mezikruží asfaltovou směsí do výšky současné podkladní vrstvy, zhutnění",null,null,null,null,null,null,null,null,"- doplnění mezikruží asfaltovou směsí do výšky současné podkladní vrstvy, zhutnění",null,null,3]
[null,null,"- vyjmutí kruhového bednění",null,null,null,null,null,null,null,null,"- vyjmutí kruhového bednění",null,null,3]
[null,null,"- osazení poklopu a zatlačení",null,null,null,null,null,null,null,null,"- osazení poklopu a zatlačení",null,null,3]
[null,null,"  (následuje pokládka finální vrstvy vozovky - není součástí položky)",null,null,null,null,null,null,null,null,"  (následuje pokládka finální vrstvy vozovky - není součástí položky)",null,null,3]
[null,null,"- povytažení poklopu",null,null,null,null,null,null,null,null,"- povytažení poklopu",null,null,3]
[null,null,"- podsyp asfaltovou směsí, spuštění poklopu a zhutnění směsi",null,null,null,null,null,null,null,null,"- podsyp asfaltovou směsí, spuštění poklopu a zhutnění směsi",null,null,3]
[null,null,"Položka neobsahuje:",null,null,null,null,null,null,null,null,"Položka neobsahuje:",null,null,3]
[null,null,"- dodávku samonivelačního poklopu - oceňuje se ve specifikaci",null,null,null,null,null,null,null,null,"- dodávku samonivelačního poklopu - oceňuje se ve specifikaci",null,null,3]
[null,null,"- pokládku krycí vrstvy komunikace, oceňuje se samostatně",null,null,null,null,null,null,null,null,"- pokládku krycí vrstvy komunikace, oceňuje se samostatně",null,null,3]
[null,null,"Vodovodní řady \"S1 a S2\" PE D 90x8,2 mm:",null,0,null,null,null,null,null,null,null,"Vodovodní řady \"S1 a S2\" PE D 90x8,2 mm:"]
[null,null,"Pro Hp DN80/1,5:1",null,1,null,null,null,null,null,null,null,"Pro Hp DN80/1,5:1"]
[55,"422913520.R","Poklop uliční samonivelační přípojkový D400","kus",7,null,{"$f":"E314*F314","v":0},1.2E-2,{"$f":"E314*H314","v":8.4000000000000005E-2},null,{"$f":"E314*J314","v":0},null,null,null,2,null,null,null,null,null,null,null,null,null,null,null,3,1,"422913520.R",null,null,null,null,null,null,null,null,null,null,null,null,null,null,null,null,null,null,null,null,null,null,1,{"$f":"IF(AZ314=1,G314,0)","v":0},{"$f":"IF(AZ314=2,G314,0)","v":0},{"$f":"IF(AZ314=3,G314,0)","v":0},{"$f":"IF(AZ314=4,G314,0)","v":0},{"$f":"IF(AZ314=5,G314,0)","v":0},null,null,null,null,null,null,null,null,null,null,null,null,null,null,null,null,null,null,null,null,null,3,1]
[null,null,"Uliční samonivelační poklop přípojkový z tvárné litiny dle ČSN EN 124",null,null,null,null,null,null,null,null,"Uliční samonivelační poklop přípojkový z tvárné litiny dle ČSN EN 124",null,null,3]
[null,null,"Rozpětí stavební výšky 195 - 285 mm s fixací polohy",null,null,null,null,null,null,null,null,"Rozpětí stavební výšky 195 - 285 mm s fixací polohy",null,null,3]
[null,null,"Výklopové víko spojeno s rámem čepem a opatřeno ochrannou a těsnící vrstvou proti vnikání nečistot",null,null,null,null,null,null,null,null,"Výklopové víko spojeno s rámem čepem a opatřeno ochrannou a těsnící vrstvou proti vnikání nečistot",null,null,3]
[null,null,"Tlumicí vložka z elastomeru a PUR",null,null,null,null,null,null,null,null,"Tlumicí vložka z elastomeru a PUR",null,null,3]
[null,null,"Možnost vlastního loga a barevného provedení",null,null,null,null,null,null,null,null,"Možnost vlastního loga a barevného provedení",null,null,3]
[null,null,"Vodovodní řady \"S1 a S2\" PE D 90x8,2 mm:",null,0,null,null,null,null,null,null,null,"Vodovodní řady \"S1 a S2\" PE D 90x8,2 mm:"]
[null,null,"Pro VP:7",null,7,null,null,null,null,null,null,null,"Pro VP:7"]
[56,"422913521.R","Poklop litinový samonivelační šoupátkový D400","kus",2,null,{"$f":"E322*F322","v":0},1.2E-2,{"$f":"E322*H322","v":2.4E-2},null,{"$f":"E322*J322","v":0},null,null,null,2,null,null,null,null,null,null,null,null,null,null,null,3,1,"422913521.R",null,null,null,null,null,null,null,null,null,null,null,null,null,null,null,null,null,null,null,null,null,null,1,{"$f":"IF(AZ322=1,G322,0)","v":0},{"$f":"IF(AZ322=2,G322,0)","v":0},{"$f":"IF(AZ322=3,G322,0)","v":0},{"$f":"IF(AZ322=4,G322,0)","v":0},{"$f":"IF(AZ322=5,G322,0)","v":0},null,null,null,null,null,null,null,null,null,null,null,null,null,null,null,null,null,null,null,null,null,3,1]
[null,null,"Uliční samonivelační šoupátkový poklop z tvárné litiny dle ČSN EN 124",null,null,null,null,null,null,null,null,"Uliční samonivelační šoupátkový poklop z tvárné litiny dle ČSN EN 124",null,null,3]
[null,null,"Rozpětí stavební výšky 195 - 285 mm s fixací polohy",null,null,null,null,null,null,null,null,"Rozpětí stavební výšky 195 - 285 mm s fixací polohy",null,null,3]
[null,null,"Výklopové víko spojeno s rámem čepem a opatřeno ochrannou a těsnící vrstvou proti vnikání nečistot",null,null,null,null,null,null,null,null,"Výklopové víko spojeno s rámem čepem a opatřeno ochrannou a těsnící vrstvou proti vnikání nečistot",null,null,3]
[null,null,"Tlumicí vložka z elastomeru a PUR",null,null,null,null,null,null,null,null,"Tlumicí vložka z elastomeru a PUR",null,null,3]
[null,null,"Možnost vlastního loga a barevného provedení",null,null,null,null,null,null,null,null,"Možnost vlastního loga a barevného provedení",null,null,3]
[null,null,"Vodovodní řady \"S1 a S2\" PE D 90x8,2 mm:",null,0,null,null,null,null,null,null,null,"Vodovodní řady \"S1 a S2\" PE D 90x8,2 mm:"]
[null,null,"Pro Šoupě DN80:2",null,2,null,null,null,null,null,null,null,"Pro Šoupě DN80:2"]
[57,"422914522.R","Poklop litinový hydrantový samonivelační D400","kus",1,null,{"$f":"E330*F330","v":0},2.4E-2,{"$f":"E330*H330","v":2.4E-2},null,{"$f":"E330*J330","v":0},null,null,null,2,null,null,null,null,null,null,null,null,null,null,null,3,1,"422914522.R",null,null,null,null,null,null,null,null,null,null,null,null,null,null,null,null,null,null,null,null,null,null,1,{"$f":"IF(AZ330=1,G330,0)","v":0},{"$f":"IF(AZ330=2,G330,0)","v":0},{"$f":"IF(AZ330=3,G330,0)","v":0},{"$f":"IF(AZ330=4,G330,0)","v":0},{"$f":"IF(AZ330=5,G330,0)","v":0},null,null,null,null,null,null,null,null,null,null,null,null,null,null,null,null,null,null,null,null,null,3,1]
[null,null,"Uliční samonivelační hydrantový poklop z tvárné litiny dle ČSN EN 124",null,null,null,null,null,null,null,null,"Uliční samonivelační hydrantový poklop z tvárné litiny dle ČSN EN 124",null,null,3]
[null,null,"Rozpětí stavební výšky 200 - 285 mm s fixací polohy",null,null,null,null,null,null,null,null,"Rozpětí stavební výšky 200 - 285 mm s fixací polohy",null,null,3]
[null,null,"Výklopové víko spojeno s rámem čepem a opatřeno ochrannou a těsnící vrstvou proti vnikání nečistot",null,null,null,null,null,null,null,null,"Výklopové víko spojeno s rámem čepem a opatřeno ochrannou a těsnící vrstvou proti vnikání nečistot",null,null,3]
[null,null,"Tlumicí vložka z elastomeru a PUR",null,null,null,null,null,null,null,null,"Tlumicí vložka z elastomeru a PUR",null,null,3]
[null,null,"Možnost vlastního loga a barevného provedení",null,null,null,null,null,null,null,null,"Možnost vlastního loga a barevného provedení",null,null,3]
[null,null,"Vodovodní řady \"S1 a S2\" PE D 90x8,2 mm:",null,0,null,null,null,null,null,null,null,"Vodovodní řady \"S1 a S2\" PE D 90x8,2 mm:"]
[null,null,"Pro Hp DN80/1,5:1",null,1,null,null,null,null,null,null,null,"Pro Hp DN80/1,5:1"]
[null,"Celkem za","93 Dokončovací práce inženýrských staveb",null,null,null,{"$f":"SUM(G283:G337)","v":0},null,{"$f":"SUM(I283:I337)","v":0.67274999999999996},null,{"$f":"SUM(K283:K337)","v":0},null,null,null,4,null,null,null,null,null,null,null,null,null,null,null,null,null,null,null,null,null,null,null,null,null,null,null,null,null,null,null,null,null,null,null,null,null,null,null,null,null,{"$f":"SUM(BA283:BA337)","v":0},{"$f":"SUM(BB283:BB337)","v":0},{"$f":"SUM(BC283:BC337)","v":0},{"$f":"SUM(BD283:BD337)","v":0},{"$f":"SUM(BE283:BE337)","v":0}]
["Díl:","99","Staveništní přesun hmot",null,null,null,null,null,null,null,null,null,null,null,1]
[58,"998276101RXX","Přesun hmot, trubní vedení plastová, otevř. výkop pro celý rozsah objektu","t",318.78098425000002,null,{"$f":"E340*F340","v":0},0,{"$f":"E340*H340","v":0},null,{"$f":"E340*J340","v":0},null,null,null,2,null,null,null,null,null,null,null,null,null,null,null,7,1,2,null,null,null,null,null,null,null,null,null,null,null,null,null,null,null,null,null,null,null,null,null,null,1,{"$f":"IF(AZ340=1,G340,0)","v":0},{"$f":"IF(AZ340=2,G340,0)","v":0},{"$f":"IF(AZ340=3,G340,0)","v":0},{"$f":"IF(AZ340=4,G340,0)","v":0},{"$f":"IF(AZ340=5,G340,0)","v":0},null,null,null,null,null,null,null,null,null,null,null,null,null,null,null,null,null,null,null,null,null,7,1]
[null,null,"Staveništní doprava pro celý rozsah objektu - doprava zmeziskládek vybudovaného zařízení staveniště zhotovitele na jednotlivé části staveniště.",null,null,null,null,null,null,null,null,"Staveništní doprava pro celý rozsah objektu - doprava zmeziskládek vybudovaného zařízení staveniště zhotovitele na jednotlivé části staveniště.",null,null,3]
[null,"Celkem za","99 Staveništní přesun hmot",null,null,null,{"$f":"SUM(G339:G341)","v":0},null,{"$f":"SUM(I339:I341)","v":0},null,{"$f":"SUM(K339:K341)","v":0},null,null,null,4,null,null,null,null,null,null,null,null,null,null,null,null,null,null,null,null,null,null,null,null,null,null,null,null,null,null,null,null,null,null,null,null,null,null,null,null,null,{"$f":"SUM(BA339:BA341)","v":0},{"$f":"SUM(BB339:BB341)","v":0},{"$f":"SUM(BC339:BC341)","v":0},{"$f":"SUM(BD339:BD341)","v":0},{"$f":"SUM(BE339:BE341)","v":0}]

{"sheet":"301 3542301.2 KL","index":20,"n_rows":45,"n_cols":8,"rows_kept":45,"cut":false,"hidden":false,"merged":[[50,1,50,6],[29,5,29,6],[30,5,30,6],[31,5,31,6],[32,5,32,6],[33,5,33,6],[36,1,44,6],[45,1,45,6],[46,1,46,6],[47,1,47,6],[48,1,48,6],[49,1,49,6],[22,0,22,1],[7,2,7,4],[8,2,8,4],[9,2,9,4],[10,2,10,4],[11,2,11,4]]}
["POLOŽKOVÝ ROZPOČET"]
["Rozpočet",null,"3542/301.2","Vodovodní napojovací body",null,"JKSO ","827.13"]
[]
["Objekt",null,null,null,null,"SKP "]
["301",null,"Oprava vodovodní řadů S1 a S2 ul. Smetanova",null,null,"Měrná jednotka","m"]
["Stavba",null,null,null,null,"Počet jednotek",0]
["3542",null,"Semily - Obnova VH infrastruktury a komunikací",null,null,"Náklady na m.j.",{"$f":"IF(G6=0,,ROUND((F30+F32)/G6,1))","v":0}]
["Projektant",null,null,null,null,"Typ rozpočtu"]
["Zpracovatel projektu"]
["Objednatel",null,"Vodohospodářské sdružení Turnov"]
["Dodavatel",null,".",null,null,"Zakázkové číslo "]
["Rozpočtoval",null,null,null,null,"Počet listů"]
["ROZPOČTOVÉ NÁKLADY"]
["Základní rozpočtové náklady"]
[null,"HSV celkem",{"$f":"'301 3542301.2 Rek'!E13","v":0}]
["Z","PSV celkem",{"$f":"'301 3542301.2 Rek'!F13","v":0}]
["R","M práce celkem",{"$f":"'301 3542301.2 Rek'!H13","v":0}]
["N","M dodávky celkem",{"$f":"'301 3542301.2 Rek'!G13","v":0}]
["ZRN celkem",null,{"$f":"SUM(C15:C18)","v":0}]
[]
["HZS",null,{"$f":"'301 3542301.2 Rek'!I13","v":0}]
["ZRN+HZS",null,{"$f":"C19+C21","v":0}]
["ZRN+ost.náklady+HZS",null,{"$f":"C22+G23","v":0}]
["Vypracoval",null,null,"Za zhotovitele",null,"Za objednatele"]
["Jméno :",null,null,"Jméno :",null,"Jméno :"]
["Datum :",null,null,"Datum :",null,"Datum :"]
[]
["Podpis :",null,null,"Podpis:",null,"Podpis:"]
[]
["Základ pro DPH",null,21,"%  ",null,{"$f":"C23-F32","v":0}]
["DPH",null,{"$f":"C30","v":21},"% ",null,{"$f":"ROUND(PRODUCT(F30,C31/100),0)","v":0}]
["Základ pro DPH",null,0,"% ",null,0]
["DPH",null,{"$f":"C32","v":0},"% ",null,{"$f":"ROUND(PRODUCT(F32,C33/100),0)","v":0}]
["CENA ZA OBJEKT CELKEM",null,null,null,null,{"$f":"ROUND(SUM(F30:F33),0)","v":0}]
[]
["Poznámka :",null,null,null,null,null,null," "]
[null,null,null,null,null,null,null," "]
[null,null,null,null,null,null,null," "]
[null,null,null,null,null,null,null," "]
[null,null,null,null,null,null,null," "]
[null,null,null,null,null,null,null," "]
[null,null,null,null,null,null,null," "]
[null,null,null,null,null,null,null," "]
[null,null,null,null,null,null,null," "]
[null,null,null,null,null,null,null," "]

{"sheet":"301 3542301.2 Rek","index":21,"n_rows":13,"n_cols":9,"rows_kept":13,"cut":false,"hidden":false,"merged":[[0,0,0,1],[1,0,1,1],[1,6,1,8]]}
["Stavba :",null,"3542 Semily - Obnova VH infrastruktury a komunikací",null,null,null,"Rozpočet :","3542/301.2"]
["Objekt :",null,"301 Oprava vodovodní řadů S1 a S2 ul. Smetanova",null,null,null,"Vodovodní napojovací body"]
[]
["REKAPITULACE  STAVEBNÍCH  DÍLŮ"]
[]
[null,"Stavební díl",null,null,"HSV","PSV","Dodávka","Montáž","HZS"]
[{"$f":"'301 3542301.2 Pol'!B7","v":"1"},{"$f":"'301 3542301.2 Pol'!C7","v":"Zemní práce"},null,null,{"$f":"'301 3542301.2 Pol'!BA100","v":0},{"$f":"'301 3542301.2 Pol'!BB100","v":0},{"$f":"'301 3542301.2 Pol'!BC100","v":0},{"$f":"'301 3542301.2 Pol'!BD100","v":0},{"$f":"'301 3542301.2 Pol'!BE100","v":0}]
[{"$f":"'301 3542301.2 Pol'!B101","v":"21"},{"$f":"'301 3542301.2 Pol'!C101","v":"Úprava podloží a základ.spáry"},null,null,{"$f":"'301 3542301.2 Pol'!BA105","v":0},{"$f":"'301 3542301.2 Pol'!BB105","v":0},{"$f":"'301 3542301.2 Pol'!BC105","v":0},{"$f":"'301 3542301.2 Pol'!BD105","v":0},{"$f":"'301 3542301.2 Pol'!BE105","v":0}]
[{"$f":"'301 3542301.2 Pol'!B106","v":"45"},{"$f":"'301 3542301.2 Pol'!C106","v":"Podkladní a vedlejší konstrukce"},null,null,{"$f":"'301 3542301.2 Pol'!BA110","v":0},{"$f":"'301 3542301.2 Pol'!BB110","v":0},{"$f":"'301 3542301.2 Pol'!BC110","v":0},{"$f":"'301 3542301.2 Pol'!BD110","v":0},{"$f":"'301 3542301.2 Pol'!BE110","v":0}]
[{"$f":"'301 3542301.2 Pol'!B111","v":"5"},{"$f":"'301 3542301.2 Pol'!C111","v":"Komunikace"},null,null,{"$f":"'301 3542301.2 Pol'!BA120","v":0},{"$f":"'301 3542301.2 Pol'!BB120","v":0},{"$f":"'301 3542301.2 Pol'!BC120","v":0},{"$f":"'301 3542301.2 Pol'!BD120","v":0},{"$f":"'301 3542301.2 Pol'!BE120","v":0}]
[{"$f":"'301 3542301.2 Pol'!B121","v":"8"},{"$f":"'301 3542301.2 Pol'!C121","v":"Trubní vedení"},null,null,{"$f":"'301 3542301.2 Pol'!BA187","v":0},{"$f":"'301 3542301.2 Pol'!BB187","v":0},{"$f":"'301 3542301.2 Pol'!BC187","v":0},{"$f":"'301 3542301.2 Pol'!BD187","v":0},{"$f":"'301 3542301.2 Pol'!BE187","v":0}]
[{"$f":"'301 3542301.2 Pol'!B188","v":"99"},{"$f":"'301 3542301.2 Pol'!C188","v":"Staveništní přesun hmot"},null,null,{"$f":"'301 3542301.2 Pol'!BA191","v":0},{"$f":"'301 3542301.2 Pol'!BB191","v":0},{"$f":"'301 3542301.2 Pol'!BC191","v":0},{"$f":"'301 3542301.2 Pol'!BD191","v":0},{"$f":"'301 3542301.2 Pol'!BE191","v":0}]
[null,"CELKEM  OBJEKT",null,null,{"$f":"SUM(E7:E12)","v":0},{"$f":"SUM(F7:F12)","v":0},{"$f":"SUM(G7:G12)","v":0},{"$f":"SUM(H7:H12)","v":0},{"$f":"SUM(I7:I12)","v":0}]

{"sheet":"301 3542301.2 Pol","index":22,"n_rows":191,"n_cols":80,"rows_kept":191,"cut":false,"hidden":false,"merged":[[185,2,185,3],[189,2,189,6],[179,2,179,6],[180,2,180,3],[181,2,181,3],[183,2,183,3],[184,2,184,3],[177,2,177,6],[178,2,178,6],[170,2,170,6],[171,2,171,6],[172,2,172,6],[173,2,173,3],[174,2,174,3],[175,2,175,3],[163,2,163,3],[164,2,164,3],[166,2,166,6],[167,2,167,6],[168,2,168,6],[169,2,169,6],[155,2,155,6],[156,2,156,3],[157,2,157,3],[159,2,159,3],[160,2,160,3],[162,2,162,6],[147,2,147,3],[148,2,148,3],[150,2,150,6],[151,2,151,3],[152,2,152,3],[154,2,154,6],[139,2,139,3],[140,2,140,3],[142,2,142,6],[143,2,143,3],[144,2,144,3],[146,2,146,6],[131,2,131,3],[132,2,132,3],[134,2,134,3],[135,2,135,3],[136,2,136,3],[138,2,138,6],[118,2,118,3],[122,2,122,3],[123,2,123,3],[124,2,124,3],[126,2,126,3],[127,2,127,3],[128,2,128,3],[130,2,130,6],[107,2,107,3],[108,2,108,3],[112,2,112,3],[113,2,113,3],[115,2,115,6],[116,2,116,3],[117,2,117,3],[98,2,98,3],[102,2,102,3],[103,2,103,3],[90,2,90,3],[91,2,91,3],[92,2,92,3],[94,2,94,3],[95,2,95,3],[97,2,97,3],[82,2,82,3],[83,2,83,3],[84,2,84,3],[86,2,86,3],[87,2,87,3],[89,2,89,3],[76,2,76,3],[77,2,77,3],[78,2,78,3],[79,2,79,3],[80,2,80,3],[81,2,81,3],[70,2,70,3],[71,2,71,3],[72,2,72,3],[73,2,73,3],[74,2,74,3],[75,2,75,3],[63,2,63,3],[65,2,65,6],[66,2,66,6],[67,2,67,3],[68,2,68,3],[69,2,69,3],[56,2,56,3],[57,2,57,3],[58,2,58,3],[60,2,60,3],[61,2,61,3],[62,2,62,3],[48,2,48,3],[50,2,50,3],[51,2,51,3],[52,2,52,3],[53,2,53,3],[55,2,55,3],[40,2,40,3],[42,2,42,3],[43,2,43,3],[44,2,44,3],[45,2,45,3],[47,2,47,3],[33,2,33,3],[34,2,34,3],[36,2,36,6],[37,2,37,3],[38,2,38,3],[39,2,39,3],[26,2,26,3],[27,2,27,3],[28,2,28,3],[29,2,29,3],[31,2,31,3],[32,2,32,3],[20,2,20,3],[21,2,21,3],[22,2,22,3],[23,2,23,3],[24,2,24,3],[25,2,25,3],[13,2,13,6],[14,2,14,3],[15,2,15,3],[16,2,16,3],[17,2,17,3],[19,2,19,6],[0,0,0,6],[2,0,2,1],[3,0,3,1],[3,4,3,6],[8,2,8,3],[9,2,9,3],[10,2,10,3],[12,2,12,6]]}
["Položkový rozpočet "]
[]
["Stavba :",null,"3542 Semily - Obnova VH infrastruktury a komunikací",null,"Rozpočet:",{"$f":"'301 3542301.2 Rek'!H1","v":"3542/301.2"}]
["Objekt :",null,"301 Oprava vodovodní řadů S1 a S2 ul. Smetanova",null,{"$f":"'301 3542301.2 Rek'!G2","v":"Vodovodní napojovací body"}]
[]
["P.č.","Číslo položky","Název položky","MJ","množství","cena / MJ","celkem (Kč)","Jednotková hmotnost","Celková hmotnost","Jednotková dem.hmot.","Celková dem.hmot."]
["Díl:","1","Zemní práce",null,null,null,null,null,null,null,null,null,null,null,1]
[1,"121100002RAA","Sejmutí ornice a uložení na deponii zpětný přesun, rozprostření v tl. 200 mm, osetí","m3",19.600000000000001,null,{"$f":"E8*F8","v":0},0,{"$f":"E8*H8","v":0},0,{"$f":"E8*J8","v":0},null,null,null,2,null,null,null,null,null,null,null,null,null,null,null,1,1,1,null,null,null,null,null,null,null,null,null,null,null,null,null,null,null,null,null,null,null,null,null,null,1,{"$f":"IF(AZ8=1,G8,0)","v":0},{"$f":"IF(AZ8=2,G8,0)","v":0},{"$f":"IF(AZ8=3,G8,0)","v":0},{"$f":"IF(AZ8=4,G8,0)","v":0},{"$f":"IF(AZ8=5,G8,0)","v":0},null,null,null,null,null,null,null,null,null,null,null,null,null,null,null,null,null,null,null,null,null,1,1]
[null,null,"Vodovodní přípojky z  PE D 32x3,0 mm:",null,0,null,null,null,null,null,null,null,"Vodovodní přípojky z  PE D 32x3,0 mm:"]
[null,null,"Pracodní prostor šířky 2,0 m:",null,0,null,null,null,null,null,null,null,"Pracodní prostor šířky 2,0 m:"]
[null,null,"VP (10 kusů):49,00*2,00*0,20",null,19.600000000000001,null,null,null,null,null,null,null,"VP (10 kusů):49,00*2,00*0,20"]
[2,"130001101RRX","Příplatek za ztížené hloubení v blízkosti vedení ","m3",21.74,null,{"$f":"E12*F12","v":0},0,{"$f":"E12*H12","v":0},0,{"$f":"E12*J12","v":0},null,null,null,2,null,null,null,null,null,null,null,null,null,null,null,1,1,1,null,null,null,null,null,null,null,null,null,null,null,null,null,null,null,null,null,null,null,null,null,null,1,{"$f":"IF(AZ12=1,G12,0)","v":0},{"$f":"IF(AZ12=2,G12,0)","v":0},{"$f":"IF(AZ12=3,G12,0)","v":0},{"$f":"IF(AZ12=4,G12,0)","v":0},{"$f":"IF(AZ12=5,G12,0)","v":0},null,null,null,null,null,null,null,null,null,null,null,null,null,null,null,null,null,null,null,null,null,1,1]
[null,null,"Včetně případných nutných dokopávek a ručního výkopu podél sousedících inženýrských sítí.",null,null,null,null,null,null,null,null,"Včetně případných nutných dokopávek a ručního výkopu podél sousedících inženýrských sítí.",null,null,3]
[null,null,"Součástí položky je i dočasné zajištění stávajících inženýrských sítí v prostoru výkopů (potrubí, kabely a pod.)",null,null,null,null,null,null,null,null,"Součástí položky je i dočasné zajištění stávajících inženýrských sítí v prostoru výkopů (potrubí, kabely a pod.)",null,null,3]
[null,null,"Vodovodní přípojky z  PE D 32x3,0 mm:",null,0,null,null,null,null,null,null,null,"Vodovodní přípojky z  PE D 32x3,0 mm:"]
[null,null,"Průměrná hloubka výkopů 1,60 m:",null,0,null,null,null,null,null,null,null,"Průměrná hloubka výkopů 1,60 m:"]
[null,null,"Výkopy:",null,0,null,null,null,null,null,null,null,"Výkopy:"]
[null,null,"V hornině tř. 3 - 4 - 25%:86,9600*0,25",null,21.74,null,null,null,null,null,null,null,"V hornině tř. 3 - 4 - 25%:86,9600*0,25"]
[3,"132201210R00","Hloubení rýh š.do 200 cm hor.3 do 50 m3,STROJNĚ ","m3",43.48,null,{"$f":"E19*F19","v":0},0,{"$f":"E19*H19","v":0},0,{"$f":"E19*J19","v":0},null,null,null,2,null,null,null,null,null,null,null,null,null,null,null,1,1,1,null,null,null,null,null,null,null,null,null,null,null,null,null,null,null,null,null,null,null,null,null,null,1,{"$f":"IF(AZ19=1,G19,0)","v":0},{"$f":"IF(AZ19=2,G19,0)","v":0},{"$f":"IF(AZ19=3,G19,0)","v":0},{"$f":"IF(AZ19=4,G19,0)","v":0},{"$f":"IF(AZ19=5,G19,0)","v":0},null,null,null,null,null,null,null,null,null,null,null,null,null,null,null,null,null,null,null,null,null,1,1]
[null,null,"Položka obsahuje hloubení rýh traktorbagrem, naložení výkopku na dopravní prostředek pro svislé, nebo vodorovné přemístění, popř. přemístění výkopku do 3 m (po povrchu území), případné zajištění rypadel polštáři, udržování pracoviště a ochranu výkopiště proti stékání srážkové vody z okolního terénu i s jejím odvodněním, nebo odvedením, přesekání a odstranění kořenů ve výkopišti, odstranění napadávek, urovnání dna výkopu.",null,null,null,null,null,null,null,null,"Položka obsahuje hloubení rýh traktorbagrem, naložení výkopku na dopravní prostředek pro svislé, nebo vodorovné přemístění, popř. přemístění výkopku do 3 m (po povrchu území), případné zajištění rypadel polštáři, udržování pracoviště a ochranu výkopiště proti stékání srážkové vody z okolního terénu i s jejím odvodněním, nebo odvedením, přesekání a odstranění kořenů ve výkopišti, odstranění napadávek, urovnání dna výkopu.",null,null,3]
[null,null,"Vodovodní přípojky z  PE D 32x3,0 mm:",null,0,null,null,null,null,null,null,null,"Vodovodní přípojky z  PE D 32x3,0 mm:"]
[null,null,"Průměrná hloubka výkopů 1,60 m:",null,0,null,null,null,null,null,null,null,"Průměrná hloubka výkopů 1,60 m:"]
[null,null,"Výkopy:",null,0,null,null,null,null,null,null,null,"Výkopy:"]
[null,null,"Začátek provozního součtu",null,0,null,null,null,null,null,null,null,"Začátek provozního součtu"]
[null,null,"VP (10 kusů):90,00*0,70*1,60",null,100.8,null,null,null,null,null,null,null,"VP (10 kusů):90,00*0,70*1,60"]
[null,null,"Výkopy pro VŠ:1,50*1,50*2,00*1",null,4.5,null,null,null,null,null,null,null,"Výkopy pro VŠ:1,50*1,50*2,00*1"]
[null,null,"Odpočet objemu konstrukce komunikací a chodníků:-41,00*0,70*0,40",null,-11.48,null,null,null,null,null,null,null,"Odpočet objemu konstrukce komunikací a chodníků:-41,00*0,70*0,40"]
[null,null,"Odpočet objemu ornice:-(90,00-41,00)*0,70*0,20",null,-6.86,null,null,null,null,null,null,null,"Odpočet objemu ornice:-(90,00-41,00)*0,70*0,20"]
[null,null,"Konec provozního součtu",null,86.96,null,null,null,null,null,null,null,"Konec provozního součtu"]
[null,null,"V hornině tř. 3 - 50%:86,9600*0,5",null,43.48,null,null,null,null,null,null,null,"V hornině tř. 3 - 50%:86,9600*0,5"]
[4,"132201219R00","Přípl.za lepivost,hloubení rýh 200cm,hor.3,STROJNĚ ","m3",21.74,null,{"$f":"E31*F31","v":0},0,{"$f":"E31*H31","v":0},0,{"$f":"E31*J31","v":0},null,null,null,2,null,null,null,null,null,null,null,null,null,null,null,1,1,1,null,null,null,null,null,null,null,null,null,null,null,null,null,null,null,null,null,null,null,null,null,null,1,{"$f":"IF(AZ31=1,G31,0)","v":0},{"$f":"IF(AZ31=2,G31,0)","v":0},{"$f":"IF(AZ31=3,G31,0)","v":0},{"$f":"IF(AZ31=4,G31,0)","v":0},{"$f":"IF(AZ31=5,G31,0)","v":0},null,null,null,null,null,null,null,null,null,null,null,null,null,null,null,null,null,null,null,null,null,1,1]
[null,null,"Vodovodní přípojky z  PE D 32x3,0 mm:",null,0,null,null,null,null,null,null,null,"Vodovodní přípojky z  PE D 32x3,0 mm:"]
[null,null,"Průměrná hloubka výkopů 1,60 m:",null,0,null,null,null,null,null,null,null,"Průměrná hloubka výkopů 1,60 m:"]
[null,null,"Výkopy:",null,0,null,null,null,null,null,null,null,"Výkopy:"]
[null,null,"V hornině tř. 3 - 50%:86,9600*0,5*0,5",null,21.74,null,null,null,null,null,null,null,"V hornině tř. 3 - 50%:86,9600*0,5*0,5"]
[5,"132301210R00","Hloubení rýh š.do 200 cm hor.4 do 50 m3, STROJNĚ ","m3",43.48,null,{"$f":"E36*F36","v":0},0,{"$f":"E36*H36","v":0},0,{"$f":"E36*J36","v":0},null,null,null,2,null,null,null,null,null,null,null,null,null,null,null,1,1,1,null,null,null,null,null,null,null,null,null,null,null,null,null,null,null,null,null,null,null,null,null,null,1,{"$f":"IF(AZ36=1,G36,0)","v":0},{"$f":"IF(AZ36=2,G36,0)","v":0},{"$f":"IF(AZ36=3,G36,0)","v":0},{"$f":"IF(AZ36=4,G36,0)","v":0},{"$f":"IF(AZ36=5,G36,0)","v":0},null,null,null,null,null,null,null,null,null,null,null,null,null,null,null,null,null,null,null,null,null,1,1]
[null,null,"Položka obsahuje hloubení rýh traktorbagrem, naložení výkopku na dopravní prostředek pro svislé, nebo vodorovné přemístění, popř. přemístění výkopku do 3 m (po povrchu území), případné zajištění rypadel polštáři, udržování pracoviště a ochranu výkopiště proti stékání srážkové vody z okolního terénu i s jejím odvodněním, nebo odvedením, přesekání a odstranění kořenů ve výkopišti, odstranění napadávek, urovnání dna výkopu.",null,null,null,null,null,null,null,null,"Položka obsahuje hloubení rýh traktorbagrem, naložení výkopku na dopravní prostředek pro svislé, nebo vodorovné přemístění, popř. přemístění výkopku do 3 m (po povrchu území), případné zajištění rypadel polštáři, udržování pracoviště a ochranu výkopiště proti stékání srážkové vody z okolního terénu i s jejím odvodněním, nebo odvedením, přesekání a odstranění kořenů ve výkopišti, odstranění napadávek, urovnání dna výkopu.",null,null,3]
[null,null,"Vodovodní přípojky z  PE D 32x3,0 mm:",null,0,null,null,null,null,null,null,null,"Vodovodní přípojky z  PE D 32x3,0 mm:"]
[null,null,"Průměrná hloubka výkopů 1,60 m:",null,0,null,null,null,null,null,null,null,"Průměrná hloubka výkopů 1,60 m:"]
[null,null,"Výkopy:",null,0,null,null,null,null,null,null,null,"Výkopy:"]
[null,null,"V hornině tř. 4 - 50%:86,9600*0,5",null,43.48,null,null,null,null,null,null,null,"V hornině tř. 4 - 50%:86,9600*0,5"]
[6,"132301219R00","Přípl.za lepivost,hloubení rýh 200cm,hor.4,STROJNĚ ","m3",21.74,null,{"$f":"E42*F42","v":0},0,{"$f":"E42*H42","v":0},0,{"$f":"E42*J42","v":0},null,null,null,2,null,null,null,null,null,null,null,null,null,null,null,1,1,1,null,null,null,null,null,null,null,null,null,null,null,null,null,null,null,null,null,null,null,null,null,null,1,{"$f":"IF(AZ42=1,G42,0)","v":0},{"$f":"IF(AZ42=2,G42,0)","v":0},{"$f":"IF(AZ42=3,G42,0)","v":0},{"$f":"IF(AZ42=4,G42,0)","v":0},{"$f":"IF(AZ42=5,G42,0)","v":0},null,null,null,null,null,null,null,null,null,null,null,null,null,null,null,null,null,null,null,null,null,1,1]
[null,null,"Vodovodní přípojky z  PE D 32x3,0 mm:",null,0,null,null,null,null,null,null,null,"Vodovodní přípojky z  PE D 32x3,0 mm:"]
[null,null,"Průměrná hloubka výkopů 1,60 m:",null,0,null,null,null,null,null,null,null,"Průměrná hloubka výkopů 1,60 m:"]
[null,null,"Výkopy:",null,0,null,null,null,null,null,null,null,"Výkopy:"]
[null,null,"V hornině tř. 4 - 50%:86,9600*0,5*0,5",null,21.74,null,null,null,null,null,null,null,"V hornině tř. 4 - 50%:86,9600*0,5*0,5"]
[7,"132901219RRX","Přípl.za provedení podchodu pod základem oplocení Ručně do objemu 0,75 m3","kus",4,null,{"$f":"E47*F47","v":0},0,{"$f":"E47*H47","v":0},0,{"$f":"E47*J47","v":0},null,null,null,2,null,null,null,null,null,null,null,null,null,null,null,1,1,1,null,null,null,null,null,null,null,null,null,null,null,null,null,null,null,null,null,null,null,null,null,null,1,{"$f":"IF(AZ47=1,G47,0)","v":0},{"$f":"IF(AZ47=2,G47,0)","v":0},{"$f":"IF(AZ47=3,G47,0)","v":0},{"$f":"IF(AZ47=4,G47,0)","v":0},{"$f":"IF(AZ47=5,G47,0)","v":0},null,null,null,null,null,null,null,null,null,null,null,null,null,null,null,null,null,null,null,null,null,1,1]
[null,null,"Vodovodní přípojky z  PE D 32x3,0 mm:",null,0,null,null,null,null,null,null,null,"Vodovodní přípojky z  PE D 32x3,0 mm:"]
[null,null,"VP (10 kusů) - Podchod pod základy oplocení:4",null,4,null,null,null,null,null,null,null,"VP (10 kusů) - Podchod pod základy oplocení:4"]
[8,"151101101R00","Pažení a rozepření stěn rýh - příložné - hl.do 2 m ","m2",288,null,{"$f":"E50*F50","v":0},9.8999999999999999E-4,{"$f":"E50*H50","v":0.28511999999999998},0,{"$f":"E50*J50","v":0},null,null,null,2,null,null,null,null,null,null,null,null,null,null,null,1,1,1,null,null,null,null,null,null,null,null,null,null,null,null,null,null,null,null,null,null,null,null,null,null,1,{"$f":"IF(AZ50=1,G50,0)","v":0},{"$f":"IF(AZ50=2,G50,0)","v":0},{"$f":"IF(AZ50=3,G50,0)","v":0},{"$f":"IF(AZ50=4,G50,0)","v":0},{"$f":"IF(AZ50=5,G50,0)","v":0},null,null,null,null,null,null,null,null,null,null,null,null,null,null,null,null,null,null,null,null,null,1,1]
[null,null,"Vodovodní přípojky z  PE D 32x3,0 mm:",null,0,null,null,null,null,null,null,null,"Vodovodní přípojky z  PE D 32x3,0 mm:"]
[null,null,"Průměrná hloubka výkopů 1,60 m:",null,0,null,null,null,null,null,null,null,"Průměrná hloubka výkopů 1,60 m:"]
[null,null,"Výkopy:",null,0,null,null,null,null,null,null,null,"Výkopy:"]
[null,null,"VP (10 kusů):90,00*1,60*2",null,288,null,null,null,null,null,null,null,"VP (10 kusů):90,00*1,60*2"]
[9,"151101111R00","Odstranění pažení stěn rýh - příložné - hl. do 2 m ","m2",288,null,{"$f":"E55*F55","v":0},0,{"$f":"E55*H55","v":0},0,{"$f":"E55*J55","v":0},null,null,null,2,null,null,null,null,null,null,null,null,null,null,null,1,1,1,null,null,null,null,null,null,null,null,null,null,null,null,null,null,null,null,null,null,null,null,null,null,1,{"$f":"IF(AZ55=1,G55,0)","v":0},{"$f":"IF(AZ55=2,G55,0)","v":0},{"$f":"IF(AZ55=3,G55,0)","v":0},{"$f":"IF(AZ55=4,G55,0)","v":0},{"$f":"IF(AZ55=5,G55,0)","v":0},null,null,null,null,null,null,null,null,null,null,null,null,null,null,null,null,null,null,null,null,null,1,1]
[null,null,"Vodovodní přípojky z  PE D 32x3,0 mm:",null,0,null,null,null,null,null,null,null,"Vodovodní přípojky z  PE D 32x3,0 mm:"]
[null,null,"Průměrná hloubka výkopů 1,60 m:",null,0,null,null,null,null,null,null,null,"Průměrná hloubka výkopů 1,60 m:"]
[null,null,"Výkopy:",null,0,null,null,null,null,null,null,null,"Výkopy:"]
[null,null,"VP (10 kusů):90,00*1,60*2",null,288,null,null,null,null,null,null,null,"VP (10 kusů):90,00*1,60*2"]
[10,"162701105RSZ","Vodorovné přemístění výkopku z hor.1-7 na skládku zhotovitele","m3",52.522599999999997,null,{"$f":"E60*F60","v":0},0,{"$f":"E60*H60","v":0},0,{"$f":"E60*J60","v":0},null,null,null,2,null,null,null,null,null,null,null,null,null,null,null,1,1,1,null,null,null,null,null,null,null,null,null,null,null,null,null,null,null,null,null,null,null,null,null,null,1,{"$f":"IF(AZ60=1,G60,0)","v":0},{"$f":"IF(AZ60=2,G60,0)","v":0},{"$f":"IF(AZ60=3,G60,0)","v":0},{"$f":"IF(AZ60=4,G60,0)","v":0},{"$f":"IF(AZ60=5,G60,0)","v":0},null,null,null,null,null,null,null,null,null,null,null,null,null,null,null,null,null,null,null,null,null,1,1]
[null,null,"Vodovodní přípojky z  PE D 32x3,0 mm:",null,0,null,null,null,null,null,null,null,"Vodovodní přípojky z  PE D 32x3,0 mm:"]
[null,null,"Průměrná hloubka výkopů 1,60 m:",null,0,null,null,null,null,null,null,null,"Průměrná hloubka výkopů 1,60 m:"]
[null,null,"Výkopy:86,9600",null,86.96,null,null,null,null,null,null,null,"Výkopy:86,9600"]
[null,null,"Odpočet objemu zásypů zeminoi:-34,4374",null,-34.437399999999997,null,null,null,null,null,null,null,"Odpočet objemu zásypů zeminoi:-34,4374"]
[11,"174101101R00","Zásyp jam, rýh, šachet se zhutněním ","m3",55.043999999999997,null,{"$f":"E65*F65","v":0},0,{"$f":"E65*H65","v":0},0,{"$f":"E65*J65","v":0},null,null,null,2,null,null,null,null,null,null,null,null,null,null,null,1,1,1,null,null,null,null,null,null,null,null,null,null,null,null,null,null,null,null,null,null,null,null,null,null,1,{"$f":"IF(AZ65=1,G65,0)","v":0},{"$f":"IF(AZ65=2,G65,0)","v":0},{"$f":"IF(AZ65=3,G65,0)","v":0},{"$f":"IF(AZ65=4,G65,0)","v":0},{"$f":"IF(AZ65=5,G65,0)","v":0},null,null,null,null,null,null,null,null,null,null,null,null,null,null,null,null,null,null,null,null,null,1,1]
[null,null,"Položka obsahuje strojní přemístění materiálu pro zásyp ze vzdálenosti do 10 m od okraje zásypu.",null,null,null,null,null,null,null,null,"Položka obsahuje strojní přemístění materiálu pro zásyp ze vzdálenosti do 10 m od okraje zásypu.",null,null,3]
[null,null,null,null,null,null,null,null,null,null,null,null,null,null,3]
[null,null,"Vodovodní přípojky z  PE D 32x3,0 mm:",null,0,null,null,null,null,null,null,null,"Vodovodní přípojky z  PE D 32x3,0 mm:"]
[null,null,"Zásypy ŠD fr. 0-63 mm:20,6066",null,20.6066,null,null,null,null,null,null,null,"Zásypy ŠD fr. 0-63 mm:20,6066"]
[null,null,"Začátek provozního součtu",null,0,null,null,null,null,null,null,null,"Začátek provozního součtu"]
[null,null,"Výkopy:",null,0,null,null,null,null,null,null,null,"Výkopy:"]
[null,null,"VP (10 kusů):41,00*0,70*1,60",null,45.92,null,null,null,null,null,null,null,"VP (10 kusů):41,00*0,70*1,60"]
[null,null,"Odpočet objemu konstrukce komunikací a chodníků:-41,00*0,70*0,40",null,-11.48,null,null,null,null,null,null,null,"Odpočet objemu konstrukce komunikací a chodníků:-41,00*0,70*0,40"]
[null,null,"Odpočet objemu lože, potrubí a obsypů:-41,00*0,70*(0,15+0,032+0,30)",null,-13.833399999999999,null,null,null,null,null,null,null,"Odpočet objemu lože, potrubí a obsypů:-41,00*0,70*(0,15+0,032+0,30)"]
[null,null,"Konec provozního součtu",null,20.6066,null,null,null,null,null,null,null,"Konec provozního součtu"]
[null,null,"Zásypy zeminou:34,4374",null,34.437399999999997,null,null,null,null,null,null,null,"Zásypy zeminou:34,4374"]
[null,null,"Začátek provozního součtu",null,0,null,null,null,null,null,null,null,"Začátek provozního součtu"]
[null,null,"Výkopy:",null,0,null,null,null,null,null,null,null,"Výkopy:"]
[null,null,"VP (10 kusů):49,00*0,70*1,60",null,54.88,null,null,null,null,null,null,null,"VP (10 kusů):49,00*0,70*1,60"]
[null,null,"VŠ:1,50*1,50*2,00*1",null,4.5,null,null,null,null,null,null,null,"VŠ:1,50*1,50*2,00*1"]
[null,null,"Odpočez objemu ornice:-49,00*0,70*0,20",null,-6.86,null,null,null,null,null,null,null,"Odpočez objemu ornice:-49,00*0,70*0,20"]
[null,null,"Odpočet objemu lože, potrubí a obsypů:-49,00*0,70*(0,15+0,032+0,30)",null,-16.532599999999999,null,null,null,null,null,null,null,"Odpočet objemu lože, potrubí a obsypů:-49,00*0,70*(0,15+0,032+0,30)"]
[null,null,"Odpočet objemu VŠ:-1,5500",null,-1.55,null,null,null,null,null,null,null,"Odpočet objemu VŠ:-1,5500"]
[null,null,"0",null,0,null,null,null,null,null,null,null,0]
[null,null,"Konec provozního součtu",null,34.437400000000011,null,null,null,null,null,null,null,"Konec provozního součtu"]
[12,"175101101R00","Obsyp potrubí bez prohození sypaniny ","m3",20.843599999999999,null,{"$f":"E86*F86","v":0},0,{"$f":"E86*H86","v":0},0,{"$f":"E86*J86","v":0},null,null,null,2,null,null,null,null,null,null,null,null,null,null,null,1,1,1,null,null,null,null,null,null,null,null,null,null,null,null,null,null,null,null,null,null,null,null,null,null,1,{"$f":"IF(AZ86=1,G86,0)","v":0},{"$f":"IF(AZ86=2,G86,0)","v":0},{"$f":"IF(AZ86=3,G86,0)","v":0},{"$f":"IF(AZ86=4,G86,0)","v":0},{"$f":"IF(AZ86=5,G86,0)","v":0},null,null,null,null,null,null,null,null,null,null,null,null,null,null,null,null,null,null,null,null,null,1,1]
[null,null,"Vodovodní přípojky z  PE D 32x3,0 mm:",null,0,null,null,null,null,null,null,null,"Vodovodní přípojky z  PE D 32x3,0 mm:"]
[null,null,"VP (10 kusů):90,00*(0,70*(0,032+0,30)-0,016^2*Pi)",null,20.843599999999999,null,null,null,null,null,null,null,"VP (10 kusů):90,00*(0,70*(0,032+0,30)-0,016^2*Pi)"]
[13,"199000002R00","Poplatek za skládku horniny 1- 7 č. dle katal. odpadů 17 05 04","m3",52.522599999999997,null,{"$f":"E89*F89","v":0},0,{"$f":"E89*H89","v":0},0,{"$f":"E89*J89","v":0},null,null,null,2,null,null,null,null,null,null,null,null,null,null,null,1,1,1,null,null,null,null,null,null,null,null,null,null,null,null,null,null,null,null,null,null,null,null,null,null,1,{"$f":"IF(AZ89=1,G89,0)","v":0},{"$f":"IF(AZ89=2,G89,0)","v":0},{"$f":"IF(AZ89=3,G89,0)","v":0},{"$f":"IF(AZ89=4,G89,0)","v":0},{"$f":"IF(AZ89=5,G89,0)","v":0},null,null,null,null,null,null,null,null,null,null,null,null,null,null,null,null,null,null,null,null,null,1,1]
[null,null,"Vodovodní přípojky z  PE D 32x3,0 mm:",null,0,null,null,null,null,null,null,null,"Vodovodní přípojky z  PE D 32x3,0 mm:"]
[null,null,"Průměrná hloubka výkopů 1,60 m:",null,0,null,null,null,null,null,null,null,"Průměrná hloubka výkopů 1,60 m:"]
[null,null,"Výkopy:86,9600",null,86.96,null,null,null,null,null,null,null,"Výkopy:86,9600"]
[null,null,"Odpočet objemu zásypů zeminoi:-34,4374",null,-34.437399999999997,null,null,null,null,null,null,null,"Odpočet objemu zásypů zeminoi:-34,4374"]
[14,"58337308.R","Štěrkopísek frakce 0-2 tř.B","t",41.535699999999999,null,{"$f":"E94*F94","v":0},1,{"$f":"E94*H94","v":41.535699999999999},null,{"$f":"E94*J94","v":0},null,null,null,2,null,null,null,null,null,null,null,null,null,null,null,3,1,"58337308.R",null,null,null,null,null,null,null,null,null,null,null,null,null,null,null,null,null,null,null,null,null,null,1,{"$f":"IF(AZ94=1,G94,0)","v":0},{"$f":"IF(AZ94=2,G94,0)","v":0},{"$f":"IF(AZ94=3,G94,0)","v":0},{"$f":"IF(AZ94=4,G94,0)","v":0},{"$f":"IF(AZ94=5,G94,0)","v":0},null,null,null,null,null,null,null,null,null,null,null,null,null,null,null,null,null,null,null,null,null,3,1]
[null,null,"Vodovodní přípojky z  PE D 32x3,0 mm:",null,0,null,null,null,null,null,null,null,"Vodovodní přípojky z  PE D 32x3,0 mm:"]
[null,null,"VP (10 kusů):90,00*(0,70*(0,032+0,30)-0,016^2*Pi)*1,973*1,01",null,41.535699999999999,null,null,null,null,null,null,null,"VP (10 kusů):90,00*(0,70*(0,032+0,30)-0,016^2*Pi)*1,973*1,01"]
[15,"58344197R","Štěrkodrtě frakce 0-63 A","t",38.982100000000003,null,{"$f":"E97*F97","v":0},1,{"$f":"E97*H97","v":38.982100000000003},null,{"$f":"E97*J97","v":0},null,null,null,2,null,null,null,null,null,null,null,null,null,null,null,3,1,"58344197R",null,null,null,null,null,null,null,null,null,null,null,null,null,null,null,null,null,null,null,null,null,null,1,{"$f":"IF(AZ97=1,G97,0)","v":0},{"$f":"IF(AZ97=2,G97,0)","v":0},{"$f":"IF(AZ97=3,G97,0)","v":0},{"$f":"IF(AZ97=4,G97,0)","v":0},{"$f":"IF(AZ97=5,G97,0)","v":0},null,null,null,null,null,null,null,null,null,null,null,null,null,null,null,null,null,null,null,null,null,3,1]
[null,null,"Vodovodní přípojky z  PE D 32x3,0 mm:",null,0,null,null,null,null,null,null,null,"Vodovodní přípojky z  PE D 32x3,0 mm:"]
[null,null,"Zásypy ŠD fr. 0-63 mm:20,6066*1,873*1,01",null,38.982100000000003,null,null,null,null,null,null,null,"Zásypy ŠD fr. 0-63 mm:20,6066*1,873*1,01"]
[null,"Celkem za","1 Zemní práce",null,null,null,{"$f":"SUM(G7:G99)","v":0},null,{"$f":"SUM(I7:I99)","v":80.80292},null,{"$f":"SUM(K7:K99)","v":0},null,null,null,4,null,null,null,null,null,null,null,null,null,null,null,null,null,null,null,null,null,null,null,null,null,null,null,null,null,null,null,null,null,null,null,null,null,null,null,null,null,{"$f":"SUM(BA7:BA99)","v":0},{"$f":"SUM(BB7:BB99)","v":0},{"$f":"SUM(BC7:BC99)","v":0},{"$f":"SUM(BD7:BD99)","v":0},{"$f":"SUM(BE7:BE99)","v":0}]
["Díl:","21","Úprava podloží a základ.spáry",null,null,null,null,null,null,null,null,null,null,null,1]
[16,"215901101RT5","Zhutnění podloží do 92% PS vibrační deskou","m2",63,null,{"$f":"E102*F102","v":0},0,{"$f":"E102*H102","v":0},0,{"$f":"E102*J102","v":0},null,null,null,2,null,null,null,null,null,null,null,null,null,null,null,1,1,1,null,null,null,null,null,null,null,null,null,null,null,null,null,null,null,null,null,null,null,null,null,null,1,{"$f":"IF(AZ102=1,G102,0)","v":0},{"$f":"IF(AZ102=2,G102,0)","v":0},{"$f":"IF(AZ102=3,G102,0)","v":0},{"$f":"IF(AZ102=4,G102,0)","v":0},{"$f":"IF(AZ102=5,G102,0)","v":0},null,null,null,null,null,null,null,null,null,null,null,null,null,null,null,null,null,null,null,null,null,1,1]
[null,null,"Vodovodní přípojky z  PE D 32x3,0 mm:",null,0,null,null,null,null,null,null,null,"Vodovodní přípojky z  PE D 32x3,0 mm:"]
[null,null,"VP (10 kusů):90,00*0,70",null,63,null,null,null,null,null,null,null,"VP (10 kusů):90,00*0,70"]
[null,"Celkem za","21 Úprava podloží a základ.spáry",null,null,null,{"$f":"SUM(G101:G104)","v":0},null,{"$f":"SUM(I101:I104)","v":0},null,{"$f":"SUM(K101:K104)","v":0},null,null,null,4,null,null,null,null,null,null,null,null,null,null,null,null,null,null,null,null,null,null,null,null,null,null,null,null,null,null,null,null,null,null,null,null,null,null,null,null,null,{"$f":"SUM(BA101:BA104)","v":0},{"$f":"SUM(BB101:BB104)","v":0},{"$f":"SUM(BC101:BC104)","v":0},{"$f":"SUM(BD101:BD104)","v":0},{"$f":"SUM(BE101:BE104)","v":0}]
["Díl:","45","Podkladní a vedlejší konstrukce",null,null,null,null,null,null,null,null,null,null,null,1]
[17,"451572111R00","Lože pod potrubí z kameniva těženého 0 - 4 mm ","m3",9.4499999999999993,null,{"$f":"E107*F107","v":0},0.43051,{"$f":"E107*H107","v":4.0683194999999994},0,{"$f":"E107*J107","v":0},null,null,null,2,null,null,null,null,null,null,null,null,null,null,null,1,1,1,null,null,null,null,null,null,null,null,null,null,null,null,null,null,null,null,null,null,null,null,null,null,1,{"$f":"IF(AZ107=1,G107,0)","v":0},{"$f":"IF(AZ107=2,G107,0)","v":0},{"$f":"IF(AZ107=3,G107,0)","v":0},{"$f":"IF(AZ107=4,G107,0)","v":0},{"$f":"IF(AZ107=5,G107,0)","v":0},null,null,null,null,null,null,null,null,null,null,null,null,null,null,null,null,null,null,null,null,null,1,1]
[null,null,"Vodovodní přípojky z  PE D 32x3,0 mm:",null,0,null,null,null,null,null,null,null,"Vodovodní přípojky z  PE D 32x3,0 mm:"]
[null,null,"VP (10 kusů):90,00*0,70*0,15",null,9.4499999999999993,null,null,null,null,null,null,null,"VP (10 kusů):90,00*0,70*0,15"]
[null,"Celkem za","45 Podkladní a vedlejší konstrukce",null,null,null,{"$f":"SUM(G106:G109)","v":0},null,{"$f":"SUM(I106:I109)","v":4.0683194999999994},null,{"$f":"SUM(K106:K109)","v":0},null,null,null,4,null,null,null,null,null,null,null,null,null,null,null,null,null,null,null,null,null,null,null,null,null,null,null,null,null,null,null,null,null,null,null,null,null,null,null,null,null,{"$f":"SUM(BA106:BA109)","v":0},{"$f":"SUM(BB106:BB109)","v":0},{"$f":"SUM(BC106:BC109)","v":0},{"$f":"SUM(BD106:BD109)","v":0},{"$f":"SUM(BE106:BE109)","v":0}]
["Díl:","5","Komunikace",null,null,null,null,null,null,null,null,null,null,null,1]
[18,"572701119RRX","Provizorní zásyp rýh kam. hrubě drceným nebo recyk s následným odstraněním a odvozem","m3",11.48,null,{"$f":"E112*F112","v":0},1.4804999999999999,{"$f":"E112*H112","v":16.99614},0,{"$f":"E112*J112","v":0},null,null,null,2,null,null,null,null,null,null,null,null,null,null,null,1,1,1,null,null,null,null,null,null,null,null,null,null,null,null,null,null,null,null,null,null,null,null,null,null,1,{"$f":"IF(AZ112=1,G112,0)","v":0},{"$f":"IF(AZ112=2,G112,0)","v":0},{"$f":"IF(AZ112=3,G112,0)","v":0},{"$f":"IF(AZ112=4,G112,0)","v":0},{"$f":"IF(AZ112=5,G112,0)","v":0},null,null,null,null,null,null,null,null,null,null,null,null,null,null,null,null,null,null,null,null,null,1,1]
[null,null,"Vodovodní přípojky z  PE D 32x3,0 mm:",null,0,null,null,null,null,null,null,null,"Vodovodní přípojky z  PE D 32x3,0 mm:"]
[null,null,"Provizorní zásypy konstrukce komunikací a chodníků:41,00*0,70*0,40",null,11.48,null,null,null,null,null,null,null,"Provizorní zásypy konstrukce komunikací a chodníků:41,00*0,70*0,40"]
[19,"591050020RAX","Komunikace z dlažby zámkové, podklad štěrkopísek dlažba přírodní tloušťka 8 cm","m2",20,null,{"$f":"E115*F115","v":0},1.1893,{"$f":"E115*H115","v":23.786000000000001},0,{"$f":"E115*J115","v":0},null,null,null,2,null,null,null,null,null,null,null,null,null,null,null,1,1,1,null,null,null,null,null,null,null,null,null,null,null,null,null,null,null,null,null,null,null,null,null,null,1,{"$f":"IF(AZ115=1,G115,0)","v":0},{"$f":"IF(AZ115=2,G115,0)","v":0},{"$f":"IF(AZ115=3,G115,0)","v":0},{"$f":"IF(AZ115=4,G115,0)","v":0},{"$f":"IF(AZ115=5,G115,0)","v":0},null,null,null,null,null,null,null,null,null,null,null,null,null,null,null,null,null,null,null,null,null,1,1]
[null,null,"Rozebrání části stávající plochy ZD včetně podkladní konstrukce a uvedení plochy do původního stavu za použití původní ZD.",null,null,null,null,null,null,null,null,"Rozebrání části stávající plochy ZD včetně podkladní konstrukce a uvedení plochy do původního stavu za použití původní ZD.",null,null,3]
[null,null,"Vodovodní přípojky z  PE D 32x3,0 mm:",null,0,null,null,null,null,null,null,null,"Vodovodní přípojky z  PE D 32x3,0 mm:"]
[null,null,"VP (1 kus) u čp. 681:8,00*2,00",null,16,null,null,null,null,null,null,null,"VP (1 kus) u čp. 681:8,00*2,00"]
[null,null,"VP (1 kus) u čp. 716:2,00*2,00",null,4,null,null,null,null,null,null,null,"VP (1 kus) u čp. 716:2,00*2,00"]
[null,"Celkem za","5 Komunikace",null,null,null,{"$f":"SUM(G111:G119)","v":0},null,{"$f":"SUM(I111:I119)","v":40.782139999999998},null,{"$f":"SUM(K111:K119)","v":0},null,null,null,4,null,null,null,null,null,null,null,null,null,null,null,null,null,null,null,null,null,null,null,null,null,null,null,null,null,null,null,null,null,null,null,null,null,null,null,null,null,{"$f":"SUM(BA111:BA119)","v":0},{"$f":"SUM(BB111:BB119)","v":0},{"$f":"SUM(BC111:BC119)","v":0},{"$f":"SUM(BD111:BD119)","v":0},{"$f":"SUM(BE111:BE119)","v":0}]
["Díl:","8","Trubní vedení",null,null,null,null,null,null,null,null,null,null,null,1]
[20,"230191035RRX","Uložení chráničky ve výkopu PVC DN150 ","m",2,null,{"$f":"E122*F122","v":0},0,{"$f":"E122*H122","v":0},0,{"$f":"E122*J122","v":0},null,null,null,2,null,null,null,null,null,null,null,null,null,null,null,1,9,9,null,null,null,null,null,null,null,null,null,null,null,null,null,null,null,null,null,null,null,null,null,null,1,{"$f":"IF(AZ122=1,G122,0)","v":0},{"$f":"IF(AZ122=2,G122,0)","v":0},{"$f":"IF(AZ122=3,G122,0)","v":0},{"$f":"IF(AZ122=4,G122,0)","v":0},{"$f":"IF(AZ122=5,G122,0)","v":0},null,null,null,null,null,null,null,null,null,null,null,null,null,null,null,null,null,null,null,null,null,1,9]
[null,null,"Vodovodní přípojky z  PE D 32x3,0 mm:",null,0,null,null,null,null,null,null,null,"Vodovodní přípojky z  PE D 32x3,0 mm:"]
[null,null,"VP (1 kus) pro čp. 590:1,00",null,1,null,null,null,null,null,null,null,"VP (1 kus) pro čp. 590:1,00"]
[null,null,"VP (1 kus) pro čp. 561:1,00",null,1,null,null,null,null,null,null,null,"VP (1 kus) pro čp. 561:1,00"]
[21,"230193006R00","Nasunutí potrubní sekce do chráničky DN 200 ","m",2,null,{"$f":"E126*F126","v":0},2.7119999999999998E-2,{"$f":"E126*H126","v":5.4239999999999997E-2},0,{"$f":"E126*J126","v":0},null,null,null,2,null,null,null,null,null,null,null,null,null,null,null,1,9,9,null,null,null,null,null,null,null,null,null,null,null,null,null,null,null,null,null,null,null,null,null,null,1,{"$f":"IF(AZ126=1,G126,0)","v":0},{"$f":"IF(AZ126=2,G126,0)","v":0},{"$f":"IF(AZ126=3,G126,0)","v":0},{"$f":"IF(AZ126=4,G126,0)","v":0},{"$f":"IF(AZ126=5,G126,0)","v":0},null,null,null,null,null,null,null,null,null,null,null,null,null,null,null,null,null,null,null,null,null,1,9]
[null,null,"Vodovodní přípojky z  PE D 32x3,0 mm:",null,0,null,null,null,null,null,null,null,"Vodovodní přípojky z  PE D 32x3,0 mm:"]
[null,null,"VP (1 kus) pro čp. 590:1,00",null,1,null,null,null,null,null,null,null,"VP (1 kus) pro čp. 590:1,00"]
[null,null,"VP (1 kus) pro čp. 561:1,00",null,1,null,null,null,null,null,null,null,"VP (1 kus) pro čp. 561:1,00"]
[22,"871161121R00","Montáž trubek polyetylenových ve výkopu d 32 mm ","m",90,null,{"$f":"E130*F130","v":0},0,{"$f":"E130*H130","v":0},0,{"$f":"E130*J130","v":0},null,null,null,2,null,null,null,null,null,null,null,null,null,null,null,1,1,1,null,null,null,null,null,null,null,null,null,null,null,null,null,null,null,null,null,null,null,null,null,null,1,{"$f":"IF(AZ130=1,G130,0)","v":0},{"$f":"IF(AZ130=2,G130,0)","v":0},{"$f":"IF(AZ130=3,G130,0)","v":0},{"$f":"IF(AZ130=4,G130,0)","v":0},{"$f":"IF(AZ130=5,G130,0)","v":0},null,null,null,null,null,null,null,null,null,null,null,null,null,null,null,null,null,null,null,null,null,1,1]
[null,null,"V položce je uvažováno použití svitku. ",null,null,null,null,null,null,null,null,"V položce je uvažováno použití svitku. ",null,null,3]
[null,null,"Vodovodní přípojky z  PE D 32x3,0 mm:",null,0,null,null,null,null,null,null,null,"Vodovodní přípojky z  PE D 32x3,0 mm:"]
[null,null,"VP (10 kusů):90,00",null,90,null,null,null,null,null,null,null,"VP (10 kusů):90,00"]
[23,"877162121R00","Přirážka za 1 spoj elektrotvarovky d 32 mm ","kus",10,null,{"$f":"E134*F134","v":0},0,{"$f":"E134*H134","v":0},0,{"$f":"E134*J134","v":0},null,null,null,2,null,null,null,null,null,null,null,null,null,null,null,1,1,1,null,null,null,null,null,null,null,null,null,null,null,null,null,null,null,null,null,null,null,null,null,null,1,{"$f":"IF(AZ134=1,G134,0)","v":0},{"$f":"IF(AZ134=2,G134,0)","v":0},{"$f":"IF(AZ134=3,G134,0)","v":0},{"$f":"IF(AZ134=4,G134,0)","v":0},{"$f":"IF(AZ134=5,G134,0)","v":0},null,null,null,null,null,null,null,null,null,null,null,null,null,null,null,null,null,null,null,null,null,1,1]
[null,null,"Vodovodní přípojky z  PE D 32x3,0 mm:",null,0,null,null,null,null,null,null,null,"Vodovodní přípojky z  PE D 32x3,0 mm:"]
[null,null,"VP (10 kusů):",null,0,null,null,null,null,null,null,null,"VP (10 kusů):"]
[null,null,"Elektrospojka PE D32:10",null,10,null,null,null,null,null,null,null,"Elektrospojka PE D32:10"]
[24,"891183439RRX","Přepojení potrubí PE na přípojkách D 32 včetně dodávky přepojovací tvarovky","kus",10,null,{"$f":"E138*F138","v":0},1.4599999999999999E-3,{"$f":"E138*H138","v":1.4599999999999998E-2},0,{"$f":"E138*J138","v":0},null,null,null,2,null,null,null,null,null,null,null,null,null,null,null,1,1,1,null,null,null,null,null,null,null,null,null,null,null,null,null,null,null,null,null,null,null,null,null,null,1,{"$f":"IF(AZ138=1,G138,0)","v":0},{"$f":"IF(AZ138=2,G138,0)","v":0},{"$f":"IF(AZ138=3,G138,0)","v":0},{"$f":"IF(AZ138=4,G138,0)","v":0},{"$f":"IF(AZ138=5,G138,0)","v":0},null,null,null,null,null,null,null,null,null,null,null,null,null,null,null,null,null,null,null,null,null,1,1]
[null,null,"Položka obsahuje přerušení stávajícího potrubí, montáž a dodávku příslušné tvarovky pro propojení stávajícího potrubí (PE, ocel a pod.)  s novým potrubím (PE D 32x3,0 mm) přípojky  D 32",null,null,null,null,null,null,null,null,"Položka obsahuje přerušení stávajícího potrubí, montáž a dodávku příslušné tvarovky pro propojení stávajícího potrubí (PE, ocel a pod.)  s novým potrubím (PE D 32x3,0 mm) přípojky  D 32",null,null,3]
[null,null,"Vodovodní přípojky z  PE D 32x3,0 mm:",null,0,null,null,null,null,null,null,null,"Vodovodní přípojky z  PE D 32x3,0 mm:"]
[null,null,"VP (10 kusů) - Přepojení na stávající potrubí:10",null,10,null,null,null,null,null,null,null,"VP (10 kusů) - Přepojení na stávající potrubí:10"]
[25,"892233111R00","Desinfekce vodovodního potrubí DN 70 ","m",90,null,{"$f":"E142*F142","v":0},0,{"$f":"E142*H142","v":0},0,{"$f":"E142*J142","v":0},null,null,null,2,null,null,null,null,null,null,null,null,null,null,null,1,1,1,null,null,null,null,null,null,null,null,null,null,null,null,null,null,null,null,null,null,null,null,null,null,1,{"$f":"IF(AZ142=1,G142,0)","v":0},{"$f":"IF(AZ142=2,G142,0)","v":0},{"$f":"IF(AZ142=3,G142,0)","v":0},{"$f":"IF(AZ142=4,G142,0)","v":0},{"$f":"IF(AZ142=5,G142,0)","v":0},null,null,null,null,null,null,null,null,null,null,null,null,null,null,null,null,null,null,null,null,null,1,1]
[null,null,"V položce jsou zakalkulovány náklady na napuštění a vypuštění vody, dodání vody a desinfekčního prostředku a na bakteriologický rozbor vody.",null,null,null,null,null,null,null,null,"V položce jsou zakalkulovány náklady na napuštění a vypuštění vody, dodání vody a desinfekčního prostředku a na bakteriologický rozbor vody.",null,null,3]
[null,null,"Vodovodní přípojky z  PE D 32x3,0 mm:",null,0,null,null,null,null,null,null,null,"Vodovodní přípojky z  PE D 32x3,0 mm:"]
[null,null,"VP (10 kusů):90,00",null,90,null,null,null,null,null,null,null,"VP (10 kusů):90,00"]
[26,"892241111R00","Tlaková zkouška vodovodního potrubí DN 80 včetně zajištění konců potrubí","m",90,null,{"$f":"E146*F146","v":0},0,{"$f":"E146*H146","v":0},0,{"$f":"E146*J146","v":0},null,null,null,2,null,null,null,null,null,null,null,null,null,null,null,1,1,1,null,null,null,null,null,null,null,null,null,null,null,null,null,null,null,null,null,null,null,null,null,null,1,{"$f":"IF(AZ146=1,G146,0)","v":0},{"$f":"IF(AZ146=2,G146,0)","v":0},{"$f":"IF(AZ146=3,G146,0)","v":0},{"$f":"IF(AZ146=4,G146,0)","v":0},{"$f":"IF(AZ146=5,G146,0)","v":0},null,null,null,null,null,null,null,null,null,null,null,null,null,null,null,null,null,null,null,null,null,1,1]
[null,null,"V položce jsou započteny náklady na přísun, montáž, demontáž a odsun zkoušecího čerpadla, napuštění tlakovou vodou a dodání vody pro tlakovou zkoušku",null,null,null,null,null,null,null,null,"V položce jsou započteny náklady na přísun, montáž, demontáž a odsun zkoušecího čerpadla, napuštění tlakovou vodou a dodání vody pro tlakovou zkoušku",null,null,3]
[null,null,"Vodovodní přípojky z  PE D 32x3,0 mm:",null,0,null,null,null,null,null,null,null,"Vodovodní přípojky z  PE D 32x3,0 mm:"]
[null,null,"VP (10 kusů):90,00",null,90,null,null,null,null,null,null,null,"VP (10 kusů):90,00"]
[27,"893151111RT3","Šachta vodoměrná plastová samonosné kruhová s dodávkou šachty D1000x1500 mm z polypropylenu","kus",1,null,{"$f":"E150*F150","v":0},0.11065999999999999,{"$f":"E150*H150","v":0.11065999999999999},0,{"$f":"E150*J150","v":0},null,null,null,2,null,null,null,null,null,null,null,null,null,null,null,1,1,1,null,null,null,null,null,null,null,null,null,null,null,null,null,null,null,null,null,null,null,null,null,null,1,{"$f":"IF(AZ150=1,G150,0)","v":0},{"$f":"IF(AZ150=2,G150,0)","v":0},{"$f":"IF(AZ150=3,G150,0)","v":0},{"$f":"IF(AZ150=4,G150,0)","v":0},{"$f":"IF(AZ150=5,G150,0)","v":0},null,null,null,null,null,null,null,null,null,null,null,null,null,null,null,null,null,null,null,null,null,1,1]
[null,null,"Včetně zřízení podkladního betonu v tl. 15 cm vyztuženého sítí 8/100/100.",null,null,null,null,null,null,null,null,"Včetně zřízení podkladního betonu v tl. 15 cm vyztuženého sítí 8/100/100.",null,null,3]
[null,null,"Vodovodní přípojky z  PE D 32x3,0 mm:",null,0,null,null,null,null,null,null,null,"Vodovodní přípojky z  PE D 32x3,0 mm:"]
[null,null,"VP (1 kus) pro čp. 590:1",null,1,null,null,null,null,null,null,null,"VP (1 kus) pro čp. 590:1"]
[28,"893151200RRX","Montáž vodoměrné sestavy pro PE D 32x3,0 mm včetně dodávky VS dle standartů provozovatele","kus",1,null,{"$f":"E154*F154","v":0},0.50214999999999999,{"$f":"E154*H154","v":0.50214999999999999},0,{"$f":"E154*J154","v":0},null,null,null,2,null,null,null,null,null,null,null,null,null,null,null,1,1,1,null,null,null,null,null,null,null,null,null,null,null,null,null,null,null,null,null,null,null,null,null,null,1,{"$f":"IF(AZ154=1,G154,0)","v":0},{"$f":"IF(AZ154=2,G154,0)","v":0},{"$f":"IF(AZ154=3,G154,0)","v":0},{"$f":"IF(AZ154=4,G154,0)","v":0},{"$f":"IF(AZ154=5,G154,0)","v":0},null,null,null,null,null,null,null,null,null,null,null,null,null,null,null,null,null,null,null,null,null,1,1]
[null,null,"Provedení sestavy VS dle projektové dokumentace a standartů investora a provozovatele do jedné vodoměrné šachty",null,null,null,null,null,null,null,null,"Provedení sestavy VS dle projektové dokumentace a standartů investora a provozovatele do jedné vodoměrné šachty",null,null,3]
[null,null,"Součástí VS je i osazení vodoměru přemístěného ze stávajícího objemtu a propojení přípojky v objektu.",null,null,null,null,null,null,null,null,"Součástí VS je i osazení vodoměru přemístěného ze stávajícího objemtu a propojení přípojky v objektu.",null,null,3]
[null,null,"Vodovodní přípojky z  PE D 32x3,0 mm:",null,0,null,null,null,null,null,null,null,"Vodovodní přípojky z  PE D 32x3,0 mm:"]
[null,null,"VP (1 kus) pro čp. 590:1",null,1,null,null,null,null,null,null,null,"VP (1 kus) pro čp. 590:1"]
[29,"899721112R00","Fólie výstražná z PVC bílá, šířka 30 cm ","m",90,null,{"$f":"E159*F159","v":0},0,{"$f":"E159*H159","v":0},0,{"$f":"E159*J159","v":0},null,null,null,2,null,null,null,null,null,null,null,null,null,null,null,1,1,1,null,null,null,null,null,null,null,null,null,null,null,null,null,null,null,null,null,null,null,null,null,null,1,{"$f":"IF(AZ159=1,G159,0)","v":0},{"$f":"IF(AZ159=2,G159,0)","v":0},{"$f":"IF(AZ159=3,G159,0)","v":0},{"$f":"IF(AZ159=4,G159,0)","v":0},{"$f":"IF(AZ159=5,G159,0)","v":0},null,null,null,null,null,null,null,null,null,null,null,null,null,null,null,null,null,null,null,null,null,1,1]
[null,null,"Vodovodní přípojky z  PE D 32x3,0 mm:",null,0,null,null,null,null,null,null,null,"Vodovodní přípojky z  PE D 32x3,0 mm:"]
[null,null,"VP (10 kusů):90,00",null,90,null,null,null,null,null,null,null,"VP (10 kusů):90,00"]
[30,"899731114R00","Vodič signalizační CYY 6 mm2 ","m",180,null,{"$f":"E162*F162","v":0},8.0000000000000007E-5,{"$f":"E162*H162","v":1.4400000000000001E-2},0,{"$f":"E162*J162","v":0},null,null,null,2,null,null,null,null,null,null,null,null,null,null,null,1,1,1,null,null,null,null,null,null,null,null,null,null,null,null,null,null,null,null,null,null,null,null,null,null,1,{"$f":"IF(AZ162=1,G162,0)","v":0},{"$f":"IF(AZ162=2,G162,0)","v":0},{"$f":"IF(AZ162=3,G162,0)","v":0},{"$f":"IF(AZ162=4,G162,0)","v":0},{"$f":"IF(AZ162=5,G162,0)","v":0},null,null,null,null,null,null,null,null,null,null,null,null,null,null,null,null,null,null,null,null,null,1,1]
[null,null,"Součástí položky je zajištění proměření vodiče a výchozí zevize.",null,null,null,null,null,null,null,null,"Součástí položky je zajištění proměření vodiče a výchozí zevize.",null,null,3]
[null,null,"Vodovodní přípojky z  PE D 32x3,0 mm:",null,0,null,null,null,null,null,null,null,"Vodovodní přípojky z  PE D 32x3,0 mm:"]
[null,null,"VP (10 kusů):90,00*2",null,180,null,null,null,null,null,null,null,"VP (10 kusů):90,00*2"]
[31,"286111904.R","Trubka kanalizační PVC QUANTUM SN 12 DN 160","m",2.06,null,{"$f":"E166*F166","v":0},5.1000000000000004E-3,{"$f":"E166*H166","v":1.0506000000000001E-2},null,{"$f":"E166*J166","v":0},null,null,null,2,null,null,null,null,null,null,null,null,null,null,null,3,1,"286111904.R",null,null,null,null,null,null,null,null,null,null,null,null,null,null,null,null,null,null,null,null,null,null,1,{"$f":"IF(AZ166=1,G166,0)","v":0},{"$f":"IF(AZ166=2,G166,0)","v":0},{"$f":"IF(AZ166=3,G166,0)","v":0},{"$f":"IF(AZ166=4,G166,0)","v":0},{"$f":"IF(AZ166=5,G166,0)","v":0},null,null,null,null,null,null,null,null,null,null,null,null,null,null,null,null,null,null,null,null,null,3,1]
[null,null,"Jedná  se  o  plnostěnné kanalizační trubky DN 150 – DN 400, SN 12 kN/m2 , zvenčí  i  zevnitř  hladké. Jsou  opatřeny hrdlem,  v  němž  je  vložen vysoce  elastický  jazýčkový  kroužek.  konce  trubek  (dříků)  jsou opatřeny  zkosením  pod  úhlem  15°.  Způsob  použití  trubek  je  „U“  dle  normy  ČSN  EN  1401-1, tj. mimo budovy. Spolehlivá  funkce  těsnění  je  jištěna  výztužným  kroužkem  z  elastomeru.  Je  tak  zamezeno  vypad-nutí nebo vytlačení kroužku při manipulaci a montáži. Tento systém zaručuje při správné montáži ",null,null,null,null,null,null,null,null,"Jedná  se  o  plnostěnné kanalizační trubky DN 150 – DN 400, SN 12 kN/m2 , zvenčí  i  zevnitř  hladké. Jsou  opatřeny hrdlem,  v  němž  je  vložen vysoce  elastický  jazýčkový  kroužek.  konce  trubek  (dříků)  jsou opatřeny  zkosením  pod  úhlem  15°.  Způsob  použití  trubek  je  „U“  dle  normy  ČSN  EN  1401-1, tj. mimo budovy. Spolehlivá  funkce  těsnění  je  jištěna  výztužným  kroužkem  z  elastomeru.  Je  tak  zamezeno  vypad-nutí nebo vytlačení kroužku při manipulaci a montáži. Tento systém zaručuje při správné montáži ",null,null,3]
[null,null,"dokonalou  těsnost  do  výšky  vodního  sloupce  5  metrů.",null,null,null,null,null,null,null,null,"dokonalou  těsnost  do  výšky  vodního  sloupce  5  metrů.",null,null,3]
[null,null,null,null,null,null,null,null,null,null,null,null,null,null,3]
[null,null,"Teplota při pokládce: min. -10 °C, max. 50 °C",null,null,null,null,null,null,null,null,"Teplota při pokládce: min. -10 °C, max. 50 °C",null,null,3]
[null,null,"Max. teplota média: trvale do 40 °C, krátkodobě do 60 °C",null,null,null,null,null,null,null,null,"Max. teplota média: trvale do 40 °C, krátkodobě do 60 °C",null,null,3]
[null,null,"Orientační výška krytí: min. 0,5 m, max. 10 m",null,null,null,null,null,null,null,null,"Orientační výška krytí: min. 0,5 m, max. 10 m",null,null,3]
[null,null,"Max. rychlost média: 12 m/s",null,null,null,null,null,null,null,null,"Max. rychlost média: 12 m/s",null,null,3]
[null,null,"Vodovodní přípojky z  PE D 32x3,0 mm:",null,0,null,null,null,null,null,null,null,"Vodovodní přípojky z  PE D 32x3,0 mm:"]
[null,null,"VP (1 kus) pro čp. 590:1,00*1,03",null,1.03,null,null,null,null,null,null,null,"VP (1 kus) pro čp. 590:1,00*1,03"]
[null,null,"VP (1 kus) pro čp. 561:1,00*1,03",null,1.03,null,null,null,null,null,null,null,"VP (1 kus) pro čp. 561:1,00*1,03"]
[32,"286134204.R","Trubka tlaková PE 100 RC2 PE100 32x3,0 mm PN16","m",91.35,null,{"$f":"E177*F177","v":0},1E-3,{"$f":"E177*H177","v":9.1350000000000001E-2},null,{"$f":"E177*J177","v":0},null,null,null,2,null,null,null,null,null,null,null,null,null,null,null,3,1,"286134204.R",null,null,null,null,null,null,null,null,null,null,null,null,null,null,null,null,null,null,null,null,null,null,1,{"$f":"IF(AZ177=1,G177,0)","v":0},{"$f":"IF(AZ177=2,G177,0)","v":0},{"$f":"IF(AZ177=3,G177,0)","v":0},{"$f":"IF(AZ177=4,G177,0)","v":0},{"$f":"IF(AZ177=5,G177,0)","v":0},null,null,null,null,null,null,null,null,null,null,null,null,null,null,null,null,null,null,null,null,null,3,1]
[null,null,"Vodovodní tlaková trubka PE 100 RC2 dle normy EN 12 201-2",null,null,null,null,null,null,null,null,"Vodovodní PE tlaková trubka AQUALINE RC2 dle normy EN 12 201-2",null,null,3]
[null,null,"(doprava pitné a užitkové vody)",null,null,null,null,null,null,null,null,"(doprava pitné a užitkové vody)",null,null,3]
[null,null,"Návin 100 m",null,null,null,null,null,null,null,null,"Návin 100 m",null,null,3]
[null,null,"Vodovodní přípojky z  PE D 32x3,0 mm:",null,0,null,null,null,null,null,null,null,"Vodovodní přípojky z  PE D 32x3,0 mm:"]
[null,null,"VP (10 kusů):90,00*1,015",null,91.35,null,null,null,null,null,null,null,"VP (10 kusů):90,00*1,015"]
[33,"28653075.05.R","Elektrospojka d 32 mm PE 100 SDR11","kus",10.15,null,{"$f":"E183*F183","v":0},1.2999999999999999E-3,{"$f":"E183*H183","v":1.3195E-2},null,{"$f":"E183*J183","v":0},null,null,null,2,null,null,null,null,null,null,null,null,null,null,null,3,1,"28653075.05.R",null,null,null,null,null,null,null,null,null,null,null,null,null,null,null,null,null,null,null,null,null,null,1,{"$f":"IF(AZ183=1,G183,0)","v":0},{"$f":"IF(AZ183=2,G183,0)","v":0},{"$f":"IF(AZ183=3,G183,0)","v":0},{"$f":"IF(AZ183=4,G183,0)","v":0},{"$f":"IF(AZ183=5,G183,0)","v":0},null,null,null,null,null,null,null,null,null,null,null,null,null,null,null,null,null,null,null,null,null,3,1]
[null,null,"Vodovodní přípojky z  PE D 32x3,0 mm:",null,0,null,null,null,null,null,null,null,"Vodovodní přípojky z  PE D 32x3,0 mm:"]
[null,null,"VP (10 kusů):",null,0,null,null,null,null,null,null,null,"VP (10 kusů):"]
[null,null,"Elektrospojka PE D32:10*1,015",null,10.15,null,null,null,null,null,null,null,"Elektrospojka PE D32:10*1,015"]
[null,"Celkem za","8 Trubní vedení",null,null,null,{"$f":"SUM(G121:G186)","v":0},null,{"$f":"SUM(I121:I186)","v":0.81110099999999996},null,{"$f":"SUM(K121:K186)","v":0},null,null,null,4,null,null,null,null,null,null,null,null,null,null,null,null,null,null,null,null,null,null,null,null,null,null,null,null,null,null,null,null,null,null,null,null,null,null,null,null,null,{"$f":"SUM(BA121:BA186)","v":0},{"$f":"SUM(BB121:BB186)","v":0},{"$f":"SUM(BC121:BC186)","v":0},{"$f":"SUM(BD121:BD186)","v":0},{"$f":"SUM(BE121:BE186)","v":0}]
["Díl:","99","Staveništní přesun hmot",null,null,null,null,null,null,null,null,null,null,null,1]
[34,"998276101RXX","Přesun hmot, trubní vedení plastová, otevř. výkop pro celý rozsah objektu","t",126.46448049999999,null,{"$f":"E189*F189","v":0},0,{"$f":"E189*H189","v":0},null,{"$f":"E189*J189","v":0},null,null,null,2,null,null,null,null,null,null,null,null,null,null,null,7,1,2,null,null,null,null,null,null,null,null,null,null,null,null,null,null,null,null,null,null,null,null,null,null,1,{"$f":"IF(AZ189=1,G189,0)","v":0},{"$f":"IF(AZ189=2,G189,0)","v":0},{"$f":"IF(AZ189=3,G189,0)","v":0},{"$f":"IF(AZ189=4,G189,0)","v":0},{"$f":"IF(AZ189=5,G189,0)","v":0},null,null,null,null,null,null,null,null,null,null,null,null,null,null,null,null,null,null,null,null,null,7,1]
[null,null,"Staveništní doprava pro celý rozsah objektu - doprava zmeziskládek vybudovaného zařízení staveniště zhotovitele na jednotlivé části staveniště.",null,null,null,null,null,null,null,null,"Staveništní doprava pro celý rozsah objektu - doprava zmeziskládek vybudovaného zařízení staveniště zhotovitele na jednotlivé části staveniště.",null,null,3]
[null,"Celkem za","99 Staveništní přesun hmot",null,null,null,{"$f":"SUM(G188:G190)","v":0},null,{"$f":"SUM(I188:I190)","v":0},null,{"$f":"SUM(K188:K190)","v":0},null,null,null,4,null,null,null,null,null,null,null,null,null,null,null,null,null,null,null,null,null,null,null,null,null,null,null,null,null,null,null,null,null,null,null,null,null,null,null,null,null,{"$f":"SUM(BA188:BA190)","v":0},{"$f":"SUM(BB188:BB190)","v":0},{"$f":"SUM(BC188:BC190)","v":0},{"$f":"SUM(BD188:BD190)","v":0},{"$f":"SUM(BE188:BE190)","v":0}]

{"sheet":"302 3542302.1 KL","index":23,"n_rows":45,"n_cols":8,"rows_kept":45,"cut":false,"hidden":false,"merged":[[50,1,50,6],[29,5,29,6],[30,5,30,6],[31,5,31,6],[32,5,32,6],[33,5,33,6],[36,1,44,6],[45,1,45,6],[46,1,46,6],[47,1,47,6],[48,1,48,6],[49,1,49,6],[22,0,22,1],[7,2,7,4],[8,2,8,4],[9,2,9,4],[10,2,10,4],[11,2,11,4]]}
["POLOŽKOVÝ ROZPOČET"]
["Rozpočet",null,"3542/302.1","Oprava gravitační stoky S",null,"JKSO "]
[]
["Objekt",null,null,null,null,"SKP "]
["302",null,"Oprava gravitační stoky S ul. Smetanova",null,null,"Měrná jednotka"]
["Stavba",null,null,null,null,"Počet jednotek",0]
["3542",null,"Semily - Obnova VH infrastruktury a komunikací",null,null,"Náklady na m.j.",{"$f":"IF(G6=0,,ROUND((F30+F32)/G6,1))","v":0}]
["Projektant",null,null,null,null,"Typ rozpočtu"]
["Zpracovatel projektu"]
["Objednatel",null,"Vodohospodářské sdružení Turnov"]
["Dodavatel",null,".",null,null,"Zakázkové číslo "]
["Rozpočtoval",null,null,null,null,"Počet listů"]
["ROZPOČTOVÉ NÁKLADY"]
["Základní rozpočtové náklady"]
[null,"HSV celkem",{"$f":"'302 3542302.1 Rek'!E14","v":0}]
["Z","PSV celkem",{"$f":"'302 3542302.1 Rek'!F14","v":0}]
["R","M práce celkem",{"$f":"'302 3542302.1 Rek'!H14","v":0}]
["N","M dodávky celkem",{"$f":"'302 3542302.1 Rek'!G14","v":0}]
["ZRN celkem",null,{"$f":"SUM(C15:C18)","v":0}]
[]
["HZS",null,{"$f":"'302 3542302.1 Rek'!I14","v":0}]
["ZRN+HZS",null,{"$f":"C19+C21","v":0}]
["ZRN+ost.náklady+HZS",null,{"$f":"C22+G23","v":0}]
["Vypracoval",null,null,"Za zhotovitele",null,"Za objednatele"]
["Jméno :",null,null,"Jméno :",null,"Jméno :"]
["Datum :",null,null,"Datum :",null,"Datum :"]
[]
["Podpis :",null,null,"Podpis:",null,"Podpis:"]
[]
["Základ pro DPH",null,21,"%  ",null,{"$f":"C23-F32","v":0}]
["DPH",null,{"$f":"C30","v":21},"% ",null,{"$f":"ROUND(PRODUCT(F30,C31/100),0)","v":0}]
["Základ pro DPH",null,0,"% ",null,0]
["DPH",null,{"$f":"C32","v":0},"% ",null,{"$f":"ROUND(PRODUCT(F32,C33/100),0)","v":0}]
["CENA ZA OBJEKT CELKEM",null,null,null,null,{"$f":"ROUND(SUM(F30:F33),0)","v":0}]
[]
["Poznámka :",null,null,null,null,null,null," "]
[null,null,null,null,null,null,null," "]
[null,null,null,null,null,null,null," "]
[null,null,null,null,null,null,null," "]
[null,null,null,null,null,null,null," "]
[null,null,null,null,null,null,null," "]
[null,null,null,null,null,null,null," "]
[null,null,null,null,null,null,null," "]
[null,null,null,null,null,null,null," "]
[null,null,null,null,null,null,null," "]

{"sheet":"302 3542302.1 Rek","index":24,"n_rows":14,"n_cols":9,"rows_kept":14,"cut":false,"hidden":false,"merged":[[0,0,0,1],[1,0,1,1],[1,6,1,8]]}
["Stavba :",null,"3542 Semily - Obnova VH infrastruktury a komunikací",null,null,null,"Rozpočet :","3542/302.1"]
["Objekt :",null,"302 Oprava gravitační stoky S ul. Smetanova",null,null,null,"Oprava gravitační stoky S"]
[]
["REKAPITULACE  STAVEBNÍCH  DÍLŮ"]
[]
[null,"Stavební díl",null,null,"HSV","PSV","Dodávka","Montáž","HZS"]
[{"$f":"'302 3542302.1 Pol'!B7","v":"1"},{"$f":"'302 3542302.1 Pol'!C7","v":"Zemní práce"},null,null,{"$f":"'302 3542302.1 Pol'!BA124","v":0},{"$f":"'302 3542302.1 Pol'!BB124","v":0},{"$f":"'302 3542302.1 Pol'!BC124","v":0},{"$f":"'302 3542302.1 Pol'!BD124","v":0},{"$f":"'302 3542302.1 Pol'!BE124","v":0}]
[{"$f":"'302 3542302.1 Pol'!B125","v":"21"},{"$f":"'302 3542302.1 Pol'!C125","v":"Úprava podloží a základ.spáry"},null,null,{"$f":"'302 3542302.1 Pol'!BA133","v":0},{"$f":"'302 3542302.1 Pol'!BB133","v":0},{"$f":"'302 3542302.1 Pol'!BC133","v":0},{"$f":"'302 3542302.1 Pol'!BD133","v":0},{"$f":"'302 3542302.1 Pol'!BE133","v":0}]
[{"$f":"'302 3542302.1 Pol'!B134","v":"45"},{"$f":"'302 3542302.1 Pol'!C134","v":"Podkladní a vedlejší konstrukce"},null,null,{"$f":"'302 3542302.1 Pol'!BA161","v":0},{"$f":"'302 3542302.1 Pol'!BB161","v":0},{"$f":"'302 3542302.1 Pol'!BC161","v":0},{"$f":"'302 3542302.1 Pol'!BD161","v":0},{"$f":"'302 3542302.1 Pol'!BE161","v":0}]
[{"$f":"'302 3542302.1 Pol'!B162","v":"5"},{"$f":"'302 3542302.1 Pol'!C162","v":"Komunikace"},null,null,{"$f":"'302 3542302.1 Pol'!BA170","v":0},{"$f":"'302 3542302.1 Pol'!BB170","v":0},{"$f":"'302 3542302.1 Pol'!BC170","v":0},{"$f":"'302 3542302.1 Pol'!BD170","v":0},{"$f":"'302 3542302.1 Pol'!BE170","v":0}]
[{"$f":"'302 3542302.1 Pol'!B171","v":"8"},{"$f":"'302 3542302.1 Pol'!C171","v":"Trubní vedení"},null,null,{"$f":"'302 3542302.1 Pol'!BA268","v":0},{"$f":"'302 3542302.1 Pol'!BB268","v":0},{"$f":"'302 3542302.1 Pol'!BC268","v":0},{"$f":"'302 3542302.1 Pol'!BD268","v":0},{"$f":"'302 3542302.1 Pol'!BE268","v":0}]
[{"$f":"'302 3542302.1 Pol'!B269","v":"93"},{"$f":"'302 3542302.1 Pol'!C269","v":"Dokončovací práce inženýrských staveb"},null,null,{"$f":"'302 3542302.1 Pol'!BA287","v":0},{"$f":"'302 3542302.1 Pol'!BB287","v":0},{"$f":"'302 3542302.1 Pol'!BC287","v":0},{"$f":"'302 3542302.1 Pol'!BD287","v":0},{"$f":"'302 3542302.1 Pol'!BE287","v":0}]
[{"$f":"'302 3542302.1 Pol'!B288","v":"99"},{"$f":"'302 3542302.1 Pol'!C288","v":"Staveništní přesun hmot"},null,null,{"$f":"'302 3542302.1 Pol'!BA291","v":0},{"$f":"'302 3542302.1 Pol'!BB291","v":0},{"$f":"'302 3542302.1 Pol'!BC291","v":0},{"$f":"'302 3542302.1 Pol'!BD291","v":0},{"$f":"'302 3542302.1 Pol'!BE291","v":0}]
[null,"CELKEM  OBJEKT",null,null,{"$f":"SUM(E7:E13)","v":0},{"$f":"SUM(F7:F13)","v":0},{"$f":"SUM(G7:G13)","v":0},{"$f":"SUM(H7:H13)","v":0},{"$f":"SUM(I7:I13)","v":0}]

{"sheet":"302 3542302.1 Pol","index":25,"n_rows":291,"n_cols":80,"rows_kept":291,"cut":false,"hidden":false,"merged":[[284,2,284,3],[285,2,285,3],[289,2,289,6],[278,2,278,6],[279,2,279,6],[280,2,280,3],[281,2,281,3],[283,2,283,6],[270,2,270,6],[271,2,271,6],[272,2,272,6],[273,2,273,6],[274,2,274,6],[275,2,275,6],[276,2,276,6],[277,2,277,6],[259,2,259,3],[260,2,260,3],[262,2,262,3],[263,2,263,3],[265,2,265,3],[266,2,266,3],[250,2,250,3],[251,2,251,3],[253,2,253,3],[254,2,254,3],[256,2,256,3],[257,2,257,3],[242,2,242,6],[243,2,243,3],[244,2,244,3],[245,2,245,3],[247,2,247,3],[248,2,248,3],[235,2,235,3],[236,2,236,3],[238,2,238,6],[239,2,239,6],[240,2,240,6],[241,2,241,6],[229,2,229,6],[230,2,230,6],[231,2,231,6],[232,2,232,6],[233,2,233,6],[234,2,234,3],[220,2,220,3],[222,2,222,3],[224,2,224,6],[225,2,225,6],[226,2,226,3],[227,2,227,3],[213,2,213,6],[214,2,214,6],[215,2,215,3],[216,2,216,3],[218,2,218,6],[219,2,219,3],[205,2,205,3],[207,2,207,6],[208,2,208,3],[209,2,209,3],[210,2,210,3],[212,2,212,6],[198,2,198,3],[199,2,199,3],[200,2,200,3],[202,2,202,6],[203,2,203,6],[204,2,204,3],[190,2,190,6],[191,2,191,6],[192,2,192,3],[194,2,194,3],[196,2,196,6],[197,2,197,6],[182,2,182,3],[184,2,184,6],[185,2,185,3],[186,2,186,3],[188,2,188,6],[189,2,189,6],[172,2,172,3],[174,2,174,3],[175,2,175,3],[176,2,176,3],[177,2,177,3],[178,2,178,3],[180,2,180,6],[181,2,181,3],[163,2,163,3],[164,2,164,3],[165,2,165,3],[166,2,166,3],[167,2,167,3],[168,2,168,3],[153,2,153,3],[155,2,155,3],[156,2,156,3],[158,2,158,3],[159,2,159,3],[144,2,144,3],[146,2,146,3],[147,2,147,3],[149,2,149,3],[150,2,150,3],[152,2,152,3],[135,2,135,3],[136,2,136,3],[137,2,137,3],[138,2,138,3],[140,2,140,6],[141,2,141,3],[142,2,142,3],[143,2,143,3],[122,2,122,3],[126,2,126,3],[127,2,127,3],[128,2,128,3],[129,2,129,3],[130,2,130,3],[131,2,131,3],[113,2,113,6],[116,2,116,3],[117,2,117,3],[118,2,118,3],[119,2,119,3],[121,2,121,3],[105,2,105,3],[106,2,106,3],[107,2,107,3],[109,2,109,3],[110,2,110,3],[111,2,111,3],[98,2,98,3],[99,2,99,3],[100,2,100,3],[101,2,101,3],[102,2,102,3],[104,2,104,3],[92,2,92,3],[93,2,93,3],[94,2,94,3],[95,2,95,3],[96,2,96,3],[97,2,97,3],[86,2,86,3],[87,2,87,3],[88,2,88,3],[89,2,89,3],[90,2,90,3],[91,2,91,3],[78,2,78,3],[80,2,80,3],[81,2,81,3],[82,2,82,3],[84,2,84,6],[85,2,85,6],[71,2,71,3],[72,2,72,3],[73,2,73,3],[75,2,75,3],[76,2,76,3],[77,2,77,3],[63,2,63,3],[64,2,64,3],[66,2,66,3],[67,2,67,3],[68,2,68,3],[69,2,69,3],[55,2,55,3],[56,2,56,3],[58,2,58,3],[59,2,59,3],[60,2,60,3],[62,2,62,3],[47,2,47,3],[49,2,49,3],[50,2,50,3],[51,2,51,3],[53,2,53,6],[54,2,54,3],[41,2,41,3],[42,2,42,3],[43,2,43,3],[44,2,44,3],[45,2,45,3],[46,2,46,3],[35,2,35,3],[36,2,36,3],[37,2,37,3],[38,2,38,3],[39,2,39,3],[40,2,40,3],[28,2,28,3],[29,2,29,3],[30,2,30,3],[32,2,32,6],[33,2,33,3],[34,2,34,3],[22,2,22,6],[23,2,23,3],[24,2,24,3],[25,2,25,3],[27,2,27,6],[13,2,13,3],[14,2,14,3],[15,2,15,3],[17,2,17,6],[18,2,18,6],[19,2,19,3],[0,0,0,6],[2,0,2,1],[3,0,3,1],[3,4,3,6],[8,2,8,6],[9,2,9,3],[10,2,10,3],[12,2,12,6],[21,2,21,6]]}
["Položkový rozpočet "]
[]
["Stavba :",null,"3542 Semily - Obnova VH infrastruktury a komunikací",null,"Rozpočet:",{"$f":"'302 3542302.1 Rek'!H1","v":"3542/302.1"}]
["Objekt :",null,"302 Oprava gravitační stoky S ul. Smetanova",null,{"$f":"'302 3542302.1 Rek'!G2","v":"Oprava gravitační stoky S"}]
[]
["P.č.","Číslo položky","Název položky","MJ","množství","cena / MJ","celkem (Kč)","Jednotková hmotnost","Celková hmotnost","Jednotková dem.hmot.","Celková dem.hmot."]
["Díl:","1","Zemní práce",null,null,null,null,null,null,null,null,null,null,null,1]
[1,"114211103R00","Odstranění betonových trub do DN 300 mm, ve výkopu ","m",29,null,{"$f":"E8*F8","v":0},0,{"$f":"E8*H8","v":0},-0.10150000000000001,{"$f":"E8*J8","v":-2.9435000000000002},null,null,null,2,null,null,null,null,null,null,null,null,null,null,null,1,0,0,null,null,null,null,null,null,null,null,null,null,null,null,null,null,null,null,null,null,null,null,null,null,1,{"$f":"IF(AZ8=1,G8,0)","v":0},{"$f":"IF(AZ8=2,G8,0)","v":0},{"$f":"IF(AZ8=3,G8,0)","v":0},{"$f":"IF(AZ8=4,G8,0)","v":0},{"$f":"IF(AZ8=5,G8,0)","v":0},null,null,null,null,null,null,null,null,null,null,null,null,null,null,null,null,null,null,null,null,null,1,0]
[null,null,"Položka obsahuje odstranění materiálu obklopujícího potrubí v míře nutné pro vyzvednutí, rozpojení trub, uchopení a vyzvednutí trub z výkopu a uložení na dopravní prostředek nebo přemístění do 5 m od výkopu.",null,null,null,null,null,null,null,null,"Položka obsahuje odstranění materiálu obklopujícího potrubí v míře nutné pro vyzvednutí, rozpojení trub, uchopení a vyzvednutí trub z výkopu a uložení na dopravní prostředek nebo přemístění do 5 m od výkopu.",null,null,3]
[null,null,"Stoka \"S\" PVC DN400:",null,0,null,null,null,null,null,null,null,"Stoka \"S\" PVC DN400:"]
[null,null,"Původního potrubí BT DN300:29,00",null,29,null,null,null,null,null,null,null,"Původního potrubí BT DN300:29,00"]
[2,"114211105R00","Odstranění betonových trub do DN 500 mm, ve výkopu ","m",92,null,{"$f":"E12*F12","v":0},0,{"$f":"E12*H12","v":0},-0.40799999999999997,{"$f":"E12*J12","v":-37.535999999999994},null,null,null,2,null,null,null,null,null,null,null,null,null,null,null,1,0,0,null,null,null,null,null,null,null,null,null,null,null,null,null,null,null,null,null,null,null,null,null,null,1,{"$f":"IF(AZ12=1,G12,0)","v":0},{"$f":"IF(AZ12=2,G12,0)","v":0},{"$f":"IF(AZ12=3,G12,0)","v":0},{"$f":"IF(AZ12=4,G12,0)","v":0},{"$f":"IF(AZ12=5,G12,0)","v":0},null,null,null,null,null,null,null,null,null,null,null,null,null,null,null,null,null,null,null,null,null,1,0]
[null,null,"Položka obsahuje odstranění materiálu obklopujícího potrubí v míře nutné pro vyzvednutí, rozpojení trub, uchopení a vyzvednutí trub z výkopu a uložení na dopravní prostředek nebo přemístění do 5 m od výkopu.",null,null,null,null,null,null,null,null,"Položka obsahuje odstranění materiálu obklopujícího potrubí v míře nutné pro vyzvednutí, rozpojení trub, uchopení a vyzvednutí trub z výkopu a uložení na dopravní prostředek nebo přemístění do 5 m od výkopu.",null,null,3]
[null,null,"Stoka \"S\" PVC DN400:",null,0,null,null,null,null,null,null,null,"Stoka \"S\" PVC DN400:"]
[null,null,"Výkopy:",null,0,null,null,null,null,null,null,null,"Výkopy:"]
[null,null,"Původního potrubí BT DN400:92,00",null,92,null,null,null,null,null,null,null,"Původního potrubí BT DN400:92,00"]
[3,"115101201RRX","Přečerpávání nebo převedení splašků a dešť. vod ","h",250,null,{"$f":"E17*F17","v":0},0,{"$f":"E17*H17","v":0},0,{"$f":"E17*J17","v":0},null,null,null,2,null,null,null,null,null,null,null,null,null,null,null,1,1,1,null,null,null,null,null,null,null,null,null,null,null,null,null,null,null,null,null,null,null,null,null,null,1,{"$f":"IF(AZ17=1,G17,0)","v":0},{"$f":"IF(AZ17=2,G17,0)","v":0},{"$f":"IF(AZ17=3,G17,0)","v":0},{"$f":"IF(AZ17=4,G17,0)","v":0},{"$f":"IF(AZ17=5,G17,0)","v":0},null,null,null,null,null,null,null,null,null,null,null,null,null,null,null,null,null,null,null,null,null,1,1]
[null,null,"Převedení a čerpání splašků nebo dešťových vod dle zvolené technologie zhotovitele stavby.",null,null,null,null,null,null,null,null,"Převedení a čerpání splašků nebo dešťových vod dle zvolené technologie zhotovitele stavby.",null,null,3]
[null,null,"(Množství bude určeno na stavbě dle skutečnosti)",null,null,null,null,null,null,null,null,"(Množství bude určeno na stavbě dle skutečnosti)",null,null,3]
[null,null,"Stoka \"S\" PVC DN400:250,00",null,250,null,null,null,null,null,null,null,"Stoka \"S\" PVC DN400:250,00"]
[4,"130001101RRX","Příplatek za ztížené hloubení v blízkosti vedení ","m3",69.617599999999996,null,{"$f":"E21*F21","v":0},0,{"$f":"E21*H21","v":0},0,{"$f":"E21*J21","v":0},null,null,null,2,null,null,null,null,null,null,null,null,null,null,null,1,1,1,null,null,null,null,null,null,null,null,null,null,null,null,null,null,null,null,null,null,null,null,null,null,1,{"$f":"IF(AZ21=1,G21,0)","v":0},{"$f":"IF(AZ21=2,G21,0)","v":0},{"$f":"IF(AZ21=3,G21,0)","v":0},{"$f":"IF(AZ21=4,G21,0)","v":0},{"$f":"IF(AZ21=5,G21,0)","v":0},null,null,null,null,null,null,null,null,null,null,null,null,null,null,null,null,null,null,null,null,null,1,1]
[null,null,"Včetně případných nutných dokopávek a ručního výkopu podél sousedících inženýrských sítí.",null,null,null,null,null,null,null,null,"Včetně případných nutných dokopávek a ručního výkopu podél sousedících inženýrských sítí.",null,null,3]
[null,null,"Součástí položky je i dočasné zajištění stávajících inženýrských sítí v prostoru výkopů (potrubí, kabely a pod.)",null,null,null,null,null,null,null,null,"Součástí položky je i dočasné zajištění stávajících inženýrských sítí v prostoru výkopů (potrubí, kabely a pod.)",null,null,3]
[null,null,"Stoka \"S\" PVC DN400:",null,0,null,null,null,null,null,null,null,"Stoka \"S\" PVC DN400:"]
[null,null,"Výkopy:",null,0,null,null,null,null,null,null,null,"Výkopy:"]
[null,null,"V hornině tř. 3 - 4 - 16%:435,1100*0,16",null,69.617599999999996,null,null,null,null,null,null,null,"V hornině tř. 3 - 4 - 16%:435,1100*0,16"]
[5,"130901123RT3","Bourání konstrukcí ze železobetonu ve vykopávkách bagrem s kladivem","m3",7.5928000000000004,null,{"$f":"E27*F27","v":0},0,{"$f":"E27*H27","v":0},-2.5,{"$f":"E27*J27","v":-18.981999999999999},null,null,null,2,null,null,null,null,null,null,null,null,null,null,null,1,1,1,null,null,null,null,null,null,null,null,null,null,null,null,null,null,null,null,null,null,null,null,null,null,1,{"$f":"IF(AZ27=1,G27,0)","v":0},{"$f":"IF(AZ27=2,G27,0)","v":0},{"$f":"IF(AZ27=3,G27,0)","v":0},{"$f":"IF(AZ27=4,G27,0)","v":0},{"$f":"IF(AZ27=5,G27,0)","v":0},null,null,null,null,null,null,null,null,null,null,null,null,null,null,null,null,null,null,null,null,null,1,1]
[null,null,"Položka obsahuje odstranění materiálu obklopujícího betonové konstrukce v míře nutné pro vyzvednutí (potřebné zemní práce), rozpojení konstrukcí, uchopení a vyzvednutí konstrukce z výkopu a uložení na dopravní prostředek.",null,null,null,null,null,null,null,null,"Položka obsahuje odstranění materiálu obklopujícího betonové konstrukce v míře nutné pro vyzvednutí (potřebné zemní práce), rozpojení konstrukcí, uchopení a vyzvednutí konstrukce z výkopu a uložení na dopravní prostředek.",null,null,3]
[null,null,"Stoka \"S\" PVC DN400:",null,0,null,null,null,null,null,null,null,"Stoka \"S\" PVC DN400:"]
[null,null,"Výkopy:",null,0,null,null,null,null,null,null,null,"Výkopy:"]
[null,null,"Stávající bourané RŠ:7,5928",null,7.5928000000000004,null,null,null,null,null,null,null,"Stávající bourané RŠ:7,5928"]
[6,"132201212R00","Hloubení rýh š.do 200 cm hor.3 do 1000m3,STROJNĚ ","m3",217.55500000000001,null,{"$f":"E32*F32","v":0},0,{"$f":"E32*H32","v":0},0,{"$f":"E32*J32","v":0},null,null,null,2,null,null,null,null,null,null,null,null,null,null,null,1,1,1,null,null,null,null,null,null,null,null,null,null,null,null,null,null,null,null,null,null,null,null,null,null,1,{"$f":"IF(AZ32=1,G32,0)","v":0},{"$f":"IF(AZ32=2,G32,0)","v":0},{"$f":"IF(AZ32=3,G32,0)","v":0},{"$f":"IF(AZ32=4,G32,0)","v":0},{"$f":"IF(AZ32=5,G32,0)","v":0},null,null,null,null,null,null,null,null,null,null,null,null,null,null,null,null,null,null,null,null,null,1,1]
[null,null,"Položka obsahuje hloubení rýh traktorbagrem, naložení výkopku na dopravní prostředek pro svislé, nebo vodorovné přemístění, popř. přemístění výkopku do 3 m (po povrchu území), případné zajištění rypadel polštáři, udržování pracoviště a ochranu výkopiště proti stékání srážkové vody z okolního terénu i s jejím odvodněním, nebo odvedením, přesekání a odstranění kořenů ve výkopišti, odstranění napadávek, urovnání dna výkopu.",null,null,null,null,null,null,null,null,"Položka obsahuje hloubení rýh traktorbagrem, naložení výkopku na dopravní prostředek pro svislé, nebo vodorovné přemístění, popř. přemístění výkopku do 3 m (po povrchu území), případné zajištění rypadel polštáři, udržování pracoviště a ochranu výkopiště proti stékání srážkové vody z okolního terénu i s jejím odvodněním, nebo odvedením, přesekání a odstranění kořenů ve výkopišti, odstranění napadávek, urovnání dna výkopu.",null,null,3]
[null,null,"Stoka \"S\" PVC DN400:",null,0,null,null,null,null,null,null,null,"Stoka \"S\" PVC DN400:"]
[null,null,"Výkopy:",null,0,null,null,null,null,null,null,null,"Výkopy:"]
[null,null,"Začátek provozního součtu",null,0,null,null,null,null,null,null,null,"Začátek provozního součtu"]
[null,null,"Od stávající RŠ0 st.:16,00*1,50*(2,82+4,19)/2",null,84.12,null,null,null,null,null,null,null,"Od stávající RŠ0 st.:16,00*1,50*(2,82+4,19)/2"]
[null,null,"(96,40-16,00)*1,50*(4,19+2,15)/2",null,382.30200000000002,null,null,null,null,null,null,null,"(96,40-16,00)*1,50*(4,19+2,15)/2"]
[null,null,"(126,00-96,40)*1,30*(2,15+1,30)/2",null,66.378,null,null,null,null,null,null,null,"(126,00-96,40)*1,30*(2,15+1,30)/2"]
[null,null,"Prohloubení pro RŠ:2,00*2,00*0,20*3+1,60*1,60*0,20*1",null,2.9119999999999999,null,null,null,null,null,null,null,"Prohloubení pro RŠ:2,00*2,00*0,20*3+1,60*1,60*0,20*1"]
[null,null,"Rozšíření pro RŠ:2,00*(2,00-1,50)*(4,19+3,69+2,90)",null,10.78,null,null,null,null,null,null,null,"Rozšíření pro RŠ:2,00*(2,00-1,50)*(4,19+3,69+2,90)"]
[null,null,"1,60*(1,60-1,50)*2,15",null,0.34399999999999997,null,null,null,null,null,null,null,"1,60*(1,60-1,50)*2,15"]
[null,null,"Odpočet objeku konstrukce komunikace:-(96,40*1,50+(126,00-96,40)*1,30+(2,0-1,50)*3+1,60*(1,60-1,50)*1)*0,40",null,-73.896000000000001,null,null,null,null,null,null,null,"Odpočet objeku konstrukce komunikace:-(96,40*1,50+(126,00-96,40)*1,30+(2,0-1,50)*3+1,60*(1,60-1,50)*1)*0,40"]
[null,null,"Odpočet objemu původního potrubí BT DN300:-29,00*0,20^2*Pi",null,-3.6442000000000001,null,null,null,null,null,null,null,"Odpočet objemu původního potrubí BT DN300:-29,00*0,20^2*Pi"]
[null,null,"Odpočet objemu původního potrubí BT DN400:-92,00*0,26^2*Pi",null,-19.5382,null,null,null,null,null,null,null,"Odpočet objemu původního potrubí BT DN400:-92,00*0,26^2*Pi"]
[null,null,"Odpočet objemu stávajících bouraných RŠ:-14,6476",null,-14.647600000000001,null,null,null,null,null,null,null,"Odpočet objemu stávajících bouraných RŠ:-14,6476"]
[null,null,"Konec provozního součtu",null,435.11000000000007,null,null,null,null,null,null,null,"Konec provozního součtu"]
[null,null,"V hornině tř. 3 - 50%:435,1100*0,5",null,217.55500000000001,null,null,null,null,null,null,null,"V hornině tř. 3 - 50%:435,1100*0,5"]
[7,"132201219R00","Přípl.za lepivost,hloubení rýh 200cm,hor.3,STROJNĚ ","m3",108.7775,null,{"$f":"E49*F49","v":0},0,{"$f":"E49*H49","v":0},0,{"$f":"E49*J49","v":0},null,null,null,2,null,null,null,null,null,null,null,null,null,null,null,1,1,1,null,null,null,null,null,null,null,null,null,null,null,null,null,null,null,null,null,null,null,null,null,null,1,{"$f":"IF(AZ49=1,G49,0)","v":0},{"$f":"IF(AZ49=2,G49,0)","v":0},{"$f":"IF(AZ49=3,G49,0)","v":0},{"$f":"IF(AZ49=4,G49,0)","v":0},{"$f":"IF(AZ49=5,G49,0)","v":0},null,null,null,null,null,null,null,null,null,null,null,null,null,null,null,null,null,null,null,null,null,1,1]
[null,null,"Stoka \"S\" PVC DN400:",null,0,null,null,null,null,null,null,null,"Stoka \"S\" PVC DN400:"]
[null,null,"Výkopy:",null,0,null,null,null,null,null,null,null,"Výkopy:"]
[null,null,"V hornině tř. 3 - 50%:435,1100*0,5*0,5",null,108.7775,null,null,null,null,null,null,null,"V hornině tř. 3 - 50%:435,1100*0,5*0,5"]
[8,"132301212R00","Hloubení rýh š.do 200 cm hor.4 do 1000 m3, STROJNĚ ","m3",217.55500000000001,null,{"$f":"E53*F53","v":0},0,{"$f":"E53*H53","v":0},0,{"$f":"E53*J53","v":0},null,null,null,2,null,null,null,null,null,null,null,null,null,null,null,1,1,1,null,null,null,null,null,null,null,null,null,null,null,null,null,null,null,null,null,null,null,null,null,null,1,{"$f":"IF(AZ53=1,G53,0)","v":0},{"$f":"IF(AZ53=2,G53,0)","v":0},{"$f":"IF(AZ53=3,G53,0)","v":0},{"$f":"IF(AZ53=4,G53,0)","v":0},{"$f":"IF(AZ53=5,G53,0)","v":0},null,null,null,null,null,null,null,null,null,null,null,null,null,null,null,null,null,null,null,null,null,1,1]
[null,null,"Položka obsahuje hloubení rýh traktorbagrem, naložení výkopku na dopravní prostředek pro svislé, nebo vodorovné přemístění, popř. přemístění výkopku do 3 m (po povrchu území), případné zajištění rypadel polštáři, udržování pracoviště a ochranu výkopiště proti stékání srážkové vody z okolního terénu i s jejím odvodněním, nebo odvedením, přesekání a odstranění kořenů ve výkopišti, odstranění napadávek, urovnání dna výkopu.",null,null,null,null,null,null,null,null,"Položka obsahuje hloubení rýh traktorbagrem, naložení výkopku na dopravní prostředek pro svislé, nebo vodorovné přemístění, popř. přemístění výkopku do 3 m (po povrchu území), případné zajištění rypadel polštáři, udržování pracoviště a ochranu výkopiště proti stékání srážkové vody z okolního terénu i s jejím odvodněním, nebo odvedením, přesekání a odstranění kořenů ve výkopišti, odstranění napadávek, urovnání dna výkopu.",null,null,3]
[null,null,"Stoka \"S\" PVC DN400:",null,0,null,null,null,null,null,null,null,"Stoka \"S\" PVC DN400:"]
[null,null,"Výkopy:",null,0,null,null,null,null,null,null,null,"Výkopy:"]
[null,null,"V hornině tř. 4 - 50%:435,1100*0,5",null,217.55500000000001,null,null,null,null,null,null,null,"V hornině tř. 4 - 50%:435,1100*0,5"]
[9,"132301219R00","Přípl.za lepivost,hloubení rýh 200cm,hor.4,STROJNĚ ","m3",108.7775,null,{"$f":"E58*F58","v":0},0,{"$f":"E58*H58","v":0},0,{"$f":"E58*J58","v":0},null,null,null,2,null,null,null,null,null,null,null,null,null,null,null,1,1,1,null,null,null,null,null,null,null,null,null,null,null,null,null,null,null,null,null,null,null,null,null,null,1,{"$f":"IF(AZ58=1,G58,0)","v":0},{"$f":"IF(AZ58=2,G58,0)","v":0},{"$f":"IF(AZ58=3,G58,0)","v":0},{"$f":"IF(AZ58=4,G58,0)","v":0},{"$f":"IF(AZ58=5,G58,0)","v":0},null,null,null,null,null,null,null,null,null,null,null,null,null,null,null,null,null,null,null,null,null,1,1]
[null,null,"Stoka \"S\" PVC DN400:",null,0,null,null,null,null,null,null,null,"Stoka \"S\" PVC DN400:"]
[null,null,"Výkopy:",null,0,null,null,null,null,null,null,null,"Výkopy:"]
[null,null,"V hornině tř. 4 - 50%:435,1100*0,5*0,5",null,108.7775,null,null,null,null,null,null,null,"V hornině tř. 4 - 50%:435,1100*0,5*0,5"]
[10,"151101101R00","Pažení a rozepření stěn rýh - příložné - hl.do 2 m ","m2",102.12,null,{"$f":"E62*F62","v":0},9.8999999999999999E-4,{"$f":"E62*H62","v":0.1010988},0,{"$f":"E62*J62","v":0},null,null,null,2,null,null,null,null,null,null,null,null,null,null,null,1,1,1,null,null,null,null,null,null,null,null,null,null,null,null,null,null,null,null,null,null,null,null,null,null,1,{"$f":"IF(AZ62=1,G62,0)","v":0},{"$f":"IF(AZ62=2,G62,0)","v":0},{"$f":"IF(AZ62=3,G62,0)","v":0},{"$f":"IF(AZ62=4,G62,0)","v":0},{"$f":"IF(AZ62=5,G62,0)","v":0},null,null,null,null,null,null,null,null,null,null,null,null,null,null,null,null,null,null,null,null,null,1,1]
[null,null,"Stoka \"S\" PVC DN400:",null,0,null,null,null,null,null,null,null,"Stoka \"S\" PVC DN400:"]
[null,null,"Výkopy:",null,0,null,null,null,null,null,null,null,"Výkopy:"]
[null,null,"(126,00-96,40)*(2,15+1,30)/2*2",null,102.12,null,null,null,null,null,null,null,"(126,00-96,40)*(2,15+1,30)/2*2"]
[11,"151101102R00","Pažení a rozepření stěn rýh - příložné - hl.do 4 m ","m2",621.89599999999996,null,{"$f":"E66*F66","v":0},8.5999999999999998E-4,{"$f":"E66*H66","v":0.53483055999999995},0,{"$f":"E66*J66","v":0},null,null,null,2,null,null,null,null,null,null,null,null,null,null,null,1,1,1,null,null,null,null,null,null,null,null,null,null,null,null,null,null,null,null,null,null,null,null,null,null,1,{"$f":"IF(AZ66=1,G66,0)","v":0},{"$f":"IF(AZ66=2,G66,0)","v":0},{"$f":"IF(AZ66=3,G66,0)","v":0},{"$f":"IF(AZ66=4,G66,0)","v":0},{"$f":"IF(AZ66=5,G66,0)","v":0},null,null,null,null,null,null,null,null,null,null,null,null,null,null,null,null,null,null,null,null,null,1,1]
[null,null,"Stoka \"S\" PVC DN400:",null,0,null,null,null,null,null,null,null,"Stoka \"S\" PVC DN400:"]
[null,null,"Výkopy:",null,0,null,null,null,null,null,null,null,"Výkopy:"]
[null,null,"Od stávající RŠ0 st.:16,00*(2,82+4,19)/2*2",null,112.16,null,null,null,null,null,null,null,"Od stávající RŠ0 st.:16,00*(2,82+4,19)/2*2"]
[null,null,"(96,40-16,00)*(4,19+2,15)/2*2",null,509.73599999999999,null,null,null,null,null,null,null,"(96,40-16,00)*(4,19+2,15)/2*2"]
[12,"151101111R00","Odstranění pažení stěn rýh - příložné - hl. do 2 m ","m2",102.12,null,{"$f":"E71*F71","v":0},0,{"$f":"E71*H71","v":0},0,{"$f":"E71*J71","v":0},null,null,null,2,null,null,null,null,null,null,null,null,null,null,null,1,1,1,null,null,null,null,null,null,null,null,null,null,null,null,null,null,null,null,null,null,null,null,null,null,1,{"$f":"IF(AZ71=1,G71,0)","v":0},{"$f":"IF(AZ71=2,G71,0)","v":0},{"$f":"IF(AZ71=3,G71,0)","v":0},{"$f":"IF(AZ71=4,G71,0)","v":0},{"$f":"IF(AZ71=5,G71,0)","v":0},null,null,null,null,null,null,null,null,null,null,null,null,null,null,null,null,null,null,null,null,null,1,1]
[null,null,"Stoka \"S\" PVC DN400:",null,0,null,null,null,null,null,null,null,"Stoka \"S\" PVC DN400:"]
[null,null,"Výkopy:",null,0,null,null,null,null,null,null,null,"Výkopy:"]
[null,null,"(126,00-96,40)*(2,15+1,30)/2*2",null,102.12,null,null,null,null,null,null,null,"(126,00-96,40)*(2,15+1,30)/2*2"]
[13,"151101112R00","Odstranění pažení stěn rýh - příložné - hl. do 4 m ","m2",621.89599999999996,null,{"$f":"E75*F75","v":0},0,{"$f":"E75*H75","v":0},0,{"$f":"E75*J75","v":0},null,null,null,2,null,null,null,null,null,null,null,null,null,null,null,1,1,1,null,null,null,null,null,null,null,null,null,null,null,null,null,null,null,null,null,null,null,null,null,null,1,{"$f":"IF(AZ75=1,G75,0)","v":0},{"$f":"IF(AZ75=2,G75,0)","v":0},{"$f":"IF(AZ75=3,G75,0)","v":0},{"$f":"IF(AZ75=4,G75,0)","v":0},{"$f":"IF(AZ75=5,G75,0)","v":0},null,null,null,null,null,null,null,null,null,null,null,null,null,null,null,null,null,null,null,null,null,1,1]
[null,null,"Stoka \"S\" PVC DN400:",null,0,null,null,null,null,null,null,null,"Stoka \"S\" PVC DN400:"]
[null,null,"Výkopy:",null,0,null,null,null,null,null,null,null,"Výkopy:"]
[null,null,"Od stávající RŠ0 st.:16,00*(2,82+4,19)/2*2",null,112.16,null,null,null,null,null,null,null,"Od stávající RŠ0 st.:16,00*(2,82+4,19)/2*2"]
[null,null,"(96,40-16,00)*(4,19+2,15)/2*2",null,509.73599999999999,null,null,null,null,null,null,null,"(96,40-16,00)*(4,19+2,15)/2*2"]
[14,"162701105RSZ","Vodorovné přemístění výkopku z hor.1-7 na skládku zhotovitele","m3",435.11,null,{"$f":"E80*F80","v":0},0,{"$f":"E80*H80","v":0},0,{"$f":"E80*J80","v":0},null,null,null,2,null,null,null,null,null,null,null,null,null,null,null,1,1,1,null,null,null,null,null,null,null,null,null,null,null,null,null,null,null,null,null,null,null,null,null,null,1,{"$f":"IF(AZ80=1,G80,0)","v":0},{"$f":"IF(AZ80=2,G80,0)","v":0},{"$f":"IF(AZ80=3,G80,0)","v":0},{"$f":"IF(AZ80=4,G80,0)","v":0},{"$f":"IF(AZ80=5,G80,0)","v":0},null,null,null,null,null,null,null,null,null,null,null,null,null,null,null,null,null,null,null,null,null,1,1]
[null,null,"Stoka \"S\" PVC DN400:",null,0,null,null,null,null,null,null,null,"Stoka \"S\" PVC DN400:"]
[null,null,"Výkopy:",null,0,null,null,null,null,null,null,null,"Výkopy:"]
[null,null,"V hornině tř. 3 - 4:435,1100",null,435.11,null,null,null,null,null,null,null,"V hornině tř. 3 - 4:435,1100"]
[15,"174101101R00","Zásyp jam, rýh, šachet se zhutněním ","m3",301.22160000000002,null,{"$f":"E84*F84","v":0},0,{"$f":"E84*H84","v":0},0,{"$f":"E84*J84","v":0},null,null,null,2,null,null,null,null,null,null,null,null,null,null,null,1,1,1,null,null,null,null,null,null,null,null,null,null,null,null,null,null,null,null,null,null,null,null,null,null,1,{"$f":"IF(AZ84=1,G84,0)","v":0},{"$f":"IF(AZ84=2,G84,0)","v":0},{"$f":"IF(AZ84=3,G84,0)","v":0},{"$f":"IF(AZ84=4,G84,0)","v":0},{"$f":"IF(AZ84=5,G84,0)","v":0},null,null,null,null,null,null,null,null,null,null,null,null,null,null,null,null,null,null,null,null,null,1,1]
[null,null,"Položka obsahuje strojní přemístění materiálu pro zásyp ze vzdálenosti do 10 m od okraje zásypu.",null,null,null,null,null,null,null,null,"Položka obsahuje strojní přemístění materiálu pro zásyp ze vzdálenosti do 10 m od okraje zásypu.",null,null,3]
[null,null,null,null,null,null,null,null,null,null,null,null,null,null,3]
[null,null,"Stoka \"S\" PVC DN400:",null,0,null,null,null,null,null,null,null,"Stoka \"S\" PVC DN400:"]
[null,null,"Zásypy ŠD fr. 0-63 mm:301,2216",null,301.22160000000002,null,null,null,null,null,null,null,"Zásypy ŠD fr. 0-63 mm:301,2216"]
[null,null,"Začátek provozního součtu",null,0,null,null,null,null,null,null,null,"Začátek provozního součtu"]
[null,null,"Výkopy:",null,0,null,null,null,null,null,null,null,"Výkopy:"]
[null,null,"Od stávající RŠ0 st.:16,00*1,50*(2,82+4,19)/2",null,84.12,null,null,null,null,null,null,null,"Od stávající RŠ0 st.:16,00*1,50*(2,82+4,19)/2"]
[null,null,"(96,40-16,00)*1,50*(4,19+2,15)/2",null,382.30200000000002,null,null,null,null,null,null,null,"(96,40-16,00)*1,50*(4,19+2,15)/2"]
[null,null,"(126,00-96,40)*1,30*(2,15+1,30)/2",null,66.378,null,null,null,null,null,null,null,"(126,00-96,40)*1,30*(2,15+1,30)/2"]
[null,null,"Prohloubení pro RŠ:2,00*2,00*0,20*3+1,60*1,60*0,20*1",null,2.9119999999999999,null,null,null,null,null,null,null,"Prohloubení pro RŠ:2,00*2,00*0,20*3+1,60*1,60*0,20*1"]
[null,null,"Rozšíření pro RŠ:2,00*(2,00-1,50)*(4,19+3,69+2,90)",null,10.78,null,null,null,null,null,null,null,"Rozšíření pro RŠ:2,00*(2,00-1,50)*(4,19+3,69+2,90)"]
[null,null,"1,60*(1,60-1,50)*2,15",null,0.34399999999999997,null,null,null,null,null,null,null,"1,60*(1,60-1,50)*2,15"]
[null,null,"Odpočet objeku konstrukce komunikace:-(96,40*1,50+(126,00-96,40)*1,30+(2,0-1,50)*3+1,60*(1,60-1,50)*1)*0,40",null,-73.896000000000001,null,null,null,null,null,null,null,"Odpočet objeku konstrukce komunikace:-(96,40*1,50+(126,00-96,40)*1,30+(2,0-1,50)*3+1,60*(1,60-1,50)*1)*0,40"]
[null,null,"Odpočet lože, potrubí a obsypů:",null,0,null,null,null,null,null,null,null,"Odpočet lože, potrubí a obsypů:"]
[null,null,"Od stávající RŠ0 st.:-96,40*1,50*(0,15+0,40+0,30)",null,-122.91,null,null,null,null,null,null,null,"Od stávající RŠ0 st.:-96,40*1,50*(0,15+0,40+0,30)"]
[null,null,"-(126,00-96,40)*1,30*(0,15+0,40+0,30)",null,-32.707999999999998,null,null,null,null,null,null,null,"-(126,00-96,40)*1,30*(0,15+0,40+0,30)"]
[null,null,"Odpočet objemu RŠ:-0,65^2*Pi*(4,19+3,69+2,90+2,15+0,20*4-0,40*4)",null,-16.1004,null,null,null,null,null,null,null,"Odpočet objemu RŠ:-0,65^2*Pi*(4,19+3,69+2,90+2,15+0,20*4-0,40*4)"]
[null,null,"0",null,0,null,null,null,null,null,null,null,0]
[null,null,"Konec provozního součtu",null,301.22160000000014,null,null,null,null,null,null,null,"Konec provozního součtu"]
[16,"175101101R00","Obsyp potrubí bez prohození sypaniny ","m3",112.3224,null,{"$f":"E104*F104","v":0},0,{"$f":"E104*H104","v":0},0,{"$f":"E104*J104","v":0},null,null,null,2,null,null,null,null,null,null,null,null,null,null,null,1,1,1,null,null,null,null,null,null,null,null,null,null,null,null,null,null,null,null,null,null,null,null,null,null,1,{"$f":"IF(AZ104=1,G104,0)","v":0},{"$f":"IF(AZ104=2,G104,0)","v":0},{"$f":"IF(AZ104=3,G104,0)","v":0},{"$f":"IF(AZ104=4,G104,0)","v":0},{"$f":"IF(AZ104=5,G104,0)","v":0},null,null,null,null,null,null,null,null,null,null,null,null,null,null,null,null,null,null,null,null,null,1,1]
[null,null,"Stoka \"S\" PVC DN400:",null,0,null,null,null,null,null,null,null,"Stoka \"S\" PVC DN400:"]
[null,null,"Výkopy:",null,0,null,null,null,null,null,null,null,"Výkopy:"]
[null,null,"Od stávající RŠ0 st.:96,40*(1,50*(0,40+0,30)-0,20^2*Pi)",null,89.105999999999995,null,null,null,null,null,null,null,"Od stávající RŠ0 st.:96,40*(1,50*(0,40+0,30)-0,20^2*Pi)"]
[null,null,"(126,00-96,40)*(1,30*(0,40+0,30)-0,20^2*Pi)",null,23.2164,null,null,null,null,null,null,null,"(126,00-96,40)*(1,30*(0,40+0,30)-0,20^2*Pi)"]
[17,"199000002R00","Poplatek za skládku horniny 1- 7 č. dle katal. odpadů 17 05 04","m3",435.11,null,{"$f":"E109*F109","v":0},0,{"$f":"E109*H109","v":0},0,{"$f":"E109*J109","v":0},null,null,null,2,null,null,null,null,null,null,null,null,null,null,null,1,1,1,null,null,null,null,null,null,null,null,null,null,null,null,null,null,null,null,null,null,null,null,null,null,1,{"$f":"IF(AZ109=1,G109,0)","v":0},{"$f":"IF(AZ109=2,G109,0)","v":0},{"$f":"IF(AZ109=3,G109,0)","v":0},{"$f":"IF(AZ109=4,G109,0)","v":0},{"$f":"IF(AZ109=5,G109,0)","v":0},null,null,null,null,null,null,null,null,null,null,null,null,null,null,null,null,null,null,null,null,null,1,1]
[null,null,"Stoka \"S\" PVC DN400:",null,0,null,null,null,null,null,null,null,"Stoka \"S\" PVC DN400:"]
[null,null,"Výkopy:",null,0,null,null,null,null,null,null,null,"Výkopy:"]
[null,null,"V hornině tř. 3 - 4:435,1100",null,435.11,null,null,null,null,null,null,null,"V hornině tř. 3 - 4:435,1100"]
[18,"979082212RRX","Vodorovná doprava suti po suchu na skládku zhotovitele","t",51.961500000000001,null,{"$f":"E113*F113","v":0},0,{"$f":"E113*H113","v":0},0,{"$f":"E113*J113","v":0},null,null,null,2,null,null,null,null,null,null,null,null,null,null,null,1,1,1,null,null,null,null,null,null,null,null,null,null,null,null,null,null,null,null,null,null,null,null,null,null,1,{"$f":"IF(AZ113=1,G113,0)","v":0},{"$f":"IF(AZ113=2,G113,0)","v":0},{"$f":"IF(AZ113=3,G113,0)","v":0},{"$f":"IF(AZ113=4,G113,0)","v":0},{"$f":"IF(AZ113=5,G113,0)","v":0},null,null,null,null,null,null,null,null,null,null,null,null,null,null,null,null,null,null,null,null,null,1,1]
[null,null,"Doprava suti na skládku zhotovitele nebo na předávací místo k recyklaci materiálu.",null,null,null,null,null,null,null,null,"Doprava suti na skládku zhotovitele nebo na předávací místo k recyklaci materiálu.",null,null,3]
[19,"979990103RRX","Poplatek za skládku stavební suti nebo recyklaci beton, skupina odpadu 170101","t",51.961500000000001,null,{"$f":"E115*F115","v":0},0,{"$f":"E115*H115","v":0},0,{"$f":"E115*J115","v":0},null,null,null,2,null,null,null,null,null,null,null,null,null,null,null,1,0,0,null,null,null,null,null,null,null,null,null,null,null,null,null,null,null,null,null,null,null,null,null,null,1,{"$f":"IF(AZ115=1,G115,0)","v":0},{"$f":"IF(AZ115=2,G115,0)","v":0},{"$f":"IF(AZ115=3,G115,0)","v":0},{"$f":"IF(AZ115=4,G115,0)","v":0},{"$f":"IF(AZ115=5,G115,0)","v":0},null,null,null,null,null,null,null,null,null,null,null,null,null,null,null,null,null,null,null,null,null,1,0]
[20,"58337308.R","Štěrkopísek frakce 0-2 tř.B","t",223.82820000000001,null,{"$f":"E116*F116","v":0},1,{"$f":"E116*H116","v":223.82820000000001},null,{"$f":"E116*J116","v":0},null,null,null,2,null,null,null,null,null,null,null,null,null,null,null,3,1,"58337308.R",null,null,null,null,null,null,null,null,null,null,null,null,null,null,null,null,null,null,null,null,null,null,1,{"$f":"IF(AZ116=1,G116,0)","v":0},{"$f":"IF(AZ116=2,G116,0)","v":0},{"$f":"IF(AZ116=3,G116,0)","v":0},{"$f":"IF(AZ116=4,G116,0)","v":0},{"$f":"IF(AZ116=5,G116,0)","v":0},null,null,null,null,null,null,null,null,null,null,null,null,null,null,null,null,null,null,null,null,null,3,1]
[null,null,"Stoka \"S\" PVC DN400:",null,0,null,null,null,null,null,null,null,"Stoka \"S\" PVC DN400:"]
[null,null,"Výkopy:",null,0,null,null,null,null,null,null,null,"Výkopy:"]
[null,null,"Od stávající RŠ0 st.:96,40*(1,50*(0,40+0,30)-0,20^2*Pi)*1,973*1,01",null,177.5642,null,null,null,null,null,null,null,"Od stávající RŠ0 st.:96,40*(1,50*(0,40+0,30)-0,20^2*Pi)*1,973*1,01"]
[null,null,"(126,00-96,40)*(1,30*(0,40+0,30)-0,20^2*Pi)*1,973*1,01",null,46.2639,null,null,null,null,null,null,null,"(126,00-96,40)*(1,30*(0,40+0,30)-0,20^2*Pi)*1,973*1,01"]
[21,"58344197R","Štěrkodrtě frakce 0-63 A","t",569.82989999999995,null,{"$f":"E121*F121","v":0},1,{"$f":"E121*H121","v":569.82989999999995},null,{"$f":"E121*J121","v":0},null,null,null,2,null,null,null,null,null,null,null,null,null,null,null,3,1,"58344197R",null,null,null,null,null,null,null,null,null,null,null,null,null,null,null,null,null,null,null,null,null,null,1,{"$f":"IF(AZ121=1,G121,0)","v":0},{"$f":"IF(AZ121=2,G121,0)","v":0},{"$f":"IF(AZ121=3,G121,0)","v":0},{"$f":"IF(AZ121=4,G121,0)","v":0},{"$f":"IF(AZ121=5,G121,0)","v":0},null,null,null,null,null,null,null,null,null,null,null,null,null,null,null,null,null,null,null,null,null,3,1]
[null,null,"Stoka \"S\" PVC DN400:",null,0,null,null,null,null,null,null,null,"Stoka \"S\" PVC DN400:"]
[null,null,"Zásypy ŠD fr. 0-63 mm:301,2216*1,873*1,01",null,569.82989999999995,null,null,null,null,null,null,null,"Zásypy ŠD fr. 0-63 mm:301,2216*1,873*1,01"]
[null,"Celkem za","1 Zemní práce",null,null,null,{"$f":"SUM(G7:G123)","v":0},null,{"$f":"SUM(I7:I123)","v":794.29402935999997},null,{"$f":"SUM(K7:K123)","v":-59.461499999999994},null,null,null,4,null,null,null,null,null,null,null,null,null,null,null,null,null,null,null,null,null,null,null,null,null,null,null,null,null,null,null,null,null,null,null,null,null,null,null,null,null,{"$f":"SUM(BA7:BA123)","v":0},{"$f":"SUM(BB7:BB123)","v":0},{"$f":"SUM(BC7:BC123)","v":0},{"$f":"SUM(BD7:BD123)","v":0},{"$f":"SUM(BE7:BE123)","v":0}]
["Díl:","21","Úprava podloží a základ.spáry",null,null,null,null,null,null,null,null,null,null,null,1]
[22,"215901101RT5","Zhutnění podloží do 92% PS vibrační deskou","m2",186.24,null,{"$f":"E126*F126","v":0},0,{"$f":"E126*H126","v":0},0,{"$f":"E126*J126","v":0},null,null,null,2,null,null,null,null,null,null,null,null,null,null,null,1,1,1,null,null,null,null,null,null,null,null,null,null,null,null,null,null,null,null,null,null,null,null,null,null,1,{"$f":"IF(AZ126=1,G126,0)","v":0},{"$f":"IF(AZ126=2,G126,0)","v":0},{"$f":"IF(AZ126=3,G126,0)","v":0},{"$f":"IF(AZ126=4,G126,0)","v":0},{"$f":"IF(AZ126=5,G126,0)","v":0},null,null,null,null,null,null,null,null,null,null,null,null,null,null,null,null,null,null,null,null,null,1,1]
[null,null,"Stoka \"S\" PVC DN400:",null,0,null,null,null,null,null,null,null,"Stoka \"S\" PVC DN400:"]
[null,null,"Výkopy:",null,0,null,null,null,null,null,null,null,"Výkopy:"]
[null,null,"Od stávající RŠ0 st.:96,40*1,50",null,144.6,null,null,null,null,null,null,null,"Od stávající RŠ0 st.:96,40*1,50"]
[null,null,"(126,00-96,40)*1,30",null,38.479999999999997,null,null,null,null,null,null,null,"(126,00-96,40)*1,30"]
[null,null,"Rozšíření pro RŠ:2,00*(2,00-1,50)*3",null,3,null,null,null,null,null,null,null,"Rozšíření pro RŠ:2,00*(2,00-1,50)*3"]
[null,null,"1,60*(1,60-1,50)*1",null,0.16,null,null,null,null,null,null,null,"1,60*(1,60-1,50)*1"]
[null,"Celkem za","21 Úprava podloží a základ.spáry",null,null,null,{"$f":"SUM(G125:G132)","v":0},null,{"$f":"SUM(I125:I132)","v":0},null,{"$f":"SUM(K125:K132)","v":0},null,null,null,4,null,null,null,null,null,null,null,null,null,null,null,null,null,null,null,null,null,null,null,null,null,null,null,null,null,null,null,null,null,null,null,null,null,null,null,null,null,{"$f":"SUM(BA125:BA132)","v":0},{"$f":"SUM(BB125:BB132)","v":0},{"$f":"SUM(BC125:BC132)","v":0},{"$f":"SUM(BD125:BD132)","v":0},{"$f":"SUM(BE125:BE132)","v":0}]
["Díl:","45","Podkladní a vedlejší konstrukce",null,null,null,null,null,null,null,null,null,null,null,1]
[23,"451572111R00","Lože pod potrubí z kameniva těženého 0 - 4 mm ","m3",27.462,null,{"$f":"E135*F135","v":0},0.43051,{"$f":"E135*H135","v":11.82266562},0,{"$f":"E135*J135","v":0},null,null,null,2,null,null,null,null,null,null,null,null,null,null,null,1,1,1,null,null,null,null,null,null,null,null,null,null,null,null,null,null,null,null,null,null,null,null,null,null,1,{"$f":"IF(AZ135=1,G135,0)","v":0},{"$f":"IF(AZ135=2,G135,0)","v":0},{"$f":"IF(AZ135=3,G135,0)","v":0},{"$f":"IF(AZ135=4,G135,0)","v":0},{"$f":"IF(AZ135=5,G135,0)","v":0},null,null,null,null,null,null,null,null,null,null,null,null,null,null,null,null,null,null,null,null,null,1,1]
[null,null,"Stoka \"S\" PVC DN400:",null,0,null,null,null,null,null,null,null,"Stoka \"S\" PVC DN400:"]
[null,null,"Výkopy:",null,0,null,null,null,null,null,null,null,"Výkopy:"]
[null,null,"Od stávající RŠ0 st.:96,40*1,50*0,15",null,21.69,null,null,null,null,null,null,null,"Od stávající RŠ0 st.:96,40*1,50*0,15"]
[null,null,"(126,00-96,40)*1,30*0,15",null,5.7720000000000002,null,null,null,null,null,null,null,"(126,00-96,40)*1,30*0,15"]
[24,"452112111R00","Osazení beton. prstenců pod poklopy,výšky do100 mm ","kus",5,null,{"$f":"E140*F140","v":0},6.6E-3,{"$f":"E140*H140","v":3.3000000000000002E-2},0,{"$f":"E140*J140","v":0},null,null,null,2,null,null,null,null,null,null,null,null,null,null,null,1,1,1,null,null,null,null,null,null,null,null,null,null,null,null,null,null,null,null,null,null,null,null,null,null,1,{"$f":"IF(AZ140=1,G140,0)","v":0},{"$f":"IF(AZ140=2,G140,0)","v":0},{"$f":"IF(AZ140=3,G140,0)","v":0},{"$f":"IF(AZ140=4,G140,0)","v":0},{"$f":"IF(AZ140=5,G140,0)","v":0},null,null,null,null,null,null,null,null,null,null,null,null,null,null,null,null,null,null,null,null,null,1,1]
[null,null,"Volba položky se řídí výškou prstence nebo rámu. V položkách nejsou zakalkulovány náklady na dodávku betonových výrobků;",null,null,null,null,null,null,null,null,"Volba položky se řídí výškou prstence nebo rámu. V položkách nejsou zakalkulovány náklady na dodávku betonových výrobků;",null,null,3]
[null,null,"Stoka \"S\" PVC DN400:",null,0,null,null,null,null,null,null,null,"Stoka \"S\" PVC DN400:"]
[null,null,"VP 40:1",null,1,null,null,null,null,null,null,null,"VP 40:1"]
[null,null,"VP 60:2",null,2,null,null,null,null,null,null,null,"VP 60:2"]
[null,null,"VP 100:2",null,2,null,null,null,null,null,null,null,"VP 100:2"]
[25,"452112121R00","Osazení beton. prstenců pod poklopy,výšky do200 mm ","kus",1,null,{"$f":"E146*F146","v":0},6.6E-3,{"$f":"E146*H146","v":6.6E-3},0,{"$f":"E146*J146","v":0},null,null,null,2,null,null,null,null,null,null,null,null,null,null,null,1,1,1,null,null,null,null,null,null,null,null,null,null,null,null,null,null,null,null,null,null,null,null,null,null,1,{"$f":"IF(AZ146=1,G146,0)","v":0},{"$f":"IF(AZ146=2,G146,0)","v":0},{"$f":"IF(AZ146=3,G146,0)","v":0},{"$f":"IF(AZ146=4,G146,0)","v":0},{"$f":"IF(AZ146=5,G146,0)","v":0},null,null,null,null,null,null,null,null,null,null,null,null,null,null,null,null,null,null,null,null,null,1,1]
[null,null,"Stoka \"S\" PVC DN400:",null,0,null,null,null,null,null,null,null,"Stoka \"S\" PVC DN400:"]
[null,null,"VP 120:1",null,1,null,null,null,null,null,null,null,"VP 120:1"]
[26,"59224346.A.R","Prstenec vyrovn šachetní TBW-Q.1 63/4","kus",2.02,null,{"$f":"E149*F149","v":0},2.8000000000000001E-2,{"$f":"E149*H149","v":5.6559999999999999E-2},null,{"$f":"E149*J149","v":0},null,null,null,2,null,null,null,null,null,null,null,null,null,null,null,3,1,"59224346.A.R",null,null,null,null,null,null,null,null,null,null,null,null,null,null,null,null,null,null,null,null,null,null,1,{"$f":"IF(AZ149=1,G149,0)","v":0},{"$f":"IF(AZ149=2,G149,0)","v":0},{"$f":"IF(AZ149=3,G149,0)","v":0},{"$f":"IF(AZ149=4,G149,0)","v":0},{"$f":"IF(AZ149=5,G149,0)","v":0},null,null,null,null,null,null,null,null,null,null,null,null,null,null,null,null,null,null,null,null,null,3,1]
[null,null,"Stoka \"S\" PVC DN400:",null,0,null,null,null,null,null,null,null,"Stoka \"S\" PVC DN400:"]
[null,null,"VP 60:2*1,01",null,2.02,null,null,null,null,null,null,null,"VP 60:2*1,01"]
[27,"59224347.A.R","Prstenec vyrovn šachetní TBW-Q.1 63/6","kus",2.02,null,{"$f":"E152*F152","v":0},0.04,{"$f":"E152*H152","v":8.0799999999999997E-2},null,{"$f":"E152*J152","v":0},null,null,null,2,null,null,null,null,null,null,null,null,null,null,null,3,1,"59224347.A.R",null,null,null,null,null,null,null,null,null,null,null,null,null,null,null,null,null,null,null,null,null,null,1,{"$f":"IF(AZ152=1,G152,0)","v":0},{"$f":"IF(AZ152=2,G152,0)","v":0},{"$f":"IF(AZ152=3,G152,0)","v":0},{"$f":"IF(AZ152=4,G152,0)","v":0},{"$f":"IF(AZ152=5,G152,0)","v":0},null,null,null,null,null,null,null,null,null,null,null,null,null,null,null,null,null,null,null,null,null,3,1]
[null,null,"Stoka \"S\" PVC DN400:",null,0,null,null,null,null,null,null,null,"Stoka \"S\" PVC DN400:"]
[null,null,"VP 60:2*1,01",null,2.02,null,null,null,null,null,null,null,"VP 60:2*1,01"]
[28,"59224349.A.R","Prstenec vyrovn šachetní TBW-Q.1 63/10","kus",2.02,null,{"$f":"E155*F155","v":0},6.8000000000000005E-2,{"$f":"E155*H155","v":0.13736000000000001},null,{"$f":"E155*J155","v":0},null,null,null,2,null,null,null,null,null,null,null,null,null,null,null,3,1,"59224349.A.R",null,null,null,null,null,null,null,null,null,null,null,null,null,null,null,null,null,null,null,null,null,null,1,{"$f":"IF(AZ155=1,G155,0)","v":0},{"$f":"IF(AZ155=2,G155,0)","v":0},{"$f":"IF(AZ155=3,G155,0)","v":0},{"$f":"IF(AZ155=4,G155,0)","v":0},{"$f":"IF(AZ155=5,G155,0)","v":0},null,null,null,null,null,null,null,null,null,null,null,null,null,null,null,null,null,null,null,null,null,3,1]
[null,null,"Stoka \"S\" PVC DN400:",null,0,null,null,null,null,null,null,null,"Stoka \"S\" PVC DN400:"]
[null,null,"VP 100:2*1,01",null,2.02,null,null,null,null,null,null,null,"VP 100:2*1,01"]
[29,"59224350.A.R","Prstenec vyrovn šachetní TBW-Q.1 63/12","kus",1.01,null,{"$f":"E158*F158","v":0},8.1000000000000003E-2,{"$f":"E158*H158","v":8.1810000000000008E-2},null,{"$f":"E158*J158","v":0},null,null,null,2,null,null,null,null,null,null,null,null,null,null,null,3,1,"59224350.A.R",null,null,null,null,null,null,null,null,null,null,null,null,null,null,null,null,null,null,null,null,null,null,1,{"$f":"IF(AZ158=1,G158,0)","v":0},{"$f":"IF(AZ158=2,G158,0)","v":0},{"$f":"IF(AZ158=3,G158,0)","v":0},{"$f":"IF(AZ158=4,G158,0)","v":0},{"$f":"IF(AZ158=5,G158,0)","v":0},null,null,null,null,null,null,null,null,null,null,null,null,null,null,null,null,null,null,null,null,null,3,1]
[null,null,"Stoka \"S\" PVC DN400:",null,0,null,null,null,null,null,null,null,"Stoka \"S\" PVC DN400:"]
[null,null,"VP 120:1*1,01",null,1.01,null,null,null,null,null,null,null,"VP 120:1*1,01"]
[null,"Celkem za","45 Podkladní a vedlejší konstrukce",null,null,null,{"$f":"SUM(G134:G160)","v":0},null,{"$f":"SUM(I134:I160)","v":12.21879562},null,{"$f":"SUM(K134:K160)","v":0},null,null,null,4,null,null,null,null,null,null,null,null,null,null,null,null,null,null,null,null,null,null,null,null,null,null,null,null,null,null,null,null,null,null,null,null,null,null,null,null,null,{"$f":"SUM(BA134:BA160)","v":0},{"$f":"SUM(BB134:BB160)","v":0},{"$f":"SUM(BC134:BC160)","v":0},{"$f":"SUM(BD134:BD160)","v":0},{"$f":"SUM(BE134:BE160)","v":0}]
["Díl:","5","Komunikace",null,null,null,null,null,null,null,null,null,null,null,1]
[30,"572701119RRX","Provizorní zásyp rýh kam. hrubě drceným nebo recyk s následným odstraněním a odvozem","m3",74.495999999999995,null,{"$f":"E163*F163","v":0},1.4804999999999999,{"$f":"E163*H163","v":110.29132799999999},0,{"$f":"E163*J163","v":0},null,null,null,2,null,null,null,null,null,null,null,null,null,null,null,1,1,1,null,null,null,null,null,null,null,null,null,null,null,null,null,null,null,null,null,null,null,null,null,null,1,{"$f":"IF(AZ163=1,G163,0)","v":0},{"$f":"IF(AZ163=2,G163,0)","v":0},{"$f":"IF(AZ163=3,G163,0)","v":0},{"$f":"IF(AZ163=4,G163,0)","v":0},{"$f":"IF(AZ163=5,G163,0)","v":0},null,null,null,null,null,null,null,null,null,null,null,null,null,null,null,null,null,null,null,null,null,1,1]
[null,null,"Stoka \"S\" PVC DN400:",null,0,null,null,null,null,null,null,null,"Stoka \"S\" PVC DN400:"]
[null,null,"Výkopy:",null,0,null,null,null,null,null,null,null,"Výkopy:"]
[null,null,"Od stávající RŠ0 st.:96,40*1,50*0,40",null,57.84,null,null,null,null,null,null,null,"Od stávající RŠ0 st.:96,40*1,50*0,40"]
[null,null,"(126,00-96,40)*1,30*0,40",null,15.391999999999999,null,null,null,null,null,null,null,"(126,00-96,40)*1,30*0,40"]
[null,null,"Rozšíření pro RŠ:2,00*(2,00-1,50)*3*0,40",null,1.2,null,null,null,null,null,null,null,"Rozšíření pro RŠ:2,00*(2,00-1,50)*3*0,40"]
[null,null,"1,60*(1,60-1,50)*1*0,40",null,6.4000000000000001E-2,null,null,null,null,null,null,null,"1,60*(1,60-1,50)*1*0,40"]
[null,"Celkem za","5 Komunikace",null,null,null,{"$f":"SUM(G162:G169)","v":0},null,{"$f":"SUM(I162:I169)","v":110.29132799999999},null,{"$f":"SUM(K162:K169)","v":0},null,null,null,4,null,null,null,null,null,null,null,null,null,null,null,null,null,null,null,null,null,null,null,null,null,null,null,null,null,null,null,null,null,null,null,null,null,null,null,null,null,{"$f":"SUM(BA162:BA169)","v":0},{"$f":"SUM(BB162:BB169)","v":0},{"$f":"SUM(BC162:BC169)","v":0},{"$f":"SUM(BD162:BD169)","v":0},{"$f":"SUM(BE162:BE169)","v":0}]
["Díl:","8","Trubní vedení",null,null,null,null,null,null,null,null,null,null,null,1]
[31,"871393121R00","Montáž trub z plastu, gumový kroužek, DN 400 ","m",126,null,{"$f":"E172*F172","v":0},1.0000000000000001E-5,{"$f":"E172*H172","v":1.2600000000000001E-3},0,{"$f":"E172*J172","v":0},null,null,null,2,null,null,null,null,null,null,null,null,null,null,null,1,1,1,null,null,null,null,null,null,null,null,null,null,null,null,null,null,null,null,null,null,null,null,null,null,1,{"$f":"IF(AZ172=1,G172,0)","v":0},{"$f":"IF(AZ172=2,G172,0)","v":0},{"$f":"IF(AZ172=3,G172,0)","v":0},{"$f":"IF(AZ172=4,G172,0)","v":0},{"$f":"IF(AZ172=5,G172,0)","v":0},null,null,null,null,null,null,null,null,null,null,null,null,null,null,null,null,null,null,null,null,null,1,1]
[null,null,"Stoka \"S\" PVC DN400:126,00",null,126,null,null,null,null,null,null,null,"Stoka \"S\" PVC DN400:126,00"]
[32,"877393121R00","Montáž tvarovek odboč. plast. gum. kroužek DN 400 ","kus",7,null,{"$f":"E174*F174","v":0},8.0000000000000007E-5,{"$f":"E174*H174","v":5.6000000000000006E-4},0,{"$f":"E174*J174","v":0},null,null,null,2,null,null,null,null,null,null,null,null,null,null,null,1,1,1,null,null,null,null,null,null,null,null,null,null,null,null,null,null,null,null,null,null,null,null,null,null,1,{"$f":"IF(AZ174=1,G174,0)","v":0},{"$f":"IF(AZ174=2,G174,0)","v":0},{"$f":"IF(AZ174=3,G174,0)","v":0},{"$f":"IF(AZ174=4,G174,0)","v":0},{"$f":"IF(AZ174=5,G174,0)","v":0},null,null,null,null,null,null,null,null,null,null,null,null,null,null,null,null,null,null,null,null,null,1,1]
[null,null,"Stoka \"S\" PVC DN400:",null,0,null,null,null,null,null,null,null,"Stoka \"S\" PVC DN400:"]
[null,null,"Odbočky pro KP:",null,0,null,null,null,null,null,null,null,"Odbočky pro KP:"]
[null,null,"DN400/150:5",null,5,null,null,null,null,null,null,null,"DN400/150:5"]
[null,null,"Odbočky pro UV:",null,0,null,null,null,null,null,null,null,"Odbočky pro UV:"]
[null,null,"DN400/200:2",null,2,null,null,null,null,null,null,null,"DN400/200:2"]
[33,"891183438RRX","Propojení potrubí PVC DN300 na stávající RŠ včetně dodávky propojovací tvarovky","kus",1,null,{"$f":"E180*F180","v":0},0.16800000000000001,{"$f":"E180*H180","v":0.16800000000000001},0,{"$f":"E180*J180","v":0},null,null,null,2,null,null,null,null,null,null,null,null,null,null,null,1,1,1,null,null,null,null,null,null,null,null,null,null,null,null,null,null,null,null,null,null,null,null,null,null,1,{"$f":"IF(AZ180=1,G180,0)","v":0},{"$f":"IF(AZ180=2,G180,0)","v":0},{"$f":"IF(AZ180=3,G180,0)","v":0},{"$f":"IF(AZ180=4,G180,0)","v":0},{"$f":"IF(AZ180=5,G180,0)","v":0},null,null,null,null,null,null,null,null,null,null,null,null,null,null,null,null,null,null,null,null,null,1,1]
[null,null,"Položka obsahuje úpravu stávajícího otvoru stávající RŠ včetně potřebné případné úpravy, montáž a dodávku redukční tvarovky DN300/400 pro napropojení nového potrubí DN400.",null,null,null,null,null,null,null,null,"Položka obsahuje úpravu stávajícího otvoru stávající RŠ včetně potřebné případné úpravy, montáž a dodávku redukční tvarovky DN300/400 pro napropojení nového potrubí DN400.",null,null,3]
[null,null,"Stoka \"S\" PVC DN400:",null,0,null,null,null,null,null,null,null,"Stoka \"S\" PVC DN400:"]
[null,null,"Napojení potrubí DN400 přes redukci DN300/400 na stávající RŠ5 st.:1",null,1,null,null,null,null,null,null,null,"Napojení potrubí DN400 přes redukci DN300/400 na stávající RŠ5 st.:1"]
[34,"891183449RRX","Propojení potrubí PVC DN400 na stávající RŠ včetně dodávky propojovací tvarovky","kus",1,null,{"$f":"E184*F184","v":0},0.16800000000000001,{"$f":"E184*H184","v":0.16800000000000001},0,{"$f":"E184*J184","v":0},null,null,null,2,null,null,null,null,null,null,null,null,null,null,null,1,1,1,null,null,null,null,null,null,null,null,null,null,null,null,null,null,null,null,null,null,null,null,null,null,1,{"$f":"IF(AZ184=1,G184,0)","v":0},{"$f":"IF(AZ184=2,G184,0)","v":0},{"$f":"IF(AZ184=3,G184,0)","v":0},{"$f":"IF(AZ184=4,G184,0)","v":0},{"$f":"IF(AZ184=5,G184,0)","v":0},null,null,null,null,null,null,null,null,null,null,null,null,null,null,null,null,null,null,null,null,null,1,1]
[null,null,"Položka obsahuje vyříznutí otvoru do dna stávající RŠ včetně potřebné úpravy stávající kynety ve dně šachty, montáž a dodávku příslušné tvarovky pro napropojení nového potrubí se stávající RŠ DN1000.",null,null,null,null,null,null,null,null,"Položka obsahuje vyříznutí otvoru do dna stávající RŠ včetně potřebné úpravy stávající kynety ve dně šachty, montáž a dodávku příslušné tvarovky pro napropojení nového potrubí se stávající RŠ DN1000.",null,null,3]
[null,null,"Stoka \"S\" PVC DN400:",null,0,null,null,null,null,null,null,null,"Stoka \"S\" PVC DN400:"]
[null,null,"Napojení potrubí DN400 na stávající RŠ:1",null,1,null,null,null,null,null,null,null,"Napojení potrubí DN400 na stávající RŠ:1"]
[35,"892601154R00","Čištění kanalizační stoky do DN 500, nad 100 m ","m",252,null,{"$f":"E188*F188","v":0},0,{"$f":"E188*H188","v":0},0,{"$f":"E188*J188","v":0},null,null,null,2,null,null,null,null,null,null,null,null,null,null,null,1,1,1,null,null,null,null,null,null,null,null,null,null,null,null,null,null,null,null,null,null,null,null,null,null,1,{"$f":"IF(AZ188=1,G188,0)","v":0},{"$f":"IF(AZ188=2,G188,0)","v":0},{"$f":"IF(AZ188=3,G188,0)","v":0},{"$f":"IF(AZ188=4,G188,0)","v":0},{"$f":"IF(AZ188=5,G188,0)","v":0},null,null,null,null,null,null,null,null,null,null,null,null,null,null,null,null,null,null,null,null,null,1,1]
[null,null,"V položce je zakalkulováno:",null,null,null,null,null,null,null,null,"V položce je zakalkulováno:",null,null,3]
[null,null,"a) otevření a uzavření revizních šachet a čisticích kusů",null,null,null,null,null,null,null,null,"a) otevření a uzavření revizních šachet a čisticích kusů",null,null,3]
[null,null,"b) natažení vysokotlakých hadic k místu odkud se bude kanalizace čistit",null,null,null,null,null,null,null,null,"b) natažení vysokotlakých hadic k místu odkud se bude kanalizace čistit",null,null,3]
[null,null,"c) vyčištění potrubí tlakovou vodou nebo motorovým pérem.",null,null,null,null,null,null,null,null,"c) vyčištění potrubí tlakovou vodou nebo motorovým pérem.",null,null,3]
[null,null,"Stoka \"S\" PVC DN400:126,00*2",null,252,null,null,null,null,null,null,null,"Stoka \"S\" PVC DN400:126,00"]
[36,"892855114R00","Kontrola kanalizace TV kamerou do 200 m ","m",252,null,{"$f":"E194*F194","v":0},0,{"$f":"E194*H194","v":0},0,{"$f":"E194*J194","v":0},null,null,null,2,null,null,null,null,null,null,null,null,null,null,null,1,1,1,null,null,null,null,null,null,null,null,null,null,null,null,null,null,null,null,null,null,null,null,null,null,1,{"$f":"IF(AZ194=1,G194,0)","v":0},{"$f":"IF(AZ194=2,G194,0)","v":0},{"$f":"IF(AZ194=3,G194,0)","v":0},{"$f":"IF(AZ194=4,G194,0)","v":0},{"$f":"IF(AZ194=5,G194,0)","v":0},null,null,null,null,null,null,null,null,null,null,null,null,null,null,null,null,null,null,null,null,null,1,1]
[null,null,"Stoka \"S\" PVC DN400:126,00*2",null,252,null,null,null,null,null,null,null,"Stoka \"S\" PVC DN400:126,00"]
[37,"894421111RT1","Osazení betonových dílců šachet skruže rovné, na kroužek, do 0,5 t","kus",2,null,{"$f":"E196*F196","v":0},0,{"$f":"E196*H196","v":0},0,{"$f":"E196*J196","v":0},null,null,null,2,null,null,null,null,null,null,null,null,null,null,null,1,1,1,null,null,null,null,null,null,null,null,null,null,null,null,null,null,null,null,null,null,null,null,null,null,1,{"$f":"IF(AZ196=1,G196,0)","v":0},{"$f":"IF(AZ196=2,G196,0)","v":0},{"$f":"IF(AZ196=3,G196,0)","v":0},{"$f":"IF(AZ196=4,G196,0)","v":0},{"$f":"IF(AZ196=5,G196,0)","v":0},null,null,null,null,null,null,null,null,null,null,null,null,null,null,null,null,null,null,null,null,null,1,1]
[null,null,"Položka je určena pro osazení betonových dílců šachet dle DIN 4034, skruže rovné na kroužek, hmotnost do 0,5 t.",null,null,null,null,null,null,null,null,"Položka je určena pro osazení betonových dílců šachet dle DIN 4034, skruže rovné na kroužek, hmotnost do 0,5 t.",null,null,3]
[null,null,"V položce nejsou zakalkulovány náklady na dodání betonových dílců; dílce se oceňují ve specifikaci.",null,null,null,null,null,null,null,null,"V položce nejsou zakalkulovány náklady na dodání betonových dílců; dílce se oceňují ve specifikaci.",null,null,3]
[null,null,"Stoka \"S\" PVC DN400:",null,0,null,null,null,null,null,null,null,"Stoka \"S\" PVC DN400:"]
[null,null,"Skruž H250:1",null,1,null,null,null,null,null,null,null,"Skruž H250:1"]
[null,null,"Skruž H500:1",null,1,null,null,null,null,null,null,null,"Skruž H500:1"]
[38,"894421112RT1","Osazení betonových dílců šachet skruže rovné, na kroužek, do 1,4 t","kus",6,null,{"$f":"E202*F202","v":0},0,{"$f":"E202*H202","v":0},0,{"$f":"E202*J202","v":0},null,null,null,2,null,null,null,null,null,null,null,null,null,null,null,1,1,1,null,null,null,null,null,null,null,null,null,null,null,null,null,null,null,null,null,null,null,null,null,null,1,{"$f":"IF(AZ202=1,G202,0)","v":0},{"$f":"IF(AZ202=2,G202,0)","v":0},{"$f":"IF(AZ202=3,G202,0)","v":0},{"$f":"IF(AZ202=4,G202,0)","v":0},{"$f":"IF(AZ202=5,G202,0)","v":0},null,null,null,null,null,null,null,null,null,null,null,null,null,null,null,null,null,null,null,null,null,1,1]
[null,null,"Položka je určena pro osazení betonových dílců šachet dle DIN 4034, skruže rovné na kroužek, hmotnost přes 0,5 do 1,4 t.",null,null,null,null,null,null,null,null,"Položka je určena pro osazení betonových dílců šachet dle DIN 4034, skruže rovné na kroužek, hmotnost přes 0,5 do 1,4 t.",null,null,3]
[null,null,"V položce nejsou zakalkulovány náklady na dodání betonových dílců; dílce se oceňují ve specifikaci.",null,null,null,null,null,null,null,null,"V položce nejsou zakalkulovány náklady na dodání betonových dílců; dílce se oceňují ve specifikaci.",null,null,3]
[null,null,"Stoka \"S\" PVC DN400:",null,0,null,null,null,null,null,null,null,"Stoka \"S\" PVC DN400:"]
[null,null,"Dkruž H1000:6",null,6,null,null,null,null,null,null,null,"Dkruž H1000:6"]
[39,"894422111RT1","Osazení betonových dílců šachet skruže přechodové, na kroužek","kus",4,null,{"$f":"E207*F207","v":0},0,{"$f":"E207*H207","v":0},0,{"$f":"E207*J207","v":0},null,null,null,2,null,null,null,null,null,null,null,null,null,null,null,1,1,1,null,null,null,null,null,null,null,null,null,null,null,null,null,null,null,null,null,null,null,null,null,null,1,{"$f":"IF(AZ207=1,G207,0)","v":0},{"$f":"IF(AZ207=2,G207,0)","v":0},{"$f":"IF(AZ207=3,G207,0)","v":0},{"$f":"IF(AZ207=4,G207,0)","v":0},{"$f":"IF(AZ207=5,G207,0)","v":0},null,null,null,null,null,null,null,null,null,null,null,null,null,null,null,null,null,null,null,null,null,1,1]
[null,null,"Položka je určena pro osazení betonových dílců šachet dle DIN 4034, skruže přechodové, zákrytové, kónusy,... na kroužek.",null,null,null,null,null,null,null,null,"Položka je určena pro osazení betonových dílců šachet dle DIN 4034, skruže přechodové, zákrytové, kónusy,... na kroužek.",null,null,3]
[null,null,"Stoka \"S\" PVC DN400:",null,0,null,null,null,null,null,null,null,"Stoka \"S\" PVC DN400:"]
[null,null,"Kónus H600:3",null,3,null,null,null,null,null,null,null,"Kónus H600:3"]
[null,null,"ZD H170:1",null,1,null,null,null,null,null,null,null,"ZD H170:1"]
[40,"894423111RT1","Osazení betonových dílců šachet do 2,0 t šachtová dna, na kroužek, do 2,0 t","kus",4,null,{"$f":"E212*F212","v":0},0,{"$f":"E212*H212","v":0},0,{"$f":"E212*J212","v":0},null,null,null,2,null,null,null,null,null,null,null,null,null,null,null,1,1,1,null,null,null,null,null,null,null,null,null,null,null,null,null,null,null,null,null,null,null,null,null,null,1,{"$f":"IF(AZ212=1,G212,0)","v":0},{"$f":"IF(AZ212=2,G212,0)","v":0},{"$f":"IF(AZ212=3,G212,0)","v":0},{"$f":"IF(AZ212=4,G212,0)","v":0},{"$f":"IF(AZ212=5,G212,0)","v":0},null,null,null,null,null,null,null,null,null,null,null,null,null,null,null,null,null,null,null,null,null,1,1]
[null,null,"Položka je určena pro osazení betonových dílců šachet dle DIN 4034, šachtová dna na kroužek, hmotnost do 2,0 t.",null,null,null,null,null,null,null,null,"Položka je určena pro osazení betonových dílců šachet dle DIN 4034, šachtová dna na kroužek, hmotnost do 2,0 t.",null,null,3]
[null,null,"V položce nejsou zakalkulovány náklady na dodání betonových dílců;",null,null,null,null,null,null,null,null,"V položce nejsou zakalkulovány náklady na dodání betonových dílců;",null,null,3]
[null,null,"Součástí položky je i podbetonování šachtového dna betonem C12/15 v min. tl. 10 cm.",null,null,null,null,null,null,null,null,"Součástí položky je i podbetonování šachtového dna betonem C12/15 v min. tl. 10 cm.",null,null,3]
[null,null,"Stoka \"S\" PVC DN400:",null,0,null,null,null,null,null,null,null,"Stoka \"S\" PVC DN400:"]
[null,null,"ŠD 100/40:4",null,4,null,null,null,null,null,null,null,"ŠD 100/40:4"]
[41,"899102111R00","Osazení poklopu s rámem do 100 kg s následnou demontáží","kus",4,null,{"$f":"E218*F218","v":0},7.0200000000000002E-3,{"$f":"E218*H218","v":2.8080000000000001E-2},0,{"$f":"E218*J218","v":0},null,null,null,2,null,null,null,null,null,null,null,null,null,null,null,1,1,1,null,null,null,null,null,null,null,null,null,null,null,null,null,null,null,null,null,null,null,null,null,null,1,{"$f":"IF(AZ218=1,G218,0)","v":0},{"$f":"IF(AZ218=2,G218,0)","v":0},{"$f":"IF(AZ218=3,G218,0)","v":0},{"$f":"IF(AZ218=4,G218,0)","v":0},{"$f":"IF(AZ218=5,G218,0)","v":0},null,null,null,null,null,null,null,null,null,null,null,null,null,null,null,null,null,null,null,null,null,1,1]
[null,null,"Osazení provizorních poklopů během realizace stavby  (nefakturovaný materiál zhotovitele)",null,null,null,null,null,null,null,null,"Osazení provizorních poklopů během realizace stavby  (nefakturovaný materiál zhotovitele)",null,null,3]
[null,null,"Stoka \"S\" PVC DN400:",null,0,null,null,null,null,null,null,null,"Stoka \"S\" PVC DN400:"]
[null,null,"Provizorní poklopy na nové RŠ:4",null,4,null,null,null,null,null,null,null,"Provizorní poklopy na nové RŠ:4"]
[42,"899711122R00","Fólie výstražná z PVC šedá, šířka 30 cm ","m",126,null,{"$f":"E222*F222","v":0},0,{"$f":"E222*H222","v":0},0,{"$f":"E222*J222","v":0},null,null,null,2,null,null,null,null,null,null,null,null,null,null,null,1,1,1,null,null,null,null,null,null,null,null,null,null,null,null,null,null,null,null,null,null,null,null,null,null,1,{"$f":"IF(AZ222=1,G222,0)","v":0},{"$f":"IF(AZ222=2,G222,0)","v":0},{"$f":"IF(AZ222=3,G222,0)","v":0},{"$f":"IF(AZ222=4,G222,0)","v":0},{"$f":"IF(AZ222=5,G222,0)","v":0},null,null,null,null,null,null,null,null,null,null,null,null,null,null,null,null,null,null,null,null,null,1,1]
[null,null,"Stoka \"S\" PVC DN400:126,00",null,126,null,null,null,null,null,null,null,"Stoka \"S\" PVC DN400:126,00"]
[43,"286111943.A.R","Trubka kanalizační PVC QUANTUM SN 12 DN 400","m",124.2901,null,{"$f":"E224*F224","v":0},1.2699999999999999E-2,{"$f":"E224*H224","v":1.5784842699999999},null,{"$f":"E224*J224","v":0},null,null,null,2,null,null,null,null,null,null,null,null,null,null,null,3,1,"286111943.A.R",null,null,null,null,null,null,null,null,null,null,null,null,null,null,null,null,null,null,null,null,null,null,1,{"$f":"IF(AZ224=1,G224,0)","v":0},{"$f":"IF(AZ224=2,G224,0)","v":0},{"$f":"IF(AZ224=3,G224,0)","v":0},{"$f":"IF(AZ224=4,G224,0)","v":0},{"$f":"IF(AZ224=5,G224,0)","v":0},null,null,null,null,null,null,null,null,null,null,null,null,null,null,null,null,null,null,null,null,null,3,1]
[null,null,"Jedná  se  o  plnostěnné kanalizační trubky DN 150 – DN 400, SN 12 kN/m2 , zvenčí  i  zevnitř  hladké. Jsou  opatřeny hrdlem,  v  němž  je  vložen vysoce  elastický  jazýčkový  kroužek.  konce  trubek  (dříků)  jsou opatřeny  zkosením  pod  úhlem  15°.  Způsob  použití  trubek  je  „U“  dle  normy  ČSN  EN  1401-1, tj. mimo budovy. Spolehlivá  funkce  těsnění  je  jištěna  výztužným  kroužkem  z  elastomeru.  Je  tak  zamezeno  vypad-nutí nebo vytlačení kroužku při manipulaci a montáži. Tento systém zaručuje při správné montáži ",null,null,null,null,null,null,null,null,"Jedná  se  o  plnostěnné kanalizační trubky DN 150 – DN 400, SN 12 kN/m2 , zvenčí  i  zevnitř  hladké. Jsou  opatřeny hrdlem,  v  němž  je  vložen vysoce  elastický  jazýčkový  kroužek.  konce  trubek  (dříků)  jsou opatřeny  zkosením  pod  úhlem  15°.  Způsob  použití  trubek  je  „U“  dle  normy  ČSN  EN  1401-1, tj. mimo budovy. Spolehlivá  funkce  těsnění  je  jištěna  výztužným  kroužkem  z  elastomeru.  Je  tak  zamezeno  vypad-nutí nebo vytlačení kroužku při manipulaci a montáži. Tento systém zaručuje při správné montáži ",null,null,3]
[null,null,"dokonalou  těsnost  do  výšky  vodního  sloupce  5  metrů.",null,null,null,null,null,null,null,null,"dokonalou  těsnost  do  výšky  vodního  sloupce  5  metrů.",null,null,3]
[null,null,"Stoka \"S\" PVC DN400:126,00*1,03",null,129.78,null,null,null,null,null,null,null,"Stoka \"S\" PVC DN400:126,00*1,03"]
[null,null,"Odpočet odboček:-(0,725*4+0,810*3)*1,03",null,-5.4898999999999996,null,null,null,null,null,null,null,"Odpočet odboček:-(0,725*4+0,810*3)*1,03"]
[44,"286506141.R","Odbočka kanaliz. PVC QUANTUM SDR 34 DN 400/150/45°","kus",5.0750000000000002,null,{"$f":"E229*F229","v":0},1.2999999999999999E-2,{"$f":"E229*H229","v":6.5975000000000006E-2},null,{"$f":"E229*J229","v":0},null,null,null,2,null,null,null,null,null,null,null,null,null,null,null,3,1,"286506141.R",null,null,null,null,null,null,null,null,null,null,null,null,null,null,null,null,null,null,null,null,null,null,1,{"$f":"IF(AZ229=1,G229,0)","v":0},{"$f":"IF(AZ229=2,G229,0)","v":0},{"$f":"IF(AZ229=3,G229,0)","v":0},{"$f":"IF(AZ229=4,G229,0)","v":0},{"$f":"IF(AZ229=5,G229,0)","v":0},null,null,null,null,null,null,null,null,null,null,null,null,null,null,null,null,null,null,null,null,null,3,1]
[null,null,"Tvarovky kanalizačního systému PVC QUANTUM SDR 34",null,null,null,null,null,null,null,null,"Tvarovky kanalizačního systému PVC QUANTUM SDR 34",null,null,3]
[null,null,"Teplota při pokládce: min. -10 °C, max. 50 °C",null,null,null,null,null,null,null,null,"Teplota při pokládce: min. -10 °C, max. 50 °C",null,null,3]
[null,null,"Max. teplota média: trvale do 40 °C, krátkodobě do 60 °C",null,null,null,null,null,null,null,null,"Max. teplota média: trvale do 40 °C, krátkodobě do 60 °C",null,null,3]
[null,null,"Orientační výška krytí: min. 0,5 m, max. 10 m",null,null,null,null,null,null,null,null,"Orientační výška krytí: min. 0,5 m, max. 10 m",null,null,3]
[null,null,"Max. rychlost média: 12 m/s",null,null,null,null,null,null,null,null,"Max. rychlost média: 12 m/s",null,null,3]
[null,null,"Stoka \"S\" PVC DN400:",null,0,null,null,null,null,null,null,null,"Stoka \"S\" PVC DN400:"]
[null,null,"Odbočky pro KP:",null,0,null,null,null,null,null,null,null,"Odbočky pro KP:"]
[null,null,"DN400/150:5*1,015",null,5.0750000000000002,null,null,null,null,null,null,null,"DN400/150:5*1,015"]
[45,"286506142.R","Odbočka kanaliz. PVC QUANTUM SDR 34 DN 400/200/45°","kus",2.0299999999999998,null,{"$f":"E238*F238","v":0},1.46E-2,{"$f":"E238*H238","v":2.9637999999999998E-2},null,{"$f":"E238*J238","v":0},null,null,null,2,null,null,null,null,null,null,null,null,null,null,null,3,1,"286506142.R",null,null,null,null,null,null,null,null,null,null,null,null,null,null,null,null,null,null,null,null,null,null,1,{"$f":"IF(AZ238=1,G238,0)","v":0},{"$f":"IF(AZ238=2,G238,0)","v":0},{"$f":"IF(AZ238=3,G238,0)","v":0},{"$f":"IF(AZ238=4,G238,0)","v":0},{"$f":"IF(AZ238=5,G238,0)","v":0},null,null,null,null,null,null,null,null,null,null,null,null,null,null,null,null,null,null,null,null,null,3,1]
[null,null,"Tvarovky kanalizačního systému PVC QUANTUM SDR 34",null,null,null,null,null,null,null,null,"Tvarovky kanalizačního systému PVC QUANTUM SDR 34",null,null,3]
[null,null,"Teplota při pokládce: min. -10 °C, max. 50 °C",null,null,null,null,null,null,null,null,"Teplota při pokládce: min. -10 °C, max. 50 °C",null,null,3]
[null,null,"Max. teplota média: trvale do 40 °C, krátkodobě do 60 °C",null,null,null,null,null,null,null,null,"Max. teplota média: trvale do 40 °C, krátkodobě do 60 °C",null,null,3]
[null,null,"Orientační výška krytí: min. 0,5 m, max. 10 m",null,null,null,null,null,null,null,null,"Orientační výška krytí: min. 0,5 m, max. 10 m",null,null,3]
[null,null,"Max. rychlost média: 12 m/s",null,null,null,null,null,null,null,null,"Max. rychlost média: 12 m/s",null,null,3]
[null,null,"Stoka \"S\" PVC DN400:",null,0,null,null,null,null,null,null,null,"Stoka \"S\" PVC DN400:"]
[null,null,"Odbočky pro UV:",null,0,null,null,null,null,null,null,null,"Odbočky pro UV:"]
[null,null,"DN400/200:2*1,015",null,2.0299999999999998,null,null,null,null,null,null,null,"DN400/200:2*1,015"]
[46,"59224353.A.R","Konus šachetní TBR-Q.1 100-63/58/12 KPS","kus",3.03,null,{"$f":"E247*F247","v":0},0.58499999999999996,{"$f":"E247*H247","v":1.7725499999999998},null,{"$f":"E247*J247","v":0},null,null,null,2,null,null,null,null,null,null,null,null,null,null,null,3,1,"59224353.A.R",null,null,null,null,null,null,null,null,null,null,null,null,null,null,null,null,null,null,null,null,null,null,1,{"$f":"IF(AZ247=1,G247,0)","v":0},{"$f":"IF(AZ247=2,G247,0)","v":0},{"$f":"IF(AZ247=3,G247,0)","v":0},{"$f":"IF(AZ247=4,G247,0)","v":0},{"$f":"IF(AZ247=5,G247,0)","v":0},null,null,null,null,null,null,null,null,null,null,null,null,null,null,null,null,null,null,null,null,null,3,1]
[null,null,"Stoka \"S\" PVC DN400:",null,0,null,null,null,null,null,null,null,"Stoka \"S\" PVC DN400:"]
[null,null,"Kónus H600:3*1,01",null,3.03,null,null,null,null,null,null,null,"Kónus H600:3*1,01"]
[47,"592243541.R","Deska zákrytová TZK-Q.1 100-63/17","kus",1.01,null,{"$f":"E250*F250","v":0},0.43,{"$f":"E250*H250","v":0.43430000000000002},null,{"$f":"E250*J250","v":0},null,null,null,2,null,null,null,null,null,null,null,null,null,null,null,3,1,"592243541.R",null,null,null,null,null,null,null,null,null,null,null,null,null,null,null,null,null,null,null,null,null,null,1,{"$f":"IF(AZ250=1,G250,0)","v":0},{"$f":"IF(AZ250=2,G250,0)","v":0},{"$f":"IF(AZ250=3,G250,0)","v":0},{"$f":"IF(AZ250=4,G250,0)","v":0},{"$f":"IF(AZ250=5,G250,0)","v":0},null,null,null,null,null,null,null,null,null,null,null,null,null,null,null,null,null,null,null,null,null,3,1]
[null,null,"Stoka \"S\" PVC DN400:",null,0,null,null,null,null,null,null,null,"Stoka \"S\" PVC DN400:"]
[null,null,"ZD H170:1*1,01",null,1.01,null,null,null,null,null,null,null,"ZD H170:1*1,01"]
[48,"59224358.A.R","Skruž šachetní TBS-Q.1 100/25/12 PS","kus",1.01,null,{"$f":"E253*F253","v":0},0.25,{"$f":"E253*H253","v":0.2525},null,{"$f":"E253*J253","v":0},null,null,null,2,null,null,null,null,null,null,null,null,null,null,null,3,1,"59224358.A.R",null,null,null,null,null,null,null,null,null,null,null,null,null,null,null,null,null,null,null,null,null,null,1,{"$f":"IF(AZ253=1,G253,0)","v":0},{"$f":"IF(AZ253=2,G253,0)","v":0},{"$f":"IF(AZ253=3,G253,0)","v":0},{"$f":"IF(AZ253=4,G253,0)","v":0},{"$f":"IF(AZ253=5,G253,0)","v":0},null,null,null,null,null,null,null,null,null,null,null,null,null,null,null,null,null,null,null,null,null,3,1]
[null,null,"Stoka \"S\" PVC DN400:",null,0,null,null,null,null,null,null,null,"Stoka \"S\" PVC DN400:"]
[null,null,"Skruž H250:1*1,01",null,1.01,null,null,null,null,null,null,null,"Skruž H250:1*1,01"]
[49,"59224361.A.R","Skruž šachetní TBS-Q.1 100/50/12 PS","kus",1.01,null,{"$f":"E256*F256","v":0},0.5,{"$f":"E256*H256","v":0.505},null,{"$f":"E256*J256","v":0},null,null,null,2,null,null,null,null,null,null,null,null,null,null,null,3,1,"59224361.A.R",null,null,null,null,null,null,null,null,null,null,null,null,null,null,null,null,null,null,null,null,null,null,1,{"$f":"IF(AZ256=1,G256,0)","v":0},{"$f":"IF(AZ256=2,G256,0)","v":0},{"$f":"IF(AZ256=3,G256,0)","v":0},{"$f":"IF(AZ256=4,G256,0)","v":0},{"$f":"IF(AZ256=5,G256,0)","v":0},null,null,null,null,null,null,null,null,null,null,null,null,null,null,null,null,null,null,null,null,null,3,1]
[null,null,"Stoka \"S\" PVC DN400:",null,0,null,null,null,null,null,null,null,"Stoka \"S\" PVC DN400:"]
[null,null,"Skruž H500:1*1,01",null,1.01,null,null,null,null,null,null,null,"Skruž H500:1*1,01"]
[50,"59224364.A.R","Skruž šachetní TBS-Q.1 100/100/12 PS","kus",6.06,null,{"$f":"E259*F259","v":0},1,{"$f":"E259*H259","v":6.06},null,{"$f":"E259*J259","v":0},null,null,null,2,null,null,null,null,null,null,null,null,null,null,null,3,1,"59224364.A.R",null,null,null,null,null,null,null,null,null,null,null,null,null,null,null,null,null,null,null,null,null,null,1,{"$f":"IF(AZ259=1,G259,0)","v":0},{"$f":"IF(AZ259=2,G259,0)","v":0},{"$f":"IF(AZ259=3,G259,0)","v":0},{"$f":"IF(AZ259=4,G259,0)","v":0},{"$f":"IF(AZ259=5,G259,0)","v":0},null,null,null,null,null,null,null,null,null,null,null,null,null,null,null,null,null,null,null,null,null,3,1]
[null,null,"Stoka \"S\" PVC DN400:",null,0,null,null,null,null,null,null,null,"Stoka \"S\" PVC DN400:"]
[null,null,"Dkruž H1000:6*1,01",null,6.06,null,null,null,null,null,null,null,"Dkruž H1000:6*1,01"]
[51,"59224366.A.R","Dno šachetní TBZ-Q.1 100/60 V nax 40 včetně kynety dle PD","kus",4.04,null,{"$f":"E262*F262","v":0},1.6,{"$f":"E262*H262","v":6.4640000000000004},null,{"$f":"E262*J262","v":0},null,null,null,2,null,null,null,null,null,null,null,null,null,null,null,3,1,"59224366.A.R",null,null,null,null,null,null,null,null,null,null,null,null,null,null,null,null,null,null,null,null,null,null,1,{"$f":"IF(AZ262=1,G262,0)","v":0},{"$f":"IF(AZ262=2,G262,0)","v":0},{"$f":"IF(AZ262=3,G262,0)","v":0},{"$f":"IF(AZ262=4,G262,0)","v":0},{"$f":"IF(AZ262=5,G262,0)","v":0},null,null,null,null,null,null,null,null,null,null,null,null,null,null,null,null,null,null,null,null,null,3,1]
[null,null,"Stoka \"S\" PVC DN400:",null,0,null,null,null,null,null,null,null,"Stoka \"S\" PVC DN400:"]
[null,null,"ŠD 100/40:4*1,01",null,4.04,null,null,null,null,null,null,null,"ŠD 100/40:4*1,01"]
[52,"59224373.R","Těsnění elastom pro šach díly EMT 100/1.7 - DN1000","kus",12.12,null,{"$f":"E265*F265","v":0},2E-3,{"$f":"E265*H265","v":2.4239999999999998E-2},null,{"$f":"E265*J265","v":0},null,null,null,2,null,null,null,null,null,null,null,null,null,null,null,3,1,"59224373.R",null,null,null,null,null,null,null,null,null,null,null,null,null,null,null,null,null,null,null,null,null,null,1,{"$f":"IF(AZ265=1,G265,0)","v":0},{"$f":"IF(AZ265=2,G265,0)","v":0},{"$f":"IF(AZ265=3,G265,0)","v":0},{"$f":"IF(AZ265=4,G265,0)","v":0},{"$f":"IF(AZ265=5,G265,0)","v":0},null,null,null,null,null,null,null,null,null,null,null,null,null,null,null,null,null,null,null,null,null,3,1]
[null,null,"Stoka \"S\" PVC DN400:",null,0,null,null,null,null,null,null,null,"Stoka \"S\" PVC DN400:"]
[null,null,"Těsnění:12*1,01",null,12.12,null,null,null,null,null,null,null,"Těsnění:12*1,01"]
[null,"Celkem za","8 Trubní vedení",null,null,null,{"$f":"SUM(G171:G267)","v":0},null,{"$f":"SUM(I171:I267)","v":17.552587269999997},null,{"$f":"SUM(K171:K267)","v":0},null,null,null,4,null,null,null,null,null,null,null,null,null,null,null,null,null,null,null,null,null,null,null,null,null,null,null,null,null,null,null,null,null,null,null,null,null,null,null,null,null,{"$f":"SUM(BA171:BA267)","v":0},{"$f":"SUM(BB171:BB267)","v":0},{"$f":"SUM(BC171:BC267)","v":0},{"$f":"SUM(BD171:BD267)","v":0},{"$f":"SUM(BE171:BE267)","v":0}]
["Díl:","93","Dokončovací práce inženýrských staveb",null,null,null,null,null,null,null,null,null,null,null,1]
[53,"939421111RT1","Osazení samonivelač.kanalizač.poklopu za finišerem bez dodávky poklopu. Instalace poklopu dle TP výrobce","kus",4,null,{"$f":"E270*F270","v":0},0.15425,{"$f":"E270*H270","v":0.61699999999999999},0,{"$f":"E270*J270","v":0},null,null,null,2,null,null,null,null,null,null,null,null,null,null,null,1,0,0,null,null,null,null,null,null,null,null,null,null,null,null,null,null,null,null,null,null,null,null,null,null,1,{"$f":"IF(AZ270=1,G270,0)","v":0},{"$f":"IF(AZ270=2,G270,0)","v":0},{"$f":"IF(AZ270=3,G270,0)","v":0},{"$f":"IF(AZ270=4,G270,0)","v":0},{"$f":"IF(AZ270=5,G270,0)","v":0},null,null,null,null,null,null,null,null,null,null,null,null,null,null,null,null,null,null,null,null,null,1,0]
[null,null,"Položka obsahuje:",null,null,null,null,null,null,null,null,"Položka obsahuje:",null,null,3]
[null,null,"- osazení prefabrikovaného betonového prstence do rychletuhnoucí malty (s dodávkou hmot)",null,null,null,null,null,null,null,null,"- osazení prefabrikovaného betonového prstence do rychletuhnoucí malty (s dodávkou hmot)",null,null,3]
[null,null,"- zalití prstence rychletuhnoucí zálivkou do výše prstence (s dodávkou hmoty)",null,null,null,null,null,null,null,null,"- zalití prstence rychletuhnoucí zálivkou do výše prstence (s dodávkou hmoty)",null,null,3]
[null,null,"- vložení kruhového bednění",null,null,null,null,null,null,null,null,"- vložení kruhového bednění",null,null,3]
[null,null,"- doplnění mezikruží asfaltovou směsí do výšky současné podkladní vrstvy, zhutnění",null,null,null,null,null,null,null,null,"- doplnění mezikruží asfaltovou směsí do výšky současné podkladní vrstvy, zhutnění",null,null,3]
[null,null,"- vyjmutí kruhového bednění",null,null,null,null,null,null,null,null,"- vyjmutí kruhového bednění",null,null,3]
[null,null,"- osazení poklopu a zatlačení",null,null,null,null,null,null,null,null,"- osazení poklopu a zatlačení",null,null,3]
[null,null,"  (následuje pokládka finální vrstvy vozovky - není součástí položky)",null,null,null,null,null,null,null,null,"  (následuje pokládka finální vrstvy vozovky - není součástí položky)",null,null,3]
[null,null,"- povytažení poklopu",null,null,null,null,null,null,null,null,"- povytažení poklopu",null,null,3]
[null,null,"- podsyp asfaltovou směsí, spuštění poklopu a zhutnění směsi",null,null,null,null,null,null,null,null,"- podsyp asfaltovou směsí, spuštění poklopu a zhutnění směsi",null,null,3]
[null,null,"Stoka \"S\" PVC DN400:",null,0,null,null,null,null,null,null,null,"Stoka \"S\" PVC DN400:"]
[null,null,"Poklopy na nové RŠ dle PD:4",null,4,null,null,null,null,null,null,null,"Poklopy na nové RŠ dle PD:4"]
[54,"55244413.R","Poklop celolitinový v samonivelační rámu KDM 65. ","kus",4,null,{"$f":"E283*F283","v":0},0.113,{"$f":"E283*H283","v":0.45200000000000001},null,{"$f":"E283*J283","v":0},null,null,null,2,null,null,null,null,null,null,null,null,null,null,null,3,1,"55244413.R",null,null,null,null,null,null,null,null,null,null,null,null,null,null,null,null,null,null,null,null,null,null,1,{"$f":"IF(AZ283=1,G283,0)","v":0},{"$f":"IF(AZ283=2,G283,0)","v":0},{"$f":"IF(AZ283=3,G283,0)","v":0},{"$f":"IF(AZ283=4,G283,0)","v":0},{"$f":"IF(AZ283=5,G283,0)","v":0},null,null,null,null,null,null,null,null,null,null,null,null,null,null,null,null,null,null,null,null,null,3,1]
[null,null,"Kanalizační kruhový celolitinový samonivelační poklop se znakem \"Město Semily\"",null,null,null,null,null,null,null,null,"Kanalizační kruhový celolitinový samonivelační poklop se znakem \"Město Semily\"",null,null,3]
[null,null,"Stoka \"S\" PVC DN400:",null,0,null,null,null,null,null,null,null,"Stoka \"S\" PVC DN400:"]
[null,null,"Poklopy na nové RŠ dle PD:4",null,4,null,null,null,null,null,null,null,"Poklopy na nové RŠ dle PD:4"]
[null,"Celkem za","93 Dokončovací práce inženýrských staveb",null,null,null,{"$f":"SUM(G269:G286)","v":0},null,{"$f":"SUM(I269:I286)","v":1.069},null,{"$f":"SUM(K269:K286)","v":0},null,null,null,4,null,null,null,null,null,null,null,null,null,null,null,null,null,null,null,null,null,null,null,null,null,null,null,null,null,null,null,null,null,null,null,null,null,null,null,null,null,{"$f":"SUM(BA269:BA286)","v":0},{"$f":"SUM(BB269:BB286)","v":0},{"$f":"SUM(BC269:BC286)","v":0},{"$f":"SUM(BD269:BD286)","v":0},{"$f":"SUM(BE269:BE286)","v":0}]
["Díl:","99","Staveništní přesun hmot",null,null,null,null,null,null,null,null,null,null,null,1]
[55,"998276101RXX","Přesun hmot, trubní vedení plastová, otevř. výkop pro celý rozsah objektu","t",935.42574024999999,null,{"$f":"E289*F289","v":0},0,{"$f":"E289*H289","v":0},null,{"$f":"E289*J289","v":0},null,null,null,2,null,null,null,null,null,null,null,null,null,null,null,7,1,2,null,null,null,null,null,null,null,null,null,null,null,null,null,null,null,null,null,null,null,null,null,null,1,{"$f":"IF(AZ289=1,G289,0)","v":0},{"$f":"IF(AZ289=2,G289,0)","v":0},{"$f":"IF(AZ289=3,G289,0)","v":0},{"$f":"IF(AZ289=4,G289,0)","v":0},{"$f":"IF(AZ289=5,G289,0)","v":0},null,null,null,null,null,null,null,null,null,null,null,null,null,null,null,null,null,null,null,null,null,7,1]
[null,null,"Staveništní doprava pro celý rozsah objektu - doprava zmeziskládek vybudovaného zařízení staveniště zhotovitele na jednotlivé části staveniště.",null,null,null,null,null,null,null,null,"Staveništní doprava pro celý rozsah objektu - doprava zmeziskládek vybudovaného zařízení staveniště zhotovitele na jednotlivé části staveniště.",null,null,3]
[null,"Celkem za","99 Staveništní přesun hmot",null,null,null,{"$f":"SUM(G288:G290)","v":0},null,{"$f":"SUM(I288:I290)","v":0},null,{"$f":"SUM(K288:K290)","v":0},null,null,null,4,null,null,null,null,null,null,null,null,null,null,null,null,null,null,null,null,null,null,null,null,null,null,null,null,null,null,null,null,null,null,null,null,null,null,null,null,null,{"$f":"SUM(BA288:BA290)","v":0},{"$f":"SUM(BB288:BB290)","v":0},{"$f":"SUM(BC288:BC290)","v":0},{"$f":"SUM(BD288:BD290)","v":0},{"$f":"SUM(BE288:BE290)","v":0}]

{"sheet":"302 3542302.2 KL","index":26,"n_rows":45,"n_cols":8,"rows_kept":45,"cut":false,"hidden":false,"merged":[[50,1,50,6],[29,5,29,6],[30,5,30,6],[31,5,31,6],[32,5,32,6],[33,5,33,6],[36,1,44,6],[45,1,45,6],[46,1,46,6],[47,1,47,6],[48,1,48,6],[49,1,49,6],[22,0,22,1],[7,2,7,4],[8,2,8,4],[9,2,9,4],[10,2,10,4],[11,2,11,4]]}
["POLOŽKOVÝ ROZPOČET"]
["Rozpočet",null,"3542/302.2","Odstavení stávající kanalizační stoky",null,"JKSO "]
[]
["Objekt",null,null,null,null,"SKP "]
["302",null,"Oprava gravitační stoky S ul. Smetanova",null,null,"Měrná jednotka"]
["Stavba",null,null,null,null,"Počet jednotek",0]
["3542",null,"Semily - Obnova VH infrastruktury a komunikací",null,null,"Náklady na m.j.",{"$f":"IF(G6=0,,ROUND((F30+F32)/G6,1))","v":0}]
["Projektant",null,null,null,null,"Typ rozpočtu"]
["Zpracovatel projektu"]
["Objednatel",null,"Vodohospodářské sdružení Turnov"]
["Dodavatel",null,".",null,null,"Zakázkové číslo "]
["Rozpočtoval",null,null,null,null,"Počet listů"]
["ROZPOČTOVÉ NÁKLADY"]
["Základní rozpočtové náklady"]
[null,"HSV celkem",{"$f":"'302 3542302.2 Rek'!E12","v":0}]
["Z","PSV celkem",{"$f":"'302 3542302.2 Rek'!F12","v":0}]
["R","M práce celkem",{"$f":"'302 3542302.2 Rek'!H12","v":0}]
["N","M dodávky celkem",{"$f":"'302 3542302.2 Rek'!G12","v":0}]
["ZRN celkem",null,{"$f":"SUM(C15:C18)","v":0}]
[]
["HZS",null,{"$f":"'302 3542302.2 Rek'!I12","v":0}]
["ZRN+HZS",null,{"$f":"C19+C21","v":0}]
["ZRN+ost.náklady+HZS",null,{"$f":"C22+G23","v":0}]
["Vypracoval",null,null,"Za zhotovitele",null,"Za objednatele"]
["Jméno :",null,null,"Jméno :",null,"Jméno :"]
["Datum :",null,null,"Datum :",null,"Datum :"]
[]
["Podpis :",null,null,"Podpis:",null,"Podpis:"]
[]
["Základ pro DPH",null,21,"%  ",null,{"$f":"C23-F32","v":0}]
["DPH",null,{"$f":"C30","v":21},"% ",null,{"$f":"ROUND(PRODUCT(F30,C31/100),0)","v":0}]
["Základ pro DPH",null,0,"% ",null,0]
["DPH",null,{"$f":"C32","v":0},"% ",null,{"$f":"ROUND(PRODUCT(F32,C33/100),0)","v":0}]
["CENA ZA OBJEKT CELKEM",null,null,null,null,{"$f":"ROUND(SUM(F30:F33),0)","v":0}]
[]
["Poznámka :",null,null,null,null,null,null," "]
[null,null,null,null,null,null,null," "]
[null,null,null,null,null,null,null," "]
[null,null,null,null,null,null,null," "]
[null,null,null,null,null,null,null," "]
[null,null,null,null,null,null,null," "]
[null,null,null,null,null,null,null," "]
[null,null,null,null,null,null,null," "]
[null,null,null,null,null,null,null," "]
[null,null,null,null,null,null,null," "]

{"sheet":"302 3542302.2 Rek","index":27,"n_rows":12,"n_cols":9,"rows_kept":12,"cut":false,"hidden":false,"merged":[[0,0,0,1],[1,0,1,1],[1,6,1,8]]}
["Stavba :",null,"3542 Semily - Obnova VH infrastruktury a komunikací",null,null,null,"Rozpočet :","3542/302.2"]
["Objekt :",null,"302 Oprava gravitační stoky S ul. Smetanova",null,null,null,"Odstavení stávající kanalizační stoky"]
[]
["REKAPITULACE  STAVEBNÍCH  DÍLŮ"]
[]
[null,"Stavební díl",null,null,"HSV","PSV","Dodávka","Montáž","HZS"]
[{"$f":"'302 3542302.2 Pol'!B7","v":"1"},{"$f":"'302 3542302.2 Pol'!C7","v":"Zemní práce"},null,null,{"$f":"'302 3542302.2 Pol'!BA23","v":0},{"$f":"'302 3542302.2 Pol'!BB23","v":0},{"$f":"'302 3542302.2 Pol'!BC23","v":0},{"$f":"'302 3542302.2 Pol'!BD23","v":0},{"$f":"'302 3542302.2 Pol'!BE23","v":0}]
[{"$f":"'302 3542302.2 Pol'!B24","v":"8"},{"$f":"'302 3542302.2 Pol'!C24","v":"Trubní vedení"},null,null,{"$f":"'302 3542302.2 Pol'!BA32","v":0},{"$f":"'302 3542302.2 Pol'!BB32","v":0},{"$f":"'302 3542302.2 Pol'!BC32","v":0},{"$f":"'302 3542302.2 Pol'!BD32","v":0},{"$f":"'302 3542302.2 Pol'!BE32","v":0}]
[{"$f":"'302 3542302.2 Pol'!B33","v":"93"},{"$f":"'302 3542302.2 Pol'!C33","v":"Dokončovací práce inženýrských staveb"},null,null,{"$f":"'302 3542302.2 Pol'!BA40","v":0},{"$f":"'302 3542302.2 Pol'!BB40","v":0},{"$f":"'302 3542302.2 Pol'!BC40","v":0},{"$f":"'302 3542302.2 Pol'!BD40","v":0},{"$f":"'302 3542302.2 Pol'!BE40","v":0}]
[{"$f":"'302 3542302.2 Pol'!B41","v":"97"},{"$f":"'302 3542302.2 Pol'!C41","v":"Prorážení otvorů"},null,null,{"$f":"'302 3542302.2 Pol'!BA44","v":0},{"$f":"'302 3542302.2 Pol'!BB44","v":0},{"$f":"'302 3542302.2 Pol'!BC44","v":0},{"$f":"'302 3542302.2 Pol'!BD44","v":0},{"$f":"'302 3542302.2 Pol'!BE44","v":0}]
[{"$f":"'302 3542302.2 Pol'!B45","v":"99"},{"$f":"'302 3542302.2 Pol'!C45","v":"Staveništní přesun hmot"},null,null,{"$f":"'302 3542302.2 Pol'!BA48","v":0},{"$f":"'302 3542302.2 Pol'!BB48","v":0},{"$f":"'302 3542302.2 Pol'!BC48","v":0},{"$f":"'302 3542302.2 Pol'!BD48","v":0},{"$f":"'302 3542302.2 Pol'!BE48","v":0}]
[null,"CELKEM  OBJEKT",null,null,{"$f":"SUM(E7:E11)","v":0},{"$f":"SUM(F7:F11)","v":0},{"$f":"SUM(G7:G11)","v":0},{"$f":"SUM(H7:H11)","v":0},{"$f":"SUM(I7:I11)","v":0}]

{"sheet":"302 3542302.2 Pol","index":28,"n_rows":48,"n_cols":80,"rows_kept":48,"cut":false,"hidden":false,"merged":[[42,2,42,3],[46,2,46,6],[34,2,34,3],[36,2,36,3],[38,2,38,3],[30,2,30,3],[14,2,14,3],[15,2,15,3],[17,2,17,6],[18,2,18,3],[20,2,20,6],[25,2,25,6],[26,2,26,6],[27,2,27,6],[28,2,28,6],[29,2,29,3],[9,2,9,3],[11,2,11,3],[12,2,12,3],[0,0,0,6],[2,0,2,1],[3,0,3,1],[3,4,3,6],[8,2,8,6]]}
["Položkový rozpočet "]
[]
["Stavba :",null,"3542 Semily - Obnova VH infrastruktury a komunikací",null,"Rozpočet:",{"$f":"'302 3542302.2 Rek'!H1","v":"3542/302.2"}]
["Objekt :",null,"302 Oprava gravitační stoky S ul. Smetanova",null,{"$f":"'302 3542302.2 Rek'!G2","v":"Odstavení stávající kanalizační stoky"}]
[]
["P.č.","Číslo položky","Název položky","MJ","množství","cena / MJ","celkem (Kč)","Jednotková hmotnost","Celková hmotnost","Jednotková dem.hmot.","Celková dem.hmot."]
["Díl:","1","Zemní práce",null,null,null,null,null,null,null,null,null,null,null,1]
[1,"130901123RT3","Bourání konstrukcí ze železobetonu ve vykopávkách bagrem s kladivem","m3",1.1218999999999999,null,{"$f":"E8*F8","v":0},0,{"$f":"E8*H8","v":0},-2.5,{"$f":"E8*J8","v":-2.8047499999999999},null,null,null,2,null,null,null,null,null,null,null,null,null,null,null,1,1,1,null,null,null,null,null,null,null,null,null,null,null,null,null,null,null,null,null,null,null,null,null,null,1,{"$f":"IF(AZ8=1,G8,0)","v":0},{"$f":"IF(AZ8=2,G8,0)","v":0},{"$f":"IF(AZ8=3,G8,0)","v":0},{"$f":"IF(AZ8=4,G8,0)","v":0},{"$f":"IF(AZ8=5,G8,0)","v":0},null,null,null,null,null,null,null,null,null,null,null,null,null,null,null,null,null,null,null,null,null,1,1]
[null,null,"Položka obsahuje odstranění materiálu obklopujícího betonové konstrukce v míře nutné pro vyzvednutí (potřebné zemní práce), rozpojení konstrukcí, uchopení a vyzvednutí konstrukce z výkopu a uložení na dopravní prostředek.",null,null,null,null,null,null,null,null,"Položka obsahuje odstranění materiálu obklopujícího betonové konstrukce v míře nutné pro vyzvednutí (potřebné zemní práce), rozpojení konstrukcí, uchopení a vyzvednutí konstrukce z výkopu a uložení na dopravní prostředek.",null,null,3]
[null,null,"Stávající RŠ odbourání kónusu:1,24*Pi*0,60*0,12*4",null,1.1218999999999999,null,null,null,null,null,null,null,"Stávající RŠ odbourání kónusu:1,24*Pi*0,60*0,12*4"]
[2,"162301101R00","Vodorovné přemístění výkopku z hor.1-4 do 500 m ","m3",6.75,null,{"$f":"E11*F11","v":0},0,{"$f":"E11*H11","v":0},0,{"$f":"E11*J11","v":0},null,null,null,2,null,null,null,null,null,null,null,null,null,null,null,1,1,1,null,null,null,null,null,null,null,null,null,null,null,null,null,null,null,null,null,null,null,null,null,null,1,{"$f":"IF(AZ11=1,G11,0)","v":0},{"$f":"IF(AZ11=2,G11,0)","v":0},{"$f":"IF(AZ11=3,G11,0)","v":0},{"$f":"IF(AZ11=4,G11,0)","v":0},{"$f":"IF(AZ11=5,G11,0)","v":0},null,null,null,null,null,null,null,null,null,null,null,null,null,null,null,null,null,null,null,null,null,1,1]
[null,null,"Zemina pro zásypy:",null,0,null,null,null,null,null,null,null,"Zemina pro zásypy:"]
[null,null,"Prostor stávající RŠ po odbourání kónusu a poklopu:1,50*1,50*0,75*4",null,6.75,null,null,null,null,null,null,null,"Prostor stávající RŠ po odbourání kónusu a poklopu:1,50*1,50*0,75*4"]
[3,"167101101R00","Nakládání výkopku z hor.1-4 v množství do 100 m3 ","m3",6.75,null,{"$f":"E14*F14","v":0},0,{"$f":"E14*H14","v":0},0,{"$f":"E14*J14","v":0},null,null,null,2,null,null,null,null,null,null,null,null,null,null,null,1,1,1,null,null,null,null,null,null,null,null,null,null,null,null,null,null,null,null,null,null,null,null,null,null,1,{"$f":"IF(AZ14=1,G14,0)","v":0},{"$f":"IF(AZ14=2,G14,0)","v":0},{"$f":"IF(AZ14=3,G14,0)","v":0},{"$f":"IF(AZ14=4,G14,0)","v":0},{"$f":"IF(AZ14=5,G14,0)","v":0},null,null,null,null,null,null,null,null,null,null,null,null,null,null,null,null,null,null,null,null,null,1,1]
[null,null,"Zemina pro zásypy:",null,0,null,null,null,null,null,null,null,"Zemina pro zásypy:"]
[null,null,"Prostor stávající RŠ po odbourání kónusu a poklopu:1,50*1,50*0,75*4",null,6.75,null,null,null,null,null,null,null,"Prostor stávající RŠ po odbourání kónusu a poklopu:1,50*1,50*0,75*4"]
[4,"174101101R00","Zásyp jam, rýh, šachet se zhutněním ","m3",6.75,null,{"$f":"E17*F17","v":0},0,{"$f":"E17*H17","v":0},0,{"$f":"E17*J17","v":0},null,null,null,2,null,null,null,null,null,null,null,null,null,null,null,1,1,1,null,null,null,null,null,null,null,null,null,null,null,null,null,null,null,null,null,null,null,null,null,null,1,{"$f":"IF(AZ17=1,G17,0)","v":0},{"$f":"IF(AZ17=2,G17,0)","v":0},{"$f":"IF(AZ17=3,G17,0)","v":0},{"$f":"IF(AZ17=4,G17,0)","v":0},{"$f":"IF(AZ17=5,G17,0)","v":0},null,null,null,null,null,null,null,null,null,null,null,null,null,null,null,null,null,null,null,null,null,1,1]
[null,null,"včetně strojního přemístění materiálu pro zásyp ze vzdálenosti do 10 m od okraje zásypu",null,null,null,null,null,null,null,null,"včetně strojního přemístění materiálu pro zásyp ze vzdálenosti do 10 m od okraje zásypu",null,null,3]
[null,null,"Prostor stávající RŠ po odbourání kónusu a poklopu:1,50*1,50*0,75*4",null,6.75,null,null,null,null,null,null,null,"Prostor stávající RŠ po odbourání kónusu a poklopu:1,50*1,50*0,75*4"]
[5,"979082212RRX","Vodorovná doprava suti po suchu na skládku zhotovitele","t",2.8048000000000002,null,{"$f":"E20*F20","v":0},0,{"$f":"E20*H20","v":0},0,{"$f":"E20*J20","v":0},null,null,null,2,null,null,null,null,null,null,null,null,null,null,null,1,1,1,null,null,null,null,null,null,null,null,null,null,null,null,null,null,null,null,null,null,null,null,null,null,1,{"$f":"IF(AZ20=1,G20,0)","v":0},{"$f":"IF(AZ20=2,G20,0)","v":0},{"$f":"IF(AZ20=3,G20,0)","v":0},{"$f":"IF(AZ20=4,G20,0)","v":0},{"$f":"IF(AZ20=5,G20,0)","v":0},null,null,null,null,null,null,null,null,null,null,null,null,null,null,null,null,null,null,null,null,null,1,1]
[null,null,"Doprava suti na skládku zhotovitele nebo na předávací místo k recyklaci materiálu.",null,null,null,null,null,null,null,null,"Doprava suti na skládku zhotovitele nebo na předávací místo k recyklaci materiálu.",null,null,3]
[6,"979990103RRX","Poplatek za skládku stavební suti nebo recyklaci beton, skupina odpadu 170101","t",2.8048000000000002,null,{"$f":"E22*F22","v":0},0,{"$f":"E22*H22","v":0},0,{"$f":"E22*J22","v":0},null,null,null,2,null,null,null,null,null,null,null,null,null,null,null,1,0,0,null,null,null,null,null,null,null,null,null,null,null,null,null,null,null,null,null,null,null,null,null,null,1,{"$f":"IF(AZ22=1,G22,0)","v":0},{"$f":"IF(AZ22=2,G22,0)","v":0},{"$f":"IF(AZ22=3,G22,0)","v":0},{"$f":"IF(AZ22=4,G22,0)","v":0},{"$f":"IF(AZ22=5,G22,0)","v":0},null,null,null,null,null,null,null,null,null,null,null,null,null,null,null,null,null,null,null,null,null,1,0]
[null,"Celkem za","1 Zemní práce",null,null,null,{"$f":"SUM(G7:G22)","v":0},null,{"$f":"SUM(I7:I22)","v":0},null,{"$f":"SUM(K7:K22)","v":-2.8047499999999999},null,null,null,4,null,null,null,null,null,null,null,null,null,null,null,null,null,null,null,null,null,null,null,null,null,null,null,null,null,null,null,null,null,null,null,null,null,null,null,null,null,{"$f":"SUM(BA7:BA22)","v":0},{"$f":"SUM(BB7:BB22)","v":0},{"$f":"SUM(BC7:BC22)","v":0},{"$f":"SUM(BD7:BD22)","v":0},{"$f":"SUM(BE7:BE22)","v":0}]
["Díl:","8","Trubní vedení",null,null,null,null,null,null,null,null,null,null,null,1]
[7,"892601123R00","Čištění kanalizační stoky do DN 200, do 100 m ","m",100,null,{"$f":"E25*F25","v":0},0,{"$f":"E25*H25","v":0},0,{"$f":"E25*J25","v":0},null,null,null,2,null,null,null,null,null,null,null,null,null,null,null,1,1,1,null,null,null,null,null,null,null,null,null,null,null,null,null,null,null,null,null,null,null,null,null,null,1,{"$f":"IF(AZ25=1,G25,0)","v":0},{"$f":"IF(AZ25=2,G25,0)","v":0},{"$f":"IF(AZ25=3,G25,0)","v":0},{"$f":"IF(AZ25=4,G25,0)","v":0},{"$f":"IF(AZ25=5,G25,0)","v":0},null,null,null,null,null,null,null,null,null,null,null,null,null,null,null,null,null,null,null,null,null,1,1]
[null,null,"V položce je zakalkulováno:",null,null,null,null,null,null,null,null,"V položce je zakalkulováno:",null,null,3]
[null,null,"a) otevření a uzavření revizních šachet a čisticích kusů",null,null,null,null,null,null,null,null,"a) otevření a uzavření revizních šachet a čisticích kusů",null,null,3]
[null,null,"b) natažení vysokotlakých hadic k místu odkud se bude kanalizace čistit",null,null,null,null,null,null,null,null,"b) natažení vysokotlakých hadic k místu odkud se bude kanalizace čistit",null,null,3]
[null,null,"c) vyčištění potrubí tlakovou vodou nebo motorovým pérem.",null,null,null,null,null,null,null,null,"c) vyčištění potrubí tlakovou vodou nebo motorovým pérem.",null,null,3]
[null,null,"Stávající potrubí KT DN150:85,00",null,85,null,null,null,null,null,null,null,"Stávající potrubí KT DN150:85,00"]
[null,null,"Stávající potrubí KT DN200:15,00",null,15,null,null,null,null,null,null,null,"Stávající potrubí KT DN200:15,00"]
[null,"Celkem za","8 Trubní vedení",null,null,null,{"$f":"SUM(G24:G31)","v":0},null,{"$f":"SUM(I24:I31)","v":0},null,{"$f":"SUM(K24:K31)","v":0},null,null,null,4,null,null,null,null,null,null,null,null,null,null,null,null,null,null,null,null,null,null,null,null,null,null,null,null,null,null,null,null,null,null,null,null,null,null,null,null,null,{"$f":"SUM(BA24:BA31)","v":0},{"$f":"SUM(BB24:BB31)","v":0},{"$f":"SUM(BC24:BC31)","v":0},{"$f":"SUM(BD24:BD31)","v":0},{"$f":"SUM(BE24:BE31)","v":0}]
["Díl:","93","Dokončovací práce inženýrských staveb",null,null,null,null,null,null,null,null,null,null,null,1]
[8,"936451111R00","Výplň dutin cementopopílkovou suspenzí ","m3",3.2201,null,{"$f":"E34*F34","v":0},1.8050999999999999,{"$f":"E34*H34","v":5.8126025099999996},0,{"$f":"E34*J34","v":0},null,null,null,2,null,null,null,null,null,null,null,null,null,null,null,1,1,1,null,null,null,null,null,null,null,null,null,null,null,null,null,null,null,null,null,null,null,null,null,null,1,{"$f":"IF(AZ34=1,G34,0)","v":0},{"$f":"IF(AZ34=2,G34,0)","v":0},{"$f":"IF(AZ34=3,G34,0)","v":0},{"$f":"IF(AZ34=4,G34,0)","v":0},{"$f":"IF(AZ34=5,G34,0)","v":0},null,null,null,null,null,null,null,null,null,null,null,null,null,null,null,null,null,null,null,null,null,1,1]
[null,null,"Stávající RŠ po odbourání poklopu a kónusu:0,50^2*Pi*(1,25+1,60+1,90+2,35-0,75*4)",null,3.2201,null,null,null,null,null,null,null,"Stávající RŠ po odbourání poklopu a kónusu:0,50^2*Pi*(1,25+1,60+1,90+2,35-0,75*4)"]
[9,"936452112R00","Výplň potrubí cementopopílkovou suspenzí DN 150 ","m",85,null,{"$f":"E36*F36","v":0},3.184E-2,{"$f":"E36*H36","v":2.7063999999999999},0,{"$f":"E36*J36","v":0},null,null,null,2,null,null,null,null,null,null,null,null,null,null,null,1,1,1,null,null,null,null,null,null,null,null,null,null,null,null,null,null,null,null,null,null,null,null,null,null,1,{"$f":"IF(AZ36=1,G36,0)","v":0},{"$f":"IF(AZ36=2,G36,0)","v":0},{"$f":"IF(AZ36=3,G36,0)","v":0},{"$f":"IF(AZ36=4,G36,0)","v":0},{"$f":"IF(AZ36=5,G36,0)","v":0},null,null,null,null,null,null,null,null,null,null,null,null,null,null,null,null,null,null,null,null,null,1,1]
[null,null,"Stávající potrubí KT DN150:85,00",null,85,null,null,null,null,null,null,null,"Stávající potrubí KT DN150:85,00"]
[10,"936452113R00","Výplň potrubí cementopopílkovou suspenzí DN 200 ","m",15,null,{"$f":"E38*F38","v":0},5.6610000000000001E-2,{"$f":"E38*H38","v":0.84914999999999996},0,{"$f":"E38*J38","v":0},null,null,null,2,null,null,null,null,null,null,null,null,null,null,null,1,1,1,null,null,null,null,null,null,null,null,null,null,null,null,null,null,null,null,null,null,null,null,null,null,1,{"$f":"IF(AZ38=1,G38,0)","v":0},{"$f":"IF(AZ38=2,G38,0)","v":0},{"$f":"IF(AZ38=3,G38,0)","v":0},{"$f":"IF(AZ38=4,G38,0)","v":0},{"$f":"IF(AZ38=5,G38,0)","v":0},null,null,null,null,null,null,null,null,null,null,null,null,null,null,null,null,null,null,null,null,null,1,1]
[null,null,"Stávající potrubí KT DN200:15,00",null,15,null,null,null,null,null,null,null,"Stávající potrubí KT DN200:15,00"]
[null,"Celkem za","93 Dokončovací práce inženýrských staveb",null,null,null,{"$f":"SUM(G33:G39)","v":0},null,{"$f":"SUM(I33:I39)","v":9.3681525099999998},null,{"$f":"SUM(K33:K39)","v":0},null,null,null,4,null,null,null,null,null,null,null,null,null,null,null,null,null,null,null,null,null,null,null,null,null,null,null,null,null,null,null,null,null,null,null,null,null,null,null,null,null,{"$f":"SUM(BA33:BA39)","v":0},{"$f":"SUM(BB33:BB39)","v":0},{"$f":"SUM(BC33:BC39)","v":0},{"$f":"SUM(BD33:BD39)","v":0},{"$f":"SUM(BE33:BE39)","v":0}]
["Díl:","97","Prorážení otvorů",null,null,null,null,null,null,null,null,null,null,null,1]
[11,"976085311R00","Vybourání kanal.rámů a poklopů plochy do 0,6 m2 ","kus",4,null,{"$f":"E42*F42","v":0},0,{"$f":"E42*H42","v":0},-4.4999999999999998E-2,{"$f":"E42*J42","v":-0.18},null,null,null,2,null,null,null,null,null,null,null,null,null,null,null,1,1,1,null,null,null,null,null,null,null,null,null,null,null,null,null,null,null,null,null,null,null,null,null,null,1,{"$f":"IF(AZ42=1,G42,0)","v":0},{"$f":"IF(AZ42=2,G42,0)","v":0},{"$f":"IF(AZ42=3,G42,0)","v":0},{"$f":"IF(AZ42=4,G42,0)","v":0},{"$f":"IF(AZ42=5,G42,0)","v":0},null,null,null,null,null,null,null,null,null,null,null,null,null,null,null,null,null,null,null,null,null,1,1]
[null,null,"Stávající RŠ:4",null,4,null,null,null,null,null,null,null,"Stávající RŠ:4"]
[null,"Celkem za","97 Prorážení otvorů",null,null,null,{"$f":"SUM(G41:G43)","v":0},null,{"$f":"SUM(I41:I43)","v":0},null,{"$f":"SUM(K41:K43)","v":-0.18},null,null,null,4,null,null,null,null,null,null,null,null,null,null,null,null,null,null,null,null,null,null,null,null,null,null,null,null,null,null,null,null,null,null,null,null,null,null,null,null,null,{"$f":"SUM(BA41:BA43)","v":0},{"$f":"SUM(BB41:BB43)","v":0},{"$f":"SUM(BC41:BC43)","v":0},{"$f":"SUM(BD41:BD43)","v":0},{"$f":"SUM(BE41:BE43)","v":0}]
["Díl:","99","Staveništní přesun hmot",null,null,null,null,null,null,null,null,null,null,null,1]
[12,"998274101RRX","Přesun hmot, trubní vedení betonové, otevř. výkop pro celý rozsah objektu","t",9.3681525099999998,null,{"$f":"E46*F46","v":0},0,{"$f":"E46*H46","v":0},null,{"$f":"E46*J46","v":0},null,null,null,2,null,null,null,null,null,null,null,null,null,null,null,7,1,2,null,null,null,null,null,null,null,null,null,null,null,null,null,null,null,null,null,null,null,null,null,null,1,{"$f":"IF(AZ46=1,G46,0)","v":0},{"$f":"IF(AZ46=2,G46,0)","v":0},{"$f":"IF(AZ46=3,G46,0)","v":0},{"$f":"IF(AZ46=4,G46,0)","v":0},{"$f":"IF(AZ46=5,G46,0)","v":0},null,null,null,null,null,null,null,null,null,null,null,null,null,null,null,null,null,null,null,null,null,7,1]
[null,null,"Staveništní doprava pro celý rozsah objektu - doprava zmeziskládek vybudovaného zařízení staveniště zhotovitele na jednotlivé části staveniště.",null,null,null,null,null,null,null,null,"Staveništní doprava pro celý rozsah objektu - doprava zmeziskládek vybudovaného zařízení staveniště zhotovitele na jednotlivé části staveniště.",null,null,3]
[null,"Celkem za","99 Staveništní přesun hmot",null,null,null,{"$f":"SUM(G45:G47)","v":0},null,{"$f":"SUM(I45:I47)","v":0},null,{"$f":"SUM(K45:K47)","v":0},null,null,null,4,null,null,null,null,null,null,null,null,null,null,null,null,null,null,null,null,null,null,null,null,null,null,null,null,null,null,null,null,null,null,null,null,null,null,null,null,null,{"$f":"SUM(BA45:BA47)","v":0},{"$f":"SUM(BB45:BB47)","v":0},{"$f":"SUM(BC45:BC47)","v":0},{"$f":"SUM(BD45:BD47)","v":0},{"$f":"SUM(BE45:BE47)","v":0}]

{"sheet":"302 3542302.3 KL","index":29,"n_rows":45,"n_cols":8,"rows_kept":45,"cut":false,"hidden":false,"merged":[[50,1,50,6],[29,5,29,6],[30,5,30,6],[31,5,31,6],[32,5,32,6],[33,5,33,6],[36,1,44,6],[45,1,45,6],[46,1,46,6],[47,1,47,6],[48,1,48,6],[49,1,49,6],[22,0,22,1],[7,2,7,4],[8,2,8,4],[9,2,9,4],[10,2,10,4],[11,2,11,4]]}
["POLOŽKOVÝ ROZPOČET"]
["Rozpočet",null,"3542/302.3","Kanalizační napojovací body",null,"JKSO "]
[]
["Objekt",null,null,null,null,"SKP "]
["302",null,"Oprava gravitační stoky S ul. Smetanova",null,null,"Měrná jednotka"]
["Stavba",null,null,null,null,"Počet jednotek",0]
["3542",null,"Semily - Obnova VH infrastruktury a komunikací",null,null,"Náklady na m.j.",{"$f":"IF(G6=0,,ROUND((F30+F32)/G6,1))","v":0}]
["Projektant",null,null,null,null,"Typ rozpočtu"]
["Zpracovatel projektu"]
["Objednatel",null,"Vodohospodářské sdružení Turnov"]
["Dodavatel",null,".",null,null,"Zakázkové číslo "]
["Rozpočtoval",null,null,null,null,"Počet listů"]
["ROZPOČTOVÉ NÁKLADY"]
["Základní rozpočtové náklady"]
[null,"HSV celkem",{"$f":"'302 3542302.3 Rek'!E13","v":0}]
["Z","PSV celkem",{"$f":"'302 3542302.3 Rek'!F13","v":0}]
["R","M práce celkem",{"$f":"'302 3542302.3 Rek'!H13","v":0}]
["N","M dodávky celkem",{"$f":"'302 3542302.3 Rek'!G13","v":0}]
["ZRN celkem",null,{"$f":"SUM(C15:C18)","v":0}]
[]
["HZS",null,{"$f":"'302 3542302.3 Rek'!I13","v":0}]
["ZRN+HZS",null,{"$f":"C19+C21","v":0}]
["ZRN+ost.náklady+HZS",null,{"$f":"C22+G23","v":0}]
["Vypracoval",null,null,"Za zhotovitele",null,"Za objednatele"]
["Jméno :",null,null,"Jméno :",null,"Jméno :"]
["Datum :",null,null,"Datum :",null,"Datum :"]
[]
["Podpis :",null,null,"Podpis:",null,"Podpis:"]
[]
["Základ pro DPH",null,21,"%  ",null,{"$f":"C23-F32","v":0}]
["DPH",null,{"$f":"C30","v":21},"% ",null,{"$f":"ROUND(PRODUCT(F30,C31/100),0)","v":0}]
["Základ pro DPH",null,0,"% ",null,0]
["DPH",null,{"$f":"C32","v":0},"% ",null,{"$f":"ROUND(PRODUCT(F32,C33/100),0)","v":0}]
["CENA ZA OBJEKT CELKEM",null,null,null,null,{"$f":"ROUND(SUM(F30:F33),0)","v":0}]
[]
["Poznámka :",null,null,null,null,null,null," "]
[null,null,null,null,null,null,null," "]
[null,null,null,null,null,null,null," "]
[null,null,null,null,null,null,null," "]
[null,null,null,null,null,null,null," "]
[null,null,null,null,null,null,null," "]
[null,null,null,null,null,null,null," "]
[null,null,null,null,null,null,null," "]
[null,null,null,null,null,null,null," "]
[null,null,null,null,null,null,null," "]

{"sheet":"302 3542302.3 Rek","index":30,"n_rows":13,"n_cols":9,"rows_kept":13,"cut":false,"hidden":false,"merged":[[0,0,0,1],[1,0,1,1],[1,6,1,8]]}
["Stavba :",null,"3542 Semily - Obnova VH infrastruktury a komunikací",null,null,null,"Rozpočet :","3542/302.3"]
["Objekt :",null,"302 Oprava gravitační stoky S ul. Smetanova",null,null,null,"Kanalizační napojovací body"]
[]
["REKAPITULACE  STAVEBNÍCH  DÍLŮ"]
[]
[null,"Stavební díl",null,null,"HSV","PSV","Dodávka","Montáž","HZS"]
[{"$f":"'302 3542302.3 Pol'!B7","v":"1"},{"$f":"'302 3542302.3 Pol'!C7","v":"Zemní práce"},null,null,{"$f":"'302 3542302.3 Pol'!BA170","v":0},{"$f":"'302 3542302.3 Pol'!BB170","v":0},{"$f":"'302 3542302.3 Pol'!BC170","v":0},{"$f":"'302 3542302.3 Pol'!BD170","v":0},{"$f":"'302 3542302.3 Pol'!BE170","v":0}]
[{"$f":"'302 3542302.3 Pol'!B171","v":"21"},{"$f":"'302 3542302.3 Pol'!C171","v":"Úprava podloží a základ.spáry"},null,null,{"$f":"'302 3542302.3 Pol'!BA180","v":0},{"$f":"'302 3542302.3 Pol'!BB180","v":0},{"$f":"'302 3542302.3 Pol'!BC180","v":0},{"$f":"'302 3542302.3 Pol'!BD180","v":0},{"$f":"'302 3542302.3 Pol'!BE180","v":0}]
[{"$f":"'302 3542302.3 Pol'!B181","v":"45"},{"$f":"'302 3542302.3 Pol'!C181","v":"Podkladní a vedlejší konstrukce"},null,null,{"$f":"'302 3542302.3 Pol'!BA190","v":0},{"$f":"'302 3542302.3 Pol'!BB190","v":0},{"$f":"'302 3542302.3 Pol'!BC190","v":0},{"$f":"'302 3542302.3 Pol'!BD190","v":0},{"$f":"'302 3542302.3 Pol'!BE190","v":0}]
[{"$f":"'302 3542302.3 Pol'!B191","v":"5"},{"$f":"'302 3542302.3 Pol'!C191","v":"Komunikace"},null,null,{"$f":"'302 3542302.3 Pol'!BA198","v":0},{"$f":"'302 3542302.3 Pol'!BB198","v":0},{"$f":"'302 3542302.3 Pol'!BC198","v":0},{"$f":"'302 3542302.3 Pol'!BD198","v":0},{"$f":"'302 3542302.3 Pol'!BE198","v":0}]
[{"$f":"'302 3542302.3 Pol'!B199","v":"8"},{"$f":"'302 3542302.3 Pol'!C199","v":"Trubní vedení"},null,null,{"$f":"'302 3542302.3 Pol'!BA312","v":0},{"$f":"'302 3542302.3 Pol'!BB312","v":0},{"$f":"'302 3542302.3 Pol'!BC312","v":0},{"$f":"'302 3542302.3 Pol'!BD312","v":0},{"$f":"'302 3542302.3 Pol'!BE312","v":0}]
[{"$f":"'302 3542302.3 Pol'!B313","v":"99"},{"$f":"'302 3542302.3 Pol'!C313","v":"Staveništní přesun hmot"},null,null,{"$f":"'302 3542302.3 Pol'!BA316","v":0},{"$f":"'302 3542302.3 Pol'!BB316","v":0},{"$f":"'302 3542302.3 Pol'!BC316","v":0},{"$f":"'302 3542302.3 Pol'!BD316","v":0},{"$f":"'302 3542302.3 Pol'!BE316","v":0}]
[null,"CELKEM  OBJEKT",null,null,{"$f":"SUM(E7:E12)","v":0},{"$f":"SUM(F7:F12)","v":0},{"$f":"SUM(G7:G12)","v":0},{"$f":"SUM(H7:H12)","v":0},{"$f":"SUM(I7:I12)","v":0}]

{"sheet":"302 3542302.3 Pol","index":31,"n_rows":316,"n_cols":80,"rows_kept":316,"cut":false,"hidden":false,"merged":[[310,2,310,3],[314,2,314,6],[304,2,304,6],[305,2,305,6],[306,2,306,6],[307,2,307,6],[308,2,308,3],[309,2,309,3],[297,2,297,6],[298,2,298,6],[299,2,299,3],[300,2,300,3],[301,2,301,3],[303,2,303,6],[290,2,290,3],[291,2,291,3],[292,2,292,3],[294,2,294,6],[295,2,295,6],[296,2,296,6],[283,2,283,3],[284,2,284,3],[286,2,286,6],[287,2,287,6],[288,2,288,6],[289,2,289,6],[276,2,276,3],[277,2,277,3],[278,2,278,3],[280,2,280,6],[281,2,281,6],[282,2,282,3],[270,2,270,6],[271,2,271,6],[272,2,272,6],[273,2,273,6],[274,2,274,6],[275,2,275,6],[262,2,262,6],[263,2,263,3],[264,2,264,3],[265,2,265,3],[267,2,267,6],[269,2,269,6],[255,2,255,3],[256,2,256,3],[257,2,257,3],[258,2,258,3],[259,2,259,3],[260,2,260,3],[246,2,246,3],[247,2,247,3],[248,2,248,3],[250,2,250,6],[252,2,252,6],[254,2,254,3],[239,2,239,3],[240,2,240,3],[241,2,241,3],[242,2,242,3],[244,2,244,3],[245,2,245,3],[232,2,232,3],[234,2,234,6],[235,2,235,6],[236,2,236,6],[237,2,237,6],[238,2,238,3],[225,2,225,3],[226,2,226,3],[227,2,227,3],[229,2,229,6],[230,2,230,3],[231,2,231,3],[217,2,217,3],[219,2,219,6],[220,2,220,3],[221,2,221,3],[222,2,222,3],[224,2,224,6],[210,2,210,3],[211,2,211,3],[212,2,212,3],[214,2,214,6],[215,2,215,3],[216,2,216,3],[200,2,200,3],[201,2,201,3],[202,2,202,3],[204,2,204,6],[205,2,205,3],[206,2,206,3],[207,2,207,3],[209,2,209,6],[188,2,188,3],[192,2,192,3],[193,2,193,3],[194,2,194,3],[195,2,195,3],[196,2,196,3],[177,2,177,3],[178,2,178,3],[182,2,182,3],[183,2,183,3],[184,2,184,3],[185,2,185,3],[186,2,186,3],[187,2,187,3],[165,2,165,3],[167,2,167,3],[168,2,168,3],[172,2,172,3],[173,2,173,3],[174,2,174,3],[175,2,175,3],[176,2,176,3],[159,2,159,3],[160,2,160,3],[161,2,161,3],[162,2,162,3],[163,2,163,3],[164,2,164,3],[151,2,151,3],[152,2,152,3],[153,2,153,3],[155,2,155,3],[156,2,156,3],[157,2,157,3],[144,2,144,3],[145,2,145,3],[147,2,147,3],[148,2,148,3],[149,2,149,3],[150,2,150,3],[138,2,138,3],[139,2,139,3],[140,2,140,3],[141,2,141,3],[142,2,142,3],[143,2,143,3],[132,2,132,3],[133,2,133,3],[134,2,134,3],[135,2,135,3],[136,2,136,3],[137,2,137,3],[126,2,126,3],[127,2,127,3],[128,2,128,3],[129,2,129,3],[130,2,130,3],[131,2,131,3],[120,2,120,3],[121,2,121,3],[122,2,122,3],[123,2,123,3],[124,2,124,3],[125,2,125,3],[114,2,114,3],[115,2,115,3],[116,2,116,3],[117,2,117,3],[118,2,118,3],[119,2,119,3],[108,2,108,3],[109,2,109,3],[110,2,110,3],[111,2,111,3],[112,2,112,3],[113,2,113,3],[100,2,100,3],[102,2,102,3],[103,2,103,3],[104,2,104,3],[106,2,106,6],[107,2,107,6],[94,2,94,3],[95,2,95,3],[96,2,96,3],[97,2,97,3],[98,2,98,3],[99,2,99,3],[87,2,87,3],[88,2,88,3],[89,2,89,3],[90,2,90,3],[91,2,91,3],[92,2,92,3],[80,2,80,3],[81,2,81,3],[82,2,82,3],[83,2,83,3],[85,2,85,3],[86,2,86,3],[73,2,73,3],[74,2,74,3],[75,2,75,3],[77,2,77,3],[78,2,78,3],[79,2,79,3],[66,2,66,3],[68,2,68,3],[69,2,69,3],[70,2,70,3],[71,2,71,3],[72,2,72,3],[60,2,60,3],[61,2,61,3],[62,2,62,3],[63,2,63,3],[64,2,64,3],[65,2,65,3],[53,2,53,3],[54,2,54,3],[55,2,55,3],[57,2,57,3],[58,2,58,3],[59,2,59,3],[45,2,45,3],[46,2,46,3],[48,2,48,6],[49,2,49,3],[50,2,50,3],[51,2,51,3],[38,2,38,3],[39,2,39,3],[40,2,40,3],[41,2,41,3],[42,2,42,3],[44,2,44,3],[32,2,32,3],[33,2,33,3],[34,2,34,3],[35,2,35,3],[36,2,36,3],[37,2,37,3],[26,2,26,3],[27,2,27,3],[28,2,28,3],[29,2,29,3],[30,2,30,3],[31,2,31,3],[19,2,19,3],[20,2,20,3],[22,2,22,6],[23,2,23,3],[24,2,24,3],[25,2,25,3],[12,2,12,3],[13,2,13,3],[14,2,14,3],[16,2,16,6],[17,2,17,6],[18,2,18,3],[0,0,0,6],[2,0,2,1],[3,0,3,1],[3,4,3,6],[8,2,8,3],[9,2,9,3],[10,2,10,3],[11,2,11,3]]}
["Položkový rozpočet "]
[]
["Stavba :",null,"3542 Semily - Obnova VH infrastruktury a komunikací",null,"Rozpočet:",{"$f":"'302 3542302.3 Rek'!H1","v":"3542/302.3"}]
["Objekt :",null,"302 Oprava gravitační stoky S ul. Smetanova",null,{"$f":"'302 3542302.3 Rek'!G2","v":"Kanalizační napojovací body"}]
[]
["P.č.","Číslo položky","Název položky","MJ","množství","cena / MJ","celkem (Kč)","Jednotková hmotnost","Celková hmotnost","Jednotková dem.hmot.","Celková dem.hmot."]
["Díl:","1","Zemní práce",null,null,null,null,null,null,null,null,null,null,null,1]
[1,"121100002RAA","Sejmutí ornice a uložení na deponii zpětný přesun, rozprostření v tl. 200 mm, osetí","m3",30,null,{"$f":"E8*F8","v":0},0,{"$f":"E8*H8","v":0},0,{"$f":"E8*J8","v":0},null,null,null,2,null,null,null,null,null,null,null,null,null,null,null,1,1,1,null,null,null,null,null,null,null,null,null,null,null,null,null,null,null,null,null,null,null,null,null,null,1,{"$f":"IF(AZ8=1,G8,0)","v":0},{"$f":"IF(AZ8=2,G8,0)","v":0},{"$f":"IF(AZ8=3,G8,0)","v":0},{"$f":"IF(AZ8=4,G8,0)","v":0},{"$f":"IF(AZ8=5,G8,0)","v":0},null,null,null,null,null,null,null,null,null,null,null,null,null,null,null,null,null,null,null,null,null,1,1]
[null,null,"Stoka \"S\" PVC DN400:",null,0,null,null,null,null,null,null,null,"Stoka \"S\" PVC DN400:"]
[null,null,"Pracodní prostor šířky 2,0 m:",null,0,null,null,null,null,null,null,null,"Pracodní prostor šířky 2,0 m:"]
[null,null,"Kanalizační tlaková přípojka PE D50x4,6 mm:",null,0,null,null,null,null,null,null,null,"Kanalizační tlaková přípojka PE D50x4,6 mm:"]
[null,null,"Objem ornice:47,00*2,00*0,20",null,18.8,null,null,null,null,null,null,null,"Objem ornice:47,00*2,00*0,20"]
[null,null,"Kanalizační přípojky PVC DN150 (10 kusů):",null,0,null,null,null,null,null,null,null,"Kanalizační přípojky PVC DN150 (10 kusů):"]
[null,null,"Kanalizační přípojky PVC DN200 (1 kus):",null,0,null,null,null,null,null,null,null,"Kanalizační přípojky PVC DN200 (1 kus):"]
[null,null,"Objem ornice:28,00*2,00*0,20",null,11.2,null,null,null,null,null,null,null,"Objem ornice:28,00*2,00*0,20"]
[2,"130001101RRX","Příplatek za ztížené hloubení v blízkosti vedení ","m3",78.457400000000007,null,{"$f":"E16*F16","v":0},0,{"$f":"E16*H16","v":0},0,{"$f":"E16*J16","v":0},null,null,null,2,null,null,null,null,null,null,null,null,null,null,null,1,1,1,null,null,null,null,null,null,null,null,null,null,null,null,null,null,null,null,null,null,null,null,null,null,1,{"$f":"IF(AZ16=1,G16,0)","v":0},{"$f":"IF(AZ16=2,G16,0)","v":0},{"$f":"IF(AZ16=3,G16,0)","v":0},{"$f":"IF(AZ16=4,G16,0)","v":0},{"$f":"IF(AZ16=5,G16,0)","v":0},null,null,null,null,null,null,null,null,null,null,null,null,null,null,null,null,null,null,null,null,null,1,1]
[null,null,"Včetně případných nutných dokopávek a ručního výkopu podél sousedících inženýrských sítí.",null,null,null,null,null,null,null,null,"Včetně případných nutných dokopávek a ručního výkopu podél sousedících inženýrských sítí.",null,null,3]
[null,null,"Součástí položky je i dočasné zajištění stávajících inženýrských sítí v prostoru výkopů (potrubí, kabely a pod.)",null,null,null,null,null,null,null,null,"Součástí položky je i dočasné zajištění stávajících inženýrských sítí v prostoru výkopů (potrubí, kabely a pod.)",null,null,3]
[null,null,"Stoka \"S\" PVC DN400:",null,0,null,null,null,null,null,null,null,"Stoka \"S\" PVC DN400:"]
[null,null,"Výkopy:",null,0,null,null,null,null,null,null,null,"Výkopy:"]
[null,null,"v hornině tř. 3 - 4 -40%:196,1435*0,4",null,78.457400000000007,null,null,null,null,null,null,null,"v hornině tř. 3 - 4 -40%:196,1435*0,4"]
[3,"132201210R00","Hloubení rýh š.do 200 cm hor.3 do 50 m3,STROJNĚ ","m3",98.071700000000007,null,{"$f":"E22*F22","v":0},0,{"$f":"E22*H22","v":0},0,{"$f":"E22*J22","v":0},null,null,null,2,null,null,null,null,null,null,null,null,null,null,null,1,1,1,null,null,null,null,null,null,null,null,null,null,null,null,null,null,null,null,null,null,null,null,null,null,1,{"$f":"IF(AZ22=1,G22,0)","v":0},{"$f":"IF(AZ22=2,G22,0)","v":0},{"$f":"IF(AZ22=3,G22,0)","v":0},{"$f":"IF(AZ22=4,G22,0)","v":0},{"$f":"IF(AZ22=5,G22,0)","v":0},null,null,null,null,null,null,null,null,null,null,null,null,null,null,null,null,null,null,null,null,null,1,1]
[null,null,"Položka obsahuje hloubení rýh traktorbagrem, naložení výkopku na dopravní prostředek pro svislé, nebo vodorovné přemístění, popř. přemístění výkopku do 3 m (po povrchu území), případné zajištění rypadel polštáři, udržování pracoviště a ochranu výkopiště proti stékání srážkové vody z okolního terénu i s jejím odvodněním, nebo odvedením, přesekání a odstranění kořenů ve výkopišti, odstranění napadávek, urovnání dna výkopu.",null,null,null,null,null,null,null,null,"Položka obsahuje hloubení rýh traktorbagrem, naložení výkopku na dopravní prostředek pro svislé, nebo vodorovné přemístění, popř. přemístění výkopku do 3 m (po povrchu území), případné zajištění rypadel polštáři, udržování pracoviště a ochranu výkopiště proti stékání srážkové vody z okolního terénu i s jejím odvodněním, nebo odvedením, přesekání a odstranění kořenů ve výkopišti, odstranění napadávek, urovnání dna výkopu.",null,null,3]
[null,null,"Stoka \"S\" PVC DN400:",null,0,null,null,null,null,null,null,null,"Stoka \"S\" PVC DN400:"]
[null,null,"Výkopy:",null,0,null,null,null,null,null,null,null,"Výkopy:"]
[null,null,"Začátek provozního součtu",null,0,null,null,null,null,null,null,null,"Začátek provozního součtu"]
[null,null,"Kanalizační tlaková přípojka PE D50x4,6 mm:",null,0,null,null,null,null,null,null,null,"Kanalizační tlaková přípojka PE D50x4,6 mm:"]
[null,null,"KPT (1 kus) :47,00*0,70*1,50",null,49.35,null,null,null,null,null,null,null,"KPT (1 kus) :47,00*0,70*1,50"]
[null,null,"Odpočet objemu ornice:-47,00*0,70*0,20",null,-6.58,null,null,null,null,null,null,null,"Odpočet objemu ornice:-47,00*0,70*0,20"]
[null,null,"Kanalizační přípojky PVC DN150 (10 kusů):",null,0,null,null,null,null,null,null,null,"Kanalizační přípojky PVC DN150 (10 kusů):"]
[null,null,"čp. 683:8,00*0,90*(2,10+1,85)/2",null,14.22,null,null,null,null,null,null,null,"čp. 683:8,00*0,90*(2,10+1,85)/2"]
[null,null,"čp. 682:(9,00+3,00)*0,90*(2,15+1,75)/2",null,21.06,null,null,null,null,null,null,null,"čp. 682:(9,00+3,00)*0,90*(2,15+1,75)/2"]
[null,null,"čp. 681:(7,50+2,50)*0,90*(2,90+2,05)/2",null,22.274999999999999,null,null,null,null,null,null,null,"čp. 681:(7,50+2,50)*0,90*(2,90+2,05)/2"]
[null,null,"čp. 680:(10,50+5,50)*0,90*(3,69+2,50)/2",null,44.567999999999998,null,null,null,null,null,null,null,"čp. 680:(10,50+5,50)*0,90*(3,69+2,50)/2"]
[null,null,"čp. 716:6,00*0,90*2,20",null,11.88,null,null,null,null,null,null,null,"čp. 716:6,00*0,90*2,20"]
[null,null,"čp. 589:10,50*0,90*(2,42+2,16)/2",null,21.640499999999999,null,null,null,null,null,null,null,"čp. 589:10,50*0,90*(2,42+2,16)/2"]
[null,null,"čp. 696:8,00*0,90*(3,25+2,60)/2",null,21.06,null,null,null,null,null,null,null,"čp. 696:8,00*0,90*(3,25+2,60)/2"]
[null,null,"Kanalizační přípojky PVC DN200 (1 kus):",null,0,null,null,null,null,null,null,null,"Kanalizační přípojky PVC DN200 (1 kus):"]
[null,null,"čp. 683:12,00*0,90*(2,10+1,85)/2",null,21.33,null,null,null,null,null,null,null,"čp. 683:12,00*0,90*(2,10+1,85)/2"]
[null,null,"Odpočet objemu konstrukce komunikace a chodníků:-54,50*0,90*0,40",null,-19.62,null,null,null,null,null,null,null,"Odpočet objemu konstrukce komunikace a chodníků:-54,50*0,90*0,40"]
[null,null,"Odpočet objemu ornice:-28,00*0,90*0,20",null,-5.04,null,null,null,null,null,null,null,"Odpočet objemu ornice:-28,00*0,90*0,20"]
[null,null,"Konec provozního součtu",null,196.14349999999999,null,null,null,null,null,null,null,"Konec provozního součtu"]
[null,null,"v hornině tř. 3 - 50%:196,1435*0,5",null,98.071700000000007,null,null,null,null,null,null,null,"v hornině tř. 3 - 50%:196,1435*0,5"]
[4,"132201219R00","Přípl.za lepivost,hloubení rýh 200cm,hor.3,STROJNĚ ","m3",49.035899999999998,null,{"$f":"E44*F44","v":0},0,{"$f":"E44*H44","v":0},0,{"$f":"E44*J44","v":0},null,null,null,2,null,null,null,null,null,null,null,null,null,null,null,1,1,1,null,null,null,null,null,null,null,null,null,null,null,null,null,null,null,null,null,null,null,null,null,null,1,{"$f":"IF(AZ44=1,G44,0)","v":0},{"$f":"IF(AZ44=2,G44,0)","v":0},{"$f":"IF(AZ44=3,G44,0)","v":0},{"$f":"IF(AZ44=4,G44,0)","v":0},{"$f":"IF(AZ44=5,G44,0)","v":0},null,null,null,null,null,null,null,null,null,null,null,null,null,null,null,null,null,null,null,null,null,1,1]
[null,null,"Stoka \"S\" PVC DN400:",null,0,null,null,null,null,null,null,null,"Stoka \"S\" PVC DN400:"]
[null,null,"Výkopy:",null,0,null,null,null,null,null,null,null,"Výkopy:"]
[null,null,"v hornině tř. 3 - 50%:196,1435*0,5*0,5",null,49.035899999999998,null,null,null,null,null,null,null,"v hornině tř. 3 - 50%:196,1435*0,5*0,5"]
[5,"132301210R00","Hloubení rýh š.do 200 cm hor.4 do 50 m3, STROJNĚ ","m3",98.071700000000007,null,{"$f":"E48*F48","v":0},0,{"$f":"E48*H48","v":0},0,{"$f":"E48*J48","v":0},null,null,null,2,null,null,null,null,null,null,null,null,null,null,null,1,1,1,null,null,null,null,null,null,null,null,null,null,null,null,null,null,null,null,null,null,null,null,null,null,1,{"$f":"IF(AZ48=1,G48,0)","v":0},{"$f":"IF(AZ48=2,G48,0)","v":0},{"$f":"IF(AZ48=3,G48,0)","v":0},{"$f":"IF(AZ48=4,G48,0)","v":0},{"$f":"IF(AZ48=5,G48,0)","v":0},null,null,null,null,null,null,null,null,null,null,null,null,null,null,null,null,null,null,null,null,null,1,1]
[null,null,"Položka obsahuje hloubení rýh traktorbagrem, naložení výkopku na dopravní prostředek pro svislé, nebo vodorovné přemístění, popř. přemístění výkopku do 3 m (po povrchu území), případné zajištění rypadel polštáři, udržování pracoviště a ochranu výkopiště proti stékání srážkové vody z okolního terénu i s jejím odvodněním, nebo odvedením, přesekání a odstranění kořenů ve výkopišti, odstranění napadávek, urovnání dna výkopu.",null,null,null,null,null,null,null,null,"Položka obsahuje hloubení rýh traktorbagrem, naložení výkopku na dopravní prostředek pro svislé, nebo vodorovné přemístění, popř. přemístění výkopku do 3 m (po povrchu území), případné zajištění rypadel polštáři, udržování pracoviště a ochranu výkopiště proti stékání srážkové vody z okolního terénu i s jejím odvodněním, nebo odvedením, přesekání a odstranění kořenů ve výkopišti, odstranění napadávek, urovnání dna výkopu.",null,null,3]
[null,null,"Stoka \"S\" PVC DN400:",null,0,null,null,null,null,null,null,null,"Stoka \"S\" PVC DN400:"]
[null,null,"Výkopy:",null,0,null,null,null,null,null,null,null,"Výkopy:"]
[null,null,"v hornině tř. 4 - 50%:196,1435*0,5",null,98.071700000000007,null,null,null,null,null,null,null,"v hornině tř. 4 - 50%:196,1435*0,5"]
[6,"132301219R00","Přípl.za lepivost,hloubení rýh 200cm,hor.4,STROJNĚ ","m3",49.035899999999998,null,{"$f":"E53*F53","v":0},0,{"$f":"E53*H53","v":0},0,{"$f":"E53*J53","v":0},null,null,null,2,null,null,null,null,null,null,null,null,null,null,null,1,1,1,null,null,null,null,null,null,null,null,null,null,null,null,null,null,null,null,null,null,null,null,null,null,1,{"$f":"IF(AZ53=1,G53,0)","v":0},{"$f":"IF(AZ53=2,G53,0)","v":0},{"$f":"IF(AZ53=3,G53,0)","v":0},{"$f":"IF(AZ53=4,G53,0)","v":0},{"$f":"IF(AZ53=5,G53,0)","v":0},null,null,null,null,null,null,null,null,null,null,null,null,null,null,null,null,null,null,null,null,null,1,1]
[null,null,"Stoka \"S\" PVC DN400:",null,0,null,null,null,null,null,null,null,"Stoka \"S\" PVC DN400:"]
[null,null,"Výkopy:",null,0,null,null,null,null,null,null,null,"Výkopy:"]
[null,null,"v hornině tř. 4 - 50%:196,1435*0,5*0,5",null,49.035899999999998,null,null,null,null,null,null,null,"v hornině tř. 4 - 50%:196,1435*0,5*0,5"]
[7,"132901220RRX","Přípl.za provedení podchodu pod základem oplocení Ručně do objemu 1,00 m3","kus",7,null,{"$f":"E57*F57","v":0},0,{"$f":"E57*H57","v":0},0,{"$f":"E57*J57","v":0},null,null,null,2,null,null,null,null,null,null,null,null,null,null,null,1,1,1,null,null,null,null,null,null,null,null,null,null,null,null,null,null,null,null,null,null,null,null,null,null,1,{"$f":"IF(AZ57=1,G57,0)","v":0},{"$f":"IF(AZ57=2,G57,0)","v":0},{"$f":"IF(AZ57=3,G57,0)","v":0},{"$f":"IF(AZ57=4,G57,0)","v":0},{"$f":"IF(AZ57=5,G57,0)","v":0},null,null,null,null,null,null,null,null,null,null,null,null,null,null,null,null,null,null,null,null,null,1,1]
[null,null,"Stoka \"S\" PVC DN400:",null,0,null,null,null,null,null,null,null,"Stoka \"S\" PVC DN400:"]
[null,null,"Výkopy:",null,0,null,null,null,null,null,null,null,"Výkopy:"]
[null,null,"Kanalizační přípojky PVC DN150 (10 kusů):",null,0,null,null,null,null,null,null,null,"Kanalizační přípojky PVC DN150 (10 kusů):"]
[null,null,"čp. 683:1",null,1,null,null,null,null,null,null,null,"čp. 683:1"]
[null,null,"čp. 682:1",null,1,null,null,null,null,null,null,null,"čp. 682:1"]
[null,null,"čp. 681:1",null,1,null,null,null,null,null,null,null,"čp. 681:1"]
[null,null,"čp. 680:2",null,2,null,null,null,null,null,null,null,"čp. 680:2"]
[null,null,"čp. 696:1",null,1,null,null,null,null,null,null,null,"čp. 696:1"]
[null,null,"Kanalizační přípojky PVC DN200 (1 kus):",null,0,null,null,null,null,null,null,null,"Kanalizační přípojky PVC DN200 (1 kus):"]
[null,null,"čp. 683:1",null,1,null,null,null,null,null,null,null,"čp. 683:1"]
[8,"151101101R00","Pažení a rozepření stěn rýh - příložné - hl.do 2 m ","m2",152.19999999999999,null,{"$f":"E68*F68","v":0},9.8999999999999999E-4,{"$f":"E68*H68","v":0.15067799999999998},0,{"$f":"E68*J68","v":0},null,null,null,2,null,null,null,null,null,null,null,null,null,null,null,1,1,1,null,null,null,null,null,null,null,null,null,null,null,null,null,null,null,null,null,null,null,null,null,null,1,{"$f":"IF(AZ68=1,G68,0)","v":0},{"$f":"IF(AZ68=2,G68,0)","v":0},{"$f":"IF(AZ68=3,G68,0)","v":0},{"$f":"IF(AZ68=4,G68,0)","v":0},{"$f":"IF(AZ68=5,G68,0)","v":0},null,null,null,null,null,null,null,null,null,null,null,null,null,null,null,null,null,null,null,null,null,1,1]
[null,null,"Stoka \"S\" PVC DN400:",null,0,null,null,null,null,null,null,null,"Stoka \"S\" PVC DN400:"]
[null,null,"Výkopy:",null,0,null,null,null,null,null,null,null,"Výkopy:"]
[null,null,"Kanalizační přípojky PVC DN150 (10 kusů):",null,0,null,null,null,null,null,null,null,"Kanalizační přípojky PVC DN150 (10 kusů):"]
[null,null,"čp. 683:8,00*(2,10+1,85)/2*2",null,31.6,null,null,null,null,null,null,null,"čp. 683:8,00*(2,10+1,85)/2*2"]
[null,null,"čp. 682:(9,00+3,00)*(2,15+1,75)/2*2",null,46.8,null,null,null,null,null,null,null,"čp. 682:(9,00+3,00)*(2,15+1,75)/2*2"]
[null,null,"čp. 716:6,00*2,20*2",null,26.4,null,null,null,null,null,null,null,"čp. 716:6,00*2,20*2"]
[null,null,"Kanalizační přípojky PVC DN200 (1 kus):",null,0,null,null,null,null,null,null,null,"Kanalizační přípojky PVC DN200 (1 kus):"]
[null,null,"čp. 683:12,00*(2,10+1,85)/2*2",null,47.4,null,null,null,null,null,null,null,"čp. 683:12,00*(2,10+1,85)/2*2"]
[9,"151101102R00","Pažení a rozepření stěn rýh - příložné - hl.do 4 m ","m2",243.43,null,{"$f":"E77*F77","v":0},8.5999999999999998E-4,{"$f":"E77*H77","v":0.2093498},0,{"$f":"E77*J77","v":0},null,null,null,2,null,null,null,null,null,null,null,null,null,null,null,1,1,1,null,null,null,null,null,null,null,null,null,null,null,null,null,null,null,null,null,null,null,null,null,null,1,{"$f":"IF(AZ77=1,G77,0)","v":0},{"$f":"IF(AZ77=2,G77,0)","v":0},{"$f":"IF(AZ77=3,G77,0)","v":0},{"$f":"IF(AZ77=4,G77,0)","v":0},{"$f":"IF(AZ77=5,G77,0)","v":0},null,null,null,null,null,null,null,null,null,null,null,null,null,null,null,null,null,null,null,null,null,1,1]
[null,null,"Stoka \"S\" PVC DN400:",null,0,null,null,null,null,null,null,null,"Stoka \"S\" PVC DN400:"]
[null,null,"Výkopy:",null,0,null,null,null,null,null,null,null,"Výkopy:"]
[null,null,"Kanalizační přípojky PVC DN150 (10 kusů):",null,0,null,null,null,null,null,null,null,"Kanalizační přípojky PVC DN150 (10 kusů):"]
[null,null,"čp. 681:(7,50+2,50)*(2,90+2,05)/2*2",null,49.5,null,null,null,null,null,null,null,"čp. 681:(7,50+2,50)*(2,90+2,05)/2*2"]
[null,null,"čp. 680:(10,50+5,50)*(3,69+2,50)/2*2",null,99.04,null,null,null,null,null,null,null,"čp. 680:(10,50+5,50)*(3,69+2,50)/2*2"]
[null,null,"čp. 589:10,50*(2,42+2,16)/2*2",null,48.09,null,null,null,null,null,null,null,"čp. 589:10,50*(2,42+2,16)/2*2"]
[null,null,"čp. 696:8,00*(3,25+2,60)/2*2",null,46.8,null,null,null,null,null,null,null,"čp. 696:8,00*(3,25+2,60)/2*2"]
[10,"151101111R00","Odstranění pažení stěn rýh - příložné - hl. do 2 m ","m2",152.19999999999999,null,{"$f":"E85*F85","v":0},0,{"$f":"E85*H85","v":0},0,{"$f":"E85*J85","v":0},null,null,null,2,null,null,null,null,null,null,null,null,null,null,null,1,1,1,null,null,null,null,null,null,null,null,null,null,null,null,null,null,null,null,null,null,null,null,null,null,1,{"$f":"IF(AZ85=1,G85,0)","v":0},{"$f":"IF(AZ85=2,G85,0)","v":0},{"$f":"IF(AZ85=3,G85,0)","v":0},{"$f":"IF(AZ85=4,G85,0)","v":0},{"$f":"IF(AZ85=5,G85,0)","v":0},null,null,null,null,null,null,null,null,null,null,null,null,null,null,null,null,null,null,null,null,null,1,1]
[null,null,"Stoka \"S\" PVC DN400:",null,0,null,null,null,null,null,null,null,"Stoka \"S\" PVC DN400:"]
[null,null,"Výkopy:",null,0,null,null,null,null,null,null,null,"Výkopy:"]
[null,null,"Kanalizační přípojky PVC DN150 (10 kusů):",null,0,null,null,null,null,null,null,null,"Kanalizační přípojky PVC DN150 (10 kusů):"]
[null,null,"čp. 683:8,00*(2,10+1,85)/2*2",null,31.6,null,null,null,null,null,null,null,"čp. 683:8,00*(2,10+1,85)/2*2"]
[null,null,"čp. 682:(9,00+3,00)*(2,15+1,75)/2*2",null,46.8,null,null,null,null,null,null,null,"čp. 682:(9,00+3,00)*(2,15+1,75)/2*2"]
[null,null,"čp. 716:6,00*2,20*2",null,26.4,null,null,null,null,null,null,null,"čp. 716:6,00*2,20*2"]
[null,null,"Kanalizační přípojky PVC DN200 (1 kus):",null,0,null,null,null,null,null,null,null,"Kanalizační přípojky PVC DN200 (1 kus):"]
[null,null,"čp. 683:12,00*(2,10+1,85)/2*2",null,47.4,null,null,null,null,null,null,null,"čp. 683:12,00*(2,10+1,85)/2*2"]
[11,"151101112R00","Odstranění pažení stěn rýh - příložné - hl. do 4 m ","m2",243.43,null,{"$f":"E94*F94","v":0},0,{"$f":"E94*H94","v":0},0,{"$f":"E94*J94","v":0},null,null,null,2,null,null,null,null,null,null,null,null,null,null,null,1,1,1,null,null,null,null,null,null,null,null,null,null,null,null,null,null,null,null,null,null,null,null,null,null,1,{"$f":"IF(AZ94=1,G94,0)","v":0},{"$f":"IF(AZ94=2,G94,0)","v":0},{"$f":"IF(AZ94=3,G94,0)","v":0},{"$f":"IF(AZ94=4,G94,0)","v":0},{"$f":"IF(AZ94=5,G94,0)","v":0},null,null,null,null,null,null,null,null,null,null,null,null,null,null,null,null,null,null,null,null,null,1,1]
[null,null,"Stoka \"S\" PVC DN400:",null,0,null,null,null,null,null,null,null,"Stoka \"S\" PVC DN400:"]
[null,null,"Výkopy:",null,0,null,null,null,null,null,null,null,"Výkopy:"]
[null,null,"Kanalizační přípojky PVC DN150 (10 kusů):",null,0,null,null,null,null,null,null,null,"Kanalizační přípojky PVC DN150 (10 kusů):"]
[null,null,"čp. 681:(7,50+2,50)*(2,90+2,05)/2*2",null,49.5,null,null,null,null,null,null,null,"čp. 681:(7,50+2,50)*(2,90+2,05)/2*2"]
[null,null,"čp. 680:(10,50+5,50)*(3,69+2,50)/2*2",null,99.04,null,null,null,null,null,null,null,"čp. 680:(10,50+5,50)*(3,69+2,50)/2*2"]
[null,null,"čp. 589:10,50*(2,42+2,16)/2*2",null,48.09,null,null,null,null,null,null,null,"čp. 589:10,50*(2,42+2,16)/2*2"]
[null,null,"čp. 696:8,00*(3,25+2,60)/2*2",null,46.8,null,null,null,null,null,null,null,"čp. 696:8,00*(3,25+2,60)/2*2"]
[12,"162701105RSZ","Vodorovné přemístění výkopku z hor.1-7 na skládku zhotovitele","m3",135.0333,null,{"$f":"E102*F102","v":0},0,{"$f":"E102*H102","v":0},0,{"$f":"E102*J102","v":0},null,null,null,2,null,null,null,null,null,null,null,null,null,null,null,1,1,1,null,null,null,null,null,null,null,null,null,null,null,null,null,null,null,null,null,null,null,null,null,null,1,{"$f":"IF(AZ102=1,G102,0)","v":0},{"$f":"IF(AZ102=2,G102,0)","v":0},{"$f":"IF(AZ102=3,G102,0)","v":0},{"$f":"IF(AZ102=4,G102,0)","v":0},{"$f":"IF(AZ102=5,G102,0)","v":0},null,null,null,null,null,null,null,null,null,null,null,null,null,null,null,null,null,null,null,null,null,1,1]
[null,null,"Stoka \"S\" PVC DN400:",null,0,null,null,null,null,null,null,null,"Stoka \"S\" PVC DN400:"]
[null,null,"Výkopy:196,1435",null,196.14349999999999,null,null,null,null,null,null,null,"Výkopy:196,1435"]
[null,null,"Odpočet objemu zásypů zeminou:-61,1102",null,-61.110199999999999,null,null,null,null,null,null,null,"Odpočet objemu zásypů zeminou:-61,1102"]
[13,"174101101R00","Zásyp jam, rýh, šachet se zhutněním ","m3",134.8734,null,{"$f":"E106*F106","v":0},0,{"$f":"E106*H106","v":0},0,{"$f":"E106*J106","v":0},null,null,null,2,null,null,null,null,null,null,null,null,null,null,null,1,1,1,null,null,null,null,null,null,null,null,null,null,null,null,null,null,null,null,null,null,null,null,null,null,1,{"$f":"IF(AZ106=1,G106,0)","v":0},{"$f":"IF(AZ106=2,G106,0)","v":0},{"$f":"IF(AZ106=3,G106,0)","v":0},{"$f":"IF(AZ106=4,G106,0)","v":0},{"$f":"IF(AZ106=5,G106,0)","v":0},null,null,null,null,null,null,null,null,null,null,null,null,null,null,null,null,null,null,null,null,null,1,1]
[null,null,"Položka obsahuje strojní přemístění materiálu pro zásyp ze vzdálenosti do 10 m od okraje zásypu.",null,null,null,null,null,null,null,null,"Položka obsahuje strojní přemístění materiálu pro zásyp ze vzdálenosti do 10 m od okraje zásypu.",null,null,3]
[null,null,null,null,null,null,null,null,null,null,null,null,null,null,3]
[null,null,"Stoka \"S\" PVC DN400:",null,0,null,null,null,null,null,null,null,"Stoka \"S\" PVC DN400:"]
[null,null,"Zásypy ŠD fr. 0-63 mm:67,7632",null,67.763199999999998,null,null,null,null,null,null,null,"Zásypy ŠD fr. 0-63 mm:67,7632"]
[null,null,"Začátek provozního součtu",null,0,null,null,null,null,null,null,null,"Začátek provozního součtu"]
[null,null,"Výkopy:",null,0,null,null,null,null,null,null,null,"Výkopy:"]
[null,null,"Kanalizační přípojky PVC DN150 (10 kusů):",null,0,null,null,null,null,null,null,null,"Kanalizační přípojky PVC DN150 (10 kusů):"]
[null,null,"čp. 683:7,00*0,90*(2,10+1,85)/2",null,12.442500000000001,null,null,null,null,null,null,null,"čp. 683:7,00*0,90*(2,10+1,85)/2"]
[null,null,"čp. 682:(5,00+3,00)*0,90*(2,15+1,75)/2",null,14.04,null,null,null,null,null,null,null,"čp. 682:(5,00+3,00)*0,90*(2,15+1,75)/2"]
[null,null,"čp. 681:(4,00+2,50)*0,90*(2,90+2,05)/2",null,14.4787,null,null,null,null,null,null,null,"čp. 681:(4,00+2,50)*0,90*(2,90+2,05)/2"]
[null,null,"čp. 680:(4,00+5,50)*0,90*(3,69+2,50)/2",null,26.462199999999999,null,null,null,null,null,null,null,"čp. 680:(4,00+5,50)*0,90*(3,69+2,50)/2"]
[null,null,"čp. 716:6,00*0,90*2,20",null,11.88,null,null,null,null,null,null,null,"čp. 716:6,00*0,90*2,20"]
[null,null,"čp. 589:6,00*0,90*(2,42+2,16)/2",null,12.366,null,null,null,null,null,null,null,"čp. 589:6,00*0,90*(2,42+2,16)/2"]
[null,null,"čp. 696:5,50*0,90*(3,25+2,60)/2",null,14.4787,null,null,null,null,null,null,null,"čp. 696:5,50*0,90*(3,25+2,60)/2"]
[null,null,"Kanalizační přípojky PVC DN200 (1 kus):",null,0,null,null,null,null,null,null,null,"Kanalizační přípojky PVC DN200 (1 kus):"]
[null,null,"čp. 683:6,00*0,90*(2,10+1,85)/2",null,10.664999999999999,null,null,null,null,null,null,null,"čp. 683:6,00*0,90*(2,10+1,85)/2"]
[null,null,"Odpočet objemu konstrukce komunikace a chodníků:-54,50*0,90*0,40",null,-19.62,null,null,null,null,null,null,null,"Odpočet objemu konstrukce komunikace a chodníků:-54,50*0,90*0,40"]
[null,null,"Odpočet lože, potrubí a obsypů:-48,00*0,90*(0,15+0,15+0,30)",null,-25.92,null,null,null,null,null,null,null,"Odpočet lože, potrubí a obsypů:-48,00*0,90*(0,15+0,15+0,30)"]
[null,null,"-6,00*0,90*(0,15+0,20+0,30)",null,-3.51,null,null,null,null,null,null,null,"-6,00*0,90*(0,15+0,20+0,30)"]
[null,null,"Konec provozního součtu",null,67.76309999999998,null,null,null,null,null,null,null,"Konec provozního součtu"]
[null,null,"Zásypy zeminou:67,1102",null,67.110200000000006,null,null,null,null,null,null,null,"Zásypy zeminou:67,1102"]
[null,null,"Začátek provozního součtu",null,0,null,null,null,null,null,null,null,"Začátek provozního součtu"]
[null,null,"Výkopy:",null,0,null,null,null,null,null,null,null,"Výkopy:"]
[null,null,"Kanalizační tlaková přípojka PE D50x4,6 mm:",null,0,null,null,null,null,null,null,null,"Kanalizační tlaková přípojka PE D50x4,6 mm:"]
[null,null,"KPT (1 kus) :47,00*0,70*1,50",null,49.35,null,null,null,null,null,null,null,"KPT (1 kus) :47,00*0,70*1,50"]
[null,null,"Odpočet objemu ornice:-47,00*0,70*0,20",null,-6.58,null,null,null,null,null,null,null,"Odpočet objemu ornice:-47,00*0,70*0,20"]
[null,null,"Odpočet lože, potrubí a obsypů:-47,00*0,70*(0,15+0,05+0,30)",null,-16.45,null,null,null,null,null,null,null,"Odpočet lože, potrubí a obsypů:-47,00*0,70*(0,15+0,05+0,30)"]
[null,null,"Kanalizační přípojky PVC DN150 (10 kusů):",null,0,null,null,null,null,null,null,null,"Kanalizační přípojky PVC DN150 (10 kusů):"]
[null,null,"čp. 683:1,00*0,90*(2,10+1,85)/2",null,1.7775000000000001,null,null,null,null,null,null,null,"čp. 683:1,00*0,90*(2,10+1,85)/2"]
[null,null,"čp. 682:4,00*0,90*(2,15+1,75)/2",null,7.02,null,null,null,null,null,null,null,"čp. 682:4,00*0,90*(2,15+1,75)/2"]
[null,null,"čp. 681:3,50*0,90*(2,90+2,05)/2",null,7.7961999999999998,null,null,null,null,null,null,null,"čp. 681:3,50*0,90*(2,90+2,05)/2"]
[null,null,"čp. 680:6,50*0,90*(3,69+2,50)/2",null,18.105799999999999,null,null,null,null,null,null,null,"čp. 680:6,50*0,90*(3,69+2,50)/2"]
[null,null,"čp. 589:4,50*0,90*(2,42+2,16)/2",null,9.2744999999999997,null,null,null,null,null,null,null,"čp. 589:4,50*0,90*(2,42+2,16)/2"]
[null,null,"čp. 696:2,50*0,90*(3,25+2,60)/2",null,6.5811999999999999,null,null,null,null,null,null,null,"čp. 696:2,50*0,90*(3,25+2,60)/2"]
[null,null,"Kanalizační přípojky PVC DN200 (1 kus):",null,0,null,null,null,null,null,null,null,"Kanalizační přípojky PVC DN200 (1 kus):"]
[null,null,"čp. 683:6,00*0,90*(2,10+1,85)/2",null,10.664999999999999,null,null,null,null,null,null,null,"čp. 683:6,00*0,90*(2,10+1,85)/2"]
[null,null,"Odpočet objemu ornice:-28,00*0,90*0,20",null,-5.04,null,null,null,null,null,null,null,"Odpočet objemu ornice:-28,00*0,90*0,20"]
[null,null,"Odpočet lože, potrubí a obsypů:-22,00*0,90*(0,15+0,15+0,30)",null,-11.88,null,null,null,null,null,null,null,"Odpočet lože, potrubí a obsypů:-22,00*0,90*(0,15+0,15+0,30)"]
[null,null,"-6,00*0,90*(0,15+0,20+0,30)",null,-3.51,null,null,null,null,null,null,null,"-6,00*0,90*(0,15+0,20+0,30)"]
[null,null,"Konec provozního součtu",null,67.110199999999992,null,null,null,null,null,null,null,"Konec provozního součtu"]
[14,"175101101R00","Obsyp potrubí bez prohození sypaniny ","m3",43.752400000000002,null,{"$f":"E147*F147","v":0},0,{"$f":"E147*H147","v":0},0,{"$f":"E147*J147","v":0},null,null,null,2,null,null,null,null,null,null,null,null,null,null,null,1,1,1,null,null,null,null,null,null,null,null,null,null,null,null,null,null,null,null,null,null,null,null,null,null,1,{"$f":"IF(AZ147=1,G147,0)","v":0},{"$f":"IF(AZ147=2,G147,0)","v":0},{"$f":"IF(AZ147=3,G147,0)","v":0},{"$f":"IF(AZ147=4,G147,0)","v":0},{"$f":"IF(AZ147=5,G147,0)","v":0},null,null,null,null,null,null,null,null,null,null,null,null,null,null,null,null,null,null,null,null,null,1,1]
[null,null,"Stoka \"S\" PVC DN400:",null,0,null,null,null,null,null,null,null,"Stoka \"S\" PVC DN400:"]
[null,null,"Kanalizační přípojky PVC DN150:",null,0,null,null,null,null,null,null,null,"Kanalizační přípojky PVC DN150:"]
[null,null,"KP (10 kusů):70,50*(0,90*(0,15+0,30)-0,075^2*Pi)",null,27.306699999999999,null,null,null,null,null,null,null,"KP (10 kusů):70,50*(0,90*(0,15+0,30)-0,075^2*Pi)"]
[null,null,"Kanalizační přípojky PVC DN200:",null,0,null,null,null,null,null,null,null,"Kanalizační přípojky PVC DN200:"]
[null,null,"KP (1 kus):12,00*(0,90*(0,20+0,30)-0,10^2*Pi)",null,5.0229999999999997,null,null,null,null,null,null,null,"KP (1 kus):12,00*(0,90*(0,20+0,30)-0,10^2*Pi)"]
[null,null,"Kanalizační tlaková přípojka PE D50x4,6 mm:",null,0,null,null,null,null,null,null,null,"Kanalizační tlaková přípojka PE D50x4,6 mm:"]
[null,null,"KPT (1 kus) :47,00*(0,70*(0,05+0,30)-0,025^2*Pi)",null,11.422700000000001,null,null,null,null,null,null,null,"KPT (1 kus) :47,00*(0,70*(0,05+0,30)-0,025^2*Pi)"]
[15,"199000002R00","Poplatek za skládku horniny 1- 7 č. dle katal. odpadů 17 05 04","m3",135.0333,null,{"$f":"E155*F155","v":0},0,{"$f":"E155*H155","v":0},0,{"$f":"E155*J155","v":0},null,null,null,2,null,null,null,null,null,null,null,null,null,null,null,1,1,1,null,null,null,null,null,null,null,null,null,null,null,null,null,null,null,null,null,null,null,null,null,null,1,{"$f":"IF(AZ155=1,G155,0)","v":0},{"$f":"IF(AZ155=2,G155,0)","v":0},{"$f":"IF(AZ155=3,G155,0)","v":0},{"$f":"IF(AZ155=4,G155,0)","v":0},{"$f":"IF(AZ155=5,G155,0)","v":0},null,null,null,null,null,null,null,null,null,null,null,null,null,null,null,null,null,null,null,null,null,1,1]
[null,null,"Stoka \"S\" PVC DN400:",null,0,null,null,null,null,null,null,null,"Stoka \"S\" PVC DN400:"]
[null,null,"Výkopy:196,1435",null,196.14349999999999,null,null,null,null,null,null,null,"Výkopy:196,1435"]
[null,null,"Odpočet objemu zásypů zeminou:-61,1102",null,-61.110199999999999,null,null,null,null,null,null,null,"Odpočet objemu zásypů zeminou:-61,1102"]
[16,"58337308.R","Štěrkopísek frakce 0-2 tř.B","t",87.186700000000002,null,{"$f":"E159*F159","v":0},1,{"$f":"E159*H159","v":87.186700000000002},null,{"$f":"E159*J159","v":0},null,null,null,2,null,null,null,null,null,null,null,null,null,null,null,3,1,"58337308.R",null,null,null,null,null,null,null,null,null,null,null,null,null,null,null,null,null,null,null,null,null,null,1,{"$f":"IF(AZ159=1,G159,0)","v":0},{"$f":"IF(AZ159=2,G159,0)","v":0},{"$f":"IF(AZ159=3,G159,0)","v":0},{"$f":"IF(AZ159=4,G159,0)","v":0},{"$f":"IF(AZ159=5,G159,0)","v":0},null,null,null,null,null,null,null,null,null,null,null,null,null,null,null,null,null,null,null,null,null,3,1]
[null,null,"Stoka \"S\" PVC DN400:",null,0,null,null,null,null,null,null,null,"Stoka \"S\" PVC DN400:"]
[null,null,"Kanalizační přípojky PVC DN150:",null,0,null,null,null,null,null,null,null,"Kanalizační přípojky PVC DN150:"]
[null,null,"KP (10 kusů):70,50*(0,90*(0,15+0,30)-0,075^2*Pi)*1,973*1,01",null,54.4148,null,null,null,null,null,null,null,"KP (10 kusů):70,50*(0,90*(0,15+0,30)-0,075^2*Pi)*1,973*1,01"]
[null,null,"Kanalizační přípojky PVC DN200:",null,0,null,null,null,null,null,null,null,"Kanalizační přípojky PVC DN200:"]
[null,null,"KP (1 kus):12,00*(0,90*(0,20+0,30)-0,10^2*Pi)*1,973*1,01",null,10.009499999999999,null,null,null,null,null,null,null,"KP (1 kus):12,00*(0,90*(0,20+0,30)-0,10^2*Pi)*1,973*1,01"]
[null,null,"Kanalizační tlaková přípojka PE D50x4,6 mm:",null,0,null,null,null,null,null,null,null,"Kanalizační tlaková přípojka PE D50x4,6 mm:"]
[null,null,"KPT (1 kus) :47,00*(0,70*(0,05+0,30)-0,025^2*Pi)*1,973*1,01",null,22.7624,null,null,null,null,null,null,null,"KPT (1 kus) :47,00*(0,70*(0,05+0,30)-0,025^2*Pi)*1,973*1,01"]
[17,"58344197R","Štěrkodrtě frakce 0-63 A","t",128.18969999999999,null,{"$f":"E167*F167","v":0},1,{"$f":"E167*H167","v":128.18969999999999},null,{"$f":"E167*J167","v":0},null,null,null,2,null,null,null,null,null,null,null,null,null,null,null,3,1,"58344197R",null,null,null,null,null,null,null,null,null,null,null,null,null,null,null,null,null,null,null,null,null,null,1,{"$f":"IF(AZ167=1,G167,0)","v":0},{"$f":"IF(AZ167=2,G167,0)","v":0},{"$f":"IF(AZ167=3,G167,0)","v":0},{"$f":"IF(AZ167=4,G167,0)","v":0},{"$f":"IF(AZ167=5,G167,0)","v":0},null,null,null,null,null,null,null,null,null,null,null,null,null,null,null,null,null,null,null,null,null,3,1]
[null,null,"Stoka \"S\" PVC DN400:",null,0,null,null,null,null,null,null,null,"Stoka \"S\" PVC DN400:"]
[null,null,"Zásypy ŠD fr. 0-63 mm:67,7632*1,873*1,01",null,128.18969999999999,null,null,null,null,null,null,null,"Zásypy ŠD fr. 0-63 mm:67,7632*1,873*1,01"]
[null,"Celkem za","1 Zemní práce",null,null,null,{"$f":"SUM(G7:G169)","v":0},null,{"$f":"SUM(I7:I169)","v":215.7364278},null,{"$f":"SUM(K7:K169)","v":0},null,null,null,4,null,null,null,null,null,null,null,null,null,null,null,null,null,null,null,null,null,null,null,null,null,null,null,null,null,null,null,null,null,null,null,null,null,null,null,null,null,{"$f":"SUM(BA7:BA169)","v":0},{"$f":"SUM(BB7:BB169)","v":0},{"$f":"SUM(BC7:BC169)","v":0},{"$f":"SUM(BD7:BD169)","v":0},{"$f":"SUM(BE7:BE169)","v":0}]
["Díl:","21","Úprava podloží a základ.spáry",null,null,null,null,null,null,null,null,null,null,null,1]
[18,"215901101RT5","Zhutnění podloží do 92% PS vibrační deskou","m2",107.15,null,{"$f":"E172*F172","v":0},0,{"$f":"E172*H172","v":0},0,{"$f":"E172*J172","v":0},null,null,null,2,null,null,null,null,null,null,null,null,null,null,null,1,1,1,null,null,null,null,null,null,null,null,null,null,null,null,null,null,null,null,null,null,null,null,null,null,1,{"$f":"IF(AZ172=1,G172,0)","v":0},{"$f":"IF(AZ172=2,G172,0)","v":0},{"$f":"IF(AZ172=3,G172,0)","v":0},{"$f":"IF(AZ172=4,G172,0)","v":0},{"$f":"IF(AZ172=5,G172,0)","v":0},null,null,null,null,null,null,null,null,null,null,null,null,null,null,null,null,null,null,null,null,null,1,1]
[null,null,"Stoka \"S\" PVC DN400:",null,0,null,null,null,null,null,null,null,"Stoka \"S\" PVC DN400:"]
[null,null,"Kanalizační přípojky PVC DN150:",null,0,null,null,null,null,null,null,null,"Kanalizační přípojky PVC DN150:"]
[null,null,"KP (10 kusů):70,50*0,90",null,63.45,null,null,null,null,null,null,null,"KP (10 kusů):70,50*0,90"]
[null,null,"Kanalizační přípojky PVC DN200:",null,0,null,null,null,null,null,null,null,"Kanalizační přípojky PVC DN200:"]
[null,null,"KP (1 kus):12,00*0,90",null,10.8,null,null,null,null,null,null,null,"KP (1 kus):12,00*0,90"]
[null,null,"Kanalizační tlaková přípojka PE D50x4,6 mm:",null,0,null,null,null,null,null,null,null,"Kanalizační tlaková přípojka PE D50x4,6 mm:"]
[null,null,"KPT (1 kus) :47,00*0,70",null,32.9,null,null,null,null,null,null,null,"KPT (1 kus) :47,00*0,70"]
[null,"Celkem za","21 Úprava podloží a základ.spáry",null,null,null,{"$f":"SUM(G171:G179)","v":0},null,{"$f":"SUM(I171:I179)","v":0},null,{"$f":"SUM(K171:K179)","v":0},null,null,null,4,null,null,null,null,null,null,null,null,null,null,null,null,null,null,null,null,null,null,null,null,null,null,null,null,null,null,null,null,null,null,null,null,null,null,null,null,null,{"$f":"SUM(BA171:BA179)","v":0},{"$f":"SUM(BB171:BB179)","v":0},{"$f":"SUM(BC171:BC179)","v":0},{"$f":"SUM(BD171:BD179)","v":0},{"$f":"SUM(BE171:BE179)","v":0}]
["Díl:","45","Podkladní a vedlejší konstrukce",null,null,null,null,null,null,null,null,null,null,null,1]
[19,"451572111R00","Lože pod potrubí z kameniva těženého 0 - 4 mm ","m3",16.072500000000002,null,{"$f":"E182*F182","v":0},0.43051,{"$f":"E182*H182","v":6.9193719750000007},0,{"$f":"E182*J182","v":0},null,null,null,2,null,null,null,null,null,null,null,null,null,null,null,1,1,1,null,null,null,null,null,null,null,null,null,null,null,null,null,null,null,null,null,null,null,null,null,null,1,{"$f":"IF(AZ182=1,G182,0)","v":0},{"$f":"IF(AZ182=2,G182,0)","v":0},{"$f":"IF(AZ182=3,G182,0)","v":0},{"$f":"IF(AZ182=4,G182,0)","v":0},{"$f":"IF(AZ182=5,G182,0)","v":0},null,null,null,null,null,null,null,null,null,null,null,null,null,null,null,null,null,null,null,null,null,1,1]
[null,null,"Stoka \"S\" PVC DN400:",null,0,null,null,null,null,null,null,null,"Stoka \"S\" PVC DN400:"]
[null,null,"Kanalizační přípojky PVC DN150:",null,0,null,null,null,null,null,null,null,"Kanalizační přípojky PVC DN150:"]
[null,null,"KP (10 kusů):70,50*0,90*0,15",null,9.5175000000000001,null,null,null,null,null,null,null,"KP (10 kusů):70,50*0,90*0,15"]
[null,null,"Kanalizační přípojky PVC DN200:",null,0,null,null,null,null,null,null,null,"Kanalizační přípojky PVC DN200:"]
[null,null,"KP (1 kus):12,00*0,90*0,15",null,1.62,null,null,null,null,null,null,null,"KP (1 kus):12,00*0,90*0,15"]
[null,null,"Kanalizační tlaková přípojka PE D50x4,6 mm:",null,0,null,null,null,null,null,null,null,"Kanalizační tlaková přípojka PE D50x4,6 mm:"]
[null,null,"KPT (1 kus) :47,00*0,70*0,15",null,4.9349999999999996,null,null,null,null,null,null,null,"KPT (1 kus) :47,00*0,70*0,15"]
[null,"Celkem za","45 Podkladní a vedlejší konstrukce",null,null,null,{"$f":"SUM(G181:G189)","v":0},null,{"$f":"SUM(I181:I189)","v":6.9193719750000007},null,{"$f":"SUM(K181:K189)","v":0},null,null,null,4,null,null,null,null,null,null,null,null,null,null,null,null,null,null,null,null,null,null,null,null,null,null,null,null,null,null,null,null,null,null,null,null,null,null,null,null,null,{"$f":"SUM(BA181:BA189)","v":0},{"$f":"SUM(BB181:BB189)","v":0},{"$f":"SUM(BC181:BC189)","v":0},{"$f":"SUM(BD181:BD189)","v":0},{"$f":"SUM(BE181:BE189)","v":0}]
["Díl:","5","Komunikace",null,null,null,null,null,null,null,null,null,null,null,1]
[20,"572701119RRX","Provizorní zásyp rýh kam. hrubě drceným nebo recyk s následným odstraněním a odvozem","m3",19.62,null,{"$f":"E192*F192","v":0},1.4804999999999999,{"$f":"E192*H192","v":29.047409999999999},0,{"$f":"E192*J192","v":0},null,null,null,2,null,null,null,null,null,null,null,null,null,null,null,1,1,1,null,null,null,null,null,null,null,null,null,null,null,null,null,null,null,null,null,null,null,null,null,null,1,{"$f":"IF(AZ192=1,G192,0)","v":0},{"$f":"IF(AZ192=2,G192,0)","v":0},{"$f":"IF(AZ192=3,G192,0)","v":0},{"$f":"IF(AZ192=4,G192,0)","v":0},{"$f":"IF(AZ192=5,G192,0)","v":0},null,null,null,null,null,null,null,null,null,null,null,null,null,null,null,null,null,null,null,null,null,1,1]
[null,null,"Stoka \"S\" PVC DN400:",null,0,null,null,null,null,null,null,null,"Stoka \"S\" PVC DN400:"]
[null,null,"Kanalizační přípojky PVC DN150:",null,0,null,null,null,null,null,null,null,"Kanalizační přípojky PVC DN150:"]
[null,null,"KP (10 kusů):48,50*0,90*0,40",null,17.46,null,null,null,null,null,null,null,"KP (10 kusů):48,50*0,90*0,40"]
[null,null,"Kanalizační přípojky PVC DN200:",null,0,null,null,null,null,null,null,null,"Kanalizační přípojky PVC DN200:"]
[null,null,"KP (1 kus):6,00*0,90*0,40",null,2.16,null,null,null,null,null,null,null,"KP (1 kus):6,00*0,90*0,40"]
[null,"Celkem za","5 Komunikace",null,null,null,{"$f":"SUM(G191:G197)","v":0},null,{"$f":"SUM(I191:I197)","v":29.047409999999999},null,{"$f":"SUM(K191:K197)","v":0},null,null,null,4,null,null,null,null,null,null,null,null,null,null,null,null,null,null,null,null,null,null,null,null,null,null,null,null,null,null,null,null,null,null,null,null,null,null,null,null,null,{"$f":"SUM(BA191:BA197)","v":0},{"$f":"SUM(BB191:BB197)","v":0},{"$f":"SUM(BC191:BC197)","v":0},{"$f":"SUM(BD191:BD197)","v":0},{"$f":"SUM(BE191:BE197)","v":0}]
["Díl:","8","Trubní vedení",null,null,null,null,null,null,null,null,null,null,null,1]
[21,"871181121R00","Montáž trubek polyetylenových ve výkopu d 50 mm ","m",47,null,{"$f":"E200*F200","v":0},0,{"$f":"E200*H200","v":0},0,{"$f":"E200*J200","v":0},null,null,null,2,null,null,null,null,null,null,null,null,null,null,null,1,1,1,null,null,null,null,null,null,null,null,null,null,null,null,null,null,null,null,null,null,null,null,null,null,1,{"$f":"IF(AZ200=1,G200,0)","v":0},{"$f":"IF(AZ200=2,G200,0)","v":0},{"$f":"IF(AZ200=3,G200,0)","v":0},{"$f":"IF(AZ200=4,G200,0)","v":0},{"$f":"IF(AZ200=5,G200,0)","v":0},null,null,null,null,null,null,null,null,null,null,null,null,null,null,null,null,null,null,null,null,null,1,1]
[null,null,"Stoka \"S\" PVC DN400:",null,0,null,null,null,null,null,null,null,"Stoka \"S\" PVC DN400:"]
[null,null,"Kanalizační tlaková přípojka PE D50x4,6 mm:",null,0,null,null,null,null,null,null,null,"Kanalizační tlaková přípojka PE D50x4,6 mm:"]
[null,null,"KPT (1 kus) :47,00",null,47,null,null,null,null,null,null,null,"KPT (1 kus) :47,00"]
[22,"871313121R00","Montáž trub z plastu, gumový kroužek, DN 150 ","m",70.5,null,{"$f":"E204*F204","v":0},0,{"$f":"E204*H204","v":0},0,{"$f":"E204*J204","v":0},null,null,null,2,null,null,null,null,null,null,null,null,null,null,null,1,0,0,null,null,null,null,null,null,null,null,null,null,null,null,null,null,null,null,null,null,null,null,null,null,1,{"$f":"IF(AZ204=1,G204,0)","v":0},{"$f":"IF(AZ204=2,G204,0)","v":0},{"$f":"IF(AZ204=3,G204,0)","v":0},{"$f":"IF(AZ204=4,G204,0)","v":0},{"$f":"IF(AZ204=5,G204,0)","v":0},null,null,null,null,null,null,null,null,null,null,null,null,null,null,null,null,null,null,null,null,null,1,0]
[null,null,"V položce je uvažováno s jedním spojem na 6 m potrubí. Položka je určena pro montáž potrubí z kanalizačních trub z plastu těsněných gumovým kroužkem v otevřeném výkopu ve sklonu do 20 %.",null,null,null,null,null,null,null,null,"V položce je uvažováno s jedním spojem na 6 m potrubí. Položka je určena pro montáž potrubí z kanalizačních trub z plastu těsněných gumovým kroužkem v otevřeném výkopu ve sklonu do 20 %.",null,null,3]
[null,null,"Stoka \"S\" PVC DN400:",null,0,null,null,null,null,null,null,null,"Stoka \"S\" PVC DN400:"]
[null,null,"Kanalizační přípojky PVC DN150:",null,0,null,null,null,null,null,null,null,"Kanalizační přípojky PVC DN150:"]
[null,null,"KP (10 kusů):70,50",null,70.5,null,null,null,null,null,null,null,"KP (10 kusů):70,50"]
[23,"871353121R00","Montáž trub z plastu, gumový kroužek, DN 200 ","m",12,null,{"$f":"E209*F209","v":0},1.0000000000000001E-5,{"$f":"E209*H209","v":1.2000000000000002E-4},0,{"$f":"E209*J209","v":0},null,null,null,2,null,null,null,null,null,null,null,null,null,null,null,1,1,1,null,null,null,null,null,null,null,null,null,null,null,null,null,null,null,null,null,null,null,null,null,null,1,{"$f":"IF(AZ209=1,G209,0)","v":0},{"$f":"IF(AZ209=2,G209,0)","v":0},{"$f":"IF(AZ209=3,G209,0)","v":0},{"$f":"IF(AZ209=4,G209,0)","v":0},{"$f":"IF(AZ209=5,G209,0)","v":0},null,null,null,null,null,null,null,null,null,null,null,null,null,null,null,null,null,null,null,null,null,1,1]
[null,null,"V položce je uvažováno s jedním spojem na 6 m potrubí. Položka je určena pro montáž potrubí z kanalizačních trub z plastu těsněných gumovým kroužkem v otevřeném výkopu ve sklonu do 20 %.",null,null,null,null,null,null,null,null,"V položce je uvažováno s jedním spojem na 6 m potrubí. Položka je určena pro montáž potrubí z kanalizačních trub z plastu těsněných gumovým kroužkem v otevřeném výkopu ve sklonu do 20 %.",null,null,3]
[null,null,"Stoka \"S\" PVC DN400:",null,0,null,null,null,null,null,null,null,"Stoka \"S\" PVC DN400:"]
[null,null,"Kanalizační přípojky PVC DN200:",null,0,null,null,null,null,null,null,null,"Kanalizační přípojky PVC DN200:"]
[null,null,"KP (1 kus):12,00",null,12,null,null,null,null,null,null,null,"KP (1 kus):12,00"]
[24,"877313123R00","Montáž tvarovek jednoos. plast. gum.kroužek DN 150 ","kus",20,null,{"$f":"E214*F214","v":0},1.0000000000000001E-5,{"$f":"E214*H214","v":2.0000000000000001E-4},0,{"$f":"E214*J214","v":0},null,null,null,2,null,null,null,null,null,null,null,null,null,null,null,1,1,1,null,null,null,null,null,null,null,null,null,null,null,null,null,null,null,null,null,null,null,null,null,null,1,{"$f":"IF(AZ214=1,G214,0)","v":0},{"$f":"IF(AZ214=2,G214,0)","v":0},{"$f":"IF(AZ214=3,G214,0)","v":0},{"$f":"IF(AZ214=4,G214,0)","v":0},{"$f":"IF(AZ214=5,G214,0)","v":0},null,null,null,null,null,null,null,null,null,null,null,null,null,null,null,null,null,null,null,null,null,1,1]
[null,null,"Položka je určena pro montáž tvarovek jednoosých na potrubí z kanalizačních trub z plastu těsněných gumovým kroužkem v otevřeném výkopu.",null,null,null,null,null,null,null,null,"Položka je určena pro montáž tvarovek jednoosých na potrubí z kanalizačních trub z plastu těsněných gumovým kroužkem v otevřeném výkopu.",null,null,3]
[null,null,"Stoka \"S\" PVC DN400:",null,0,null,null,null,null,null,null,null,"Stoka \"S\" PVC DN400:"]
[null,null,"Kanalizační přípojky PVC DN150:",null,0,null,null,null,null,null,null,null,"Kanalizační přípojky PVC DN150:"]
[null,null,"KP (10 kusů) - Kolena:20",null,20,null,null,null,null,null,null,null,"KP (10 kusů) - Kolena:20"]
[25,"877353123R00","Montáž tvarovek jednoos. plast. gum.kroužek DN 200 ","kus",2,null,{"$f":"E219*F219","v":0},2.0000000000000002E-5,{"$f":"E219*H219","v":4.0000000000000003E-5},0,{"$f":"E219*J219","v":0},null,null,null,2,null,null,null,null,null,null,null,null,null,null,null,1,1,1,null,null,null,null,null,null,null,null,null,null,null,null,null,null,null,null,null,null,null,null,null,null,1,{"$f":"IF(AZ219=1,G219,0)","v":0},{"$f":"IF(AZ219=2,G219,0)","v":0},{"$f":"IF(AZ219=3,G219,0)","v":0},{"$f":"IF(AZ219=4,G219,0)","v":0},{"$f":"IF(AZ219=5,G219,0)","v":0},null,null,null,null,null,null,null,null,null,null,null,null,null,null,null,null,null,null,null,null,null,1,1]
[null,null,"Položka je určena pro montáž tvarovek jednoosých na potrubí z kanalizačních trub z plastu těsněných gumovým kroužkem v otevřeném výkopu.",null,null,null,null,null,null,null,null,"Položka je určena pro montáž tvarovek jednoosých na potrubí z kanalizačních trub z plastu těsněných gumovým kroužkem v otevřeném výkopu.",null,null,3]
[null,null,"Stoka \"S\" PVC DN400:",null,0,null,null,null,null,null,null,null,"Stoka \"S\" PVC DN400:"]
[null,null,"Kanalizační přípojky PVC DN200:",null,0,null,null,null,null,null,null,null,"Kanalizační přípojky PVC DN200:"]
[null,null,"KP (1 kus) - Kolena:2",null,2,null,null,null,null,null,null,null,"KP (1 kus) - Kolena:2"]
[26,"891183439RX0","Přepojení potrubí PVC na přípojkách DN 150 včetně dodávky přepojovací tvarovky","kus",10,null,{"$f":"E224*F224","v":0},4.6000000000000001E-4,{"$f":"E224*H224","v":4.5999999999999999E-3},0,{"$f":"E224*J224","v":0},null,null,null,2,null,null,null,null,null,null,null,null,null,null,null,1,1,1,null,null,null,null,null,null,null,null,null,null,null,null,null,null,null,null,null,null,null,null,null,null,1,{"$f":"IF(AZ224=1,G224,0)","v":0},{"$f":"IF(AZ224=2,G224,0)","v":0},{"$f":"IF(AZ224=3,G224,0)","v":0},{"$f":"IF(AZ224=4,G224,0)","v":0},{"$f":"IF(AZ224=5,G224,0)","v":0},null,null,null,null,null,null,null,null,null,null,null,null,null,null,null,null,null,null,null,null,null,1,1]
[null,null,"Položka obsahuje přerušení stávajícího potrubí DN150, dodávku a montáž příslušné tvarovky pro napojení nového PVC potrubí DN150 na stávající potrubí. ",null,null,null,null,null,null,null,null,"Položka obsahuje přerušení stávajícího potrubí DN150, dodávku a montáž příslušné tvarovky pro napojení nového PVC potrubí DN150 na stávající potrubí. ",null,null,3]
[null,null,"Stoka \"S\" PVC DN400:",null,0,null,null,null,null,null,null,null,"Stoka \"S\" PVC DN400:"]
[null,null,"Kanalizační přípojky PVC DN150:",null,0,null,null,null,null,null,null,null,"Kanalizační přípojky PVC DN150:"]
[null,null,"KP (10 kusů):10",null,10,null,null,null,null,null,null,null,"KP (10 kusů):10"]
[27,"891183440RX0","Přepojení potrubí PVC na přípojkách DN 200 včetně dodávky přepojovací tvarovky","kus",1,null,{"$f":"E229*F229","v":0},4.6000000000000001E-4,{"$f":"E229*H229","v":4.6000000000000001E-4},0,{"$f":"E229*J229","v":0},null,null,null,2,null,null,null,null,null,null,null,null,null,null,null,1,1,1,null,null,null,null,null,null,null,null,null,null,null,null,null,null,null,null,null,null,null,null,null,null,1,{"$f":"IF(AZ229=1,G229,0)","v":0},{"$f":"IF(AZ229=2,G229,0)","v":0},{"$f":"IF(AZ229=3,G229,0)","v":0},{"$f":"IF(AZ229=4,G229,0)","v":0},{"$f":"IF(AZ229=5,G229,0)","v":0},null,null,null,null,null,null,null,null,null,null,null,null,null,null,null,null,null,null,null,null,null,1,1]
[null,null,"Položka obsahuje přerušení stávajícího potrubí potrubí DN200, dodávku a montáž příslušné tvarovky pro napojení nového PVC potrubí DN200 na stávající  potrubí. ",null,null,null,null,null,null,null,null,"Položka obsahuje přerušení stávajícího potrubí potrubí DN200, dodávku a montáž příslušné tvarovky pro napojení nového PVC potrubí DN200 na stávající  potrubí. ",null,null,3]
[null,null,"Stoka \"S\" PVC DN400:",null,0,null,null,null,null,null,null,null,"Stoka \"S\" PVC DN400:"]
[null,null,"Kanalizační přípojky PVC DN200:",null,0,null,null,null,null,null,null,null,"Kanalizační přípojky PVC DN200:"]
[null,null,"KP (1 kus):1",null,1,null,null,null,null,null,null,null,"KP (1 kus):1"]
[28,"892601121R00","Čištění kanalizační stoky do DN 200, do 15 m ","úsek",11,null,{"$f":"E234*F234","v":0},0,{"$f":"E234*H234","v":0},0,{"$f":"E234*J234","v":0},null,null,null,2,null,null,null,null,null,null,null,null,null,null,null,1,1,1,null,null,null,null,null,null,null,null,null,null,null,null,null,null,null,null,null,null,null,null,null,null,1,{"$f":"IF(AZ234=1,G234,0)","v":0},{"$f":"IF(AZ234=2,G234,0)","v":0},{"$f":"IF(AZ234=3,G234,0)","v":0},{"$f":"IF(AZ234=4,G234,0)","v":0},{"$f":"IF(AZ234=5,G234,0)","v":0},null,null,null,null,null,null,null,null,null,null,null,null,null,null,null,null,null,null,null,null,null,1,1]
[null,null,"V položce je zakalkulováno:",null,null,null,null,null,null,null,null,"V položce je zakalkulováno:",null,null,3]
[null,null,"a) otevření a uzavření revizních šachet a čisticích kusů",null,null,null,null,null,null,null,null,"a) otevření a uzavření revizních šachet a čisticích kusů",null,null,3]
[null,null,"b) natažení vysokotlakých hadic k místu odkud se bude kanalizace čistit",null,null,null,null,null,null,null,null,"b) natažení vysokotlakých hadic k místu odkud se bude kanalizace čistit",null,null,3]
[null,null,"c) vyčištění potrubí tlakovou vodou nebo motorovým pérem.",null,null,null,null,null,null,null,null,"c) vyčištění potrubí tlakovou vodou nebo motorovým pérem.",null,null,3]
[null,null,"Stoka \"S\" PVC DN400:",null,0,null,null,null,null,null,null,null,"Stoka \"S\" PVC DN400:"]
[null,null,"Kanalizační přípojky PVC DN150:",null,0,null,null,null,null,null,null,null,"Kanalizační přípojky PVC DN150:"]
[null,null,"KP (10 kusů):10",null,10,null,null,null,null,null,null,null,"KP (10 kusů):10"]
[null,null,"Kanalizační přípojky PVC DN200:",null,0,null,null,null,null,null,null,null,"Kanalizační přípojky PVC DN200:"]
[null,null,"KP (1 kus) :1",null,1,null,null,null,null,null,null,null,"KP (1 kus) :1"]
[29,"892855111R00","Kontrola kanalizace TV kamerou do 15 m ","úsek",11,null,{"$f":"E244*F244","v":0},0,{"$f":"E244*H244","v":0},0,{"$f":"E244*J244","v":0},null,null,null,2,null,null,null,null,null,null,null,null,null,null,null,1,1,1,null,null,null,null,null,null,null,null,null,null,null,null,null,null,null,null,null,null,null,null,null,null,1,{"$f":"IF(AZ244=1,G244,0)","v":0},{"$f":"IF(AZ244=2,G244,0)","v":0},{"$f":"IF(AZ244=3,G244,0)","v":0},{"$f":"IF(AZ244=4,G244,0)","v":0},{"$f":"IF(AZ244=5,G244,0)","v":0},null,null,null,null,null,null,null,null,null,null,null,null,null,null,null,null,null,null,null,null,null,1,1]
[null,null,"Stoka \"S\" PVC DN400:",null,0,null,null,null,null,null,null,null,"Stoka \"S\" PVC DN400:"]
[null,null,"Kanalizační přípojky PVC DN150:",null,0,null,null,null,null,null,null,null,"Kanalizační přípojky PVC DN150:"]
[null,null,"KP (10 kusů):10",null,10,null,null,null,null,null,null,null,"KP (10 kusů):10"]
[null,null,"Kanalizační přípojky PVC DN200:",null,0,null,null,null,null,null,null,null,"Kanalizační přípojky PVC DN200:"]
[null,null,"KP (1 kus) :1",null,1,null,null,null,null,null,null,null,"KP (1 kus) :1"]
[30,"894431322RAB","Šachta, D 425 mm, dl.šach.roury 2,0 m, 1 přítok dno KG D 160 mm, poklop šedá litina 40 t","kus",5,null,{"$f":"E250*F250","v":0},9.3659999999999993E-2,{"$f":"E250*H250","v":0.46829999999999994},0,{"$f":"E250*J250","v":0},null,null,null,2,null,null,null,null,null,null,null,null,null,null,null,1,1,1,null,null,null,null,null,null,null,null,null,null,null,null,null,null,null,null,null,null,null,null,null,null,1,{"$f":"IF(AZ250=1,G250,0)","v":0},{"$f":"IF(AZ250=2,G250,0)","v":0},{"$f":"IF(AZ250=3,G250,0)","v":0},{"$f":"IF(AZ250=4,G250,0)","v":0},{"$f":"IF(AZ250=5,G250,0)","v":0},null,null,null,null,null,null,null,null,null,null,null,null,null,null,null,null,null,null,null,null,null,1,1]
[null,null,"Plastové dno, šachta z korugované trouby, těsnění, šachtová roura teleskopická, rám do teleskopické trouby, poklop litinový.",null,null,null,null,null,null,null,null,"Plastové dno, šachta z korugované trouby, těsnění, šachtová roura teleskopická, rám do teleskopické trouby, poklop litinový.",null,null,3]
[31,"894431332RAB","Šachta, D 425 mm, dl.šach.roury 3,0 m, 1 přítok dno KG D 160 mm, poklop šedá litina 40 t","kus",2,null,{"$f":"E252*F252","v":0},0.10087,{"$f":"E252*H252","v":0.20174},0,{"$f":"E252*J252","v":0},null,null,null,2,null,null,null,null,null,null,null,null,null,null,null,1,1,1,null,null,null,null,null,null,null,null,null,null,null,null,null,null,null,null,null,null,null,null,null,null,1,{"$f":"IF(AZ252=1,G252,0)","v":0},{"$f":"IF(AZ252=2,G252,0)","v":0},{"$f":"IF(AZ252=3,G252,0)","v":0},{"$f":"IF(AZ252=4,G252,0)","v":0},{"$f":"IF(AZ252=5,G252,0)","v":0},null,null,null,null,null,null,null,null,null,null,null,null,null,null,null,null,null,null,null,null,null,1,1]
[null,null,"Plastové dno, šachta z korugované trouby, těsnění, šachtová roura teleskopická, rám do teleskopické trouby, poklop litinový.",null,null,null,null,null,null,null,null,"Plastové dno, šachta z korugované trouby, těsnění, šachtová roura teleskopická, rám do teleskopické trouby, poklop litinový.",null,null,3]
[32,"899711122R00","Fólie výstražná z PVC šedá, šířka 30 cm ","m",129.5,null,{"$f":"E254*F254","v":0},0,{"$f":"E254*H254","v":0},0,{"$f":"E254*J254","v":0},null,null,null,2,null,null,null,null,null,null,null,null,null,null,null,1,1,1,null,null,null,null,null,null,null,null,null,null,null,null,null,null,null,null,null,null,null,null,null,null,1,{"$f":"IF(AZ254=1,G254,0)","v":0},{"$f":"IF(AZ254=2,G254,0)","v":0},{"$f":"IF(AZ254=3,G254,0)","v":0},{"$f":"IF(AZ254=4,G254,0)","v":0},{"$f":"IF(AZ254=5,G254,0)","v":0},null,null,null,null,null,null,null,null,null,null,null,null,null,null,null,null,null,null,null,null,null,1,1]
[null,null,"Stoka \"S\" PVC DN400:",null,0,null,null,null,null,null,null,null,"Stoka \"S\" PVC DN400:"]
[null,null,"Kanalizační přípojky PVC DN150:",null,0,null,null,null,null,null,null,null,"Kanalizační přípojky PVC DN150:"]
[null,null,"KP (10 kusů):70,50",null,70.5,null,null,null,null,null,null,null,"KP (10 kusů):70,50"]
[null,null,"Kanalizační přípojky PVC DN200:",null,0,null,null,null,null,null,null,null,"Kanalizační přípojky PVC DN200:"]
[null,null,"KP (1 kus):12,00",null,12,null,null,null,null,null,null,null,"KP (1 kus):12,00"]
[null,null,"Kanalizační tlaková přípojka PE D50x4,6 mm:",null,0,null,null,null,null,null,null,null,"Kanalizační tlaková přípojka PE D50x4,6 mm:"]
[null,null,"KPT (1 kus) :47,00",null,47,null,null,null,null,null,null,null,"KPT (1 kus) :47,00"]
[33,"899731114R00","Vodič signalizační CYY 6 mm2 ","m",50,null,{"$f":"E262*F262","v":0},8.0000000000000007E-5,{"$f":"E262*H262","v":4.0000000000000001E-3},0,{"$f":"E262*J262","v":0},null,null,null,2,null,null,null,null,null,null,null,null,null,null,null,1,1,1,null,null,null,null,null,null,null,null,null,null,null,null,null,null,null,null,null,null,null,null,null,null,1,{"$f":"IF(AZ262=1,G262,0)","v":0},{"$f":"IF(AZ262=2,G262,0)","v":0},{"$f":"IF(AZ262=3,G262,0)","v":0},{"$f":"IF(AZ262=4,G262,0)","v":0},{"$f":"IF(AZ262=5,G262,0)","v":0},null,null,null,null,null,null,null,null,null,null,null,null,null,null,null,null,null,null,null,null,null,1,1]
[null,null,"Součástí položky je zajištění proměření vodiče a výchozí zevize.",null,null,null,null,null,null,null,null,"Součástí položky je zajištění proměření vodiče a výchozí zevize.",null,null,3]
[null,null,"Stoka \"S\" PVC DN400:",null,0,null,null,null,null,null,null,null,"Stoka \"S\" PVC DN400:"]
[null,null,"Kanalizační tlaková přípojka PE D50x4,6 mm:",null,0,null,null,null,null,null,null,null,"Kanalizační tlaková přípojka PE D50x4,6 mm:"]
[null,null,"KPT (1 kus) :47,00+2*1,50",null,50,null,null,null,null,null,null,null,"KPT (1 kus) :47,00+2*1,50"]
[34,"899 60-7001.SUB","Dodávka a osazení technologie DČS pro čp.716 ","soubor",1,null,{"$f":"E267*F267","v":0},0,{"$f":"E267*H267","v":0},null,{"$f":"E267*J267","v":0},null,null,null,2,null,null,null,null,null,null,null,null,null,null,null,11,0,38,null,null,null,null,null,null,null,null,null,null,null,null,null,null,null,null,null,null,null,null,null,null,1,{"$f":"IF(AZ267=1,G267,0)","v":0},{"$f":"IF(AZ267=2,G267,0)","v":0},{"$f":"IF(AZ267=3,G267,0)","v":0},{"$f":"IF(AZ267=4,G267,0)","v":0},{"$f":"IF(AZ267=5,G267,0)","v":0},null,null,null,null,null,null,null,null,null,null,null,null,null,null,null,null,null,null,null,null,null,11,0]
[null,null,"Provedení dle popisu v PD",null,null,null,null,null,null,null,null,"Provedení dle popisu v PD",null,null,3]
[35,"286111904.R","Trubka kanalizační PVC QUANTUM SN 12 DN 160","m",72.614999999999995,null,{"$f":"E269*F269","v":0},5.1000000000000004E-3,{"$f":"E269*H269","v":0.37033650000000001},null,{"$f":"E269*J269","v":0},null,null,null,2,null,null,null,null,null,null,null,null,null,null,null,3,1,"286111904.R",null,null,null,null,null,null,null,null,null,null,null,null,null,null,null,null,null,null,null,null,null,null,1,{"$f":"IF(AZ269=1,G269,0)","v":0},{"$f":"IF(AZ269=2,G269,0)","v":0},{"$f":"IF(AZ269=3,G269,0)","v":0},{"$f":"IF(AZ269=4,G269,0)","v":0},{"$f":"IF(AZ269=5,G269,0)","v":0},null,null,null,null,null,null,null,null,null,null,null,null,null,null,null,null,null,null,null,null,null,3,1]
[null,null,"Jedná  se  o  plnostěnné kanalizační trubky DN 150 – DN 400, SN 12 kN/m2 , zvenčí  i  zevnitř  hladké. Jsou  opatřeny hrdlem,  v  němž  je  vložen vysoce  elastický  jazýčkový  kroužek.  konce  trubek  (dříků)  jsou opatřeny  zkosením  pod  úhlem  15°.  Způsob  použití  trubek  je  „U“  dle  normy  ČSN  EN  1401-1, tj. mimo budovy. Spolehlivá  funkce  těsnění  je  jištěna  výztužným  kroužkem  z  elastomeru.  Je  tak  zamezeno  vypad-nutí nebo vytlačení kroužku při manipulaci a montáži. Tento systém zaručuje při správné montáži ",null,null,null,null,null,null,null,null,"Jedná  se  o  plnostěnné kanalizační trubky DN 150 – DN 400, SN 12 kN/m2 , zvenčí  i  zevnitř  hladké. Jsou  opatřeny hrdlem,  v  němž  je  vložen vysoce  elastický  jazýčkový  kroužek.  konce  trubek  (dříků)  jsou opatřeny  zkosením  pod  úhlem  15°.  Způsob  použití  trubek  je  „U“  dle  normy  ČSN  EN  1401-1, tj. mimo budovy. Spolehlivá  funkce  těsnění  je  jištěna  výztužným  kroužkem  z  elastomeru.  Je  tak  zamezeno  vypad-nutí nebo vytlačení kroužku při manipulaci a montáži. Tento systém zaručuje při správné montáži ",null,null,3]
[null,null,"dokonalou  těsnost  do  výšky  vodního  sloupce  5  metrů.",null,null,null,null,null,null,null,null,"dokonalou  těsnost  do  výšky  vodního  sloupce  5  metrů.",null,null,3]
[null,null,null,null,null,null,null,null,null,null,null,null,null,null,3]
[null,null,"Teplota při pokládce: min. -10 °C, max. 50 °C",null,null,null,null,null,null,null,null,"Teplota při pokládce: min. -10 °C, max. 50 °C",null,null,3]
[null,null,"Max. teplota média: trvale do 40 °C, krátkodobě do 60 °C",null,null,null,null,null,null,null,null,"Max. teplota média: trvale do 40 °C, krátkodobě do 60 °C",null,null,3]
[null,null,"Orientační výška krytí: min. 0,5 m, max. 10 m",null,null,null,null,null,null,null,null,"Orientační výška krytí: min. 0,5 m, max. 10 m",null,null,3]
[null,null,"Max. rychlost média: 12 m/s",null,null,null,null,null,null,null,null,"Max. rychlost média: 12 m/s",null,null,3]
[null,null,"Stoka \"S\" PVC DN400:",null,0,null,null,null,null,null,null,null,"Stoka \"S\" PVC DN400:"]
[null,null,"Kanalizační přípojky PVC DN150:",null,0,null,null,null,null,null,null,null,"Kanalizační přípojky PVC DN150:"]
[null,null,"KP (10 kusů):70,50*1,03",null,72.614999999999995,null,null,null,null,null,null,null,"KP (10 kusů):70,50*1,03"]
[36,"286111914.R","Trubka kanalizační PVC QUANTUM SN 12 DN 200","m",12.36,null,{"$f":"E280*F280","v":0},7.1000000000000004E-3,{"$f":"E280*H280","v":8.7756000000000001E-2},null,{"$f":"E280*J280","v":0},null,null,null,2,null,null,null,null,null,null,null,null,null,null,null,3,1,"286111914.R",null,null,null,null,null,null,null,null,null,null,null,null,null,null,null,null,null,null,null,null,null,null,1,{"$f":"IF(AZ280=1,G280,0)","v":0},{"$f":"IF(AZ280=2,G280,0)","v":0},{"$f":"IF(AZ280=3,G280,0)","v":0},{"$f":"IF(AZ280=4,G280,0)","v":0},{"$f":"IF(AZ280=5,G280,0)","v":0},null,null,null,null,null,null,null,null,null,null,null,null,null,null,null,null,null,null,null,null,null,3,1]
[null,null,"Jedná  se  o  plnostěnné kanalizační trubky DN 150 – DN 400, SN 12 kN/m2 , zvenčí  i  zevnitř  hladké. Jsou  opatřeny hrdlem,  v  němž  je  vložen vysoce  elastický  jazýčkový  kroužek.  konce  trubek  (dříků)  jsou opatřeny  zkosením  pod  úhlem  15°.  Způsob  použití  trubek  je  „U“  dle  normy  ČSN  EN  1401-1, tj. mimo budovy. Spolehlivá  funkce  těsnění  je  jištěna  výztužným  kroužkem  z  elastomeru.  Je  tak  zamezeno  vypad-nutí nebo vytlačení kroužku při manipulaci a montáži. Tento systém zaručuje při správné montáži ",null,null,null,null,null,null,null,null,"Jedná  se  o  plnostěnné kanalizační trubky DN 150 – DN 400, SN 12 kN/m2 , zvenčí  i  zevnitř  hladké. Jsou  opatřeny hrdlem,  v  němž  je  vložen vysoce  elastický  jazýčkový  kroužek.  konce  trubek  (dříků)  jsou opatřeny  zkosením  pod  úhlem  15°.  Způsob  použití  trubek  je  „U“  dle  normy  ČSN  EN  1401-1, tj. mimo budovy. Spolehlivá  funkce  těsnění  je  jištěna  výztužným  kroužkem  z  elastomeru.  Je  tak  zamezeno  vypad-nutí nebo vytlačení kroužku při manipulaci a montáži. Tento systém zaručuje při správné montáži ",null,null,3]
[null,null,"dokonalou  těsnost  do  výšky  vodního  sloupce  5  metrů.",null,null,null,null,null,null,null,null,"dokonalou  těsnost  do  výšky  vodního  sloupce  5  metrů.",null,null,3]
[null,null,"Stoka \"S\" PVC DN400:",null,0,null,null,null,null,null,null,null,"Stoka \"S\" PVC DN400:"]
[null,null,"Kanalizační přípojky PVC DN200:",null,0,null,null,null,null,null,null,null,"Kanalizační přípojky PVC DN200:"]
[null,null,"KP (1 kus):12,00*1,03",null,12.36,null,null,null,null,null,null,null,"KP (1 kus):12,00*1,03"]
[37,"286135204.R","Trubka kanal. AQUALINE PE100RC2 50x4,6 mm PN16 včetně propojovacích tvarovek","m",47.704999999999998,null,{"$f":"E286*F286","v":0},6.7000000000000002E-4,{"$f":"E286*H286","v":3.196235E-2},null,{"$f":"E286*J286","v":0},null,null,null,2,null,null,null,null,null,null,null,null,null,null,null,3,1,"286135204.R",null,null,null,null,null,null,null,null,null,null,null,null,null,null,null,null,null,null,null,null,null,null,1,{"$f":"IF(AZ286=1,G286,0)","v":0},{"$f":"IF(AZ286=2,G286,0)","v":0},{"$f":"IF(AZ286=3,G286,0)","v":0},{"$f":"IF(AZ286=4,G286,0)","v":0},{"$f":"IF(AZ286=5,G286,0)","v":0},null,null,null,null,null,null,null,null,null,null,null,null,null,null,null,null,null,null,null,null,null,3,1]
[null,null,"Kanalizační PE tlaková trubka AQUALINE RC2 dle normy EN 12 201 (sk.39D)",null,null,null,null,null,null,null,null,"Kanalizační PE tlaková trubka AQUALINE RC2 dle normy EN 12 201 (sk.39D)",null,null,3]
[null,null,"Dvouvrstvá - vnější vrstva PE 100RC hnědá (10 % tloušťky)",null,null,null,null,null,null,null,null,"Dvouvrstvá - vnější vrstva PE 100RC hnědá (10 % tloušťky)",null,null,3]
[null,null,"                       vnitřní vrstva PE 100RC černá (90 % tloušťky)",null,null,null,null,null,null,null,null,"                       vnitřní vrstva PE 100RC černá (90 % tloušťky)",null,null,3]
[null,null,"Návin 100 m",null,null,null,null,null,null,null,null,"Návin 100 m",null,null,3]
[null,null,"Stoka \"S\" PVC DN400:",null,0,null,null,null,null,null,null,null,"Stoka \"S\" PVC DN400:"]
[null,null,"Kanalizační tlaková přípojka PE D50x4,6 mm:",null,0,null,null,null,null,null,null,null,"Kanalizační tlaková přípojka PE D50x4,6 mm:"]
[null,null,"KPT (1 kus) :47,00*1,015",null,47.704999999999998,null,null,null,null,null,null,null,"KPT (1 kus) :47,00*1,015"]
[38,"286506003.R","Koleno kanalizační PVC SDR 34 DN 160 Kolena s úhlem 15°, 30°, 45° a 90°","kus",20.3,null,{"$f":"E294*F294","v":0},1.2700000000000001E-3,{"$f":"E294*H294","v":2.5781000000000002E-2},null,{"$f":"E294*J294","v":0},null,null,null,2,null,null,null,null,null,null,null,null,null,null,null,3,1,"286506003.R",null,null,null,null,null,null,null,null,null,null,null,null,null,null,null,null,null,null,null,null,null,null,1,{"$f":"IF(AZ294=1,G294,0)","v":0},{"$f":"IF(AZ294=2,G294,0)","v":0},{"$f":"IF(AZ294=3,G294,0)","v":0},{"$f":"IF(AZ294=4,G294,0)","v":0},{"$f":"IF(AZ294=5,G294,0)","v":0},null,null,null,null,null,null,null,null,null,null,null,null,null,null,null,null,null,null,null,null,null,3,1]
[null,null,"Tvarovky kanalizačního systému PVC SDR 34",null,null,null,null,null,null,null,null,"Tvarovky kanalizačního systému PVC SDR 34",null,null,3]
[null,null,"Teplota při pokládce: min. -10 °C, max. 50 °C",null,null,null,null,null,null,null,null,"Teplota při pokládce: min. -10 °C, max. 50 °C",null,null,3]
[null,null,"Max. teplota média: trvale do 40 °C, krátkodobě do 60 °C",null,null,null,null,null,null,null,null,"Max. teplota média: trvale do 40 °C, krátkodobě do 60 °C",null,null,3]
[null,null,"Orientační výška krytí: min. 0,5 m, max. 10 m",null,null,null,null,null,null,null,null,"Orientační výška krytí: min. 0,5 m, max. 10 m",null,null,3]
[null,null,"Max. rychlost média: 12 m/s",null,null,null,null,null,null,null,null,"Max. rychlost média: 12 m/s",null,null,3]
[null,null,"Stoka \"S\" PVC DN400:",null,0,null,null,null,null,null,null,null,"Stoka \"S\" PVC DN400:"]
[null,null,"Kanalizační přípojky PVC DN150:",null,0,null,null,null,null,null,null,null,"Kanalizační přípojky PVC DN150:"]
[null,null,"KP (10 kusů) - Kolena:20*1,015",null,20.3,null,null,null,null,null,null,null,"KP (10 kusů) - Kolena:20*1,015"]
[39,"286506004.R","Koleno kanalizační PVC SDR 34 DN 200 Kolena s úhlem 15°, 30°a 45°","kus",2.0299999999999998,null,{"$f":"E303*F303","v":0},1.8E-3,{"$f":"E303*H303","v":3.6539999999999997E-3},null,{"$f":"E303*J303","v":0},null,null,null,2,null,null,null,null,null,null,null,null,null,null,null,3,1,"286506004.R",null,null,null,null,null,null,null,null,null,null,null,null,null,null,null,null,null,null,null,null,null,null,1,{"$f":"IF(AZ303=1,G303,0)","v":0},{"$f":"IF(AZ303=2,G303,0)","v":0},{"$f":"IF(AZ303=3,G303,0)","v":0},{"$f":"IF(AZ303=4,G303,0)","v":0},{"$f":"IF(AZ303=5,G303,0)","v":0},null,null,null,null,null,null,null,null,null,null,null,null,null,null,null,null,null,null,null,null,null,3,1]
[null,null,"Tvarovky kanalizačního systému PVC SDR 34",null,null,null,null,null,null,null,null,"Tvarovky kanalizačního systému PVC SDR 34",null,null,3]
[null,null,"Teplota při pokládce: min. -10 °C, max. 50 °C",null,null,null,null,null,null,null,null,"Teplota při pokládce: min. -10 °C, max. 50 °C",null,null,3]
[null,null,"Max. teplota média: trvale do 40 °C, krátkodobě do 60 °C",null,null,null,null,null,null,null,null,"Max. teplota média: trvale do 40 °C, krátkodobě do 60 °C",null,null,3]
[null,null,"Orientační výška krytí: min. 0,5 m, max. 10 m",null,null,null,null,null,null,null,null,"Orientační výška krytí: min. 0,5 m, max. 10 m",null,null,3]
[null,null,"Max. rychlost média: 12 m/s",null,null,null,null,null,null,null,null,"Max. rychlost média: 12 m/s",null,null,3]
[null,null,"Stoka \"S\" PVC DN400:",null,0,null,null,null,null,null,null,null,"Stoka \"S\" PVC DN400:"]
[null,null,"Kanalizační přípojky PVC DN200:",null,0,null,null,null,null,null,null,null,"Kanalizační přípojky PVC DN200:"]
[null,null,"KP (1 kus) - Kolena:2*1,015",null,2.0299999999999998,null,null,null,null,null,null,null,"KP (1 kus) - Kolena:2*1,015"]
[null,"Celkem za","8 Trubní vedení",null,null,null,{"$f":"SUM(G199:G311)","v":0},null,{"$f":"SUM(I199:I311)","v":1.19894985},null,{"$f":"SUM(K199:K311)","v":0},null,null,null,4,null,null,null,null,null,null,null,null,null,null,null,null,null,null,null,null,null,null,null,null,null,null,null,null,null,null,null,null,null,null,null,null,null,null,null,null,null,{"$f":"SUM(BA199:BA311)","v":0},{"$f":"SUM(BB199:BB311)","v":0},{"$f":"SUM(BC199:BC311)","v":0},{"$f":"SUM(BD199:BD311)","v":0},{"$f":"SUM(BE199:BE311)","v":0}]
["Díl:","99","Staveništní přesun hmot",null,null,null,null,null,null,null,null,null,null,null,1]
[40,"998276101RXX","Přesun hmot, trubní vedení plastová, otevř. výkop pro celý rozsah objektu","t",252.902159625,null,{"$f":"E314*F314","v":0},0,{"$f":"E314*H314","v":0},null,{"$f":"E314*J314","v":0},null,null,null,2,null,null,null,null,null,null,null,null,null,null,null,7,1,2,null,null,null,null,null,null,null,null,null,null,null,null,null,null,null,null,null,null,null,null,null,null,1,{"$f":"IF(AZ314=1,G314,0)","v":0},{"$f":"IF(AZ314=2,G314,0)","v":0},{"$f":"IF(AZ314=3,G314,0)","v":0},{"$f":"IF(AZ314=4,G314,0)","v":0},{"$f":"IF(AZ314=5,G314,0)","v":0},null,null,null,null,null,null,null,null,null,null,null,null,null,null,null,null,null,null,null,null,null,7,1]
[null,null,"Staveništní doprava pro celý rozsah objektu - doprava zmeziskládek vybudovaného zařízení staveniště zhotovitele na jednotlivé části staveniště.",null,null,null,null,null,null,null,null,"Staveništní doprava pro celý rozsah objektu - doprava zmeziskládek vybudovaného zařízení staveniště zhotovitele na jednotlivé části staveniště.",null,null,3]
[null,"Celkem za","99 Staveništní přesun hmot",null,null,null,{"$f":"SUM(G313:G315)","v":0},null,{"$f":"SUM(I313:I315)","v":0},null,{"$f":"SUM(K313:K315)","v":0},null,null,null,4,null,null,null,null,null,null,null,null,null,null,null,null,null,null,null,null,null,null,null,null,null,null,null,null,null,null,null,null,null,null,null,null,null,null,null,null,null,{"$f":"SUM(BA313:BA315)","v":0},{"$f":"SUM(BB313:BB315)","v":0},{"$f":"SUM(BC313:BC315)","v":0},{"$f":"SUM(BD313:BD315)","v":0},{"$f":"SUM(BE313:BE315)","v":0}]

{"sheet":"303 3542303.1 KL","index":32,"n_rows":45,"n_cols":8,"rows_kept":45,"cut":false,"hidden":false,"merged":[[50,1,50,6],[29,5,29,6],[30,5,30,6],[31,5,31,6],[32,5,32,6],[33,5,33,6],[36,1,44,6],[45,1,45,6],[46,1,46,6],[47,1,47,6],[48,1,48,6],[49,1,49,6],[22,0,22,1],[7,2,7,4],[8,2,8,4],[9,2,9,4],[10,2,10,4],[11,2,11,4]]}
["POLOŽKOVÝ ROZPOČET"]
["Rozpočet",null,"3542/303.1","Oprava vodovodního řadu D",null,"JKSO ","827.13"]
[]
["Objekt",null,null,null,null,"SKP "]
["303",null,"Oprava vodovodního řadu D ul. Dvořákova",null,null,"Měrná jednotka","m"]
["Stavba",null,null,null,null,"Počet jednotek",0]
["3542",null,"Semily - Obnova VH infrastruktury a komunikací",null,null,"Náklady na m.j.",{"$f":"IF(G6=0,,ROUND((F30+F32)/G6,1))","v":0}]
["Projektant",null,null,null,null,"Typ rozpočtu"]
["Zpracovatel projektu"]
["Objednatel",null,"Vodohospodářské sdružení Turnov"]
["Dodavatel",null,".",null,null,"Zakázkové číslo "]
["Rozpočtoval",null,null,null,null,"Počet listů"]
["ROZPOČTOVÉ NÁKLADY"]
["Základní rozpočtové náklady"]
[null,"HSV celkem",{"$f":"'303 3542303.1 Rek'!E15","v":0}]
["Z","PSV celkem",{"$f":"'303 3542303.1 Rek'!F15","v":0}]
["R","M práce celkem",{"$f":"'303 3542303.1 Rek'!H15","v":0}]
["N","M dodávky celkem",{"$f":"'303 3542303.1 Rek'!G15","v":0}]
["ZRN celkem",null,{"$f":"SUM(C15:C18)","v":0}]
[]
["HZS",null,{"$f":"'303 3542303.1 Rek'!I15","v":0}]
["ZRN+HZS",null,{"$f":"C19+C21","v":0}]
["ZRN+ost.náklady+HZS",null,{"$f":"C22+G23","v":0}]
["Vypracoval",null,null,"Za zhotovitele",null,"Za objednatele"]
["Jméno :",null,null,"Jméno :",null,"Jméno :"]
["Datum :",null,null,"Datum :",null,"Datum :"]
[]
["Podpis :",null,null,"Podpis:",null,"Podpis:"]
[]
["Základ pro DPH",null,21,"%  ",null,{"$f":"C23-F32","v":0}]
["DPH",null,{"$f":"C30","v":21},"% ",null,{"$f":"ROUND(PRODUCT(F30,C31/100),0)","v":0}]
["Základ pro DPH",null,0,"% ",null,0]
["DPH",null,{"$f":"C32","v":0},"% ",null,{"$f":"ROUND(PRODUCT(F32,C33/100),0)","v":0}]
["CENA ZA OBJEKT CELKEM",null,null,null,null,{"$f":"ROUND(SUM(F30:F33),0)","v":0}]
[]
["Poznámka :",null,null,null,null,null,null," "]
[null,null,null,null,null,null,null," "]
[null,null,null,null,null,null,null," "]
[null,null,null,null,null,null,null," "]
[null,null,null,null,null,null,null," "]
[null,null,null,null,null,null,null," "]
[null,null,null,null,null,null,null," "]
[null,null,null,null,null,null,null," "]
[null,null,null,null,null,null,null," "]
[null,null,null,null,null,null,null," "]

{"sheet":"303 3542303.1 Rek","index":33,"n_rows":15,"n_cols":9,"rows_kept":15,"cut":false,"hidden":false,"merged":[[0,0,0,1],[1,0,1,1],[1,6,1,8]]}
["Stavba :",null,"3542 Semily - Obnova VH infrastruktury a komunikací",null,null,null,"Rozpočet :","3542/303.1"]
["Objekt :",null,"303 Oprava vodovodního řadu D ul. Dvořákova",null,null,null,"Oprava vodovodního řadu D"]
[]
["REKAPITULACE  STAVEBNÍCH  DÍLŮ"]
[]
[null,"Stavební díl",null,null,"HSV","PSV","Dodávka","Montáž","HZS"]
[{"$f":"'303 3542303.1 Pol'!B7","v":"1"},{"$f":"'303 3542303.1 Pol'!C7","v":"Zemní práce"},null,null,{"$f":"'303 3542303.1 Pol'!BA77","v":0},{"$f":"'303 3542303.1 Pol'!BB77","v":0},{"$f":"'303 3542303.1 Pol'!BC77","v":0},{"$f":"'303 3542303.1 Pol'!BD77","v":0},{"$f":"'303 3542303.1 Pol'!BE77","v":0}]
[{"$f":"'303 3542303.1 Pol'!B78","v":"21"},{"$f":"'303 3542303.1 Pol'!C78","v":"Úprava podloží a základ.spáry"},null,null,{"$f":"'303 3542303.1 Pol'!BA83","v":0},{"$f":"'303 3542303.1 Pol'!BB83","v":0},{"$f":"'303 3542303.1 Pol'!BC83","v":0},{"$f":"'303 3542303.1 Pol'!BD83","v":0},{"$f":"'303 3542303.1 Pol'!BE83","v":0}]
[{"$f":"'303 3542303.1 Pol'!B84","v":"45"},{"$f":"'303 3542303.1 Pol'!C84","v":"Podkladní a vedlejší konstrukce"},null,null,{"$f":"'303 3542303.1 Pol'!BA89","v":0},{"$f":"'303 3542303.1 Pol'!BB89","v":0},{"$f":"'303 3542303.1 Pol'!BC89","v":0},{"$f":"'303 3542303.1 Pol'!BD89","v":0},{"$f":"'303 3542303.1 Pol'!BE89","v":0}]
[{"$f":"'303 3542303.1 Pol'!B90","v":"5"},{"$f":"'303 3542303.1 Pol'!C90","v":"Komunikace"},null,null,{"$f":"'303 3542303.1 Pol'!BA95","v":0},{"$f":"'303 3542303.1 Pol'!BB95","v":0},{"$f":"'303 3542303.1 Pol'!BC95","v":0},{"$f":"'303 3542303.1 Pol'!BD95","v":0},{"$f":"'303 3542303.1 Pol'!BE95","v":0}]
[{"$f":"'303 3542303.1 Pol'!B96","v":"8"},{"$f":"'303 3542303.1 Pol'!C96","v":"Trubní vedení"},null,null,{"$f":"'303 3542303.1 Pol'!BA213","v":0},{"$f":"'303 3542303.1 Pol'!BB213","v":0},{"$f":"'303 3542303.1 Pol'!BC213","v":0},{"$f":"'303 3542303.1 Pol'!BD213","v":0},{"$f":"'303 3542303.1 Pol'!BE213","v":0}]
[{"$f":"'303 3542303.1 Pol'!B214","v":"89"},{"$f":"'303 3542303.1 Pol'!C214","v":"Ostatní konstrukce na trubním vedení"},null,null,{"$f":"'303 3542303.1 Pol'!BA241","v":0},{"$f":"'303 3542303.1 Pol'!BB241","v":0},{"$f":"'303 3542303.1 Pol'!BC241","v":0},{"$f":"'303 3542303.1 Pol'!BD241","v":0},{"$f":"'303 3542303.1 Pol'!BE241","v":0}]
[{"$f":"'303 3542303.1 Pol'!B242","v":"93"},{"$f":"'303 3542303.1 Pol'!C242","v":"Dokončovací práce inženýrských staveb"},null,null,{"$f":"'303 3542303.1 Pol'!BA273","v":0},{"$f":"'303 3542303.1 Pol'!BB273","v":0},{"$f":"'303 3542303.1 Pol'!BC273","v":0},{"$f":"'303 3542303.1 Pol'!BD273","v":0},{"$f":"'303 3542303.1 Pol'!BE273","v":0}]
[{"$f":"'303 3542303.1 Pol'!B274","v":"99"},{"$f":"'303 3542303.1 Pol'!C274","v":"Staveništní přesun hmot"},null,null,{"$f":"'303 3542303.1 Pol'!BA277","v":0},{"$f":"'303 3542303.1 Pol'!BB277","v":0},{"$f":"'303 3542303.1 Pol'!BC277","v":0},{"$f":"'303 3542303.1 Pol'!BD277","v":0},{"$f":"'303 3542303.1 Pol'!BE277","v":0}]
[null,"CELKEM  OBJEKT",null,null,{"$f":"SUM(E7:E14)","v":0},{"$f":"SUM(F7:F14)","v":0},{"$f":"SUM(G7:G14)","v":0},{"$f":"SUM(H7:H14)","v":0},{"$f":"SUM(I7:I14)","v":0}]

{"sheet":"303 3542303.1 Pol","index":34,"n_rows":277,"n_cols":80,"rows_kept":277,"cut":false,"hidden":false,"merged":[[270,2,270,3],[271,2,271,3],[275,2,275,6],[263,2,263,3],[265,2,265,6],[266,2,266,6],[267,2,267,6],[268,2,268,6],[269,2,269,6],[257,2,257,6],[258,2,258,6],[259,2,259,6],[260,2,260,6],[261,2,261,6],[262,2,262,3],[243,2,243,6],[244,2,244,6],[245,2,245,6],[246,2,246,6],[247,2,247,6],[248,2,248,6],[249,2,249,6],[250,2,250,6],[251,2,251,6],[235,2,235,6],[236,2,236,6],[237,2,237,3],[238,2,238,3],[239,2,239,3],[252,2,252,6],[253,2,253,3],[254,2,254,3],[255,2,255,3],[229,2,229,6],[230,2,230,6],[231,2,231,6],[232,2,232,6],[233,2,233,6],[234,2,234,6],[215,2,215,6],[216,2,216,6],[217,2,217,6],[218,2,218,6],[219,2,219,6],[220,2,220,6],[221,2,221,6],[222,2,222,6],[223,2,223,6],[205,2,205,3],[207,2,207,3],[208,2,208,3],[210,2,210,3],[211,2,211,3],[224,2,224,3],[225,2,225,3],[226,2,226,3],[228,2,228,6],[198,2,198,6],[199,2,199,6],[200,2,200,6],[201,2,201,3],[202,2,202,3],[204,2,204,3],[190,2,190,3],[192,2,192,3],[193,2,193,3],[195,2,195,6],[196,2,196,6],[197,2,197,6],[182,2,182,3],[183,2,183,3],[185,2,185,6],[186,2,186,3],[187,2,187,3],[189,2,189,3],[174,2,174,3],[176,2,176,3],[177,2,177,3],[179,2,179,6],[180,2,180,6],[181,2,181,6],[167,2,167,3],[168,2,168,3],[170,2,170,3],[171,2,171,3],[173,2,173,3],[160,2,160,3],[162,2,162,3],[163,2,163,3],[165,2,165,6],[166,2,166,6],[153,2,153,3],[154,2,154,3],[155,2,155,3],[156,2,156,3],[157,2,157,3],[159,2,159,3],[148,2,148,3],[149,2,149,3],[151,2,151,6],[152,2,152,3],[143,2,143,3],[145,2,145,3],[146,2,146,3],[135,2,135,3],[137,2,137,6],[138,2,138,3],[139,2,139,3],[141,2,141,6],[142,2,142,3],[127,2,127,3],[129,2,129,6],[130,2,130,6],[131,2,131,3],[132,2,132,3],[134,2,134,3],[120,2,120,3],[121,2,121,3],[122,2,122,3],[124,2,124,6],[125,2,125,6],[126,2,126,3],[112,2,112,3],[113,2,113,3],[114,2,114,3],[116,2,116,6],[117,2,117,3],[118,2,118,3],[105,2,105,6],[106,2,106,3],[107,2,107,3],[109,2,109,6],[110,2,110,6],[111,2,111,3],[97,2,97,6],[98,2,98,6],[99,2,99,6],[100,2,100,6],[101,2,101,6],[102,2,102,6],[103,2,103,6],[104,2,104,6],[85,2,85,3],[86,2,86,3],[91,2,91,3],[92,2,92,3],[93,2,93,3],[71,2,71,3],[72,2,72,3],[74,2,74,3],[75,2,75,3],[79,2,79,3],[80,2,80,3],[81,2,81,3],[63,2,63,3],[64,2,64,3],[66,2,66,3],[67,2,67,3],[68,2,68,3],[70,2,70,3],[56,2,56,3],[57,2,57,3],[58,2,58,3],[59,2,59,3],[60,2,60,3],[61,2,61,3],[49,2,49,3],[50,2,50,3],[52,2,52,6],[53,2,53,6],[54,2,54,3],[55,2,55,3],[41,2,41,3],[43,2,43,3],[44,2,44,3],[45,2,45,3],[46,2,46,3],[48,2,48,3],[34,2,34,3],[35,2,35,3],[36,2,36,3],[38,2,38,3],[39,2,39,3],[40,2,40,3],[26,2,26,3],[27,2,27,3],[29,2,29,6],[30,2,30,3],[31,2,31,3],[32,2,32,3],[19,2,19,3],[20,2,20,3],[21,2,21,3],[22,2,22,3],[23,2,23,3],[25,2,25,3],[12,2,12,3],[14,2,14,6],[15,2,15,3],[16,2,16,3],[17,2,17,3],[18,2,18,3],[0,0,0,6],[2,0,2,1],[3,0,3,1],[3,4,3,6],[8,2,8,6],[9,2,9,6],[10,2,10,3],[11,2,11,3]]}
["Položkový rozpočet "]
[]
["Stavba :",null,"3542 Semily - Obnova VH infrastruktury a komunikací",null,"Rozpočet:",{"$f":"'303 3542303.1 Rek'!H1","v":"3542/303.1"}]
["Objekt :",null,"303 Oprava vodovodního řadu D ul. Dvořákova",null,{"$f":"'303 3542303.1 Rek'!G2","v":"Oprava vodovodního řadu D"}]
[]
["P.č.","Číslo položky","Název položky","MJ","množství","cena / MJ","celkem (Kč)","Jednotková hmotnost","Celková hmotnost","Jednotková dem.hmot.","Celková dem.hmot."]
["Díl:","1","Zemní práce",null,null,null,null,null,null,null,null,null,null,null,1]
[1,"130001101RRX","Příplatek za ztížené hloubení v blízkosti vedení ","m3",35.622399999999999,null,{"$f":"E8*F8","v":0},0,{"$f":"E8*H8","v":0},0,{"$f":"E8*J8","v":0},null,null,null,2,null,null,null,null,null,null,null,null,null,null,null,1,1,1,null,null,null,null,null,null,null,null,null,null,null,null,null,null,null,null,null,null,null,null,null,null,1,{"$f":"IF(AZ8=1,G8,0)","v":0},{"$f":"IF(AZ8=2,G8,0)","v":0},{"$f":"IF(AZ8=3,G8,0)","v":0},{"$f":"IF(AZ8=4,G8,0)","v":0},{"$f":"IF(AZ8=5,G8,0)","v":0},null,null,null,null,null,null,null,null,null,null,null,null,null,null,null,null,null,null,null,null,null,1,1]
[null,null,"Včetně případných nutných dokopávek a ručního výkopu podél sousedících inženýrských sítí.",null,null,null,null,null,null,null,null,"Včetně případných nutných dokopávek a ručního výkopu podél sousedících inženýrských sítí.",null,null,3]
[null,null,"Součástí položky je i dočasné zajištění stávajících inženýrských sítí v prostoru výkopů (potrubí, kabely a pod.)",null,null,null,null,null,null,null,null,"Součástí položky je i dočasné zajištění stávajících inženýrských sítí v prostoru výkopů (potrubí, kabely a pod.)",null,null,3]
[null,null,"Vodovodní řad \"D\" PE D 90x8,2 mm:",null,0,null,null,null,null,null,null,null,"Vodovodní řad \"D\" PE D 90x8,2 mm:"]
[null,null,"Výkopy :",null,0,null,null,null,null,null,null,null,"Výkopy :"]
[null,null,"V hornině tř. 3 - 4 - 32%:111,3200*0,32",null,35.622399999999999,null,null,null,null,null,null,null,"V hornině tř. 3 - 4 - 32%:111,3200*0,32"]
[2,"132201212R00","Hloubení rýh š.do 200 cm hor.3 do 1000m3,STROJNĚ ","m3",55.66,null,{"$f":"E14*F14","v":0},0,{"$f":"E14*H14","v":0},0,{"$f":"E14*J14","v":0},null,null,null,2,null,null,null,null,null,null,null,null,null,null,null,1,1,1,null,null,null,null,null,null,null,null,null,null,null,null,null,null,null,null,null,null,null,null,null,null,1,{"$f":"IF(AZ14=1,G14,0)","v":0},{"$f":"IF(AZ14=2,G14,0)","v":0},{"$f":"IF(AZ14=3,G14,0)","v":0},{"$f":"IF(AZ14=4,G14,0)","v":0},{"$f":"IF(AZ14=5,G14,0)","v":0},null,null,null,null,null,null,null,null,null,null,null,null,null,null,null,null,null,null,null,null,null,1,1]
[null,null,"Položka obsahuje hloubení rýh traktorbagrem, naložení výkopku na dopravní prostředek pro svislé, nebo vodorovné přemístění, popř. přemístění výkopku do 3 m (po povrchu území), případné zajištění rypadel polštáři, udržování pracoviště a ochranu výkopiště proti stékání srážkové vody z okolního terénu i s jejím odvodněním, nebo odvedením, přesekání a odstranění kořenů ve výkopišti, odstranění napadávek, urovnání dna výkopu.",null,null,null,null,null,null,null,null,"Položka obsahuje hloubení rýh traktorbagrem, naložení výkopku na dopravní prostředek pro svislé, nebo vodorovné přemístění, popř. přemístění výkopku do 3 m (po povrchu území), případné zajištění rypadel polštáři, udržování pracoviště a ochranu výkopiště proti stékání srážkové vody z okolního terénu i s jejím odvodněním, nebo odvedením, přesekání a odstranění kořenů ve výkopišti, odstranění napadávek, urovnání dna výkopu.",null,null,3]
[null,null,"Vodovodní řad \"D\" PE D 90x8,2 mm:",null,0,null,null,null,null,null,null,null,"Vodovodní řad \"D\" PE D 90x8,2 mm:"]
[null,null,"Výkopy :",null,0,null,null,null,null,null,null,null,"Výkopy :"]
[null,null,"Začátek provozního součtu",null,0,null,null,null,null,null,null,null,"Začátek provozního součtu"]
[null,null,"Průměrná hloubka výkopů od nivelety stávající komunikace 1,61 m:",null,0,null,null,null,null,null,null,null,"Průměrná hloubka výkopů od nivelety stávající komunikace 1,61 m:"]
[null,null,"Řad \"D\":115,00*0,80*1,61",null,148.12,null,null,null,null,null,null,null,"Řad \"D\":115,00*0,80*1,61"]
[null,null,"Odpočet objemu konstrukce komunikace a chodníků:",null,0,null,null,null,null,null,null,null,"Odpočet objemu konstrukce komunikace a chodníků:"]
[null,null,"Řad \"D\":-115,00*0,80*0,40",null,-36.799999999999997,null,null,null,null,null,null,null,"Řad \"D\":-115,00*0,80*0,40"]
[null,null,"Konec provozního součtu",null,111.32000000000001,null,null,null,null,null,null,null,"Konec provozního součtu"]
[null,null,"V hornině tř. 3 - 50%:111,3200*0,5",null,55.66,null,null,null,null,null,null,null,"V hornině tř. 3 - 50%:111,3200*0,5"]
[3,"132201219R00","Přípl.za lepivost,hloubení rýh 200cm,hor.3,STROJNĚ ","m3",27.83,null,{"$f":"E25*F25","v":0},0,{"$f":"E25*H25","v":0},0,{"$f":"E25*J25","v":0},null,null,null,2,null,null,null,null,null,null,null,null,null,null,null,1,1,1,null,null,null,null,null,null,null,null,null,null,null,null,null,null,null,null,null,null,null,null,null,null,1,{"$f":"IF(AZ25=1,G25,0)","v":0},{"$f":"IF(AZ25=2,G25,0)","v":0},{"$f":"IF(AZ25=3,G25,0)","v":0},{"$f":"IF(AZ25=4,G25,0)","v":0},{"$f":"IF(AZ25=5,G25,0)","v":0},null,null,null,null,null,null,null,null,null,null,null,null,null,null,null,null,null,null,null,null,null,1,1]
[null,null,"Vodovodní řad \"D\" PE D 90x8,2 mm:",null,0,null,null,null,null,null,null,null,"Vodovodní řad \"D\" PE D 90x8,2 mm:"]
[null,null,"Výkopy :",null,0,null,null,null,null,null,null,null,"Výkopy :"]
[null,null,"V hornině tř. 3 - 50%:111,3200*0,5*0,5",null,27.83,null,null,null,null,null,null,null,"V hornině tř. 3 - 50%:111,3200*0,5*0,5"]
[4,"132301212R00","Hloubení rýh š.do 200 cm hor.4 do 1000 m3, STROJNĚ ","m3",55.66,null,{"$f":"E29*F29","v":0},0,{"$f":"E29*H29","v":0},0,{"$f":"E29*J29","v":0},null,null,null,2,null,null,null,null,null,null,null,null,null,null,null,1,1,1,null,null,null,null,null,null,null,null,null,null,null,null,null,null,null,null,null,null,null,null,null,null,1,{"$f":"IF(AZ29=1,G29,0)","v":0},{"$f":"IF(AZ29=2,G29,0)","v":0},{"$f":"IF(AZ29=3,G29,0)","v":0},{"$f":"IF(AZ29=4,G29,0)","v":0},{"$f":"IF(AZ29=5,G29,0)","v":0},null,null,null,null,null,null,null,null,null,null,null,null,null,null,null,null,null,null,null,null,null,1,1]
[null,null,"Položka obsahuje hloubení rýh traktorbagrem, naložení výkopku na dopravní prostředek pro svislé, nebo vodorovné přemístění, popř. přemístění výkopku do 3 m (po povrchu území), případné zajištění rypadel polštáři, udržování pracoviště a ochranu výkopiště proti stékání srážkové vody z okolního terénu i s jejím odvodněním, nebo odvedením, přesekání a odstranění kořenů ve výkopišti, odstranění napadávek, urovnání dna výkopu.",null,null,null,null,null,null,null,null,"Položka obsahuje hloubení rýh traktorbagrem, naložení výkopku na dopravní prostředek pro svislé, nebo vodorovné přemístění, popř. přemístění výkopku do 3 m (po povrchu území), případné zajištění rypadel polštáři, udržování pracoviště a ochranu výkopiště proti stékání srážkové vody z okolního terénu i s jejím odvodněním, nebo odvedením, přesekání a odstranění kořenů ve výkopišti, odstranění napadávek, urovnání dna výkopu.",null,null,3]
[null,null,"Vodovodní řad \"D\" PE D 90x8,2 mm:",null,0,null,null,null,null,null,null,null,"Vodovodní řad \"D\" PE D 90x8,2 mm:"]
[null,null,"Výkopy :",null,0,null,null,null,null,null,null,null,"Výkopy :"]
[null,null,"V hornině tř. 4 - 50%:111,3200*0,5",null,55.66,null,null,null,null,null,null,null,"V hornině tř. 4 - 50%:111,3200*0,5"]
[5,"132301219R00","Přípl.za lepivost,hloubení rýh 200cm,hor.4,STROJNĚ ","m3",27.83,null,{"$f":"E34*F34","v":0},0,{"$f":"E34*H34","v":0},0,{"$f":"E34*J34","v":0},null,null,null,2,null,null,null,null,null,null,null,null,null,null,null,1,1,1,null,null,null,null,null,null,null,null,null,null,null,null,null,null,null,null,null,null,null,null,null,null,1,{"$f":"IF(AZ34=1,G34,0)","v":0},{"$f":"IF(AZ34=2,G34,0)","v":0},{"$f":"IF(AZ34=3,G34,0)","v":0},{"$f":"IF(AZ34=4,G34,0)","v":0},{"$f":"IF(AZ34=5,G34,0)","v":0},null,null,null,null,null,null,null,null,null,null,null,null,null,null,null,null,null,null,null,null,null,1,1]
[null,null,"Vodovodní řad \"D\" PE D 90x8,2 mm:",null,0,null,null,null,null,null,null,null,"Vodovodní řad \"D\" PE D 90x8,2 mm:"]
[null,null,"Výkopy :",null,0,null,null,null,null,null,null,null,"Výkopy :"]
[null,null,"V hornině tř. 4 - 50%:111,3200*0,5*0,5",null,27.83,null,null,null,null,null,null,null,"V hornině tř. 4 - 50%:111,3200*0,5*0,5"]
[6,"151101101R00","Pažení a rozepření stěn rýh - příložné - hl.do 2 m ","m2",370.3,null,{"$f":"E38*F38","v":0},9.8999999999999999E-4,{"$f":"E38*H38","v":0.36659700000000001},0,{"$f":"E38*J38","v":0},null,null,null,2,null,null,null,null,null,null,null,null,null,null,null,1,1,1,null,null,null,null,null,null,null,null,null,null,null,null,null,null,null,null,null,null,null,null,null,null,1,{"$f":"IF(AZ38=1,G38,0)","v":0},{"$f":"IF(AZ38=2,G38,0)","v":0},{"$f":"IF(AZ38=3,G38,0)","v":0},{"$f":"IF(AZ38=4,G38,0)","v":0},{"$f":"IF(AZ38=5,G38,0)","v":0},null,null,null,null,null,null,null,null,null,null,null,null,null,null,null,null,null,null,null,null,null,1,1]
[null,null,"Vodovodní řad \"D\" PE D 90x8,2 mm:",null,0,null,null,null,null,null,null,null,"Vodovodní řad \"D\" PE D 90x8,2 mm:"]
[null,null,"Výkopy :",null,0,null,null,null,null,null,null,null,"Výkopy :"]
[null,null,"Průměrná hloubka výkopů od nivelety stávající komunikace 1,61 m:",null,0,null,null,null,null,null,null,null,"Průměrná hloubka výkopů od nivelety stávající komunikace 1,61 m:"]
[null,null,"Řad \"D\":115,00*1,61*2",null,370.3,null,null,null,null,null,null,null,"Řad \"D\":115,00*1,61*2"]
[7,"151101111R00","Odstranění pažení stěn rýh - příložné - hl. do 2 m ","m2",370.3,null,{"$f":"E43*F43","v":0},0,{"$f":"E43*H43","v":0},0,{"$f":"E43*J43","v":0},null,null,null,2,null,null,null,null,null,null,null,null,null,null,null,1,1,1,null,null,null,null,null,null,null,null,null,null,null,null,null,null,null,null,null,null,null,null,null,null,1,{"$f":"IF(AZ43=1,G43,0)","v":0},{"$f":"IF(AZ43=2,G43,0)","v":0},{"$f":"IF(AZ43=3,G43,0)","v":0},{"$f":"IF(AZ43=4,G43,0)","v":0},{"$f":"IF(AZ43=5,G43,0)","v":0},null,null,null,null,null,null,null,null,null,null,null,null,null,null,null,null,null,null,null,null,null,1,1]
[null,null,"Vodovodní řad \"D\" PE D 90x8,2 mm:",null,0,null,null,null,null,null,null,null,"Vodovodní řad \"D\" PE D 90x8,2 mm:"]
[null,null,"Výkopy :",null,0,null,null,null,null,null,null,null,"Výkopy :"]
[null,null,"Průměrná hloubka výkopů od nivelety stávající komunikace 1,61 m:",null,0,null,null,null,null,null,null,null,"Průměrná hloubka výkopů od nivelety stávající komunikace 1,61 m:"]
[null,null,"Řad \"D\":115,00*1,61*2",null,370.3,null,null,null,null,null,null,null,"Řad \"D\":115,00*1,61*2"]
[8,"162701105RSZ","Vodorovné přemístění výkopku z hor.1-7 na skládku zhotovitele","m3",111.32,null,{"$f":"E48*F48","v":0},0,{"$f":"E48*H48","v":0},0,{"$f":"E48*J48","v":0},null,null,null,2,null,null,null,null,null,null,null,null,null,null,null,1,1,1,null,null,null,null,null,null,null,null,null,null,null,null,null,null,null,null,null,null,null,null,null,null,1,{"$f":"IF(AZ48=1,G48,0)","v":0},{"$f":"IF(AZ48=2,G48,0)","v":0},{"$f":"IF(AZ48=3,G48,0)","v":0},{"$f":"IF(AZ48=4,G48,0)","v":0},{"$f":"IF(AZ48=5,G48,0)","v":0},null,null,null,null,null,null,null,null,null,null,null,null,null,null,null,null,null,null,null,null,null,1,1]
[null,null,"Vodovodní řad \"D\" PE D 90x8,2 mm:",null,0,null,null,null,null,null,null,null,"Vodovodní řad \"D\" PE D 90x8,2 mm:"]
[null,null,"Výkopy :",null,0,null,null,null,null,null,null,null,"Výkopy :"]
[null,null,"V hornině tř. 3 - 4:111,3200",null,111.32,null,null,null,null,null,null,null,"V hornině tř. 3 - 4:111,3200"]
[9,"174101101R00","Zásyp jam, rýh, šachet se zhutněním ","m3",61.64,null,{"$f":"E52*F52","v":0},0,{"$f":"E52*H52","v":0},0,{"$f":"E52*J52","v":0},null,null,null,2,null,null,null,null,null,null,null,null,null,null,null,1,1,1,null,null,null,null,null,null,null,null,null,null,null,null,null,null,null,null,null,null,null,null,null,null,1,{"$f":"IF(AZ52=1,G52,0)","v":0},{"$f":"IF(AZ52=2,G52,0)","v":0},{"$f":"IF(AZ52=3,G52,0)","v":0},{"$f":"IF(AZ52=4,G52,0)","v":0},{"$f":"IF(AZ52=5,G52,0)","v":0},null,null,null,null,null,null,null,null,null,null,null,null,null,null,null,null,null,null,null,null,null,1,1]
[null,null,"Položka obsahuje strojní přemístění materiálu pro zásyp ze vzdálenosti do 10 m od okraje zásypu.",null,null,null,null,null,null,null,null,"Položka obsahuje strojní přemístění materiálu pro zásyp ze vzdálenosti do 10 m od okraje zásypu.",null,null,3]
[null,null,null,null,null,null,null,null,null,null,null,null,null,null,3]
[null,null,"Vodovodní řad \"D\" PE D 90x8,2 mm:",null,0,null,null,null,null,null,null,null,"Vodovodní řad \"D\" PE D 90x8,2 mm:"]
[null,null,"Zásyp ŠD fr. 0-63 mm:61,6400",null,61.64,null,null,null,null,null,null,null,"Zásyp ŠD fr. 0-63 mm:61,6400"]
[null,null,"Začátek provozního součtu",null,0,null,null,null,null,null,null,null,"Začátek provozního součtu"]
[null,null,"Výkopy:111,3200",null,111.32,null,null,null,null,null,null,null,"Výkopy:111,3200"]
[null,null,"Odpočet lože, potrubí a obsypů:",null,0,null,null,null,null,null,null,null,"Odpočet lože, potrubí a obsypů:"]
[null,null,"Řad \"D\":-115,00*0,80*(0,15+0,09+0,30)",null,-49.68,null,null,null,null,null,null,null,"Řad \"D\":-115,00*0,80*(0,15+0,09+0,30)"]
[null,null,"0",null,0,null,null,null,null,null,null,null,0]
[null,null,"Konec provozního součtu",null,61.639999999999993,null,null,null,null,null,null,null,"Konec provozního součtu"]
[10,"175101101R00","Obsyp potrubí bez prohození sypaniny ","m3",35.148400000000002,null,{"$f":"E63*F63","v":0},0,{"$f":"E63*H63","v":0},0,{"$f":"E63*J63","v":0},null,null,null,2,null,null,null,null,null,null,null,null,null,null,null,1,1,1,null,null,null,null,null,null,null,null,null,null,null,null,null,null,null,null,null,null,null,null,null,null,1,{"$f":"IF(AZ63=1,G63,0)","v":0},{"$f":"IF(AZ63=2,G63,0)","v":0},{"$f":"IF(AZ63=3,G63,0)","v":0},{"$f":"IF(AZ63=4,G63,0)","v":0},{"$f":"IF(AZ63=5,G63,0)","v":0},null,null,null,null,null,null,null,null,null,null,null,null,null,null,null,null,null,null,null,null,null,1,1]
[null,null,"Vodovodní řad \"D\" PE D 90x8,2 mm:",null,0,null,null,null,null,null,null,null,"Vodovodní řad \"D\" PE D 90x8,2 mm:"]
[null,null,"Řad \"D\":115,00*(0,80*(0,09+0,30)-0,045^2*Pi)",null,35.148400000000002,null,null,null,null,null,null,null,"Řad \"D\":115,00*(0,80*(0,09+0,30)-0,045^2*Pi)"]
[11,"199000002R00","Poplatek za skládku horniny 1- 7 č. dle katal. odpadů 17 05 04","m3",111.32,null,{"$f":"E66*F66","v":0},0,{"$f":"E66*H66","v":0},0,{"$f":"E66*J66","v":0},null,null,null,2,null,null,null,null,null,null,null,null,null,null,null,1,1,1,null,null,null,null,null,null,null,null,null,null,null,null,null,null,null,null,null,null,null,null,null,null,1,{"$f":"IF(AZ66=1,G66,0)","v":0},{"$f":"IF(AZ66=2,G66,0)","v":0},{"$f":"IF(AZ66=3,G66,0)","v":0},{"$f":"IF(AZ66=4,G66,0)","v":0},{"$f":"IF(AZ66=5,G66,0)","v":0},null,null,null,null,null,null,null,null,null,null,null,null,null,null,null,null,null,null,null,null,null,1,1]
[null,null,"Vodovodní řad \"D\" PE D 90x8,2 mm:",null,0,null,null,null,null,null,null,null,"Vodovodní řad \"D\" PE D 90x8,2 mm:"]
[null,null,"Výkopy :",null,0,null,null,null,null,null,null,null,"Výkopy :"]
[null,null,"V hornině tř. 3 - 4:111,3200",null,111.32,null,null,null,null,null,null,null,"V hornině tř. 3 - 4:111,3200"]
[12,"58337308.R","Štěrkopísek frakce 0-2 tř.B","t",88.921999999999997,null,{"$f":"E70*F70","v":0},1,{"$f":"E70*H70","v":88.921999999999997},null,{"$f":"E70*J70","v":0},null,null,null,2,null,null,null,null,null,null,null,null,null,null,null,3,1,"58337308.R",null,null,null,null,null,null,null,null,null,null,null,null,null,null,null,null,null,null,null,null,null,null,1,{"$f":"IF(AZ70=1,G70,0)","v":0},{"$f":"IF(AZ70=2,G70,0)","v":0},{"$f":"IF(AZ70=3,G70,0)","v":0},{"$f":"IF(AZ70=4,G70,0)","v":0},{"$f":"IF(AZ70=5,G70,0)","v":0},null,null,null,null,null,null,null,null,null,null,null,null,null,null,null,null,null,null,null,null,null,3,1]
[null,null,"Vodovodní řady \"S1 a S2\" PE D 90x8,2 mm:",null,0,null,null,null,null,null,null,null,"Vodovodní řady \"S1 a S2\" PE D 90x8,2 mm:"]
[null,null,"Řad \"S1\":111,00*(0,80*(0,09+0,30)-0,045^2*Pi)*1,973*1,01",null,67.605099999999993,null,null,null,null,null,null,null,"Řad \"S1\":111,00*(0,80*(0,09+0,30)-0,045^2*Pi)*1,973*1,01"]
[null,null,"Řad \"S2\":35,00*(0,80*(0,09+0,30)-0,045^2*Pi)*1,973*1,01",null,21.3169,null,null,null,null,null,null,null,"Řad \"S2\":35,00*(0,80*(0,09+0,30)-0,045^2*Pi)*1,973*1,01"]
[13,"58344197R","Štěrkodrtě frakce 0-63 A","t",116.6062,null,{"$f":"E74*F74","v":0},1,{"$f":"E74*H74","v":116.6062},null,{"$f":"E74*J74","v":0},null,null,null,2,null,null,null,null,null,null,null,null,null,null,null,3,1,"58344197R",null,null,null,null,null,null,null,null,null,null,null,null,null,null,null,null,null,null,null,null,null,null,1,{"$f":"IF(AZ74=1,G74,0)","v":0},{"$f":"IF(AZ74=2,G74,0)","v":0},{"$f":"IF(AZ74=3,G74,0)","v":0},{"$f":"IF(AZ74=4,G74,0)","v":0},{"$f":"IF(AZ74=5,G74,0)","v":0},null,null,null,null,null,null,null,null,null,null,null,null,null,null,null,null,null,null,null,null,null,3,1]
[null,null,"Vodovodní řad \"D\" PE D 90x8,2 mm:",null,0,null,null,null,null,null,null,null,"Vodovodní řad \"D\" PE D 90x8,2 mm:"]
[null,null,"Zásyp ŠD fr. 0-63 mm:61,6400*1,873*1,01",null,116.6062,null,null,null,null,null,null,null,"Zásyp ŠD fr. 0-63 mm:61,6400*1,873*1,01"]
[null,"Celkem za","1 Zemní práce",null,null,null,{"$f":"SUM(G7:G76)","v":0},null,{"$f":"SUM(I7:I76)","v":205.89479699999998},null,{"$f":"SUM(K7:K76)","v":0},null,null,null,4,null,null,null,null,null,null,null,null,null,null,null,null,null,null,null,null,null,null,null,null,null,null,null,null,null,null,null,null,null,null,null,null,null,null,null,null,null,{"$f":"SUM(BA7:BA76)","v":0},{"$f":"SUM(BB7:BB76)","v":0},{"$f":"SUM(BC7:BC76)","v":0},{"$f":"SUM(BD7:BD76)","v":0},{"$f":"SUM(BE7:BE76)","v":0}]
["Díl:","21","Úprava podloží a základ.spáry",null,null,null,null,null,null,null,null,null,null,null,1]
[14,"215901101RT5","Zhutnění podloží do 92% PS vibrační deskou","m2",92,null,{"$f":"E79*F79","v":0},0,{"$f":"E79*H79","v":0},0,{"$f":"E79*J79","v":0},null,null,null,2,null,null,null,null,null,null,null,null,null,null,null,1,1,1,null,null,null,null,null,null,null,null,null,null,null,null,null,null,null,null,null,null,null,null,null,null,1,{"$f":"IF(AZ79=1,G79,0)","v":0},{"$f":"IF(AZ79=2,G79,0)","v":0},{"$f":"IF(AZ79=3,G79,0)","v":0},{"$f":"IF(AZ79=4,G79,0)","v":0},{"$f":"IF(AZ79=5,G79,0)","v":0},null,null,null,null,null,null,null,null,null,null,null,null,null,null,null,null,null,null,null,null,null,1,1]
[null,null,"Vodovodní řad \"D\" PE D 90x8,2 mm:",null,0,null,null,null,null,null,null,null,"Vodovodní řad \"D\" PE D 90x8,2 mm:"]
[null,null,"Výkopy :",null,0,null,null,null,null,null,null,null,"Výkopy :"]
[null,null,"Řad \"D\":115,00*0,80",null,92,null,null,null,null,null,null,null,"Řad \"D\":115,00*0,80"]
[null,"Celkem za","21 Úprava podloží a základ.spáry",null,null,null,{"$f":"SUM(G78:G82)","v":0},null,{"$f":"SUM(I78:I82)","v":0},null,{"$f":"SUM(K78:K82)","v":0},null,null,null,4,null,null,null,null,null,null,null,null,null,null,null,null,null,null,null,null,null,null,null,null,null,null,null,null,null,null,null,null,null,null,null,null,null,null,null,null,null,{"$f":"SUM(BA78:BA82)","v":0},{"$f":"SUM(BB78:BB82)","v":0},{"$f":"SUM(BC78:BC82)","v":0},{"$f":"SUM(BD78:BD82)","v":0},{"$f":"SUM(BE78:BE82)","v":0}]
["Díl:","45","Podkladní a vedlejší konstrukce",null,null,null,null,null,null,null,null,null,null,null,1]
[15,"451572111R00","Lože pod potrubí z kameniva těženého 0 - 4 mm ","m3",13.8,null,{"$f":"E85*F85","v":0},0.43051,{"$f":"E85*H85","v":5.9410380000000007},0,{"$f":"E85*J85","v":0},null,null,null,2,null,null,null,null,null,null,null,null,null,null,null,1,1,1,null,null,null,null,null,null,null,null,null,null,null,null,null,null,null,null,null,null,null,null,null,null,1,{"$f":"IF(AZ85=1,G85,0)","v":0},{"$f":"IF(AZ85=2,G85,0)","v":0},{"$f":"IF(AZ85=3,G85,0)","v":0},{"$f":"IF(AZ85=4,G85,0)","v":0},{"$f":"IF(AZ85=5,G85,0)","v":0},null,null,null,null,null,null,null,null,null,null,null,null,null,null,null,null,null,null,null,null,null,1,1]
[null,null,"Vodovodní řad \"D\" PE D 90x8,2 mm:",null,0,null,null,null,null,null,null,null,"Vodovodní řad \"D\" PE D 90x8,2 mm:"]
[null,null,"Řad \"D\":115,00*0,80*0,15",null,13.8,null,null,null,null,null,null,null,"Řad \"D\":115,00*0,80*0,15"]
[16,"452313141R00","Bloky pro potrubí z betonu C 16/20 vč. bednění ","m3",3.5999999999999997E-2,null,{"$f":"E88*F88","v":0},2.5,{"$f":"E88*H88","v":0.09},0,{"$f":"E88*J88","v":0},null,null,null,2,null,null,null,null,null,null,null,null,null,null,null,1,1,1,null,null,null,null,null,null,null,null,null,null,null,null,null,null,null,null,null,null,null,null,null,null,1,{"$f":"IF(AZ88=1,G88,0)","v":0},{"$f":"IF(AZ88=2,G88,0)","v":0},{"$f":"IF(AZ88=3,G88,0)","v":0},{"$f":"IF(AZ88=4,G88,0)","v":0},{"$f":"IF(AZ88=5,G88,0)","v":0},null,null,null,null,null,null,null,null,null,null,null,null,null,null,null,null,null,null,null,null,null,1,1]
[null,"Celkem za","45 Podkladní a vedlejší konstrukce",null,null,null,{"$f":"SUM(G84:G88)","v":0},null,{"$f":"SUM(I84:I88)","v":6.0310380000000006},null,{"$f":"SUM(K84:K88)","v":0},null,null,null,4,null,null,null,null,null,null,null,null,null,null,null,null,null,null,null,null,null,null,null,null,null,null,null,null,null,null,null,null,null,null,null,null,null,null,null,null,null,{"$f":"SUM(BA84:BA88)","v":0},{"$f":"SUM(BB84:BB88)","v":0},{"$f":"SUM(BC84:BC88)","v":0},{"$f":"SUM(BD84:BD88)","v":0},{"$f":"SUM(BE84:BE88)","v":0}]
["Díl:","5","Komunikace",null,null,null,null,null,null,null,null,null,null,null,1]
[17,"572701119RRX","Provizorní zásyp rýh kam. hrubě drceným nebo recyk s následným odstraněním a odvozem","m3",36.799999999999997,null,{"$f":"E91*F91","v":0},1.4804999999999999,{"$f":"E91*H91","v":54.482399999999991},0,{"$f":"E91*J91","v":0},null,null,null,2,null,null,null,null,null,null,null,null,null,null,null,1,1,1,null,null,null,null,null,null,null,null,null,null,null,null,null,null,null,null,null,null,null,null,null,null,1,{"$f":"IF(AZ91=1,G91,0)","v":0},{"$f":"IF(AZ91=2,G91,0)","v":0},{"$f":"IF(AZ91=3,G91,0)","v":0},{"$f":"IF(AZ91=4,G91,0)","v":0},{"$f":"IF(AZ91=5,G91,0)","v":0},null,null,null,null,null,null,null,null,null,null,null,null,null,null,null,null,null,null,null,null,null,1,1]
[null,null,"Vodovodní řad \"D\" PE D 90x8,2 mm:",null,0,null,null,null,null,null,null,null,"Vodovodní řad \"D\" PE D 90x8,2 mm:"]
[null,null,"Provizorní zásypy stávající konstrukce komunikace a chodníků:",null,0,null,null,null,null,null,null,null,"Provizorní zásypy stávající konstrukce komunikace a chodníků:"]
[null,null,"Řad \"D\":115,00*0,80*0,40",null,36.799999999999997,null,null,null,null,null,null,null,"Řad \"D\":115,00*0,80*0,40"]
[null,"Celkem za","5 Komunikace",null,null,null,{"$f":"SUM(G90:G94)","v":0},null,{"$f":"SUM(I90:I94)","v":54.482399999999991},null,{"$f":"SUM(K90:K94)","v":0},null,null,null,4,null,null,null,null,null,null,null,null,null,null,null,null,null,null,null,null,null,null,null,null,null,null,null,null,null,null,null,null,null,null,null,null,null,null,null,null,null,{"$f":"SUM(BA90:BA94)","v":0},{"$f":"SUM(BB90:BB94)","v":0},{"$f":"SUM(BC90:BC94)","v":0},{"$f":"SUM(BD90:BD94)","v":0},{"$f":"SUM(BE90:BE94)","v":0}]
["Díl:","8","Trubní vedení",null,null,null,null,null,null,null,null,null,null,null,1]
[18,"850245121R00","Výřez nebo výsek na potrubí DN 80 ","kus",3,null,{"$f":"E97*F97","v":0},0,{"$f":"E97*H97","v":0},0,{"$f":"E97*J97","v":0},null,null,null,2,null,null,null,null,null,null,null,null,null,null,null,1,1,1,null,null,null,null,null,null,null,null,null,null,null,null,null,null,null,null,null,null,null,null,null,null,1,{"$f":"IF(AZ97=1,G97,0)","v":0},{"$f":"IF(AZ97=2,G97,0)","v":0},{"$f":"IF(AZ97=3,G97,0)","v":0},{"$f":"IF(AZ97=4,G97,0)","v":0},{"$f":"IF(AZ97=5,G97,0)","v":0},null,null,null,null,null,null,null,null,null,null,null,null,null,null,null,null,null,null,null,null,null,1,1]
[null,null,"Položky výřezu nebo výseku na potrubí z trub litinových tlakových jsou určeny pro dva řezy nebo seky prováděné na potrubí dodatečně. V položkách jsou zakalkulovány náklady na",null,null,null,null,null,null,null,null,"Položky výřezu nebo výseku na potrubí z trub litinových tlakových jsou určeny pro dva řezy nebo seky prováděné na potrubí dodatečně. V položkách jsou zakalkulovány náklady na",null,null,3]
[null,null,"- ohlášení uzavírání vody",null,null,null,null,null,null,null,null,"- ohlášení uzavírání vody",null,null,3]
[null,null,"- uzavření a otevření šoupat",null,null,null,null,null,null,null,null,"- uzavření a otevření šoupat",null,null,3]
[null,null,"- vypuštění a napuštění vody",null,null,null,null,null,null,null,null,"- vypuštění a napuštění vody",null,null,3]
[null,null,"- odvzdušnění potrubí",null,null,null,null,null,null,null,null,"- odvzdušnění potrubí",null,null,3]
[null,null,"- strojní nebo ruční výřez potrubí",null,null,null,null,null,null,null,null,"- strojní nebo ruční výřez potrubí",null,null,3]
[null,null,"- nutné úpravy výkopu v prostoru provádění",null,null,null,null,null,null,null,null,"- nutné úpravy výkopu v prostoru provádění",null,null,3]
[null,null,"- demonzáž stávajícich tvarovek a armatur",null,null,null,null,null,null,null,null,"- demonzáž stávajícich tvarovek a armatur",null,null,3]
[null,null,"- montáž tvarovky",null,null,null,null,null,null,null,null,"- montáž tvarovky",null,null,3]
[null,null,"Vodovodní řad \"D\" PE D 90x8,2 mm:",null,0,null,null,null,null,null,null,null,"Vodovodní řad \"D\" PE D 90x8,2 mm:"]
[null,null,"Přerušení stáv. potrubí DN80:3",null,3,null,null,null,null,null,null,null,"Přerušení stáv. potrubí DN80:3"]
[19,"857242121R00","Montáž tvarovek litin. jednoos.přír. výkop DN 80 včetně nerezových spoj. prvků a obandážování spoje","kus",3,null,{"$f":"E109*F109","v":0},2.2000000000000001E-4,{"$f":"E109*H109","v":6.6E-4},0,{"$f":"E109*J109","v":0},null,null,null,2,null,null,null,null,null,null,null,null,null,null,null,1,1,1,null,null,null,null,null,null,null,null,null,null,null,null,null,null,null,null,null,null,null,null,null,null,1,{"$f":"IF(AZ109=1,G109,0)","v":0},{"$f":"IF(AZ109=2,G109,0)","v":0},{"$f":"IF(AZ109=3,G109,0)","v":0},{"$f":"IF(AZ109=4,G109,0)","v":0},{"$f":"IF(AZ109=5,G109,0)","v":0},null,null,null,null,null,null,null,null,null,null,null,null,null,null,null,null,null,null,null,null,null,1,1]
[null,null,"Položka je určena pro montáž litinových tvarovek na potrubí litinovém tlakovém přírubovém jednoosých v otevřeném výkopu, v otevřeném kanálu nebo v šachtě.",null,null,null,null,null,null,null,null,"Položka je určena pro montáž litinových tvarovek na potrubí litinovém tlakovém přírubovém jednoosých v otevřeném výkopu, v otevřeném kanálu nebo v šachtě.",null,null,3]
[null,null,"Součástí položky je i dodávka nerezových spojovacích prvků (šrouby, podložky, matky) a kompletního obandážování spojů. ",null,null,null,null,null,null,null,null,"Součástí položky je i dodávka nerezových spojovacích prvků (šrouby, podložky, matky) a kompletního obandážování spojů. ",null,null,3]
[null,null,"Vodovodní řad \"D\" PE D 90x8,2 mm:",null,0,null,null,null,null,null,null,null,"Vodovodní řad \"D\" PE D 90x8,2 mm:"]
[null,null,"Synoflex spojka DN80:1",null,1,null,null,null,null,null,null,null,"Synoflex spojka DN80:1"]
[null,null,"LN + TP D90/DN80:1",null,1,null,null,null,null,null,null,null,"LN + TP D90/DN80:1"]
[null,null,"PPL DN80:1",null,1,null,null,null,null,null,null,null,"PPL DN80:1"]
[20,"871241121R00","Montáž potrubí polyetylenového ve výkopu d 90 mm ","m",115,null,{"$f":"E116*F116","v":0},0,{"$f":"E116*H116","v":0},0,{"$f":"E116*J116","v":0},null,null,null,2,null,null,null,null,null,null,null,null,null,null,null,1,1,1,null,null,null,null,null,null,null,null,null,null,null,null,null,null,null,null,null,null,null,null,null,null,1,{"$f":"IF(AZ116=1,G116,0)","v":0},{"$f":"IF(AZ116=2,G116,0)","v":0},{"$f":"IF(AZ116=3,G116,0)","v":0},{"$f":"IF(AZ116=4,G116,0)","v":0},{"$f":"IF(AZ116=5,G116,0)","v":0},null,null,null,null,null,null,null,null,null,null,null,null,null,null,null,null,null,null,null,null,null,1,1]
[null,null,"V položce je uvažováno s jedním spojem na 6 m potrubí. ",null,null,null,null,null,null,null,null,"V položce je uvažováno s jedním spojem na 6 m potrubí. ",null,null,3]
[null,null,"Vodovodní řad \"D\" PE D 90x8,2 mm:",null,0,null,null,null,null,null,null,null,"Vodovodní řad \"D\" PE D 90x8,2 mm:"]
[null,null,"Řad \"D\":115,00",null,115,null,null,null,null,null,null,null,"Řad \"D\":115,00"]
[21,"877242121R00","Přirážka za 1 spoj elektrotvarovky d 90 mm ","kus",13,null,{"$f":"E120*F120","v":0},0,{"$f":"E120*H120","v":0},0,{"$f":"E120*J120","v":0},null,null,null,2,null,null,null,null,null,null,null,null,null,null,null,1,1,1,null,null,null,null,null,null,null,null,null,null,null,null,null,null,null,null,null,null,null,null,null,null,1,{"$f":"IF(AZ120=1,G120,0)","v":0},{"$f":"IF(AZ120=2,G120,0)","v":0},{"$f":"IF(AZ120=3,G120,0)","v":0},{"$f":"IF(AZ120=4,G120,0)","v":0},{"$f":"IF(AZ120=5,G120,0)","v":0},null,null,null,null,null,null,null,null,null,null,null,null,null,null,null,null,null,null,null,null,null,1,1]
[null,null,"Vodovodní řad \"D\" PE D 90x8,2 mm:",null,0,null,null,null,null,null,null,null,"Vodovodní řad \"D\" PE D 90x8,2 mm:"]
[null,null,"Elektrospojka PE D90:12",null,12,null,null,null,null,null,null,null,"Elektrospojka PE D90:12"]
[null,null,"Oblouk PE D90/22°:1",null,1,null,null,null,null,null,null,null,"Oblouk PE D90/22°:1"]
[22,"891241111R00","Montáž vodovodních šoupátek ve výkopu DN 80 včetně nerezových spoj. prvků a obandážování spoje","kus",1,null,{"$f":"E124*F124","v":0},2.2000000000000001E-4,{"$f":"E124*H124","v":2.2000000000000001E-4},0,{"$f":"E124*J124","v":0},null,null,null,2,null,null,null,null,null,null,null,null,null,null,null,1,1,1,null,null,null,null,null,null,null,null,null,null,null,null,null,null,null,null,null,null,null,null,null,null,1,{"$f":"IF(AZ124=1,G124,0)","v":0},{"$f":"IF(AZ124=2,G124,0)","v":0},{"$f":"IF(AZ124=3,G124,0)","v":0},{"$f":"IF(AZ124=4,G124,0)","v":0},{"$f":"IF(AZ124=5,G124,0)","v":0},null,null,null,null,null,null,null,null,null,null,null,null,null,null,null,null,null,null,null,null,null,1,1]
[null,null,"Položka je určena pro montáž vodovodních šoupátek v otevřeném výkopu nebo v šachtách s osazením zemní soupravy (bez poklopů). V položce jsou zakalkulovány i náklady na vytvoření otvorů ve stropech šachet pro prostup zemních souprav šoupátek.",null,null,null,null,null,null,null,null,"Položka je určena pro montáž vodovodních šoupátek v otevřeném výkopu nebo v šachtách s osazením zemní soupravy (bez poklopů). V položce jsou zakalkulovány i náklady na vytvoření otvorů ve stropech šachet pro prostup zemních souprav šoupátek.",null,null,3]
[null,null,"Součástí položky je i dodávka nerezových spojovacích prvků (šrouby, podložky, matky) a kompletního obandážování spojů. ",null,null,null,null,null,null,null,null,"Součástí položky je i dodávka nerezových spojovacích prvků (šrouby, podložky, matky) a kompletního obandážování spojů. ",null,null,3]
[null,null,"Vodovodní řad \"D\" PE D 90x8,2 mm:",null,0,null,null,null,null,null,null,null,"Vodovodní řad \"D\" PE D 90x8,2 mm:"]
[null,null,"Šoupě DN80:1",null,1,null,null,null,null,null,null,null,"Šoupě DN80:1"]
[23,"891243321R00","Montáž ventilů odvzdušňovacích přírub. DN 80 včetně nerezových spoj. prvků a obandážování spoje","kus",1,null,{"$f":"E129*F129","v":0},7.9000000000000001E-4,{"$f":"E129*H129","v":7.9000000000000001E-4},0,{"$f":"E129*J129","v":0},null,null,null,2,null,null,null,null,null,null,null,null,null,null,null,1,1,1,null,null,null,null,null,null,null,null,null,null,null,null,null,null,null,null,null,null,null,null,null,null,1,{"$f":"IF(AZ129=1,G129,0)","v":0},{"$f":"IF(AZ129=2,G129,0)","v":0},{"$f":"IF(AZ129=3,G129,0)","v":0},{"$f":"IF(AZ129=4,G129,0)","v":0},{"$f":"IF(AZ129=5,G129,0)","v":0},null,null,null,null,null,null,null,null,null,null,null,null,null,null,null,null,null,null,null,null,null,1,1]
[null,null,"Položka je určena pro montáž ventilů odvzdušňovacích nebo zavzdušňovacích mechanických a plovákových přírubových na venkovních řadech.",null,null,null,null,null,null,null,null,"Položka je určena pro montáž ventilů odvzdušňovacích nebo zavzdušňovacích mechanických a plovákových přírubových na venkovních řadech.",null,null,3]
[null,null,"Součástí položky je i dodávka nerezových spojovacích prvků (šrouby, podložky, matky) a kompletního obandážování spojů. ",null,null,null,null,null,null,null,null,"Součástí položky je i dodávka nerezových spojovacích prvků (šrouby, podložky, matky) a kompletního obandážování spojů. ",null,null,3]
[null,null,"Vodovodní řad \"D\" PE D 90x8,2 mm:",null,0,null,null,null,null,null,null,null,"Vodovodní řad \"D\" PE D 90x8,2 mm:"]
[null,null,"VZD DN80:1",null,1,null,null,null,null,null,null,null,"VZD DN80:1"]
[24,"891249111R00","Montáž navrtávacích pasů DN 80 s ventilem ","kus",4,null,{"$f":"E134*F134","v":0},0,{"$f":"E134*H134","v":0},0,{"$f":"E134*J134","v":0},null,null,null,2,null,null,null,null,null,null,null,null,null,null,null,1,1,1,null,null,null,null,null,null,null,null,null,null,null,null,null,null,null,null,null,null,null,null,null,null,1,{"$f":"IF(AZ134=1,G134,0)","v":0},{"$f":"IF(AZ134=2,G134,0)","v":0},{"$f":"IF(AZ134=3,G134,0)","v":0},{"$f":"IF(AZ134=4,G134,0)","v":0},{"$f":"IF(AZ134=5,G134,0)","v":0},null,null,null,null,null,null,null,null,null,null,null,null,null,null,null,null,null,null,null,null,null,1,1]
[null,null,"Vodovodní řad \"D\" PE D 90x8,2 mm:",null,0,null,null,null,null,null,null,null,"Vodovodní řad \"D\" PE D 90x8,2 mm:"]
[null,null,"Pro VP - NP D90/32:4",null,4,null,null,null,null,null,null,null,"Pro VP - NP D90/32:4"]
[25,"892241111R00","Tlaková zkouška vodovodního potrubí DN 80 včetně zajištění konců potrubí","m",115,null,{"$f":"E137*F137","v":0},0,{"$f":"E137*H137","v":0},0,{"$f":"E137*J137","v":0},null,null,null,2,null,null,null,null,null,null,null,null,null,null,null,1,1,1,null,null,null,null,null,null,null,null,null,null,null,null,null,null,null,null,null,null,null,null,null,null,1,{"$f":"IF(AZ137=1,G137,0)","v":0},{"$f":"IF(AZ137=2,G137,0)","v":0},{"$f":"IF(AZ137=3,G137,0)","v":0},{"$f":"IF(AZ137=4,G137,0)","v":0},{"$f":"IF(AZ137=5,G137,0)","v":0},null,null,null,null,null,null,null,null,null,null,null,null,null,null,null,null,null,null,null,null,null,1,1]
[null,null,"V položce jsou započteny náklady na přísun, montáž, demontáž a odsun zkoušecího čerpadla, napuštění tlakovou vodou a dodání vody pro tlakovou zkoušku",null,null,null,null,null,null,null,null,"V položce jsou započteny náklady na přísun, montáž, demontáž a odsun zkoušecího čerpadla, napuštění tlakovou vodou a dodání vody pro tlakovou zkoušku",null,null,3]
[null,null,"Vodovodní řad \"D\" PE D 90x8,2 mm:",null,0,null,null,null,null,null,null,null,"Vodovodní řad \"D\" PE D 90x8,2 mm:"]
[null,null,"Řad \"D\":115,00",null,115,null,null,null,null,null,null,null,"Řad \"D\":115,00"]
[26,"892273111R00","Desinfekce vodovodního potrubí DN 125 ","m",115,null,{"$f":"E141*F141","v":0},0,{"$f":"E141*H141","v":0},0,{"$f":"E141*J141","v":0},null,null,null,2,null,null,null,null,null,null,null,null,null,null,null,1,1,1,null,null,null,null,null,null,null,null,null,null,null,null,null,null,null,null,null,null,null,null,null,null,1,{"$f":"IF(AZ141=1,G141,0)","v":0},{"$f":"IF(AZ141=2,G141,0)","v":0},{"$f":"IF(AZ141=3,G141,0)","v":0},{"$f":"IF(AZ141=4,G141,0)","v":0},{"$f":"IF(AZ141=5,G141,0)","v":0},null,null,null,null,null,null,null,null,null,null,null,null,null,null,null,null,null,null,null,null,null,1,1]
[null,null,"V položce jsou zakalkulovány náklady na napuštění a vypuštění vody, dodání vody a desinfekčního prostředku a na bakteriologický rozbor vody.",null,null,null,null,null,null,null,null,"V položce jsou zakalkulovány náklady na napuštění a vypuštění vody, dodání vody a desinfekčního prostředku a na bakteriologický rozbor vody.",null,null,3]
[null,null,"Vodovodní řad \"D\" PE D 90x8,2 mm:",null,0,null,null,null,null,null,null,null,"Vodovodní řad \"D\" PE D 90x8,2 mm:"]
[null,null,"Řad \"D\":115,00",null,115,null,null,null,null,null,null,null,"Řad \"D\":115,00"]
[27,"899401113R00","Osazení poklopů litinových hydrantových ","kus",1,null,{"$f":"E145*F145","v":0},0.32906000000000002,{"$f":"E145*H145","v":0.32906000000000002},0,{"$f":"E145*J145","v":0},null,null,null,2,null,null,null,null,null,null,null,null,null,null,null,1,1,1,null,null,null,null,null,null,null,null,null,null,null,null,null,null,null,null,null,null,null,null,null,null,1,{"$f":"IF(AZ145=1,G145,0)","v":0},{"$f":"IF(AZ145=2,G145,0)","v":0},{"$f":"IF(AZ145=3,G145,0)","v":0},{"$f":"IF(AZ145=4,G145,0)","v":0},{"$f":"IF(AZ145=5,G145,0)","v":0},null,null,null,null,null,null,null,null,null,null,null,null,null,null,null,null,null,null,null,null,null,1,1]
[null,null,"Vodovodní řad \"D\" PE D 90x8,2 mm:",null,0,null,null,null,null,null,null,null,"Vodovodní řad \"D\" PE D 90x8,2 mm:"]
[null,null,"Pro VZD DN80:1",null,1,null,null,null,null,null,null,null,"Pro VZD DN80:1"]
[28,"899721112R00","Fólie výstražná z PVC bílá, šířka 30 cm ","m",115,null,{"$f":"E148*F148","v":0},0,{"$f":"E148*H148","v":0},0,{"$f":"E148*J148","v":0},null,null,null,2,null,null,null,null,null,null,null,null,null,null,null,1,1,1,null,null,null,null,null,null,null,null,null,null,null,null,null,null,null,null,null,null,null,null,null,null,1,{"$f":"IF(AZ148=1,G148,0)","v":0},{"$f":"IF(AZ148=2,G148,0)","v":0},{"$f":"IF(AZ148=3,G148,0)","v":0},{"$f":"IF(AZ148=4,G148,0)","v":0},{"$f":"IF(AZ148=5,G148,0)","v":0},null,null,null,null,null,null,null,null,null,null,null,null,null,null,null,null,null,null,null,null,null,1,1]
[null,null,"Vodovodní řad \"D\" PE D 90x8,2 mm:",null,0,null,null,null,null,null,null,null,"Vodovodní řad \"D\" PE D 90x8,2 mm:"]
[null,null,"Řad \"D\":115,00",null,115,null,null,null,null,null,null,null,"Řad \"D\":115,00"]
[29,"899731114R00","Vodič signalizační CYY 6 mm2 ","m",137,null,{"$f":"E151*F151","v":0},8.0000000000000007E-5,{"$f":"E151*H151","v":1.0960000000000001E-2},0,{"$f":"E151*J151","v":0},null,null,null,2,null,null,null,null,null,null,null,null,null,null,null,1,1,1,null,null,null,null,null,null,null,null,null,null,null,null,null,null,null,null,null,null,null,null,null,null,1,{"$f":"IF(AZ151=1,G151,0)","v":0},{"$f":"IF(AZ151=2,G151,0)","v":0},{"$f":"IF(AZ151=3,G151,0)","v":0},{"$f":"IF(AZ151=4,G151,0)","v":0},{"$f":"IF(AZ151=5,G151,0)","v":0},null,null,null,null,null,null,null,null,null,null,null,null,null,null,null,null,null,null,null,null,null,1,1]
[null,null,"Součástí položky je zajištění proměření vodiče a výchozí zevize.",null,null,null,null,null,null,null,null,"Součástí položky je zajištění proměření vodiče a výchozí zevize.",null,null,3]
[null,null,"Vodovodní řad \"D\" PE D 90x8,2 mm:",null,0,null,null,null,null,null,null,null,"Vodovodní řad \"D\" PE D 90x8,2 mm:"]
[null,null,"Řad \"D\":115,00",null,115,null,null,null,null,null,null,null,"Řad \"D\":115,00"]
[null,null,"Vyvedení:",null,0,null,null,null,null,null,null,null,"Vyvedení:"]
[null,null,"Pro Šoupě DN80:2,00*2*1",null,4,null,null,null,null,null,null,null,"Pro Šoupě DN80:2,00*2*1"]
[null,null,"Pro VZD DN80:2,00*1*1",null,2,null,null,null,null,null,null,null,"Pro VZD DN80:2,00*1*1"]
[null,null,"Pro VP:2,00*2*4",null,16,null,null,null,null,null,null,null,"Pro VP:2,00*2*4"]
[30,"28613070.DAV.R","T-kus odbočkový navrtávací DAV (KIT) D90/32","kus",4,null,{"$f":"E159*F159","v":0},0,{"$f":"E159*H159","v":0},null,{"$f":"E159*J159","v":0},null,null,null,2,null,null,null,null,null,null,null,null,null,null,null,3,1,"28613070.DAV.R",null,null,null,null,null,null,null,null,null,null,null,null,null,null,null,null,null,null,null,null,null,null,1,{"$f":"IF(AZ159=1,G159,0)","v":0},{"$f":"IF(AZ159=2,G159,0)","v":0},{"$f":"IF(AZ159=3,G159,0)","v":0},{"$f":"IF(AZ159=4,G159,0)","v":0},{"$f":"IF(AZ159=5,G159,0)","v":0},null,null,null,null,null,null,null,null,null,null,null,null,null,null,null,null,null,null,null,null,null,3,1]
[null,null,"Vodovodní řad \"D\" PE D 90x8,2 mm:",null,0,null,null,null,null,null,null,null,"Vodovodní řad \"D\" PE D 90x8,2 mm:"]
[null,null,"Pro VP - NP D90/32:4",null,4,null,null,null,null,null,null,null,"Pro VP - NP D90/32:4"]
[31,"28613090.EBS.R","Zemní souprava EBS 1,1-1,8 pro DAV (KIT)","kus",4,null,{"$f":"E162*F162","v":0},0,{"$f":"E162*H162","v":0},null,{"$f":"E162*J162","v":0},null,null,null,2,null,null,null,null,null,null,null,null,null,null,null,3,1,"28613090.EBS.R",null,null,null,null,null,null,null,null,null,null,null,null,null,null,null,null,null,null,null,null,null,null,1,{"$f":"IF(AZ162=1,G162,0)","v":0},{"$f":"IF(AZ162=2,G162,0)","v":0},{"$f":"IF(AZ162=3,G162,0)","v":0},{"$f":"IF(AZ162=4,G162,0)","v":0},{"$f":"IF(AZ162=5,G162,0)","v":0},null,null,null,null,null,null,null,null,null,null,null,null,null,null,null,null,null,null,null,null,null,3,1]
[null,null,"Vodovodní řad \"D\" PE D 90x8,2 mm:",null,0,null,null,null,null,null,null,null,"Vodovodní řad \"D\" PE D 90x8,2 mm:"]
[null,null,"Pro VP - NP D90/32:4",null,4,null,null,null,null,null,null,null,"Pro VP - NP D90/32:4"]
[32,"286134213.R","Trubka tlaková PE 100 RC2 PE100 90x8,2 mm PN16 tyče L=12 m","m",116.72499999999999,null,{"$f":"E165*F165","v":0},2.1199999999999999E-3,{"$f":"E165*H165","v":0.24745699999999998},null,{"$f":"E165*J165","v":0},null,null,null,2,null,null,null,null,null,null,null,null,null,null,null,3,1,"286134213.R",null,null,null,null,null,null,null,null,null,null,null,null,null,null,null,null,null,null,null,null,null,null,1,{"$f":"IF(AZ165=1,G165,0)","v":0},{"$f":"IF(AZ165=2,G165,0)","v":0},{"$f":"IF(AZ165=3,G165,0)","v":0},{"$f":"IF(AZ165=4,G165,0)","v":0},{"$f":"IF(AZ165=5,G165,0)","v":0},null,null,null,null,null,null,null,null,null,null,null,null,null,null,null,null,null,null,null,null,null,3,1]
[null,null,"Vodovodní tlaková trubka PE 100 RC2 dle normy EN 12 201-2",null,null,null,null,null,null,null,null,"Vodovodní PE tlaková trubka AQUALINE RC2 dle normy EN 12 201-2",null,null,3]
[null,null,"(doprava pitné a užitkové vody)",null,null,null,null,null,null,null,null,"(doprava pitné a užitkové vody)",null,null,3]
[null,null,"Vodovodní řad \"D\" PE D 90x8,2 mm:",null,0,null,null,null,null,null,null,null,"Vodovodní řad \"D\" PE D 90x8,2 mm:"]
[null,null,"Řad \"D\":115,00*1,015",null,116.72499999999999,null,null,null,null,null,null,null,"Řad \"D\":115,00*1,015"]
[33,"28653079.11.R","Elektrospojka d 90 mm PE 100 SDR11","kus",12.18,null,{"$f":"E170*F170","v":0},1.2999999999999999E-3,{"$f":"E170*H170","v":1.5833999999999997E-2},null,{"$f":"E170*J170","v":0},null,null,null,2,null,null,null,null,null,null,null,null,null,null,null,3,1,"28653079.11.R",null,null,null,null,null,null,null,null,null,null,null,null,null,null,null,null,null,null,null,null,null,null,1,{"$f":"IF(AZ170=1,G170,0)","v":0},{"$f":"IF(AZ170=2,G170,0)","v":0},{"$f":"IF(AZ170=3,G170,0)","v":0},{"$f":"IF(AZ170=4,G170,0)","v":0},{"$f":"IF(AZ170=5,G170,0)","v":0},null,null,null,null,null,null,null,null,null,null,null,null,null,null,null,null,null,null,null,null,null,3,1]
[null,null,"Vodovodní řad \"D\" PE D 90x8,2 mm:",null,0,null,null,null,null,null,null,null,"Vodovodní řad \"D\" PE D 90x8,2 mm:"]
[null,null,"Elektrospojka PE D90:12*1,015",null,12.18,null,null,null,null,null,null,null,"Elektrospojka PE D90:12*1,015"]
[34,"28653439.A.R","Oblouk 22° PE d 90 mm PE100 SDR11","kus",1.0149999999999999,null,{"$f":"E173*F173","v":0},1.0499999999999999E-3,{"$f":"E173*H173","v":1.0657499999999999E-3},null,{"$f":"E173*J173","v":0},null,null,null,2,null,null,null,null,null,null,null,null,null,null,null,3,1,"28653439.A.R",null,null,null,null,null,null,null,null,null,null,null,null,null,null,null,null,null,null,null,null,null,null,1,{"$f":"IF(AZ173=1,G173,0)","v":0},{"$f":"IF(AZ173=2,G173,0)","v":0},{"$f":"IF(AZ173=3,G173,0)","v":0},{"$f":"IF(AZ173=4,G173,0)","v":0},{"$f":"IF(AZ173=5,G173,0)","v":0},null,null,null,null,null,null,null,null,null,null,null,null,null,null,null,null,null,null,null,null,null,3,1]
[null,null,"Vodovodní řad \"D\" PE D 90x8,2 mm:",null,0,null,null,null,null,null,null,null,"Vodovodní řad \"D\" PE D 90x8,2 mm:"]
[null,null,"Oblouk PE D90/22°:1*1,015",null,1.0149999999999999,null,null,null,null,null,null,null,"Oblouk PE D90/22°:1*1,015"]
[35,"28653765.R","LN + TP D90/DN80 PE100 SDR11","kus",1,null,{"$f":"E176*F176","v":0},3.5E-4,{"$f":"E176*H176","v":3.5E-4},null,{"$f":"E176*J176","v":0},null,null,null,2,null,null,null,null,null,null,null,null,null,null,null,3,1,"28653765.R",null,null,null,null,null,null,null,null,null,null,null,null,null,null,null,null,null,null,null,null,null,null,1,{"$f":"IF(AZ176=1,G176,0)","v":0},{"$f":"IF(AZ176=2,G176,0)","v":0},{"$f":"IF(AZ176=3,G176,0)","v":0},{"$f":"IF(AZ176=4,G176,0)","v":0},{"$f":"IF(AZ176=5,G176,0)","v":0},null,null,null,null,null,null,null,null,null,null,null,null,null,null,null,null,null,null,null,null,null,3,1]
[null,null,"Vodovodní řad \"D\" PE D 90x8,2 mm:",null,0,null,null,null,null,null,null,null,"Vodovodní řad \"D\" PE D 90x8,2 mm:"]
[null,null,"LN + TP D90/DN80:1",null,1,null,null,null,null,null,null,null,"LN + TP D90/DN80:1"]
[36,"42201790","Poklop odvz.a propl. hydrantů č.1790","kus",1,null,{"$f":"E179*F179","v":0},1.1299999999999999E-2,{"$f":"E179*H179","v":1.1299999999999999E-2},null,{"$f":"E179*J179","v":0},null,null,null,2,null,null,null,null,null,null,null,null,null,null,null,3,1,42201790,null,null,null,null,null,null,null,null,null,null,null,null,null,null,null,null,null,null,null,null,null,null,1,{"$f":"IF(AZ179=1,G179,0)","v":0},{"$f":"IF(AZ179=2,G179,0)","v":0},{"$f":"IF(AZ179=3,G179,0)","v":0},{"$f":"IF(AZ179=4,G179,0)","v":0},{"$f":"IF(AZ179=5,G179,0)","v":0},null,null,null,null,null,null,null,null,null,null,null,null,null,null,null,null,null,null,null,null,null,3,1]
[null,null,null,null,null,null,null,null,null,null,null,null,null,null,3]
[null,null,"vhodné ruční kolo: č. 7800",null,null,null,null,null,null,null,null,"vhodné ruční kolo: č. 7800",null,null,3]
[null,null,null,null,null,null,null,null,null,null,null,null,null,null,3]
[null,null,"Vodovodní řad \"D\" PE D 90x8,2 mm:",null,0,null,null,null,null,null,null,null,"Vodovodní řad \"D\" PE D 90x8,2 mm:"]
[null,null,"Pro VZD DN80:1",null,1,null,null,null,null,null,null,null,"Pro VZD DN80:1"]
[37,"42203482.R","Podkladová deska č. 3482","kus",1,null,{"$f":"E185*F185","v":0},5.9999999999999995E-4,{"$f":"E185*H185","v":5.9999999999999995E-4},null,{"$f":"E185*J185","v":0},null,null,null,2,null,null,null,null,null,null,null,null,null,null,null,3,1,"42203482.R",null,null,null,null,null,null,null,null,null,null,null,null,null,null,null,null,null,null,null,null,null,null,1,{"$f":"IF(AZ185=1,G185,0)","v":0},{"$f":"IF(AZ185=2,G185,0)","v":0},{"$f":"IF(AZ185=3,G185,0)","v":0},{"$f":"IF(AZ185=4,G185,0)","v":0},{"$f":"IF(AZ185=5,G185,0)","v":0},null,null,null,null,null,null,null,null,null,null,null,null,null,null,null,null,null,null,null,null,null,3,1]
[null,null,null,null,null,null,null,null,null,null,null,null,null,null,3]
[null,null,"Vodovodní řad \"D\" PE D 90x8,2 mm:",null,0,null,null,null,null,null,null,null,"Vodovodní řad \"D\" PE D 90x8,2 mm:"]
[null,null,"Pro VZD DN80:1",null,1,null,null,null,null,null,null,null,"Pro VZD DN80:1"]
[38,"42209822.06.R","Ventil odvzdušňovací 1555/80 PN 1-16","kus",1,null,{"$f":"E189*F189","v":0},3.1E-2,{"$f":"E189*H189","v":3.1E-2},null,{"$f":"E189*J189","v":0},null,null,null,2,null,null,null,null,null,null,null,null,null,null,null,3,1,"42209822.06.R",null,null,null,null,null,null,null,null,null,null,null,null,null,null,null,null,null,null,null,null,null,null,1,{"$f":"IF(AZ189=1,G189,0)","v":0},{"$f":"IF(AZ189=2,G189,0)","v":0},{"$f":"IF(AZ189=3,G189,0)","v":0},{"$f":"IF(AZ189=4,G189,0)","v":0},{"$f":"IF(AZ189=5,G189,0)","v":0},null,null,null,null,null,null,null,null,null,null,null,null,null,null,null,null,null,null,null,null,null,3,1]
[null,null,"Vodovodní řad \"D\" PE D 90x8,2 mm:",null,0,null,null,null,null,null,null,null,"Vodovodní řad \"D\" PE D 90x8,2 mm:"]
[null,null,"VZD DN80:1",null,1,null,null,null,null,null,null,null,"VZD DN80:1"]
[39,"42209999.R","Drenážní obal","kus",1,null,{"$f":"E192*F192","v":0},4.7999999999999996E-3,{"$f":"E192*H192","v":4.7999999999999996E-3},null,{"$f":"E192*J192","v":0},null,null,null,2,null,null,null,null,null,null,null,null,null,null,null,3,1,"42209999.R",null,null,null,null,null,null,null,null,null,null,null,null,null,null,null,null,null,null,null,null,null,null,1,{"$f":"IF(AZ192=1,G192,0)","v":0},{"$f":"IF(AZ192=2,G192,0)","v":0},{"$f":"IF(AZ192=3,G192,0)","v":0},{"$f":"IF(AZ192=4,G192,0)","v":0},{"$f":"IF(AZ192=5,G192,0)","v":0},null,null,null,null,null,null,null,null,null,null,null,null,null,null,null,null,null,null,null,null,null,3,1]
[null,null,"Vodovodní řad \"D\" PE D 90x8,2 mm:",null,0,null,null,null,null,null,null,null,"Vodovodní řad \"D\" PE D 90x8,2 mm:"]
[null,null,"Pro VZD DN80:1",null,1,null,null,null,null,null,null,null,"Pro VZD DN80:1"]
[40,"42228310.R","Šoupátko 4000E3 DN 80 přírubové, voda PN16","kus",1,null,{"$f":"E195*F195","v":0},1.6500000000000001E-2,{"$f":"E195*H195","v":1.6500000000000001E-2},null,{"$f":"E195*J195","v":0},null,null,null,2,null,null,null,null,null,null,null,null,null,null,null,3,1,"42228310.R",null,null,null,null,null,null,null,null,null,null,null,null,null,null,null,null,null,null,null,null,null,null,1,{"$f":"IF(AZ195=1,G195,0)","v":0},{"$f":"IF(AZ195=2,G195,0)","v":0},{"$f":"IF(AZ195=3,G195,0)","v":0},{"$f":"IF(AZ195=4,G195,0)","v":0},{"$f":"IF(AZ195=5,G195,0)","v":0},null,null,null,null,null,null,null,null,null,null,null,null,null,null,null,null,null,null,null,null,null,3,1]
[null,null,"Šoupátko přírubové krkové - měkcetěsnící klínové šoupátko s hladkým a volným průtokovým kanálem",null,null,null,null,null,null,null,null,"Šoupátko přírubové krkové - měkcetěsnící klínové šoupátko s hladkým a volným průtokovým kanálem",null,null,3]
[null,null,"č. 4000E3",null,null,null,null,null,null,null,null,"č. 4000E3",null,null,3]
[null,null,"PN 16",null,null,null,null,null,null,null,null,"PN 16",null,null,3]
[null,null,"DN 80",null,null,null,null,null,null,null,null,"DN 80",null,null,3]
[null,null,"těleso a víko: tvárná litina GGG 400 - DIN 1693",null,null,null,null,null,null,null,null,"těleso a víko: tvárná litina GGG 400 - DIN 1693",null,null,3]
[null,null,"medium: pitná voda, neagresivní odpadní voda",null,null,null,null,null,null,null,null,"medium: pitná voda, neagresivní odpadní voda",null,null,3]
[null,null,"Vodovodní řad \"D\" PE D 90x8,2 mm:",null,0,null,null,null,null,null,null,null,"Vodovodní řad \"D\" PE D 90x8,2 mm:"]
[null,null,"Šoupě DN80:1",null,1,null,null,null,null,null,null,null,"Šoupě DN80:1"]
[41,"42293250.R","Souprava zemní tel.9502E2/E3 DN50 -100, 1,3-1,8m","kus",1,null,{"$f":"E204*F204","v":0},7.3000000000000001E-3,{"$f":"E204*H204","v":7.3000000000000001E-3},null,{"$f":"E204*J204","v":0},null,null,null,2,null,null,null,null,null,null,null,null,null,null,null,3,1,"42293250.R",null,null,null,null,null,null,null,null,null,null,null,null,null,null,null,null,null,null,null,null,null,null,1,{"$f":"IF(AZ204=1,G204,0)","v":0},{"$f":"IF(AZ204=2,G204,0)","v":0},{"$f":"IF(AZ204=3,G204,0)","v":0},{"$f":"IF(AZ204=4,G204,0)","v":0},{"$f":"IF(AZ204=5,G204,0)","v":0},null,null,null,null,null,null,null,null,null,null,null,null,null,null,null,null,null,null,null,null,null,3,1]
[null,null,"Vodovodní řad \"D\" PE D 90x8,2 mm:",null,0,null,null,null,null,null,null,null,"Vodovodní řad \"D\" PE D 90x8,2 mm:"]
[null,null,"Pro Šoupě DN80:1",null,1,null,null,null,null,null,null,null,"Pro Šoupě DN80:1"]
[42,"422935303.R","Spojka Synoflex 7974, DN 80, PN 16","kus",1,null,{"$f":"E207*F207","v":0},6.8999999999999999E-3,{"$f":"E207*H207","v":6.8999999999999999E-3},null,{"$f":"E207*J207","v":0},null,null,null,2,null,null,null,null,null,null,null,null,null,null,null,3,1,"422935303.R",null,null,null,null,null,null,null,null,null,null,null,null,null,null,null,null,null,null,null,null,null,null,1,{"$f":"IF(AZ207=1,G207,0)","v":0},{"$f":"IF(AZ207=2,G207,0)","v":0},{"$f":"IF(AZ207=3,G207,0)","v":0},{"$f":"IF(AZ207=4,G207,0)","v":0},{"$f":"IF(AZ207=5,G207,0)","v":0},null,null,null,null,null,null,null,null,null,null,null,null,null,null,null,null,null,null,null,null,null,3,1]
[null,null,"Vodovodní řad \"D\" PE D 90x8,2 mm:",null,0,null,null,null,null,null,null,null,"Vodovodní řad \"D\" PE D 90x8,2 mm:"]
[null,null,"Synoflex spojka DN80:1",null,1,null,null,null,null,null,null,null,"Synoflex spojka DN80:1"]
[43,"5526009705.R","Koleno prodloužené přír.s patkou PPL DN 80","kus",1,null,{"$f":"E210*F210","v":0},1.2200000000000001E-2,{"$f":"E210*H210","v":1.2200000000000001E-2},null,{"$f":"E210*J210","v":0},null,null,null,2,null,null,null,null,null,null,null,null,null,null,null,3,1,"5526009705.R",null,null,null,null,null,null,null,null,null,null,null,null,null,null,null,null,null,null,null,null,null,null,1,{"$f":"IF(AZ210=1,G210,0)","v":0},{"$f":"IF(AZ210=2,G210,0)","v":0},{"$f":"IF(AZ210=3,G210,0)","v":0},{"$f":"IF(AZ210=4,G210,0)","v":0},{"$f":"IF(AZ210=5,G210,0)","v":0},null,null,null,null,null,null,null,null,null,null,null,null,null,null,null,null,null,null,null,null,null,3,1]
[null,null,"Vodovodní řad \"D\" PE D 90x8,2 mm:",null,0,null,null,null,null,null,null,null,"Vodovodní řad \"D\" PE D 90x8,2 mm:"]
[null,null,"PPL DN80:1",null,1,null,null,null,null,null,null,null,"PPL DN80:1"]
[null,"Celkem za","8 Trubní vedení",null,null,null,{"$f":"SUM(G96:G212)","v":0},null,{"$f":"SUM(I96:I212)","v":0.69699675000000005},null,{"$f":"SUM(K96:K212)","v":0},null,null,null,4,null,null,null,null,null,null,null,null,null,null,null,null,null,null,null,null,null,null,null,null,null,null,null,null,null,null,null,null,null,null,null,null,null,null,null,null,null,{"$f":"SUM(BA96:BA212)","v":0},{"$f":"SUM(BB96:BB212)","v":0},{"$f":"SUM(BC96:BC212)","v":0},{"$f":"SUM(BD96:BD212)","v":0},{"$f":"SUM(BE96:BE212)","v":0}]
["Díl:","89","Ostatní konstrukce na trubním vedení",null,null,null,null,null,null,null,null,null,null,null,1]
[44,"899 01-0001.RRX","Provizorní vodovod PE100 RC1 D 63x5,8 mm včetně příslušných tvarovek a propojů","m",100,null,{"$f":"E215*F215","v":0},0,{"$f":"E215*H215","v":0},null,{"$f":"E215*J215","v":0},null,null,null,2,null,null,null,null,null,null,null,null,null,null,null,12,0,1,null,null,null,null,null,null,null,null,null,null,null,null,null,null,null,null,null,null,null,null,null,null,1,{"$f":"IF(AZ215=1,G215,0)","v":0},{"$f":"IF(AZ215=2,G215,0)","v":0},{"$f":"IF(AZ215=3,G215,0)","v":0},{"$f":"IF(AZ215=4,G215,0)","v":0},{"$f":"IF(AZ215=5,G215,0)","v":0},null,null,null,null,null,null,null,null,null,null,null,null,null,null,null,null,null,null,null,null,null,12,0]
[null,null,"Součástí položky je ",null,null,null,null,null,null,null,null,"Součástí položky je ",null,null,3]
[null,null,"- Dodávka a montáž příslušného potrubí ",null,null,null,null,null,null,null,null,"- Dodávka a montáž příslušného potrubí ",null,null,3]
[null,null,"- Dodávka a montáž propojovacích tvarovek a armatur dle zvolené technologie zhotovitelem potřebné pro provoz provizorního vodovou",null,null,null,null,null,null,null,null,"- Dodávka a montáž propojovacích tvarovek a armatur dle zvolené technologie zhotovitelem potřebné pro provoz provizorního vodovou",null,null,3]
[null,null,"- Přerušení stávajícího potrubí pro napojení provizorního vodovodu",null,null,null,null,null,null,null,null,"- Přerušení stávajícího potrubí pro napojení provizorního vodovodu",null,null,3]
[null,null,"- Provedení tlakové zkoušky včetně proplachu a desinfekce potrubí dle ČSN",null,null,null,null,null,null,null,null,"- Provedení tlakové zkoušky včetně proplachu a desinfekce potrubí dle ČSN",null,null,3]
[null,null,"- Potředné zemní práce pro provedení propojů včetně případného odstranění konstrukcí komunikací a chodníků a provizorní úprava povrchů v prostoru vedení provizorního vodovodu",null,null,null,null,null,null,null,null,"- Potředné zemní práce pro provedení propojů včetně případného odstranění konstrukcí komunikací a chodníků a provizorní úprava povrchů v prostoru vedení provizorního vodovodu",null,null,3]
[null,null,"- Demontáž a odpojení propojů provizorního vodovodu  včetně potřebných zemních prací.",null,null,null,null,null,null,null,null,"- Demontáž a odpojení propojů provizorního vodovodu  včetně potřebných zemních prací.",null,null,3]
[null,null,"- Likvidace veškerého materiálu provizorních vodovodů ",null,null,null,null,null,null,null,null,"- Likvidace veškerého materiálu provizorních vodovodů ",null,null,3]
[null,null,"- Součástí položky jsou i náklady na přesuny materiálů - Součástí položky jsou náklady zhotovitele na poplatky za skládky materiálu",null,null,null,null,null,null,null,null,"- Součástí položky jsou i náklady na přesuny materiálů - Součástí položky jsou náklady zhotovitele na poplatky za skládky materiálu",null,null,3]
[null,null,"Vodovodní řad \"D\" PE D 90x8,2 mm:",null,0,null,null,null,null,null,null,null,"Vodovodní řad \"D\" PE D 90x8,2 mm:"]
[null,null,"Provizorní vodovod:",null,0,null,null,null,null,null,null,null,"Provizorní vodovod:"]
[null,null,"Řad \"D\":100,00",null,100,null,null,null,null,null,null,null,"Řad \"D\":100,00"]
[45,"899 02-0001.RRX","Provizorní VP PE100 RC1 D32x3,0 mm - délky do 8 m vč. příslušných tvarovek a armatur","soubor",4,null,{"$f":"E228*F228","v":0},0,{"$f":"E228*H228","v":0},null,{"$f":"E228*J228","v":0},null,null,null,2,null,null,null,null,null,null,null,null,null,null,null,12,0,2,null,null,null,null,null,null,null,null,null,null,null,null,null,null,null,null,null,null,null,null,null,null,1,{"$f":"IF(AZ228=1,G228,0)","v":0},{"$f":"IF(AZ228=2,G228,0)","v":0},{"$f":"IF(AZ228=3,G228,0)","v":0},{"$f":"IF(AZ228=4,G228,0)","v":0},{"$f":"IF(AZ228=5,G228,0)","v":0},null,null,null,null,null,null,null,null,null,null,null,null,null,null,null,null,null,null,null,null,null,12,0]
[null,null,"Součástí položky je ",null,null,null,null,null,null,null,null,"Součástí položky je ",null,null,3]
[null,null,"- Dodávka a montáž příslušného potrubí dle PD ",null,null,null,null,null,null,null,null,"- Dodávka a montáž příslušného potrubí dle PD ",null,null,3]
[null,null,"- Dodávka a montáž propojovacích tvarovek a armatur dle zvolené technologie zhotovitelem potřebné pro provoz provizorního propojení VP",null,null,null,null,null,null,null,null,"- Dodávka a montáž propojovacích tvarovek a armatur dle zvolené technologie zhotovitelem potřebné pro provoz provizorního propojení VP",null,null,3]
[null,null,"- Přerušení stávajícího potrubí přípojky",null,null,null,null,null,null,null,null,"- Přerušení stávajícího potrubí přípojky",null,null,3]
[null,null,"- Provedení tlakové zkoušky včetně proplachu a desinfekce potrubí dle ČSN",null,null,null,null,null,null,null,null,"- Provedení tlakové zkoušky včetně proplachu a desinfekce potrubí dle ČSN",null,null,3]
[null,null,"- Potředné zemní práce pro provedení propoje včetně případného odstranění konstrukcí komunikací a provizorní úprava povrchů v prostoru vedení provizorního vodovodu",null,null,null,null,null,null,null,null,"- Potředné zemní práce pro provedení propoje včetně případného odstranění konstrukcí komunikací a provizorní úprava povrchů v prostoru vedení provizorního vodovodu",null,null,3]
[null,null,"- Demontáž a odpojení propojů provizorní přípojky  včetně potřebných zemních prací.",null,null,null,null,null,null,null,null,"- Demontáž a odpojení propojů provizorní přípojky  včetně potřebných zemních prací.",null,null,3]
[null,null,"- Likvidace veškerého materiálu provizorních vodovodních přípojek",null,null,null,null,null,null,null,null,"- Likvidace veškerého materiálu provizorních vodovodních přípojek",null,null,3]
[null,null,"- Součástí položky jsou i náklady na přesuny materiálů - Součástí položky jsou náklady zhotovitele na poplatky za skládky materiálu",null,null,null,null,null,null,null,null,"- Součástí položky jsou i náklady na přesuny materiálů - Součástí položky jsou náklady zhotovitele na poplatky za skládky materiálu",null,null,3]
[null,null,"Vodovodní řad \"D\" PE D 90x8,2 mm:",null,0,null,null,null,null,null,null,null,"Vodovodní řad \"D\" PE D 90x8,2 mm:"]
[null,null,"Provizorní vodovod:",null,0,null,null,null,null,null,null,null,"Provizorní vodovod:"]
[null,null,"Přípojky :4",null,4,null,null,null,null,null,null,null,"Přípojky :4"]
[null,"Celkem za","89 Ostatní konstrukce na trubním vedení",null,null,null,{"$f":"SUM(G214:G240)","v":0},null,{"$f":"SUM(I214:I240)","v":0},null,{"$f":"SUM(K214:K240)","v":0},null,null,null,4,null,null,null,null,null,null,null,null,null,null,null,null,null,null,null,null,null,null,null,null,null,null,null,null,null,null,null,null,null,null,null,null,null,null,null,null,null,{"$f":"SUM(BA214:BA240)","v":0},{"$f":"SUM(BB214:BB240)","v":0},{"$f":"SUM(BC214:BC240)","v":0},{"$f":"SUM(BD214:BD240)","v":0},{"$f":"SUM(BE214:BE240)","v":0}]
["Díl:","93","Dokončovací práce inženýrských staveb",null,null,null,null,null,null,null,null,null,null,null,1]
[46,"939421121RT1","Osazení samonivelač.vodovod.poklopu za finišerem bez dodávky poklopu","kus",5,null,{"$f":"E243*F243","v":0},5.2499999999999998E-2,{"$f":"E243*H243","v":0.26250000000000001},0,{"$f":"E243*J243","v":0},null,null,null,2,null,null,null,null,null,null,null,null,null,null,null,1,1,1,null,null,null,null,null,null,null,null,null,null,null,null,null,null,null,null,null,null,null,null,null,null,1,{"$f":"IF(AZ243=1,G243,0)","v":0},{"$f":"IF(AZ243=2,G243,0)","v":0},{"$f":"IF(AZ243=3,G243,0)","v":0},{"$f":"IF(AZ243=4,G243,0)","v":0},{"$f":"IF(AZ243=5,G243,0)","v":0},null,null,null,null,null,null,null,null,null,null,null,null,null,null,null,null,null,null,null,null,null,1,1]
[null,null,"Položka obsahuje:",null,null,null,null,null,null,null,null,"Položka obsahuje:",null,null,3]
[null,null,"- osazení prefabrikovaného betonového prstence do rychletuhnoucí malty (s dodávkou hmot)",null,null,null,null,null,null,null,null,"- osazení prefabrikovaného betonového prstence do rychletuhnoucí malty (s dodávkou hmot)",null,null,3]
[null,null,"- zalití prstence rychletuhnoucí zálivkou do výše prstence (s dodávkou hmoty)",null,null,null,null,null,null,null,null,"- zalití prstence rychletuhnoucí zálivkou do výše prstence (s dodávkou hmoty)",null,null,3]
[null,null,"- vložení kruhového bednění",null,null,null,null,null,null,null,null,"- vložení kruhového bednění",null,null,3]
[null,null,"- doplnění mezikruží asfaltovou směsí do výšky současné podkladní vrstvy, zhutnění",null,null,null,null,null,null,null,null,"- doplnění mezikruží asfaltovou směsí do výšky současné podkladní vrstvy, zhutnění",null,null,3]
[null,null,"- vyjmutí kruhového bednění",null,null,null,null,null,null,null,null,"- vyjmutí kruhového bednění",null,null,3]
[null,null,"- osazení poklopu a zatlačení",null,null,null,null,null,null,null,null,"- osazení poklopu a zatlačení",null,null,3]
[null,null,"  (následuje pokládka finální vrstvy vozovky - není součástí položky)",null,null,null,null,null,null,null,null,"  (následuje pokládka finální vrstvy vozovky - není součástí položky)",null,null,3]
[null,null,"- povytažení poklopu",null,null,null,null,null,null,null,null,"- povytažení poklopu",null,null,3]
[null,null,"- podsyp asfaltovou směsí, spuštění poklopu a zhutnění směsi",null,null,null,null,null,null,null,null,"- podsyp asfaltovou směsí, spuštění poklopu a zhutnění směsi",null,null,3]
[null,null,"Vodovodní řad \"D\" PE D 90x8,2 mm:",null,0,null,null,null,null,null,null,null,"Vodovodní řad \"D\" PE D 90x8,2 mm:"]
[null,null,"Pro Šoupě DN80:1",null,1,null,null,null,null,null,null,null,"Pro Šoupě DN80:1"]
[null,null,"Pro VP:4",null,4,null,null,null,null,null,null,null,"Pro VP:4"]
[47,"422913520.R","Poklop uliční samonivelační přípojkový D400","kus",4,null,{"$f":"E257*F257","v":0},1.2E-2,{"$f":"E257*H257","v":4.8000000000000001E-2},null,{"$f":"E257*J257","v":0},null,null,null,2,null,null,null,null,null,null,null,null,null,null,null,3,1,"422913520.R",null,null,null,null,null,null,null,null,null,null,null,null,null,null,null,null,null,null,null,null,null,null,1,{"$f":"IF(AZ257=1,G257,0)","v":0},{"$f":"IF(AZ257=2,G257,0)","v":0},{"$f":"IF(AZ257=3,G257,0)","v":0},{"$f":"IF(AZ257=4,G257,0)","v":0},{"$f":"IF(AZ257=5,G257,0)","v":0},null,null,null,null,null,null,null,null,null,null,null,null,null,null,null,null,null,null,null,null,null,3,1]
[null,null,"Uliční samonivelační poklop přípojkový z tvárné litiny dle ČSN EN 124",null,null,null,null,null,null,null,null,"Uliční samonivelační poklop přípojkový z tvárné litiny dle ČSN EN 124",null,null,3]
[null,null,"Rozpětí stavební výšky 195 - 285 mm s fixací polohy",null,null,null,null,null,null,null,null,"Rozpětí stavební výšky 195 - 285 mm s fixací polohy",null,null,3]
[null,null,"Výklopové víko spojeno s rámem čepem a opatřeno ochrannou a těsnící vrstvou proti vnikání nečistot",null,null,null,null,null,null,null,null,"Výklopové víko spojeno s rámem čepem a opatřeno ochrannou a těsnící vrstvou proti vnikání nečistot",null,null,3]
[null,null,"Tlumicí vložka z elastomeru a PUR",null,null,null,null,null,null,null,null,"Tlumicí vložka z elastomeru a PUR",null,null,3]
[null,null,"Možnost vlastního loga a barevného provedení",null,null,null,null,null,null,null,null,"Možnost vlastního loga a barevného provedení",null,null,3]
[null,null,"Vodovodní řad \"D\" PE D 90x8,2 mm:",null,0,null,null,null,null,null,null,null,"Vodovodní řad \"D\" PE D 90x8,2 mm:"]
[null,null,"Pro VP:4",null,4,null,null,null,null,null,null,null,"Pro VP:4"]
[48,"422913521.R","Poklop litinový samonivelační šoupátkový D400","kus",1,null,{"$f":"E265*F265","v":0},1.2E-2,{"$f":"E265*H265","v":1.2E-2},null,{"$f":"E265*J265","v":0},null,null,null,2,null,null,null,null,null,null,null,null,null,null,null,3,1,"422913521.R",null,null,null,null,null,null,null,null,null,null,null,null,null,null,null,null,null,null,null,null,null,null,1,{"$f":"IF(AZ265=1,G265,0)","v":0},{"$f":"IF(AZ265=2,G265,0)","v":0},{"$f":"IF(AZ265=3,G265,0)","v":0},{"$f":"IF(AZ265=4,G265,0)","v":0},{"$f":"IF(AZ265=5,G265,0)","v":0},null,null,null,null,null,null,null,null,null,null,null,null,null,null,null,null,null,null,null,null,null,3,1]
[null,null,"Uliční samonivelační šoupátkový poklop z tvárné litiny dle ČSN EN 124",null,null,null,null,null,null,null,null,"Uliční samonivelační šoupátkový poklop z tvárné litiny dle ČSN EN 124",null,null,3]
[null,null,"Rozpětí stavební výšky 195 - 285 mm s fixací polohy",null,null,null,null,null,null,null,null,"Rozpětí stavební výšky 195 - 285 mm s fixací polohy",null,null,3]
[null,null,"Výklopové víko spojeno s rámem čepem a opatřeno ochrannou a těsnící vrstvou proti vnikání nečistot",null,null,null,null,null,null,null,null,"Výklopové víko spojeno s rámem čepem a opatřeno ochrannou a těsnící vrstvou proti vnikání nečistot",null,null,3]
[null,null,"Tlumicí vložka z elastomeru a PUR",null,null,null,null,null,null,null,null,"Tlumicí vložka z elastomeru a PUR",null,null,3]
[null,null,"Možnost vlastního loga a barevného provedení",null,null,null,null,null,null,null,null,"Možnost vlastního loga a barevného provedení",null,null,3]
[null,null,"Vodovodní řad \"D\" PE D 90x8,2 mm:",null,0,null,null,null,null,null,null,null,"Vodovodní řad \"D\" PE D 90x8,2 mm:"]
[null,null,"Pro Šoupě DN80:1",null,1,null,null,null,null,null,null,null,"Pro Šoupě DN80:1"]
[null,"Celkem za","93 Dokončovací práce inženýrských staveb",null,null,null,{"$f":"SUM(G242:G272)","v":0},null,{"$f":"SUM(I242:I272)","v":0.32250000000000001},null,{"$f":"SUM(K242:K272)","v":0},null,null,null,4,null,null,null,null,null,null,null,null,null,null,null,null,null,null,null,null,null,null,null,null,null,null,null,null,null,null,null,null,null,null,null,null,null,null,null,null,null,{"$f":"SUM(BA242:BA272)","v":0},{"$f":"SUM(BB242:BB272)","v":0},{"$f":"SUM(BC242:BC272)","v":0},{"$f":"SUM(BD242:BD272)","v":0},{"$f":"SUM(BE242:BE272)","v":0}]
["Díl:","99","Staveništní přesun hmot",null,null,null,null,null,null,null,null,null,null,null,1]
[49,"998276101RXX","Přesun hmot, trubní vedení plastová, otevř. výkop pro celý rozsah objektu","t",267.42917175000002,null,{"$f":"E275*F275","v":0},0,{"$f":"E275*H275","v":0},null,{"$f":"E275*J275","v":0},null,null,null,2,null,null,null,null,null,null,null,null,null,null,null,7,1,2,null,null,null,null,null,null,null,null,null,null,null,null,null,null,null,null,null,null,null,null,null,null,1,{"$f":"IF(AZ275=1,G275,0)","v":0},{"$f":"IF(AZ275=2,G275,0)","v":0},{"$f":"IF(AZ275=3,G275,0)","v":0},{"$f":"IF(AZ275=4,G275,0)","v":0},{"$f":"IF(AZ275=5,G275,0)","v":0},null,null,null,null,null,null,null,null,null,null,null,null,null,null,null,null,null,null,null,null,null,7,1]
[null,null,"Staveništní doprava pro celý rozsah objektu - doprava zmeziskládek vybudovaného zařízení staveniště zhotovitele na jednotlivé části staveniště.",null,null,null,null,null,null,null,null,"Staveništní doprava pro celý rozsah objektu - doprava zmeziskládek vybudovaného zařízení staveniště zhotovitele na jednotlivé části staveniště.",null,null,3]
[null,"Celkem za","99 Staveništní přesun hmot",null,null,null,{"$f":"SUM(G274:G276)","v":0},null,{"$f":"SUM(I274:I276)","v":0},null,{"$f":"SUM(K274:K276)","v":0},null,null,null,4,null,null,null,null,null,null,null,null,null,null,null,null,null,null,null,null,null,null,null,null,null,null,null,null,null,null,null,null,null,null,null,null,null,null,null,null,null,{"$f":"SUM(BA274:BA276)","v":0},{"$f":"SUM(BB274:BB276)","v":0},{"$f":"SUM(BC274:BC276)","v":0},{"$f":"SUM(BD274:BD276)","v":0},{"$f":"SUM(BE274:BE276)","v":0}]

{"sheet":"303 3542303.2 KL","index":35,"n_rows":45,"n_cols":8,"rows_kept":45,"cut":false,"hidden":false,"merged":[[50,1,50,6],[29,5,29,6],[30,5,30,6],[31,5,31,6],[32,5,32,6],[33,5,33,6],[36,1,44,6],[45,1,45,6],[46,1,46,6],[47,1,47,6],[48,1,48,6],[49,1,49,6],[22,0,22,1],[7,2,7,4],[8,2,8,4],[9,2,9,4],[10,2,10,4],[11,2,11,4]]}
["POLOŽKOVÝ ROZPOČET"]
["Rozpočet",null,"3542/303.2","Vodovodní napojovací body",null,"JKSO ","827.13"]
[]
["Objekt",null,null,null,null,"SKP "]
["303",null,"Oprava vodovodního řadu D ul. Dvořákova",null,null,"Měrná jednotka","m"]
["Stavba",null,null,null,null,"Počet jednotek",0]
["3542",null,"Semily - Obnova VH infrastruktury a komunikací",null,null,"Náklady na m.j.",{"$f":"IF(G6=0,,ROUND((F30+F32)/G6,1))","v":0}]
["Projektant",null,null,null,null,"Typ rozpočtu"]
["Zpracovatel projektu"]
["Objednatel",null,"Vodohospodářské sdružení Turnov"]
["Dodavatel",null,".",null,null,"Zakázkové číslo "]
["Rozpočtoval",null,null,null,null,"Počet listů"]
["ROZPOČTOVÉ NÁKLADY"]
["Základní rozpočtové náklady"]
[null,"HSV celkem",{"$f":"'303 3542303.2 Rek'!E13","v":0}]
["Z","PSV celkem",{"$f":"'303 3542303.2 Rek'!F13","v":0}]
["R","M práce celkem",{"$f":"'303 3542303.2 Rek'!H13","v":0}]
["N","M dodávky celkem",{"$f":"'303 3542303.2 Rek'!G13","v":0}]
["ZRN celkem",null,{"$f":"SUM(C15:C18)","v":0}]
[]
["HZS",null,{"$f":"'303 3542303.2 Rek'!I13","v":0}]
["ZRN+HZS",null,{"$f":"C19+C21","v":0}]
["ZRN+ost.náklady+HZS",null,{"$f":"C22+G23","v":0}]
["Vypracoval",null,null,"Za zhotovitele",null,"Za objednatele"]
["Jméno :",null,null,"Jméno :",null,"Jméno :"]
["Datum :",null,null,"Datum :",null,"Datum :"]
[]
["Podpis :",null,null,"Podpis:",null,"Podpis:"]
[]
["Základ pro DPH",null,21,"%  ",null,{"$f":"C23-F32","v":0}]
["DPH",null,{"$f":"C30","v":21},"% ",null,{"$f":"ROUND(PRODUCT(F30,C31/100),0)","v":0}]
["Základ pro DPH",null,0,"% ",null,0]
["DPH",null,{"$f":"C32","v":0},"% ",null,{"$f":"ROUND(PRODUCT(F32,C33/100),0)","v":0}]
["CENA ZA OBJEKT CELKEM",null,null,null,null,{"$f":"ROUND(SUM(F30:F33),0)","v":0}]
[]
["Poznámka :",null,null,null,null,null,null," "]
[null,null,null,null,null,null,null," "]
[null,null,null,null,null,null,null," "]
[null,null,null,null,null,null,null," "]
[null,null,null,null,null,null,null," "]
[null,null,null,null,null,null,null," "]
[null,null,null,null,null,null,null," "]
[null,null,null,null,null,null,null," "]
[null,null,null,null,null,null,null," "]
[null,null,null,null,null,null,null," "]

{"sheet":"303 3542303.2 Rek","index":36,"n_rows":13,"n_cols":9,"rows_kept":13,"cut":false,"hidden":false,"merged":[[0,0,0,1],[1,0,1,1],[1,6,1,8]]}
["Stavba :",null,"3542 Semily - Obnova VH infrastruktury a komunikací",null,null,null,"Rozpočet :","3542/303.2"]
["Objekt :",null,"303 Oprava vodovodního řadu D ul. Dvořákova",null,null,null,"Vodovodní napojovací body"]
[]
["REKAPITULACE  STAVEBNÍCH  DÍLŮ"]
[]
[null,"Stavební díl",null,null,"HSV","PSV","Dodávka","Montáž","HZS"]
[{"$f":"'303 3542303.2 Pol'!B7","v":"1"},{"$f":"'303 3542303.2 Pol'!C7","v":"Zemní práce"},null,null,{"$f":"'303 3542303.2 Pol'!BA97","v":0},{"$f":"'303 3542303.2 Pol'!BB97","v":0},{"$f":"'303 3542303.2 Pol'!BC97","v":0},{"$f":"'303 3542303.2 Pol'!BD97","v":0},{"$f":"'303 3542303.2 Pol'!BE97","v":0}]
[{"$f":"'303 3542303.2 Pol'!B98","v":"21"},{"$f":"'303 3542303.2 Pol'!C98","v":"Úprava podloží a základ.spáry"},null,null,{"$f":"'303 3542303.2 Pol'!BA102","v":0},{"$f":"'303 3542303.2 Pol'!BB102","v":0},{"$f":"'303 3542303.2 Pol'!BC102","v":0},{"$f":"'303 3542303.2 Pol'!BD102","v":0},{"$f":"'303 3542303.2 Pol'!BE102","v":0}]
[{"$f":"'303 3542303.2 Pol'!B103","v":"45"},{"$f":"'303 3542303.2 Pol'!C103","v":"Podkladní a vedlejší konstrukce"},null,null,{"$f":"'303 3542303.2 Pol'!BA107","v":0},{"$f":"'303 3542303.2 Pol'!BB107","v":0},{"$f":"'303 3542303.2 Pol'!BC107","v":0},{"$f":"'303 3542303.2 Pol'!BD107","v":0},{"$f":"'303 3542303.2 Pol'!BE107","v":0}]
[{"$f":"'303 3542303.2 Pol'!B108","v":"5"},{"$f":"'303 3542303.2 Pol'!C108","v":"Komunikace"},null,null,{"$f":"'303 3542303.2 Pol'!BA116","v":0},{"$f":"'303 3542303.2 Pol'!BB116","v":0},{"$f":"'303 3542303.2 Pol'!BC116","v":0},{"$f":"'303 3542303.2 Pol'!BD116","v":0},{"$f":"'303 3542303.2 Pol'!BE116","v":0}]
[{"$f":"'303 3542303.2 Pol'!B117","v":"8"},{"$f":"'303 3542303.2 Pol'!C117","v":"Trubní vedení"},null,null,{"$f":"'303 3542303.2 Pol'!BA155","v":0},{"$f":"'303 3542303.2 Pol'!BB155","v":0},{"$f":"'303 3542303.2 Pol'!BC155","v":0},{"$f":"'303 3542303.2 Pol'!BD155","v":0},{"$f":"'303 3542303.2 Pol'!BE155","v":0}]
[{"$f":"'303 3542303.2 Pol'!B156","v":"99"},{"$f":"'303 3542303.2 Pol'!C156","v":"Staveništní přesun hmot"},null,null,{"$f":"'303 3542303.2 Pol'!BA159","v":0},{"$f":"'303 3542303.2 Pol'!BB159","v":0},{"$f":"'303 3542303.2 Pol'!BC159","v":0},{"$f":"'303 3542303.2 Pol'!BD159","v":0},{"$f":"'303 3542303.2 Pol'!BE159","v":0}]
[null,"CELKEM  OBJEKT",null,null,{"$f":"SUM(E7:E12)","v":0},{"$f":"SUM(F7:F12)","v":0},{"$f":"SUM(G7:G12)","v":0},{"$f":"SUM(H7:H12)","v":0},{"$f":"SUM(I7:I12)","v":0}]

{"sheet":"303 3542303.2 Pol","index":37,"n_rows":159,"n_cols":80,"rows_kept":159,"cut":false,"hidden":false,"merged":[[152,2,152,3],[153,2,153,3],[157,2,157,6],[147,2,147,6],[148,2,148,3],[149,2,149,3],[151,2,151,3],[143,2,143,3],[145,2,145,6],[146,2,146,6],[135,2,135,3],[136,2,136,3],[138,2,138,3],[139,2,139,3],[141,2,141,6],[142,2,142,3],[127,2,127,3],[128,2,128,3],[130,2,130,6],[131,2,131,3],[132,2,132,3],[134,2,134,6],[114,2,114,3],[118,2,118,6],[119,2,119,3],[120,2,120,3],[122,2,122,3],[123,2,123,3],[124,2,124,3],[126,2,126,6],[104,2,104,3],[105,2,105,3],[109,2,109,3],[110,2,110,3],[112,2,112,6],[113,2,113,3],[91,2,91,3],[92,2,92,3],[94,2,94,3],[95,2,95,3],[99,2,99,3],[100,2,100,3],[83,2,83,3],[84,2,84,3],[86,2,86,3],[87,2,87,3],[88,2,88,3],[89,2,89,3],[76,2,76,3],[77,2,77,3],[78,2,78,3],[79,2,79,3],[80,2,80,3],[81,2,81,3],[70,2,70,3],[71,2,71,3],[72,2,72,3],[73,2,73,3],[74,2,74,3],[75,2,75,3],[64,2,64,6],[65,2,65,6],[66,2,66,3],[67,2,67,3],[68,2,68,3],[69,2,69,3],[56,2,56,3],[57,2,57,3],[59,2,59,3],[60,2,60,3],[61,2,61,3],[62,2,62,3],[49,2,49,3],[50,2,50,3],[51,2,51,3],[52,2,52,3],[54,2,54,3],[55,2,55,3],[41,2,41,3],[42,2,42,3],[43,2,43,3],[44,2,44,3],[46,2,46,3],[47,2,47,3],[33,2,33,3],[35,2,35,6],[36,2,36,3],[37,2,37,3],[38,2,38,3],[39,2,39,3],[26,2,26,3],[27,2,27,3],[28,2,28,3],[30,2,30,3],[31,2,31,3],[32,2,32,3],[21,2,21,3],[22,2,22,3],[23,2,23,3],[24,2,24,3],[25,2,25,3],[13,2,13,6],[14,2,14,3],[15,2,15,3],[16,2,16,3],[17,2,17,3],[19,2,19,6],[0,0,0,6],[2,0,2,1],[3,0,3,1],[3,4,3,6],[8,2,8,3],[9,2,9,3],[10,2,10,3],[12,2,12,6],[20,2,20,3]]}
["Položkový rozpočet "]
[]
["Stavba :",null,"3542 Semily - Obnova VH infrastruktury a komunikací",null,"Rozpočet:",{"$f":"'303 3542303.2 Rek'!H1","v":"3542/303.2"}]
["Objekt :",null,"303 Oprava vodovodního řadu D ul. Dvořákova",null,{"$f":"'303 3542303.2 Rek'!G2","v":"Vodovodní napojovací body"}]
[]
["P.č.","Číslo položky","Název položky","MJ","množství","cena / MJ","celkem (Kč)","Jednotková hmotnost","Celková hmotnost","Jednotková dem.hmot.","Celková dem.hmot."]
["Díl:","1","Zemní práce",null,null,null,null,null,null,null,null,null,null,null,1]
[1,"121100002RAA","Sejmutí ornice a uložení na deponii zpětný přesun, rozprostření v tl. 200 mm, osetí","m3",6.6,null,{"$f":"E8*F8","v":0},0,{"$f":"E8*H8","v":0},0,{"$f":"E8*J8","v":0},null,null,null,2,null,null,null,null,null,null,null,null,null,null,null,1,1,1,null,null,null,null,null,null,null,null,null,null,null,null,null,null,null,null,null,null,null,null,null,null,1,{"$f":"IF(AZ8=1,G8,0)","v":0},{"$f":"IF(AZ8=2,G8,0)","v":0},{"$f":"IF(AZ8=3,G8,0)","v":0},{"$f":"IF(AZ8=4,G8,0)","v":0},{"$f":"IF(AZ8=5,G8,0)","v":0},null,null,null,null,null,null,null,null,null,null,null,null,null,null,null,null,null,null,null,null,null,1,1]
[null,null,"Vodovodní přípojky z  PE D 32x3,0 mm:",null,0,null,null,null,null,null,null,null,"Vodovodní přípojky z  PE D 32x3,0 mm:"]
[null,null,"Pracodní prostor šířky 2,0 m:",null,0,null,null,null,null,null,null,null,"Pracodní prostor šířky 2,0 m:"]
[null,null,"VP (4 kusy):16,50*2,00*0,20",null,6.6,null,null,null,null,null,null,null,"VP (4 kusy):16,50*2,00*0,20"]
[2,"130001101RRX","Příplatek za ztížené hloubení v blízkosti vedení ","m3",8.5574999999999992,null,{"$f":"E12*F12","v":0},0,{"$f":"E12*H12","v":0},0,{"$f":"E12*J12","v":0},null,null,null,2,null,null,null,null,null,null,null,null,null,null,null,1,1,1,null,null,null,null,null,null,null,null,null,null,null,null,null,null,null,null,null,null,null,null,null,null,1,{"$f":"IF(AZ12=1,G12,0)","v":0},{"$f":"IF(AZ12=2,G12,0)","v":0},{"$f":"IF(AZ12=3,G12,0)","v":0},{"$f":"IF(AZ12=4,G12,0)","v":0},{"$f":"IF(AZ12=5,G12,0)","v":0},null,null,null,null,null,null,null,null,null,null,null,null,null,null,null,null,null,null,null,null,null,1,1]
[null,null,"Včetně případných nutných dokopávek a ručního výkopu podél sousedících inženýrských sítí.",null,null,null,null,null,null,null,null,"Včetně případných nutných dokopávek a ručního výkopu podél sousedících inženýrských sítí.",null,null,3]
[null,null,"Součástí položky je i dočasné zajištění stávajících inženýrských sítí v prostoru výkopů (potrubí, kabely a pod.)",null,null,null,null,null,null,null,null,"Součástí položky je i dočasné zajištění stávajících inženýrských sítí v prostoru výkopů (potrubí, kabely a pod.)",null,null,3]
[null,null,"Vodovodní přípojky z  PE D 32x3,0 mm:",null,0,null,null,null,null,null,null,null,"Vodovodní přípojky z  PE D 32x3,0 mm:"]
[null,null,"Průměrná hloubka výkopů 1,60 m:",null,0,null,null,null,null,null,null,null,"Průměrná hloubka výkopů 1,60 m:"]
[null,null,"Výkopy:",null,0,null,null,null,null,null,null,null,"Výkopy:"]
[null,null,"V hornině tř. 3 - 4 - 28%:34,2300*0,25",null,8.5574999999999992,null,null,null,null,null,null,null,"V hornině tř. 3 - 4 - 28%:34,2300*0,25"]
[3,"132201210R00","Hloubení rýh š.do 200 cm hor.3 do 50 m3,STROJNĚ ","m3",17.114999999999998,null,{"$f":"E19*F19","v":0},0,{"$f":"E19*H19","v":0},0,{"$f":"E19*J19","v":0},null,null,null,2,null,null,null,null,null,null,null,null,null,null,null,1,1,1,null,null,null,null,null,null,null,null,null,null,null,null,null,null,null,null,null,null,null,null,null,null,1,{"$f":"IF(AZ19=1,G19,0)","v":0},{"$f":"IF(AZ19=2,G19,0)","v":0},{"$f":"IF(AZ19=3,G19,0)","v":0},{"$f":"IF(AZ19=4,G19,0)","v":0},{"$f":"IF(AZ19=5,G19,0)","v":0},null,null,null,null,null,null,null,null,null,null,null,null,null,null,null,null,null,null,null,null,null,1,1]
[null,null,"Položka obsahuje hloubení rýh traktorbagrem, naložení výkopku na dopravní prostředek pro svislé, nebo vodorovné přemístění, popř. přemístění výkopku do 3 m (po povrchu území), případné zajištění rypadel polštáři, udržování pracoviště a ochranu výkopiště proti stékání srážkové vody z okolního terénu i s jejím odvodněním, nebo odvedením, přesekání a odstranění kořenů ve výkopišti, odstranění napadávek, urovnání dna výkopu.",null,null,null,null,null,null,null,null,"Položka obsahuje hloubení rýh traktorbagrem, naložení výkopku na dopravní prostředek pro svislé, nebo vodorovné přemístění, popř. přemístění výkopku do 3 m (po povrchu území), případné zajištění rypadel polštáři, udržování pracoviště a ochranu výkopiště proti stékání srážkové vody z okolního terénu i s jejím odvodněním, nebo odvedením, přesekání a odstranění kořenů ve výkopišti, odstranění napadávek, urovnání dna výkopu.",null,null,3]
[null,null,"Vodovodní přípojky z  PE D 32x3,0 mm:",null,0,null,null,null,null,null,null,null,"Vodovodní přípojky z  PE D 32x3,0 mm:"]
[null,null,"Průměrná hloubka výkopů 1,60 m:",null,0,null,null,null,null,null,null,null,"Průměrná hloubka výkopů 1,60 m:"]
[null,null,"Výkopy:",null,0,null,null,null,null,null,null,null,"Výkopy:"]
[null,null,"Začátek provozního součtu",null,0,null,null,null,null,null,null,null,"Začátek provozního součtu"]
[null,null,"VP (4 kusy):38,00*0,70*1,60",null,42.56,null,null,null,null,null,null,null,"VP (4 kusy):38,00*0,70*1,60"]
[null,null,"Odpočet objemu konstrukce komunikací a chodníků:-21,50*0,70*0,40",null,-6.02,null,null,null,null,null,null,null,"Odpočet objemu konstrukce komunikací a chodníků:-21,50*0,70*0,40"]
[null,null,"Odpočet objemu ornice:-(38,00-21,50)*0,70*0,20",null,-2.31,null,null,null,null,null,null,null,"Odpočet objemu ornice:-(38,00-21,50)*0,70*0,20"]
[null,null,"Konec provozního součtu",null,34.230000000000004,null,null,null,null,null,null,null,"Konec provozního součtu"]
[null,null,"V hornině tř. 3 - 50%:34,2300*0,5",null,17.114999999999998,null,null,null,null,null,null,null,"V hornině tř. 3 - 50%:34,2300*0,5"]
[4,"132201219R00","Přípl.za lepivost,hloubení rýh 200cm,hor.3,STROJNĚ ","m3",8.5574999999999992,null,{"$f":"E30*F30","v":0},0,{"$f":"E30*H30","v":0},0,{"$f":"E30*J30","v":0},null,null,null,2,null,null,null,null,null,null,null,null,null,null,null,1,1,1,null,null,null,null,null,null,null,null,null,null,null,null,null,null,null,null,null,null,null,null,null,null,1,{"$f":"IF(AZ30=1,G30,0)","v":0},{"$f":"IF(AZ30=2,G30,0)","v":0},{"$f":"IF(AZ30=3,G30,0)","v":0},{"$f":"IF(AZ30=4,G30,0)","v":0},{"$f":"IF(AZ30=5,G30,0)","v":0},null,null,null,null,null,null,null,null,null,null,null,null,null,null,null,null,null,null,null,null,null,1,1]
[null,null,"Vodovodní přípojky z  PE D 32x3,0 mm:",null,0,null,null,null,null,null,null,null,"Vodovodní přípojky z  PE D 32x3,0 mm:"]
[null,null,"Průměrná hloubka výkopů 1,60 m:",null,0,null,null,null,null,null,null,null,"Průměrná hloubka výkopů 1,60 m:"]
[null,null,"Výkopy:",null,0,null,null,null,null,null,null,null,"Výkopy:"]
[null,null,"V hornině tř. 3 - 50%:34,2300*0,5*0,5",null,8.5574999999999992,null,null,null,null,null,null,null,"V hornině tř. 3 - 50%:34,2300*0,5*0,5"]
[5,"132301210R00","Hloubení rýh š.do 200 cm hor.4 do 50 m3, STROJNĚ ","m3",17.114999999999998,null,{"$f":"E35*F35","v":0},0,{"$f":"E35*H35","v":0},0,{"$f":"E35*J35","v":0},null,null,null,2,null,null,null,null,null,null,null,null,null,null,null,1,1,1,null,null,null,null,null,null,null,null,null,null,null,null,null,null,null,null,null,null,null,null,null,null,1,{"$f":"IF(AZ35=1,G35,0)","v":0},{"$f":"IF(AZ35=2,G35,0)","v":0},{"$f":"IF(AZ35=3,G35,0)","v":0},{"$f":"IF(AZ35=4,G35,0)","v":0},{"$f":"IF(AZ35=5,G35,0)","v":0},null,null,null,null,null,null,null,null,null,null,null,null,null,null,null,null,null,null,null,null,null,1,1]
[null,null,"Položka obsahuje hloubení rýh traktorbagrem, naložení výkopku na dopravní prostředek pro svislé, nebo vodorovné přemístění, popř. přemístění výkopku do 3 m (po povrchu území), případné zajištění rypadel polštáři, udržování pracoviště a ochranu výkopiště proti stékání srážkové vody z okolního terénu i s jejím odvodněním, nebo odvedením, přesekání a odstranění kořenů ve výkopišti, odstranění napadávek, urovnání dna výkopu.",null,null,null,null,null,null,null,null,"Položka obsahuje hloubení rýh traktorbagrem, naložení výkopku na dopravní prostředek pro svislé, nebo vodorovné přemístění, popř. přemístění výkopku do 3 m (po povrchu území), případné zajištění rypadel polštáři, udržování pracoviště a ochranu výkopiště proti stékání srážkové vody z okolního terénu i s jejím odvodněním, nebo odvedením, přesekání a odstranění kořenů ve výkopišti, odstranění napadávek, urovnání dna výkopu.",null,null,3]
[null,null,"Vodovodní přípojky z  PE D 32x3,0 mm:",null,0,null,null,null,null,null,null,null,"Vodovodní přípojky z  PE D 32x3,0 mm:"]
[null,null,"Průměrná hloubka výkopů 1,60 m:",null,0,null,null,null,null,null,null,null,"Průměrná hloubka výkopů 1,60 m:"]
[null,null,"Výkopy:",null,0,null,null,null,null,null,null,null,"Výkopy:"]
[null,null,"V hornině tř. 4 - 50%:34,2300*0,5",null,17.114999999999998,null,null,null,null,null,null,null,"V hornině tř. 4 - 50%:34,2300*0,5"]
[6,"132301219R00","Přípl.za lepivost,hloubení rýh 200cm,hor.4,STROJNĚ ","m3",8.5574999999999992,null,{"$f":"E41*F41","v":0},0,{"$f":"E41*H41","v":0},0,{"$f":"E41*J41","v":0},null,null,null,2,null,null,null,null,null,null,null,null,null,null,null,1,1,1,null,null,null,null,null,null,null,null,null,null,null,null,null,null,null,null,null,null,null,null,null,null,1,{"$f":"IF(AZ41=1,G41,0)","v":0},{"$f":"IF(AZ41=2,G41,0)","v":0},{"$f":"IF(AZ41=3,G41,0)","v":0},{"$f":"IF(AZ41=4,G41,0)","v":0},{"$f":"IF(AZ41=5,G41,0)","v":0},null,null,null,null,null,null,null,null,null,null,null,null,null,null,null,null,null,null,null,null,null,1,1]
[null,null,"Vodovodní přípojky z  PE D 32x3,0 mm:",null,0,null,null,null,null,null,null,null,"Vodovodní přípojky z  PE D 32x3,0 mm:"]
[null,null,"Průměrná hloubka výkopů 1,60 m:",null,0,null,null,null,null,null,null,null,"Průměrná hloubka výkopů 1,60 m:"]
[null,null,"Výkopy:",null,0,null,null,null,null,null,null,null,"Výkopy:"]
[null,null,"V hornině tř. 4 - 50%:34,2300*0,5*0,5",null,8.5574999999999992,null,null,null,null,null,null,null,"V hornině tř. 4 - 50%:34,2300*0,5*0,5"]
[7,"132901219RRX","Přípl.za provedení podchodu pod základem oplocení Ručně do objemu 0,75 m3","kus",1,null,{"$f":"E46*F46","v":0},0,{"$f":"E46*H46","v":0},0,{"$f":"E46*J46","v":0},null,null,null,2,null,null,null,null,null,null,null,null,null,null,null,1,1,1,null,null,null,null,null,null,null,null,null,null,null,null,null,null,null,null,null,null,null,null,null,null,1,{"$f":"IF(AZ46=1,G46,0)","v":0},{"$f":"IF(AZ46=2,G46,0)","v":0},{"$f":"IF(AZ46=3,G46,0)","v":0},{"$f":"IF(AZ46=4,G46,0)","v":0},{"$f":"IF(AZ46=5,G46,0)","v":0},null,null,null,null,null,null,null,null,null,null,null,null,null,null,null,null,null,null,null,null,null,1,1]
[null,null,"Vodovodní přípojky z  PE D 32x3,0 mm:",null,0,null,null,null,null,null,null,null,"Vodovodní přípojky z  PE D 32x3,0 mm:"]
[null,null,"VP (4 kusy) - Podchod pod základy oplocení:1",null,1,null,null,null,null,null,null,null,"VP (4 kusy) - Podchod pod základy oplocení:1"]
[8,"151101101R00","Pažení a rozepření stěn rýh - příložné - hl.do 2 m ","m2",121.6,null,{"$f":"E49*F49","v":0},9.8999999999999999E-4,{"$f":"E49*H49","v":0.12038399999999999},0,{"$f":"E49*J49","v":0},null,null,null,2,null,null,null,null,null,null,null,null,null,null,null,1,1,1,null,null,null,null,null,null,null,null,null,null,null,null,null,null,null,null,null,null,null,null,null,null,1,{"$f":"IF(AZ49=1,G49,0)","v":0},{"$f":"IF(AZ49=2,G49,0)","v":0},{"$f":"IF(AZ49=3,G49,0)","v":0},{"$f":"IF(AZ49=4,G49,0)","v":0},{"$f":"IF(AZ49=5,G49,0)","v":0},null,null,null,null,null,null,null,null,null,null,null,null,null,null,null,null,null,null,null,null,null,1,1]
[null,null,"Vodovodní přípojky z  PE D 32x3,0 mm:",null,0,null,null,null,null,null,null,null,"Vodovodní přípojky z  PE D 32x3,0 mm:"]
[null,null,"Průměrná hloubka výkopů 1,60 m:",null,0,null,null,null,null,null,null,null,"Průměrná hloubka výkopů 1,60 m:"]
[null,null,"Výkopy:",null,0,null,null,null,null,null,null,null,"Výkopy:"]
[null,null,"VP (4 kusy):38,00*1,60*2",null,121.6,null,null,null,null,null,null,null,"VP (4 kusy):38,00*1,60*2"]
[9,"151101111R00","Odstranění pažení stěn rýh - příložné - hl. do 2 m ","m2",121.6,null,{"$f":"E54*F54","v":0},0,{"$f":"E54*H54","v":0},0,{"$f":"E54*J54","v":0},null,null,null,2,null,null,null,null,null,null,null,null,null,null,null,1,1,1,null,null,null,null,null,null,null,null,null,null,null,null,null,null,null,null,null,null,null,null,null,null,1,{"$f":"IF(AZ54=1,G54,0)","v":0},{"$f":"IF(AZ54=2,G54,0)","v":0},{"$f":"IF(AZ54=3,G54,0)","v":0},{"$f":"IF(AZ54=4,G54,0)","v":0},{"$f":"IF(AZ54=5,G54,0)","v":0},null,null,null,null,null,null,null,null,null,null,null,null,null,null,null,null,null,null,null,null,null,1,1]
[null,null,"Vodovodní přípojky z  PE D 32x3,0 mm:",null,0,null,null,null,null,null,null,null,"Vodovodní přípojky z  PE D 32x3,0 mm:"]
[null,null,"Průměrná hloubka výkopů 1,60 m:",null,0,null,null,null,null,null,null,null,"Průměrná hloubka výkopů 1,60 m:"]
[null,null,"Výkopy:",null,0,null,null,null,null,null,null,null,"Výkopy:"]
[null,null,"VP (4 kusy):38,00*1,60*2",null,121.6,null,null,null,null,null,null,null,"VP (4 kusy):38,00*1,60*2"]
[10,"162701105RSZ","Vodorovné přemístění výkopku z hor.1-7 na skládku zhotovitele","m3",23.627099999999999,null,{"$f":"E59*F59","v":0},0,{"$f":"E59*H59","v":0},0,{"$f":"E59*J59","v":0},null,null,null,2,null,null,null,null,null,null,null,null,null,null,null,1,1,1,null,null,null,null,null,null,null,null,null,null,null,null,null,null,null,null,null,null,null,null,null,null,1,{"$f":"IF(AZ59=1,G59,0)","v":0},{"$f":"IF(AZ59=2,G59,0)","v":0},{"$f":"IF(AZ59=3,G59,0)","v":0},{"$f":"IF(AZ59=4,G59,0)","v":0},{"$f":"IF(AZ59=5,G59,0)","v":0},null,null,null,null,null,null,null,null,null,null,null,null,null,null,null,null,null,null,null,null,null,1,1]
[null,null,"Vodovodní přípojky z  PE D 32x3,0 mm:",null,0,null,null,null,null,null,null,null,"Vodovodní přípojky z  PE D 32x3,0 mm:"]
[null,null,"Průměrná hloubka výkopů 1,60 m:",null,0,null,null,null,null,null,null,null,"Průměrná hloubka výkopů 1,60 m:"]
[null,null,"Výkopy:34,2300",null,34.229999999999997,null,null,null,null,null,null,null,"Výkopy:34,2300"]
[null,null,"Odpočet objemu zásypů zeminoi:-10,6029",null,-10.6029,null,null,null,null,null,null,null,"Odpočet objemu zásypů zeminoi:-10,6029"]
[11,"174101101R00","Zásyp jam, rýh, šachet se zhutněním ","m3",21.408799999999999,null,{"$f":"E64*F64","v":0},0,{"$f":"E64*H64","v":0},0,{"$f":"E64*J64","v":0},null,null,null,2,null,null,null,null,null,null,null,null,null,null,null,1,1,1,null,null,null,null,null,null,null,null,null,null,null,null,null,null,null,null,null,null,null,null,null,null,1,{"$f":"IF(AZ64=1,G64,0)","v":0},{"$f":"IF(AZ64=2,G64,0)","v":0},{"$f":"IF(AZ64=3,G64,0)","v":0},{"$f":"IF(AZ64=4,G64,0)","v":0},{"$f":"IF(AZ64=5,G64,0)","v":0},null,null,null,null,null,null,null,null,null,null,null,null,null,null,null,null,null,null,null,null,null,1,1]
[null,null,"Položka obsahuje strojní přemístění materiálu pro zásyp ze vzdálenosti do 10 m od okraje zásypu.",null,null,null,null,null,null,null,null,"Položka obsahuje strojní přemístění materiálu pro zásyp ze vzdálenosti do 10 m od okraje zásypu.",null,null,3]
[null,null,null,null,null,null,null,null,null,null,null,null,null,null,3]
[null,null,"Vodovodní přípojky z  PE D 32x3,0 mm:",null,0,null,null,null,null,null,null,null,"Vodovodní přípojky z  PE D 32x3,0 mm:"]
[null,null,"Zásypy ŠD fr. 0-63 mm:10,8059",null,10.805899999999999,null,null,null,null,null,null,null,"Zásypy ŠD fr. 0-63 mm:10,8059"]
[null,null,"Začátek provozního součtu",null,0,null,null,null,null,null,null,null,"Začátek provozního součtu"]
[null,null,"Výkopy:",null,0,null,null,null,null,null,null,null,"Výkopy:"]
[null,null,"VP (4 kusy):21,50*0,70*1,60",null,24.08,null,null,null,null,null,null,null,"VP (4 kusy):21,50*0,70*1,60"]
[null,null,"Odpočet objemu konstrukce komunikací a chodníků:-21,50*0,70*0,40",null,-6.02,null,null,null,null,null,null,null,"Odpočet objemu konstrukce komunikací a chodníků:-21,50*0,70*0,40"]
[null,null,"Odpočet objemu lože, potrubí a obsypů:-21,50*0,70*(0,15+0,032+0,30)",null,-7.2541000000000002,null,null,null,null,null,null,null,"Odpočet objemu lože, potrubí a obsypů:-21,50*0,70*(0,15+0,032+0,30)"]
[null,null,"Konec provozního součtu",null,10.805899999999998,null,null,null,null,null,null,null,"Konec provozního součtu"]
[null,null,"Zásypy zeminou:10,6029",null,10.6029,null,null,null,null,null,null,null,"Zásypy zeminou:10,6029"]
[null,null,"Začátek provozního součtu",null,0,null,null,null,null,null,null,null,"Začátek provozního součtu"]
[null,null,"Výkopy:",null,0,null,null,null,null,null,null,null,"Výkopy:"]
[null,null,"VP (4 kusy):16,50*0,70*1,60",null,18.48,null,null,null,null,null,null,null,"VP (4 kusy):16,50*0,70*1,60"]
[null,null,"Odpočez objemu ornice:-16,50*0,70*0,20",null,-2.31,null,null,null,null,null,null,null,"Odpočez objemu ornice:-16,50*0,70*0,20"]
[null,null,"Odpočet objemu lože, potrubí a obsypů:-16,50*0,70*(0,15+0,032+0,30)",null,-5.5670999999999999,null,null,null,null,null,null,null,"Odpočet objemu lože, potrubí a obsypů:-16,50*0,70*(0,15+0,032+0,30)"]
[null,null,"0",null,0,null,null,null,null,null,null,null,0]
[null,null,"Konec provozního součtu",null,10.602900000000002,null,null,null,null,null,null,null,"Konec provozního součtu"]
[12,"175101101R00","Obsyp potrubí bez prohození sypaniny ","m3",8.8005999999999993,null,{"$f":"E83*F83","v":0},0,{"$f":"E83*H83","v":0},0,{"$f":"E83*J83","v":0},null,null,null,2,null,null,null,null,null,null,null,null,null,null,null,1,1,1,null,null,null,null,null,null,null,null,null,null,null,null,null,null,null,null,null,null,null,null,null,null,1,{"$f":"IF(AZ83=1,G83,0)","v":0},{"$f":"IF(AZ83=2,G83,0)","v":0},{"$f":"IF(AZ83=3,G83,0)","v":0},{"$f":"IF(AZ83=4,G83,0)","v":0},{"$f":"IF(AZ83=5,G83,0)","v":0},null,null,null,null,null,null,null,null,null,null,null,null,null,null,null,null,null,null,null,null,null,1,1]
[null,null,"Vodovodní přípojky z  PE D 32x3,0 mm:",null,0,null,null,null,null,null,null,null,"Vodovodní přípojky z  PE D 32x3,0 mm:"]
[null,null,"VP (4 kusy):38,00*(0,70*(0,032+0,30)-0,016^2*Pi)",null,8.8005999999999993,null,null,null,null,null,null,null,"VP (4 kusy):38,00*(0,70*(0,032+0,30)-0,016^2*Pi)"]
[13,"199000002R00","Poplatek za skládku horniny 1- 7 č. dle katal. odpadů 17 05 04","m3",23.627099999999999,null,{"$f":"E86*F86","v":0},0,{"$f":"E86*H86","v":0},0,{"$f":"E86*J86","v":0},null,null,null,2,null,null,null,null,null,null,null,null,null,null,null,1,1,1,null,null,null,null,null,null,null,null,null,null,null,null,null,null,null,null,null,null,null,null,null,null,1,{"$f":"IF(AZ86=1,G86,0)","v":0},{"$f":"IF(AZ86=2,G86,0)","v":0},{"$f":"IF(AZ86=3,G86,0)","v":0},{"$f":"IF(AZ86=4,G86,0)","v":0},{"$f":"IF(AZ86=5,G86,0)","v":0},null,null,null,null,null,null,null,null,null,null,null,null,null,null,null,null,null,null,null,null,null,1,1]
[null,null,"Vodovodní přípojky z  PE D 32x3,0 mm:",null,0,null,null,null,null,null,null,null,"Vodovodní přípojky z  PE D 32x3,0 mm:"]
[null,null,"Průměrná hloubka výkopů 1,60 m:",null,0,null,null,null,null,null,null,null,"Průměrná hloubka výkopů 1,60 m:"]
[null,null,"Výkopy:34,2300",null,34.229999999999997,null,null,null,null,null,null,null,"Výkopy:34,2300"]
[null,null,"Odpočet objemu zásypů zeminoi:-10,6029",null,-10.6029,null,null,null,null,null,null,null,"Odpočet objemu zásypů zeminoi:-10,6029"]
[14,"58337308.R","Štěrkopísek frakce 0-2 tř.B","t",17.537299999999998,null,{"$f":"E91*F91","v":0},1,{"$f":"E91*H91","v":17.537299999999998},null,{"$f":"E91*J91","v":0},null,null,null,2,null,null,null,null,null,null,null,null,null,null,null,3,1,"58337308.R",null,null,null,null,null,null,null,null,null,null,null,null,null,null,null,null,null,null,null,null,null,null,1,{"$f":"IF(AZ91=1,G91,0)","v":0},{"$f":"IF(AZ91=2,G91,0)","v":0},{"$f":"IF(AZ91=3,G91,0)","v":0},{"$f":"IF(AZ91=4,G91,0)","v":0},{"$f":"IF(AZ91=5,G91,0)","v":0},null,null,null,null,null,null,null,null,null,null,null,null,null,null,null,null,null,null,null,null,null,3,1]
[null,null,"Vodovodní přípojky z  PE D 32x3,0 mm:",null,0,null,null,null,null,null,null,null,"Vodovodní přípojky z  PE D 32x3,0 mm:"]
[null,null,"VP (4 kusy):38,00*(0,70*(0,032+0,30)-0,016^2*Pi)*1,973*1,01",null,17.537299999999998,null,null,null,null,null,null,null,"VP (4 kusy):38,00*(0,70*(0,032+0,30)-0,016^2*Pi)*1,973*1,01"]
[15,"58344197R","Štěrkodrtě frakce 0-63 A","t",20.441800000000001,null,{"$f":"E94*F94","v":0},1,{"$f":"E94*H94","v":20.441800000000001},null,{"$f":"E94*J94","v":0},null,null,null,2,null,null,null,null,null,null,null,null,null,null,null,3,1,"58344197R",null,null,null,null,null,null,null,null,null,null,null,null,null,null,null,null,null,null,null,null,null,null,1,{"$f":"IF(AZ94=1,G94,0)","v":0},{"$f":"IF(AZ94=2,G94,0)","v":0},{"$f":"IF(AZ94=3,G94,0)","v":0},{"$f":"IF(AZ94=4,G94,0)","v":0},{"$f":"IF(AZ94=5,G94,0)","v":0},null,null,null,null,null,null,null,null,null,null,null,null,null,null,null,null,null,null,null,null,null,3,1]
[null,null,"Vodovodní přípojky z  PE D 32x3,0 mm:",null,0,null,null,null,null,null,null,null,"Vodovodní přípojky z  PE D 32x3,0 mm:"]
[null,null,"Zásypy ŠD fr. 0-63 mm:10,8059*1,873*1,01",null,20.441800000000001,null,null,null,null,null,null,null,"Zásypy ŠD fr. 0-63 mm:10,8059*1,873*1,01"]
[null,"Celkem za","1 Zemní práce",null,null,null,{"$f":"SUM(G7:G96)","v":0},null,{"$f":"SUM(I7:I96)","v":38.099484000000004},null,{"$f":"SUM(K7:K96)","v":0},null,null,null,4,null,null,null,null,null,null,null,null,null,null,null,null,null,null,null,null,null,null,null,null,null,null,null,null,null,null,null,null,null,null,null,null,null,null,null,null,null,{"$f":"SUM(BA7:BA96)","v":0},{"$f":"SUM(BB7:BB96)","v":0},{"$f":"SUM(BC7:BC96)","v":0},{"$f":"SUM(BD7:BD96)","v":0},{"$f":"SUM(BE7:BE96)","v":0}]
["Díl:","21","Úprava podloží a základ.spáry",null,null,null,null,null,null,null,null,null,null,null,1]
[16,"215901101RT5","Zhutnění podloží do 92% PS vibrační deskou","m2",26.6,null,{"$f":"E99*F99","v":0},0,{"$f":"E99*H99","v":0},0,{"$f":"E99*J99","v":0},null,null,null,2,null,null,null,null,null,null,null,null,null,null,null,1,1,1,null,null,null,null,null,null,null,null,null,null,null,null,null,null,null,null,null,null,null,null,null,null,1,{"$f":"IF(AZ99=1,G99,0)","v":0},{"$f":"IF(AZ99=2,G99,0)","v":0},{"$f":"IF(AZ99=3,G99,0)","v":0},{"$f":"IF(AZ99=4,G99,0)","v":0},{"$f":"IF(AZ99=5,G99,0)","v":0},null,null,null,null,null,null,null,null,null,null,null,null,null,null,null,null,null,null,null,null,null,1,1]
[null,null,"Vodovodní přípojky z  PE D 32x3,0 mm:",null,0,null,null,null,null,null,null,null,"Vodovodní přípojky z  PE D 32x3,0 mm:"]
[null,null,"VP (4 kusy):38,00*0,70",null,26.6,null,null,null,null,null,null,null,"VP (4 kusy):38,00*0,70"]
[null,"Celkem za","21 Úprava podloží a základ.spáry",null,null,null,{"$f":"SUM(G98:G101)","v":0},null,{"$f":"SUM(I98:I101)","v":0},null,{"$f":"SUM(K98:K101)","v":0},null,null,null,4,null,null,null,null,null,null,null,null,null,null,null,null,null,null,null,null,null,null,null,null,null,null,null,null,null,null,null,null,null,null,null,null,null,null,null,null,null,{"$f":"SUM(BA98:BA101)","v":0},{"$f":"SUM(BB98:BB101)","v":0},{"$f":"SUM(BC98:BC101)","v":0},{"$f":"SUM(BD98:BD101)","v":0},{"$f":"SUM(BE98:BE101)","v":0}]
["Díl:","45","Podkladní a vedlejší konstrukce",null,null,null,null,null,null,null,null,null,null,null,1]
[17,"451572111R00","Lože pod potrubí z kameniva těženého 0 - 4 mm ","m3",3.99,null,{"$f":"E104*F104","v":0},0.43051,{"$f":"E104*H104","v":1.7177349000000002},0,{"$f":"E104*J104","v":0},null,null,null,2,null,null,null,null,null,null,null,null,null,null,null,1,1,1,null,null,null,null,null,null,null,null,null,null,null,null,null,null,null,null,null,null,null,null,null,null,1,{"$f":"IF(AZ104=1,G104,0)","v":0},{"$f":"IF(AZ104=2,G104,0)","v":0},{"$f":"IF(AZ104=3,G104,0)","v":0},{"$f":"IF(AZ104=4,G104,0)","v":0},{"$f":"IF(AZ104=5,G104,0)","v":0},null,null,null,null,null,null,null,null,null,null,null,null,null,null,null,null,null,null,null,null,null,1,1]
[null,null,"Vodovodní přípojky z  PE D 32x3,0 mm:",null,0,null,null,null,null,null,null,null,"Vodovodní přípojky z  PE D 32x3,0 mm:"]
[null,null,"VP (4 kusy):38,00*0,70*0,15",null,3.99,null,null,null,null,null,null,null,"VP (4 kusy):38,00*0,70*0,15"]
[null,"Celkem za","45 Podkladní a vedlejší konstrukce",null,null,null,{"$f":"SUM(G103:G106)","v":0},null,{"$f":"SUM(I103:I106)","v":1.7177349000000002},null,{"$f":"SUM(K103:K106)","v":0},null,null,null,4,null,null,null,null,null,null,null,null,null,null,null,null,null,null,null,null,null,null,null,null,null,null,null,null,null,null,null,null,null,null,null,null,null,null,null,null,null,{"$f":"SUM(BA103:BA106)","v":0},{"$f":"SUM(BB103:BB106)","v":0},{"$f":"SUM(BC103:BC106)","v":0},{"$f":"SUM(BD103:BD106)","v":0},{"$f":"SUM(BE103:BE106)","v":0}]
["Díl:","5","Komunikace",null,null,null,null,null,null,null,null,null,null,null,1]
[18,"572701119RRX","Provizorní zásyp rýh kam. hrubě drceným nebo recyk s následným odstraněním a odvozem","m3",6.02,null,{"$f":"E109*F109","v":0},1.4804999999999999,{"$f":"E109*H109","v":8.912609999999999},0,{"$f":"E109*J109","v":0},null,null,null,2,null,null,null,null,null,null,null,null,null,null,null,1,1,1,null,null,null,null,null,null,null,null,null,null,null,null,null,null,null,null,null,null,null,null,null,null,1,{"$f":"IF(AZ109=1,G109,0)","v":0},{"$f":"IF(AZ109=2,G109,0)","v":0},{"$f":"IF(AZ109=3,G109,0)","v":0},{"$f":"IF(AZ109=4,G109,0)","v":0},{"$f":"IF(AZ109=5,G109,0)","v":0},null,null,null,null,null,null,null,null,null,null,null,null,null,null,null,null,null,null,null,null,null,1,1]
[null,null,"Vodovodní přípojky z  PE D 32x3,0 mm:",null,0,null,null,null,null,null,null,null,"Vodovodní přípojky z  PE D 32x3,0 mm:"]
[null,null,"Provizorní zásypy konstrukce komunikací a chodníků:21,50*0,70*0,40",null,6.02,null,null,null,null,null,null,null,"Provizorní zásypy konstrukce komunikací a chodníků:21,50*0,70*0,40"]
[19,"591050020RAX","Komunikace z dlažby zámkové, podklad štěrkopísek dlažba přírodní tloušťka 8 cm","m2",10,null,{"$f":"E112*F112","v":0},1.1893,{"$f":"E112*H112","v":11.893000000000001},0,{"$f":"E112*J112","v":0},null,null,null,2,null,null,null,null,null,null,null,null,null,null,null,1,1,1,null,null,null,null,null,null,null,null,null,null,null,null,null,null,null,null,null,null,null,null,null,null,1,{"$f":"IF(AZ112=1,G112,0)","v":0},{"$f":"IF(AZ112=2,G112,0)","v":0},{"$f":"IF(AZ112=3,G112,0)","v":0},{"$f":"IF(AZ112=4,G112,0)","v":0},{"$f":"IF(AZ112=5,G112,0)","v":0},null,null,null,null,null,null,null,null,null,null,null,null,null,null,null,null,null,null,null,null,null,1,1]
[null,null,"Rozebrání části stávající plochy ZD včetně podkladní konstrukce a uvedení plochy do původního stavu za použití původní ZD.",null,null,null,null,null,null,null,null,"Rozebrání části stávající plochy ZD včetně podkladní konstrukce a uvedení plochy do původního stavu za použití původní ZD.",null,null,3]
[null,null,"Vodovodní přípojky z  PE D 32x3,0 mm:",null,0,null,null,null,null,null,null,null,"Vodovodní přípojky z  PE D 32x3,0 mm:"]
[null,null,"VP (1 kus) u čp. 729:5,00*2,00",null,10,null,null,null,null,null,null,null,"VP (1 kus) u čp. 729:5,00*2,00"]
[null,"Celkem za","5 Komunikace",null,null,null,{"$f":"SUM(G108:G115)","v":0},null,{"$f":"SUM(I108:I115)","v":20.805610000000001},null,{"$f":"SUM(K108:K115)","v":0},null,null,null,4,null,null,null,null,null,null,null,null,null,null,null,null,null,null,null,null,null,null,null,null,null,null,null,null,null,null,null,null,null,null,null,null,null,null,null,null,null,{"$f":"SUM(BA108:BA115)","v":0},{"$f":"SUM(BB108:BB115)","v":0},{"$f":"SUM(BC108:BC115)","v":0},{"$f":"SUM(BD108:BD115)","v":0},{"$f":"SUM(BE108:BE115)","v":0}]
["Díl:","8","Trubní vedení",null,null,null,null,null,null,null,null,null,null,null,1]
[20,"871161121R00","Montáž trubek polyetylenových ve výkopu d 32 mm ","m",38,null,{"$f":"E118*F118","v":0},0,{"$f":"E118*H118","v":0},0,{"$f":"E118*J118","v":0},null,null,null,2,null,null,null,null,null,null,null,null,null,null,null,1,1,1,null,null,null,null,null,null,null,null,null,null,null,null,null,null,null,null,null,null,null,null,null,null,1,{"$f":"IF(AZ118=1,G118,0)","v":0},{"$f":"IF(AZ118=2,G118,0)","v":0},{"$f":"IF(AZ118=3,G118,0)","v":0},{"$f":"IF(AZ118=4,G118,0)","v":0},{"$f":"IF(AZ118=5,G118,0)","v":0},null,null,null,null,null,null,null,null,null,null,null,null,null,null,null,null,null,null,null,null,null,1,1]
[null,null,"V položce je uvažováno použití svitku. ",null,null,null,null,null,null,null,null,"V položce je uvažováno použití svitku. ",null,null,3]
[null,null,"Vodovodní přípojky z  PE D 32x3,0 mm:",null,0,null,null,null,null,null,null,null,"Vodovodní přípojky z  PE D 32x3,0 mm:"]
[null,null,"VP (4 kusy):38,00",null,38,null,null,null,null,null,null,null,"VP (4 kusy):38,00"]
[21,"877162121R00","Přirážka za 1 spoj elektrotvarovky d 32 mm ","kus",4,null,{"$f":"E122*F122","v":0},0,{"$f":"E122*H122","v":0},0,{"$f":"E122*J122","v":0},null,null,null,2,null,null,null,null,null,null,null,null,null,null,null,1,1,1,null,null,null,null,null,null,null,null,null,null,null,null,null,null,null,null,null,null,null,null,null,null,1,{"$f":"IF(AZ122=1,G122,0)","v":0},{"$f":"IF(AZ122=2,G122,0)","v":0},{"$f":"IF(AZ122=3,G122,0)","v":0},{"$f":"IF(AZ122=4,G122,0)","v":0},{"$f":"IF(AZ122=5,G122,0)","v":0},null,null,null,null,null,null,null,null,null,null,null,null,null,null,null,null,null,null,null,null,null,1,1]
[null,null,"Vodovodní přípojky z  PE D 32x3,0 mm:",null,0,null,null,null,null,null,null,null,"Vodovodní přípojky z  PE D 32x3,0 mm:"]
[null,null,"VP (4 kusy):",null,0,null,null,null,null,null,null,null,"VP (4 kusy):"]
[null,null,"Elektrospojka PE D32:4",null,4,null,null,null,null,null,null,null,"Elektrospojka PE D32:4"]
[22,"891183439RRX","Přepojení potrubí PE na přípojkách D 32 včetně dodávky přepojovací tvarovky","kus",4,null,{"$f":"E126*F126","v":0},1.4599999999999999E-3,{"$f":"E126*H126","v":5.8399999999999997E-3},0,{"$f":"E126*J126","v":0},null,null,null,2,null,null,null,null,null,null,null,null,null,null,null,1,1,1,null,null,null,null,null,null,null,null,null,null,null,null,null,null,null,null,null,null,null,null,null,null,1,{"$f":"IF(AZ126=1,G126,0)","v":0},{"$f":"IF(AZ126=2,G126,0)","v":0},{"$f":"IF(AZ126=3,G126,0)","v":0},{"$f":"IF(AZ126=4,G126,0)","v":0},{"$f":"IF(AZ126=5,G126,0)","v":0},null,null,null,null,null,null,null,null,null,null,null,null,null,null,null,null,null,null,null,null,null,1,1]
[null,null,"Položka obsahuje přerušení stávajícího potrubí, montáž a dodávku příslušné tvarovky pro propojení stávajícího potrubí (PE, ocel a pod.)  s novým potrubím (PE D 32x3,0 mm) přípojky  D 32",null,null,null,null,null,null,null,null,"Položka obsahuje přerušení stávajícího potrubí, montáž a dodávku příslušné tvarovky pro propojení stávajícího potrubí (PE, ocel a pod.)  s novým potrubím (PE D 32x3,0 mm) přípojky  D 32",null,null,3]
[null,null,"Vodovodní přípojky z  PE D 32x3,0 mm:",null,0,null,null,null,null,null,null,null,"Vodovodní přípojky z  PE D 32x3,0 mm:"]
[null,null,"VP (4 kusy) - Přepojení na stávající potrubí:4",null,4,null,null,null,null,null,null,null,"VP (4 kusy) - Přepojení na stávající potrubí:4"]
[23,"892233111R00","Desinfekce vodovodního potrubí DN 70 ","m",38,null,{"$f":"E130*F130","v":0},0,{"$f":"E130*H130","v":0},0,{"$f":"E130*J130","v":0},null,null,null,2,null,null,null,null,null,null,null,null,null,null,null,1,1,1,null,null,null,null,null,null,null,null,null,null,null,null,null,null,null,null,null,null,null,null,null,null,1,{"$f":"IF(AZ130=1,G130,0)","v":0},{"$f":"IF(AZ130=2,G130,0)","v":0},{"$f":"IF(AZ130=3,G130,0)","v":0},{"$f":"IF(AZ130=4,G130,0)","v":0},{"$f":"IF(AZ130=5,G130,0)","v":0},null,null,null,null,null,null,null,null,null,null,null,null,null,null,null,null,null,null,null,null,null,1,1]
[null,null,"V položce jsou zakalkulovány náklady na napuštění a vypuštění vody, dodání vody a desinfekčního prostředku a na bakteriologický rozbor vody.",null,null,null,null,null,null,null,null,"V položce jsou zakalkulovány náklady na napuštění a vypuštění vody, dodání vody a desinfekčního prostředku a na bakteriologický rozbor vody.",null,null,3]
[null,null,"Vodovodní přípojky z  PE D 32x3,0 mm:",null,0,null,null,null,null,null,null,null,"Vodovodní přípojky z  PE D 32x3,0 mm:"]
[null,null,"VP (4 kusy):38,00",null,38,null,null,null,null,null,null,null,"VP (4 kusy):38,00"]
[24,"892241111R00","Tlaková zkouška vodovodního potrubí DN 80 včetně zajištění konců potrubí","m",38,null,{"$f":"E134*F134","v":0},0,{"$f":"E134*H134","v":0},0,{"$f":"E134*J134","v":0},null,null,null,2,null,null,null,null,null,null,null,null,null,null,null,1,1,1,null,null,null,null,null,null,null,null,null,null,null,null,null,null,null,null,null,null,null,null,null,null,1,{"$f":"IF(AZ134=1,G134,0)","v":0},{"$f":"IF(AZ134=2,G134,0)","v":0},{"$f":"IF(AZ134=3,G134,0)","v":0},{"$f":"IF(AZ134=4,G134,0)","v":0},{"$f":"IF(AZ134=5,G134,0)","v":0},null,null,null,null,null,null,null,null,null,null,null,null,null,null,null,null,null,null,null,null,null,1,1]
[null,null,"V položce jsou započteny náklady na přísun, montáž, demontáž a odsun zkoušecího čerpadla, napuštění tlakovou vodou a dodání vody pro tlakovou zkoušku",null,null,null,null,null,null,null,null,"V položce jsou započteny náklady na přísun, montáž, demontáž a odsun zkoušecího čerpadla, napuštění tlakovou vodou a dodání vody pro tlakovou zkoušku",null,null,3]
[null,null,"Vodovodní přípojky z  PE D 32x3,0 mm:",null,0,null,null,null,null,null,null,null,"Vodovodní přípojky z  PE D 32x3,0 mm:"]
[null,null,"VP (4 kusy):38,00",null,38,null,null,null,null,null,null,null,"VP (4 kusy):38,00"]
[25,"899721112R00","Fólie výstražná z PVC bílá, šířka 30 cm ","m",38,null,{"$f":"E138*F138","v":0},0,{"$f":"E138*H138","v":0},0,{"$f":"E138*J138","v":0},null,null,null,2,null,null,null,null,null,null,null,null,null,null,null,1,1,1,null,null,null,null,null,null,null,null,null,null,null,null,null,null,null,null,null,null,null,null,null,null,1,{"$f":"IF(AZ138=1,G138,0)","v":0},{"$f":"IF(AZ138=2,G138,0)","v":0},{"$f":"IF(AZ138=3,G138,0)","v":0},{"$f":"IF(AZ138=4,G138,0)","v":0},{"$f":"IF(AZ138=5,G138,0)","v":0},null,null,null,null,null,null,null,null,null,null,null,null,null,null,null,null,null,null,null,null,null,1,1]
[null,null,"Vodovodní přípojky z  PE D 32x3,0 mm:",null,0,null,null,null,null,null,null,null,"Vodovodní přípojky z  PE D 32x3,0 mm:"]
[null,null,"VP (4 kusy):38,00",null,38,null,null,null,null,null,null,null,"VP (4 kusy):38,00"]
[26,"899731114R00","Vodič signalizační CYY 6 mm2 ","m",76,null,{"$f":"E141*F141","v":0},8.0000000000000007E-5,{"$f":"E141*H141","v":6.0800000000000003E-3},0,{"$f":"E141*J141","v":0},null,null,null,2,null,null,null,null,null,null,null,null,null,null,null,1,1,1,null,null,null,null,null,null,null,null,null,null,null,null,null,null,null,null,null,null,null,null,null,null,1,{"$f":"IF(AZ141=1,G141,0)","v":0},{"$f":"IF(AZ141=2,G141,0)","v":0},{"$f":"IF(AZ141=3,G141,0)","v":0},{"$f":"IF(AZ141=4,G141,0)","v":0},{"$f":"IF(AZ141=5,G141,0)","v":0},null,null,null,null,null,null,null,null,null,null,null,null,null,null,null,null,null,null,null,null,null,1,1]
[null,null,"Součástí položky je zajištění proměření vodiče a výchozí zevize.",null,null,null,null,null,null,null,null,"Součástí položky je zajištění proměření vodiče a výchozí zevize.",null,null,3]
[null,null,"Vodovodní přípojky z  PE D 32x3,0 mm:",null,0,null,null,null,null,null,null,null,"Vodovodní přípojky z  PE D 32x3,0 mm:"]
[null,null,"VP (4 kusy):38,00*2",null,76,null,null,null,null,null,null,null,"VP (4 kusy):38,00*2"]
[27,"286134204.R","Trubka tlaková PE 100 RC2 PE100 32x3,0 mm PN16","m",38.57,null,{"$f":"E145*F145","v":0},1E-3,{"$f":"E145*H145","v":3.857E-2},null,{"$f":"E145*J145","v":0},null,null,null,2,null,null,null,null,null,null,null,null,null,null,null,3,1,"286134204.R",null,null,null,null,null,null,null,null,null,null,null,null,null,null,null,null,null,null,null,null,null,null,1,{"$f":"IF(AZ145=1,G145,0)","v":0},{"$f":"IF(AZ145=2,G145,0)","v":0},{"$f":"IF(AZ145=3,G145,0)","v":0},{"$f":"IF(AZ145=4,G145,0)","v":0},{"$f":"IF(AZ145=5,G145,0)","v":0},null,null,null,null,null,null,null,null,null,null,null,null,null,null,null,null,null,null,null,null,null,3,1]
[null,null,"Vodovodní tlaková trubka PE 100 RC2 dle normy EN 12 201-2",null,null,null,null,null,null,null,null,"Vodovodní PE tlaková trubka AQUALINE RC2 dle normy EN 12 201-2",null,null,3]
[null,null,"(doprava pitné a užitkové vody)",null,null,null,null,null,null,null,null,"(doprava pitné a užitkové vody)",null,null,3]
[null,null,"Návin 100 m",null,null,null,null,null,null,null,null,"Návin 100 m",null,null,3]
[null,null,"Vodovodní přípojky z  PE D 32x3,0 mm:",null,0,null,null,null,null,null,null,null,"Vodovodní přípojky z  PE D 32x3,0 mm:"]
[null,null,"VP (4 kusy):38,00*1,015",null,38.57,null,null,null,null,null,null,null,"VP (4 kusy):38,00*1,015"]
[28,"28653075.05.R","Elektrospojka d 32 mm PE 100 SDR11","kus",4.0599999999999996,null,{"$f":"E151*F151","v":0},1.2999999999999999E-3,{"$f":"E151*H151","v":5.2779999999999988E-3},null,{"$f":"E151*J151","v":0},null,null,null,2,null,null,null,null,null,null,null,null,null,null,null,3,1,"28653075.05.R",null,null,null,null,null,null,null,null,null,null,null,null,null,null,null,null,null,null,null,null,null,null,1,{"$f":"IF(AZ151=1,G151,0)","v":0},{"$f":"IF(AZ151=2,G151,0)","v":0},{"$f":"IF(AZ151=3,G151,0)","v":0},{"$f":"IF(AZ151=4,G151,0)","v":0},{"$f":"IF(AZ151=5,G151,0)","v":0},null,null,null,null,null,null,null,null,null,null,null,null,null,null,null,null,null,null,null,null,null,3,1]
[null,null,"Vodovodní přípojky z  PE D 32x3,0 mm:",null,0,null,null,null,null,null,null,null,"Vodovodní přípojky z  PE D 32x3,0 mm:"]
[null,null,"VP (4 kusy)):",null,0,null,null,null,null,null,null,null,"VP (4 kusy)):"]
[null,null,"Elektrospojka PE D32:4*1,015",null,4.0599999999999996,null,null,null,null,null,null,null,"Elektrospojka PE D32:4*1,015"]
[null,"Celkem za","8 Trubní vedení",null,null,null,{"$f":"SUM(G117:G154)","v":0},null,{"$f":"SUM(I117:I154)","v":5.5767999999999998E-2},null,{"$f":"SUM(K117:K154)","v":0},null,null,null,4,null,null,null,null,null,null,null,null,null,null,null,null,null,null,null,null,null,null,null,null,null,null,null,null,null,null,null,null,null,null,null,null,null,null,null,null,null,{"$f":"SUM(BA117:BA154)","v":0},{"$f":"SUM(BB117:BB154)","v":0},{"$f":"SUM(BC117:BC154)","v":0},{"$f":"SUM(BD117:BD154)","v":0},{"$f":"SUM(BE117:BE154)","v":0}]
["Díl:","99","Staveništní přesun hmot",null,null,null,null,null,null,null,null,null,null,null,1]
[29,"998276101RXX","Přesun hmot, trubní vedení plastová, otevř. výkop pro celý rozsah objektu","t",60.678596900000002,null,{"$f":"E157*F157","v":0},0,{"$f":"E157*H157","v":0},null,{"$f":"E157*J157","v":0},null,null,null,2,null,null,null,null,null,null,null,null,null,null,null,7,1,2,null,null,null,null,null,null,null,null,null,null,null,null,null,null,null,null,null,null,null,null,null,null,1,{"$f":"IF(AZ157=1,G157,0)","v":0},{"$f":"IF(AZ157=2,G157,0)","v":0},{"$f":"IF(AZ157=3,G157,0)","v":0},{"$f":"IF(AZ157=4,G157,0)","v":0},{"$f":"IF(AZ157=5,G157,0)","v":0},null,null,null,null,null,null,null,null,null,null,null,null,null,null,null,null,null,null,null,null,null,7,1]
[null,null,"Staveništní doprava pro celý rozsah objektu - doprava zmeziskládek vybudovaného zařízení staveniště zhotovitele na jednotlivé části staveniště.",null,null,null,null,null,null,null,null,"Staveništní doprava pro celý rozsah objektu - doprava zmeziskládek vybudovaného zařízení staveniště zhotovitele na jednotlivé části staveniště.",null,null,3]
[null,"Celkem za","99 Staveništní přesun hmot",null,null,null,{"$f":"SUM(G156:G158)","v":0},null,{"$f":"SUM(I156:I158)","v":0},null,{"$f":"SUM(K156:K158)","v":0},null,null,null,4,null,null,null,null,null,null,null,null,null,null,null,null,null,null,null,null,null,null,null,null,null,null,null,null,null,null,null,null,null,null,null,null,null,null,null,null,null,{"$f":"SUM(BA156:BA158)","v":0},{"$f":"SUM(BB156:BB158)","v":0},{"$f":"SUM(BC156:BC158)","v":0},{"$f":"SUM(BD156:BD158)","v":0},{"$f":"SUM(BE156:BE158)","v":0}]

{"sheet":"304 3542304.1 KL","index":38,"n_rows":45,"n_cols":8,"rows_kept":45,"cut":false,"hidden":false,"merged":[[50,1,50,6],[29,5,29,6],[30,5,30,6],[31,5,31,6],[32,5,32,6],[33,5,33,6],[36,1,44,6],[45,1,45,6],[46,1,46,6],[47,1,47,6],[48,1,48,6],[49,1,49,6],[22,0,22,1],[7,2,7,4],[8,2,8,4],[9,2,9,4],[10,2,10,4],[11,2,11,4]]}
["POLOŽKOVÝ ROZPOČET"]
["Rozpočet",null,"3542/304.1","Oprava gravitační stoky D",null,"JKSO ","827.21"]
[]
["Objekt",null,null,null,null,"SKP "]
["304",null,"Oprava gravitační stoky D ul. Dvořákova",null,null,"Měrná jednotka","m"]
["Stavba",null,null,null,null,"Počet jednotek",0]
["3542",null,"Semily - Obnova VH infrastruktury a komunikací",null,null,"Náklady na m.j.",{"$f":"IF(G6=0,,ROUND((F30+F32)/G6,1))","v":0}]
["Projektant",null,null,null,null,"Typ rozpočtu"]
["Zpracovatel projektu"]
["Objednatel",null,"Vodohospodářské sdružení Turnov"]
["Dodavatel",null,".",null,null,"Zakázkové číslo "]
["Rozpočtoval",null,null,null,null,"Počet listů"]
["ROZPOČTOVÉ NÁKLADY"]
["Základní rozpočtové náklady"]
[null,"HSV celkem",{"$f":"'304 3542304.1 Rek'!E14","v":0}]
["Z","PSV celkem",{"$f":"'304 3542304.1 Rek'!F14","v":0}]
["R","M práce celkem",{"$f":"'304 3542304.1 Rek'!H14","v":0}]
["N","M dodávky celkem",{"$f":"'304 3542304.1 Rek'!G14","v":0}]
["ZRN celkem",null,{"$f":"SUM(C15:C18)","v":0}]
[]
["HZS",null,{"$f":"'304 3542304.1 Rek'!I14","v":0}]
["ZRN+HZS",null,{"$f":"C19+C21","v":0}]
["ZRN+ost.náklady+HZS",null,{"$f":"C22+G23","v":0}]
["Vypracoval",null,null,"Za zhotovitele",null,"Za objednatele"]
["Jméno :",null,null,"Jméno :",null,"Jméno :"]
["Datum :",null,null,"Datum :",null,"Datum :"]
[]
["Podpis :",null,null,"Podpis:",null,"Podpis:"]
[]
["Základ pro DPH",null,21,"%  ",null,{"$f":"C23-F32","v":0}]
["DPH",null,{"$f":"C30","v":21},"% ",null,{"$f":"ROUND(PRODUCT(F30,C31/100),0)","v":0}]
["Základ pro DPH",null,0,"% ",null,0]
["DPH",null,{"$f":"C32","v":0},"% ",null,{"$f":"ROUND(PRODUCT(F32,C33/100),0)","v":0}]
["CENA ZA OBJEKT CELKEM",null,null,null,null,{"$f":"ROUND(SUM(F30:F33),0)","v":0}]
[]
["Poznámka :",null,null,null,null,null,null," "]
[null,null,null,null,null,null,null," "]
[null,null,null,null,null,null,null," "]
[null,null,null,null,null,null,null," "]
[null,null,null,null,null,null,null," "]
[null,null,null,null,null,null,null," "]
[null,null,null,null,null,null,null," "]
[null,null,null,null,null,null,null," "]
[null,null,null,null,null,null,null," "]
[null,null,null,null,null,null,null," "]

{"sheet":"304 3542304.1 Rek","index":39,"n_rows":14,"n_cols":9,"rows_kept":14,"cut":false,"hidden":false,"merged":[[0,0,0,1],[1,0,1,1],[1,6,1,8]]}
["Stavba :",null,"3542 Semily - Obnova VH infrastruktury a komunikací",null,null,null,"Rozpočet :","3542/304.1"]
["Objekt :",null,"304 Oprava gravitační stoky D ul. Dvořákova",null,null,null,"Oprava gravitační stoky D"]
[]
["REKAPITULACE  STAVEBNÍCH  DÍLŮ"]
[]
[null,"Stavební díl",null,null,"HSV","PSV","Dodávka","Montáž","HZS"]
[{"$f":"'304 3542304.1 Pol'!B7","v":"1"},{"$f":"'304 3542304.1 Pol'!C7","v":"Zemní práce"},null,null,{"$f":"'304 3542304.1 Pol'!BA84","v":0},{"$f":"'304 3542304.1 Pol'!BB84","v":0},{"$f":"'304 3542304.1 Pol'!BC84","v":0},{"$f":"'304 3542304.1 Pol'!BD84","v":0},{"$f":"'304 3542304.1 Pol'!BE84","v":0}]
[{"$f":"'304 3542304.1 Pol'!B85","v":"21"},{"$f":"'304 3542304.1 Pol'!C85","v":"Úprava podloží a základ.spáry"},null,null,{"$f":"'304 3542304.1 Pol'!BA89","v":0},{"$f":"'304 3542304.1 Pol'!BB89","v":0},{"$f":"'304 3542304.1 Pol'!BC89","v":0},{"$f":"'304 3542304.1 Pol'!BD89","v":0},{"$f":"'304 3542304.1 Pol'!BE89","v":0}]
[{"$f":"'304 3542304.1 Pol'!B90","v":"45"},{"$f":"'304 3542304.1 Pol'!C90","v":"Podkladní a vedlejší konstrukce"},null,null,{"$f":"'304 3542304.1 Pol'!BA94","v":0},{"$f":"'304 3542304.1 Pol'!BB94","v":0},{"$f":"'304 3542304.1 Pol'!BC94","v":0},{"$f":"'304 3542304.1 Pol'!BD94","v":0},{"$f":"'304 3542304.1 Pol'!BE94","v":0}]
[{"$f":"'304 3542304.1 Pol'!B95","v":"5"},{"$f":"'304 3542304.1 Pol'!C95","v":"Komunikace"},null,null,{"$f":"'304 3542304.1 Pol'!BA99","v":0},{"$f":"'304 3542304.1 Pol'!BB99","v":0},{"$f":"'304 3542304.1 Pol'!BC99","v":0},{"$f":"'304 3542304.1 Pol'!BD99","v":0},{"$f":"'304 3542304.1 Pol'!BE99","v":0}]
[{"$f":"'304 3542304.1 Pol'!B100","v":"8"},{"$f":"'304 3542304.1 Pol'!C100","v":"Trubní vedení"},null,null,{"$f":"'304 3542304.1 Pol'!BA136","v":0},{"$f":"'304 3542304.1 Pol'!BB136","v":0},{"$f":"'304 3542304.1 Pol'!BC136","v":0},{"$f":"'304 3542304.1 Pol'!BD136","v":0},{"$f":"'304 3542304.1 Pol'!BE136","v":0}]
[{"$f":"'304 3542304.1 Pol'!B137","v":"93"},{"$f":"'304 3542304.1 Pol'!C137","v":"Dokončovací práce inženýrských staveb"},null,null,{"$f":"'304 3542304.1 Pol'!BA152","v":0},{"$f":"'304 3542304.1 Pol'!BB152","v":0},{"$f":"'304 3542304.1 Pol'!BC152","v":0},{"$f":"'304 3542304.1 Pol'!BD152","v":0},{"$f":"'304 3542304.1 Pol'!BE152","v":0}]
[{"$f":"'304 3542304.1 Pol'!B153","v":"99"},{"$f":"'304 3542304.1 Pol'!C153","v":"Staveništní přesun hmot"},null,null,{"$f":"'304 3542304.1 Pol'!BA156","v":0},{"$f":"'304 3542304.1 Pol'!BB156","v":0},{"$f":"'304 3542304.1 Pol'!BC156","v":0},{"$f":"'304 3542304.1 Pol'!BD156","v":0},{"$f":"'304 3542304.1 Pol'!BE156","v":0}]
[null,"CELKEM  OBJEKT",null,null,{"$f":"SUM(E7:E13)","v":0},{"$f":"SUM(F7:F13)","v":0},{"$f":"SUM(G7:G13)","v":0},{"$f":"SUM(H7:H13)","v":0},{"$f":"SUM(I7:I13)","v":0}]

{"sheet":"304 3542304.1 Pol","index":40,"n_rows":156,"n_cols":80,"rows_kept":156,"cut":false,"hidden":false,"merged":[[154,2,154,6],[144,2,144,6],[145,2,145,6],[146,2,146,6],[147,2,147,6],[149,2,149,3],[150,2,150,3],[133,2,133,3],[134,2,134,3],[138,2,138,6],[139,2,139,6],[140,2,140,6],[141,2,141,6],[142,2,142,6],[143,2,143,6],[148,2,148,6],[127,2,127,6],[128,2,128,6],[129,2,129,6],[130,2,130,6],[131,2,131,6],[132,2,132,6],[119,2,119,3],[120,2,120,3],[122,2,122,3],[123,2,123,3],[125,2,125,6],[126,2,126,6],[111,2,111,3],[112,2,112,3],[113,2,113,3],[115,2,115,3],[116,2,116,3],[117,2,117,3],[101,2,101,3],[102,2,102,3],[104,2,104,3],[105,2,105,3],[107,2,107,6],[108,2,108,6],[109,2,109,6],[110,2,110,6],[91,2,91,3],[92,2,92,3],[96,2,96,3],[97,2,97,3],[82,2,82,3],[86,2,86,3],[87,2,87,3],[72,2,72,3],[73,2,73,3],[75,2,75,6],[78,2,78,3],[79,2,79,3],[81,2,81,3],[64,2,64,3],[65,2,65,3],[66,2,66,3],[68,2,68,3],[69,2,69,3],[71,2,71,3],[58,2,58,6],[59,2,59,3],[60,2,60,3],[61,2,61,3],[62,2,62,3],[63,2,63,3],[50,2,50,3],[51,2,51,3],[53,2,53,3],[54,2,54,3],[55,2,55,3],[57,2,57,6],[42,2,42,3],[43,2,43,3],[45,2,45,3],[46,2,46,3],[47,2,47,3],[49,2,49,3],[34,2,34,3],[36,2,36,6],[37,2,37,3],[38,2,38,3],[39,2,39,3],[41,2,41,3],[27,2,27,3],[28,2,28,3],[29,2,29,3],[30,2,30,3],[32,2,32,3],[33,2,33,3],[22,2,22,6],[23,2,23,3],[24,2,24,3],[25,2,25,3],[26,2,26,3],[13,2,13,6],[14,2,14,3],[16,2,16,6],[17,2,17,6],[18,2,18,3],[19,2,19,3],[0,0,0,6],[2,0,2,1],[3,0,3,1],[3,4,3,6],[8,2,8,6],[9,2,9,3],[10,2,10,3],[12,2,12,6],[20,2,20,3]]}
["Položkový rozpočet "]
[]
["Stavba :",null,"3542 Semily - Obnova VH infrastruktury a komunikací",null,"Rozpočet:",{"$f":"'304 3542304.1 Rek'!H1","v":"3542/304.1"}]
["Objekt :",null,"304 Oprava gravitační stoky D ul. Dvořákova",null,{"$f":"'304 3542304.1 Rek'!G2","v":"Oprava gravitační stoky D"}]
[]
["P.č.","Číslo položky","Název položky","MJ","množství","cena / MJ","celkem (Kč)","Jednotková hmotnost","Celková hmotnost","Jednotková dem.hmot.","Celková dem.hmot."]
["Díl:","1","Zemní práce",null,null,null,null,null,null,null,null,null,null,null,1]
[1,"114211305RRX","Vyříznutí kamenin. trub do DN 500 mm, ve výkopu ","m",4,null,{"$f":"E8*F8","v":0},0,{"$f":"E8*H8","v":0},-0.17399999999999999,{"$f":"E8*J8","v":-0.69599999999999995},null,null,null,2,null,null,null,null,null,null,null,null,null,null,null,1,1,1,null,null,null,null,null,null,null,null,null,null,null,null,null,null,null,null,null,null,null,null,null,null,1,{"$f":"IF(AZ8=1,G8,0)","v":0},{"$f":"IF(AZ8=2,G8,0)","v":0},{"$f":"IF(AZ8=3,G8,0)","v":0},{"$f":"IF(AZ8=4,G8,0)","v":0},{"$f":"IF(AZ8=5,G8,0)","v":0},null,null,null,null,null,null,null,null,null,null,null,null,null,null,null,null,null,null,null,null,null,1,1]
[null,null,"Položka obsahuje odstranění materiálu obklopujícího potrubí v míře nutné pro vyzvednutí, rozpojení trub, uchopení a vyzvednutí trub z výkopu a uložení na dopravní prostředek nebo přemístění do 5 m od výkopu.",null,null,null,null,null,null,null,null,"Položka obsahuje odstranění materiálu obklopujícího potrubí v míře nutné pro vyzvednutí, rozpojení trub, uchopení a vyzvednutí trub z výkopu a uložení na dopravní prostředek nebo přemístění do 5 m od výkopu.",null,null,3]
[null,null,"Stoka \"D\" KT DN400:",null,0,null,null,null,null,null,null,null,"Stoka \"D\" KT DN400:"]
[null,null,"Vyříznutí potrubí KT DN400 části stávající stoky:4,00",null,4,null,null,null,null,null,null,null,"Vyříznutí potrubí KT DN400 části stávající stoky:4,00"]
[2,"115101201RRX","Přečerpávání nebo převedení splašků a dešť. vod ","h",50,null,{"$f":"E12*F12","v":0},0,{"$f":"E12*H12","v":0},0,{"$f":"E12*J12","v":0},null,null,null,2,null,null,null,null,null,null,null,null,null,null,null,1,1,1,null,null,null,null,null,null,null,null,null,null,null,null,null,null,null,null,null,null,null,null,null,null,1,{"$f":"IF(AZ12=1,G12,0)","v":0},{"$f":"IF(AZ12=2,G12,0)","v":0},{"$f":"IF(AZ12=3,G12,0)","v":0},{"$f":"IF(AZ12=4,G12,0)","v":0},{"$f":"IF(AZ12=5,G12,0)","v":0},null,null,null,null,null,null,null,null,null,null,null,null,null,null,null,null,null,null,null,null,null,1,1]
[null,null,"Převedení a čerpání splašků nebo dešťových vod dle zvolené technologie zhotovitele stavby.",null,null,null,null,null,null,null,null,"Převedení a čerpání splašků nebo dešťových vod dle zvolené technologie zhotovitele stavby.",null,null,3]
[null,null,"(Množství bude určeno na stavbě dle skutečnosti)",null,null,null,null,null,null,null,null,"(Množství bude určeno na stavbě dle skutečnosti)",null,null,3]
[null,null,"Stoka \"D\" KT DN400:50,00",null,50,null,null,null,null,null,null,null,"Stoka \"D\" KT DN400:50,00"]
[3,"130001101RRX","Příplatek za ztížené hloubení v blízkosti vedení ","m3",8.0402000000000005,null,{"$f":"E16*F16","v":0},0,{"$f":"E16*H16","v":0},0,{"$f":"E16*J16","v":0},null,null,null,2,null,null,null,null,null,null,null,null,null,null,null,1,1,1,null,null,null,null,null,null,null,null,null,null,null,null,null,null,null,null,null,null,null,null,null,null,1,{"$f":"IF(AZ16=1,G16,0)","v":0},{"$f":"IF(AZ16=2,G16,0)","v":0},{"$f":"IF(AZ16=3,G16,0)","v":0},{"$f":"IF(AZ16=4,G16,0)","v":0},{"$f":"IF(AZ16=5,G16,0)","v":0},null,null,null,null,null,null,null,null,null,null,null,null,null,null,null,null,null,null,null,null,null,1,1]
[null,null,"Včetně případných nutných dokopávek a ručního výkopu podél sousedících inženýrských sítí.",null,null,null,null,null,null,null,null,"Včetně případných nutných dokopávek a ručního výkopu podél sousedících inženýrských sítí.",null,null,3]
[null,null,"Součástí položky je i dočasné zajištění stávajících inženýrských sítí v prostoru výkopů (potrubí, kabely a pod.)",null,null,null,null,null,null,null,null,"Součástí položky je i dočasné zajištění stávajících inženýrských sítí v prostoru výkopů (potrubí, kabely a pod.)",null,null,3]
[null,null,"Stoka \"D\" KT DN400:",null,0,null,null,null,null,null,null,null,"Stoka \"D\" KT DN400:"]
[null,null,"Výkopy:",null,0,null,null,null,null,null,null,null,"Výkopy:"]
[null,null,"V hornině tř. 3 - 4 - 75%:10,7202*0,75",null,8.0402000000000005,null,null,null,null,null,null,null,"V hornině tř. 3 - 4 - 75%:10,7202*0,75"]
[4,"132201210R00","Hloubení rýh š.do 200 cm hor.3 do 50 m3,STROJNĚ ","m3",5.3601000000000001,null,{"$f":"E22*F22","v":0},0,{"$f":"E22*H22","v":0},0,{"$f":"E22*J22","v":0},null,null,null,2,null,null,null,null,null,null,null,null,null,null,null,1,1,1,null,null,null,null,null,null,null,null,null,null,null,null,null,null,null,null,null,null,null,null,null,null,1,{"$f":"IF(AZ22=1,G22,0)","v":0},{"$f":"IF(AZ22=2,G22,0)","v":0},{"$f":"IF(AZ22=3,G22,0)","v":0},{"$f":"IF(AZ22=4,G22,0)","v":0},{"$f":"IF(AZ22=5,G22,0)","v":0},null,null,null,null,null,null,null,null,null,null,null,null,null,null,null,null,null,null,null,null,null,1,1]
[null,null,"Položka obsahuje hloubení rýh traktorbagrem, naložení výkopku na dopravní prostředek pro svislé, nebo vodorovné přemístění, popř. přemístění výkopku do 3 m (po povrchu území), případné zajištění rypadel polštáři, udržování pracoviště a ochranu výkopiště proti stékání srážkové vody z okolního terénu i s jejím odvodněním, nebo odvedením, přesekání a odstranění kořenů ve výkopišti, odstranění napadávek, urovnání dna výkopu.",null,null,null,null,null,null,null,null,"Položka obsahuje hloubení rýh traktorbagrem, naložení výkopku na dopravní prostředek pro svislé, nebo vodorovné přemístění, popř. přemístění výkopku do 3 m (po povrchu území), případné zajištění rypadel polštáři, udržování pracoviště a ochranu výkopiště proti stékání srážkové vody z okolního terénu i s jejím odvodněním, nebo odvedením, přesekání a odstranění kořenů ve výkopišti, odstranění napadávek, urovnání dna výkopu.",null,null,3]
[null,null,"Stoka \"D\" KT DN400:",null,0,null,null,null,null,null,null,null,"Stoka \"D\" KT DN400:"]
[null,null,"Výkopy:",null,0,null,null,null,null,null,null,null,"Výkopy:"]
[null,null,"Začátek provozního součtu",null,0,null,null,null,null,null,null,null,"Začátek provozního součtu"]
[null,null,"Vsazení potrubí KT DN400 do stávajícího profilu stoky:5,00*1,50*1,95",null,14.625,null,null,null,null,null,null,null,"Vsazení potrubí KT DN400 do stávajícího profilu stoky:5,00*1,50*1,95"]
[null,null,"Odpočet objemu stávajícího potrubí:-5,00*0,24^2*Pi",null,-0.90480000000000005,null,null,null,null,null,null,null,"Odpočet objemu stávajícího potrubí:-5,00*0,24^2*Pi"]
[null,null,"Odpočet objemu konstrukce komunikace:-5,00*1,50*0,40",null,-3,null,null,null,null,null,null,null,"Odpočet objemu konstrukce komunikace:-5,00*1,50*0,40"]
[null,null,"Konec provozního součtu",null,10.7202,null,null,null,null,null,null,null,"Konec provozního součtu"]
[null,null,"V hornině tř. 3 - 50%:10,7202*0,5",null,5.3601000000000001,null,null,null,null,null,null,null,"V hornině tř. 3 - 50%:10,7202*0,5"]
[5,"132201219R00","Přípl.za lepivost,hloubení rýh 200cm,hor.3,STROJNĚ ","m3",2.6800999999999999,null,{"$f":"E32*F32","v":0},0,{"$f":"E32*H32","v":0},0,{"$f":"E32*J32","v":0},null,null,null,2,null,null,null,null,null,null,null,null,null,null,null,1,1,1,null,null,null,null,null,null,null,null,null,null,null,null,null,null,null,null,null,null,null,null,null,null,1,{"$f":"IF(AZ32=1,G32,0)","v":0},{"$f":"IF(AZ32=2,G32,0)","v":0},{"$f":"IF(AZ32=3,G32,0)","v":0},{"$f":"IF(AZ32=4,G32,0)","v":0},{"$f":"IF(AZ32=5,G32,0)","v":0},null,null,null,null,null,null,null,null,null,null,null,null,null,null,null,null,null,null,null,null,null,1,1]
[null,null,"Stoka \"D\" KT DN400:",null,0,null,null,null,null,null,null,null,"Stoka \"D\" KT DN400:"]
[null,null,"Výkopy:",null,0,null,null,null,null,null,null,null,"Výkopy:"]
[null,null,"V hornině tř. 3 - 50%:10,7202*0,5*0,5",null,2.6800999999999999,null,null,null,null,null,null,null,"V hornině tř. 3 - 50%:10,7202*0,5*0,5"]
[6,"132301210R00","Hloubení rýh š.do 200 cm hor.4 do 50 m3, STROJNĚ ","m3",5.3601000000000001,null,{"$f":"E36*F36","v":0},0,{"$f":"E36*H36","v":0},0,{"$f":"E36*J36","v":0},null,null,null,2,null,null,null,null,null,null,null,null,null,null,null,1,1,1,null,null,null,null,null,null,null,null,null,null,null,null,null,null,null,null,null,null,null,null,null,null,1,{"$f":"IF(AZ36=1,G36,0)","v":0},{"$f":"IF(AZ36=2,G36,0)","v":0},{"$f":"IF(AZ36=3,G36,0)","v":0},{"$f":"IF(AZ36=4,G36,0)","v":0},{"$f":"IF(AZ36=5,G36,0)","v":0},null,null,null,null,null,null,null,null,null,null,null,null,null,null,null,null,null,null,null,null,null,1,1]
[null,null,"Položka obsahuje hloubení rýh traktorbagrem, naložení výkopku na dopravní prostředek pro svislé, nebo vodorovné přemístění, popř. přemístění výkopku do 3 m (po povrchu území), případné zajištění rypadel polštáři, udržování pracoviště a ochranu výkopiště proti stékání srážkové vody z okolního terénu i s jejím odvodněním, nebo odvedením, přesekání a odstranění kořenů ve výkopišti, odstranění napadávek, urovnání dna výkopu.",null,null,null,null,null,null,null,null,"Položka obsahuje hloubení rýh traktorbagrem, naložení výkopku na dopravní prostředek pro svislé, nebo vodorovné přemístění, popř. přemístění výkopku do 3 m (po povrchu území), případné zajištění rypadel polštáři, udržování pracoviště a ochranu výkopiště proti stékání srážkové vody z okolního terénu i s jejím odvodněním, nebo odvedením, přesekání a odstranění kořenů ve výkopišti, odstranění napadávek, urovnání dna výkopu.",null,null,3]
[null,null,"Stoka \"D\" KT DN400:",null,0,null,null,null,null,null,null,null,"Stoka \"D\" KT DN400:"]
[null,null,"Výkopy:",null,0,null,null,null,null,null,null,null,"Výkopy:"]
[null,null,"V hornině tř. 4 - 50%:10,7202*0,5",null,5.3601000000000001,null,null,null,null,null,null,null,"V hornině tř. 4 - 50%:10,7202*0,5"]
[7,"132301219R00","Přípl.za lepivost,hloubení rýh 200cm,hor.4,STROJNĚ ","m3",2.6800999999999999,null,{"$f":"E41*F41","v":0},0,{"$f":"E41*H41","v":0},0,{"$f":"E41*J41","v":0},null,null,null,2,null,null,null,null,null,null,null,null,null,null,null,1,1,1,null,null,null,null,null,null,null,null,null,null,null,null,null,null,null,null,null,null,null,null,null,null,1,{"$f":"IF(AZ41=1,G41,0)","v":0},{"$f":"IF(AZ41=2,G41,0)","v":0},{"$f":"IF(AZ41=3,G41,0)","v":0},{"$f":"IF(AZ41=4,G41,0)","v":0},{"$f":"IF(AZ41=5,G41,0)","v":0},null,null,null,null,null,null,null,null,null,null,null,null,null,null,null,null,null,null,null,null,null,1,1]
[null,null,"Stoka \"D\" KT DN400:",null,0,null,null,null,null,null,null,null,"Stoka \"D\" KT DN400:"]
[null,null,"Výkopy:",null,0,null,null,null,null,null,null,null,"Výkopy:"]
[null,null,"V hornině tř. 4 - 50%:10,7202*0,5*0,5",null,2.6800999999999999,null,null,null,null,null,null,null,"V hornině tř. 4 - 50%:10,7202*0,5*0,5"]
[8,"151101101R00","Pažení a rozepření stěn rýh - příložné - hl.do 2 m ","m2",19.5,null,{"$f":"E45*F45","v":0},9.8999999999999999E-4,{"$f":"E45*H45","v":1.9304999999999999E-2},0,{"$f":"E45*J45","v":0},null,null,null,2,null,null,null,null,null,null,null,null,null,null,null,1,1,1,null,null,null,null,null,null,null,null,null,null,null,null,null,null,null,null,null,null,null,null,null,null,1,{"$f":"IF(AZ45=1,G45,0)","v":0},{"$f":"IF(AZ45=2,G45,0)","v":0},{"$f":"IF(AZ45=3,G45,0)","v":0},{"$f":"IF(AZ45=4,G45,0)","v":0},{"$f":"IF(AZ45=5,G45,0)","v":0},null,null,null,null,null,null,null,null,null,null,null,null,null,null,null,null,null,null,null,null,null,1,1]
[null,null,"Stoka \"D\" KT DN400:",null,0,null,null,null,null,null,null,null,"Stoka \"D\" KT DN400:"]
[null,null,"Výkopy:",null,0,null,null,null,null,null,null,null,"Výkopy:"]
[null,null,"Vsazení potrubí KT DN400 do stávajícího profilu stoky:5,00*1,95*2",null,19.5,null,null,null,null,null,null,null,"Vsazení potrubí KT DN400 do stávajícího profilu stoky:5,00*1,95*2"]
[9,"151101111R00","Odstranění pažení stěn rýh - příložné - hl. do 2 m ","m2",19.5,null,{"$f":"E49*F49","v":0},0,{"$f":"E49*H49","v":0},0,{"$f":"E49*J49","v":0},null,null,null,2,null,null,null,null,null,null,null,null,null,null,null,1,1,1,null,null,null,null,null,null,null,null,null,null,null,null,null,null,null,null,null,null,null,null,null,null,1,{"$f":"IF(AZ49=1,G49,0)","v":0},{"$f":"IF(AZ49=2,G49,0)","v":0},{"$f":"IF(AZ49=3,G49,0)","v":0},{"$f":"IF(AZ49=4,G49,0)","v":0},{"$f":"IF(AZ49=5,G49,0)","v":0},null,null,null,null,null,null,null,null,null,null,null,null,null,null,null,null,null,null,null,null,null,1,1]
[null,null,"Stoka \"D\" KT DN400:",null,0,null,null,null,null,null,null,null,"Stoka \"D\" KT DN400:"]
[null,null,"Výkopy:",null,0,null,null,null,null,null,null,null,"Výkopy:"]
[null,null,"Vsazení potrubí KT DN400 do stávajícího profilu stoky:5,00*1,95*2",null,19.5,null,null,null,null,null,null,null,"Vsazení potrubí KT DN400 do stávajícího profilu stoky:5,00*1,95*2"]
[10,"162701105RSZ","Vodorovné přemístění výkopku z hor.1-7 na skládku zhotovitele","m3",10.7202,null,{"$f":"E53*F53","v":0},0,{"$f":"E53*H53","v":0},0,{"$f":"E53*J53","v":0},null,null,null,2,null,null,null,null,null,null,null,null,null,null,null,1,1,1,null,null,null,null,null,null,null,null,null,null,null,null,null,null,null,null,null,null,null,null,null,null,1,{"$f":"IF(AZ53=1,G53,0)","v":0},{"$f":"IF(AZ53=2,G53,0)","v":0},{"$f":"IF(AZ53=3,G53,0)","v":0},{"$f":"IF(AZ53=4,G53,0)","v":0},{"$f":"IF(AZ53=5,G53,0)","v":0},null,null,null,null,null,null,null,null,null,null,null,null,null,null,null,null,null,null,null,null,null,1,1]
[null,null,"Stoka \"D\" KT DN400:",null,0,null,null,null,null,null,null,null,"Stoka \"D\" KT DN400:"]
[null,null,"Výkopy:",null,0,null,null,null,null,null,null,null,"Výkopy:"]
[null,null,"V hornině tř. 3 - 4 :10,7202",null,10.7202,null,null,null,null,null,null,null,"V hornině tř. 3 - 4 :10,7202"]
[11,"174101101R00","Zásyp jam, rýh, šachet se zhutněním ","m3",4.6500000000000004,null,{"$f":"E57*F57","v":0},0,{"$f":"E57*H57","v":0},0,{"$f":"E57*J57","v":0},null,null,null,2,null,null,null,null,null,null,null,null,null,null,null,1,1,1,null,null,null,null,null,null,null,null,null,null,null,null,null,null,null,null,null,null,null,null,null,null,1,{"$f":"IF(AZ57=1,G57,0)","v":0},{"$f":"IF(AZ57=2,G57,0)","v":0},{"$f":"IF(AZ57=3,G57,0)","v":0},{"$f":"IF(AZ57=4,G57,0)","v":0},{"$f":"IF(AZ57=5,G57,0)","v":0},null,null,null,null,null,null,null,null,null,null,null,null,null,null,null,null,null,null,null,null,null,1,1]
[null,null,"Položka obsahuje strojní přemístění materiálu pro zásyp ze vzdálenosti do 10 m od okraje zásypu.",null,null,null,null,null,null,null,null,"Položka obsahuje strojní přemístění materiálu pro zásyp ze vzdálenosti do 10 m od okraje zásypu.",null,null,3]
[null,null,null,null,null,null,null,null,null,null,null,null,null,null,3]
[null,null,"Stoka \"D\" KT DN400:",null,0,null,null,null,null,null,null,null,"Stoka \"D\" KT DN400:"]
[null,null,"Zásyp ŠD fr. 0-63 mm:4,6500",null,4.6500000000000004,null,null,null,null,null,null,null,"Zásyp ŠD fr. 0-63 mm:4,6500"]
[null,null,"Začátek provozního součtu",null,0,null,null,null,null,null,null,null,"Začátek provozního součtu"]
[null,null,"Výkopy:",null,0,null,null,null,null,null,null,null,"Výkopy:"]
[null,null,"Vsazení potrubí KT DN400 do stávajícího profilu stoky:5,00*1,50*1,95",null,14.625,null,null,null,null,null,null,null,"Vsazení potrubí KT DN400 do stávajícího profilu stoky:5,00*1,50*1,95"]
[null,null,"Odpočet objemu konstrukce komunikace:-5,00*1,50*0,40",null,-3,null,null,null,null,null,null,null,"Odpočet objemu konstrukce komunikace:-5,00*1,50*0,40"]
[null,null,"Odpočet lože, potrubí, obetonování a obsypů:-5,00*1,50*0,93",null,-6.9749999999999996,null,null,null,null,null,null,null,"Odpočet lože, potrubí, obetonování a obsypů:-5,00*1,50*0,93"]
[null,null,"Konec provozního součtu",null,4.6500000000000004,null,null,null,null,null,null,null,"Konec provozního součtu"]
[12,"175101101R00","Obsyp potrubí bez prohození sypaniny ","m3",2.72,null,{"$f":"E68*F68","v":0},0,{"$f":"E68*H68","v":0},0,{"$f":"E68*J68","v":0},null,null,null,2,null,null,null,null,null,null,null,null,null,null,null,1,1,1,null,null,null,null,null,null,null,null,null,null,null,null,null,null,null,null,null,null,null,null,null,null,1,{"$f":"IF(AZ68=1,G68,0)","v":0},{"$f":"IF(AZ68=2,G68,0)","v":0},{"$f":"IF(AZ68=3,G68,0)","v":0},{"$f":"IF(AZ68=4,G68,0)","v":0},{"$f":"IF(AZ68=5,G68,0)","v":0},null,null,null,null,null,null,null,null,null,null,null,null,null,null,null,null,null,null,null,null,null,1,1]
[null,null,"Stoka \"D\" KT DN400:",null,0,null,null,null,null,null,null,null,"Stoka \"D\" KT DN400:"]
[null,null,"Vsazení potrubí KT DN400 do stávajícího profilu stoky:5,00*0,544",null,2.72,null,null,null,null,null,null,null,"Vsazení potrubí KT DN400 do stávajícího profilu stoky:5,00*0,544"]
[13,"199000002R00","Poplatek za skládku horniny 1- 7 č. dle katal. odpadů 17 05 04","m3",10.7202,null,{"$f":"E71*F71","v":0},0,{"$f":"E71*H71","v":0},0,{"$f":"E71*J71","v":0},null,null,null,2,null,null,null,null,null,null,null,null,null,null,null,1,1,1,null,null,null,null,null,null,null,null,null,null,null,null,null,null,null,null,null,null,null,null,null,null,1,{"$f":"IF(AZ71=1,G71,0)","v":0},{"$f":"IF(AZ71=2,G71,0)","v":0},{"$f":"IF(AZ71=3,G71,0)","v":0},{"$f":"IF(AZ71=4,G71,0)","v":0},{"$f":"IF(AZ71=5,G71,0)","v":0},null,null,null,null,null,null,null,null,null,null,null,null,null,null,null,null,null,null,null,null,null,1,1]
[null,null,"Stoka \"D\" KT DN400:",null,0,null,null,null,null,null,null,null,"Stoka \"D\" KT DN400:"]
[null,null,"Výkopy:",null,0,null,null,null,null,null,null,null,"Výkopy:"]
[null,null,"V hornině tř. 3 - 4 :10,7202",null,10.7202,null,null,null,null,null,null,null,"V hornině tř. 3 - 4 :10,7202"]
[14,"979082212RRX","Vodorovná doprava suti po suchu na skládku zhotovitele","t",0.71199999999999997,null,{"$f":"E75*F75","v":0},0,{"$f":"E75*H75","v":0},0,{"$f":"E75*J75","v":0},null,null,null,2,null,null,null,null,null,null,null,null,null,null,null,1,1,1,null,null,null,null,null,null,null,null,null,null,null,null,null,null,null,null,null,null,null,null,null,null,1,{"$f":"IF(AZ75=1,G75,0)","v":0},{"$f":"IF(AZ75=2,G75,0)","v":0},{"$f":"IF(AZ75=3,G75,0)","v":0},{"$f":"IF(AZ75=4,G75,0)","v":0},{"$f":"IF(AZ75=5,G75,0)","v":0},null,null,null,null,null,null,null,null,null,null,null,null,null,null,null,null,null,null,null,null,null,1,1]
[null,null,"Doprava suti na skládku zhotovitele nebo na předávací místo k recyklaci materiálu.",null,null,null,null,null,null,null,null,"Doprava suti na skládku zhotovitele nebo na předávací místo k recyklaci materiálu.",null,null,3]
[15,"979990103RRX","Poplatek za skládku stavební suti nebo recyklaci beton, skupina odpadu 170101","t",0.71199999999999997,null,{"$f":"E77*F77","v":0},0,{"$f":"E77*H77","v":0},0,{"$f":"E77*J77","v":0},null,null,null,2,null,null,null,null,null,null,null,null,null,null,null,1,0,0,null,null,null,null,null,null,null,null,null,null,null,null,null,null,null,null,null,null,null,null,null,null,1,{"$f":"IF(AZ77=1,G77,0)","v":0},{"$f":"IF(AZ77=2,G77,0)","v":0},{"$f":"IF(AZ77=3,G77,0)","v":0},{"$f":"IF(AZ77=4,G77,0)","v":0},{"$f":"IF(AZ77=5,G77,0)","v":0},null,null,null,null,null,null,null,null,null,null,null,null,null,null,null,null,null,null,null,null,null,1,0]
[16,"58337308.R","Štěrkopísek frakce 0-2 tř.B","t",5.4202000000000004,null,{"$f":"E78*F78","v":0},1,{"$f":"E78*H78","v":5.4202000000000004},null,{"$f":"E78*J78","v":0},null,null,null,2,null,null,null,null,null,null,null,null,null,null,null,3,1,"58337308.R",null,null,null,null,null,null,null,null,null,null,null,null,null,null,null,null,null,null,null,null,null,null,1,{"$f":"IF(AZ78=1,G78,0)","v":0},{"$f":"IF(AZ78=2,G78,0)","v":0},{"$f":"IF(AZ78=3,G78,0)","v":0},{"$f":"IF(AZ78=4,G78,0)","v":0},{"$f":"IF(AZ78=5,G78,0)","v":0},null,null,null,null,null,null,null,null,null,null,null,null,null,null,null,null,null,null,null,null,null,3,1]
[null,null,"Stoka \"D\" KT DN400:",null,0,null,null,null,null,null,null,null,"Stoka \"D\" KT DN400:"]
[null,null,"Vsazení potrubí KT DN400 do stávajícího profilu stoky:5,00*0,544*1,973*1,01",null,5.4202000000000004,null,null,null,null,null,null,null,"Vsazení potrubí KT DN400 do stávajícího profilu stoky:5,00*0,544*1,973*1,01"]
[17,"58344197R","Štěrkodrtě frakce 0-63 A","t",8.7965,null,{"$f":"E81*F81","v":0},1,{"$f":"E81*H81","v":8.7965},null,{"$f":"E81*J81","v":0},null,null,null,2,null,null,null,null,null,null,null,null,null,null,null,3,1,"58344197R",null,null,null,null,null,null,null,null,null,null,null,null,null,null,null,null,null,null,null,null,null,null,1,{"$f":"IF(AZ81=1,G81,0)","v":0},{"$f":"IF(AZ81=2,G81,0)","v":0},{"$f":"IF(AZ81=3,G81,0)","v":0},{"$f":"IF(AZ81=4,G81,0)","v":0},{"$f":"IF(AZ81=5,G81,0)","v":0},null,null,null,null,null,null,null,null,null,null,null,null,null,null,null,null,null,null,null,null,null,3,1]
[null,null,"Stoka \"D\" KT DN400:",null,0,null,null,null,null,null,null,null,"Stoka \"D\" KT DN400:"]
[null,null,"Zásyp ŠD fr. 0-63 mm:4,6500*1,873*1,01",null,8.7965,null,null,null,null,null,null,null,"Zásyp ŠD fr. 0-63 mm:4,6500*1,873*1,01"]
[null,"Celkem za","1 Zemní práce",null,null,null,{"$f":"SUM(G7:G83)","v":0},null,{"$f":"SUM(I7:I83)","v":14.236005},null,{"$f":"SUM(K7:K83)","v":-0.69599999999999995},null,null,null,4,null,null,null,null,null,null,null,null,null,null,null,null,null,null,null,null,null,null,null,null,null,null,null,null,null,null,null,null,null,null,null,null,null,null,null,null,null,{"$f":"SUM(BA7:BA83)","v":0},{"$f":"SUM(BB7:BB83)","v":0},{"$f":"SUM(BC7:BC83)","v":0},{"$f":"SUM(BD7:BD83)","v":0},{"$f":"SUM(BE7:BE83)","v":0}]
["Díl:","21","Úprava podloží a základ.spáry",null,null,null,null,null,null,null,null,null,null,null,1]
[18,"215901101RT5","Zhutnění podloží do 92% PS vibrační deskou","m2",6,null,{"$f":"E86*F86","v":0},0,{"$f":"E86*H86","v":0},0,{"$f":"E86*J86","v":0},null,null,null,2,null,null,null,null,null,null,null,null,null,null,null,1,1,1,null,null,null,null,null,null,null,null,null,null,null,null,null,null,null,null,null,null,null,null,null,null,1,{"$f":"IF(AZ86=1,G86,0)","v":0},{"$f":"IF(AZ86=2,G86,0)","v":0},{"$f":"IF(AZ86=3,G86,0)","v":0},{"$f":"IF(AZ86=4,G86,0)","v":0},{"$f":"IF(AZ86=5,G86,0)","v":0},null,null,null,null,null,null,null,null,null,null,null,null,null,null,null,null,null,null,null,null,null,1,1]
[null,null,"Stoka \"D\" KT DN400:",null,0,null,null,null,null,null,null,null,"Stoka \"D\" KT DN400:"]
[null,null,"Vsazení potrubí KT DN400 do stávajícího profilu stoky:4,00*1,50",null,6,null,null,null,null,null,null,null,"Vsazení potrubí KT DN400 do stávajícího profilu stoky:4,00*1,50"]
[null,"Celkem za","21 Úprava podloží a základ.spáry",null,null,null,{"$f":"SUM(G85:G88)","v":0},null,{"$f":"SUM(I85:I88)","v":0},null,{"$f":"SUM(K85:K88)","v":0},null,null,null,4,null,null,null,null,null,null,null,null,null,null,null,null,null,null,null,null,null,null,null,null,null,null,null,null,null,null,null,null,null,null,null,null,null,null,null,null,null,{"$f":"SUM(BA85:BA88)","v":0},{"$f":"SUM(BB85:BB88)","v":0},{"$f":"SUM(BC85:BC88)","v":0},{"$f":"SUM(BD85:BD88)","v":0},{"$f":"SUM(BE85:BE88)","v":0}]
["Díl:","45","Podkladní a vedlejší konstrukce",null,null,null,null,null,null,null,null,null,null,null,1]
[19,"452312131R00","Sedlové lože pod potrubí z betonu C 12/15 ","m3",1.1399999999999999,null,{"$f":"E91*F91","v":0},2.5,{"$f":"E91*H91","v":2.8499999999999996},0,{"$f":"E91*J91","v":0},null,null,null,2,null,null,null,null,null,null,null,null,null,null,null,1,1,1,null,null,null,null,null,null,null,null,null,null,null,null,null,null,null,null,null,null,null,null,null,null,1,{"$f":"IF(AZ91=1,G91,0)","v":0},{"$f":"IF(AZ91=2,G91,0)","v":0},{"$f":"IF(AZ91=3,G91,0)","v":0},{"$f":"IF(AZ91=4,G91,0)","v":0},{"$f":"IF(AZ91=5,G91,0)","v":0},null,null,null,null,null,null,null,null,null,null,null,null,null,null,null,null,null,null,null,null,null,1,1]
[null,null,"Stoka \"D\" KT DN400:",null,0,null,null,null,null,null,null,null,"Stoka \"D\" KT DN400:"]
[null,null,"Vsazení potrubí KT DN400 do stávajícího profilu stoky:4,00*0,285",null,1.1399999999999999,null,null,null,null,null,null,null,"Vsazení potrubí KT DN400 do stávajícího profilu stoky:4,00*0,285"]
[null,"Celkem za","45 Podkladní a vedlejší konstrukce",null,null,null,{"$f":"SUM(G90:G93)","v":0},null,{"$f":"SUM(I90:I93)","v":2.8499999999999996},null,{"$f":"SUM(K90:K93)","v":0},null,null,null,4,null,null,null,null,null,null,null,null,null,null,null,null,null,null,null,null,null,null,null,null,null,null,null,null,null,null,null,null,null,null,null,null,null,null,null,null,null,{"$f":"SUM(BA90:BA93)","v":0},{"$f":"SUM(BB90:BB93)","v":0},{"$f":"SUM(BC90:BC93)","v":0},{"$f":"SUM(BD90:BD93)","v":0},{"$f":"SUM(BE90:BE93)","v":0}]
["Díl:","5","Komunikace",null,null,null,null,null,null,null,null,null,null,null,1]
[20,"572701119RRX","Provizorní zásyp rýh kam. hrubě drceným nebo recyk s následným odstraněním a odvozem","m3",3,null,{"$f":"E96*F96","v":0},1.4804999999999999,{"$f":"E96*H96","v":4.4414999999999996},0,{"$f":"E96*J96","v":0},null,null,null,2,null,null,null,null,null,null,null,null,null,null,null,1,1,1,null,null,null,null,null,null,null,null,null,null,null,null,null,null,null,null,null,null,null,null,null,null,1,{"$f":"IF(AZ96=1,G96,0)","v":0},{"$f":"IF(AZ96=2,G96,0)","v":0},{"$f":"IF(AZ96=3,G96,0)","v":0},{"$f":"IF(AZ96=4,G96,0)","v":0},{"$f":"IF(AZ96=5,G96,0)","v":0},null,null,null,null,null,null,null,null,null,null,null,null,null,null,null,null,null,null,null,null,null,1,1]
[null,null,"Stoka \"D\" KT DN400:",null,0,null,null,null,null,null,null,null,"Stoka \"D\" KT DN400:"]
[null,null,"Vsazení potrubí KT DN400 do stávajícího profilu stoky:5,00*1,50*0,40",null,3,null,null,null,null,null,null,null,"Vsazení potrubí KT DN400 do stávajícího profilu stoky:5,00*1,50*0,40"]
[null,"Celkem za","5 Komunikace",null,null,null,{"$f":"SUM(G95:G98)","v":0},null,{"$f":"SUM(I95:I98)","v":4.4414999999999996},null,{"$f":"SUM(K95:K98)","v":0},null,null,null,4,null,null,null,null,null,null,null,null,null,null,null,null,null,null,null,null,null,null,null,null,null,null,null,null,null,null,null,null,null,null,null,null,null,null,null,null,null,{"$f":"SUM(BA95:BA98)","v":0},{"$f":"SUM(BB95:BB98)","v":0},{"$f":"SUM(BC95:BC98)","v":0},{"$f":"SUM(BD95:BD98)","v":0},{"$f":"SUM(BE95:BE98)","v":0}]
["Díl:","8","Trubní vedení",null,null,null,null,null,null,null,null,null,null,null,1]
[21,"831392121R00","Montáž trub kameninových, pryž. kroužek, DN 400 ","m",4,null,{"$f":"E101*F101","v":0},6.0000000000000002E-5,{"$f":"E101*H101","v":2.4000000000000001E-4},0,{"$f":"E101*J101","v":0},null,null,null,2,null,null,null,null,null,null,null,null,null,null,null,1,1,1,null,null,null,null,null,null,null,null,null,null,null,null,null,null,null,null,null,null,null,null,null,null,1,{"$f":"IF(AZ101=1,G101,0)","v":0},{"$f":"IF(AZ101=2,G101,0)","v":0},{"$f":"IF(AZ101=3,G101,0)","v":0},{"$f":"IF(AZ101=4,G101,0)","v":0},{"$f":"IF(AZ101=5,G101,0)","v":0},null,null,null,null,null,null,null,null,null,null,null,null,null,null,null,null,null,null,null,null,null,1,1]
[null,null,"Stoka \"D\" KT DN400:",null,0,null,null,null,null,null,null,null,"Stoka \"D\" KT DN400:"]
[null,null,"Vsazení potrubí KT DN400 do stávajícího profilu stoky:4,00",null,4,null,null,null,null,null,null,null,"Vsazení potrubí KT DN400 do stávajícího profilu stoky:4,00"]
[22,"837392221RRX","Montáž manžety Basic Typ 2B DN 400 včetně dodávky manžety","kus",2,null,{"$f":"E104*F104","v":0},5.0000000000000002E-5,{"$f":"E104*H104","v":1E-4},0,{"$f":"E104*J104","v":0},null,null,null,2,null,null,null,null,null,null,null,null,null,null,null,1,1,1,null,null,null,null,null,null,null,null,null,null,null,null,null,null,null,null,null,null,null,null,null,null,1,{"$f":"IF(AZ104=1,G104,0)","v":0},{"$f":"IF(AZ104=2,G104,0)","v":0},{"$f":"IF(AZ104=3,G104,0)","v":0},{"$f":"IF(AZ104=4,G104,0)","v":0},{"$f":"IF(AZ104=5,G104,0)","v":0},null,null,null,null,null,null,null,null,null,null,null,null,null,null,null,null,null,null,null,null,null,1,1]
[null,null,"Stoka \"D\" KT DN400:",null,0,null,null,null,null,null,null,null,"Stoka \"D\" KT DN400:"]
[null,null,"D+M manžety:2",null,2,null,null,null,null,null,null,null,"D+M manžety:2"]
[23,"892601154R00","Čištění kanalizační stoky do DN 500, nad 100 m ","m",375,null,{"$f":"E107*F107","v":0},0,{"$f":"E107*H107","v":0},0,{"$f":"E107*J107","v":0},null,null,null,2,null,null,null,null,null,null,null,null,null,null,null,1,1,1,null,null,null,null,null,null,null,null,null,null,null,null,null,null,null,null,null,null,null,null,null,null,1,{"$f":"IF(AZ107=1,G107,0)","v":0},{"$f":"IF(AZ107=2,G107,0)","v":0},{"$f":"IF(AZ107=3,G107,0)","v":0},{"$f":"IF(AZ107=4,G107,0)","v":0},{"$f":"IF(AZ107=5,G107,0)","v":0},null,null,null,null,null,null,null,null,null,null,null,null,null,null,null,null,null,null,null,null,null,1,1]
[null,null,"V položce je zakalkulováno:",null,null,null,null,null,null,null,null,"V položce je zakalkulováno:",null,null,3]
[null,null,"a) otevření a uzavření revizních šachet a čisticích kusů",null,null,null,null,null,null,null,null,"a) otevření a uzavření revizních šachet a čisticích kusů",null,null,3]
[null,null,"b) natažení vysokotlakých hadic k místu odkud se bude kanalizace čistit",null,null,null,null,null,null,null,null,"b) natažení vysokotlakých hadic k místu odkud se bude kanalizace čistit",null,null,3]
[null,null,"c) vyčištění potrubí tlakovou vodou nebo motorovým pérem.",null,null,null,null,null,null,null,null,"c) vyčištění potrubí tlakovou vodou nebo motorovým pérem.",null,null,3]
[null,null,"Stoka \"D\" KT DN400:",null,0,null,null,null,null,null,null,null,"Stoka \"D\" KT DN400:"]
[null,null,"Před realizací výměny části potrubí:125,00",null,125,null,null,null,null,null,null,null,"Před realizací výměny části potrubí:125,00"]
[null,null,"Po dokončení prací výměny potrubí:125,00*2",null,250,null,null,null,null,null,null,null,"Po dokončení prací výměny potrubí:125,00"]
[24,"892855114R00","Kontrola kanalizace TV kamerou do 200 m ","m",375,null,{"$f":"E115*F115","v":0},0,{"$f":"E115*H115","v":0},0,{"$f":"E115*J115","v":0},null,null,null,2,null,null,null,null,null,null,null,null,null,null,null,1,1,1,null,null,null,null,null,null,null,null,null,null,null,null,null,null,null,null,null,null,null,null,null,null,1,{"$f":"IF(AZ115=1,G115,0)","v":0},{"$f":"IF(AZ115=2,G115,0)","v":0},{"$f":"IF(AZ115=3,G115,0)","v":0},{"$f":"IF(AZ115=4,G115,0)","v":0},{"$f":"IF(AZ115=5,G115,0)","v":0},null,null,null,null,null,null,null,null,null,null,null,null,null,null,null,null,null,null,null,null,null,1,1]
[null,null,"Stoka \"D\" KT DN400:",null,0,null,null,null,null,null,null,null,"Stoka \"D\" KT DN400:"]
[null,null,"Před realizací výměny části potrubí:125,00",null,125,null,null,null,null,null,null,null,"Před realizací výměny části potrubí:125,00"]
[null,null,"Po dokončení prací výměny potrubí:125,00*2",null,250,null,null,null,null,null,null,null,"Po dokončení prací výměny potrubí:125,00"]
[25,"899623151R00","Obetonování potrubí nebo zdiva stok betonem C16/20 ","m3",2.2250000000000001,null,{"$f":"E119*F119","v":0},2.5249999999999999,{"$f":"E119*H119","v":5.618125},0,{"$f":"E119*J119","v":0},null,null,null,2,null,null,null,null,null,null,null,null,null,null,null,1,1,1,null,null,null,null,null,null,null,null,null,null,null,null,null,null,null,null,null,null,null,null,null,null,1,{"$f":"IF(AZ119=1,G119,0)","v":0},{"$f":"IF(AZ119=2,G119,0)","v":0},{"$f":"IF(AZ119=3,G119,0)","v":0},{"$f":"IF(AZ119=4,G119,0)","v":0},{"$f":"IF(AZ119=5,G119,0)","v":0},null,null,null,null,null,null,null,null,null,null,null,null,null,null,null,null,null,null,null,null,null,1,1]
[null,null,"Stoka \"D\" KT DN400:",null,0,null,null,null,null,null,null,null,"Stoka \"D\" KT DN400:"]
[null,null,"Vsazení potrubí KT DN400 do stávajícího profilu stoky:5,00*0,445",null,2.2250000000000001,null,null,null,null,null,null,null,"Vsazení potrubí KT DN400 do stávajícího profilu stoky:5,00*0,445"]
[26,"899711122R00","Fólie výstražná z PVC šedá, šířka 30 cm ","m",5,null,{"$f":"E122*F122","v":0},0,{"$f":"E122*H122","v":0},0,{"$f":"E122*J122","v":0},null,null,null,2,null,null,null,null,null,null,null,null,null,null,null,1,1,1,null,null,null,null,null,null,null,null,null,null,null,null,null,null,null,null,null,null,null,null,null,null,1,{"$f":"IF(AZ122=1,G122,0)","v":0},{"$f":"IF(AZ122=2,G122,0)","v":0},{"$f":"IF(AZ122=3,G122,0)","v":0},{"$f":"IF(AZ122=4,G122,0)","v":0},{"$f":"IF(AZ122=5,G122,0)","v":0},null,null,null,null,null,null,null,null,null,null,null,null,null,null,null,null,null,null,null,null,null,1,1]
[null,null,"Stoka \"D\" KT DN400:",null,0,null,null,null,null,null,null,null,"Stoka \"D\" KT DN400:"]
[null,null,"Vsazení potrubí KT DN400 do stávajícího profilu stoky:5,00",null,5,null,null,null,null,null,null,null,"Vsazení potrubí KT DN400 do stávajícího profilu stoky:5,00"]
[27,"597107005.R","Trouba kameninová hrdlová DN 400, l=2,50 m, FN 80","m",5,null,{"$f":"E125*F125","v":0},0.152,{"$f":"E125*H125","v":0.76},null,{"$f":"E125*J125","v":0},null,null,null,2,null,null,null,null,null,null,null,null,null,null,null,3,1,"597107005.R",null,null,null,null,null,null,null,null,null,null,null,null,null,null,null,null,null,null,null,null,null,null,1,{"$f":"IF(AZ125=1,G125,0)","v":0},{"$f":"IF(AZ125=2,G125,0)","v":0},{"$f":"IF(AZ125=3,G125,0)","v":0},{"$f":"IF(AZ125=4,G125,0)","v":0},{"$f":"IF(AZ125=5,G125,0)","v":0},null,null,null,null,null,null,null,null,null,null,null,null,null,null,null,null,null,null,null,null,null,3,1]
[null,null,"Hrdlové trouby KeraPro pro zvláštní nároky pro použití pro komunální i průmyslovou kanalizaci.",null,null,null,null,null,null,null,null,"Hrdlové trouby KeraPro pro zvláštní nároky pro použití pro komunální i průmyslovou kanalizaci.",null,null,3]
[null,null,"Otevřený výkop, vysoké zatížení.",null,null,null,null,null,null,null,null,"Otevřený výkop, vysoké zatížení.",null,null,3]
[null,null,"DN 400",null,null,null,null,null,null,null,null,"DN 400",null,null,3]
[null,null,"Délka 250 cm",null,null,null,null,null,null,null,null,"Délka 250 cm",null,null,3]
[null,null,"FN 80 kN/m",null,null,null,null,null,null,null,null,"FN 80 kN/m",null,null,3]
[null,null,"Hmotnost 379 kg/ks",null,null,null,null,null,null,null,null,"Hmotnost 379 kg/ks",null,null,3]
[null,null,"Hrdlo K/S",null,null,null,null,null,null,null,null,"Hrdlo K/S",null,null,3]
[null,null,"Třída pevnosti 200",null,null,null,null,null,null,null,null,"Třída pevnosti 200",null,null,3]
[null,null,"Stoka \"D\" KT DN400:",null,0,null,null,null,null,null,null,null,"Stoka \"D\" KT DN400:"]
[null,null,"Vsazení potrubí KT DN400 do stávajícího profilu stoky:4,00*1,25",null,5,null,null,null,null,null,null,null,"Vsazení potrubí KT DN400 do stávajícího profilu stoky:4,00*1,25"]
[null,"Celkem za","8 Trubní vedení",null,null,null,{"$f":"SUM(G100:G135)","v":0},null,{"$f":"SUM(I100:I135)","v":6.3784649999999994},null,{"$f":"SUM(K100:K135)","v":0},null,null,null,4,null,null,null,null,null,null,null,null,null,null,null,null,null,null,null,null,null,null,null,null,null,null,null,null,null,null,null,null,null,null,null,null,null,null,null,null,null,{"$f":"SUM(BA100:BA135)","v":0},{"$f":"SUM(BB100:BB135)","v":0},{"$f":"SUM(BC100:BC135)","v":0},{"$f":"SUM(BD100:BD135)","v":0},{"$f":"SUM(BE100:BE135)","v":0}]
["Díl:","93","Dokončovací práce inženýrských staveb",null,null,null,null,null,null,null,null,null,null,null,1]
[28,"939431111RT2","Výměna kanaliz.poklopu za samonivelační, hl.200 mm včetně dodávky litinového poklopu KDM 65. Instalce poklopu dle TP výrobce","kus",4,null,{"$f":"E138*F138","v":0},0.56040999999999996,{"$f":"E138*H138","v":2.2416399999999999},-0.32075999999999999,{"$f":"E138*J138","v":-1.28304},null,null,null,2,null,null,null,null,null,null,null,null,null,null,null,1,1,1,null,null,null,null,null,null,null,null,null,null,null,null,null,null,null,null,null,null,null,null,null,null,1,{"$f":"IF(AZ138=1,G138,0)","v":0},{"$f":"IF(AZ138=2,G138,0)","v":0},{"$f":"IF(AZ138=3,G138,0)","v":0},{"$f":"IF(AZ138=4,G138,0)","v":0},{"$f":"IF(AZ138=5,G138,0)","v":0},null,null,null,null,null,null,null,null,null,null,null,null,null,null,null,null,null,null,null,null,null,1,1]
[null,null,"Položka obsahuje:",null,null,null,null,null,null,null,null,"Položka obsahuje:",null,null,3]
[null,null,"- vybourání kruhového otvoru",null,null,null,null,null,null,null,null,"- vybourání kruhového otvoru",null,null,3]
[null,null,"- odstranění starého poklopu",null,null,null,null,null,null,null,null,"- odstranění starého poklopu",null,null,3]
[null,null,"- odvoz a skládkovné vybouraných hmot",null,null,null,null,null,null,null,null,"- odvoz a skládkovné vybouraných hmot",null,null,3]
[null,null,"- nanesení vrstvy pro usazení betonového prstence",null,null,null,null,null,null,null,null,"- nanesení vrstvy pro usazení betonového prstence",null,null,3]
[null,null,"- zalití okolí prstence",null,null,null,null,null,null,null,null,"- zalití okolí prstence",null,null,3]
[null,null,"- penetrace výřezu a hrany penetračním nátěrem",null,null,null,null,null,null,null,null,"- penetrace výřezu a hrany penetračním nátěrem",null,null,3]
[null,null,"- nalepení asfaltové tavitelné pásky na hranu",null,null,null,null,null,null,null,null,"- nalepení asfaltové tavitelné pásky na hranu",null,null,3]
[null,null,"- osazení a dodávku samonivelačního poklopu dle PD",null,null,null,null,null,null,null,null,"- osazení a dodávku samonivelačního poklopu dle PD",null,null,3]
[null,null,"- dodávku, montáž a zhutnění horké asfaltové směsi",null,null,null,null,null,null,null,null,"- dodávku, montáž a zhutnění horké asfaltové směsi",null,null,3]
[null,null,"Kanalizační kruhový celolitinový samonivelační poklop se znakem \"Město Semily\""]
[null,null,"Stoka \"D\" KT DN400:",null,0,null,null,null,null,null,null,null,"Stoka \"D\" KT DN400:"]
[null,null,"Výměna stávajících poklopů ŘS:4",null,4,null,null,null,null,null,null,null,"Výměna stávajících poklopů ŘS:4"]
[null,"Celkem za","93 Dokončovací práce inženýrských staveb",null,null,null,{"$f":"SUM(G137:G151)","v":0},null,{"$f":"SUM(I137:I151)","v":2.2416399999999999},null,{"$f":"SUM(K137:K151)","v":-1.28304},null,null,null,4,null,null,null,null,null,null,null,null,null,null,null,null,null,null,null,null,null,null,null,null,null,null,null,null,null,null,null,null,null,null,null,null,null,null,null,null,null,{"$f":"SUM(BA137:BA151)","v":0},{"$f":"SUM(BB137:BB151)","v":0},{"$f":"SUM(BC137:BC151)","v":0},{"$f":"SUM(BD137:BD151)","v":0},{"$f":"SUM(BE137:BE151)","v":0}]
["Díl:","99","Staveništní přesun hmot",null,null,null,null,null,null,null,null,null,null,null,1]
[29,"998275101RRX","Přesun hmot, kanalizace kameninové, otevřený výkop ","t",30.14761,null,{"$f":"E154*F154","v":0},0,{"$f":"E154*H154","v":0},null,{"$f":"E154*J154","v":0},null,null,null,2,null,null,null,null,null,null,null,null,null,null,null,7,1,2,null,null,null,null,null,null,null,null,null,null,null,null,null,null,null,null,null,null,null,null,null,null,1,{"$f":"IF(AZ154=1,G154,0)","v":0},{"$f":"IF(AZ154=2,G154,0)","v":0},{"$f":"IF(AZ154=3,G154,0)","v":0},{"$f":"IF(AZ154=4,G154,0)","v":0},{"$f":"IF(AZ154=5,G154,0)","v":0},null,null,null,null,null,null,null,null,null,null,null,null,null,null,null,null,null,null,null,null,null,7,1]
[null,null,"Staveništní doprava pro celý rozsah objektu - doprava zmeziskládek vybudovaného zařízení staveniště zhotovitele na jednotlivé části staveniště.",null,null,null,null,null,null,null,null,"Staveništní doprava pro celý rozsah objektu - doprava zmeziskládek vybudovaného zařízení staveniště zhotovitele na jednotlivé části staveniště.",null,null,3]
[null,"Celkem za","99 Staveništní přesun hmot",null,null,null,{"$f":"SUM(G153:G155)","v":0},null,{"$f":"SUM(I153:I155)","v":0},null,{"$f":"SUM(K153:K155)","v":0},null,null,null,4,null,null,null,null,null,null,null,null,null,null,null,null,null,null,null,null,null,null,null,null,null,null,null,null,null,null,null,null,null,null,null,null,null,null,null,null,null,{"$f":"SUM(BA153:BA155)","v":0},{"$f":"SUM(BB153:BB155)","v":0},{"$f":"SUM(BC153:BC155)","v":0},{"$f":"SUM(BD153:BD155)","v":0},{"$f":"SUM(BE153:BE155)","v":0}]

{"sheet":"304 3542304.2 KL","index":41,"n_rows":45,"n_cols":8,"rows_kept":45,"cut":false,"hidden":false,"merged":[[50,1,50,6],[29,5,29,6],[30,5,30,6],[31,5,31,6],[32,5,32,6],[33,5,33,6],[36,1,44,6],[45,1,45,6],[46,1,46,6],[47,1,47,6],[48,1,48,6],[49,1,49,6],[22,0,22,1],[7,2,7,4],[8,2,8,4],[9,2,9,4],[10,2,10,4],[11,2,11,4]]}
["POLOŽKOVÝ ROZPOČET"]
["Rozpočet",null,"3542/304.2","Odstavení stávající kanalizační stoky",null,"JKSO ","827.21"]
[]
["Objekt",null,null,null,null,"SKP "]
["304",null,"Oprava gravitační stoky D ul. Dvořákova",null,null,"Měrná jednotka","m"]
["Stavba",null,null,null,null,"Počet jednotek",0]
["3542",null,"Semily - Obnova VH infrastruktury a komunikací",null,null,"Náklady na m.j.",{"$f":"IF(G6=0,,ROUND((F30+F32)/G6,1))","v":0}]
["Projektant",null,null,null,null,"Typ rozpočtu"]
["Zpracovatel projektu"]
["Objednatel",null,"Vodohospodářské sdružení Turnov"]
["Dodavatel",null,".",null,null,"Zakázkové číslo "]
["Rozpočtoval",null,null,null,null,"Počet listů"]
["ROZPOČTOVÉ NÁKLADY"]
["Základní rozpočtové náklady"]
[null,"HSV celkem",{"$f":"'304 3542304.2 Rek'!E12","v":0}]
["Z","PSV celkem",{"$f":"'304 3542304.2 Rek'!F12","v":0}]
["R","M práce celkem",{"$f":"'304 3542304.2 Rek'!H12","v":0}]
["N","M dodávky celkem",{"$f":"'304 3542304.2 Rek'!G12","v":0}]
["ZRN celkem",null,{"$f":"SUM(C15:C18)","v":0}]
[]
["HZS",null,{"$f":"'304 3542304.2 Rek'!I12","v":0}]
["ZRN+HZS",null,{"$f":"C19+C21","v":0}]
["ZRN+ost.náklady+HZS",null,{"$f":"C22+G23","v":0}]
["Vypracoval",null,null,"Za zhotovitele",null,"Za objednatele"]
["Jméno :",null,null,"Jméno :",null,"Jméno :"]
["Datum :",null,null,"Datum :",null,"Datum :"]
[]
["Podpis :",null,null,"Podpis:",null,"Podpis:"]
[]
["Základ pro DPH",null,21,"%  ",null,{"$f":"C23-F32","v":0}]
["DPH",null,{"$f":"C30","v":21},"% ",null,{"$f":"ROUND(PRODUCT(F30,C31/100),0)","v":0}]
["Základ pro DPH",null,0,"% ",null,0]
["DPH",null,{"$f":"C32","v":0},"% ",null,{"$f":"ROUND(PRODUCT(F32,C33/100),0)","v":0}]
["CENA ZA OBJEKT CELKEM",null,null,null,null,{"$f":"ROUND(SUM(F30:F33),0)","v":0}]
[]
["Poznámka :",null,null,null,null,null,null," "]
[null,null,null,null,null,null,null," "]
[null,null,null,null,null,null,null," "]
[null,null,null,null,null,null,null," "]
[null,null,null,null,null,null,null," "]
[null,null,null,null,null,null,null," "]
[null,null,null,null,null,null,null," "]
[null,null,null,null,null,null,null," "]
[null,null,null,null,null,null,null," "]
[null,null,null,null,null,null,null," "]

{"sheet":"304 3542304.2 Rek","index":42,"n_rows":12,"n_cols":9,"rows_kept":12,"cut":false,"hidden":false,"merged":[[0,0,0,1],[1,0,1,1],[1,6,1,8]]}
["Stavba :",null,"3542 Semily - Obnova VH infrastruktury a komunikací",null,null,null,"Rozpočet :","3542/304.2"]
["Objekt :",null,"304 Oprava gravitační stoky D ul. Dvořákova",null,null,null,"Odstavení stávající kanalizační stoky"]
[]
["REKAPITULACE  STAVEBNÍCH  DÍLŮ"]
[]
[null,"Stavební díl",null,null,"HSV","PSV","Dodávka","Montáž","HZS"]
[{"$f":"'304 3542304.2 Pol'!B7","v":"1"},{"$f":"'304 3542304.2 Pol'!C7","v":"Zemní práce"},null,null,{"$f":"'304 3542304.2 Pol'!BA21","v":0},{"$f":"'304 3542304.2 Pol'!BB21","v":0},{"$f":"'304 3542304.2 Pol'!BC21","v":0},{"$f":"'304 3542304.2 Pol'!BD21","v":0},{"$f":"'304 3542304.2 Pol'!BE21","v":0}]
[{"$f":"'304 3542304.2 Pol'!B22","v":"8"},{"$f":"'304 3542304.2 Pol'!C22","v":"Trubní vedení"},null,null,{"$f":"'304 3542304.2 Pol'!BA30","v":0},{"$f":"'304 3542304.2 Pol'!BB30","v":0},{"$f":"'304 3542304.2 Pol'!BC30","v":0},{"$f":"'304 3542304.2 Pol'!BD30","v":0},{"$f":"'304 3542304.2 Pol'!BE30","v":0}]
[{"$f":"'304 3542304.2 Pol'!B31","v":"93"},{"$f":"'304 3542304.2 Pol'!C31","v":"Dokončovací práce inženýrských staveb"},null,null,{"$f":"'304 3542304.2 Pol'!BA38","v":0},{"$f":"'304 3542304.2 Pol'!BB38","v":0},{"$f":"'304 3542304.2 Pol'!BC38","v":0},{"$f":"'304 3542304.2 Pol'!BD38","v":0},{"$f":"'304 3542304.2 Pol'!BE38","v":0}]
[{"$f":"'304 3542304.2 Pol'!B39","v":"97"},{"$f":"'304 3542304.2 Pol'!C39","v":"Prorážení otvorů"},null,null,{"$f":"'304 3542304.2 Pol'!BA42","v":0},{"$f":"'304 3542304.2 Pol'!BB42","v":0},{"$f":"'304 3542304.2 Pol'!BC42","v":0},{"$f":"'304 3542304.2 Pol'!BD42","v":0},{"$f":"'304 3542304.2 Pol'!BE42","v":0}]
[{"$f":"'304 3542304.2 Pol'!B43","v":"99"},{"$f":"'304 3542304.2 Pol'!C43","v":"Staveništní přesun hmot"},null,null,{"$f":"'304 3542304.2 Pol'!BA46","v":0},{"$f":"'304 3542304.2 Pol'!BB46","v":0},{"$f":"'304 3542304.2 Pol'!BC46","v":0},{"$f":"'304 3542304.2 Pol'!BD46","v":0},{"$f":"'304 3542304.2 Pol'!BE46","v":0}]
[null,"CELKEM  OBJEKT",null,null,{"$f":"SUM(E7:E11)","v":0},{"$f":"SUM(F7:F11)","v":0},{"$f":"SUM(G7:G11)","v":0},{"$f":"SUM(H7:H11)","v":0},{"$f":"SUM(I7:I11)","v":0}]

{"sheet":"304 3542304.2 Pol","index":43,"n_rows":46,"n_cols":80,"rows_kept":46,"cut":false,"hidden":false,"merged":[[40,2,40,3],[44,2,44,6],[27,2,27,3],[28,2,28,3],[32,2,32,3],[34,2,34,3],[36,2,36,3],[24,2,24,6],[25,2,25,6],[26,2,26,6],[0,0,0,6],[2,0,2,1],[3,0,3,1],[3,4,3,6],[8,2,8,6],[9,2,9,3],[11,2,11,6],[12,2,12,3],[13,2,13,3],[15,2,15,6],[18,2,18,3],[19,2,19,3],[23,2,23,6]]}
["Položkový rozpočet "]
[]
["Stavba :",null,"3542 Semily - Obnova VH infrastruktury a komunikací",null,"Rozpočet:",{"$f":"'304 3542304.2 Rek'!H1","v":"3542/304.2"}]
["Objekt :",null,"304 Oprava gravitační stoky D ul. Dvořákova",null,{"$f":"'304 3542304.2 Rek'!G2","v":"Odstavení stávající kanalizační stoky"}]
[]
["P.č.","Číslo položky","Název položky","MJ","množství","cena / MJ","celkem (Kč)","Jednotková hmotnost","Celková hmotnost","Jednotková dem.hmot.","Celková dem.hmot."]
["Díl:","1","Zemní práce",null,null,null,null,null,null,null,null,null,null,null,1]
[1,"130901123RT3","Bourání konstrukcí ze železobetonu ve vykopávkách bagrem s kladivem","m3",0.84140000000000004,null,{"$f":"E8*F8","v":0},0,{"$f":"E8*H8","v":0},-2.5,{"$f":"E8*J8","v":-2.1034999999999999},null,null,null,2,null,null,null,null,null,null,null,null,null,null,null,1,1,1,null,null,null,null,null,null,null,null,null,null,null,null,null,null,null,null,null,null,null,null,null,null,1,{"$f":"IF(AZ8=1,G8,0)","v":0},{"$f":"IF(AZ8=2,G8,0)","v":0},{"$f":"IF(AZ8=3,G8,0)","v":0},{"$f":"IF(AZ8=4,G8,0)","v":0},{"$f":"IF(AZ8=5,G8,0)","v":0},null,null,null,null,null,null,null,null,null,null,null,null,null,null,null,null,null,null,null,null,null,1,1]
[null,null,"Položka obsahuje odstranění materiálu obklopujícího betonové konstrukce v míře nutné pro vyzvednutí (potřebné zemní práce), rozpojení konstrukcí, uchopení a vyzvednutí konstrukce z výkopu a uložení na dopravní prostředek.",null,null,null,null,null,null,null,null,"Položka obsahuje odstranění materiálu obklopujícího betonové konstrukce v míře nutné pro vyzvednutí (potřebné zemní práce), rozpojení konstrukcí, uchopení a vyzvednutí konstrukce z výkopu a uložení na dopravní prostředek.",null,null,3]
[null,null,"Stávající RŠ odbourání kónusu:1,24*Pi*0,60*0,12*3",null,0.84140000000000004,null,null,null,null,null,null,null,"Stávající RŠ odbourání kónusu:1,24*Pi*0,60*0,12*3"]
[2,"174101101R00","Zásyp jam, rýh, šachet se zhutněním ","m3",2.3624999999999998,null,{"$f":"E11*F11","v":0},0,{"$f":"E11*H11","v":0},0,{"$f":"E11*J11","v":0},null,null,null,2,null,null,null,null,null,null,null,null,null,null,null,1,1,1,null,null,null,null,null,null,null,null,null,null,null,null,null,null,null,null,null,null,null,null,null,null,1,{"$f":"IF(AZ11=1,G11,0)","v":0},{"$f":"IF(AZ11=2,G11,0)","v":0},{"$f":"IF(AZ11=3,G11,0)","v":0},{"$f":"IF(AZ11=4,G11,0)","v":0},{"$f":"IF(AZ11=5,G11,0)","v":0},null,null,null,null,null,null,null,null,null,null,null,null,null,null,null,null,null,null,null,null,null,1,1]
[null,null,"včetně strojního přemístění materiálu pro zásyp ze vzdálenosti do 10 m od okraje zásypu",null,null,null,null,null,null,null,null,"včetně strojního přemístění materiálu pro zásyp ze vzdálenosti do 10 m od okraje zásypu",null,null,3]
[null,null,"Zásyp ŠD fr. 0-63 na úroveň pláně nové komunikace:",null,0,null,null,null,null,null,null,null,"Zásyp ŠD fr. 0-63 na úroveň pláně nové komunikace:"]
[null,null,"Prostor stávající RŠ po odbourání kónusu a poklopu:1,50*1,50*(0,75-0,40)*3",null,2.3624999999999998,null,null,null,null,null,null,null,"Prostor stávající RŠ po odbourání kónusu a poklopu:1,50*1,50*(0,75-0,40)*3"]
[3,"979082212RRX","Vodorovná doprava suti po suchu na skládku zhotovitele","t",2.1034999999999999,null,{"$f":"E15*F15","v":0},0,{"$f":"E15*H15","v":0},0,{"$f":"E15*J15","v":0},null,null,null,2,null,null,null,null,null,null,null,null,null,null,null,1,1,1,null,null,null,null,null,null,null,null,null,null,null,null,null,null,null,null,null,null,null,null,null,null,1,{"$f":"IF(AZ15=1,G15,0)","v":0},{"$f":"IF(AZ15=2,G15,0)","v":0},{"$f":"IF(AZ15=3,G15,0)","v":0},{"$f":"IF(AZ15=4,G15,0)","v":0},{"$f":"IF(AZ15=5,G15,0)","v":0},null,null,null,null,null,null,null,null,null,null,null,null,null,null,null,null,null,null,null,null,null,1,1]
[null,null,"Doprava suti na skládku zhotovitele nebo na předávací místo k recyklaci materiálu.",null,null,null,null,null,null,null,null,"Doprava suti na skládku zhotovitele nebo na předávací místo k recyklaci materiálu.",null,null,3]
[4,"979990103RRX","Poplatek za skládku stavební suti nebo recyklaci beton, skupina odpadu 170101","t",2.1034999999999999,null,{"$f":"E17*F17","v":0},0,{"$f":"E17*H17","v":0},0,{"$f":"E17*J17","v":0},null,null,null,2,null,null,null,null,null,null,null,null,null,null,null,1,0,0,null,null,null,null,null,null,null,null,null,null,null,null,null,null,null,null,null,null,null,null,null,null,1,{"$f":"IF(AZ17=1,G17,0)","v":0},{"$f":"IF(AZ17=2,G17,0)","v":0},{"$f":"IF(AZ17=3,G17,0)","v":0},{"$f":"IF(AZ17=4,G17,0)","v":0},{"$f":"IF(AZ17=5,G17,0)","v":0},null,null,null,null,null,null,null,null,null,null,null,null,null,null,null,null,null,null,null,null,null,1,0]
[5,"58344197R","Štěrkodrtě frakce 0-63 A","t",4.4691999999999998,null,{"$f":"E18*F18","v":0},1,{"$f":"E18*H18","v":4.4691999999999998},null,{"$f":"E18*J18","v":0},null,null,null,2,null,null,null,null,null,null,null,null,null,null,null,3,1,"58344197R",null,null,null,null,null,null,null,null,null,null,null,null,null,null,null,null,null,null,null,null,null,null,1,{"$f":"IF(AZ18=1,G18,0)","v":0},{"$f":"IF(AZ18=2,G18,0)","v":0},{"$f":"IF(AZ18=3,G18,0)","v":0},{"$f":"IF(AZ18=4,G18,0)","v":0},{"$f":"IF(AZ18=5,G18,0)","v":0},null,null,null,null,null,null,null,null,null,null,null,null,null,null,null,null,null,null,null,null,null,3,1]
[null,null,"Zásyp ŠD fr. 0-63 na úroveň pláně nové komunikace:",null,0,null,null,null,null,null,null,null,"Zásyp ŠD fr. 0-63 na úroveň pláně nové komunikace:"]
[null,null,"Prostor stávající RŠ po odbourání kónusu a poklopu:1,50*1,50*(0,75-0,40)*3*1,873*1,01",null,4.4691999999999998,null,null,null,null,null,null,null,"Prostor stávající RŠ po odbourání kónusu a poklopu:1,50*1,50*(0,75-0,40)*3*1,873*1,01"]
[null,"Celkem za","1 Zemní práce",null,null,null,{"$f":"SUM(G7:G20)","v":0},null,{"$f":"SUM(I7:I20)","v":4.4691999999999998},null,{"$f":"SUM(K7:K20)","v":-2.1034999999999999},null,null,null,4,null,null,null,null,null,null,null,null,null,null,null,null,null,null,null,null,null,null,null,null,null,null,null,null,null,null,null,null,null,null,null,null,null,null,null,null,null,{"$f":"SUM(BA7:BA20)","v":0},{"$f":"SUM(BB7:BB20)","v":0},{"$f":"SUM(BC7:BC20)","v":0},{"$f":"SUM(BD7:BD20)","v":0},{"$f":"SUM(BE7:BE20)","v":0}]
["Díl:","8","Trubní vedení",null,null,null,null,null,null,null,null,null,null,null,1]
[6,"892601154R00","Čištění kanalizační stoky do DN 500, nad 100 m ","m",123,null,{"$f":"E23*F23","v":0},0,{"$f":"E23*H23","v":0},0,{"$f":"E23*J23","v":0},null,null,null,2,null,null,null,null,null,null,null,null,null,null,null,1,1,1,null,null,null,null,null,null,null,null,null,null,null,null,null,null,null,null,null,null,null,null,null,null,1,{"$f":"IF(AZ23=1,G23,0)","v":0},{"$f":"IF(AZ23=2,G23,0)","v":0},{"$f":"IF(AZ23=3,G23,0)","v":0},{"$f":"IF(AZ23=4,G23,0)","v":0},{"$f":"IF(AZ23=5,G23,0)","v":0},null,null,null,null,null,null,null,null,null,null,null,null,null,null,null,null,null,null,null,null,null,1,1]
[null,null,"V položce je zakalkulováno:",null,null,null,null,null,null,null,null,"V položce je zakalkulováno:",null,null,3]
[null,null,"a) otevření a uzavření revizních šachet a čisticích kusů",null,null,null,null,null,null,null,null,"a) otevření a uzavření revizních šachet a čisticích kusů",null,null,3]
[null,null,"b) natažení vysokotlakých hadic k místu odkud se bude kanalizace čistit",null,null,null,null,null,null,null,null,"b) natažení vysokotlakých hadic k místu odkud se bude kanalizace čistit",null,null,3]
[null,null,"c) vyčištění potrubí tlakovou vodou nebo motorovým pérem.",null,null,null,null,null,null,null,null,"c) vyčištění potrubí tlakovou vodou nebo motorovým pérem.",null,null,3]
[null,null,"Stávající potrubí KT DN300:23,00",null,23,null,null,null,null,null,null,null,"Stávající potrubí KT DN300:23,00"]
[null,null,"Stávající potrubí KT DN400:100,00",null,100,null,null,null,null,null,null,null,"Stávající potrubí KT DN400:100,00"]
[null,"Celkem za","8 Trubní vedení",null,null,null,{"$f":"SUM(G22:G29)","v":0},null,{"$f":"SUM(I22:I29)","v":0},null,{"$f":"SUM(K22:K29)","v":0},null,null,null,4,null,null,null,null,null,null,null,null,null,null,null,null,null,null,null,null,null,null,null,null,null,null,null,null,null,null,null,null,null,null,null,null,null,null,null,null,null,{"$f":"SUM(BA22:BA29)","v":0},{"$f":"SUM(BB22:BB29)","v":0},{"$f":"SUM(BC22:BC29)","v":0},{"$f":"SUM(BD22:BD29)","v":0},{"$f":"SUM(BE22:BE29)","v":0}]
["Díl:","93","Dokončovací práce inženýrských staveb",null,null,null,null,null,null,null,null,null,null,null,1]
[7,"936451111R00","Výplň dutin cementopopílkovou suspenzí ","m3",2.4582999999999999,null,{"$f":"E32*F32","v":0},1.8050999999999999,{"$f":"E32*H32","v":4.4374773300000001},0,{"$f":"E32*J32","v":0},null,null,null,2,null,null,null,null,null,null,null,null,null,null,null,1,1,1,null,null,null,null,null,null,null,null,null,null,null,null,null,null,null,null,null,null,null,null,null,null,1,{"$f":"IF(AZ32=1,G32,0)","v":0},{"$f":"IF(AZ32=2,G32,0)","v":0},{"$f":"IF(AZ32=3,G32,0)","v":0},{"$f":"IF(AZ32=4,G32,0)","v":0},{"$f":"IF(AZ32=5,G32,0)","v":0},null,null,null,null,null,null,null,null,null,null,null,null,null,null,null,null,null,null,null,null,null,1,1]
[null,null,"Stávající RŠ po odbourání poklopu a kónusu:0,50^2*Pi*(1,65+1,98+1,75-0,75*3)",null,2.4582999999999999,null,null,null,null,null,null,null,"Stávající RŠ po odbourání poklopu a kónusu:0,50^2*Pi*(1,65+1,98+1,75-0,75*3)"]
[8,"936452115R00","Výplň potrubí cementopopílkovou suspenzí DN 300 ","m",23,null,{"$f":"E34*F34","v":0},0.12751000000000001,{"$f":"E34*H34","v":2.9327300000000003},0,{"$f":"E34*J34","v":0},null,null,null,2,null,null,null,null,null,null,null,null,null,null,null,1,1,1,null,null,null,null,null,null,null,null,null,null,null,null,null,null,null,null,null,null,null,null,null,null,1,{"$f":"IF(AZ34=1,G34,0)","v":0},{"$f":"IF(AZ34=2,G34,0)","v":0},{"$f":"IF(AZ34=3,G34,0)","v":0},{"$f":"IF(AZ34=4,G34,0)","v":0},{"$f":"IF(AZ34=5,G34,0)","v":0},null,null,null,null,null,null,null,null,null,null,null,null,null,null,null,null,null,null,null,null,null,1,1]
[null,null,"Stávající potrubí KT DN300:23,00",null,23,null,null,null,null,null,null,null,"Stávající potrubí KT DN300:23,00"]
[9,"936452116R00","Výplň potrubí cementopopílkovou suspenzí DN 400 ","m",100,null,{"$f":"E36*F36","v":0},0.22678999999999999,{"$f":"E36*H36","v":22.678999999999998},0,{"$f":"E36*J36","v":0},null,null,null,2,null,null,null,null,null,null,null,null,null,null,null,1,1,1,null,null,null,null,null,null,null,null,null,null,null,null,null,null,null,null,null,null,null,null,null,null,1,{"$f":"IF(AZ36=1,G36,0)","v":0},{"$f":"IF(AZ36=2,G36,0)","v":0},{"$f":"IF(AZ36=3,G36,0)","v":0},{"$f":"IF(AZ36=4,G36,0)","v":0},{"$f":"IF(AZ36=5,G36,0)","v":0},null,null,null,null,null,null,null,null,null,null,null,null,null,null,null,null,null,null,null,null,null,1,1]
[null,null,"Stávající potrubí KT DN400:100,00",null,100,null,null,null,null,null,null,null,"Stávající potrubí KT DN400:100,00"]
[null,"Celkem za","93 Dokončovací práce inženýrských staveb",null,null,null,{"$f":"SUM(G31:G37)","v":0},null,{"$f":"SUM(I31:I37)","v":30.049207329999998},null,{"$f":"SUM(K31:K37)","v":0},null,null,null,4,null,null,null,null,null,null,null,null,null,null,null,null,null,null,null,null,null,null,null,null,null,null,null,null,null,null,null,null,null,null,null,null,null,null,null,null,null,{"$f":"SUM(BA31:BA37)","v":0},{"$f":"SUM(BB31:BB37)","v":0},{"$f":"SUM(BC31:BC37)","v":0},{"$f":"SUM(BD31:BD37)","v":0},{"$f":"SUM(BE31:BE37)","v":0}]
["Díl:","97","Prorážení otvorů",null,null,null,null,null,null,null,null,null,null,null,1]
[10,"976085311R00","Vybourání kanal.rámů a poklopů plochy do 0,6 m2 ","kus",3,null,{"$f":"E40*F40","v":0},0,{"$f":"E40*H40","v":0},-4.4999999999999998E-2,{"$f":"E40*J40","v":-0.13500000000000001},null,null,null,2,null,null,null,null,null,null,null,null,null,null,null,1,1,1,null,null,null,null,null,null,null,null,null,null,null,null,null,null,null,null,null,null,null,null,null,null,1,{"$f":"IF(AZ40=1,G40,0)","v":0},{"$f":"IF(AZ40=2,G40,0)","v":0},{"$f":"IF(AZ40=3,G40,0)","v":0},{"$f":"IF(AZ40=4,G40,0)","v":0},{"$f":"IF(AZ40=5,G40,0)","v":0},null,null,null,null,null,null,null,null,null,null,null,null,null,null,null,null,null,null,null,null,null,1,1]
[null,null,"Stávající RŠ:3",null,3,null,null,null,null,null,null,null,"Stávající RŠ:3"]
[null,"Celkem za","97 Prorážení otvorů",null,null,null,{"$f":"SUM(G39:G41)","v":0},null,{"$f":"SUM(I39:I41)","v":0},null,{"$f":"SUM(K39:K41)","v":-0.13500000000000001},null,null,null,4,null,null,null,null,null,null,null,null,null,null,null,null,null,null,null,null,null,null,null,null,null,null,null,null,null,null,null,null,null,null,null,null,null,null,null,null,null,{"$f":"SUM(BA39:BA41)","v":0},{"$f":"SUM(BB39:BB41)","v":0},{"$f":"SUM(BC39:BC41)","v":0},{"$f":"SUM(BD39:BD41)","v":0},{"$f":"SUM(BE39:BE41)","v":0}]
["Díl:","99","Staveništní přesun hmot",null,null,null,null,null,null,null,null,null,null,null,1]
[11,"998274101RRX","Přesun hmot, trubní vedení betonové, otevř. výkop pro celý rozsah objektu","t",34.518407330000002,null,{"$f":"E44*F44","v":0},0,{"$f":"E44*H44","v":0},null,{"$f":"E44*J44","v":0},null,null,null,2,null,null,null,null,null,null,null,null,null,null,null,7,1,2,null,null,null,null,null,null,null,null,null,null,null,null,null,null,null,null,null,null,null,null,null,null,1,{"$f":"IF(AZ44=1,G44,0)","v":0},{"$f":"IF(AZ44=2,G44,0)","v":0},{"$f":"IF(AZ44=3,G44,0)","v":0},{"$f":"IF(AZ44=4,G44,0)","v":0},{"$f":"IF(AZ44=5,G44,0)","v":0},null,null,null,null,null,null,null,null,null,null,null,null,null,null,null,null,null,null,null,null,null,7,1]
[null,null,"Staveništní doprava pro celý rozsah objektu - doprava zmeziskládek vybudovaného zařízení staveniště zhotovitele na jednotlivé části staveniště.",null,null,null,null,null,null,null,null,"Staveništní doprava pro celý rozsah objektu - doprava zmeziskládek vybudovaného zařízení staveniště zhotovitele na jednotlivé části staveniště.",null,null,3]
[null,"Celkem za","99 Staveništní přesun hmot",null,null,null,{"$f":"SUM(G43:G45)","v":0},null,{"$f":"SUM(I43:I45)","v":0},null,{"$f":"SUM(K43:K45)","v":0},null,null,null,4,null,null,null,null,null,null,null,null,null,null,null,null,null,null,null,null,null,null,null,null,null,null,null,null,null,null,null,null,null,null,null,null,null,null,null,null,null,{"$f":"SUM(BA43:BA45)","v":0},{"$f":"SUM(BB43:BB45)","v":0},{"$f":"SUM(BC43:BC45)","v":0},{"$f":"SUM(BD43:BD45)","v":0},{"$f":"SUM(BE43:BE45)","v":0}]

{"sheet":"304 3542304.3 KL","index":44,"n_rows":45,"n_cols":8,"rows_kept":45,"cut":false,"hidden":false,"merged":[[50,1,50,6],[29,5,29,6],[30,5,30,6],[31,5,31,6],[32,5,32,6],[33,5,33,6],[36,1,44,6],[45,1,45,6],[46,1,46,6],[47,1,47,6],[48,1,48,6],[49,1,49,6],[22,0,22,1],[7,2,7,4],[8,2,8,4],[9,2,9,4],[10,2,10,4],[11,2,11,4]]}
["POLOŽKOVÝ ROZPOČET"]
["Rozpočet",null,"3542/304.3","Kanalizační napojovací body",null,"JKSO ","827.21"]
[]
["Objekt",null,null,null,null,"SKP "]
["304",null,"Oprava gravitační stoky D ul. Dvořákova",null,null,"Měrná jednotka","m"]
["Stavba",null,null,null,null,"Počet jednotek",0]
["3542",null,"Semily - Obnova VH infrastruktury a komunikací",null,null,"Náklady na m.j.",{"$f":"IF(G6=0,,ROUND((F30+F32)/G6,1))","v":0}]
["Projektant",null,null,null,null,"Typ rozpočtu"]
["Zpracovatel projektu"]
["Objednatel",null,"Vodohospodářské sdružení Turnov"]
["Dodavatel",null,".",null,null,"Zakázkové číslo "]
["Rozpočtoval",null,null,null,null,"Počet listů"]
["ROZPOČTOVÉ NÁKLADY"]
["Základní rozpočtové náklady"]
[null,"HSV celkem",{"$f":"'304 3542304.3 Rek'!E13","v":0}]
["Z","PSV celkem",{"$f":"'304 3542304.3 Rek'!F13","v":0}]
["R","M práce celkem",{"$f":"'304 3542304.3 Rek'!H13","v":0}]
["N","M dodávky celkem",{"$f":"'304 3542304.3 Rek'!G13","v":0}]
["ZRN celkem",null,{"$f":"SUM(C15:C18)","v":0}]
[]
["HZS",null,{"$f":"'304 3542304.3 Rek'!I13","v":0}]
["ZRN+HZS",null,{"$f":"C19+C21","v":0}]
["ZRN+ost.náklady+HZS",null,{"$f":"C22+G23","v":0}]
["Vypracoval",null,null,"Za zhotovitele",null,"Za objednatele"]
["Jméno :",null,null,"Jméno :",null,"Jméno :"]
["Datum :",null,null,"Datum :",null,"Datum :"]
[]
["Podpis :",null,null,"Podpis:",null,"Podpis:"]
[]
["Základ pro DPH",null,21,"%  ",null,{"$f":"C23-F32","v":0}]
["DPH",null,{"$f":"C30","v":21},"% ",null,{"$f":"ROUND(PRODUCT(F30,C31/100),0)","v":0}]
["Základ pro DPH",null,0,"% ",null,0]
["DPH",null,{"$f":"C32","v":0},"% ",null,{"$f":"ROUND(PRODUCT(F32,C33/100),0)","v":0}]
["CENA ZA OBJEKT CELKEM",null,null,null,null,{"$f":"ROUND(SUM(F30:F33),0)","v":0}]
[]
["Poznámka :",null,null,null,null,null,null," "]
[null,null,null,null,null,null,null," "]
[null,null,null,null,null,null,null," "]
[null,null,null,null,null,null,null," "]
[null,null,null,null,null,null,null," "]
[null,null,null,null,null,null,null," "]
[null,null,null,null,null,null,null," "]
[null,null,null,null,null,null,null," "]
[null,null,null,null,null,null,null," "]
[null,null,null,null,null,null,null," "]

{"sheet":"304 3542304.3 Rek","index":45,"n_rows":13,"n_cols":9,"rows_kept":13,"cut":false,"hidden":false,"merged":[[0,0,0,1],[1,0,1,1],[1,6,1,8]]}
["Stavba :",null,"3542 Semily - Obnova VH infrastruktury a komunikací",null,null,null,"Rozpočet :","3542/304.3"]
["Objekt :",null,"304 Oprava gravitační stoky D ul. Dvořákova",null,null,null,"Kanalizační napojovací body"]
[]
["REKAPITULACE  STAVEBNÍCH  DÍLŮ"]
[]
[null,"Stavební díl",null,null,"HSV","PSV","Dodávka","Montáž","HZS"]
[{"$f":"'304 3542304.3 Pol'!B7","v":"1"},{"$f":"'304 3542304.3 Pol'!C7","v":"Zemní práce"},null,null,{"$f":"'304 3542304.3 Pol'!BA103","v":0},{"$f":"'304 3542304.3 Pol'!BB103","v":0},{"$f":"'304 3542304.3 Pol'!BC103","v":0},{"$f":"'304 3542304.3 Pol'!BD103","v":0},{"$f":"'304 3542304.3 Pol'!BE103","v":0}]
[{"$f":"'304 3542304.3 Pol'!B104","v":"21"},{"$f":"'304 3542304.3 Pol'!C104","v":"Úprava podloží a základ.spáry"},null,null,{"$f":"'304 3542304.3 Pol'!BA109","v":0},{"$f":"'304 3542304.3 Pol'!BB109","v":0},{"$f":"'304 3542304.3 Pol'!BC109","v":0},{"$f":"'304 3542304.3 Pol'!BD109","v":0},{"$f":"'304 3542304.3 Pol'!BE109","v":0}]
[{"$f":"'304 3542304.3 Pol'!B110","v":"45"},{"$f":"'304 3542304.3 Pol'!C110","v":"Podkladní a vedlejší konstrukce"},null,null,{"$f":"'304 3542304.3 Pol'!BA115","v":0},{"$f":"'304 3542304.3 Pol'!BB115","v":0},{"$f":"'304 3542304.3 Pol'!BC115","v":0},{"$f":"'304 3542304.3 Pol'!BD115","v":0},{"$f":"'304 3542304.3 Pol'!BE115","v":0}]
[{"$f":"'304 3542304.3 Pol'!B116","v":"5"},{"$f":"'304 3542304.3 Pol'!C116","v":"Komunikace"},null,null,{"$f":"'304 3542304.3 Pol'!BA121","v":0},{"$f":"'304 3542304.3 Pol'!BB121","v":0},{"$f":"'304 3542304.3 Pol'!BC121","v":0},{"$f":"'304 3542304.3 Pol'!BD121","v":0},{"$f":"'304 3542304.3 Pol'!BE121","v":0}]
[{"$f":"'304 3542304.3 Pol'!B122","v":"8"},{"$f":"'304 3542304.3 Pol'!C122","v":"Trubní vedení"},null,null,{"$f":"'304 3542304.3 Pol'!BA183","v":0},{"$f":"'304 3542304.3 Pol'!BB183","v":0},{"$f":"'304 3542304.3 Pol'!BC183","v":0},{"$f":"'304 3542304.3 Pol'!BD183","v":0},{"$f":"'304 3542304.3 Pol'!BE183","v":0}]
[{"$f":"'304 3542304.3 Pol'!B184","v":"99"},{"$f":"'304 3542304.3 Pol'!C184","v":"Staveništní přesun hmot"},null,null,{"$f":"'304 3542304.3 Pol'!BA187","v":0},{"$f":"'304 3542304.3 Pol'!BB187","v":0},{"$f":"'304 3542304.3 Pol'!BC187","v":0},{"$f":"'304 3542304.3 Pol'!BD187","v":0},{"$f":"'304 3542304.3 Pol'!BE187","v":0}]
[null,"CELKEM  OBJEKT",null,null,{"$f":"SUM(E7:E12)","v":0},{"$f":"SUM(F7:F12)","v":0},{"$f":"SUM(G7:G12)","v":0},{"$f":"SUM(H7:H12)","v":0},{"$f":"SUM(I7:I12)","v":0}]

{"sheet":"304 3542304.3 Pol","index":46,"n_rows":187,"n_cols":80,"rows_kept":187,"cut":false,"hidden":false,"merged":[[178,2,178,6],[179,2,179,3],[180,2,180,3],[181,2,181,3],[185,2,185,6],[171,2,171,3],[172,2,172,3],[174,2,174,6],[175,2,175,6],[176,2,176,6],[177,2,177,6],[165,2,165,6],[166,2,166,6],[167,2,167,6],[168,2,168,6],[169,2,169,6],[170,2,170,3],[157,2,157,6],[159,2,159,3],[160,2,160,3],[161,2,161,3],[163,2,163,6],[164,2,164,6],[149,2,149,3],[150,2,150,3],[151,2,151,3],[153,2,153,3],[154,2,154,3],[155,2,155,3],[142,2,142,3],[143,2,143,3],[145,2,145,6],[146,2,146,6],[147,2,147,6],[148,2,148,6],[135,2,135,6],[136,2,136,3],[137,2,137,3],[138,2,138,3],[140,2,140,6],[141,2,141,3],[127,2,127,3],[128,2,128,3],[130,2,130,6],[131,2,131,3],[132,2,132,3],[133,2,133,3],[117,2,117,3],[118,2,118,3],[119,2,119,3],[123,2,123,6],[124,2,124,6],[125,2,125,6],[126,2,126,3],[111,2,111,3],[112,2,112,3],[113,2,113,3],[97,2,97,3],[98,2,98,3],[100,2,100,3],[101,2,101,3],[105,2,105,3],[106,2,106,3],[107,2,107,3],[89,2,89,3],[90,2,90,3],[92,2,92,3],[93,2,93,3],[94,2,94,3],[96,2,96,3],[82,2,82,3],[83,2,83,3],[84,2,84,3],[85,2,85,3],[86,2,86,3],[88,2,88,3],[76,2,76,3],[77,2,77,3],[78,2,78,3],[79,2,79,3],[80,2,80,3],[81,2,81,3],[70,2,70,3],[71,2,71,3],[72,2,72,3],[73,2,73,3],[74,2,74,3],[75,2,75,3],[63,2,63,3],[64,2,64,3],[66,2,66,6],[67,2,67,6],[68,2,68,3],[69,2,69,3],[56,2,56,3],[57,2,57,3],[58,2,58,3],[59,2,59,3],[60,2,60,3],[62,2,62,3],[48,2,48,3],[50,2,50,3],[51,2,51,3],[52,2,52,3],[53,2,53,3],[54,2,54,3],[41,2,41,3],[42,2,42,3],[44,2,44,3],[45,2,45,3],[46,2,46,3],[47,2,47,3],[33,2,33,3],[35,2,35,6],[36,2,36,3],[37,2,37,3],[38,2,38,3],[40,2,40,3],[26,2,26,3],[27,2,27,3],[28,2,28,3],[29,2,29,3],[31,2,31,3],[32,2,32,3],[20,2,20,3],[21,2,21,3],[22,2,22,3],[23,2,23,3],[24,2,24,3],[25,2,25,3],[13,2,13,6],[14,2,14,6],[15,2,15,3],[16,2,16,3],[17,2,17,3],[19,2,19,6],[0,0,0,6],[2,0,2,1],[3,0,3,1],[3,4,3,6],[8,2,8,3],[9,2,9,3],[10,2,10,3],[11,2,11,3]]}
["Položkový rozpočet "]
[]
["Stavba :",null,"3542 Semily - Obnova VH infrastruktury a komunikací",null,"Rozpočet:",{"$f":"'304 3542304.3 Rek'!H1","v":"3542/304.3"}]
["Objekt :",null,"304 Oprava gravitační stoky D ul. Dvořákova",null,{"$f":"'304 3542304.3 Rek'!G2","v":"Kanalizační napojovací body"}]
[]
["P.č.","Číslo položky","Název položky","MJ","množství","cena / MJ","celkem (Kč)","Jednotková hmotnost","Celková hmotnost","Jednotková dem.hmot.","Celková dem.hmot."]
["Díl:","1","Zemní práce",null,null,null,null,null,null,null,null,null,null,null,1]
[1,"121100002RAA","Sejmutí ornice a uložení na deponii zpětný přesun, rozprostření v tl. 200 mm, osetí","m3",2.8,null,{"$f":"E8*F8","v":0},0,{"$f":"E8*H8","v":0},0,{"$f":"E8*J8","v":0},null,null,null,2,null,null,null,null,null,null,null,null,null,null,null,1,1,1,null,null,null,null,null,null,null,null,null,null,null,null,null,null,null,null,null,null,null,null,null,null,1,{"$f":"IF(AZ8=1,G8,0)","v":0},{"$f":"IF(AZ8=2,G8,0)","v":0},{"$f":"IF(AZ8=3,G8,0)","v":0},{"$f":"IF(AZ8=4,G8,0)","v":0},{"$f":"IF(AZ8=5,G8,0)","v":0},null,null,null,null,null,null,null,null,null,null,null,null,null,null,null,null,null,null,null,null,null,1,1]
[null,null,"Stoka \"D\" KT DN400:",null,0,null,null,null,null,null,null,null,"Stoka \"D\" KT DN400:"]
[null,null,"Pracodní prostor šířky 2,0 m:",null,0,null,null,null,null,null,null,null,"Pracodní prostor šířky 2,0 m:"]
[null,null,"Kanalizační přípojky PVC DN150 (2 kusy):",null,0,null,null,null,null,null,null,null,"Kanalizační přípojky PVC DN150 (2 kusy):"]
[null,null,"Objem ornice:7,00*2,00*0,20",null,2.8,null,null,null,null,null,null,null,"Objem ornice:7,00*2,00*0,20"]
[2,"130001101RRX","Příplatek za ztížené hloubení v blízkosti vedení ","m3",9.5319000000000003,null,{"$f":"E13*F13","v":0},0,{"$f":"E13*H13","v":0},0,{"$f":"E13*J13","v":0},null,null,null,2,null,null,null,null,null,null,null,null,null,null,null,1,1,1,null,null,null,null,null,null,null,null,null,null,null,null,null,null,null,null,null,null,null,null,null,null,1,{"$f":"IF(AZ13=1,G13,0)","v":0},{"$f":"IF(AZ13=2,G13,0)","v":0},{"$f":"IF(AZ13=3,G13,0)","v":0},{"$f":"IF(AZ13=4,G13,0)","v":0},{"$f":"IF(AZ13=5,G13,0)","v":0},null,null,null,null,null,null,null,null,null,null,null,null,null,null,null,null,null,null,null,null,null,1,1]
[null,null,"Včetně případných nutných dokopávek a ručního výkopu podél sousedících inženýrských sítí.",null,null,null,null,null,null,null,null,"Včetně případných nutných dokopávek a ručního výkopu podél sousedících inženýrských sítí.",null,null,3]
[null,null,"Součástí položky je i dočasné zajištění stávajících inženýrských sítí v prostoru výkopů (potrubí, kabely a pod.)",null,null,null,null,null,null,null,null,"Součástí položky je i dočasné zajištění stávajících inženýrských sítí v prostoru výkopů (potrubí, kabely a pod.)",null,null,3]
[null,null,"Stoka \"S\" PVC DN400:",null,0,null,null,null,null,null,null,null,"Stoka \"S\" PVC DN400:"]
[null,null,"Výkopy:",null,0,null,null,null,null,null,null,null,"Výkopy:"]
[null,null,"v hornině tř. 3 - 4 - 35%:27,2340*0,35",null,9.5319000000000003,null,null,null,null,null,null,null,"v hornině tř. 3 - 4 - 35%:27,2340*0,35"]
[3,"132201210R00","Hloubení rýh š.do 200 cm hor.3 do 50 m3,STROJNĚ ","m3",13.617000000000001,null,{"$f":"E19*F19","v":0},0,{"$f":"E19*H19","v":0},0,{"$f":"E19*J19","v":0},null,null,null,2,null,null,null,null,null,null,null,null,null,null,null,1,1,1,null,null,null,null,null,null,null,null,null,null,null,null,null,null,null,null,null,null,null,null,null,null,1,{"$f":"IF(AZ19=1,G19,0)","v":0},{"$f":"IF(AZ19=2,G19,0)","v":0},{"$f":"IF(AZ19=3,G19,0)","v":0},{"$f":"IF(AZ19=4,G19,0)","v":0},{"$f":"IF(AZ19=5,G19,0)","v":0},null,null,null,null,null,null,null,null,null,null,null,null,null,null,null,null,null,null,null,null,null,1,1]
[null,null,"Položka obsahuje hloubení rýh traktorbagrem, naložení výkopku na dopravní prostředek pro svislé, nebo vodorovné přemístění, popř. přemístění výkopku do 3 m (po povrchu území), případné zajištění rypadel polštáři, udržování pracoviště a ochranu výkopiště proti stékání srážkové vody z okolního terénu i s jejím odvodněním, nebo odvedením, přesekání a odstranění kořenů ve výkopišti, odstranění napadávek, urovnání dna výkopu.",null,null,null,null,null,null,null,null,"Položka obsahuje hloubení rýh traktorbagrem, naložení výkopku na dopravní prostředek pro svislé, nebo vodorovné přemístění, popř. přemístění výkopku do 3 m (po povrchu území), případné zajištění rypadel polštáři, udržování pracoviště a ochranu výkopiště proti stékání srážkové vody z okolního terénu i s jejím odvodněním, nebo odvedením, přesekání a odstranění kořenů ve výkopišti, odstranění napadávek, urovnání dna výkopu.",null,null,3]
[null,null,"Stoka \"S\" PVC DN400:",null,0,null,null,null,null,null,null,null,"Stoka \"S\" PVC DN400:"]
[null,null,"Výkopy:",null,0,null,null,null,null,null,null,null,"Výkopy:"]
[null,null,"Začátek provozního součtu",null,0,null,null,null,null,null,null,null,"Začátek provozního součtu"]
[null,null,"Kanalizační přípojky PVC DN150 (2 kusy):",null,0,null,null,null,null,null,null,null,"Kanalizační přípojky PVC DN150 (2 kusy):"]
[null,null,"čp. 731:6,50*0,90*(2,05+2,45)/2+3,50*0,90*(2,45+1,75)/2",null,19.7775,null,null,null,null,null,null,null,"čp. 731:6,50*0,90*(2,05+2,45)/2+3,50*0,90*(2,45+1,75)/2"]
[null,null,"čp. 729:7,00*0,90*(2,16+1,75)/2",null,12.3165,null,null,null,null,null,null,null,"čp. 729:7,00*0,90*(2,16+1,75)/2"]
[null,null,"Odpočet objemu konstrukce komunikace a chodníků:-10,00*0,90*0,40",null,-3.6,null,null,null,null,null,null,null,"Odpočet objemu konstrukce komunikace a chodníků:-10,00*0,90*0,40"]
[null,null,"Odpočet objemu ornice:-7,00*0,90*0,20",null,-1.26,null,null,null,null,null,null,null,"Odpočet objemu ornice:-7,00*0,90*0,20"]
[null,null,"Konec provozního součtu",null,27.233999999999998,null,null,null,null,null,null,null,"Konec provozního součtu"]
[null,null,"v hornině tř. 3 - 50%:27,2340*0,5",null,13.617000000000001,null,null,null,null,null,null,null,"v hornině tř. 3 - 50%:27,2340*0,5"]
[4,"132201219R00","Přípl.za lepivost,hloubení rýh 200cm,hor.3,STROJNĚ ","m3",6.8085000000000004,null,{"$f":"E31*F31","v":0},0,{"$f":"E31*H31","v":0},0,{"$f":"E31*J31","v":0},null,null,null,2,null,null,null,null,null,null,null,null,null,null,null,1,1,1,null,null,null,null,null,null,null,null,null,null,null,null,null,null,null,null,null,null,null,null,null,null,1,{"$f":"IF(AZ31=1,G31,0)","v":0},{"$f":"IF(AZ31=2,G31,0)","v":0},{"$f":"IF(AZ31=3,G31,0)","v":0},{"$f":"IF(AZ31=4,G31,0)","v":0},{"$f":"IF(AZ31=5,G31,0)","v":0},null,null,null,null,null,null,null,null,null,null,null,null,null,null,null,null,null,null,null,null,null,1,1]
[null,null,"Stoka \"S\" PVC DN400:",null,0,null,null,null,null,null,null,null,"Stoka \"S\" PVC DN400:"]
[null,null,"Výkopy:",null,0,null,null,null,null,null,null,null,"Výkopy:"]
[null,null,"v hornině tř. 3 - 50%:27,2340*0,5*0,5",null,6.8085000000000004,null,null,null,null,null,null,null,"v hornině tř. 3 - 50%:27,2340*0,5*0,5"]
[5,"132301210R00","Hloubení rýh š.do 200 cm hor.4 do 50 m3, STROJNĚ ","m3",13.617000000000001,null,{"$f":"E35*F35","v":0},0,{"$f":"E35*H35","v":0},0,{"$f":"E35*J35","v":0},null,null,null,2,null,null,null,null,null,null,null,null,null,null,null,1,1,1,null,null,null,null,null,null,null,null,null,null,null,null,null,null,null,null,null,null,null,null,null,null,1,{"$f":"IF(AZ35=1,G35,0)","v":0},{"$f":"IF(AZ35=2,G35,0)","v":0},{"$f":"IF(AZ35=3,G35,0)","v":0},{"$f":"IF(AZ35=4,G35,0)","v":0},{"$f":"IF(AZ35=5,G35,0)","v":0},null,null,null,null,null,null,null,null,null,null,null,null,null,null,null,null,null,null,null,null,null,1,1]
[null,null,"Položka obsahuje hloubení rýh traktorbagrem, naložení výkopku na dopravní prostředek pro svislé, nebo vodorovné přemístění, popř. přemístění výkopku do 3 m (po povrchu území), případné zajištění rypadel polštáři, udržování pracoviště a ochranu výkopiště proti stékání srážkové vody z okolního terénu i s jejím odvodněním, nebo odvedením, přesekání a odstranění kořenů ve výkopišti, odstranění napadávek, urovnání dna výkopu.",null,null,null,null,null,null,null,null,"Položka obsahuje hloubení rýh traktorbagrem, naložení výkopku na dopravní prostředek pro svislé, nebo vodorovné přemístění, popř. přemístění výkopku do 3 m (po povrchu území), případné zajištění rypadel polštáři, udržování pracoviště a ochranu výkopiště proti stékání srážkové vody z okolního terénu i s jejím odvodněním, nebo odvedením, přesekání a odstranění kořenů ve výkopišti, odstranění napadávek, urovnání dna výkopu.",null,null,3]
[null,null,"Stoka \"S\" PVC DN400:",null,0,null,null,null,null,null,null,null,"Stoka \"S\" PVC DN400:"]
[null,null,"Výkopy:",null,0,null,null,null,null,null,null,null,"Výkopy:"]
[null,null,"v hornině tř. 4 - 50%:27,2340*0,5",null,13.617000000000001,null,null,null,null,null,null,null,"v hornině tř. 4 - 50%:27,2340*0,5"]
[6,"132301219R00","Přípl.za lepivost,hloubení rýh 200cm,hor.4,STROJNĚ ","m3",6.8085000000000004,null,{"$f":"E40*F40","v":0},0,{"$f":"E40*H40","v":0},0,{"$f":"E40*J40","v":0},null,null,null,2,null,null,null,null,null,null,null,null,null,null,null,1,1,1,null,null,null,null,null,null,null,null,null,null,null,null,null,null,null,null,null,null,null,null,null,null,1,{"$f":"IF(AZ40=1,G40,0)","v":0},{"$f":"IF(AZ40=2,G40,0)","v":0},{"$f":"IF(AZ40=3,G40,0)","v":0},{"$f":"IF(AZ40=4,G40,0)","v":0},{"$f":"IF(AZ40=5,G40,0)","v":0},null,null,null,null,null,null,null,null,null,null,null,null,null,null,null,null,null,null,null,null,null,1,1]
[null,null,"Stoka \"S\" PVC DN400:",null,0,null,null,null,null,null,null,null,"Stoka \"S\" PVC DN400:"]
[null,null,"Výkopy:",null,0,null,null,null,null,null,null,null,"Výkopy:"]
[null,null,"v hornině tř. 4 - 50%:27,2340*0,5*0,5",null,6.8085000000000004,null,null,null,null,null,null,null,"v hornině tř. 4 - 50%:27,2340*0,5*0,5"]
[7,"132901220RRX","Přípl.za provedení podchodu pod základem oplocení Ručně do objemu 1,00 m3","kus",2,null,{"$f":"E44*F44","v":0},0,{"$f":"E44*H44","v":0},0,{"$f":"E44*J44","v":0},null,null,null,2,null,null,null,null,null,null,null,null,null,null,null,1,1,1,null,null,null,null,null,null,null,null,null,null,null,null,null,null,null,null,null,null,null,null,null,null,1,{"$f":"IF(AZ44=1,G44,0)","v":0},{"$f":"IF(AZ44=2,G44,0)","v":0},{"$f":"IF(AZ44=3,G44,0)","v":0},{"$f":"IF(AZ44=4,G44,0)","v":0},{"$f":"IF(AZ44=5,G44,0)","v":0},null,null,null,null,null,null,null,null,null,null,null,null,null,null,null,null,null,null,null,null,null,1,1]
[null,null,"Stoka \"D\" KT DN400:",null,0,null,null,null,null,null,null,null,"Stoka \"D\" KT DN400:"]
[null,null,"Výkopy:",null,0,null,null,null,null,null,null,null,"Výkopy:"]
[null,null,"Kanalizační přípojky PVC DN150 (2 kusy):",null,0,null,null,null,null,null,null,null,"Kanalizační přípojky PVC DN150 (2 kusy):"]
[null,null,"čp. 731:1",null,1,null,null,null,null,null,null,null,"čp. 731:1"]
[null,null,"čp. 729:1",null,1,null,null,null,null,null,null,null,"čp. 729:1"]
[8,"151101101R00","Pažení a rozepření stěn rýh - příložné - hl.do 2 m ","m2",71.319999999999993,null,{"$f":"E50*F50","v":0},9.8999999999999999E-4,{"$f":"E50*H50","v":7.0606799999999997E-2},0,{"$f":"E50*J50","v":0},null,null,null,2,null,null,null,null,null,null,null,null,null,null,null,1,1,1,null,null,null,null,null,null,null,null,null,null,null,null,null,null,null,null,null,null,null,null,null,null,1,{"$f":"IF(AZ50=1,G50,0)","v":0},{"$f":"IF(AZ50=2,G50,0)","v":0},{"$f":"IF(AZ50=3,G50,0)","v":0},{"$f":"IF(AZ50=4,G50,0)","v":0},{"$f":"IF(AZ50=5,G50,0)","v":0},null,null,null,null,null,null,null,null,null,null,null,null,null,null,null,null,null,null,null,null,null,1,1]
[null,null,"Stoka \"S\" PVC DN400:",null,0,null,null,null,null,null,null,null,"Stoka \"S\" PVC DN400:"]
[null,null,"Výkopy:",null,0,null,null,null,null,null,null,null,"Výkopy:"]
[null,null,"Kanalizační přípojky PVC DN150 (2 kusy):",null,0,null,null,null,null,null,null,null,"Kanalizační přípojky PVC DN150 (2 kusy):"]
[null,null,"čp. 731:6,50*(2,05+2,45)/2*2+3,50*(2,45+1,75)/2*2",null,43.95,null,null,null,null,null,null,null,"čp. 731:6,50*(2,05+2,45)/2*2+3,50*(2,45+1,75)/2*2"]
[null,null,"čp. 729:7,00*(2,16+1,75)/2*2",null,27.37,null,null,null,null,null,null,null,"čp. 729:7,00*(2,16+1,75)/2*2"]
[9,"151101111R00","Odstranění pažení stěn rýh - příložné - hl. do 2 m ","m2",71.319999999999993,null,{"$f":"E56*F56","v":0},0,{"$f":"E56*H56","v":0},0,{"$f":"E56*J56","v":0},null,null,null,2,null,null,null,null,null,null,null,null,null,null,null,1,1,1,null,null,null,null,null,null,null,null,null,null,null,null,null,null,null,null,null,null,null,null,null,null,1,{"$f":"IF(AZ56=1,G56,0)","v":0},{"$f":"IF(AZ56=2,G56,0)","v":0},{"$f":"IF(AZ56=3,G56,0)","v":0},{"$f":"IF(AZ56=4,G56,0)","v":0},{"$f":"IF(AZ56=5,G56,0)","v":0},null,null,null,null,null,null,null,null,null,null,null,null,null,null,null,null,null,null,null,null,null,1,1]
[null,null,"Stoka \"S\" PVC DN400:",null,0,null,null,null,null,null,null,null,"Stoka \"S\" PVC DN400:"]
[null,null,"Výkopy:",null,0,null,null,null,null,null,null,null,"Výkopy:"]
[null,null,"Kanalizační přípojky PVC DN150 (2 kusy):",null,0,null,null,null,null,null,null,null,"Kanalizační přípojky PVC DN150 (2 kusy):"]
[null,null,"čp. 731:6,50*(2,05+2,45)/2*2+3,50*(2,45+1,75)/2*2",null,43.95,null,null,null,null,null,null,null,"čp. 731:6,50*(2,05+2,45)/2*2+3,50*(2,45+1,75)/2*2"]
[null,null,"čp. 729:7,00*(2,16+1,75)/2*2",null,27.37,null,null,null,null,null,null,null,"čp. 729:7,00*(2,16+1,75)/2*2"]
[10,"162701105RSZ","Vodorovné přemístění výkopku z hor.1-7 na skládku zhotovitele","m3",19.235199999999999,null,{"$f":"E62*F62","v":0},0,{"$f":"E62*H62","v":0},0,{"$f":"E62*J62","v":0},null,null,null,2,null,null,null,null,null,null,null,null,null,null,null,1,1,1,null,null,null,null,null,null,null,null,null,null,null,null,null,null,null,null,null,null,null,null,null,null,1,{"$f":"IF(AZ62=1,G62,0)","v":0},{"$f":"IF(AZ62=2,G62,0)","v":0},{"$f":"IF(AZ62=3,G62,0)","v":0},{"$f":"IF(AZ62=4,G62,0)","v":0},{"$f":"IF(AZ62=5,G62,0)","v":0},null,null,null,null,null,null,null,null,null,null,null,null,null,null,null,null,null,null,null,null,null,1,1]
[null,null,"Stoka \"S\" PVC DN400:",null,0,null,null,null,null,null,null,null,"Stoka \"S\" PVC DN400:"]
[null,null,"Výkopy:27,2340",null,27.234000000000002,null,null,null,null,null,null,null,"Výkopy:27,2340"]
[null,null,"Odpočet objemu zásypů zeminou:-7,9988",null,-7.9988000000000001,null,null,null,null,null,null,null,"Odpočet objemu zásypů zeminou:-7,9988"]
[11,"174101101R00","Zásyp jam, rýh, šachet se zhutněním ","m3",18.053999999999998,null,{"$f":"E66*F66","v":0},0,{"$f":"E66*H66","v":0},0,{"$f":"E66*J66","v":0},null,null,null,2,null,null,null,null,null,null,null,null,null,null,null,1,1,1,null,null,null,null,null,null,null,null,null,null,null,null,null,null,null,null,null,null,null,null,null,null,1,{"$f":"IF(AZ66=1,G66,0)","v":0},{"$f":"IF(AZ66=2,G66,0)","v":0},{"$f":"IF(AZ66=3,G66,0)","v":0},{"$f":"IF(AZ66=4,G66,0)","v":0},{"$f":"IF(AZ66=5,G66,0)","v":0},null,null,null,null,null,null,null,null,null,null,null,null,null,null,null,null,null,null,null,null,null,1,1]
[null,null,"Položka obsahuje strojní přemístění materiálu pro zásyp ze vzdálenosti do 10 m od okraje zásypu.",null,null,null,null,null,null,null,null,"Položka obsahuje strojní přemístění materiálu pro zásyp ze vzdálenosti do 10 m od okraje zásypu.",null,null,3]
[null,null,null,null,null,null,null,null,null,null,null,null,null,null,3]
[null,null,"Stoka \"S\" PVC DN400:",null,0,null,null,null,null,null,null,null,"Stoka \"S\" PVC DN400:"]
[null,null,"Zásypy ŠD fr. 0-63 mm:10,0552",null,10.055199999999999,null,null,null,null,null,null,null,"Zásypy ŠD fr. 0-63 mm:10,0552"]
[null,null,"Začátek provozního součtu",null,0,null,null,null,null,null,null,null,"Začátek provozního součtu"]
[null,null,"Výkopy:",null,0,null,null,null,null,null,null,null,"Výkopy:"]
[null,null,"Kanalizační přípojky PVC DN150 (2 kusy):",null,0,null,null,null,null,null,null,null,"Kanalizační přípojky PVC DN150 (2 kusy):"]
[null,null,"čp. 731:5,50*0,90*(2,05+2,45)/2",null,11.137499999999999,null,null,null,null,null,null,null,"čp. 731:5,50*0,90*(2,05+2,45)/2"]
[null,null,"čp. 729:4,50*0,90*(2,16+1,75)/2",null,7.9177,null,null,null,null,null,null,null,"čp. 729:4,50*0,90*(2,16+1,75)/2"]
[null,null,"Odpočet objemu konstrukce komunikace a chodníků:-10,00*0,90*0,40",null,-3.6,null,null,null,null,null,null,null,"Odpočet objemu konstrukce komunikace a chodníků:-10,00*0,90*0,40"]
[null,null,"Odpočet objemu lože, potrubí a obsypů:-10,00*0,90*(0,15+0,15+0,30)",null,-5.4,null,null,null,null,null,null,null,"Odpočet objemu lože, potrubí a obsypů:-10,00*0,90*(0,15+0,15+0,30)"]
[null,null,"Konec provozního součtu",null,10.055199999999999,null,null,null,null,null,null,null,"Konec provozního součtu"]
[null,null,"Zásypy zeminou:7,9988",null,7.9988000000000001,null,null,null,null,null,null,null,"Zásypy zeminou:7,9988"]
[null,null,"Začátek provozního součtu",null,0,null,null,null,null,null,null,null,"Začátek provozního součtu"]
[null,null,"Výkopy:",null,0,null,null,null,null,null,null,null,"Výkopy:"]
[null,null,"Kanalizační přípojky PVC DN150 (2 kusy):",null,0,null,null,null,null,null,null,null,"Kanalizační přípojky PVC DN150 (2 kusy):"]
[null,null,"čp. 731:1,00*0,90*(2,05+2,45)/2+3,50*0,90*(2,45+1,75)/2",null,8.64,null,null,null,null,null,null,null,"čp. 731:1,00*0,90*(2,05+2,45)/2+3,50*0,90*(2,45+1,75)/2"]
[null,null,"čp. 729:2,50*0,90*(2,16+1,75)/2",null,4.3986999999999998,null,null,null,null,null,null,null,"čp. 729:2,50*0,90*(2,16+1,75)/2"]
[null,null,"Odpočet objemu ornice:-7,00*0,90*0,20",null,-1.26,null,null,null,null,null,null,null,"Odpočet objemu ornice:-7,00*0,90*0,20"]
[null,null,"Odpočet objemu lože, potrubí a obsypů:-7,00*0,90*(0,15+0,15+0,30)",null,-3.78,null,null,null,null,null,null,null,"Odpočet objemu lože, potrubí a obsypů:-7,00*0,90*(0,15+0,15+0,30)"]
[null,null,"Konec provozního součtu",null,7.9987000000000013,null,null,null,null,null,null,null,"Konec provozního součtu"]
[12,"175101101R00","Obsyp potrubí bez prohození sypaniny ","m3",6.5846,null,{"$f":"E88*F88","v":0},0,{"$f":"E88*H88","v":0},0,{"$f":"E88*J88","v":0},null,null,null,2,null,null,null,null,null,null,null,null,null,null,null,1,1,1,null,null,null,null,null,null,null,null,null,null,null,null,null,null,null,null,null,null,null,null,null,null,1,{"$f":"IF(AZ88=1,G88,0)","v":0},{"$f":"IF(AZ88=2,G88,0)","v":0},{"$f":"IF(AZ88=3,G88,0)","v":0},{"$f":"IF(AZ88=4,G88,0)","v":0},{"$f":"IF(AZ88=5,G88,0)","v":0},null,null,null,null,null,null,null,null,null,null,null,null,null,null,null,null,null,null,null,null,null,1,1]
[null,null,"Stoka \"D\" KT DN400:",null,0,null,null,null,null,null,null,null,"Stoka \"D\" KT DN400:"]
[null,null,"Kanalizační přípojky PVC DN150:",null,0,null,null,null,null,null,null,null,"Kanalizační přípojky PVC DN150:"]
[null,null,"KP (2 kusy):17,00*(0,90*(0,15+0,30)-0,075^2*Pi)",null,6.5846,null,null,null,null,null,null,null,"KP (2 kusy):17,00*(0,90*(0,15+0,30)-0,075^2*Pi)"]
[13,"199000002R00","Poplatek za skládku horniny 1- 7 č. dle katal. odpadů 17 05 04","m3",19.235199999999999,null,{"$f":"E92*F92","v":0},0,{"$f":"E92*H92","v":0},0,{"$f":"E92*J92","v":0},null,null,null,2,null,null,null,null,null,null,null,null,null,null,null,1,1,1,null,null,null,null,null,null,null,null,null,null,null,null,null,null,null,null,null,null,null,null,null,null,1,{"$f":"IF(AZ92=1,G92,0)","v":0},{"$f":"IF(AZ92=2,G92,0)","v":0},{"$f":"IF(AZ92=3,G92,0)","v":0},{"$f":"IF(AZ92=4,G92,0)","v":0},{"$f":"IF(AZ92=5,G92,0)","v":0},null,null,null,null,null,null,null,null,null,null,null,null,null,null,null,null,null,null,null,null,null,1,1]
[null,null,"Stoka \"S\" PVC DN400:",null,0,null,null,null,null,null,null,null,"Stoka \"S\" PVC DN400:"]
[null,null,"Výkopy:27,2340",null,27.234000000000002,null,null,null,null,null,null,null,"Výkopy:27,2340"]
[null,null,"Odpočet objemu zásypů zeminou:-7,9988",null,-7.9988000000000001,null,null,null,null,null,null,null,"Odpočet objemu zásypů zeminou:-7,9988"]
[14,"58337308.R","Štěrkopísek frakce 0-2 tř.B","t",13.1213,null,{"$f":"E96*F96","v":0},1,{"$f":"E96*H96","v":13.1213},null,{"$f":"E96*J96","v":0},null,null,null,2,null,null,null,null,null,null,null,null,null,null,null,3,1,"58337308.R",null,null,null,null,null,null,null,null,null,null,null,null,null,null,null,null,null,null,null,null,null,null,1,{"$f":"IF(AZ96=1,G96,0)","v":0},{"$f":"IF(AZ96=2,G96,0)","v":0},{"$f":"IF(AZ96=3,G96,0)","v":0},{"$f":"IF(AZ96=4,G96,0)","v":0},{"$f":"IF(AZ96=5,G96,0)","v":0},null,null,null,null,null,null,null,null,null,null,null,null,null,null,null,null,null,null,null,null,null,3,1]
[null,null,"Stoka \"D\" KT DN400:",null,0,null,null,null,null,null,null,null,"Stoka \"D\" KT DN400:"]
[null,null,"Kanalizační přípojky PVC DN150:",null,0,null,null,null,null,null,null,null,"Kanalizační přípojky PVC DN150:"]
[null,null,"KP (2 kusy):17,00*(0,90*(0,15+0,30)-0,075^2*Pi)*1,973*1,01",null,13.1213,null,null,null,null,null,null,null,"KP (2 kusy):17,00*(0,90*(0,15+0,30)-0,075^2*Pi)*1,973*1,01"]
[15,"58344197R","Štěrkodrtě frakce 0-63 A","t",19.021699999999999,null,{"$f":"E100*F100","v":0},1,{"$f":"E100*H100","v":19.021699999999999},null,{"$f":"E100*J100","v":0},null,null,null,2,null,null,null,null,null,null,null,null,null,null,null,3,1,"58344197R",null,null,null,null,null,null,null,null,null,null,null,null,null,null,null,null,null,null,null,null,null,null,1,{"$f":"IF(AZ100=1,G100,0)","v":0},{"$f":"IF(AZ100=2,G100,0)","v":0},{"$f":"IF(AZ100=3,G100,0)","v":0},{"$f":"IF(AZ100=4,G100,0)","v":0},{"$f":"IF(AZ100=5,G100,0)","v":0},null,null,null,null,null,null,null,null,null,null,null,null,null,null,null,null,null,null,null,null,null,3,1]
[null,null,"Stoka \"S\" PVC DN400:",null,0,null,null,null,null,null,null,null,"Stoka \"S\" PVC DN400:"]
[null,null,"Zásypy ŠD fr. 0-63 mm:10,0552*1,873*1,01",null,19.021699999999999,null,null,null,null,null,null,null,"Zásypy ŠD fr. 0-63 mm:10,0552*1,873*1,01"]
[null,"Celkem za","1 Zemní práce",null,null,null,{"$f":"SUM(G7:G102)","v":0},null,{"$f":"SUM(I7:I102)","v":32.213606800000001},null,{"$f":"SUM(K7:K102)","v":0},null,null,null,4,null,null,null,null,null,null,null,null,null,null,null,null,null,null,null,null,null,null,null,null,null,null,null,null,null,null,null,null,null,null,null,null,null,null,null,null,null,{"$f":"SUM(BA7:BA102)","v":0},{"$f":"SUM(BB7:BB102)","v":0},{"$f":"SUM(BC7:BC102)","v":0},{"$f":"SUM(BD7:BD102)","v":0},{"$f":"SUM(BE7:BE102)","v":0}]
["Díl:","21","Úprava podloží a základ.spáry",null,null,null,null,null,null,null,null,null,null,null,1]
[16,"215901101RT5","Zhutnění podloží do 92% PS vibrační deskou","m2",15.3,null,{"$f":"E105*F105","v":0},0,{"$f":"E105*H105","v":0},0,{"$f":"E105*J105","v":0},null,null,null,2,null,null,null,null,null,null,null,null,null,null,null,1,1,1,null,null,null,null,null,null,null,null,null,null,null,null,null,null,null,null,null,null,null,null,null,null,1,{"$f":"IF(AZ105=1,G105,0)","v":0},{"$f":"IF(AZ105=2,G105,0)","v":0},{"$f":"IF(AZ105=3,G105,0)","v":0},{"$f":"IF(AZ105=4,G105,0)","v":0},{"$f":"IF(AZ105=5,G105,0)","v":0},null,null,null,null,null,null,null,null,null,null,null,null,null,null,null,null,null,null,null,null,null,1,1]
[null,null,"Stoka \"D\" KT DN400:",null,0,null,null,null,null,null,null,null,"Stoka \"D\" KT DN400:"]
[null,null,"Kanalizační přípojky PVC DN150:",null,0,null,null,null,null,null,null,null,"Kanalizační přípojky PVC DN150:"]
[null,null,"KP (2 kusy):17,00*0,90",null,15.3,null,null,null,null,null,null,null,"KP (2 kusy):17,00*0,90"]
[null,"Celkem za","21 Úprava podloží a základ.spáry",null,null,null,{"$f":"SUM(G104:G108)","v":0},null,{"$f":"SUM(I104:I108)","v":0},null,{"$f":"SUM(K104:K108)","v":0},null,null,null,4,null,null,null,null,null,null,null,null,null,null,null,null,null,null,null,null,null,null,null,null,null,null,null,null,null,null,null,null,null,null,null,null,null,null,null,null,null,{"$f":"SUM(BA104:BA108)","v":0},{"$f":"SUM(BB104:BB108)","v":0},{"$f":"SUM(BC104:BC108)","v":0},{"$f":"SUM(BD104:BD108)","v":0},{"$f":"SUM(BE104:BE108)","v":0}]
["Díl:","45","Podkladní a vedlejší konstrukce",null,null,null,null,null,null,null,null,null,null,null,1]
[17,"451572111R00","Lože pod potrubí z kameniva těženého 0 - 4 mm ","m3",2.2949999999999999,null,{"$f":"E111*F111","v":0},0.43051,{"$f":"E111*H111","v":0.98802044999999994},0,{"$f":"E111*J111","v":0},null,null,null,2,null,null,null,null,null,null,null,null,null,null,null,1,1,1,null,null,null,null,null,null,null,null,null,null,null,null,null,null,null,null,null,null,null,null,null,null,1,{"$f":"IF(AZ111=1,G111,0)","v":0},{"$f":"IF(AZ111=2,G111,0)","v":0},{"$f":"IF(AZ111=3,G111,0)","v":0},{"$f":"IF(AZ111=4,G111,0)","v":0},{"$f":"IF(AZ111=5,G111,0)","v":0},null,null,null,null,null,null,null,null,null,null,null,null,null,null,null,null,null,null,null,null,null,1,1]
[null,null,"Stoka \"D\" KT DN400:",null,0,null,null,null,null,null,null,null,"Stoka \"D\" KT DN400:"]
[null,null,"Kanalizační přípojky PVC DN150:",null,0,null,null,null,null,null,null,null,"Kanalizační přípojky PVC DN150:"]
[null,null,"KP (2 kusy):17,00*0,90*0,15",null,2.2949999999999999,null,null,null,null,null,null,null,"KP (2 kusy):17,00*0,90*0,15"]
[null,"Celkem za","45 Podkladní a vedlejší konstrukce",null,null,null,{"$f":"SUM(G110:G114)","v":0},null,{"$f":"SUM(I110:I114)","v":0.98802044999999994},null,{"$f":"SUM(K110:K114)","v":0},null,null,null,4,null,null,null,null,null,null,null,null,null,null,null,null,null,null,null,null,null,null,null,null,null,null,null,null,null,null,null,null,null,null,null,null,null,null,null,null,null,{"$f":"SUM(BA110:BA114)","v":0},{"$f":"SUM(BB110:BB114)","v":0},{"$f":"SUM(BC110:BC114)","v":0},{"$f":"SUM(BD110:BD114)","v":0},{"$f":"SUM(BE110:BE114)","v":0}]
["Díl:","5","Komunikace",null,null,null,null,null,null,null,null,null,null,null,1]
[18,"572701119RRX","Provizorní zásyp rýh kam. hrubě drceným nebo recyk s následným odstraněním a odvozem","m3",3.6,null,{"$f":"E117*F117","v":0},1.4804999999999999,{"$f":"E117*H117","v":5.3297999999999996},0,{"$f":"E117*J117","v":0},null,null,null,2,null,null,null,null,null,null,null,null,null,null,null,1,1,1,null,null,null,null,null,null,null,null,null,null,null,null,null,null,null,null,null,null,null,null,null,null,1,{"$f":"IF(AZ117=1,G117,0)","v":0},{"$f":"IF(AZ117=2,G117,0)","v":0},{"$f":"IF(AZ117=3,G117,0)","v":0},{"$f":"IF(AZ117=4,G117,0)","v":0},{"$f":"IF(AZ117=5,G117,0)","v":0},null,null,null,null,null,null,null,null,null,null,null,null,null,null,null,null,null,null,null,null,null,1,1]
[null,null,"Stoka \"D\" KT DN400:",null,0,null,null,null,null,null,null,null,"Stoka \"D\" KT DN400:"]
[null,null,"Kanalizační přípojky PVC DN150:",null,0,null,null,null,null,null,null,null,"Kanalizační přípojky PVC DN150:"]
[null,null,"KP (2 kusy):10,00*0,90*0,40",null,3.6,null,null,null,null,null,null,null,"KP (2 kusy):10,00*0,90*0,40"]
[null,"Celkem za","5 Komunikace",null,null,null,{"$f":"SUM(G116:G120)","v":0},null,{"$f":"SUM(I116:I120)","v":5.3297999999999996},null,{"$f":"SUM(K116:K120)","v":0},null,null,null,4,null,null,null,null,null,null,null,null,null,null,null,null,null,null,null,null,null,null,null,null,null,null,null,null,null,null,null,null,null,null,null,null,null,null,null,null,null,{"$f":"SUM(BA116:BA120)","v":0},{"$f":"SUM(BB116:BB120)","v":0},{"$f":"SUM(BC116:BC120)","v":0},{"$f":"SUM(BD116:BD120)","v":0},{"$f":"SUM(BE116:BE120)","v":0}]
["Díl:","8","Trubní vedení",null,null,null,null,null,null,null,null,null,null,null,1]
[19,"817314182RRX","Vyvrtání otvoru v KT DN400 pro potrubí PVC DN 150 včetně osazení a dodávky napojovací tvarovky","kus",2,null,{"$f":"E123*F123","v":0},2.7299999999999998E-3,{"$f":"E123*H123","v":5.4599999999999996E-3},0,{"$f":"E123*J123","v":0},null,null,null,2,null,null,null,null,null,null,null,null,null,null,null,1,1,1,null,null,null,null,null,null,null,null,null,null,null,null,null,null,null,null,null,null,null,null,null,null,1,{"$f":"IF(AZ123=1,G123,0)","v":0},{"$f":"IF(AZ123=2,G123,0)","v":0},{"$f":"IF(AZ123=3,G123,0)","v":0},{"$f":"IF(AZ123=4,G123,0)","v":0},{"$f":"IF(AZ123=5,G123,0)","v":0},null,null,null,null,null,null,null,null,null,null,null,null,null,null,null,null,null,null,null,null,null,1,1]
[null,null,"Položka je určena pro jádrové vrtání otvoru na potrubí kameninovém.",null,null,null,null,null,null,null,null,"Položka je určena pro jádrové vrtání otvoru na potrubí kameninovém.",null,null,3]
[null,null,"V položce jsou zakalkulovány i náklady na dodávku a montáž příslušné tvarovky pro napojení potrubí PVC DN150 do kameninového potrubí.",null,null,null,null,null,null,null,null,"V položce jsou zakalkulovány i náklady na dodávku a montáž příslušné tvarovky pro napojení potrubí PVC DN150 do kameninového potrubí.",null,null,3]
[null,null,"Napojovací tvarovka např. \"Odbočka FABEKUN s kulovým kloubem příslušné velikosti.",null,null,null,null,null,null,null,null,"Napojovací tvarovka např. \"Odbočka FABEKUN s kulovým kloubem příslušné velikosti.",null,null,3]
[null,null,"Stoka \"D\" KT DN400:",null,0,null,null,null,null,null,null,null,"Stoka \"D\" KT DN400:"]
[null,null,"Kanalizační přípojky PVC DN150:",null,0,null,null,null,null,null,null,null,"Kanalizační přípojky PVC DN150:"]
[null,null,"KP (2 kusy):2",null,2,null,null,null,null,null,null,null,"KP (2 kusy):2"]
[20,"871313121R00","Montáž trub z plastu, gumový kroužek, DN 150 ","m",17,null,{"$f":"E130*F130","v":0},0,{"$f":"E130*H130","v":0},0,{"$f":"E130*J130","v":0},null,null,null,2,null,null,null,null,null,null,null,null,null,null,null,1,0,0,null,null,null,null,null,null,null,null,null,null,null,null,null,null,null,null,null,null,null,null,null,null,1,{"$f":"IF(AZ130=1,G130,0)","v":0},{"$f":"IF(AZ130=2,G130,0)","v":0},{"$f":"IF(AZ130=3,G130,0)","v":0},{"$f":"IF(AZ130=4,G130,0)","v":0},{"$f":"IF(AZ130=5,G130,0)","v":0},null,null,null,null,null,null,null,null,null,null,null,null,null,null,null,null,null,null,null,null,null,1,0]
[null,null,"V položce je uvažováno s jedním spojem na 6 m potrubí. Položka je určena pro montáž potrubí z kanalizačních trub z plastu těsněných gumovým kroužkem v otevřeném výkopu ve sklonu do 20 %.",null,null,null,null,null,null,null,null,"V položce je uvažováno s jedním spojem na 6 m potrubí. Položka je určena pro montáž potrubí z kanalizačních trub z plastu těsněných gumovým kroužkem v otevřeném výkopu ve sklonu do 20 %.",null,null,3]
[null,null,"Stoka \"D\" KT DN400:",null,0,null,null,null,null,null,null,null,"Stoka \"D\" KT DN400:"]
[null,null,"Kanalizační přípojky PVC DN150:",null,0,null,null,null,null,null,null,null,"Kanalizační přípojky PVC DN150:"]
[null,null,"KP (2 kusy):17,00",null,17,null,null,null,null,null,null,null,"KP (2 kusy):17,00"]
[21,"877313123R00","Montáž tvarovek jednoos. plast. gum.kroužek DN 150 ","kus",4,null,{"$f":"E135*F135","v":0},1.0000000000000001E-5,{"$f":"E135*H135","v":4.0000000000000003E-5},0,{"$f":"E135*J135","v":0},null,null,null,2,null,null,null,null,null,null,null,null,null,null,null,1,1,1,null,null,null,null,null,null,null,null,null,null,null,null,null,null,null,null,null,null,null,null,null,null,1,{"$f":"IF(AZ135=1,G135,0)","v":0},{"$f":"IF(AZ135=2,G135,0)","v":0},{"$f":"IF(AZ135=3,G135,0)","v":0},{"$f":"IF(AZ135=4,G135,0)","v":0},{"$f":"IF(AZ135=5,G135,0)","v":0},null,null,null,null,null,null,null,null,null,null,null,null,null,null,null,null,null,null,null,null,null,1,1]
[null,null,"Položka je určena pro montáž tvarovek jednoosých na potrubí z kanalizačních trub z plastu těsněných gumovým kroužkem v otevřeném výkopu.",null,null,null,null,null,null,null,null,"Položka je určena pro montáž tvarovek jednoosých na potrubí z kanalizačních trub z plastu těsněných gumovým kroužkem v otevřeném výkopu.",null,null,3]
[null,null,"Stoka \"D\" KT DN400:",null,0,null,null,null,null,null,null,null,"Stoka \"D\" KT DN400:"]
[null,null,"Kanalizační přípojky PVC DN150:",null,0,null,null,null,null,null,null,null,"Kanalizační přípojky PVC DN150:"]
[null,null,"KP (2 kusy) - Kolena:4",null,4,null,null,null,null,null,null,null,"KP (2 kusy) - Kolena:4"]
[22,"891183439RX0","Přepojení potrubí PVC na přípojkách DN 150 včetně dodávky přepojovací tvarovky","kus",2,null,{"$f":"E140*F140","v":0},4.6000000000000001E-4,{"$f":"E140*H140","v":9.2000000000000003E-4},0,{"$f":"E140*J140","v":0},null,null,null,2,null,null,null,null,null,null,null,null,null,null,null,1,1,1,null,null,null,null,null,null,null,null,null,null,null,null,null,null,null,null,null,null,null,null,null,null,1,{"$f":"IF(AZ140=1,G140,0)","v":0},{"$f":"IF(AZ140=2,G140,0)","v":0},{"$f":"IF(AZ140=3,G140,0)","v":0},{"$f":"IF(AZ140=4,G140,0)","v":0},{"$f":"IF(AZ140=5,G140,0)","v":0},null,null,null,null,null,null,null,null,null,null,null,null,null,null,null,null,null,null,null,null,null,1,1]
[null,null,"Položka obsahuje přerušení stávajícího potrubí DN150, dodávku a montáž příslušné tvarovky pro napojení nového PVC potrubí DN150 na stávající potrubí. ",null,null,null,null,null,null,null,null,"Položka obsahuje přerušení stávajícího potrubí DN150, dodávku a montáž příslušné tvarovky pro napojení nového PVC potrubí DN150 na stávající potrubí. ",null,null,3]
[null,null,"Stoka \"D\" KT  DN400:",null,0,null,null,null,null,null,null,null,"Stoka \"D\" KT  DN400:"]
[null,null,"Kanalizační přípojky PVC DN150:",null,0,null,null,null,null,null,null,null,"Kanalizační přípojky PVC DN150:"]
[null,null,"KP (2 kusy):2",null,2,null,null,null,null,null,null,null,"KP (2 kusy):2"]
[23,"892601121R00","Čištění kanalizační stoky do DN 200, do 15 m ","úsek",2,null,{"$f":"E145*F145","v":0},0,{"$f":"E145*H145","v":0},0,{"$f":"E145*J145","v":0},null,null,null,2,null,null,null,null,null,null,null,null,null,null,null,1,1,1,null,null,null,null,null,null,null,null,null,null,null,null,null,null,null,null,null,null,null,null,null,null,1,{"$f":"IF(AZ145=1,G145,0)","v":0},{"$f":"IF(AZ145=2,G145,0)","v":0},{"$f":"IF(AZ145=3,G145,0)","v":0},{"$f":"IF(AZ145=4,G145,0)","v":0},{"$f":"IF(AZ145=5,G145,0)","v":0},null,null,null,null,null,null,null,null,null,null,null,null,null,null,null,null,null,null,null,null,null,1,1]
[null,null,"V položce je zakalkulováno:",null,null,null,null,null,null,null,null,"V položce je zakalkulováno:",null,null,3]
[null,null,"a) otevření a uzavření revizních šachet a čisticích kusů",null,null,null,null,null,null,null,null,"a) otevření a uzavření revizních šachet a čisticích kusů",null,null,3]
[null,null,"b) natažení vysokotlakých hadic k místu odkud se bude kanalizace čistit",null,null,null,null,null,null,null,null,"b) natažení vysokotlakých hadic k místu odkud se bude kanalizace čistit",null,null,3]
[null,null,"c) vyčištění potrubí tlakovou vodou nebo motorovým pérem.",null,null,null,null,null,null,null,null,"c) vyčištění potrubí tlakovou vodou nebo motorovým pérem.",null,null,3]
[null,null,"Stoka \"D\" KT DN400:",null,0,null,null,null,null,null,null,null,"Stoka \"D\" KT DN400:"]
[null,null,"Kanalizační přípojky PVC DN150:",null,0,null,null,null,null,null,null,null,"Kanalizační přípojky PVC DN150:"]
[null,null,"KP (2 kusy):2",null,2,null,null,null,null,null,null,null,"KP (2 kusy):2"]
[24,"892855111R00","Kontrola kanalizace TV kamerou do 15 m ","úsek",2,null,{"$f":"E153*F153","v":0},0,{"$f":"E153*H153","v":0},0,{"$f":"E153*J153","v":0},null,null,null,2,null,null,null,null,null,null,null,null,null,null,null,1,1,1,null,null,null,null,null,null,null,null,null,null,null,null,null,null,null,null,null,null,null,null,null,null,1,{"$f":"IF(AZ153=1,G153,0)","v":0},{"$f":"IF(AZ153=2,G153,0)","v":0},{"$f":"IF(AZ153=3,G153,0)","v":0},{"$f":"IF(AZ153=4,G153,0)","v":0},{"$f":"IF(AZ153=5,G153,0)","v":0},null,null,null,null,null,null,null,null,null,null,null,null,null,null,null,null,null,null,null,null,null,1,1]
[null,null,"Stoka \"D\" KT DN400:",null,0,null,null,null,null,null,null,null,"Stoka \"D\" KT DN400:"]
[null,null,"Kanalizační přípojky PVC DN150:",null,0,null,null,null,null,null,null,null,"Kanalizační přípojky PVC DN150:"]
[null,null,"KP (2 kusy):2",null,2,null,null,null,null,null,null,null,"KP (2 kusy):2"]
[25,"894431322RAB","Šachta, D 425 mm, dl.šach.roury 2,0 m, 1 přítok dno KG D 160 mm, poklop šedá litina 40 t","kus",2,null,{"$f":"E157*F157","v":0},9.3659999999999993E-2,{"$f":"E157*H157","v":0.18731999999999999},0,{"$f":"E157*J157","v":0},null,null,null,2,null,null,null,null,null,null,null,null,null,null,null,1,1,1,null,null,null,null,null,null,null,null,null,null,null,null,null,null,null,null,null,null,null,null,null,null,1,{"$f":"IF(AZ157=1,G157,0)","v":0},{"$f":"IF(AZ157=2,G157,0)","v":0},{"$f":"IF(AZ157=3,G157,0)","v":0},{"$f":"IF(AZ157=4,G157,0)","v":0},{"$f":"IF(AZ157=5,G157,0)","v":0},null,null,null,null,null,null,null,null,null,null,null,null,null,null,null,null,null,null,null,null,null,1,1]
[null,null,"Plastové dno, šachta z korugované trouby, těsnění, šachtová roura teleskopická, rám do teleskopické trouby, poklop litinový.",null,null,null,null,null,null,null,null,"Plastové dno, šachta z korugované trouby, těsnění, šachtová roura teleskopická, rám do teleskopické trouby, poklop litinový.",null,null,3]
[26,"899711122R00","Fólie výstražná z PVC šedá, šířka 30 cm ","m",17,null,{"$f":"E159*F159","v":0},0,{"$f":"E159*H159","v":0},0,{"$f":"E159*J159","v":0},null,null,null,2,null,null,null,null,null,null,null,null,null,null,null,1,1,1,null,null,null,null,null,null,null,null,null,null,null,null,null,null,null,null,null,null,null,null,null,null,1,{"$f":"IF(AZ159=1,G159,0)","v":0},{"$f":"IF(AZ159=2,G159,0)","v":0},{"$f":"IF(AZ159=3,G159,0)","v":0},{"$f":"IF(AZ159=4,G159,0)","v":0},{"$f":"IF(AZ159=5,G159,0)","v":0},null,null,null,null,null,null,null,null,null,null,null,null,null,null,null,null,null,null,null,null,null,1,1]
[null,null,"Stoka \"D\" KT DN400:",null,0,null,null,null,null,null,null,null,"Stoka \"D\" KT DN400:"]
[null,null,"Kanalizační přípojky PVC DN150:",null,0,null,null,null,null,null,null,null,"Kanalizační přípojky PVC DN150:"]
[null,null,"KP (2 kusy):17,00",null,17,null,null,null,null,null,null,null,"KP (2 kusy):17,00"]
[27,"286111904.R","Trubka kanalizační PVC QUANTUM SN 12 DN 160","m",17.510000000000002,null,{"$f":"E163*F163","v":0},5.1000000000000004E-3,{"$f":"E163*H163","v":8.9301000000000019E-2},null,{"$f":"E163*J163","v":0},null,null,null,2,null,null,null,null,null,null,null,null,null,null,null,3,1,"286111904.R",null,null,null,null,null,null,null,null,null,null,null,null,null,null,null,null,null,null,null,null,null,null,1,{"$f":"IF(AZ163=1,G163,0)","v":0},{"$f":"IF(AZ163=2,G163,0)","v":0},{"$f":"IF(AZ163=3,G163,0)","v":0},{"$f":"IF(AZ163=4,G163,0)","v":0},{"$f":"IF(AZ163=5,G163,0)","v":0},null,null,null,null,null,null,null,null,null,null,null,null,null,null,null,null,null,null,null,null,null,3,1]
[null,null,"Jedná  se  o  plnostěnné kanalizační trubky DN 150 – DN 400, SN 12 kN/m2 , zvenčí  i  zevnitř  hladké. Jsou  opatřeny hrdlem,  v  němž  je  vložen vysoce  elastický  jazýčkový  kroužek.  konce  trubek  (dříků)  jsou opatřeny  zkosením  pod  úhlem  15°.  Způsob  použití  trubek  je  „U“  dle  normy  ČSN  EN  1401-1, tj. mimo budovy. Spolehlivá  funkce  těsnění  je  jištěna  výztužným  kroužkem  z  elastomeru.  Je  tak  zamezeno  vypad-nutí nebo vytlačení kroužku při manipulaci a montáži. Tento systém zaručuje při správné montáži ",null,null,null,null,null,null,null,null,"Jedná  se  o  plnostěnné kanalizační trubky DN 150 – DN 400, SN 12 kN/m2 , zvenčí  i  zevnitř  hladké. Jsou  opatřeny hrdlem,  v  němž  je  vložen vysoce  elastický  jazýčkový  kroužek.  konce  trubek  (dříků)  jsou opatřeny  zkosením  pod  úhlem  15°.  Způsob  použití  trubek  je  „U“  dle  normy  ČSN  EN  1401-1, tj. mimo budovy. Spolehlivá  funkce  těsnění  je  jištěna  výztužným  kroužkem  z  elastomeru.  Je  tak  zamezeno  vypad-nutí nebo vytlačení kroužku při manipulaci a montáži. Tento systém zaručuje při správné montáži ",null,null,3]
[null,null,"dokonalou  těsnost  do  výšky  vodního  sloupce  5  metrů.",null,null,null,null,null,null,null,null,"dokonalou  těsnost  do  výšky  vodního  sloupce  5  metrů.",null,null,3]
[null,null,null,null,null,null,null,null,null,null,null,null,null,null,3]
[null,null,"Teplota při pokládce: min. -10 °C, max. 50 °C",null,null,null,null,null,null,null,null,"Teplota při pokládce: min. -10 °C, max. 50 °C",null,null,3]
[null,null,"Max. teplota média: trvale do 40 °C, krátkodobě do 60 °C",null,null,null,null,null,null,null,null,"Max. teplota média: trvale do 40 °C, krátkodobě do 60 °C",null,null,3]
[null,null,"Orientační výška krytí: min. 0,5 m, max. 10 m",null,null,null,null,null,null,null,null,"Orientační výška krytí: min. 0,5 m, max. 10 m",null,null,3]
[null,null,"Max. rychlost média: 12 m/s",null,null,null,null,null,null,null,null,"Max. rychlost média: 12 m/s",null,null,3]
[null,null,"Stoka \"D\" KT DN400:",null,0,null,null,null,null,null,null,null,"Stoka \"D\" KT DN400:"]
[null,null,"Kanalizační přípojky PVC DN150:",null,0,null,null,null,null,null,null,null,"Kanalizační přípojky PVC DN150:"]
[null,null,"KP (2 kusy):17,00*1,03",null,17.510000000000002,null,null,null,null,null,null,null,"KP (2 kusy):17,00*1,03"]
[28,"286506003.R","Koleno kanalizační PVC SDR 34 DN 160 Kolena s úhlem 15°, 30°, 45° a 90°","kus",4.0599999999999996,null,{"$f":"E174*F174","v":0},1.2700000000000001E-3,{"$f":"E174*H174","v":5.1561999999999997E-3},null,{"$f":"E174*J174","v":0},null,null,null,2,null,null,null,null,null,null,null,null,null,null,null,3,1,"286506003.R",null,null,null,null,null,null,null,null,null,null,null,null,null,null,null,null,null,null,null,null,null,null,1,{"$f":"IF(AZ174=1,G174,0)","v":0},{"$f":"IF(AZ174=2,G174,0)","v":0},{"$f":"IF(AZ174=3,G174,0)","v":0},{"$f":"IF(AZ174=4,G174,0)","v":0},{"$f":"IF(AZ174=5,G174,0)","v":0},null,null,null,null,null,null,null,null,null,null,null,null,null,null,null,null,null,null,null,null,null,3,1]
[null,null,"Tvarovky kanalizačního systému PVC SDR 34",null,null,null,null,null,null,null,null,"Tvarovky kanalizačního systému PVC SDR 34",null,null,3]
[null,null,"Teplota při pokládce: min. -10 °C, max. 50 °C",null,null,null,null,null,null,null,null,"Teplota při pokládce: min. -10 °C, max. 50 °C",null,null,3]
[null,null,"Max. teplota média: trvale do 40 °C, krátkodobě do 60 °C",null,null,null,null,null,null,null,null,"Max. teplota média: trvale do 40 °C, krátkodobě do 60 °C",null,null,3]
[null,null,"Orientační výška krytí: min. 0,5 m, max. 10 m",null,null,null,null,null,null,null,null,"Orientační výška krytí: min. 0,5 m, max. 10 m",null,null,3]
[null,null,"Max. rychlost média: 12 m/s",null,null,null,null,null,null,null,null,"Max. rychlost média: 12 m/s",null,null,3]
[null,null,"Stoka \"D\" KT DN400:",null,0,null,null,null,null,null,null,null,"Stoka \"D\" KT DN400:"]
[null,null,"Kanalizační přípojky PVC DN150:",null,0,null,null,null,null,null,null,null,"Kanalizační přípojky PVC DN150:"]
[null,null,"KP (2 kusy) - Kolena:4*1,015",null,4.0599999999999996,null,null,null,null,null,null,null,"KP (2 kusy) - Kolena:4*1,015"]
[null,"Celkem za","8 Trubní vedení",null,null,null,{"$f":"SUM(G122:G182)","v":0},null,{"$f":"SUM(I122:I182)","v":0.28819719999999999},null,{"$f":"SUM(K122:K182)","v":0},null,null,null,4,null,null,null,null,null,null,null,null,null,null,null,null,null,null,null,null,null,null,null,null,null,null,null,null,null,null,null,null,null,null,null,null,null,null,null,null,null,{"$f":"SUM(BA122:BA182)","v":0},{"$f":"SUM(BB122:BB182)","v":0},{"$f":"SUM(BC122:BC182)","v":0},{"$f":"SUM(BD122:BD182)","v":0},{"$f":"SUM(BE122:BE182)","v":0}]
["Díl:","99","Staveništní přesun hmot",null,null,null,null,null,null,null,null,null,null,null,1]
[29,"998276101RXX","Přesun hmot, trubní vedení plastová, otevř. výkop pro celý rozsah objektu","t",38.819624449999999,null,{"$f":"E185*F185","v":0},0,{"$f":"E185*H185","v":0},null,{"$f":"E185*J185","v":0},null,null,null,2,null,null,null,null,null,null,null,null,null,null,null,7,1,2,null,null,null,null,null,null,null,null,null,null,null,null,null,null,null,null,null,null,null,null,null,null,1,{"$f":"IF(AZ185=1,G185,0)","v":0},{"$f":"IF(AZ185=2,G185,0)","v":0},{"$f":"IF(AZ185=3,G185,0)","v":0},{"$f":"IF(AZ185=4,G185,0)","v":0},{"$f":"IF(AZ185=5,G185,0)","v":0},null,null,null,null,null,null,null,null,null,null,null,null,null,null,null,null,null,null,null,null,null,7,1]
[null,null,"Staveništní doprava pro celý rozsah objektu - doprava zmeziskládek vybudovaného zařízení staveniště zhotovitele na jednotlivé části staveniště.",null,null,null,null,null,null,null,null,"Staveništní doprava pro celý rozsah objektu - doprava zmeziskládek vybudovaného zařízení staveniště zhotovitele na jednotlivé části staveniště.",null,null,3]
[null,"Celkem za","99 Staveništní přesun hmot",null,null,null,{"$f":"SUM(G184:G186)","v":0},null,{"$f":"SUM(I184:I186)","v":0},null,{"$f":"SUM(K184:K186)","v":0},null,null,null,4,null,null,null,null,null,null,null,null,null,null,null,null,null,null,null,null,null,null,null,null,null,null,null,null,null,null,null,null,null,null,null,null,null,null,null,null,null,{"$f":"SUM(BA184:BA186)","v":0},{"$f":"SUM(BB184:BB186)","v":0},{"$f":"SUM(BC184:BC186)","v":0},{"$f":"SUM(BD184:BD186)","v":0},{"$f":"SUM(BE184:BE186)","v":0}]

{"sheet":"305 3542305.1 KL","index":47,"n_rows":45,"n_cols":8,"rows_kept":45,"cut":false,"hidden":false,"merged":[[50,1,50,6],[29,5,29,6],[30,5,30,6],[31,5,31,6],[32,5,32,6],[33,5,33,6],[36,1,44,6],[45,1,45,6],[46,1,46,6],[47,1,47,6],[48,1,48,6],[49,1,49,6],[22,0,22,1],[7,2,7,4],[8,2,8,4],[9,2,9,4],[10,2,10,4],[11,2,11,4]]}
["POLOŽKOVÝ ROZPOČET"]
["Rozpočet",null,"3542/305.1","Oprava vodovodního řadu V",null,"JKSO ","827.13"]
[]
["Objekt",null,null,null,null,"SKP "]
["305",null,"Oprava vodovodního řadu V ul. Větrná",null,null,"Měrná jednotka","m"]
["Stavba",null,null,null,null,"Počet jednotek",0]
["3542",null,"Semily - Obnova VH infrastruktury a komunikací",null,null,"Náklady na m.j.",{"$f":"IF(G6=0,,ROUND((F30+F32)/G6,1))","v":0}]
["Projektant",null,null,null,null,"Typ rozpočtu"]
["Zpracovatel projektu"]
["Objednatel",null,"Vodohospodářské sdružení Turnov"]
["Dodavatel",null,".",null,null,"Zakázkové číslo "]
["Rozpočtoval",null,null,null,null,"Počet listů"]
["ROZPOČTOVÉ NÁKLADY"]
["Základní rozpočtové náklady"]
[null,"HSV celkem",{"$f":"'305 3542305.1 Rek'!E15","v":0}]
["Z","PSV celkem",{"$f":"'305 3542305.1 Rek'!F15","v":0}]
["R","M práce celkem",{"$f":"'305 3542305.1 Rek'!H15","v":0}]
["N","M dodávky celkem",{"$f":"'305 3542305.1 Rek'!G15","v":0}]
["ZRN celkem",null,{"$f":"SUM(C15:C18)","v":0}]
[]
["HZS",null,{"$f":"'305 3542305.1 Rek'!I15","v":0}]
["ZRN+HZS",null,{"$f":"C19+C21","v":0}]
["ZRN+ost.náklady+HZS",null,{"$f":"C22+G23","v":0}]
["Vypracoval",null,null,"Za zhotovitele",null,"Za objednatele"]
["Jméno :",null,null,"Jméno :",null,"Jméno :"]
["Datum :",null,null,"Datum :",null,"Datum :"]
[]
["Podpis :",null,null,"Podpis:",null,"Podpis:"]
[]
["Základ pro DPH",null,21,"%  ",null,{"$f":"C23-F32","v":0}]
["DPH",null,{"$f":"C30","v":21},"% ",null,{"$f":"ROUND(PRODUCT(F30,C31/100),0)","v":0}]
["Základ pro DPH",null,0,"% ",null,0]
["DPH",null,{"$f":"C32","v":0},"% ",null,{"$f":"ROUND(PRODUCT(F32,C33/100),0)","v":0}]
["CENA ZA OBJEKT CELKEM",null,null,null,null,{"$f":"ROUND(SUM(F30:F33),0)","v":0}]
[]
["Poznámka :",null,null,null,null,null,null," "]
[null,null,null,null,null,null,null," "]
[null,null,null,null,null,null,null," "]
[null,null,null,null,null,null,null," "]
[null,null,null,null,null,null,null," "]
[null,null,null,null,null,null,null," "]
[null,null,null,null,null,null,null," "]
[null,null,null,null,null,null,null," "]
[null,null,null,null,null,null,null," "]
[null,null,null,null,null,null,null," "]

{"sheet":"305 3542305.1 Rek","index":48,"n_rows":15,"n_cols":9,"rows_kept":15,"cut":false,"hidden":false,"merged":[[0,0,0,1],[1,0,1,1],[1,6,1,8]]}
["Stavba :",null,"3542 Semily - Obnova VH infrastruktury a komunikací",null,null,null,"Rozpočet :","3542/305.1"]
["Objekt :",null,"305 Oprava vodovodního řadu V ul. Větrná",null,null,null,"Oprava vodovodního řadu V"]
[]
["REKAPITULACE  STAVEBNÍCH  DÍLŮ"]
[]
[null,"Stavební díl",null,null,"HSV","PSV","Dodávka","Montáž","HZS"]
[{"$f":"'305 3542305.1 Pol'!B7","v":"1"},{"$f":"'305 3542305.1 Pol'!C7","v":"Zemní práce"},null,null,{"$f":"'305 3542305.1 Pol'!BA83","v":0},{"$f":"'305 3542305.1 Pol'!BB83","v":0},{"$f":"'305 3542305.1 Pol'!BC83","v":0},{"$f":"'305 3542305.1 Pol'!BD83","v":0},{"$f":"'305 3542305.1 Pol'!BE83","v":0}]
[{"$f":"'305 3542305.1 Pol'!B84","v":"21"},{"$f":"'305 3542305.1 Pol'!C84","v":"Úprava podloží a základ.spáry"},null,null,{"$f":"'305 3542305.1 Pol'!BA90","v":0},{"$f":"'305 3542305.1 Pol'!BB90","v":0},{"$f":"'305 3542305.1 Pol'!BC90","v":0},{"$f":"'305 3542305.1 Pol'!BD90","v":0},{"$f":"'305 3542305.1 Pol'!BE90","v":0}]
[{"$f":"'305 3542305.1 Pol'!B91","v":"45"},{"$f":"'305 3542305.1 Pol'!C91","v":"Podkladní a vedlejší konstrukce"},null,null,{"$f":"'305 3542305.1 Pol'!BA97","v":0},{"$f":"'305 3542305.1 Pol'!BB97","v":0},{"$f":"'305 3542305.1 Pol'!BC97","v":0},{"$f":"'305 3542305.1 Pol'!BD97","v":0},{"$f":"'305 3542305.1 Pol'!BE97","v":0}]
[{"$f":"'305 3542305.1 Pol'!B98","v":"5"},{"$f":"'305 3542305.1 Pol'!C98","v":"Komunikace"},null,null,{"$f":"'305 3542305.1 Pol'!BA104","v":0},{"$f":"'305 3542305.1 Pol'!BB104","v":0},{"$f":"'305 3542305.1 Pol'!BC104","v":0},{"$f":"'305 3542305.1 Pol'!BD104","v":0},{"$f":"'305 3542305.1 Pol'!BE104","v":0}]
[{"$f":"'305 3542305.1 Pol'!B105","v":"8"},{"$f":"'305 3542305.1 Pol'!C105","v":"Trubní vedení"},null,null,{"$f":"'305 3542305.1 Pol'!BA258","v":0},{"$f":"'305 3542305.1 Pol'!BB258","v":0},{"$f":"'305 3542305.1 Pol'!BC258","v":0},{"$f":"'305 3542305.1 Pol'!BD258","v":0},{"$f":"'305 3542305.1 Pol'!BE258","v":0}]
[{"$f":"'305 3542305.1 Pol'!B259","v":"89"},{"$f":"'305 3542305.1 Pol'!C259","v":"Ostatní konstrukce na trubním vedení"},null,null,{"$f":"'305 3542305.1 Pol'!BA286","v":0},{"$f":"'305 3542305.1 Pol'!BB286","v":0},{"$f":"'305 3542305.1 Pol'!BC286","v":0},{"$f":"'305 3542305.1 Pol'!BD286","v":0},{"$f":"'305 3542305.1 Pol'!BE286","v":0}]
[{"$f":"'305 3542305.1 Pol'!B287","v":"93"},{"$f":"'305 3542305.1 Pol'!C287","v":"Dokončovací práce inženýrských staveb"},null,null,{"$f":"'305 3542305.1 Pol'!BA342","v":0},{"$f":"'305 3542305.1 Pol'!BB342","v":0},{"$f":"'305 3542305.1 Pol'!BC342","v":0},{"$f":"'305 3542305.1 Pol'!BD342","v":0},{"$f":"'305 3542305.1 Pol'!BE342","v":0}]
[{"$f":"'305 3542305.1 Pol'!B343","v":"99"},{"$f":"'305 3542305.1 Pol'!C343","v":"Staveništní přesun hmot"},null,null,{"$f":"'305 3542305.1 Pol'!BA346","v":0},{"$f":"'305 3542305.1 Pol'!BB346","v":0},{"$f":"'305 3542305.1 Pol'!BC346","v":0},{"$f":"'305 3542305.1 Pol'!BD346","v":0},{"$f":"'305 3542305.1 Pol'!BE346","v":0}]
[null,"CELKEM  OBJEKT",null,null,{"$f":"SUM(E7:E14)","v":0},{"$f":"SUM(F7:F14)","v":0},{"$f":"SUM(G7:G14)","v":0},{"$f":"SUM(H7:H14)","v":0},{"$f":"SUM(I7:I14)","v":0}]

{"sheet":"305 3542305.1 Pol","index":49,"n_rows":346,"n_cols":80,"rows_kept":346,"cut":false,"hidden":false,"merged":[[338,2,338,6],[339,2,339,3],[340,2,340,3],[344,2,344,6],[331,2,331,3],[332,2,332,3],[334,2,334,6],[335,2,335,6],[336,2,336,6],[337,2,337,6],[324,2,324,3],[326,2,326,6],[327,2,327,6],[328,2,328,6],[329,2,329,6],[330,2,330,6],[318,2,318,6],[319,2,319,6],[320,2,320,6],[321,2,321,6],[322,2,322,6],[323,2,323,3],[311,2,311,6],[312,2,312,6],[313,2,313,6],[314,2,314,6],[315,2,315,3],[316,2,316,3],[305,2,305,6],[306,2,306,6],[307,2,307,6],[308,2,308,6],[309,2,309,6],[310,2,310,6],[298,2,298,3],[299,2,299,3],[300,2,300,3],[302,2,302,6],[303,2,303,6],[304,2,304,6],[292,2,292,6],[293,2,293,6],[294,2,294,6],[295,2,295,6],[296,2,296,6],[297,2,297,6],[281,2,281,6],[282,2,282,3],[283,2,283,3],[284,2,284,3],[288,2,288,6],[289,2,289,6],[290,2,290,6],[291,2,291,6],[275,2,275,6],[276,2,276,6],[277,2,277,6],[278,2,278,6],[279,2,279,6],[280,2,280,6],[268,2,268,6],[269,2,269,3],[270,2,270,3],[271,2,271,3],[273,2,273,6],[274,2,274,6],[260,2,260,6],[261,2,261,6],[262,2,262,6],[263,2,263,6],[264,2,264,6],[265,2,265,6],[266,2,266,6],[267,2,267,6],[249,2,249,3],[250,2,250,3],[252,2,252,3],[253,2,253,3],[255,2,255,3],[256,2,256,3],[240,2,240,3],[241,2,241,3],[243,2,243,3],[244,2,244,3],[246,2,246,3],[247,2,247,3],[234,2,234,6],[235,2,235,6],[236,2,236,6],[237,2,237,6],[238,2,238,6],[239,2,239,6],[225,2,225,3],[227,2,227,3],[228,2,228,3],[230,2,230,3],[231,2,231,3],[232,2,232,3],[218,2,218,6],[219,2,219,6],[220,2,220,3],[221,2,221,3],[223,2,223,6],[224,2,224,3],[209,2,209,3],[211,2,211,3],[212,2,212,3],[214,2,214,3],[215,2,215,3],[217,2,217,6],[200,2,200,3],[202,2,202,3],[203,2,203,3],[205,2,205,3],[206,2,206,3],[208,2,208,3],[195,2,195,3],[196,2,196,3],[197,2,197,3],[199,2,199,3],[187,2,187,3],[188,2,188,3],[190,2,190,3],[191,2,191,3],[193,2,193,6],[194,2,194,6],[180,2,180,3],[181,2,181,3],[182,2,182,3],[183,2,183,3],[184,2,184,3],[185,2,185,3],[173,2,173,3],[174,2,174,3],[175,2,175,3],[177,2,177,6],[178,2,178,3],[179,2,179,3],[165,2,165,6],[166,2,166,3],[167,2,167,3],[168,2,168,3],[170,2,170,3],[171,2,171,3],[157,2,157,3],[158,2,158,3],[160,2,160,6],[161,2,161,3],[162,2,162,3],[163,2,163,3],[149,2,149,3],[150,2,150,3],[152,2,152,6],[153,2,153,6],[154,2,154,3],[155,2,155,3],[142,2,142,6],[143,2,143,6],[144,2,144,3],[145,2,145,3],[147,2,147,6],[148,2,148,6],[134,2,134,3],[136,2,136,3],[137,2,137,3],[138,2,138,3],[139,2,139,3],[140,2,140,3],[127,2,127,6],[128,2,128,3],[129,2,129,3],[131,2,131,6],[132,2,132,3],[133,2,133,3],[120,2,120,3],[121,2,121,3],[122,2,122,3],[123,2,123,3],[124,2,124,3],[126,2,126,6],[99,2,99,3],[100,2,100,3],[101,2,101,3],[102,2,102,3],[115,2,115,3],[116,2,116,3],[118,2,118,6],[119,2,119,6],[92,2,92,3],[93,2,93,3],[94,2,94,3],[106,2,106,6],[107,2,107,6],[108,2,108,6],[109,2,109,6],[110,2,110,6],[111,2,111,6],[112,2,112,6],[113,2,113,6],[114,2,114,6],[77,2,77,3],[78,2,78,3],[80,2,80,3],[81,2,81,3],[85,2,85,3],[86,2,86,3],[87,2,87,3],[88,2,88,3],[69,2,69,3],[70,2,70,3],[72,2,72,3],[73,2,73,3],[74,2,74,3],[76,2,76,3],[62,2,62,3],[63,2,63,3],[64,2,64,3],[65,2,65,3],[66,2,66,3],[68,2,68,3],[56,2,56,6],[57,2,57,6],[58,2,58,3],[59,2,59,3],[60,2,60,3],[61,2,61,3],[48,2,48,3],[49,2,49,3],[50,2,50,3],[52,2,52,3],[53,2,53,3],[54,2,54,3],[41,2,41,3],[42,2,42,3],[43,2,43,3],[44,2,44,3],[46,2,46,3],[47,2,47,3],[33,2,33,3],[34,2,34,3],[36,2,36,3],[37,2,37,3],[38,2,38,3],[40,2,40,3],[25,2,25,3],[27,2,27,3],[28,2,28,3],[29,2,29,3],[31,2,31,6],[32,2,32,3],[20,2,20,3],[21,2,21,3],[22,2,22,3],[23,2,23,3],[24,2,24,3],[12,2,12,3],[14,2,14,6],[15,2,15,3],[16,2,16,3],[17,2,17,3],[18,2,18,3],[0,0,0,6],[2,0,2,1],[3,0,3,1],[3,4,3,6],[8,2,8,6],[9,2,9,6],[10,2,10,3],[11,2,11,3],[19,2,19,3]]}
["Položkový rozpočet "]
[]
["Stavba :",null,"3542 Semily - Obnova VH infrastruktury a komunikací",null,"Rozpočet:",{"$f":"'305 3542305.1 Rek'!H1","v":"3542/305.1"}]
["Objekt :",null,"305 Oprava vodovodního řadu V ul. Větrná",null,{"$f":"'305 3542305.1 Rek'!G2","v":"Oprava vodovodního řadu V"}]
[]
["P.č.","Číslo položky","Název položky","MJ","množství","cena / MJ","celkem (Kč)","Jednotková hmotnost","Celková hmotnost","Jednotková dem.hmot.","Celková dem.hmot."]
["Díl:","1","Zemní práce",null,null,null,null,null,null,null,null,null,null,null,1]
[1,"130001101RRX","Příplatek za ztížené hloubení v blízkosti vedení ","m3",56.453099999999999,null,{"$f":"E8*F8","v":0},0,{"$f":"E8*H8","v":0},0,{"$f":"E8*J8","v":0},null,null,null,2,null,null,null,null,null,null,null,null,null,null,null,1,1,1,null,null,null,null,null,null,null,null,null,null,null,null,null,null,null,null,null,null,null,null,null,null,1,{"$f":"IF(AZ8=1,G8,0)","v":0},{"$f":"IF(AZ8=2,G8,0)","v":0},{"$f":"IF(AZ8=3,G8,0)","v":0},{"$f":"IF(AZ8=4,G8,0)","v":0},{"$f":"IF(AZ8=5,G8,0)","v":0},null,null,null,null,null,null,null,null,null,null,null,null,null,null,null,null,null,null,null,null,null,1,1]
[null,null,"Včetně případných nutných dokopávek a ručního výkopu podél sousedících inženýrských sítí.",null,null,null,null,null,null,null,null,"Včetně případných nutných dokopávek a ručního výkopu podél sousedících inženýrských sítí.",null,null,3]
[null,null,"Součástí položky je i dočasné zajištění stávajících inženýrských sítí v prostoru výkopů (potrubí, kabely a pod.)",null,null,null,null,null,null,null,null,"Součástí položky je i dočasné zajištění stávajících inženýrských sítí v prostoru výkopů (potrubí, kabely a pod.)",null,null,3]
[null,null,"Vodovodní řady \"V\" PE D 90x8,2 mm:",null,0,null,null,null,null,null,null,null,"Vodovodní řady \"V\" PE D 90x8,2 mm:"]
[null,null,"Výkopy :",null,0,null,null,null,null,null,null,null,"Výkopy :"]
[null,null,"V hornině tř. 3 - 4 - 32%:176,4160*0,32",null,56.453099999999999,null,null,null,null,null,null,null,"V hornině tř. 3 - 4 - 32%:176,4160*0,32"]
[2,"132201212R00","Hloubení rýh š.do 200 cm hor.3 do 1000m3,STROJNĚ ","m3",86.207999999999998,null,{"$f":"E14*F14","v":0},0,{"$f":"E14*H14","v":0},0,{"$f":"E14*J14","v":0},null,null,null,2,null,null,null,null,null,null,null,null,null,null,null,1,1,1,null,null,null,null,null,null,null,null,null,null,null,null,null,null,null,null,null,null,null,null,null,null,1,{"$f":"IF(AZ14=1,G14,0)","v":0},{"$f":"IF(AZ14=2,G14,0)","v":0},{"$f":"IF(AZ14=3,G14,0)","v":0},{"$f":"IF(AZ14=4,G14,0)","v":0},{"$f":"IF(AZ14=5,G14,0)","v":0},null,null,null,null,null,null,null,null,null,null,null,null,null,null,null,null,null,null,null,null,null,1,1]
[null,null,"Položka obsahuje hloubení rýh traktorbagrem, naložení výkopku na dopravní prostředek pro svislé, nebo vodorovné přemístění, popř. přemístění výkopku do 3 m (po povrchu území), případné zajištění rypadel polštáři, udržování pracoviště a ochranu výkopiště proti stékání srážkové vody z okolního terénu i s jejím odvodněním, nebo odvedením, přesekání a odstranění kořenů ve výkopišti, odstranění napadávek, urovnání dna výkopu.",null,null,null,null,null,null,null,null,"Položka obsahuje hloubení rýh traktorbagrem, naložení výkopku na dopravní prostředek pro svislé, nebo vodorovné přemístění, popř. přemístění výkopku do 3 m (po povrchu území), případné zajištění rypadel polštáři, udržování pracoviště a ochranu výkopiště proti stékání srážkové vody z okolního terénu i s jejím odvodněním, nebo odvedením, přesekání a odstranění kořenů ve výkopišti, odstranění napadávek, urovnání dna výkopu.",null,null,3]
[null,null,"Vodovodní řady \"V\" PE D 90x8,2 mm:",null,0,null,null,null,null,null,null,null,"Vodovodní řady \"V\" PE D 90x8,2 mm:"]
[null,null,"Výkopy :",null,0,null,null,null,null,null,null,null,"Výkopy :"]
[null,null,"Začátek provozního součtu",null,0,null,null,null,null,null,null,null,"Začátek provozního součtu"]
[null,null,"Průměrná hloubka výkopů od nivelety stávající komunikace 1,60 m:",null,0,null,null,null,null,null,null,null,"Průměrná hloubka výkopů od nivelety stávající komunikace 1,60 m:"]
[null,null,"Řad \"V\":170,00*0,80*1,60",null,217.6,null,null,null,null,null,null,null,"Řad \"V\":170,00*0,80*1,60"]
[null,null,"Řad \"P\":9,00*0,80*1,68",null,12.096,null,null,null,null,null,null,null,"Řad \"P\":9,00*0,80*1,68"]
[null,null,"Odpočet objemu konstrukce komunikace a chodníků:",null,0,null,null,null,null,null,null,null,"Odpočet objemu konstrukce komunikace a chodníků:"]
[null,null,"Řad \"V\":-170,00*0,80*0,40",null,-54.4,null,null,null,null,null,null,null,"Řad \"V\":-170,00*0,80*0,40"]
[null,null,"Řad \"P\":-9,00*0,80*0,40",null,-2.88,null,null,null,null,null,null,null,"Řad \"P\":-9,00*0,80*0,40"]
[null,null,"Konec provozního součtu",null,172.416,null,null,null,null,null,null,null,"Konec provozního součtu"]
[null,null,"V hornině tř. 3 - 50%:172,4160*0,5",null,86.207999999999998,null,null,null,null,null,null,null,"V hornině tř. 3 - 50%:172,4160*0,5"]
[3,"132201219R00","Přípl.za lepivost,hloubení rýh 200cm,hor.3,STROJNĚ ","m3",44.103999999999999,null,{"$f":"E27*F27","v":0},0,{"$f":"E27*H27","v":0},0,{"$f":"E27*J27","v":0},null,null,null,2,null,null,null,null,null,null,null,null,null,null,null,1,1,1,null,null,null,null,null,null,null,null,null,null,null,null,null,null,null,null,null,null,null,null,null,null,1,{"$f":"IF(AZ27=1,G27,0)","v":0},{"$f":"IF(AZ27=2,G27,0)","v":0},{"$f":"IF(AZ27=3,G27,0)","v":0},{"$f":"IF(AZ27=4,G27,0)","v":0},{"$f":"IF(AZ27=5,G27,0)","v":0},null,null,null,null,null,null,null,null,null,null,null,null,null,null,null,null,null,null,null,null,null,1,1]
[null,null,"Vodovodní řady \"V\" PE D 90x8,2 mm:",null,0,null,null,null,null,null,null,null,"Vodovodní řady \"V\" PE D 90x8,2 mm:"]
[null,null,"Výkopy :",null,0,null,null,null,null,null,null,null,"Výkopy :"]
[null,null,"V hornině tř. 3 - 50%:176,4160*0,5*0,5",null,44.103999999999999,null,null,null,null,null,null,null,"V hornině tř. 3 - 50%:176,4160*0,5*0,5"]
[4,"132301212R00","Hloubení rýh š.do 200 cm hor.4 do 1000 m3, STROJNĚ ","m3",88.207999999999998,null,{"$f":"E31*F31","v":0},0,{"$f":"E31*H31","v":0},0,{"$f":"E31*J31","v":0},null,null,null,2,null,null,null,null,null,null,null,null,null,null,null,1,1,1,null,null,null,null,null,null,null,null,null,null,null,null,null,null,null,null,null,null,null,null,null,null,1,{"$f":"IF(AZ31=1,G31,0)","v":0},{"$f":"IF(AZ31=2,G31,0)","v":0},{"$f":"IF(AZ31=3,G31,0)","v":0},{"$f":"IF(AZ31=4,G31,0)","v":0},{"$f":"IF(AZ31=5,G31,0)","v":0},null,null,null,null,null,null,null,null,null,null,null,null,null,null,null,null,null,null,null,null,null,1,1]
[null,null,"Položka obsahuje hloubení rýh traktorbagrem, naložení výkopku na dopravní prostředek pro svislé, nebo vodorovné přemístění, popř. přemístění výkopku do 3 m (po povrchu území), případné zajištění rypadel polštáři, udržování pracoviště a ochranu výkopiště proti stékání srážkové vody z okolního terénu i s jejím odvodněním, nebo odvedením, přesekání a odstranění kořenů ve výkopišti, odstranění napadávek, urovnání dna výkopu.",null,null,null,null,null,null,null,null,"Položka obsahuje hloubení rýh traktorbagrem, naložení výkopku na dopravní prostředek pro svislé, nebo vodorovné přemístění, popř. přemístění výkopku do 3 m (po povrchu území), případné zajištění rypadel polštáři, udržování pracoviště a ochranu výkopiště proti stékání srážkové vody z okolního terénu i s jejím odvodněním, nebo odvedením, přesekání a odstranění kořenů ve výkopišti, odstranění napadávek, urovnání dna výkopu.",null,null,3]
[null,null,"Vodovodní řady \"V\" PE D 90x8,2 mm2 mm:",null,0,null,null,null,null,null,null,null,"Vodovodní řady \"V\" PE D 90x8,2 mm2 mm:"]
[null,null,"Výkopy :",null,0,null,null,null,null,null,null,null,"Výkopy :"]
[null,null,"V hornině tř. 4 - 50%:176,4160*0,5",null,88.207999999999998,null,null,null,null,null,null,null,"V hornině tř. 4 - 50%:176,4160*0,5"]
[5,"132301219R00","Přípl.za lepivost,hloubení rýh 200cm,hor.4,STROJNĚ ","m3",44.103999999999999,null,{"$f":"E36*F36","v":0},0,{"$f":"E36*H36","v":0},0,{"$f":"E36*J36","v":0},null,null,null,2,null,null,null,null,null,null,null,null,null,null,null,1,1,1,null,null,null,null,null,null,null,null,null,null,null,null,null,null,null,null,null,null,null,null,null,null,1,{"$f":"IF(AZ36=1,G36,0)","v":0},{"$f":"IF(AZ36=2,G36,0)","v":0},{"$f":"IF(AZ36=3,G36,0)","v":0},{"$f":"IF(AZ36=4,G36,0)","v":0},{"$f":"IF(AZ36=5,G36,0)","v":0},null,null,null,null,null,null,null,null,null,null,null,null,null,null,null,null,null,null,null,null,null,1,1]
[null,null,"Vodovodní řady \"V\" PE D 90x8,2 mm:",null,0,null,null,null,null,null,null,null,"Vodovodní řady \"V\" PE D 90x8,2 mm:"]
[null,null,"Výkopy :",null,0,null,null,null,null,null,null,null,"Výkopy :"]
[null,null,"V hornině tř. 4 - 50%:176,4160*0,5*0,5",null,44.103999999999999,null,null,null,null,null,null,null,"V hornině tř. 4 - 50%:176,4160*0,5*0,5"]
[6,"151101101R00","Pažení a rozepření stěn rýh - příložné - hl.do 2 m ","m2",572.79999999999995,null,{"$f":"E40*F40","v":0},9.8999999999999999E-4,{"$f":"E40*H40","v":0.56707199999999991},0,{"$f":"E40*J40","v":0},null,null,null,2,null,null,null,null,null,null,null,null,null,null,null,1,1,1,null,null,null,null,null,null,null,null,null,null,null,null,null,null,null,null,null,null,null,null,null,null,1,{"$f":"IF(AZ40=1,G40,0)","v":0},{"$f":"IF(AZ40=2,G40,0)","v":0},{"$f":"IF(AZ40=3,G40,0)","v":0},{"$f":"IF(AZ40=4,G40,0)","v":0},{"$f":"IF(AZ40=5,G40,0)","v":0},null,null,null,null,null,null,null,null,null,null,null,null,null,null,null,null,null,null,null,null,null,1,1]
[null,null,"Vodovodní řady \"V\" PE D 90x8,2 mm:",null,0,null,null,null,null,null,null,null,"Vodovodní řady \"V\" PE D 90x8,2 mm:"]
[null,null,"Výkopy :",null,0,null,null,null,null,null,null,null,"Výkopy :"]
[null,null,"Průměrná hloubka výkopů od nivelety stávající komunikace 1,60 m:",null,0,null,null,null,null,null,null,null,"Průměrná hloubka výkopů od nivelety stávající komunikace 1,60 m:"]
[null,null,"Řad \"V\":170,00*1,60*2",null,544,null,null,null,null,null,null,null,"Řad \"V\":170,00*1,60*2"]
[null,null,"Řad \"P\":9,00*1,60*2",null,28.8,null,null,null,null,null,null,null,"Řad \"P\":9,00*1,60*2"]
[7,"151101111R00","Odstranění pažení stěn rýh - příložné - hl. do 2 m ","m2",572.79999999999995,null,{"$f":"E46*F46","v":0},0,{"$f":"E46*H46","v":0},0,{"$f":"E46*J46","v":0},null,null,null,2,null,null,null,null,null,null,null,null,null,null,null,1,1,1,null,null,null,null,null,null,null,null,null,null,null,null,null,null,null,null,null,null,null,null,null,null,1,{"$f":"IF(AZ46=1,G46,0)","v":0},{"$f":"IF(AZ46=2,G46,0)","v":0},{"$f":"IF(AZ46=3,G46,0)","v":0},{"$f":"IF(AZ46=4,G46,0)","v":0},{"$f":"IF(AZ46=5,G46,0)","v":0},null,null,null,null,null,null,null,null,null,null,null,null,null,null,null,null,null,null,null,null,null,1,1]
[null,null,"Vodovodní řady \"V\" PE D 90x8,2 mm:",null,0,null,null,null,null,null,null,null,"Vodovodní řady \"V\" PE D 90x8,2 mm:"]
[null,null,"Výkopy :",null,0,null,null,null,null,null,null,null,"Výkopy :"]
[null,null,"Průměrná hloubka výkopů od nivelety stávající komunikace 1,60 m:",null,0,null,null,null,null,null,null,null,"Průměrná hloubka výkopů od nivelety stávající komunikace 1,60 m:"]
[null,null,"Řad \"V\":170,00*1,60*2",null,544,null,null,null,null,null,null,null,"Řad \"V\":170,00*1,60*2"]
[null,null,"Řad \"P\":9,00*1,60*2",null,28.8,null,null,null,null,null,null,null,"Řad \"P\":9,00*1,60*2"]
[8,"162701105RSZ","Vodorovné přemístění výkopku z hor.1-7 na skládku zhotovitele","m3",176.416,null,{"$f":"E52*F52","v":0},0,{"$f":"E52*H52","v":0},0,{"$f":"E52*J52","v":0},null,null,null,2,null,null,null,null,null,null,null,null,null,null,null,1,1,1,null,null,null,null,null,null,null,null,null,null,null,null,null,null,null,null,null,null,null,null,null,null,1,{"$f":"IF(AZ52=1,G52,0)","v":0},{"$f":"IF(AZ52=2,G52,0)","v":0},{"$f":"IF(AZ52=3,G52,0)","v":0},{"$f":"IF(AZ52=4,G52,0)","v":0},{"$f":"IF(AZ52=5,G52,0)","v":0},null,null,null,null,null,null,null,null,null,null,null,null,null,null,null,null,null,null,null,null,null,1,1]
[null,null,"Vodovodní řady \"V\" PE D 90x8,2 mm:",null,0,null,null,null,null,null,null,null,"Vodovodní řady \"V\" PE D 90x8,2 mm:"]
[null,null,"Výkopy :",null,0,null,null,null,null,null,null,null,"Výkopy :"]
[null,null,"V hornině tř. 3 - 4:176,4160",null,176.416,null,null,null,null,null,null,null,"V hornině tř. 3 - 4:176,4160"]
[9,"174101101R00","Zásyp jam, rýh, šachet se zhutněním ","m3",99.087999999999994,null,{"$f":"E56*F56","v":0},0,{"$f":"E56*H56","v":0},0,{"$f":"E56*J56","v":0},null,null,null,2,null,null,null,null,null,null,null,null,null,null,null,1,1,1,null,null,null,null,null,null,null,null,null,null,null,null,null,null,null,null,null,null,null,null,null,null,1,{"$f":"IF(AZ56=1,G56,0)","v":0},{"$f":"IF(AZ56=2,G56,0)","v":0},{"$f":"IF(AZ56=3,G56,0)","v":0},{"$f":"IF(AZ56=4,G56,0)","v":0},{"$f":"IF(AZ56=5,G56,0)","v":0},null,null,null,null,null,null,null,null,null,null,null,null,null,null,null,null,null,null,null,null,null,1,1]
[null,null,"Položka obsahuje strojní přemístění materiálu pro zásyp ze vzdálenosti do 10 m od okraje zásypu.",null,null,null,null,null,null,null,null,"Položka obsahuje strojní přemístění materiálu pro zásyp ze vzdálenosti do 10 m od okraje zásypu.",null,null,3]
[null,null,null,null,null,null,null,null,null,null,null,null,null,null,3]
[null,null,"Vodovodní řady \"V\" PE D 90x8,2 mm:",null,0,null,null,null,null,null,null,null,"Vodovodní řady \"V\" PE D 90x8,2 mm:"]
[null,null,"Zásyp ŠD fr. 0-63 mm:99,0880",null,99.087999999999994,null,null,null,null,null,null,null,"Zásyp ŠD fr. 0-63 mm:99,0880"]
[null,null,"Začátek provozního součtu",null,0,null,null,null,null,null,null,null,"Začátek provozního součtu"]
[null,null,"Výkopy:176,4160",null,176.416,null,null,null,null,null,null,null,"Výkopy:176,4160"]
[null,null,"Odpočet lože, potrubí a obsypů:",null,0,null,null,null,null,null,null,null,"Odpočet lože, potrubí a obsypů:"]
[null,null,"Řad \"V\":-170,00*0,80*(0,15+0,09+0,30)",null,-73.44,null,null,null,null,null,null,null,"Řad \"V\":-170,00*0,80*(0,15+0,09+0,30)"]
[null,null,"Řad \"P\":-9,00*0,80*(0,15+0,09+0,30)",null,-3.8879999999999999,null,null,null,null,null,null,null,"Řad \"P\":-9,00*0,80*(0,15+0,09+0,30)"]
[null,null,"0",null,0,null,null,null,null,null,null,null,0]
[null,null,"Konec provozního součtu",null,99.087999999999994,null,null,null,null,null,null,null,"Konec provozního součtu"]
[10,"175101101R00","Obsyp potrubí bez prohození sypaniny ","m3",54.709299999999999,null,{"$f":"E68*F68","v":0},0,{"$f":"E68*H68","v":0},0,{"$f":"E68*J68","v":0},null,null,null,2,null,null,null,null,null,null,null,null,null,null,null,1,1,1,null,null,null,null,null,null,null,null,null,null,null,null,null,null,null,null,null,null,null,null,null,null,1,{"$f":"IF(AZ68=1,G68,0)","v":0},{"$f":"IF(AZ68=2,G68,0)","v":0},{"$f":"IF(AZ68=3,G68,0)","v":0},{"$f":"IF(AZ68=4,G68,0)","v":0},{"$f":"IF(AZ68=5,G68,0)","v":0},null,null,null,null,null,null,null,null,null,null,null,null,null,null,null,null,null,null,null,null,null,1,1]
[null,null,"Vodovodní řady \"V\" PE D 90x8,2 mm:",null,0,null,null,null,null,null,null,null,"Vodovodní řady \"V\" PE D 90x8,2 mm:"]
[null,null,"Řad \"V\":170,00*(0,80*(0,09+0,30)-0,045^2*Pi)",null,51.958500000000001,null,null,null,null,null,null,null,"Řad \"V\":170,00*(0,80*(0,09+0,30)-0,045^2*Pi)"]
[null,null,"Řad \"P\":9,00*(0,80*(0,09+0,30)-0,045^2*Pi)",null,2.7507000000000001,null,null,null,null,null,null,null,"Řad \"P\":9,00*(0,80*(0,09+0,30)-0,045^2*Pi)"]
[11,"199000002R00","Poplatek za skládku horniny 1- 7 č. dle katal. odpadů 17 05 04","m3",176.416,null,{"$f":"E72*F72","v":0},0,{"$f":"E72*H72","v":0},0,{"$f":"E72*J72","v":0},null,null,null,2,null,null,null,null,null,null,null,null,null,null,null,1,1,1,null,null,null,null,null,null,null,null,null,null,null,null,null,null,null,null,null,null,null,null,null,null,1,{"$f":"IF(AZ72=1,G72,0)","v":0},{"$f":"IF(AZ72=2,G72,0)","v":0},{"$f":"IF(AZ72=3,G72,0)","v":0},{"$f":"IF(AZ72=4,G72,0)","v":0},{"$f":"IF(AZ72=5,G72,0)","v":0},null,null,null,null,null,null,null,null,null,null,null,null,null,null,null,null,null,null,null,null,null,1,1]
[null,null,"Vodovodní řady \"V\" PE D 90x8,2 mm:",null,0,null,null,null,null,null,null,null,"Vodovodní řady \"V\" PE D 90x8,2 mm:"]
[null,null,"Výkopy :",null,0,null,null,null,null,null,null,null,"Výkopy :"]
[null,null,"V hornině tř. 3 - 4:176,4160",null,176.416,null,null,null,null,null,null,null,"V hornině tř. 3 - 4:176,4160"]
[12,"58337308.R","Štěrkopísek frakce 0-2 tř.B","t",109.02079999999999,null,{"$f":"E76*F76","v":0},1,{"$f":"E76*H76","v":109.02079999999999},null,{"$f":"E76*J76","v":0},null,null,null,2,null,null,null,null,null,null,null,null,null,null,null,3,1,"58337308.R",null,null,null,null,null,null,null,null,null,null,null,null,null,null,null,null,null,null,null,null,null,null,1,{"$f":"IF(AZ76=1,G76,0)","v":0},{"$f":"IF(AZ76=2,G76,0)","v":0},{"$f":"IF(AZ76=3,G76,0)","v":0},{"$f":"IF(AZ76=4,G76,0)","v":0},{"$f":"IF(AZ76=5,G76,0)","v":0},null,null,null,null,null,null,null,null,null,null,null,null,null,null,null,null,null,null,null,null,null,3,1]
[null,null,"Vodovodní řady \"V\" PE D 90x8,2 mm:",null,0,null,null,null,null,null,null,null,"Vodovodní řady \"V\" PE D 90x8,2 mm:"]
[null,null,"Řad \"V\":170,00*(0,80*(0,09+0,30)-0,045^2*Pi)*1,973*1,01",null,103.5393,null,null,null,null,null,null,null,"Řad \"V\":170,00*(0,80*(0,09+0,30)-0,045^2*Pi)*1,973*1,01"]
[null,null,"Řad \"P\":9,00*(0,80*(0,09+0,30)-0,045^2*Pi)*1,973*1,01",null,5.4814999999999996,null,null,null,null,null,null,null,"Řad \"P\":9,00*(0,80*(0,09+0,30)-0,045^2*Pi)*1,973*1,01"]
[13,"58344197R","Štěrkodrtě frakce 0-63 A","t",187.4477,null,{"$f":"E80*F80","v":0},1,{"$f":"E80*H80","v":187.4477},null,{"$f":"E80*J80","v":0},null,null,null,2,null,null,null,null,null,null,null,null,null,null,null,3,1,"58344197R",null,null,null,null,null,null,null,null,null,null,null,null,null,null,null,null,null,null,null,null,null,null,1,{"$f":"IF(AZ80=1,G80,0)","v":0},{"$f":"IF(AZ80=2,G80,0)","v":0},{"$f":"IF(AZ80=3,G80,0)","v":0},{"$f":"IF(AZ80=4,G80,0)","v":0},{"$f":"IF(AZ80=5,G80,0)","v":0},null,null,null,null,null,null,null,null,null,null,null,null,null,null,null,null,null,null,null,null,null,3,1]
[null,null,"Vodovodní řady \"V\" PE D 90x8,2 mm:",null,0,null,null,null,null,null,null,null,"Vodovodní řady \"V\" PE D 90x8,2 mm:"]
[null,null,"Zásyp ŠD fr. 0-63 mm:99,0880*1,873*1,01",null,187.4477,null,null,null,null,null,null,null,"Zásyp ŠD fr. 0-63 mm:99,0880*1,873*1,01"]
[null,"Celkem za","1 Zemní práce",null,null,null,{"$f":"SUM(G7:G82)","v":0},null,{"$f":"SUM(I7:I82)","v":297.035572},null,{"$f":"SUM(K7:K82)","v":0},null,null,null,4,null,null,null,null,null,null,null,null,null,null,null,null,null,null,null,null,null,null,null,null,null,null,null,null,null,null,null,null,null,null,null,null,null,null,null,null,null,{"$f":"SUM(BA7:BA82)","v":0},{"$f":"SUM(BB7:BB82)","v":0},{"$f":"SUM(BC7:BC82)","v":0},{"$f":"SUM(BD7:BD82)","v":0},{"$f":"SUM(BE7:BE82)","v":0}]
["Díl:","21","Úprava podloží a základ.spáry",null,null,null,null,null,null,null,null,null,null,null,1]
[14,"215901101RT5","Zhutnění podloží do 92% PS vibrační deskou","m2",143.19999999999999,null,{"$f":"E85*F85","v":0},0,{"$f":"E85*H85","v":0},0,{"$f":"E85*J85","v":0},null,null,null,2,null,null,null,null,null,null,null,null,null,null,null,1,1,1,null,null,null,null,null,null,null,null,null,null,null,null,null,null,null,null,null,null,null,null,null,null,1,{"$f":"IF(AZ85=1,G85,0)","v":0},{"$f":"IF(AZ85=2,G85,0)","v":0},{"$f":"IF(AZ85=3,G85,0)","v":0},{"$f":"IF(AZ85=4,G85,0)","v":0},{"$f":"IF(AZ85=5,G85,0)","v":0},null,null,null,null,null,null,null,null,null,null,null,null,null,null,null,null,null,null,null,null,null,1,1]
[null,null,"Vodovodní řady \"V\" PE D 90x8,2 mm:",null,0,null,null,null,null,null,null,null,"Vodovodní řady \"V\" PE D 90x8,2 mm:"]
[null,null,"Výkopy :",null,0,null,null,null,null,null,null,null,"Výkopy :"]
[null,null,"Řad \"V\":170,00*0,80",null,136,null,null,null,null,null,null,null,"Řad \"V\":170,00*0,80"]
[null,null,"Řad \"P\":9,00*0,80",null,7.2,null,null,null,null,null,null,null,"Řad \"P\":9,00*0,80"]
[null,"Celkem za","21 Úprava podloží a základ.spáry",null,null,null,{"$f":"SUM(G84:G89)","v":0},null,{"$f":"SUM(I84:I89)","v":0},null,{"$f":"SUM(K84:K89)","v":0},null,null,null,4,null,null,null,null,null,null,null,null,null,null,null,null,null,null,null,null,null,null,null,null,null,null,null,null,null,null,null,null,null,null,null,null,null,null,null,null,null,{"$f":"SUM(BA84:BA89)","v":0},{"$f":"SUM(BB84:BB89)","v":0},{"$f":"SUM(BC84:BC89)","v":0},{"$f":"SUM(BD84:BD89)","v":0},{"$f":"SUM(BE84:BE89)","v":0}]
["Díl:","45","Podkladní a vedlejší konstrukce",null,null,null,null,null,null,null,null,null,null,null,1]
[15,"451572111R00","Lože pod potrubí z kameniva těženého 0 - 4 mm ","m3",21.48,null,{"$f":"E92*F92","v":0},0.43051,{"$f":"E92*H92","v":9.2473548000000001},0,{"$f":"E92*J92","v":0},null,null,null,2,null,null,null,null,null,null,null,null,null,null,null,1,1,1,null,null,null,null,null,null,null,null,null,null,null,null,null,null,null,null,null,null,null,null,null,null,1,{"$f":"IF(AZ92=1,G92,0)","v":0},{"$f":"IF(AZ92=2,G92,0)","v":0},{"$f":"IF(AZ92=3,G92,0)","v":0},{"$f":"IF(AZ92=4,G92,0)","v":0},{"$f":"IF(AZ92=5,G92,0)","v":0},null,null,null,null,null,null,null,null,null,null,null,null,null,null,null,null,null,null,null,null,null,1,1]
[null,null,"Vodovodní řady \"V\" PE D 90x8,2 mm:",null,0,null,null,null,null,null,null,null,"Vodovodní řady \"V\" PE D 90x8,2 mm:"]
[null,null,"Řad \"V\":170,00*0,80*0,15",null,20.399999999999999,null,null,null,null,null,null,null,"Řad \"V\":170,00*0,80*0,15"]
[null,null,"Řad \"P\":9,00*0,80*0,15",null,1.08,null,null,null,null,null,null,null,"Řad \"P\":9,00*0,80*0,15"]
[16,"452313141R00","Bloky pro potrubí z betonu C 16/20 vč. bednění ","m3",0.29499999999999998,null,{"$f":"E96*F96","v":0},2.5,{"$f":"E96*H96","v":0.73749999999999993},0,{"$f":"E96*J96","v":0},null,null,null,2,null,null,null,null,null,null,null,null,null,null,null,1,1,1,null,null,null,null,null,null,null,null,null,null,null,null,null,null,null,null,null,null,null,null,null,null,1,{"$f":"IF(AZ96=1,G96,0)","v":0},{"$f":"IF(AZ96=2,G96,0)","v":0},{"$f":"IF(AZ96=3,G96,0)","v":0},{"$f":"IF(AZ96=4,G96,0)","v":0},{"$f":"IF(AZ96=5,G96,0)","v":0},null,null,null,null,null,null,null,null,null,null,null,null,null,null,null,null,null,null,null,null,null,1,1]
[null,"Celkem za","45 Podkladní a vedlejší konstrukce",null,null,null,{"$f":"SUM(G91:G96)","v":0},null,{"$f":"SUM(I91:I96)","v":9.9848548000000008},null,{"$f":"SUM(K91:K96)","v":0},null,null,null,4,null,null,null,null,null,null,null,null,null,null,null,null,null,null,null,null,null,null,null,null,null,null,null,null,null,null,null,null,null,null,null,null,null,null,null,null,null,{"$f":"SUM(BA91:BA96)","v":0},{"$f":"SUM(BB91:BB96)","v":0},{"$f":"SUM(BC91:BC96)","v":0},{"$f":"SUM(BD91:BD96)","v":0},{"$f":"SUM(BE91:BE96)","v":0}]
["Díl:","5","Komunikace",null,null,null,null,null,null,null,null,null,null,null,1]
[17,"572701119RRX","Provizorní zásyp rýh kam. hrubě drceným nebo recyk s následným odstraněním a odvozem","m3",57.28,null,{"$f":"E99*F99","v":0},1.4804999999999999,{"$f":"E99*H99","v":84.803039999999996},0,{"$f":"E99*J99","v":0},null,null,null,2,null,null,null,null,null,null,null,null,null,null,null,1,1,1,null,null,null,null,null,null,null,null,null,null,null,null,null,null,null,null,null,null,null,null,null,null,1,{"$f":"IF(AZ99=1,G99,0)","v":0},{"$f":"IF(AZ99=2,G99,0)","v":0},{"$f":"IF(AZ99=3,G99,0)","v":0},{"$f":"IF(AZ99=4,G99,0)","v":0},{"$f":"IF(AZ99=5,G99,0)","v":0},null,null,null,null,null,null,null,null,null,null,null,null,null,null,null,null,null,null,null,null,null,1,1]
[null,null,"Vodovodní řady \"V\" PE D 90x8,2 mm:",null,0,null,null,null,null,null,null,null,"Vodovodní řady \"V\" PE D 90x8,2 mm:"]
[null,null,"Provizorní zásypy stávající konstrukce komunikace a chodníků:",null,0,null,null,null,null,null,null,null,"Provizorní zásypy stávající konstrukce komunikace a chodníků:"]
[null,null,"Řad \"V\":170,00*0,80*0,40",null,54.4,null,null,null,null,null,null,null,"Řad \"V\":170,00*0,80*0,40"]
[null,null,"Řad \"P\":9,00*0,80*0,40",null,2.88,null,null,null,null,null,null,null,"Řad \"P\":9,00*0,80*0,40"]
[null,"Celkem za","5 Komunikace",null,null,null,{"$f":"SUM(G98:G103)","v":0},null,{"$f":"SUM(I98:I103)","v":84.803039999999996},null,{"$f":"SUM(K98:K103)","v":0},null,null,null,4,null,null,null,null,null,null,null,null,null,null,null,null,null,null,null,null,null,null,null,null,null,null,null,null,null,null,null,null,null,null,null,null,null,null,null,null,null,{"$f":"SUM(BA98:BA103)","v":0},{"$f":"SUM(BB98:BB103)","v":0},{"$f":"SUM(BC98:BC103)","v":0},{"$f":"SUM(BD98:BD103)","v":0},{"$f":"SUM(BE98:BE103)","v":0}]
["Díl:","8","Trubní vedení",null,null,null,null,null,null,null,null,null,null,null,1]
[18,"850245121R00","Výřez nebo výsek na potrubí DN 80 ","kus",3,null,{"$f":"E106*F106","v":0},0,{"$f":"E106*H106","v":0},0,{"$f":"E106*J106","v":0},null,null,null,2,null,null,null,null,null,null,null,null,null,null,null,1,1,1,null,null,null,null,null,null,null,null,null,null,null,null,null,null,null,null,null,null,null,null,null,null,1,{"$f":"IF(AZ106=1,G106,0)","v":0},{"$f":"IF(AZ106=2,G106,0)","v":0},{"$f":"IF(AZ106=3,G106,0)","v":0},{"$f":"IF(AZ106=4,G106,0)","v":0},{"$f":"IF(AZ106=5,G106,0)","v":0},null,null,null,null,null,null,null,null,null,null,null,null,null,null,null,null,null,null,null,null,null,1,1]
[null,null,"Položky výřezu nebo výseku na potrubí z trub litinových tlakových jsou určeny pro dva řezy nebo seky prováděné na potrubí dodatečně. V položkách jsou zakalkulovány náklady na",null,null,null,null,null,null,null,null,"Položky výřezu nebo výseku na potrubí z trub litinových tlakových jsou určeny pro dva řezy nebo seky prováděné na potrubí dodatečně. V položkách jsou zakalkulovány náklady na",null,null,3]
[null,null,"- ohlášení uzavírání vody",null,null,null,null,null,null,null,null,"- ohlášení uzavírání vody",null,null,3]
[null,null,"- uzavření a otevření šoupat",null,null,null,null,null,null,null,null,"- uzavření a otevření šoupat",null,null,3]
[null,null,"- vypuštění a napuštění vody",null,null,null,null,null,null,null,null,"- vypuštění a napuštění vody",null,null,3]
[null,null,"- odvzdušnění potrubí",null,null,null,null,null,null,null,null,"- odvzdušnění potrubí",null,null,3]
[null,null,"- strojní nebo ruční výřez potrubí",null,null,null,null,null,null,null,null,"- strojní nebo ruční výřez potrubí",null,null,3]
[null,null,"- nutné úpravy výkopu v prostoru provádění",null,null,null,null,null,null,null,null,"- nutné úpravy výkopu v prostoru provádění",null,null,3]
[null,null,"- demonzáž stávajícich tvarovek a armatur",null,null,null,null,null,null,null,null,"- demonzáž stávajícich tvarovek a armatur",null,null,3]
[null,null,"- montáž tvarovky",null,null,null,null,null,null,null,null,"- montáž tvarovky",null,null,3]
[null,null,"Vodovodní řady \"V\" PE D 90x8,2 mm:",null,0,null,null,null,null,null,null,null,"Vodovodní řady \"V\" PE D 90x8,2 mm:"]
[null,null,"Přerušení stáv. potrubí DN80:3",null,3,null,null,null,null,null,null,null,"Přerušení stáv. potrubí DN80:3"]
[19,"857242121R00","Montáž tvarovek litin. jednoos.přír. výkop DN 80 včetně nerezových spoj. prvků a obandážování spoje","kus",12,null,{"$f":"E118*F118","v":0},2.2000000000000001E-4,{"$f":"E118*H118","v":2.64E-3},0,{"$f":"E118*J118","v":0},null,null,null,2,null,null,null,null,null,null,null,null,null,null,null,1,1,1,null,null,null,null,null,null,null,null,null,null,null,null,null,null,null,null,null,null,null,null,null,null,1,{"$f":"IF(AZ118=1,G118,0)","v":0},{"$f":"IF(AZ118=2,G118,0)","v":0},{"$f":"IF(AZ118=3,G118,0)","v":0},{"$f":"IF(AZ118=4,G118,0)","v":0},{"$f":"IF(AZ118=5,G118,0)","v":0},null,null,null,null,null,null,null,null,null,null,null,null,null,null,null,null,null,null,null,null,null,1,1]
[null,null,"Položka je určena pro montáž litinových tvarovek na potrubí litinovém tlakovém přírubovém jednoosých v otevřeném výkopu, v otevřeném kanálu nebo v šachtě.",null,null,null,null,null,null,null,null,"Položka je určena pro montáž litinových tvarovek na potrubí litinovém tlakovém přírubovém jednoosých v otevřeném výkopu, v otevřeném kanálu nebo v šachtě.",null,null,3]
[null,null,"Součástí položky je i dodávka nerezových spojovacích prvků (šrouby, podložky, matky) a kompletního obandážování spojů. ",null,null,null,null,null,null,null,null,"Součástí položky je i dodávka nerezových spojovacích prvků (šrouby, podložky, matky) a kompletního obandážování spojů. ",null,null,3]
[null,null,"Vodovodní řady \"V\" PE D 90x8,2 mm:",null,0,null,null,null,null,null,null,null,"Vodovodní řady \"V\" PE D 90x8,2 mm:"]
[null,null,"Synoflex spojka DN80:2",null,2,null,null,null,null,null,null,null,"Synoflex spojka DN80:2"]
[null,null,"LN + TP D90/DN80:7",null,7,null,null,null,null,null,null,null,"LN + TP D90/DN80:7"]
[null,null,"PPL DN80:2",null,2,null,null,null,null,null,null,null,"PPL DN80:2"]
[null,null,"Q DN80/90°:1",null,1,null,null,null,null,null,null,null,"Q DN80/90°:1"]
[20,"857244121R00","Montáž tvarovek litin. odboč. přír. výkop DN 80 včetně nerezových spoj. prvků a obandážování spoje","kus",3,null,{"$f":"E126*F126","v":0},3.2000000000000003E-4,{"$f":"E126*H126","v":9.6000000000000013E-4},0,{"$f":"E126*J126","v":0},null,null,null,2,null,null,null,null,null,null,null,null,null,null,null,1,1,1,null,null,null,null,null,null,null,null,null,null,null,null,null,null,null,null,null,null,null,null,null,null,1,{"$f":"IF(AZ126=1,G126,0)","v":0},{"$f":"IF(AZ126=2,G126,0)","v":0},{"$f":"IF(AZ126=3,G126,0)","v":0},{"$f":"IF(AZ126=4,G126,0)","v":0},{"$f":"IF(AZ126=5,G126,0)","v":0},null,null,null,null,null,null,null,null,null,null,null,null,null,null,null,null,null,null,null,null,null,1,1]
[null,null,"Položka je určena pro montáž litinových tvarovek na potrubí litinovém tlakovém přírubovém, odbočných, v otevřeném výkopu, v otevřeném kanálu nebo v šachtě.",null,null,null,null,null,null,null,null,"Položka je určena pro montáž litinových tvarovek na potrubí litinovém tlakovém přírubovém, odbočných, v otevřeném výkopu, v otevřeném kanálu nebo v šachtě.",null,null,3]
[null,null,"Součástí položky je i dodávka nerezových spojovacích prvků (šrouby, podložky, matky) a kompletního obandážování spojů. ",null,null,null,null,null,null,null,null,"Součástí položky je i dodávka nerezových spojovacích prvků (šrouby, podložky, matky) a kompletního obandážování spojů. ",null,null,3]
[null,null,"Vodovodní řady \"V\" PE D 90x8,2 mm:",null,0,null,null,null,null,null,null,null,"Vodovodní řady \"V\" PE D 90x8,2 mm:"]
[null,null,"T DN80/80:3",null,3,null,null,null,null,null,null,null,"T DN80/80:3"]
[21,"871241121R00","Montáž potrubí polyetylenového ve výkopu d 90 mm ","m",179,null,{"$f":"E131*F131","v":0},0,{"$f":"E131*H131","v":0},0,{"$f":"E131*J131","v":0},null,null,null,2,null,null,null,null,null,null,null,null,null,null,null,1,1,1,null,null,null,null,null,null,null,null,null,null,null,null,null,null,null,null,null,null,null,null,null,null,1,{"$f":"IF(AZ131=1,G131,0)","v":0},{"$f":"IF(AZ131=2,G131,0)","v":0},{"$f":"IF(AZ131=3,G131,0)","v":0},{"$f":"IF(AZ131=4,G131,0)","v":0},{"$f":"IF(AZ131=5,G131,0)","v":0},null,null,null,null,null,null,null,null,null,null,null,null,null,null,null,null,null,null,null,null,null,1,1]
[null,null,"V položce je uvažováno s jedním spojem na 6 m potrubí. ",null,null,null,null,null,null,null,null,"V položce je uvažováno s jedním spojem na 6 m potrubí. ",null,null,3]
[null,null,"Vodovodní řady \"V\" PE D 90x8,2 mm:",null,0,null,null,null,null,null,null,null,"Vodovodní řady \"V\" PE D 90x8,2 mm:"]
[null,null,"Řad \"V\":170,00",null,170,null,null,null,null,null,null,null,"Řad \"V\":170,00"]
[null,null,"Řad \"P\":9,00",null,9,null,null,null,null,null,null,null,"Řad \"P\":9,00"]
[22,"877242121R00","Přirážka za 1 spoj elektrotvarovky d 90 mm ","kus",41,null,{"$f":"E136*F136","v":0},0,{"$f":"E136*H136","v":0},0,{"$f":"E136*J136","v":0},null,null,null,2,null,null,null,null,null,null,null,null,null,null,null,1,1,1,null,null,null,null,null,null,null,null,null,null,null,null,null,null,null,null,null,null,null,null,null,null,1,{"$f":"IF(AZ136=1,G136,0)","v":0},{"$f":"IF(AZ136=2,G136,0)","v":0},{"$f":"IF(AZ136=3,G136,0)","v":0},{"$f":"IF(AZ136=4,G136,0)","v":0},{"$f":"IF(AZ136=5,G136,0)","v":0},null,null,null,null,null,null,null,null,null,null,null,null,null,null,null,null,null,null,null,null,null,1,1]
[null,null,"Vodovodní řady \"V\" PE D 90x8,2 mm:",null,0,null,null,null,null,null,null,null,"Vodovodní řady \"V\" PE D 90x8,2 mm:"]
[null,null,"Elektrospojka PE D90:35",null,35,null,null,null,null,null,null,null,"Elektrospojka PE D90:35"]
[null,null,"Oblouk PE D90/30°:4",null,4,null,null,null,null,null,null,null,"Oblouk PE D90/30°:4"]
[null,null,"Oblouk PE D90/22°:1",null,1,null,null,null,null,null,null,null,"Oblouk PE D90/22°:1"]
[null,null,"Oblouk PE D90/11°:1",null,1,null,null,null,null,null,null,null,"Oblouk PE D90/11°:1"]
[23,"891241111R00","Montáž vodovodních šoupátek ve výkopu DN 80 včetně nerezových spoj. prvků a obandážování spoje","kus",7,null,{"$f":"E142*F142","v":0},2.2000000000000001E-4,{"$f":"E142*H142","v":1.5400000000000001E-3},0,{"$f":"E142*J142","v":0},null,null,null,2,null,null,null,null,null,null,null,null,null,null,null,1,1,1,null,null,null,null,null,null,null,null,null,null,null,null,null,null,null,null,null,null,null,null,null,null,1,{"$f":"IF(AZ142=1,G142,0)","v":0},{"$f":"IF(AZ142=2,G142,0)","v":0},{"$f":"IF(AZ142=3,G142,0)","v":0},{"$f":"IF(AZ142=4,G142,0)","v":0},{"$f":"IF(AZ142=5,G142,0)","v":0},null,null,null,null,null,null,null,null,null,null,null,null,null,null,null,null,null,null,null,null,null,1,1]
[null,null,"Položka je určena pro montáž vodovodních šoupátek v otevřeném výkopu nebo v šachtách s osazením zemní soupravy (bez poklopů). V položce jsou zakalkulovány i náklady na vytvoření otvorů ve stropech šachet pro prostup zemních souprav šoupátek.",null,null,null,null,null,null,null,null,"Položka je určena pro montáž vodovodních šoupátek v otevřeném výkopu nebo v šachtách s osazením zemní soupravy (bez poklopů). V položce jsou zakalkulovány i náklady na vytvoření otvorů ve stropech šachet pro prostup zemních souprav šoupátek.",null,null,3]
[null,null,"Součástí položky je i dodávka nerezových spojovacích prvků (šrouby, podložky, matky) a kompletního obandážování spojů. ",null,null,null,null,null,null,null,null,"Součástí položky je i dodávka nerezových spojovacích prvků (šrouby, podložky, matky) a kompletního obandážování spojů. ",null,null,3]
[null,null,"Vodovodní řady \"V\" PE D 90x8,2 mm:",null,0,null,null,null,null,null,null,null,"Vodovodní řady \"V\" PE D 90x8,2 mm:"]
[null,null,"Šoupě DN80:7",null,7,null,null,null,null,null,null,null,"Šoupě DN80:7"]
[24,"891243321R00","Montáž ventilů odvzdušňovacích přírub. DN 80 včetně nerezových spoj. prvků a obandážování spoje","kus",1,null,{"$f":"E147*F147","v":0},7.9000000000000001E-4,{"$f":"E147*H147","v":7.9000000000000001E-4},0,{"$f":"E147*J147","v":0},null,null,null,2,null,null,null,null,null,null,null,null,null,null,null,1,1,1,null,null,null,null,null,null,null,null,null,null,null,null,null,null,null,null,null,null,null,null,null,null,1,{"$f":"IF(AZ147=1,G147,0)","v":0},{"$f":"IF(AZ147=2,G147,0)","v":0},{"$f":"IF(AZ147=3,G147,0)","v":0},{"$f":"IF(AZ147=4,G147,0)","v":0},{"$f":"IF(AZ147=5,G147,0)","v":0},null,null,null,null,null,null,null,null,null,null,null,null,null,null,null,null,null,null,null,null,null,1,1]
[null,null,"Položka je určena pro montáž ventilů odvzdušňovacích nebo zavzdušňovacích mechanických a plovákových přírubových na venkovních řadech.",null,null,null,null,null,null,null,null,"Položka je určena pro montáž ventilů odvzdušňovacích nebo zavzdušňovacích mechanických a plovákových přírubových na venkovních řadech.",null,null,3]
[null,null,"Součástí položky je i dodávka nerezových spojovacích prvků (šrouby, podložky, matky) a kompletního obandážování spojů. ",null,null,null,null,null,null,null,null,"Součástí položky je i dodávka nerezových spojovacích prvků (šrouby, podložky, matky) a kompletního obandážování spojů. ",null,null,3]
[null,null,"Vodovodní řady \"V\" PE D 90x8,2 mm:",null,0,null,null,null,null,null,null,null,"Vodovodní řady \"V\" PE D 90x8,2 mm:"]
[null,null,"VZD DN80:1",null,1,null,null,null,null,null,null,null,"VZD DN80:1"]
[25,"891247111R00","Montáž hydrantů podzemních DN 80 včetně nerezových spoj. prvků a obandážování spoje","kus",1,null,{"$f":"E152*F152","v":0},1.1E-4,{"$f":"E152*H152","v":1.1E-4},0,{"$f":"E152*J152","v":0},null,null,null,2,null,null,null,null,null,null,null,null,null,null,null,1,1,1,null,null,null,null,null,null,null,null,null,null,null,null,null,null,null,null,null,null,null,null,null,null,1,{"$f":"IF(AZ152=1,G152,0)","v":0},{"$f":"IF(AZ152=2,G152,0)","v":0},{"$f":"IF(AZ152=3,G152,0)","v":0},{"$f":"IF(AZ152=4,G152,0)","v":0},{"$f":"IF(AZ152=5,G152,0)","v":0},null,null,null,null,null,null,null,null,null,null,null,null,null,null,null,null,null,null,null,null,null,1,1]
[null,null,"Položka je určena pro montáž hydrantů podzemních (bez osazení poklopů) na potrubí.",null,null,null,null,null,null,null,null,"Položka je určena pro montáž hydrantů podzemních (bez osazení poklopů) na potrubí.",null,null,3]
[null,null,"Součástí položky je i dodávka nerezových spojovacích prvků (šrouby, podložky, matky) a kompletního obandážování spojů. ",null,null,null,null,null,null,null,null,"Součástí položky je i dodávka nerezových spojovacích prvků (šrouby, podložky, matky) a kompletního obandážování spojů. ",null,null,3]
[null,null,"Vodovodní řady \"V\" PE D 90x8,2 mm:",null,0,null,null,null,null,null,null,null,"Vodovodní řady \"V\" PE D 90x8,2 mm:"]
[null,null,"Hp DN80/1,5:1",null,1,null,null,null,null,null,null,null,"Hp DN80/1,5:1"]
[26,"891249111R00","Montáž navrtávacích pasů DN 80 s ventilem ","kus",15,null,{"$f":"E157*F157","v":0},0,{"$f":"E157*H157","v":0},0,{"$f":"E157*J157","v":0},null,null,null,2,null,null,null,null,null,null,null,null,null,null,null,1,1,1,null,null,null,null,null,null,null,null,null,null,null,null,null,null,null,null,null,null,null,null,null,null,1,{"$f":"IF(AZ157=1,G157,0)","v":0},{"$f":"IF(AZ157=2,G157,0)","v":0},{"$f":"IF(AZ157=3,G157,0)","v":0},{"$f":"IF(AZ157=4,G157,0)","v":0},{"$f":"IF(AZ157=5,G157,0)","v":0},null,null,null,null,null,null,null,null,null,null,null,null,null,null,null,null,null,null,null,null,null,1,1]
[null,null,"Vodovodní řady \"V\" PE D 90x8,2 mm:",null,0,null,null,null,null,null,null,null,"Vodovodní řady \"V\" PE D 90x8,2 mm:"]
[null,null,"Pro VP - NP D90/32:15",null,15,null,null,null,null,null,null,null,"Pro VP - NP D90/32:15"]
[27,"892241111R00","Tlaková zkouška vodovodního potrubí DN 80 včetně zajištění konců potrubí","m",179,null,{"$f":"E160*F160","v":0},0,{"$f":"E160*H160","v":0},0,{"$f":"E160*J160","v":0},null,null,null,2,null,null,null,null,null,null,null,null,null,null,null,1,1,1,null,null,null,null,null,null,null,null,null,null,null,null,null,null,null,null,null,null,null,null,null,null,1,{"$f":"IF(AZ160=1,G160,0)","v":0},{"$f":"IF(AZ160=2,G160,0)","v":0},{"$f":"IF(AZ160=3,G160,0)","v":0},{"$f":"IF(AZ160=4,G160,0)","v":0},{"$f":"IF(AZ160=5,G160,0)","v":0},null,null,null,null,null,null,null,null,null,null,null,null,null,null,null,null,null,null,null,null,null,1,1]
[null,null,"V položce jsou započteny náklady na přísun, montáž, demontáž a odsun zkoušecího čerpadla, napuštění tlakovou vodou a dodání vody pro tlakovou zkoušku",null,null,null,null,null,null,null,null,"V položce jsou započteny náklady na přísun, montáž, demontáž a odsun zkoušecího čerpadla, napuštění tlakovou vodou a dodání vody pro tlakovou zkoušku",null,null,3]
[null,null,"Vodovodní řady \"V\" PE D 90x8,2 mm:",null,0,null,null,null,null,null,null,null,"Vodovodní řady \"V\" PE D 90x8,2 mm:"]
[null,null,"Řad \"V\":170,00",null,170,null,null,null,null,null,null,null,"Řad \"V\":170,00"]
[null,null,"Řad \"P\":9,00",null,9,null,null,null,null,null,null,null,"Řad \"P\":9,00"]
[28,"892273111R00","Desinfekce vodovodního potrubí DN 125 ","m",179,null,{"$f":"E165*F165","v":0},0,{"$f":"E165*H165","v":0},0,{"$f":"E165*J165","v":0},null,null,null,2,null,null,null,null,null,null,null,null,null,null,null,1,1,1,null,null,null,null,null,null,null,null,null,null,null,null,null,null,null,null,null,null,null,null,null,null,1,{"$f":"IF(AZ165=1,G165,0)","v":0},{"$f":"IF(AZ165=2,G165,0)","v":0},{"$f":"IF(AZ165=3,G165,0)","v":0},{"$f":"IF(AZ165=4,G165,0)","v":0},{"$f":"IF(AZ165=5,G165,0)","v":0},null,null,null,null,null,null,null,null,null,null,null,null,null,null,null,null,null,null,null,null,null,1,1]
[null,null,"V položce jsou zakalkulovány náklady na napuštění a vypuštění vody, dodání vody a desinfekčního prostředku a na bakteriologický rozbor vody.",null,null,null,null,null,null,null,null,"V položce jsou zakalkulovány náklady na napuštění a vypuštění vody, dodání vody a desinfekčního prostředku a na bakteriologický rozbor vody.",null,null,3]
[null,null,"Vodovodní řady \"V\" PE D 90x8,2 mm:",null,0,null,null,null,null,null,null,null,"Vodovodní řady \"V\" PE D 90x8,2 mm:"]
[null,null,"Řad \"V\":170,00",null,170,null,null,null,null,null,null,null,"Řad \"V\":170,00"]
[null,null,"Řad \"P\":9,00",null,9,null,null,null,null,null,null,null,"Řad \"P\":9,00"]
[29,"899401113R00","Osazení poklopů litinových hydrantových ","kus",1,null,{"$f":"E170*F170","v":0},0.32906000000000002,{"$f":"E170*H170","v":0.32906000000000002},0,{"$f":"E170*J170","v":0},null,null,null,2,null,null,null,null,null,null,null,null,null,null,null,1,1,1,null,null,null,null,null,null,null,null,null,null,null,null,null,null,null,null,null,null,null,null,null,null,1,{"$f":"IF(AZ170=1,G170,0)","v":0},{"$f":"IF(AZ170=2,G170,0)","v":0},{"$f":"IF(AZ170=3,G170,0)","v":0},{"$f":"IF(AZ170=4,G170,0)","v":0},{"$f":"IF(AZ170=5,G170,0)","v":0},null,null,null,null,null,null,null,null,null,null,null,null,null,null,null,null,null,null,null,null,null,1,1]
[null,null,"Vodovodní řady \"V\" PE D 90x8,2 mm:",null,0,null,null,null,null,null,null,null,"Vodovodní řady \"V\" PE D 90x8,2 mm:"]
[null,null,"Pro VZD DN80:1",null,1,null,null,null,null,null,null,null,"Pro VZD DN80:1"]
[30,"899721112R00","Fólie výstražná z PVC bílá, šířka 30 cm ","m",179,null,{"$f":"E173*F173","v":0},0,{"$f":"E173*H173","v":0},0,{"$f":"E173*J173","v":0},null,null,null,2,null,null,null,null,null,null,null,null,null,null,null,1,1,1,null,null,null,null,null,null,null,null,null,null,null,null,null,null,null,null,null,null,null,null,null,null,1,{"$f":"IF(AZ173=1,G173,0)","v":0},{"$f":"IF(AZ173=2,G173,0)","v":0},{"$f":"IF(AZ173=3,G173,0)","v":0},{"$f":"IF(AZ173=4,G173,0)","v":0},{"$f":"IF(AZ173=5,G173,0)","v":0},null,null,null,null,null,null,null,null,null,null,null,null,null,null,null,null,null,null,null,null,null,1,1]
[null,null,"Vodovodní řady \"V\" PE D 90x8,2 mm:",null,0,null,null,null,null,null,null,null,"Vodovodní řady \"V\" PE D 90x8,2 mm:"]
[null,null,"Řad \"V\":170,00",null,170,null,null,null,null,null,null,null,"Řad \"V\":170,00"]
[null,null,"Řad \"P\":9,00",null,9,null,null,null,null,null,null,null,"Řad \"P\":9,00"]
[31,"899731114R00","Vodič signalizační CYY 6 mm2 ","m",271,null,{"$f":"E177*F177","v":0},8.0000000000000007E-5,{"$f":"E177*H177","v":2.1680000000000001E-2},0,{"$f":"E177*J177","v":0},null,null,null,2,null,null,null,null,null,null,null,null,null,null,null,1,1,1,null,null,null,null,null,null,null,null,null,null,null,null,null,null,null,null,null,null,null,null,null,null,1,{"$f":"IF(AZ177=1,G177,0)","v":0},{"$f":"IF(AZ177=2,G177,0)","v":0},{"$f":"IF(AZ177=3,G177,0)","v":0},{"$f":"IF(AZ177=4,G177,0)","v":0},{"$f":"IF(AZ177=5,G177,0)","v":0},null,null,null,null,null,null,null,null,null,null,null,null,null,null,null,null,null,null,null,null,null,1,1]
[null,null,"Součástí položky je zajištění proměření vodiče a výchozí zevize.",null,null,null,null,null,null,null,null,"Součástí položky je zajištění proměření vodiče a výchozí zevize.",null,null,3]
[null,null,"Vodovodní řady \"V\" PE D 90x8,2 mm:",null,0,null,null,null,null,null,null,null,"Vodovodní řady \"V\" PE D 90x8,2 mm:"]
[null,null,"Řad \"V\":170,00",null,170,null,null,null,null,null,null,null,"Řad \"V\":170,00"]
[null,null,"Řad \"P\":9,00",null,9,null,null,null,null,null,null,null,"Řad \"P\":9,00"]
[null,null,"Vyvedení:",null,0,null,null,null,null,null,null,null,"Vyvedení:"]
[null,null,"Pro Šoupě DN80:2,00*2*7",null,28,null,null,null,null,null,null,null,"Pro Šoupě DN80:2,00*2*7"]
[null,null,"Pro VZD DN80:2,00*1*1",null,2,null,null,null,null,null,null,null,"Pro VZD DN80:2,00*1*1"]
[null,null,"Pro Hp DN80/1,5:2,00*1*1",null,2,null,null,null,null,null,null,null,"Pro Hp DN80/1,5:2,00*1*1"]
[null,null,"Pro VP:2,00*2*15",null,60,null,null,null,null,null,null,null,"Pro VP:2,00*2*15"]
[32,"28613070.DAV.R","T-kus odbočkový navrtávací DAV (KIT) D90/32","kus",15,null,{"$f":"E187*F187","v":0},0,{"$f":"E187*H187","v":0},null,{"$f":"E187*J187","v":0},null,null,null,2,null,null,null,null,null,null,null,null,null,null,null,3,1,"28613070.DAV.R",null,null,null,null,null,null,null,null,null,null,null,null,null,null,null,null,null,null,null,null,null,null,1,{"$f":"IF(AZ187=1,G187,0)","v":0},{"$f":"IF(AZ187=2,G187,0)","v":0},{"$f":"IF(AZ187=3,G187,0)","v":0},{"$f":"IF(AZ187=4,G187,0)","v":0},{"$f":"IF(AZ187=5,G187,0)","v":0},null,null,null,null,null,null,null,null,null,null,null,null,null,null,null,null,null,null,null,null,null,3,1]
[null,null,"Vodovodní řady \"V\" PE D 90x8,2 mm:",null,0,null,null,null,null,null,null,null,"Vodovodní řady \"V\" PE D 90x8,2 mm:"]
[null,null,"Pro VP - NP D90/32:15",null,15,null,null,null,null,null,null,null,"Pro VP - NP D90/32:15"]
[33,"28613090.EBS.R","Zemní souprava EBS 1,1-1,8 pro DAV (KIT)","kus",15,null,{"$f":"E190*F190","v":0},0,{"$f":"E190*H190","v":0},null,{"$f":"E190*J190","v":0},null,null,null,2,null,null,null,null,null,null,null,null,null,null,null,3,1,"28613090.EBS.R",null,null,null,null,null,null,null,null,null,null,null,null,null,null,null,null,null,null,null,null,null,null,1,{"$f":"IF(AZ190=1,G190,0)","v":0},{"$f":"IF(AZ190=2,G190,0)","v":0},{"$f":"IF(AZ190=3,G190,0)","v":0},{"$f":"IF(AZ190=4,G190,0)","v":0},{"$f":"IF(AZ190=5,G190,0)","v":0},null,null,null,null,null,null,null,null,null,null,null,null,null,null,null,null,null,null,null,null,null,3,1]
[null,null,"Vodovodní řady \"V\" PE D 90x8,2 mm:",null,0,null,null,null,null,null,null,null,"Vodovodní řady \"V\" PE D 90x8,2 mm:"]
[null,null,"Pro VP - NP D90/32:15",null,15,null,null,null,null,null,null,null,"Pro VP - NP D90/32:15"]
[34,"286134213.R","Trubka tlaková PE 100 RC2 PE100 90x8,2 mm PN16 tyče L=12 m","m",181.685,null,{"$f":"E193*F193","v":0},2.1199999999999999E-3,{"$f":"E193*H193","v":0.38517219999999996},null,{"$f":"E193*J193","v":0},null,null,null,2,null,null,null,null,null,null,null,null,null,null,null,3,1,"286134213.R",null,null,null,null,null,null,null,null,null,null,null,null,null,null,null,null,null,null,null,null,null,null,1,{"$f":"IF(AZ193=1,G193,0)","v":0},{"$f":"IF(AZ193=2,G193,0)","v":0},{"$f":"IF(AZ193=3,G193,0)","v":0},{"$f":"IF(AZ193=4,G193,0)","v":0},{"$f":"IF(AZ193=5,G193,0)","v":0},null,null,null,null,null,null,null,null,null,null,null,null,null,null,null,null,null,null,null,null,null,3,1]
[null,null,"Vodovodní tlaková trubka PE 100 RC2 dle normy EN 12 201-2",null,null,null,null,null,null,null,null,"Vodovodní PE tlaková trubka AQUALINE RC2 dle normy EN 12 201-2",null,null,3]
[null,null,"(doprava pitné a užitkové vody)",null,null,null,null,null,null,null,null,"(doprava pitné a užitkové vody)",null,null,3]
[null,null,"Vodovodní řady \"V\" PE D 90x8,2 mm:",null,0,null,null,null,null,null,null,null,"Vodovodní řady \"V\" PE D 90x8,2 mm:"]
[null,null,"Řad \"V\":170,00*1,015",null,172.55,null,null,null,null,null,null,null,"Řad \"V\":170,00*1,015"]
[null,null,"Řad \"P\":9,00*1,015",null,9.1349999999999998,null,null,null,null,null,null,null,"Řad \"P\":9,00*1,015"]
[35,"28653079.11.R","Elektrospojka d 90 mm PE 100 SDR11","kus",35.524999999999999,null,{"$f":"E199*F199","v":0},1.2999999999999999E-3,{"$f":"E199*H199","v":4.6182499999999994E-2},null,{"$f":"E199*J199","v":0},null,null,null,2,null,null,null,null,null,null,null,null,null,null,null,3,1,"28653079.11.R",null,null,null,null,null,null,null,null,null,null,null,null,null,null,null,null,null,null,null,null,null,null,1,{"$f":"IF(AZ199=1,G199,0)","v":0},{"$f":"IF(AZ199=2,G199,0)","v":0},{"$f":"IF(AZ199=3,G199,0)","v":0},{"$f":"IF(AZ199=4,G199,0)","v":0},{"$f":"IF(AZ199=5,G199,0)","v":0},null,null,null,null,null,null,null,null,null,null,null,null,null,null,null,null,null,null,null,null,null,3,1]
[null,null,"Vodovodní řady \"V\" PE D 90x8,2 mm:",null,0,null,null,null,null,null,null,null,"Vodovodní řady \"V\" PE D 90x8,2 mm:"]
[null,null,"Elektrospojka PE D90:35*1,015",null,35.524999999999999,null,null,null,null,null,null,null,"Elektrospojka PE D90:35*1,015"]
[36,"28653438.A.R","Oblouk 30° PE d 90 mm PE100 SDR11","kus",4.0599999999999996,null,{"$f":"E202*F202","v":0},1.0499999999999999E-3,{"$f":"E202*H202","v":4.2629999999999994E-3},null,{"$f":"E202*J202","v":0},null,null,null,2,null,null,null,null,null,null,null,null,null,null,null,3,1,"28653438.A.R",null,null,null,null,null,null,null,null,null,null,null,null,null,null,null,null,null,null,null,null,null,null,1,{"$f":"IF(AZ202=1,G202,0)","v":0},{"$f":"IF(AZ202=2,G202,0)","v":0},{"$f":"IF(AZ202=3,G202,0)","v":0},{"$f":"IF(AZ202=4,G202,0)","v":0},{"$f":"IF(AZ202=5,G202,0)","v":0},null,null,null,null,null,null,null,null,null,null,null,null,null,null,null,null,null,null,null,null,null,3,1]
[null,null,"Vodovodní řady \"V\" PE D 90x8,2 mm:",null,0,null,null,null,null,null,null,null,"Vodovodní řady \"V\" PE D 90x8,2 mm:"]
[null,null,"Oblouk PE D90/30°:4*1,015",null,4.0599999999999996,null,null,null,null,null,null,null,"Oblouk PE D90/30°:4*1,015"]
[37,"28653439.A.R","Oblouk 22° PE d 90 mm PE100 SDR11","kus",1.0149999999999999,null,{"$f":"E205*F205","v":0},1.0499999999999999E-3,{"$f":"E205*H205","v":1.0657499999999999E-3},null,{"$f":"E205*J205","v":0},null,null,null,2,null,null,null,null,null,null,null,null,null,null,null,3,1,"28653439.A.R",null,null,null,null,null,null,null,null,null,null,null,null,null,null,null,null,null,null,null,null,null,null,1,{"$f":"IF(AZ205=1,G205,0)","v":0},{"$f":"IF(AZ205=2,G205,0)","v":0},{"$f":"IF(AZ205=3,G205,0)","v":0},{"$f":"IF(AZ205=4,G205,0)","v":0},{"$f":"IF(AZ205=5,G205,0)","v":0},null,null,null,null,null,null,null,null,null,null,null,null,null,null,null,null,null,null,null,null,null,3,1]
[null,null,"Vodovodní řady \"V\" PE D 90x8,2 mm:",null,0,null,null,null,null,null,null,null,"Vodovodní řady \"V\" PE D 90x8,2 mm:"]
[null,null,"Oblouk PE D90/22°:1*1,015",null,1.0149999999999999,null,null,null,null,null,null,null,"Oblouk PE D90/22°:1*1,015"]
[38,"28653440.A.R","Oblouk 11° PE d 90 mm PE100 SDR11","kus",1.0149999999999999,null,{"$f":"E208*F208","v":0},1.0499999999999999E-3,{"$f":"E208*H208","v":1.0657499999999999E-3},null,{"$f":"E208*J208","v":0},null,null,null,2,null,null,null,null,null,null,null,null,null,null,null,3,1,"28653440.A.R",null,null,null,null,null,null,null,null,null,null,null,null,null,null,null,null,null,null,null,null,null,null,1,{"$f":"IF(AZ208=1,G208,0)","v":0},{"$f":"IF(AZ208=2,G208,0)","v":0},{"$f":"IF(AZ208=3,G208,0)","v":0},{"$f":"IF(AZ208=4,G208,0)","v":0},{"$f":"IF(AZ208=5,G208,0)","v":0},null,null,null,null,null,null,null,null,null,null,null,null,null,null,null,null,null,null,null,null,null,3,1]
[null,null,"Vodovodní řady \"V\" PE D 90x8,2 mm:",null,0,null,null,null,null,null,null,null,"Vodovodní řady \"V\" PE D 90x8,2 mm:"]
[null,null,"Oblouk PE D90/11°:1*1,015",null,1.0149999999999999,null,null,null,null,null,null,null,"Oblouk PE D90/11°:1*1,015"]
[39,"28653765.R","LN + TP D90/DN80 PE100 SDR11","kus",7,null,{"$f":"E211*F211","v":0},3.5E-4,{"$f":"E211*H211","v":2.4499999999999999E-3},null,{"$f":"E211*J211","v":0},null,null,null,2,null,null,null,null,null,null,null,null,null,null,null,3,1,"28653765.R",null,null,null,null,null,null,null,null,null,null,null,null,null,null,null,null,null,null,null,null,null,null,1,{"$f":"IF(AZ211=1,G211,0)","v":0},{"$f":"IF(AZ211=2,G211,0)","v":0},{"$f":"IF(AZ211=3,G211,0)","v":0},{"$f":"IF(AZ211=4,G211,0)","v":0},{"$f":"IF(AZ211=5,G211,0)","v":0},null,null,null,null,null,null,null,null,null,null,null,null,null,null,null,null,null,null,null,null,null,3,1]
[null,null,"Vodovodní řady \"V\" PE D 90x8,2 mm:",null,0,null,null,null,null,null,null,null,"Vodovodní řady \"V\" PE D 90x8,2 mm:"]
[null,null,"LN + TP D90/DN80:7",null,7,null,null,null,null,null,null,null,"LN + TP D90/DN80:7"]
[40,"42200240.3.R","Hydrant podzemní DUO DN80/1,5 m","kus",1,null,{"$f":"E214*F214","v":0},4.7999999999999996E-3,{"$f":"E214*H214","v":4.7999999999999996E-3},null,{"$f":"E214*J214","v":0},null,null,null,2,null,null,null,null,null,null,null,null,null,null,null,3,1,"42200240.3.R",null,null,null,null,null,null,null,null,null,null,null,null,null,null,null,null,null,null,null,null,null,null,1,{"$f":"IF(AZ214=1,G214,0)","v":0},{"$f":"IF(AZ214=2,G214,0)","v":0},{"$f":"IF(AZ214=3,G214,0)","v":0},{"$f":"IF(AZ214=4,G214,0)","v":0},{"$f":"IF(AZ214=5,G214,0)","v":0},null,null,null,null,null,null,null,null,null,null,null,null,null,null,null,null,null,null,null,null,null,3,1]
[null,null,"Vodovodní řady \"V\" PE D 90x8,2 mm:",null,0,null,null,null,null,null,null,null,"Vodovodní řady \"V\" PE D 90x8,2 mm:"]
[null,null,"Hp DN80/1,5:1",null,1,null,null,null,null,null,null,null,"Hp DN80/1,5:1"]
[41,"42201790","Poklop odvz.a propl. hydrantů č.1790","kus",1,null,{"$f":"E217*F217","v":0},1.1299999999999999E-2,{"$f":"E217*H217","v":1.1299999999999999E-2},null,{"$f":"E217*J217","v":0},null,null,null,2,null,null,null,null,null,null,null,null,null,null,null,3,1,42201790,null,null,null,null,null,null,null,null,null,null,null,null,null,null,null,null,null,null,null,null,null,null,1,{"$f":"IF(AZ217=1,G217,0)","v":0},{"$f":"IF(AZ217=2,G217,0)","v":0},{"$f":"IF(AZ217=3,G217,0)","v":0},{"$f":"IF(AZ217=4,G217,0)","v":0},{"$f":"IF(AZ217=5,G217,0)","v":0},null,null,null,null,null,null,null,null,null,null,null,null,null,null,null,null,null,null,null,null,null,3,1]
[null,null,null,null,null,null,null,null,null,null,null,null,null,null,3]
[null,null,"vhodné ruční kolo: č. 7800",null,null,null,null,null,null,null,null,"vhodné ruční kolo: č. 7800",null,null,3]
[null,null,null,null,null,null,null,null,null,null,null,null,null,null,3]
[null,null,"Vodovodní řady \"V\" PE D 90x8,2 mm:",null,0,null,null,null,null,null,null,null,"Vodovodní řady \"V\" PE D 90x8,2 mm:"]
[null,null,"Pro VZD DN80:1",null,1,null,null,null,null,null,null,null,"Pro VZD DN80:1"]
[42,"42203482.R","Podkladová deska č. 3482","kus",1,null,{"$f":"E223*F223","v":0},5.9999999999999995E-4,{"$f":"E223*H223","v":5.9999999999999995E-4},null,{"$f":"E223*J223","v":0},null,null,null,2,null,null,null,null,null,null,null,null,null,null,null,3,1,"42203482.R",null,null,null,null,null,null,null,null,null,null,null,null,null,null,null,null,null,null,null,null,null,null,1,{"$f":"IF(AZ223=1,G223,0)","v":0},{"$f":"IF(AZ223=2,G223,0)","v":0},{"$f":"IF(AZ223=3,G223,0)","v":0},{"$f":"IF(AZ223=4,G223,0)","v":0},{"$f":"IF(AZ223=5,G223,0)","v":0},null,null,null,null,null,null,null,null,null,null,null,null,null,null,null,null,null,null,null,null,null,3,1]
[null,null,null,null,null,null,null,null,null,null,null,null,null,null,3]
[null,null,"Vodovodní řady \"V\" PE D 90x8,2 mm:",null,0,null,null,null,null,null,null,null,"Vodovodní řady \"V\" PE D 90x8,2 mm:"]
[null,null,"Pro VZD DN80:1",null,1,null,null,null,null,null,null,null,"Pro VZD DN80:1"]
[43,"42209822.06.R","Ventil odvzdušňovací 1555/80 PN 1-16","kus",1,null,{"$f":"E227*F227","v":0},3.1E-2,{"$f":"E227*H227","v":3.1E-2},null,{"$f":"E227*J227","v":0},null,null,null,2,null,null,null,null,null,null,null,null,null,null,null,3,1,"42209822.06.R",null,null,null,null,null,null,null,null,null,null,null,null,null,null,null,null,null,null,null,null,null,null,1,{"$f":"IF(AZ227=1,G227,0)","v":0},{"$f":"IF(AZ227=2,G227,0)","v":0},{"$f":"IF(AZ227=3,G227,0)","v":0},{"$f":"IF(AZ227=4,G227,0)","v":0},{"$f":"IF(AZ227=5,G227,0)","v":0},null,null,null,null,null,null,null,null,null,null,null,null,null,null,null,null,null,null,null,null,null,3,1]
[null,null,"Vodovodní řady \"V\" PE D 90x8,2 mm:",null,0,null,null,null,null,null,null,null,"Vodovodní řady \"V\" PE D 90x8,2 mm:"]
[null,null,"VZD DN80:1",null,1,null,null,null,null,null,null,null,"VZD DN80:1"]
[44,"42209999.R","Drenážní obal","kus",2,null,{"$f":"E230*F230","v":0},4.7999999999999996E-3,{"$f":"E230*H230","v":9.5999999999999992E-3},null,{"$f":"E230*J230","v":0},null,null,null,2,null,null,null,null,null,null,null,null,null,null,null,3,1,"42209999.R",null,null,null,null,null,null,null,null,null,null,null,null,null,null,null,null,null,null,null,null,null,null,1,{"$f":"IF(AZ230=1,G230,0)","v":0},{"$f":"IF(AZ230=2,G230,0)","v":0},{"$f":"IF(AZ230=3,G230,0)","v":0},{"$f":"IF(AZ230=4,G230,0)","v":0},{"$f":"IF(AZ230=5,G230,0)","v":0},null,null,null,null,null,null,null,null,null,null,null,null,null,null,null,null,null,null,null,null,null,3,1]
[null,null,"Vodovodní řady \"V\" PE D 90x8,2 mm:",null,0,null,null,null,null,null,null,null,"Vodovodní řady \"V\" PE D 90x8,2 mm:"]
[null,null,"Pro VZD DN80:1",null,1,null,null,null,null,null,null,null,"Pro VZD DN80:1"]
[null,null,"Pro Hp DN80/1,5:1",null,1,null,null,null,null,null,null,null,"Pro Hp DN80/1,5:1"]
[45,"42228310.R","Šoupátko 4000E3 DN 80 přírubové, voda PN16","kus",7,null,{"$f":"E234*F234","v":0},1.6500000000000001E-2,{"$f":"E234*H234","v":0.11550000000000001},null,{"$f":"E234*J234","v":0},null,null,null,2,null,null,null,null,null,null,null,null,null,null,null,3,1,"42228310.R",null,null,null,null,null,null,null,null,null,null,null,null,null,null,null,null,null,null,null,null,null,null,1,{"$f":"IF(AZ234=1,G234,0)","v":0},{"$f":"IF(AZ234=2,G234,0)","v":0},{"$f":"IF(AZ234=3,G234,0)","v":0},{"$f":"IF(AZ234=4,G234,0)","v":0},{"$f":"IF(AZ234=5,G234,0)","v":0},null,null,null,null,null,null,null,null,null,null,null,null,null,null,null,null,null,null,null,null,null,3,1]
[null,null,"Šoupátko přírubové krkové - měkcetěsnící klínové šoupátko s hladkým a volným průtokovým kanálem",null,null,null,null,null,null,null,null,"Šoupátko přírubové krkové - měkcetěsnící klínové šoupátko s hladkým a volným průtokovým kanálem",null,null,3]
[null,null,"č. 4000E3",null,null,null,null,null,null,null,null,"č. 4000E3",null,null,3]
[null,null,"PN 16",null,null,null,null,null,null,null,null,"PN 16",null,null,3]
[null,null,"DN 80",null,null,null,null,null,null,null,null,"DN 80",null,null,3]
[null,null,"těleso a víko: tvárná litina GGG 400 - DIN 1693",null,null,null,null,null,null,null,null,"těleso a víko: tvárná litina GGG 400 - DIN 1693",null,null,3]
[null,null,"medium: pitná voda, neagresivní odpadní voda",null,null,null,null,null,null,null,null,"medium: pitná voda, neagresivní odpadní voda",null,null,3]
[null,null,"Vodovodní řady \"V\" PE D 90x8,2 mm:",null,0,null,null,null,null,null,null,null,"Vodovodní řady \"V\" PE D 90x8,2 mm:"]
[null,null,"Šoupě DN80:7",null,7,null,null,null,null,null,null,null,"Šoupě DN80:7"]
[46,"42293250.R","Souprava zemní tel.9502E2/E3 DN50 -100, 1,3-1,8m","kus",7,null,{"$f":"E243*F243","v":0},7.3000000000000001E-3,{"$f":"E243*H243","v":5.11E-2},null,{"$f":"E243*J243","v":0},null,null,null,2,null,null,null,null,null,null,null,null,null,null,null,3,1,"42293250.R",null,null,null,null,null,null,null,null,null,null,null,null,null,null,null,null,null,null,null,null,null,null,1,{"$f":"IF(AZ243=1,G243,0)","v":0},{"$f":"IF(AZ243=2,G243,0)","v":0},{"$f":"IF(AZ243=3,G243,0)","v":0},{"$f":"IF(AZ243=4,G243,0)","v":0},{"$f":"IF(AZ243=5,G243,0)","v":0},null,null,null,null,null,null,null,null,null,null,null,null,null,null,null,null,null,null,null,null,null,3,1]
[null,null,"Vodovodní řady \"V\" PE D 90x8,2 mm:",null,0,null,null,null,null,null,null,null,"Vodovodní řady \"V\" PE D 90x8,2 mm:"]
[null,null,"Pro Šoupě DN80:7",null,7,null,null,null,null,null,null,null,"Pro Šoupě DN80:7"]
[47,"422935303.R","Spojka Synoflex 7974, DN 80, PN 16","kus",2,null,{"$f":"E246*F246","v":0},6.8999999999999999E-3,{"$f":"E246*H246","v":1.38E-2},null,{"$f":"E246*J246","v":0},null,null,null,2,null,null,null,null,null,null,null,null,null,null,null,3,1,"422935303.R",null,null,null,null,null,null,null,null,null,null,null,null,null,null,null,null,null,null,null,null,null,null,1,{"$f":"IF(AZ246=1,G246,0)","v":0},{"$f":"IF(AZ246=2,G246,0)","v":0},{"$f":"IF(AZ246=3,G246,0)","v":0},{"$f":"IF(AZ246=4,G246,0)","v":0},{"$f":"IF(AZ246=5,G246,0)","v":0},null,null,null,null,null,null,null,null,null,null,null,null,null,null,null,null,null,null,null,null,null,3,1]
[null,null,"Vodovodní řady \"V\" PE D 90x8,2 mm:",null,0,null,null,null,null,null,null,null,"Vodovodní řady \"V\" PE D 90x8,2 mm:"]
[null,null,"Synoflex spojka DN80:2",null,2,null,null,null,null,null,null,null,"Synoflex spojka DN80:2"]
[48,"55259982.R","Koleno přírubové Q DN 80-90°","kus",1,null,{"$f":"E249*F249","v":0},8.9999999999999993E-3,{"$f":"E249*H249","v":8.9999999999999993E-3},null,{"$f":"E249*J249","v":0},null,null,null,2,null,null,null,null,null,null,null,null,null,null,null,3,1,"55259982.R",null,null,null,null,null,null,null,null,null,null,null,null,null,null,null,null,null,null,null,null,null,null,1,{"$f":"IF(AZ249=1,G249,0)","v":0},{"$f":"IF(AZ249=2,G249,0)","v":0},{"$f":"IF(AZ249=3,G249,0)","v":0},{"$f":"IF(AZ249=4,G249,0)","v":0},{"$f":"IF(AZ249=5,G249,0)","v":0},null,null,null,null,null,null,null,null,null,null,null,null,null,null,null,null,null,null,null,null,null,3,1]
[null,null,"Vodovodní řady \"V\" PE D 90x8,2 mm:",null,0,null,null,null,null,null,null,null,"Vodovodní řady \"V\" PE D 90x8,2 mm:"]
[null,null,"Q DN80/90°:1",null,1,null,null,null,null,null,null,null,"Q DN80/90°:1"]
[49,"552599939.R","Tvarovka přír. s přír. odb. T DN 80/80","kus",3,null,{"$f":"E252*F252","v":0},1.49E-2,{"$f":"E252*H252","v":4.4700000000000004E-2},null,{"$f":"E252*J252","v":0},null,null,null,2,null,null,null,null,null,null,null,null,null,null,null,3,1,"552599939.R",null,null,null,null,null,null,null,null,null,null,null,null,null,null,null,null,null,null,null,null,null,null,1,{"$f":"IF(AZ252=1,G252,0)","v":0},{"$f":"IF(AZ252=2,G252,0)","v":0},{"$f":"IF(AZ252=3,G252,0)","v":0},{"$f":"IF(AZ252=4,G252,0)","v":0},{"$f":"IF(AZ252=5,G252,0)","v":0},null,null,null,null,null,null,null,null,null,null,null,null,null,null,null,null,null,null,null,null,null,3,1]
[null,null,"Vodovodní řady \"V\" PE D 90x8,2 mm:",null,0,null,null,null,null,null,null,null,"Vodovodní řady \"V\" PE D 90x8,2 mm:"]
[null,null,"T DN80/80:3",null,3,null,null,null,null,null,null,null,"T DN80/80:3"]
[50,"5526009705.R","Koleno prodloužené přír.s patkou PPL DN 80","kus",2,null,{"$f":"E255*F255","v":0},1.2200000000000001E-2,{"$f":"E255*H255","v":2.4400000000000002E-2},null,{"$f":"E255*J255","v":0},null,null,null,2,null,null,null,null,null,null,null,null,null,null,null,3,1,"5526009705.R",null,null,null,null,null,null,null,null,null,null,null,null,null,null,null,null,null,null,null,null,null,null,1,{"$f":"IF(AZ255=1,G255,0)","v":0},{"$f":"IF(AZ255=2,G255,0)","v":0},{"$f":"IF(AZ255=3,G255,0)","v":0},{"$f":"IF(AZ255=4,G255,0)","v":0},{"$f":"IF(AZ255=5,G255,0)","v":0},null,null,null,null,null,null,null,null,null,null,null,null,null,null,null,null,null,null,null,null,null,3,1]
[null,null,"Vodovodní řady \"V\" PE D 90x8,2 mm:",null,0,null,null,null,null,null,null,null,"Vodovodní řady \"V\" PE D 90x8,2 mm:"]
[null,null,"PPL DN80:2",null,2,null,null,null,null,null,null,null,"PPL DN80:2"]
[null,"Celkem za","8 Trubní vedení",null,null,null,{"$f":"SUM(G105:G257)","v":0},null,{"$f":"SUM(I105:I257)","v":1.1127791999999999},null,{"$f":"SUM(K105:K257)","v":0},null,null,null,4,null,null,null,null,null,null,null,null,null,null,null,null,null,null,null,null,null,null,null,null,null,null,null,null,null,null,null,null,null,null,null,null,null,null,null,null,null,{"$f":"SUM(BA105:BA257)","v":0},{"$f":"SUM(BB105:BB257)","v":0},{"$f":"SUM(BC105:BC257)","v":0},{"$f":"SUM(BD105:BD257)","v":0},{"$f":"SUM(BE105:BE257)","v":0}]
["Díl:","89","Ostatní konstrukce na trubním vedení",null,null,null,null,null,null,null,null,null,null,null,1]
[51,"899 01-0001.RRX","Provizorní vodovod PE100 RC1 D 63x5,8 mm včetně příslušných tvarovek a propojů","m",170,null,{"$f":"E260*F260","v":0},0,{"$f":"E260*H260","v":0},null,{"$f":"E260*J260","v":0},null,null,null,2,null,null,null,null,null,null,null,null,null,null,null,12,0,1,null,null,null,null,null,null,null,null,null,null,null,null,null,null,null,null,null,null,null,null,null,null,1,{"$f":"IF(AZ260=1,G260,0)","v":0},{"$f":"IF(AZ260=2,G260,0)","v":0},{"$f":"IF(AZ260=3,G260,0)","v":0},{"$f":"IF(AZ260=4,G260,0)","v":0},{"$f":"IF(AZ260=5,G260,0)","v":0},null,null,null,null,null,null,null,null,null,null,null,null,null,null,null,null,null,null,null,null,null,12,0]
[null,null,"Součástí položky je ",null,null,null,null,null,null,null,null,"Součástí položky je ",null,null,3]
[null,null,"- Dodávka a montáž příslušného potrubí ",null,null,null,null,null,null,null,null,"- Dodávka a montáž příslušného potrubí ",null,null,3]
[null,null,"- Dodávka a montáž propojovacích tvarovek a armatur dle zvolené technologie zhotovitelem potřebné pro provoz provizorního vodovou",null,null,null,null,null,null,null,null,"- Dodávka a montáž propojovacích tvarovek a armatur dle zvolené technologie zhotovitelem potřebné pro provoz provizorního vodovou",null,null,3]
[null,null,"- Přerušení stávajícího potrubí pro napojení provizorního vodovodu",null,null,null,null,null,null,null,null,"- Přerušení stávajícího potrubí pro napojení provizorního vodovodu",null,null,3]
[null,null,"- Provedení tlakové zkoušky včetně proplachu a desinfekce potrubí dle ČSN",null,null,null,null,null,null,null,null,"- Provedení tlakové zkoušky včetně proplachu a desinfekce potrubí dle ČSN",null,null,3]
[null,null,"- Potředné zemní práce pro provedení propojů včetně případného odstranění konstrukcí komunikací a chodníků a provizorní úprava povrchů v prostoru vedení provizorního vodovodu",null,null,null,null,null,null,null,null,"- Potředné zemní práce pro provedení propojů včetně případného odstranění konstrukcí komunikací a chodníků a provizorní úprava povrchů v prostoru vedení provizorního vodovodu",null,null,3]
[null,null,"- Demontáž a odpojení propojů provizorního vodovodu  včetně potřebných zemních prací.",null,null,null,null,null,null,null,null,"- Demontáž a odpojení propojů provizorního vodovodu  včetně potřebných zemních prací.",null,null,3]
[null,null,"- Likvidace veškerého materiálu provizorních vodovodů ",null,null,null,null,null,null,null,null,"- Likvidace veškerého materiálu provizorních vodovodů ",null,null,3]
[null,null,"- Součástí položky jsou i náklady na přesuny materiálů - Součástí položky jsou náklady zhotovitele na poplatky za skládky materiálu",null,null,null,null,null,null,null,null,"- Součástí položky jsou i náklady na přesuny materiálů - Součástí položky jsou náklady zhotovitele na poplatky za skládky materiálu",null,null,3]
[null,null,"Vodovodní řady \"V\" PE D 90x8,2 mm:",null,0,null,null,null,null,null,null,null,"Vodovodní řady \"V\" PE D 90x8,2 mm:"]
[null,null,"Provizorní vodovod:",null,0,null,null,null,null,null,null,null,"Provizorní vodovod:"]
[null,null,"Řad \"V\":170,00",null,170,null,null,null,null,null,null,null,"Řad \"V\":170,00"]
[52,"899 02-0001.RRX","Provizorní VP PE100 RC1 D32x3,0 mm - délky do 8 m vč. příslušných tvarovek a armatur","soubor",15,null,{"$f":"E273*F273","v":0},0,{"$f":"E273*H273","v":0},null,{"$f":"E273*J273","v":0},null,null,null,2,null,null,null,null,null,null,null,null,null,null,null,12,0,2,null,null,null,null,null,null,null,null,null,null,null,null,null,null,null,null,null,null,null,null,null,null,1,{"$f":"IF(AZ273=1,G273,0)","v":0},{"$f":"IF(AZ273=2,G273,0)","v":0},{"$f":"IF(AZ273=3,G273,0)","v":0},{"$f":"IF(AZ273=4,G273,0)","v":0},{"$f":"IF(AZ273=5,G273,0)","v":0},null,null,null,null,null,null,null,null,null,null,null,null,null,null,null,null,null,null,null,null,null,12,0]
[null,null,"Součástí položky je ",null,null,null,null,null,null,null,null,"Součástí položky je ",null,null,3]
[null,null,"- Dodávka a montáž příslušného potrubí dle PD ",null,null,null,null,null,null,null,null,"- Dodávka a montáž příslušného potrubí dle PD ",null,null,3]
[null,null,"- Dodávka a montáž propojovacích tvarovek a armatur dle zvolené technologie zhotovitelem potřebné pro provoz provizorního propojení VP",null,null,null,null,null,null,null,null,"- Dodávka a montáž propojovacích tvarovek a armatur dle zvolené technologie zhotovitelem potřebné pro provoz provizorního propojení VP",null,null,3]
[null,null,"- Přerušení stávajícího potrubí přípojky",null,null,null,null,null,null,null,null,"- Přerušení stávajícího potrubí přípojky",null,null,3]
[null,null,"- Provedení tlakové zkoušky včetně proplachu a desinfekce potrubí dle ČSN",null,null,null,null,null,null,null,null,"- Provedení tlakové zkoušky včetně proplachu a desinfekce potrubí dle ČSN",null,null,3]
[null,null,"- Potředné zemní práce pro provedení propoje včetně případného odstranění konstrukcí komunikací a provizorní úprava povrchů v prostoru vedení provizorního vodovodu",null,null,null,null,null,null,null,null,"- Potředné zemní práce pro provedení propoje včetně případného odstranění konstrukcí komunikací a provizorní úprava povrchů v prostoru vedení provizorního vodovodu",null,null,3]
[null,null,"- Demontáž a odpojení propojů provizorní přípojky  včetně potřebných zemních prací.",null,null,null,null,null,null,null,null,"- Demontáž a odpojení propojů provizorní přípojky  včetně potřebných zemních prací.",null,null,3]
[null,null,"- Likvidace veškerého materiálu provizorních vodovodních přípojek",null,null,null,null,null,null,null,null,"- Likvidace veškerého materiálu provizorních vodovodních přípojek",null,null,3]
[null,null,"- Součástí položky jsou i náklady na přesuny materiálů - Součástí položky jsou náklady zhotovitele na poplatky za skládky materiálu",null,null,null,null,null,null,null,null,"- Součástí položky jsou i náklady na přesuny materiálů - Součástí položky jsou náklady zhotovitele na poplatky za skládky materiálu",null,null,3]
[null,null,"Vodovodní řady \"V\" PE D 90x8,2 mm:",null,0,null,null,null,null,null,null,null,"Vodovodní řady \"V\" PE D 90x8,2 mm:"]
[null,null,"Provizorní vodovod:",null,0,null,null,null,null,null,null,null,"Provizorní vodovod:"]
[null,null,"Přípojky :15",null,15,null,null,null,null,null,null,null,"Přípojky :15"]
[null,"Celkem za","89 Ostatní konstrukce na trubním vedení",null,null,null,{"$f":"SUM(G259:G285)","v":0},null,{"$f":"SUM(I259:I285)","v":0},null,{"$f":"SUM(K259:K285)","v":0},null,null,null,4,null,null,null,null,null,null,null,null,null,null,null,null,null,null,null,null,null,null,null,null,null,null,null,null,null,null,null,null,null,null,null,null,null,null,null,null,null,{"$f":"SUM(BA259:BA285)","v":0},{"$f":"SUM(BB259:BB285)","v":0},{"$f":"SUM(BC259:BC285)","v":0},{"$f":"SUM(BD259:BD285)","v":0},{"$f":"SUM(BE259:BE285)","v":0}]
["Díl:","93","Dokončovací práce inženýrských staveb",null,null,null,null,null,null,null,null,null,null,null,1]
[53,"939421121RT1","Osazení samonivelač.vodovod.poklopu za finišerem bez dodávky poklopu","kus",22,null,{"$f":"E288*F288","v":0},5.2499999999999998E-2,{"$f":"E288*H288","v":1.155},0,{"$f":"E288*J288","v":0},null,null,null,2,null,null,null,null,null,null,null,null,null,null,null,1,1,1,null,null,null,null,null,null,null,null,null,null,null,null,null,null,null,null,null,null,null,null,null,null,1,{"$f":"IF(AZ288=1,G288,0)","v":0},{"$f":"IF(AZ288=2,G288,0)","v":0},{"$f":"IF(AZ288=3,G288,0)","v":0},{"$f":"IF(AZ288=4,G288,0)","v":0},{"$f":"IF(AZ288=5,G288,0)","v":0},null,null,null,null,null,null,null,null,null,null,null,null,null,null,null,null,null,null,null,null,null,1,1]
[null,null,"Položka obsahuje:",null,null,null,null,null,null,null,null,"Položka obsahuje:",null,null,3]
[null,null,"- osazení prefabrikovaného betonového prstence do rychletuhnoucí malty (s dodávkou hmot)",null,null,null,null,null,null,null,null,"- osazení prefabrikovaného betonového prstence do rychletuhnoucí malty (s dodávkou hmot)",null,null,3]
[null,null,"- zalití prstence rychletuhnoucí zálivkou do výše prstence (s dodávkou hmoty)",null,null,null,null,null,null,null,null,"- zalití prstence rychletuhnoucí zálivkou do výše prstence (s dodávkou hmoty)",null,null,3]
[null,null,"- vložení kruhového bednění",null,null,null,null,null,null,null,null,"- vložení kruhového bednění",null,null,3]
[null,null,"- doplnění mezikruží asfaltovou směsí do výšky současné podkladní vrstvy, zhutnění",null,null,null,null,null,null,null,null,"- doplnění mezikruží asfaltovou směsí do výšky současné podkladní vrstvy, zhutnění",null,null,3]
[null,null,"- vyjmutí kruhového bednění",null,null,null,null,null,null,null,null,"- vyjmutí kruhového bednění",null,null,3]
[null,null,"- osazení poklopu a zatlačení",null,null,null,null,null,null,null,null,"- osazení poklopu a zatlačení",null,null,3]
[null,null,"  (následuje pokládka finální vrstvy vozovky - není součástí položky)",null,null,null,null,null,null,null,null,"  (následuje pokládka finální vrstvy vozovky - není součástí položky)",null,null,3]
[null,null,"- povytažení poklopu",null,null,null,null,null,null,null,null,"- povytažení poklopu",null,null,3]
[null,null,"- podsyp asfaltovou směsí, spuštění poklopu a zhutnění směsi",null,null,null,null,null,null,null,null,"- podsyp asfaltovou směsí, spuštění poklopu a zhutnění směsi",null,null,3]
[null,null,"Vodovodní řady \"V\" PE D 90x8,2 mm:",null,0,null,null,null,null,null,null,null,"Vodovodní řady \"V\" PE D 90x8,2 mm:"]
[null,null,"Pro Šoupě DN80:7",null,7,null,null,null,null,null,null,null,"Pro Šoupě DN80:7"]
[null,null,"Pro VP:15",null,15,null,null,null,null,null,null,null,"Pro VP:15"]
[54,"939421131RT1","Osazení samonivelač.hydrant.poklopu za finišerem bez dodávky poklopu","kus",1,null,{"$f":"E302*F302","v":0},6.8250000000000005E-2,{"$f":"E302*H302","v":6.8250000000000005E-2},0,{"$f":"E302*J302","v":0},null,null,null,2,null,null,null,null,null,null,null,null,null,null,null,1,1,1,null,null,null,null,null,null,null,null,null,null,null,null,null,null,null,null,null,null,null,null,null,null,1,{"$f":"IF(AZ302=1,G302,0)","v":0},{"$f":"IF(AZ302=2,G302,0)","v":0},{"$f":"IF(AZ302=3,G302,0)","v":0},{"$f":"IF(AZ302=4,G302,0)","v":0},{"$f":"IF(AZ302=5,G302,0)","v":0},null,null,null,null,null,null,null,null,null,null,null,null,null,null,null,null,null,null,null,null,null,1,1]
[null,null,"Položka obsahuje:",null,null,null,null,null,null,null,null,"Položka obsahuje:",null,null,3]
[null,null,"- osazení prefabrikovaného betonového prstence do rychletuhnoucí malty (s dodávkou hmot)",null,null,null,null,null,null,null,null,"- osazení prefabrikovaného betonového prstence do rychletuhnoucí malty (s dodávkou hmot)",null,null,3]
[null,null,"- zalití prstence rychletuhnoucí zálivkou do výše prstence (s dodávkou hmoty)",null,null,null,null,null,null,null,null,"- zalití prstence rychletuhnoucí zálivkou do výše prstence (s dodávkou hmoty)",null,null,3]
[null,null,"- vložení kruhového bednění",null,null,null,null,null,null,null,null,"- vložení kruhového bednění",null,null,3]
[null,null,"- doplnění mezikruží asfaltovou směsí do výšky současné podkladní vrstvy, zhutnění",null,null,null,null,null,null,null,null,"- doplnění mezikruží asfaltovou směsí do výšky současné podkladní vrstvy, zhutnění",null,null,3]
[null,null,"- vyjmutí kruhového bednění",null,null,null,null,null,null,null,null,"- vyjmutí kruhového bednění",null,null,3]
[null,null,"- osazení poklopu a zatlačení",null,null,null,null,null,null,null,null,"- osazení poklopu a zatlačení",null,null,3]
[null,null,"  (následuje pokládka finální vrstvy vozovky - není součástí položky)",null,null,null,null,null,null,null,null,"  (následuje pokládka finální vrstvy vozovky - není součástí položky)",null,null,3]
[null,null,"- povytažení poklopu",null,null,null,null,null,null,null,null,"- povytažení poklopu",null,null,3]
[null,null,"- podsyp asfaltovou směsí, spuštění poklopu a zhutnění směsi",null,null,null,null,null,null,null,null,"- podsyp asfaltovou směsí, spuštění poklopu a zhutnění směsi",null,null,3]
[null,null,"Položka neobsahuje:",null,null,null,null,null,null,null,null,"Položka neobsahuje:",null,null,3]
[null,null,"- dodávku samonivelačního poklopu - oceňuje se ve specifikaci",null,null,null,null,null,null,null,null,"- dodávku samonivelačního poklopu - oceňuje se ve specifikaci",null,null,3]
[null,null,"- pokládku krycí vrstvy komunikace, oceňuje se samostatně",null,null,null,null,null,null,null,null,"- pokládku krycí vrstvy komunikace, oceňuje se samostatně",null,null,3]
[null,null,"Vodovodní řady \"V\" PE D 90x8,2 mm:",null,0,null,null,null,null,null,null,null,"Vodovodní řady \"V\" PE D 90x8,2 mm:"]
[null,null,"Pro Hp DN80/1,5:1",null,1,null,null,null,null,null,null,null,"Pro Hp DN80/1,5:1"]
[55,"422913520.R","Poklop uliční samonivelační přípojkový D400","kus",15,null,{"$f":"E318*F318","v":0},1.2E-2,{"$f":"E318*H318","v":0.18},null,{"$f":"E318*J318","v":0},null,null,null,2,null,null,null,null,null,null,null,null,null,null,null,3,1,"422913520.R",null,null,null,null,null,null,null,null,null,null,null,null,null,null,null,null,null,null,null,null,null,null,1,{"$f":"IF(AZ318=1,G318,0)","v":0},{"$f":"IF(AZ318=2,G318,0)","v":0},{"$f":"IF(AZ318=3,G318,0)","v":0},{"$f":"IF(AZ318=4,G318,0)","v":0},{"$f":"IF(AZ318=5,G318,0)","v":0},null,null,null,null,null,null,null,null,null,null,null,null,null,null,null,null,null,null,null,null,null,3,1]
[null,null,"Uliční samonivelační poklop přípojkový z tvárné litiny dle ČSN EN 124",null,null,null,null,null,null,null,null,"Uliční samonivelační poklop přípojkový z tvárné litiny dle ČSN EN 124",null,null,3]
[null,null,"Rozpětí stavební výšky 195 - 285 mm s fixací polohy",null,null,null,null,null,null,null,null,"Rozpětí stavební výšky 195 - 285 mm s fixací polohy",null,null,3]
[null,null,"Výklopové víko spojeno s rámem čepem a opatřeno ochrannou a těsnící vrstvou proti vnikání nečistot",null,null,null,null,null,null,null,null,"Výklopové víko spojeno s rámem čepem a opatřeno ochrannou a těsnící vrstvou proti vnikání nečistot",null,null,3]
[null,null,"Tlumicí vložka z elastomeru a PUR",null,null,null,null,null,null,null,null,"Tlumicí vložka z elastomeru a PUR",null,null,3]
[null,null,"Možnost vlastního loga a barevného provedení",null,null,null,null,null,null,null,null,"Možnost vlastního loga a barevného provedení",null,null,3]
[null,null,"Vodovodní řady \"V\" PE D 90x8,2 mm:",null,0,null,null,null,null,null,null,null,"Vodovodní řady \"V\" PE D 90x8,2 mm:"]
[null,null,"Pro VP:15",null,15,null,null,null,null,null,null,null,"Pro VP:15"]
[56,"422913521.R","Poklop litinový samonivelační šoupátkový D400","kus",7,null,{"$f":"E326*F326","v":0},1.2E-2,{"$f":"E326*H326","v":8.4000000000000005E-2},null,{"$f":"E326*J326","v":0},null,null,null,2,null,null,null,null,null,null,null,null,null,null,null,3,1,"422913521.R",null,null,null,null,null,null,null,null,null,null,null,null,null,null,null,null,null,null,null,null,null,null,1,{"$f":"IF(AZ326=1,G326,0)","v":0},{"$f":"IF(AZ326=2,G326,0)","v":0},{"$f":"IF(AZ326=3,G326,0)","v":0},{"$f":"IF(AZ326=4,G326,0)","v":0},{"$f":"IF(AZ326=5,G326,0)","v":0},null,null,null,null,null,null,null,null,null,null,null,null,null,null,null,null,null,null,null,null,null,3,1]
[null,null,"Uliční samonivelační šoupátkový poklop z tvárné litiny dle ČSN EN 124",null,null,null,null,null,null,null,null,"Uliční samonivelační šoupátkový poklop z tvárné litiny dle ČSN EN 124",null,null,3]
[null,null,"Rozpětí stavební výšky 195 - 285 mm s fixací polohy",null,null,null,null,null,null,null,null,"Rozpětí stavební výšky 195 - 285 mm s fixací polohy",null,null,3]
[null,null,"Výklopové víko spojeno s rámem čepem a opatřeno ochrannou a těsnící vrstvou proti vnikání nečistot",null,null,null,null,null,null,null,null,"Výklopové víko spojeno s rámem čepem a opatřeno ochrannou a těsnící vrstvou proti vnikání nečistot",null,null,3]
[null,null,"Tlumicí vložka z elastomeru a PUR",null,null,null,null,null,null,null,null,"Tlumicí vložka z elastomeru a PUR",null,null,3]
[null,null,"Možnost vlastního loga a barevného provedení",null,null,null,null,null,null,null,null,"Možnost vlastního loga a barevného provedení",null,null,3]
[null,null,"Vodovodní řady \"V\" PE D 90x8,2 mm:",null,0,null,null,null,null,null,null,null,"Vodovodní řady \"V\" PE D 90x8,2 mm:"]
[null,null,"Pro Šoupě DN80:7",null,7,null,null,null,null,null,null,null,"Pro Šoupě DN80:7"]
[57,"422914522.R","Poklop litinový hydrantový samonivelační D400","kus",1,null,{"$f":"E334*F334","v":0},2.4E-2,{"$f":"E334*H334","v":2.4E-2},null,{"$f":"E334*J334","v":0},null,null,null,2,null,null,null,null,null,null,null,null,null,null,null,3,1,"422914522.R",null,null,null,null,null,null,null,null,null,null,null,null,null,null,null,null,null,null,null,null,null,null,1,{"$f":"IF(AZ334=1,G334,0)","v":0},{"$f":"IF(AZ334=2,G334,0)","v":0},{"$f":"IF(AZ334=3,G334,0)","v":0},{"$f":"IF(AZ334=4,G334,0)","v":0},{"$f":"IF(AZ334=5,G334,0)","v":0},null,null,null,null,null,null,null,null,null,null,null,null,null,null,null,null,null,null,null,null,null,3,1]
[null,null,"Uliční samonivelační hydrantový poklop z tvárné litiny dle ČSN EN 124",null,null,null,null,null,null,null,null,"Uliční samonivelační hydrantový poklop z tvárné litiny dle ČSN EN 124",null,null,3]
[null,null,"Rozpětí stavební výšky 200 - 285 mm s fixací polohy",null,null,null,null,null,null,null,null,"Rozpětí stavební výšky 200 - 285 mm s fixací polohy",null,null,3]
[null,null,"Výklopové víko spojeno s rámem čepem a opatřeno ochrannou a těsnící vrstvou proti vnikání nečistot",null,null,null,null,null,null,null,null,"Výklopové víko spojeno s rámem čepem a opatřeno ochrannou a těsnící vrstvou proti vnikání nečistot",null,null,3]
[null,null,"Tlumicí vložka z elastomeru a PUR",null,null,null,null,null,null,null,null,"Tlumicí vložka z elastomeru a PUR",null,null,3]
[null,null,"Možnost vlastního loga a barevného provedení",null,null,null,null,null,null,null,null,"Možnost vlastního loga a barevného provedení",null,null,3]
[null,null,"Vodovodní řady \"V\" PE D 90x8,2 mm:",null,0,null,null,null,null,null,null,null,"Vodovodní řady \"V\" PE D 90x8,2 mm:"]
[null,null,"Pro Hp DN80/1,5:1",null,1,null,null,null,null,null,null,null,"Pro Hp DN80/1,5:1"]
[null,"Celkem za","93 Dokončovací práce inženýrských staveb",null,null,null,{"$f":"SUM(G287:G341)","v":0},null,{"$f":"SUM(I287:I341)","v":1.51125},null,{"$f":"SUM(K287:K341)","v":0},null,null,null,4,null,null,null,null,null,null,null,null,null,null,null,null,null,null,null,null,null,null,null,null,null,null,null,null,null,null,null,null,null,null,null,null,null,null,null,null,null,{"$f":"SUM(BA287:BA341)","v":0},{"$f":"SUM(BB287:BB341)","v":0},{"$f":"SUM(BC287:BC341)","v":0},{"$f":"SUM(BD287:BD341)","v":0},{"$f":"SUM(BE287:BE341)","v":0}]
["Díl:","99","Staveništní přesun hmot",null,null,null,null,null,null,null,null,null,null,null,1]
[58,"998276101RXX","Přesun hmot, trubní vedení plastová, otevř. výkop pro celý rozsah objektu","t",394.45325600000001,null,{"$f":"E344*F344","v":0},0,{"$f":"E344*H344","v":0},null,{"$f":"E344*J344","v":0},null,null,null,2,null,null,null,null,null,null,null,null,null,null,null,7,1,2,null,null,null,null,null,null,null,null,null,null,null,null,null,null,null,null,null,null,null,null,null,null,1,{"$f":"IF(AZ344=1,G344,0)","v":0},{"$f":"IF(AZ344=2,G344,0)","v":0},{"$f":"IF(AZ344=3,G344,0)","v":0},{"$f":"IF(AZ344=4,G344,0)","v":0},{"$f":"IF(AZ344=5,G344,0)","v":0},null,null,null,null,null,null,null,null,null,null,null,null,null,null,null,null,null,null,null,null,null,7,1]
[null,null,"Staveništní doprava pro celý rozsah objektu - doprava zmeziskládek vybudovaného zařízení staveniště zhotovitele na jednotlivé části staveniště.",null,null,null,null,null,null,null,null,"Staveništní doprava pro celý rozsah objektu - doprava zmeziskládek vybudovaného zařízení staveniště zhotovitele na jednotlivé části staveniště.",null,null,3]
[null,"Celkem za","99 Staveništní přesun hmot",null,null,null,{"$f":"SUM(G343:G345)","v":0},null,{"$f":"SUM(I343:I345)","v":0},null,{"$f":"SUM(K343:K345)","v":0},null,null,null,4,null,null,null,null,null,null,null,null,null,null,null,null,null,null,null,null,null,null,null,null,null,null,null,null,null,null,null,null,null,null,null,null,null,null,null,null,null,{"$f":"SUM(BA343:BA345)","v":0},{"$f":"SUM(BB343:BB345)","v":0},{"$f":"SUM(BC343:BC345)","v":0},{"$f":"SUM(BD343:BD345)","v":0},{"$f":"SUM(BE343:BE345)","v":0}]

{"sheet":"305 3542305.2 KL","index":50,"n_rows":45,"n_cols":8,"rows_kept":45,"cut":false,"hidden":false,"merged":[[50,1,50,6],[29,5,29,6],[30,5,30,6],[31,5,31,6],[32,5,32,6],[33,5,33,6],[36,1,44,6],[45,1,45,6],[46,1,46,6],[47,1,47,6],[48,1,48,6],[49,1,49,6],[22,0,22,1],[7,2,7,4],[8,2,8,4],[9,2,9,4],[10,2,10,4],[11,2,11,4]]}
["POLOŽKOVÝ ROZPOČET"]
["Rozpočet",null,"3542/305.2","Vodovodní napojovací body",null,"JKSO ","827.13"]
[]
["Objekt",null,null,null,null,"SKP "]
["305",null,"Oprava vodovodního řadu V ul. Větrná",null,null,"Měrná jednotka","m"]
["Stavba",null,null,null,null,"Počet jednotek",0]
["3542",null,"Semily - Obnova VH infrastruktury a komunikací",null,null,"Náklady na m.j.",{"$f":"IF(G6=0,,ROUND((F30+F32)/G6,1))","v":0}]
["Projektant",null,null,null,null,"Typ rozpočtu"]
["Zpracovatel projektu"]
["Objednatel",null,"Vodohospodářské sdružení Turnov"]
["Dodavatel",null,".",null,null,"Zakázkové číslo "]
["Rozpočtoval",null,null,null,null,"Počet listů"]
["ROZPOČTOVÉ NÁKLADY"]
["Základní rozpočtové náklady"]
[null,"HSV celkem",{"$f":"'305 3542305.2 Rek'!E13","v":0}]
["Z","PSV celkem",{"$f":"'305 3542305.2 Rek'!F13","v":0}]
["R","M práce celkem",{"$f":"'305 3542305.2 Rek'!H13","v":0}]
["N","M dodávky celkem",{"$f":"'305 3542305.2 Rek'!G13","v":0}]
["ZRN celkem",null,{"$f":"SUM(C15:C18)","v":0}]
[]
["HZS",null,{"$f":"'305 3542305.2 Rek'!I13","v":0}]
["ZRN+HZS",null,{"$f":"C19+C21","v":0}]
["ZRN+ost.náklady+HZS",null,{"$f":"C22+G23","v":0}]
["Vypracoval",null,null,"Za zhotovitele",null,"Za objednatele"]
["Jméno :",null,null,"Jméno :",null,"Jméno :"]
["Datum :",null,null,"Datum :",null,"Datum :"]
[]
["Podpis :",null,null,"Podpis:",null,"Podpis:"]
[]
["Základ pro DPH",null,21,"%  ",null,{"$f":"C23-F32","v":0}]
["DPH",null,{"$f":"C30","v":21},"% ",null,{"$f":"ROUND(PRODUCT(F30,C31/100),0)","v":0}]
["Základ pro DPH",null,0,"% ",null,0]
["DPH",null,{"$f":"C32","v":0},"% ",null,{"$f":"ROUND(PRODUCT(F32,C33/100),0)","v":0}]
["CENA ZA OBJEKT CELKEM",null,null,null,null,{"$f":"ROUND(SUM(F30:F33),0)","v":0}]
[]
["Poznámka :",null,null,null,null,null,null," "]
[null,null,null,null,null,null,null," "]
[null,null,null,null,null,null,null," "]
[null,null,null,null,null,null,null," "]
[null,null,null,null,null,null,null," "]
[null,null,null,null,null,null,null," "]
[null,null,null,null,null,null,null," "]
[null,null,null,null,null,null,null," "]
[null,null,null,null,null,null,null," "]
[null,null,null,null,null,null,null," "]

{"sheet":"305 3542305.2 Rek","index":51,"n_rows":13,"n_cols":9,"rows_kept":13,"cut":false,"hidden":false,"merged":[[0,0,0,1],[1,0,1,1],[1,6,1,8]]}
["Stavba :",null,"3542 Semily - Obnova VH infrastruktury a komunikací",null,null,null,"Rozpočet :","3542/305.2"]
["Objekt :",null,"305 Oprava vodovodního řadu V ul. Větrná",null,null,null,"Vodovodní napojovací body"]
[]
["REKAPITULACE  STAVEBNÍCH  DÍLŮ"]
[]
[null,"Stavební díl",null,null,"HSV","PSV","Dodávka","Montáž","HZS"]
[{"$f":"'305 3542305.2 Pol'!B7","v":"1"},{"$f":"'305 3542305.2 Pol'!C7","v":"Zemní práce"},null,null,{"$f":"'305 3542305.2 Pol'!BA97","v":0},{"$f":"'305 3542305.2 Pol'!BB97","v":0},{"$f":"'305 3542305.2 Pol'!BC97","v":0},{"$f":"'305 3542305.2 Pol'!BD97","v":0},{"$f":"'305 3542305.2 Pol'!BE97","v":0}]
[{"$f":"'305 3542305.2 Pol'!B98","v":"21"},{"$f":"'305 3542305.2 Pol'!C98","v":"Úprava podloží a základ.spáry"},null,null,{"$f":"'305 3542305.2 Pol'!BA102","v":0},{"$f":"'305 3542305.2 Pol'!BB102","v":0},{"$f":"'305 3542305.2 Pol'!BC102","v":0},{"$f":"'305 3542305.2 Pol'!BD102","v":0},{"$f":"'305 3542305.2 Pol'!BE102","v":0}]
[{"$f":"'305 3542305.2 Pol'!B103","v":"45"},{"$f":"'305 3542305.2 Pol'!C103","v":"Podkladní a vedlejší konstrukce"},null,null,{"$f":"'305 3542305.2 Pol'!BA107","v":0},{"$f":"'305 3542305.2 Pol'!BB107","v":0},{"$f":"'305 3542305.2 Pol'!BC107","v":0},{"$f":"'305 3542305.2 Pol'!BD107","v":0},{"$f":"'305 3542305.2 Pol'!BE107","v":0}]
[{"$f":"'305 3542305.2 Pol'!B108","v":"5"},{"$f":"'305 3542305.2 Pol'!C108","v":"Komunikace"},null,null,{"$f":"'305 3542305.2 Pol'!BA112","v":0},{"$f":"'305 3542305.2 Pol'!BB112","v":0},{"$f":"'305 3542305.2 Pol'!BC112","v":0},{"$f":"'305 3542305.2 Pol'!BD112","v":0},{"$f":"'305 3542305.2 Pol'!BE112","v":0}]
[{"$f":"'305 3542305.2 Pol'!B113","v":"8"},{"$f":"'305 3542305.2 Pol'!C113","v":"Trubní vedení"},null,null,{"$f":"'305 3542305.2 Pol'!BA151","v":0},{"$f":"'305 3542305.2 Pol'!BB151","v":0},{"$f":"'305 3542305.2 Pol'!BC151","v":0},{"$f":"'305 3542305.2 Pol'!BD151","v":0},{"$f":"'305 3542305.2 Pol'!BE151","v":0}]
[{"$f":"'305 3542305.2 Pol'!B152","v":"99"},{"$f":"'305 3542305.2 Pol'!C152","v":"Staveništní přesun hmot"},null,null,{"$f":"'305 3542305.2 Pol'!BA155","v":0},{"$f":"'305 3542305.2 Pol'!BB155","v":0},{"$f":"'305 3542305.2 Pol'!BC155","v":0},{"$f":"'305 3542305.2 Pol'!BD155","v":0},{"$f":"'305 3542305.2 Pol'!BE155","v":0}]
[null,"CELKEM  OBJEKT",null,null,{"$f":"SUM(E7:E12)","v":0},{"$f":"SUM(F7:F12)","v":0},{"$f":"SUM(G7:G12)","v":0},{"$f":"SUM(H7:H12)","v":0},{"$f":"SUM(I7:I12)","v":0}]

{"sheet":"305 3542305.2 Pol","index":52,"n_rows":155,"n_cols":80,"rows_kept":155,"cut":false,"hidden":false,"merged":[[149,2,149,3],[153,2,153,6],[143,2,143,6],[144,2,144,3],[145,2,145,3],[147,2,147,3],[148,2,148,3],[141,2,141,6],[142,2,142,6],[132,2,132,3],[134,2,134,3],[135,2,135,3],[137,2,137,6],[138,2,138,3],[139,2,139,3],[124,2,124,3],[126,2,126,6],[127,2,127,3],[128,2,128,3],[130,2,130,6],[131,2,131,3],[114,2,114,6],[115,2,115,3],[116,2,116,3],[118,2,118,3],[119,2,119,3],[120,2,120,3],[122,2,122,6],[123,2,123,3],[104,2,104,3],[105,2,105,3],[109,2,109,3],[110,2,110,3],[91,2,91,3],[92,2,92,3],[94,2,94,3],[95,2,95,3],[99,2,99,3],[100,2,100,3],[83,2,83,3],[84,2,84,3],[86,2,86,3],[87,2,87,3],[88,2,88,3],[89,2,89,3],[76,2,76,3],[77,2,77,3],[78,2,78,3],[79,2,79,3],[80,2,80,3],[81,2,81,3],[70,2,70,3],[71,2,71,3],[72,2,72,3],[73,2,73,3],[74,2,74,3],[75,2,75,3],[64,2,64,6],[65,2,65,6],[66,2,66,3],[67,2,67,3],[68,2,68,3],[69,2,69,3],[56,2,56,3],[57,2,57,3],[59,2,59,3],[60,2,60,3],[61,2,61,3],[62,2,62,3],[49,2,49,3],[50,2,50,3],[51,2,51,3],[52,2,52,3],[54,2,54,3],[55,2,55,3],[41,2,41,3],[42,2,42,3],[43,2,43,3],[44,2,44,3],[46,2,46,3],[47,2,47,3],[33,2,33,3],[35,2,35,6],[36,2,36,3],[37,2,37,3],[38,2,38,3],[39,2,39,3],[26,2,26,3],[27,2,27,3],[28,2,28,3],[30,2,30,3],[31,2,31,3],[32,2,32,3],[21,2,21,3],[22,2,22,3],[23,2,23,3],[24,2,24,3],[25,2,25,3],[13,2,13,6],[14,2,14,3],[15,2,15,3],[16,2,16,3],[17,2,17,3],[19,2,19,6],[0,0,0,6],[2,0,2,1],[3,0,3,1],[3,4,3,6],[8,2,8,3],[9,2,9,3],[10,2,10,3],[12,2,12,6],[20,2,20,3]]}
["Položkový rozpočet "]
[]
["Stavba :",null,"3542 Semily - Obnova VH infrastruktury a komunikací",null,"Rozpočet:",{"$f":"'305 3542305.2 Rek'!H1","v":"3542/305.2"}]
["Objekt :",null,"305 Oprava vodovodního řadu V ul. Větrná",null,{"$f":"'305 3542305.2 Rek'!G2","v":"Vodovodní napojovací body"}]
[]
["P.č.","Číslo položky","Název položky","MJ","množství","cena / MJ","celkem (Kč)","Jednotková hmotnost","Celková hmotnost","Jednotková dem.hmot.","Celková dem.hmot."]
["Díl:","1","Zemní práce",null,null,null,null,null,null,null,null,null,null,null,1]
[1,"121100002RAA","Sejmutí ornice a uložení na deponii zpětný přesun, rozprostření v tl. 200 mm, osetí","m3",5.4,null,{"$f":"E8*F8","v":0},0,{"$f":"E8*H8","v":0},0,{"$f":"E8*J8","v":0},null,null,null,2,null,null,null,null,null,null,null,null,null,null,null,1,1,1,null,null,null,null,null,null,null,null,null,null,null,null,null,null,null,null,null,null,null,null,null,null,1,{"$f":"IF(AZ8=1,G8,0)","v":0},{"$f":"IF(AZ8=2,G8,0)","v":0},{"$f":"IF(AZ8=3,G8,0)","v":0},{"$f":"IF(AZ8=4,G8,0)","v":0},{"$f":"IF(AZ8=5,G8,0)","v":0},null,null,null,null,null,null,null,null,null,null,null,null,null,null,null,null,null,null,null,null,null,1,1]
[null,null,"Vodovodní přípojky z  PE D 32x3,0 mm:",null,0,null,null,null,null,null,null,null,"Vodovodní přípojky z  PE D 32x3,0 mm:"]
[null,null,"Pracodní prostor šířky 2,0 m:",null,0,null,null,null,null,null,null,null,"Pracodní prostor šířky 2,0 m:"]
[null,null,"VP (15 kusů):13,50*2,00*0,20",null,5.4,null,null,null,null,null,null,null,"VP (15 kusů):13,50*2,00*0,20"]
[2,"130001101RRX","Příplatek za ztížené hloubení v blízkosti vedení ","m3",17.9025,null,{"$f":"E12*F12","v":0},0,{"$f":"E12*H12","v":0},0,{"$f":"E12*J12","v":0},null,null,null,2,null,null,null,null,null,null,null,null,null,null,null,1,1,1,null,null,null,null,null,null,null,null,null,null,null,null,null,null,null,null,null,null,null,null,null,null,1,{"$f":"IF(AZ12=1,G12,0)","v":0},{"$f":"IF(AZ12=2,G12,0)","v":0},{"$f":"IF(AZ12=3,G12,0)","v":0},{"$f":"IF(AZ12=4,G12,0)","v":0},{"$f":"IF(AZ12=5,G12,0)","v":0},null,null,null,null,null,null,null,null,null,null,null,null,null,null,null,null,null,null,null,null,null,1,1]
[null,null,"Včetně případných nutných dokopávek a ručního výkopu podél sousedících inženýrských sítí.",null,null,null,null,null,null,null,null,"Včetně případných nutných dokopávek a ručního výkopu podél sousedících inženýrských sítí.",null,null,3]
[null,null,"Součástí položky je i dočasné zajištění stávajících inženýrských sítí v prostoru výkopů (potrubí, kabely a pod.)",null,null,null,null,null,null,null,null,"Součástí položky je i dočasné zajištění stávajících inženýrských sítí v prostoru výkopů (potrubí, kabely a pod.)",null,null,3]
[null,null,"Vodovodní přípojky z  PE D 32x3,0 mm:",null,0,null,null,null,null,null,null,null,"Vodovodní přípojky z  PE D 32x3,0 mm:"]
[null,null,"Průměrná hloubka výkopů 1,60 m:",null,0,null,null,null,null,null,null,null,"Průměrná hloubka výkopů 1,60 m:"]
[null,null,"Výkopy:",null,0,null,null,null,null,null,null,null,"Výkopy:"]
[null,null,"V hornině tř. 3 - 4 - 29%:71,6100*0,25",null,17.9025,null,null,null,null,null,null,null,"V hornině tř. 3 - 4 - 29%:71,6100*0,25"]
[3,"132201210R00","Hloubení rýh š.do 200 cm hor.3 do 50 m3,STROJNĚ ","m3",35.805,null,{"$f":"E19*F19","v":0},0,{"$f":"E19*H19","v":0},0,{"$f":"E19*J19","v":0},null,null,null,2,null,null,null,null,null,null,null,null,null,null,null,1,1,1,null,null,null,null,null,null,null,null,null,null,null,null,null,null,null,null,null,null,null,null,null,null,1,{"$f":"IF(AZ19=1,G19,0)","v":0},{"$f":"IF(AZ19=2,G19,0)","v":0},{"$f":"IF(AZ19=3,G19,0)","v":0},{"$f":"IF(AZ19=4,G19,0)","v":0},{"$f":"IF(AZ19=5,G19,0)","v":0},null,null,null,null,null,null,null,null,null,null,null,null,null,null,null,null,null,null,null,null,null,1,1]
[null,null,"Položka obsahuje hloubení rýh traktorbagrem, naložení výkopku na dopravní prostředek pro svislé, nebo vodorovné přemístění, popř. přemístění výkopku do 3 m (po povrchu území), případné zajištění rypadel polštáři, udržování pracoviště a ochranu výkopiště proti stékání srážkové vody z okolního terénu i s jejím odvodněním, nebo odvedením, přesekání a odstranění kořenů ve výkopišti, odstranění napadávek, urovnání dna výkopu.",null,null,null,null,null,null,null,null,"Položka obsahuje hloubení rýh traktorbagrem, naložení výkopku na dopravní prostředek pro svislé, nebo vodorovné přemístění, popř. přemístění výkopku do 3 m (po povrchu území), případné zajištění rypadel polštáři, udržování pracoviště a ochranu výkopiště proti stékání srážkové vody z okolního terénu i s jejím odvodněním, nebo odvedením, přesekání a odstranění kořenů ve výkopišti, odstranění napadávek, urovnání dna výkopu.",null,null,3]
[null,null,"Vodovodní přípojky z  PE D 32x3,0 mm:",null,0,null,null,null,null,null,null,null,"Vodovodní přípojky z  PE D 32x3,0 mm:"]
[null,null,"Průměrná hloubka výkopů 1,60 m:",null,0,null,null,null,null,null,null,null,"Průměrná hloubka výkopů 1,60 m:"]
[null,null,"Výkopy:",null,0,null,null,null,null,null,null,null,"Výkopy:"]
[null,null,"Začátek provozního součtu",null,0,null,null,null,null,null,null,null,"Začátek provozního součtu"]
[null,null,"VP (15 kusů):83,00*0,70*1,60",null,92.96,null,null,null,null,null,null,null,"VP (15 kusů):83,00*0,70*1,60"]
[null,null,"Odpočet objemu konstrukce komunikací a chodníků:-69,50*0,70*0,40",null,-19.46,null,null,null,null,null,null,null,"Odpočet objemu konstrukce komunikací a chodníků:-69,50*0,70*0,40"]
[null,null,"Odpočet objemu ornice:-(83,00-69,50)*0,70*0,20",null,-1.89,null,null,null,null,null,null,null,"Odpočet objemu ornice:-(83,00-69,50)*0,70*0,20"]
[null,null,"Konec provozního součtu",null,71.61,null,null,null,null,null,null,null,"Konec provozního součtu"]
[null,null,"V hornině tř. 3 - 50%:71,6100*0,5",null,35.805,null,null,null,null,null,null,null,"V hornině tř. 3 - 50%:71,6100*0,5"]
[4,"132201219R00","Přípl.za lepivost,hloubení rýh 200cm,hor.3,STROJNĚ ","m3",17.9025,null,{"$f":"E30*F30","v":0},0,{"$f":"E30*H30","v":0},0,{"$f":"E30*J30","v":0},null,null,null,2,null,null,null,null,null,null,null,null,null,null,null,1,1,1,null,null,null,null,null,null,null,null,null,null,null,null,null,null,null,null,null,null,null,null,null,null,1,{"$f":"IF(AZ30=1,G30,0)","v":0},{"$f":"IF(AZ30=2,G30,0)","v":0},{"$f":"IF(AZ30=3,G30,0)","v":0},{"$f":"IF(AZ30=4,G30,0)","v":0},{"$f":"IF(AZ30=5,G30,0)","v":0},null,null,null,null,null,null,null,null,null,null,null,null,null,null,null,null,null,null,null,null,null,1,1]
[null,null,"Vodovodní přípojky z  PE D 32x3,0 mm:",null,0,null,null,null,null,null,null,null,"Vodovodní přípojky z  PE D 32x3,0 mm:"]
[null,null,"Průměrná hloubka výkopů 1,60 m:",null,0,null,null,null,null,null,null,null,"Průměrná hloubka výkopů 1,60 m:"]
[null,null,"Výkopy:",null,0,null,null,null,null,null,null,null,"Výkopy:"]
[null,null,"V hornině tř. 3 - 50%:71,6100*0,5*0,5",null,17.9025,null,null,null,null,null,null,null,"V hornině tř. 3 - 50%:71,6100*0,5*0,5"]
[5,"132301210R00","Hloubení rýh š.do 200 cm hor.4 do 50 m3, STROJNĚ ","m3",35.805,null,{"$f":"E35*F35","v":0},0,{"$f":"E35*H35","v":0},0,{"$f":"E35*J35","v":0},null,null,null,2,null,null,null,null,null,null,null,null,null,null,null,1,1,1,null,null,null,null,null,null,null,null,null,null,null,null,null,null,null,null,null,null,null,null,null,null,1,{"$f":"IF(AZ35=1,G35,0)","v":0},{"$f":"IF(AZ35=2,G35,0)","v":0},{"$f":"IF(AZ35=3,G35,0)","v":0},{"$f":"IF(AZ35=4,G35,0)","v":0},{"$f":"IF(AZ35=5,G35,0)","v":0},null,null,null,null,null,null,null,null,null,null,null,null,null,null,null,null,null,null,null,null,null,1,1]
[null,null,"Položka obsahuje hloubení rýh traktorbagrem, naložení výkopku na dopravní prostředek pro svislé, nebo vodorovné přemístění, popř. přemístění výkopku do 3 m (po povrchu území), případné zajištění rypadel polštáři, udržování pracoviště a ochranu výkopiště proti stékání srážkové vody z okolního terénu i s jejím odvodněním, nebo odvedením, přesekání a odstranění kořenů ve výkopišti, odstranění napadávek, urovnání dna výkopu.",null,null,null,null,null,null,null,null,"Položka obsahuje hloubení rýh traktorbagrem, naložení výkopku na dopravní prostředek pro svislé, nebo vodorovné přemístění, popř. přemístění výkopku do 3 m (po povrchu území), případné zajištění rypadel polštáři, udržování pracoviště a ochranu výkopiště proti stékání srážkové vody z okolního terénu i s jejím odvodněním, nebo odvedením, přesekání a odstranění kořenů ve výkopišti, odstranění napadávek, urovnání dna výkopu.",null,null,3]
[null,null,"Vodovodní přípojky z  PE D 32x3,0 mm:",null,0,null,null,null,null,null,null,null,"Vodovodní přípojky z  PE D 32x3,0 mm:"]
[null,null,"Průměrná hloubka výkopů 1,60 m:",null,0,null,null,null,null,null,null,null,"Průměrná hloubka výkopů 1,60 m:"]
[null,null,"Výkopy:",null,0,null,null,null,null,null,null,null,"Výkopy:"]
[null,null,"V hornině tř. 4 - 50%:71,6100*0,5",null,35.805,null,null,null,null,null,null,null,"V hornině tř. 4 - 50%:71,6100*0,5"]
[6,"132301219R00","Přípl.za lepivost,hloubení rýh 200cm,hor.4,STROJNĚ ","m3",17.9025,null,{"$f":"E41*F41","v":0},0,{"$f":"E41*H41","v":0},0,{"$f":"E41*J41","v":0},null,null,null,2,null,null,null,null,null,null,null,null,null,null,null,1,1,1,null,null,null,null,null,null,null,null,null,null,null,null,null,null,null,null,null,null,null,null,null,null,1,{"$f":"IF(AZ41=1,G41,0)","v":0},{"$f":"IF(AZ41=2,G41,0)","v":0},{"$f":"IF(AZ41=3,G41,0)","v":0},{"$f":"IF(AZ41=4,G41,0)","v":0},{"$f":"IF(AZ41=5,G41,0)","v":0},null,null,null,null,null,null,null,null,null,null,null,null,null,null,null,null,null,null,null,null,null,1,1]
[null,null,"Vodovodní přípojky z  PE D 32x3,0 mm:",null,0,null,null,null,null,null,null,null,"Vodovodní přípojky z  PE D 32x3,0 mm:"]
[null,null,"Průměrná hloubka výkopů 1,60 m:",null,0,null,null,null,null,null,null,null,"Průměrná hloubka výkopů 1,60 m:"]
[null,null,"Výkopy:",null,0,null,null,null,null,null,null,null,"Výkopy:"]
[null,null,"V hornině tř. 4 - 50%:71,6100*0,5*0,5",null,17.9025,null,null,null,null,null,null,null,"V hornině tř. 4 - 50%:71,6100*0,5*0,5"]
[7,"132901219RRX","Přípl.za provedení podchodu pod základem oplocení Ručně do objemu 0,75 m3","kus",13,null,{"$f":"E46*F46","v":0},0,{"$f":"E46*H46","v":0},0,{"$f":"E46*J46","v":0},null,null,null,2,null,null,null,null,null,null,null,null,null,null,null,1,1,1,null,null,null,null,null,null,null,null,null,null,null,null,null,null,null,null,null,null,null,null,null,null,1,{"$f":"IF(AZ46=1,G46,0)","v":0},{"$f":"IF(AZ46=2,G46,0)","v":0},{"$f":"IF(AZ46=3,G46,0)","v":0},{"$f":"IF(AZ46=4,G46,0)","v":0},{"$f":"IF(AZ46=5,G46,0)","v":0},null,null,null,null,null,null,null,null,null,null,null,null,null,null,null,null,null,null,null,null,null,1,1]
[null,null,"Vodovodní přípojky z  PE D 32x3,0 mm:",null,0,null,null,null,null,null,null,null,"Vodovodní přípojky z  PE D 32x3,0 mm:"]
[null,null,"VP (15 kusů) - Podchod pod základy oplocení:13",null,13,null,null,null,null,null,null,null,"VP (15 kusů) - Podchod pod základy oplocení:13"]
[8,"151101101R00","Pažení a rozepření stěn rýh - příložné - hl.do 2 m ","m2",265.60000000000002,null,{"$f":"E49*F49","v":0},9.8999999999999999E-4,{"$f":"E49*H49","v":0.26294400000000001},0,{"$f":"E49*J49","v":0},null,null,null,2,null,null,null,null,null,null,null,null,null,null,null,1,1,1,null,null,null,null,null,null,null,null,null,null,null,null,null,null,null,null,null,null,null,null,null,null,1,{"$f":"IF(AZ49=1,G49,0)","v":0},{"$f":"IF(AZ49=2,G49,0)","v":0},{"$f":"IF(AZ49=3,G49,0)","v":0},{"$f":"IF(AZ49=4,G49,0)","v":0},{"$f":"IF(AZ49=5,G49,0)","v":0},null,null,null,null,null,null,null,null,null,null,null,null,null,null,null,null,null,null,null,null,null,1,1]
[null,null,"Vodovodní přípojky z  PE D 32x3,0 mm:",null,0,null,null,null,null,null,null,null,"Vodovodní přípojky z  PE D 32x3,0 mm:"]
[null,null,"Průměrná hloubka výkopů 1,60 m:",null,0,null,null,null,null,null,null,null,"Průměrná hloubka výkopů 1,60 m:"]
[null,null,"Výkopy:",null,0,null,null,null,null,null,null,null,"Výkopy:"]
[null,null,"VP (15 kusů):83,00*1,60*2",null,265.60000000000002,null,null,null,null,null,null,null,"VP (15 kusů):83,00*1,60*2"]
[9,"151101111R00","Odstranění pažení stěn rýh - příložné - hl. do 2 m ","m2",265.60000000000002,null,{"$f":"E54*F54","v":0},0,{"$f":"E54*H54","v":0},0,{"$f":"E54*J54","v":0},null,null,null,2,null,null,null,null,null,null,null,null,null,null,null,1,1,1,null,null,null,null,null,null,null,null,null,null,null,null,null,null,null,null,null,null,null,null,null,null,1,{"$f":"IF(AZ54=1,G54,0)","v":0},{"$f":"IF(AZ54=2,G54,0)","v":0},{"$f":"IF(AZ54=3,G54,0)","v":0},{"$f":"IF(AZ54=4,G54,0)","v":0},{"$f":"IF(AZ54=5,G54,0)","v":0},null,null,null,null,null,null,null,null,null,null,null,null,null,null,null,null,null,null,null,null,null,1,1]
[null,null,"Vodovodní přípojky z  PE D 32x3,0 mm:",null,0,null,null,null,null,null,null,null,"Vodovodní přípojky z  PE D 32x3,0 mm:"]
[null,null,"Průměrná hloubka výkopů 1,60 m:",null,0,null,null,null,null,null,null,null,"Průměrná hloubka výkopů 1,60 m:"]
[null,null,"Výkopy:",null,0,null,null,null,null,null,null,null,"Výkopy:"]
[null,null,"VP (15 kusů):83,00*1,60*2",null,265.60000000000002,null,null,null,null,null,null,null,"VP (15 kusů):83,00*1,60*2"]
[10,"162701105RSZ","Vodorovné přemístění výkopku z hor.1-7 na skládku zhotovitele","m3",62.934899999999999,null,{"$f":"E59*F59","v":0},0,{"$f":"E59*H59","v":0},0,{"$f":"E59*J59","v":0},null,null,null,2,null,null,null,null,null,null,null,null,null,null,null,1,1,1,null,null,null,null,null,null,null,null,null,null,null,null,null,null,null,null,null,null,null,null,null,null,1,{"$f":"IF(AZ59=1,G59,0)","v":0},{"$f":"IF(AZ59=2,G59,0)","v":0},{"$f":"IF(AZ59=3,G59,0)","v":0},{"$f":"IF(AZ59=4,G59,0)","v":0},{"$f":"IF(AZ59=5,G59,0)","v":0},null,null,null,null,null,null,null,null,null,null,null,null,null,null,null,null,null,null,null,null,null,1,1]
[null,null,"Vodovodní přípojky z  PE D 32x3,0 mm:",null,0,null,null,null,null,null,null,null,"Vodovodní přípojky z  PE D 32x3,0 mm:"]
[null,null,"Průměrná hloubka výkopů 1,60 m:",null,0,null,null,null,null,null,null,null,"Průměrná hloubka výkopů 1,60 m:"]
[null,null,"Výkopy:71,6100",null,71.61,null,null,null,null,null,null,null,"Výkopy:71,6100"]
[null,null,"Odpočet objemu zásypů zeminoi:-8,6751",null,-8.6751000000000005,null,null,null,null,null,null,null,"Odpočet objemu zásypů zeminoi:-8,6751"]
[11,"174101101R00","Zásyp jam, rýh, šachet se zhutněním ","m3",43.605800000000002,null,{"$f":"E64*F64","v":0},0,{"$f":"E64*H64","v":0},0,{"$f":"E64*J64","v":0},null,null,null,2,null,null,null,null,null,null,null,null,null,null,null,1,1,1,null,null,null,null,null,null,null,null,null,null,null,null,null,null,null,null,null,null,null,null,null,null,1,{"$f":"IF(AZ64=1,G64,0)","v":0},{"$f":"IF(AZ64=2,G64,0)","v":0},{"$f":"IF(AZ64=3,G64,0)","v":0},{"$f":"IF(AZ64=4,G64,0)","v":0},{"$f":"IF(AZ64=5,G64,0)","v":0},null,null,null,null,null,null,null,null,null,null,null,null,null,null,null,null,null,null,null,null,null,1,1]
[null,null,"Položka obsahuje strojní přemístění materiálu pro zásyp ze vzdálenosti do 10 m od okraje zásypu.",null,null,null,null,null,null,null,null,"Položka obsahuje strojní přemístění materiálu pro zásyp ze vzdálenosti do 10 m od okraje zásypu.",null,null,3]
[null,null,null,null,null,null,null,null,null,null,null,null,null,null,3]
[null,null,"Vodovodní přípojky z  PE D 32x3,0 mm:",null,0,null,null,null,null,null,null,null,"Vodovodní přípojky z  PE D 32x3,0 mm:"]
[null,null,"Zásypy ŠD fr. 0-63 mm:34,9307",null,34.930700000000002,null,null,null,null,null,null,null,"Zásypy ŠD fr. 0-63 mm:34,9307"]
[null,null,"Začátek provozního součtu",null,0,null,null,null,null,null,null,null,"Začátek provozního součtu"]
[null,null,"Výkopy:",null,0,null,null,null,null,null,null,null,"Výkopy:"]
[null,null,"VP (15 kusů):69,50*0,70*1,60",null,77.84,null,null,null,null,null,null,null,"VP (15 kusů):69,50*0,70*1,60"]
[null,null,"Odpočet objemu konstrukce komunikací a chodníků:-69,50*0,70*0,40",null,-19.46,null,null,null,null,null,null,null,"Odpočet objemu konstrukce komunikací a chodníků:-69,50*0,70*0,40"]
[null,null,"Odpočet objemu lože, potrubí a obsypů:-69,50*0,70*(0,15+0,032+0,30)",null,-23.449300000000001,null,null,null,null,null,null,null,"Odpočet objemu lože, potrubí a obsypů:-69,50*0,70*(0,15+0,032+0,30)"]
[null,null,"Konec provozního součtu",null,34.930700000000002,null,null,null,null,null,null,null,"Konec provozního součtu"]
[null,null,"Zásypy zeminou:8,6751",null,8.6751000000000005,null,null,null,null,null,null,null,"Zásypy zeminou:8,6751"]
[null,null,"Začátek provozního součtu",null,0,null,null,null,null,null,null,null,"Začátek provozního součtu"]
[null,null,"Výkopy:",null,0,null,null,null,null,null,null,null,"Výkopy:"]
[null,null,"VP (15 kusů):13,50*0,70*1,60",null,15.12,null,null,null,null,null,null,null,"VP (15 kusů):13,50*0,70*1,60"]
[null,null,"Odpočez objemu ornice:-13,50*0,70*0,20",null,-1.89,null,null,null,null,null,null,null,"Odpočez objemu ornice:-13,50*0,70*0,20"]
[null,null,"Odpočet objemu lože, potrubí a obsypů:-13,50*0,70*(0,15+0,032+0,30)",null,-4.5548999999999999,null,null,null,null,null,null,null,"Odpočet objemu lože, potrubí a obsypů:-13,50*0,70*(0,15+0,032+0,30)"]
[null,null,"0",null,0,null,null,null,null,null,null,null,0]
[null,null,"Konec provozního součtu",null,8.6750999999999987,null,null,null,null,null,null,null,"Konec provozního součtu"]
[12,"175101101R00","Obsyp potrubí bez prohození sypaniny ","m3",19.2224,null,{"$f":"E83*F83","v":0},0,{"$f":"E83*H83","v":0},0,{"$f":"E83*J83","v":0},null,null,null,2,null,null,null,null,null,null,null,null,null,null,null,1,1,1,null,null,null,null,null,null,null,null,null,null,null,null,null,null,null,null,null,null,null,null,null,null,1,{"$f":"IF(AZ83=1,G83,0)","v":0},{"$f":"IF(AZ83=2,G83,0)","v":0},{"$f":"IF(AZ83=3,G83,0)","v":0},{"$f":"IF(AZ83=4,G83,0)","v":0},{"$f":"IF(AZ83=5,G83,0)","v":0},null,null,null,null,null,null,null,null,null,null,null,null,null,null,null,null,null,null,null,null,null,1,1]
[null,null,"Vodovodní přípojky z  PE D 32x3,0 mm:",null,0,null,null,null,null,null,null,null,"Vodovodní přípojky z  PE D 32x3,0 mm:"]
[null,null,"VP (15 kusů):83,00*(0,70*(0,032+0,30)-0,016^2*Pi)",null,19.2224,null,null,null,null,null,null,null,"VP (15 kusů):83,00*(0,70*(0,032+0,30)-0,016^2*Pi)"]
[13,"199000002R00","Poplatek za skládku horniny 1- 7 č. dle katal. odpadů 17 05 04","m3",62.934899999999999,null,{"$f":"E86*F86","v":0},0,{"$f":"E86*H86","v":0},0,{"$f":"E86*J86","v":0},null,null,null,2,null,null,null,null,null,null,null,null,null,null,null,1,1,1,null,null,null,null,null,null,null,null,null,null,null,null,null,null,null,null,null,null,null,null,null,null,1,{"$f":"IF(AZ86=1,G86,0)","v":0},{"$f":"IF(AZ86=2,G86,0)","v":0},{"$f":"IF(AZ86=3,G86,0)","v":0},{"$f":"IF(AZ86=4,G86,0)","v":0},{"$f":"IF(AZ86=5,G86,0)","v":0},null,null,null,null,null,null,null,null,null,null,null,null,null,null,null,null,null,null,null,null,null,1,1]
[null,null,"Vodovodní přípojky z  PE D 32x3,0 mm:",null,0,null,null,null,null,null,null,null,"Vodovodní přípojky z  PE D 32x3,0 mm:"]
[null,null,"Průměrná hloubka výkopů 1,60 m:",null,0,null,null,null,null,null,null,null,"Průměrná hloubka výkopů 1,60 m:"]
[null,null,"Výkopy:71,6100",null,71.61,null,null,null,null,null,null,null,"Výkopy:71,6100"]
[null,null,"Odpočet objemu zásypů zeminoi:-8,6751",null,-8.6751000000000005,null,null,null,null,null,null,null,"Odpočet objemu zásypů zeminoi:-8,6751"]
[14,"58337308.R","Štěrkopísek frakce 0-2 tř.B","t",38.305100000000003,null,{"$f":"E91*F91","v":0},1,{"$f":"E91*H91","v":38.305100000000003},null,{"$f":"E91*J91","v":0},null,null,null,2,null,null,null,null,null,null,null,null,null,null,null,3,1,"58337308.R",null,null,null,null,null,null,null,null,null,null,null,null,null,null,null,null,null,null,null,null,null,null,1,{"$f":"IF(AZ91=1,G91,0)","v":0},{"$f":"IF(AZ91=2,G91,0)","v":0},{"$f":"IF(AZ91=3,G91,0)","v":0},{"$f":"IF(AZ91=4,G91,0)","v":0},{"$f":"IF(AZ91=5,G91,0)","v":0},null,null,null,null,null,null,null,null,null,null,null,null,null,null,null,null,null,null,null,null,null,3,1]
[null,null,"Vodovodní přípojky z  PE D 32x3,0 mm:",null,0,null,null,null,null,null,null,null,"Vodovodní přípojky z  PE D 32x3,0 mm:"]
[null,null,"VP (15 kusů):83,00*(0,70*(0,032+0,30)-0,016^2*Pi)*1,973*1,01",null,38.305100000000003,null,null,null,null,null,null,null,"VP (15 kusů):83,00*(0,70*(0,032+0,30)-0,016^2*Pi)*1,973*1,01"]
[15,"58344197R","Štěrkodrtě frakce 0-63 A","t",66.079499999999996,null,{"$f":"E94*F94","v":0},1,{"$f":"E94*H94","v":66.079499999999996},null,{"$f":"E94*J94","v":0},null,null,null,2,null,null,null,null,null,null,null,null,null,null,null,3,1,"58344197R",null,null,null,null,null,null,null,null,null,null,null,null,null,null,null,null,null,null,null,null,null,null,1,{"$f":"IF(AZ94=1,G94,0)","v":0},{"$f":"IF(AZ94=2,G94,0)","v":0},{"$f":"IF(AZ94=3,G94,0)","v":0},{"$f":"IF(AZ94=4,G94,0)","v":0},{"$f":"IF(AZ94=5,G94,0)","v":0},null,null,null,null,null,null,null,null,null,null,null,null,null,null,null,null,null,null,null,null,null,3,1]
[null,null,"Vodovodní přípojky z  PE D 32x3,0 mm:",null,0,null,null,null,null,null,null,null,"Vodovodní přípojky z  PE D 32x3,0 mm:"]
[null,null,"Zásypy ŠD fr. 0-63 mm:34,9307*1,873*1,01",null,66.079499999999996,null,null,null,null,null,null,null,"Zásypy ŠD fr. 0-63 mm:34,9307*1,873*1,01"]
[null,"Celkem za","1 Zemní práce",null,null,null,{"$f":"SUM(G7:G96)","v":0},null,{"$f":"SUM(I7:I96)","v":104.647544},null,{"$f":"SUM(K7:K96)","v":0},null,null,null,4,null,null,null,null,null,null,null,null,null,null,null,null,null,null,null,null,null,null,null,null,null,null,null,null,null,null,null,null,null,null,null,null,null,null,null,null,null,{"$f":"SUM(BA7:BA96)","v":0},{"$f":"SUM(BB7:BB96)","v":0},{"$f":"SUM(BC7:BC96)","v":0},{"$f":"SUM(BD7:BD96)","v":0},{"$f":"SUM(BE7:BE96)","v":0}]
["Díl:","21","Úprava podloží a základ.spáry",null,null,null,null,null,null,null,null,null,null,null,1]
[16,"215901101RT5","Zhutnění podloží do 92% PS vibrační deskou","m2",58.1,null,{"$f":"E99*F99","v":0},0,{"$f":"E99*H99","v":0},0,{"$f":"E99*J99","v":0},null,null,null,2,null,null,null,null,null,null,null,null,null,null,null,1,1,1,null,null,null,null,null,null,null,null,null,null,null,null,null,null,null,null,null,null,null,null,null,null,1,{"$f":"IF(AZ99=1,G99,0)","v":0},{"$f":"IF(AZ99=2,G99,0)","v":0},{"$f":"IF(AZ99=3,G99,0)","v":0},{"$f":"IF(AZ99=4,G99,0)","v":0},{"$f":"IF(AZ99=5,G99,0)","v":0},null,null,null,null,null,null,null,null,null,null,null,null,null,null,null,null,null,null,null,null,null,1,1]
[null,null,"Vodovodní přípojky z  PE D 32x3,0 mm:",null,0,null,null,null,null,null,null,null,"Vodovodní přípojky z  PE D 32x3,0 mm:"]
[null,null,"VP (15 kusů):83,00*0,70",null,58.1,null,null,null,null,null,null,null,"VP (15 kusů):83,00*0,70"]
[null,"Celkem za","21 Úprava podloží a základ.spáry",null,null,null,{"$f":"SUM(G98:G101)","v":0},null,{"$f":"SUM(I98:I101)","v":0},null,{"$f":"SUM(K98:K101)","v":0},null,null,null,4,null,null,null,null,null,null,null,null,null,null,null,null,null,null,null,null,null,null,null,null,null,null,null,null,null,null,null,null,null,null,null,null,null,null,null,null,null,{"$f":"SUM(BA98:BA101)","v":0},{"$f":"SUM(BB98:BB101)","v":0},{"$f":"SUM(BC98:BC101)","v":0},{"$f":"SUM(BD98:BD101)","v":0},{"$f":"SUM(BE98:BE101)","v":0}]
["Díl:","45","Podkladní a vedlejší konstrukce",null,null,null,null,null,null,null,null,null,null,null,1]
[17,"451572111R00","Lože pod potrubí z kameniva těženého 0 - 4 mm ","m3",8.7149999999999999,null,{"$f":"E104*F104","v":0},0.43051,{"$f":"E104*H104","v":3.7518946500000001},0,{"$f":"E104*J104","v":0},null,null,null,2,null,null,null,null,null,null,null,null,null,null,null,1,1,1,null,null,null,null,null,null,null,null,null,null,null,null,null,null,null,null,null,null,null,null,null,null,1,{"$f":"IF(AZ104=1,G104,0)","v":0},{"$f":"IF(AZ104=2,G104,0)","v":0},{"$f":"IF(AZ104=3,G104,0)","v":0},{"$f":"IF(AZ104=4,G104,0)","v":0},{"$f":"IF(AZ104=5,G104,0)","v":0},null,null,null,null,null,null,null,null,null,null,null,null,null,null,null,null,null,null,null,null,null,1,1]
[null,null,"Vodovodní přípojky z  PE D 32x3,0 mm:",null,0,null,null,null,null,null,null,null,"Vodovodní přípojky z  PE D 32x3,0 mm:"]
[null,null,"VP (15 kusů):83,00*0,70*0,15",null,8.7149999999999999,null,null,null,null,null,null,null,"VP (15 kusů):83,00*0,70*0,15"]
[null,"Celkem za","45 Podkladní a vedlejší konstrukce",null,null,null,{"$f":"SUM(G103:G106)","v":0},null,{"$f":"SUM(I103:I106)","v":3.7518946500000001},null,{"$f":"SUM(K103:K106)","v":0},null,null,null,4,null,null,null,null,null,null,null,null,null,null,null,null,null,null,null,null,null,null,null,null,null,null,null,null,null,null,null,null,null,null,null,null,null,null,null,null,null,{"$f":"SUM(BA103:BA106)","v":0},{"$f":"SUM(BB103:BB106)","v":0},{"$f":"SUM(BC103:BC106)","v":0},{"$f":"SUM(BD103:BD106)","v":0},{"$f":"SUM(BE103:BE106)","v":0}]
["Díl:","5","Komunikace",null,null,null,null,null,null,null,null,null,null,null,1]
[18,"572701119RRX","Provizorní zásyp rýh kam. hrubě drceným nebo recyk s následným odstraněním a odvozem","m3",19.46,null,{"$f":"E109*F109","v":0},1.4804999999999999,{"$f":"E109*H109","v":28.81053},0,{"$f":"E109*J109","v":0},null,null,null,2,null,null,null,null,null,null,null,null,null,null,null,1,1,1,null,null,null,null,null,null,null,null,null,null,null,null,null,null,null,null,null,null,null,null,null,null,1,{"$f":"IF(AZ109=1,G109,0)","v":0},{"$f":"IF(AZ109=2,G109,0)","v":0},{"$f":"IF(AZ109=3,G109,0)","v":0},{"$f":"IF(AZ109=4,G109,0)","v":0},{"$f":"IF(AZ109=5,G109,0)","v":0},null,null,null,null,null,null,null,null,null,null,null,null,null,null,null,null,null,null,null,null,null,1,1]
[null,null,"Vodovodní přípojky z  PE D 32x3,0 mm:",null,0,null,null,null,null,null,null,null,"Vodovodní přípojky z  PE D 32x3,0 mm:"]
[null,null,"Provizorní zásypy konstrukce komunikací a chodníků:69,50*0,70*0,40",null,19.46,null,null,null,null,null,null,null,"Provizorní zásypy konstrukce komunikací a chodníků:69,50*0,70*0,40"]
[null,"Celkem za","5 Komunikace",null,null,null,{"$f":"SUM(G108:G111)","v":0},null,{"$f":"SUM(I108:I111)","v":28.81053},null,{"$f":"SUM(K108:K111)","v":0},null,null,null,4,null,null,null,null,null,null,null,null,null,null,null,null,null,null,null,null,null,null,null,null,null,null,null,null,null,null,null,null,null,null,null,null,null,null,null,null,null,{"$f":"SUM(BA108:BA111)","v":0},{"$f":"SUM(BB108:BB111)","v":0},{"$f":"SUM(BC108:BC111)","v":0},{"$f":"SUM(BD108:BD111)","v":0},{"$f":"SUM(BE108:BE111)","v":0}]
["Díl:","8","Trubní vedení",null,null,null,null,null,null,null,null,null,null,null,1]
[19,"871161121R00","Montáž trubek polyetylenových ve výkopu d 32 mm ","m",83,null,{"$f":"E114*F114","v":0},0,{"$f":"E114*H114","v":0},0,{"$f":"E114*J114","v":0},null,null,null,2,null,null,null,null,null,null,null,null,null,null,null,1,1,1,null,null,null,null,null,null,null,null,null,null,null,null,null,null,null,null,null,null,null,null,null,null,1,{"$f":"IF(AZ114=1,G114,0)","v":0},{"$f":"IF(AZ114=2,G114,0)","v":0},{"$f":"IF(AZ114=3,G114,0)","v":0},{"$f":"IF(AZ114=4,G114,0)","v":0},{"$f":"IF(AZ114=5,G114,0)","v":0},null,null,null,null,null,null,null,null,null,null,null,null,null,null,null,null,null,null,null,null,null,1,1]
[null,null,"V položce je uvažováno použití svitku. ",null,null,null,null,null,null,null,null,"V položce je uvažováno použití svitku. ",null,null,3]
[null,null,"Vodovodní přípojky z  PE D 32x3,0 mm:",null,0,null,null,null,null,null,null,null,"Vodovodní přípojky z  PE D 32x3,0 mm:"]
[null,null,"VP (15 kusů):83,00",null,83,null,null,null,null,null,null,null,"VP (15 kusů):83,00"]
[20,"877162121R00","Přirážka za 1 spoj elektrotvarovky d 32 mm ","kus",15,null,{"$f":"E118*F118","v":0},0,{"$f":"E118*H118","v":0},0,{"$f":"E118*J118","v":0},null,null,null,2,null,null,null,null,null,null,null,null,null,null,null,1,1,1,null,null,null,null,null,null,null,null,null,null,null,null,null,null,null,null,null,null,null,null,null,null,1,{"$f":"IF(AZ118=1,G118,0)","v":0},{"$f":"IF(AZ118=2,G118,0)","v":0},{"$f":"IF(AZ118=3,G118,0)","v":0},{"$f":"IF(AZ118=4,G118,0)","v":0},{"$f":"IF(AZ118=5,G118,0)","v":0},null,null,null,null,null,null,null,null,null,null,null,null,null,null,null,null,null,null,null,null,null,1,1]
[null,null,"Vodovodní přípojky z  PE D 32x3,0 mm:",null,0,null,null,null,null,null,null,null,"Vodovodní přípojky z  PE D 32x3,0 mm:"]
[null,null,"VP (15 kusů):",null,0,null,null,null,null,null,null,null,"VP (15 kusů):"]
[null,null,"Elektrospojka PE D32:15",null,15,null,null,null,null,null,null,null,"Elektrospojka PE D32:15"]
[21,"891183439RRX","Přepojení potrubí PE na přípojkách D 32 včetně dodávky přepojovací tvarovky","kus",15,null,{"$f":"E122*F122","v":0},1.4599999999999999E-3,{"$f":"E122*H122","v":2.1899999999999999E-2},0,{"$f":"E122*J122","v":0},null,null,null,2,null,null,null,null,null,null,null,null,null,null,null,1,1,1,null,null,null,null,null,null,null,null,null,null,null,null,null,null,null,null,null,null,null,null,null,null,1,{"$f":"IF(AZ122=1,G122,0)","v":0},{"$f":"IF(AZ122=2,G122,0)","v":0},{"$f":"IF(AZ122=3,G122,0)","v":0},{"$f":"IF(AZ122=4,G122,0)","v":0},{"$f":"IF(AZ122=5,G122,0)","v":0},null,null,null,null,null,null,null,null,null,null,null,null,null,null,null,null,null,null,null,null,null,1,1]
[null,null,"Položka obsahuje přerušení stávajícího potrubí, montáž a dodávku příslušné tvarovky pro propojení stávajícího potrubí (PE, ocel a pod.)  s novým potrubím (PE D 32x3,0 mm) přípojky  D 32",null,null,null,null,null,null,null,null,"Položka obsahuje přerušení stávajícího potrubí, montáž a dodávku příslušné tvarovky pro propojení stávajícího potrubí (PE, ocel a pod.)  s novým potrubím (PE D 32x3,0 mm) přípojky  D 32",null,null,3]
[null,null,"Vodovodní přípojky z  PE D 32x3,0 mm:",null,0,null,null,null,null,null,null,null,"Vodovodní přípojky z  PE D 32x3,0 mm:"]
[null,null,"VP (15 kusů) - Přepojení na stávající potrubí:15",null,15,null,null,null,null,null,null,null,"VP (15 kusů) - Přepojení na stávající potrubí:15"]
[22,"892233111R00","Desinfekce vodovodního potrubí DN 70 ","m",83,null,{"$f":"E126*F126","v":0},0,{"$f":"E126*H126","v":0},0,{"$f":"E126*J126","v":0},null,null,null,2,null,null,null,null,null,null,null,null,null,null,null,1,1,1,null,null,null,null,null,null,null,null,null,null,null,null,null,null,null,null,null,null,null,null,null,null,1,{"$f":"IF(AZ126=1,G126,0)","v":0},{"$f":"IF(AZ126=2,G126,0)","v":0},{"$f":"IF(AZ126=3,G126,0)","v":0},{"$f":"IF(AZ126=4,G126,0)","v":0},{"$f":"IF(AZ126=5,G126,0)","v":0},null,null,null,null,null,null,null,null,null,null,null,null,null,null,null,null,null,null,null,null,null,1,1]
[null,null,"V položce jsou zakalkulovány náklady na napuštění a vypuštění vody, dodání vody a desinfekčního prostředku a na bakteriologický rozbor vody.",null,null,null,null,null,null,null,null,"V položce jsou zakalkulovány náklady na napuštění a vypuštění vody, dodání vody a desinfekčního prostředku a na bakteriologický rozbor vody.",null,null,3]
[null,null,"Vodovodní přípojky z  PE D 32x3,0 mm:",null,0,null,null,null,null,null,null,null,"Vodovodní přípojky z  PE D 32x3,0 mm:"]
[null,null,"VP (15 kusů):83,00",null,83,null,null,null,null,null,null,null,"VP (15 kusů):83,00"]
[23,"892241111R00","Tlaková zkouška vodovodního potrubí DN 80 včetně zajištění konců potrubí","m",83,null,{"$f":"E130*F130","v":0},0,{"$f":"E130*H130","v":0},0,{"$f":"E130*J130","v":0},null,null,null,2,null,null,null,null,null,null,null,null,null,null,null,1,1,1,null,null,null,null,null,null,null,null,null,null,null,null,null,null,null,null,null,null,null,null,null,null,1,{"$f":"IF(AZ130=1,G130,0)","v":0},{"$f":"IF(AZ130=2,G130,0)","v":0},{"$f":"IF(AZ130=3,G130,0)","v":0},{"$f":"IF(AZ130=4,G130,0)","v":0},{"$f":"IF(AZ130=5,G130,0)","v":0},null,null,null,null,null,null,null,null,null,null,null,null,null,null,null,null,null,null,null,null,null,1,1]
[null,null,"V položce jsou započteny náklady na přísun, montáž, demontáž a odsun zkoušecího čerpadla, napuštění tlakovou vodou a dodání vody pro tlakovou zkoušku",null,null,null,null,null,null,null,null,"V položce jsou započteny náklady na přísun, montáž, demontáž a odsun zkoušecího čerpadla, napuštění tlakovou vodou a dodání vody pro tlakovou zkoušku",null,null,3]
[null,null,"Vodovodní přípojky z  PE D 32x3,0 mm:",null,0,null,null,null,null,null,null,null,"Vodovodní přípojky z  PE D 32x3,0 mm:"]
[null,null,"VP (15 kusů):83,00",null,83,null,null,null,null,null,null,null,"VP (15 kusů):83,00"]
[24,"899721112R00","Fólie výstražná z PVC bílá, šířka 30 cm ","m",83,null,{"$f":"E134*F134","v":0},0,{"$f":"E134*H134","v":0},0,{"$f":"E134*J134","v":0},null,null,null,2,null,null,null,null,null,null,null,null,null,null,null,1,1,1,null,null,null,null,null,null,null,null,null,null,null,null,null,null,null,null,null,null,null,null,null,null,1,{"$f":"IF(AZ134=1,G134,0)","v":0},{"$f":"IF(AZ134=2,G134,0)","v":0},{"$f":"IF(AZ134=3,G134,0)","v":0},{"$f":"IF(AZ134=4,G134,0)","v":0},{"$f":"IF(AZ134=5,G134,0)","v":0},null,null,null,null,null,null,null,null,null,null,null,null,null,null,null,null,null,null,null,null,null,1,1]
[null,null,"Vodovodní přípojky z  PE D 32x3,0 mm:",null,0,null,null,null,null,null,null,null,"Vodovodní přípojky z  PE D 32x3,0 mm:"]
[null,null,"VP (15 kusů):83,00",null,83,null,null,null,null,null,null,null,"VP (15 kusů):83,00"]
[25,"899731114R00","Vodič signalizační CYY 6 mm2 ","m",166,null,{"$f":"E137*F137","v":0},8.0000000000000007E-5,{"$f":"E137*H137","v":1.3280000000000002E-2},0,{"$f":"E137*J137","v":0},null,null,null,2,null,null,null,null,null,null,null,null,null,null,null,1,1,1,null,null,null,null,null,null,null,null,null,null,null,null,null,null,null,null,null,null,null,null,null,null,1,{"$f":"IF(AZ137=1,G137,0)","v":0},{"$f":"IF(AZ137=2,G137,0)","v":0},{"$f":"IF(AZ137=3,G137,0)","v":0},{"$f":"IF(AZ137=4,G137,0)","v":0},{"$f":"IF(AZ137=5,G137,0)","v":0},null,null,null,null,null,null,null,null,null,null,null,null,null,null,null,null,null,null,null,null,null,1,1]
[null,null,"Součástí položky je zajištění proměření vodiče a výchozí zevize.",null,null,null,null,null,null,null,null,"Součástí položky je zajištění proměření vodiče a výchozí zevize.",null,null,3]
[null,null,"Vodovodní přípojky z  PE D 32x3,0 mm:",null,0,null,null,null,null,null,null,null,"Vodovodní přípojky z  PE D 32x3,0 mm:"]
[null,null,"VP (15 kusů):83,00*2",null,166,null,null,null,null,null,null,null,"VP (15 kusů):83,00*2"]
[26,"286134204.R","Trubka tlaková PE 100 RC2 PE100 32x3,0 mm PN16","m",84.245000000000005,null,{"$f":"E141*F141","v":0},1E-3,{"$f":"E141*H141","v":8.4245E-2},null,{"$f":"E141*J141","v":0},null,null,null,2,null,null,null,null,null,null,null,null,null,null,null,3,1,"286134204.R",null,null,null,null,null,null,null,null,null,null,null,null,null,null,null,null,null,null,null,null,null,null,1,{"$f":"IF(AZ141=1,G141,0)","v":0},{"$f":"IF(AZ141=2,G141,0)","v":0},{"$f":"IF(AZ141=3,G141,0)","v":0},{"$f":"IF(AZ141=4,G141,0)","v":0},{"$f":"IF(AZ141=5,G141,0)","v":0},null,null,null,null,null,null,null,null,null,null,null,null,null,null,null,null,null,null,null,null,null,3,1]
[null,null,"Vodovodní tlaková trubka PE 100 RC2 dle normy EN 12 201-2",null,null,null,null,null,null,null,null,"Vodovodní PE tlaková trubka AQUALINE RC2 dle normy EN 12 201-2",null,null,3]
[null,null,"(doprava pitné a užitkové vody)",null,null,null,null,null,null,null,null,"(doprava pitné a užitkové vody)",null,null,3]
[null,null,"Návin 100 m",null,null,null,null,null,null,null,null,"Návin 100 m",null,null,3]
[null,null,"Vodovodní přípojky z  PE D 32x3,0 mm:",null,0,null,null,null,null,null,null,null,"Vodovodní přípojky z  PE D 32x3,0 mm:"]
[null,null,"VP (15 kusů):83,00*1,015",null,84.245000000000005,null,null,null,null,null,null,null,"VP (15 kusů):83,00*1,015"]
[27,"28653075.05.R","Elektrospojka d 32 mm PE 100 SDR11","kus",15.225,null,{"$f":"E147*F147","v":0},1.2999999999999999E-3,{"$f":"E147*H147","v":1.9792499999999998E-2},null,{"$f":"E147*J147","v":0},null,null,null,2,null,null,null,null,null,null,null,null,null,null,null,3,1,"28653075.05.R",null,null,null,null,null,null,null,null,null,null,null,null,null,null,null,null,null,null,null,null,null,null,1,{"$f":"IF(AZ147=1,G147,0)","v":0},{"$f":"IF(AZ147=2,G147,0)","v":0},{"$f":"IF(AZ147=3,G147,0)","v":0},{"$f":"IF(AZ147=4,G147,0)","v":0},{"$f":"IF(AZ147=5,G147,0)","v":0},null,null,null,null,null,null,null,null,null,null,null,null,null,null,null,null,null,null,null,null,null,3,1]
[null,null,"Vodovodní přípojky z  PE D 32x3,0 mm:",null,0,null,null,null,null,null,null,null,"Vodovodní přípojky z  PE D 32x3,0 mm:"]
[null,null,"VP (15 kusů):",null,0,null,null,null,null,null,null,null,"VP (15 kusů):"]
[null,null,"Elektrospojka PE D32:15*1,015",null,15.225,null,null,null,null,null,null,null,"Elektrospojka PE D32:15*1,015"]
[null,"Celkem za","8 Trubní vedení",null,null,null,{"$f":"SUM(G113:G150)","v":0},null,{"$f":"SUM(I113:I150)","v":0.13921749999999999},null,{"$f":"SUM(K113:K150)","v":0},null,null,null,4,null,null,null,null,null,null,null,null,null,null,null,null,null,null,null,null,null,null,null,null,null,null,null,null,null,null,null,null,null,null,null,null,null,null,null,null,null,{"$f":"SUM(BA113:BA150)","v":0},{"$f":"SUM(BB113:BB150)","v":0},{"$f":"SUM(BC113:BC150)","v":0},{"$f":"SUM(BD113:BD150)","v":0},{"$f":"SUM(BE113:BE150)","v":0}]
["Díl:","99","Staveništní přesun hmot",null,null,null,null,null,null,null,null,null,null,null,1]
[28,"998276101RXX","Přesun hmot, trubní vedení plastová, otevř. výkop pro celý rozsah objektu","t",137.34918615000001,null,{"$f":"E153*F153","v":0},0,{"$f":"E153*H153","v":0},null,{"$f":"E153*J153","v":0},null,null,null,2,null,null,null,null,null,null,null,null,null,null,null,7,1,2,null,null,null,null,null,null,null,null,null,null,null,null,null,null,null,null,null,null,null,null,null,null,1,{"$f":"IF(AZ153=1,G153,0)","v":0},{"$f":"IF(AZ153=2,G153,0)","v":0},{"$f":"IF(AZ153=3,G153,0)","v":0},{"$f":"IF(AZ153=4,G153,0)","v":0},{"$f":"IF(AZ153=5,G153,0)","v":0},null,null,null,null,null,null,null,null,null,null,null,null,null,null,null,null,null,null,null,null,null,7,1]
[null,null,"Staveništní doprava pro celý rozsah objektu - doprava zmeziskládek vybudovaného zařízení staveniště zhotovitele na jednotlivé části staveniště.",null,null,null,null,null,null,null,null,"Staveništní doprava pro celý rozsah objektu - doprava zmeziskládek vybudovaného zařízení staveniště zhotovitele na jednotlivé části staveniště.",null,null,3]
[null,"Celkem za","99 Staveništní přesun hmot",null,null,null,{"$f":"SUM(G152:G154)","v":0},null,{"$f":"SUM(I152:I154)","v":0},null,{"$f":"SUM(K152:K154)","v":0},null,null,null,4,null,null,null,null,null,null,null,null,null,null,null,null,null,null,null,null,null,null,null,null,null,null,null,null,null,null,null,null,null,null,null,null,null,null,null,null,null,{"$f":"SUM(BA152:BA154)","v":0},{"$f":"SUM(BB152:BB154)","v":0},{"$f":"SUM(BC152:BC154)","v":0},{"$f":"SUM(BD152:BD154)","v":0},{"$f":"SUM(BE152:BE154)","v":0}]

{"sheet":"306 3542306.1 KL","index":53,"n_rows":45,"n_cols":8,"rows_kept":45,"cut":false,"hidden":false,"merged":[[50,1,50,6],[29,5,29,6],[30,5,30,6],[31,5,31,6],[32,5,32,6],[33,5,33,6],[36,1,44,6],[45,1,45,6],[46,1,46,6],[47,1,47,6],[48,1,48,6],[49,1,49,6],[22,0,22,1],[7,2,7,4],[8,2,8,4],[9,2,9,4],[10,2,10,4],[11,2,11,4]]}
["POLOŽKOVÝ ROZPOČET"]
["Rozpočet",null,"3542/306.1","Oprava gravitační stoky V1 a  V2",null,"JKSO ","827.21.A"]
[]
["Objekt",null,null,null,null,"SKP "]
["306",null,"Oprava gravitační stoky V1 a  V2 ul. Větrná",null,null,"Měrná jednotka","m"]
["Stavba",null,null,null,null,"Počet jednotek",0]
["3542",null,"Semily - Obnova VH infrastruktury a komunikací",null,null,"Náklady na m.j.",{"$f":"IF(G6=0,,ROUND((F30+F32)/G6,1))","v":0}]
["Projektant",null,null,null,null,"Typ rozpočtu"]
["Zpracovatel projektu"]
["Objednatel",null,"Vodohospodářské sdružení Turnov"]
["Dodavatel",null,".",null,null,"Zakázkové číslo "]
["Rozpočtoval",null,null,null,null,"Počet listů"]
["ROZPOČTOVÉ NÁKLADY"]
["Základní rozpočtové náklady"]
[null,"HSV celkem",{"$f":"'306 3542306.1 Rek'!E14","v":0}]
["Z","PSV celkem",{"$f":"'306 3542306.1 Rek'!F14","v":0}]
["R","M práce celkem",{"$f":"'306 3542306.1 Rek'!H14","v":0}]
["N","M dodávky celkem",{"$f":"'306 3542306.1 Rek'!G14","v":0}]
["ZRN celkem",null,{"$f":"SUM(C15:C18)","v":0}]
[]
["HZS",null,{"$f":"'306 3542306.1 Rek'!I14","v":0}]
["ZRN+HZS",null,{"$f":"C19+C21","v":0}]
["ZRN+ost.náklady+HZS",null,{"$f":"C22+G23","v":0}]
["Vypracoval",null,null,"Za zhotovitele",null,"Za objednatele"]
["Jméno :",null,null,"Jméno :",null,"Jméno :"]
["Datum :",null,null,"Datum :",null,"Datum :"]
[]
["Podpis :",null,null,"Podpis:",null,"Podpis:"]
[]
["Základ pro DPH",null,21,"%  ",null,{"$f":"C23-F32","v":0}]
["DPH",null,{"$f":"C30","v":21},"% ",null,{"$f":"ROUND(PRODUCT(F30,C31/100),0)","v":0}]
["Základ pro DPH",null,0,"% ",null,0]
["DPH",null,{"$f":"C32","v":0},"% ",null,{"$f":"ROUND(PRODUCT(F32,C33/100),0)","v":0}]
["CENA ZA OBJEKT CELKEM",null,null,null,null,{"$f":"ROUND(SUM(F30:F33),0)","v":0}]
[]
["Poznámka :",null,null,null,null,null,null," "]
[null,null,null,null,null,null,null," "]
[null,null,null,null,null,null,null," "]
[null,null,null,null,null,null,null," "]
[null,null,null,null,null,null,null," "]
[null,null,null,null,null,null,null," "]
[null,null,null,null,null,null,null," "]
[null,null,null,null,null,null,null," "]
[null,null,null,null,null,null,null," "]
[null,null,null,null,null,null,null," "]

{"sheet":"306 3542306.1 Rek","index":54,"n_rows":14,"n_cols":9,"rows_kept":14,"cut":false,"hidden":false,"merged":[[0,0,0,1],[1,0,1,1],[1,6,1,8]]}
["Stavba :",null,"3542 Semily - Obnova VH infrastruktury a komunikací",null,null,null,"Rozpočet :","3542/306.1"]
["Objekt :",null,"306 Oprava gravitační stoky V1 a  V2 ul. Větrná",null,null,null,"Oprava gravitační stoky V1 a  V2"]
[]
["REKAPITULACE  STAVEBNÍCH  DÍLŮ"]
[]
[null,"Stavební díl",null,null,"HSV","PSV","Dodávka","Montáž","HZS"]
[{"$f":"'306 3542306.1 Pol'!B7","v":"1"},{"$f":"'306 3542306.1 Pol'!C7","v":"Zemní práce"},null,null,{"$f":"'306 3542306.1 Pol'!BA98","v":0},{"$f":"'306 3542306.1 Pol'!BB98","v":0},{"$f":"'306 3542306.1 Pol'!BC98","v":0},{"$f":"'306 3542306.1 Pol'!BD98","v":0},{"$f":"'306 3542306.1 Pol'!BE98","v":0}]
[{"$f":"'306 3542306.1 Pol'!B99","v":"21"},{"$f":"'306 3542306.1 Pol'!C99","v":"Úprava podloží a základ.spáry"},null,null,{"$f":"'306 3542306.1 Pol'!BA108","v":0},{"$f":"'306 3542306.1 Pol'!BB108","v":0},{"$f":"'306 3542306.1 Pol'!BC108","v":0},{"$f":"'306 3542306.1 Pol'!BD108","v":0},{"$f":"'306 3542306.1 Pol'!BE108","v":0}]
[{"$f":"'306 3542306.1 Pol'!B109","v":"45"},{"$f":"'306 3542306.1 Pol'!C109","v":"Podkladní a vedlejší konstrukce"},null,null,{"$f":"'306 3542306.1 Pol'!BA138","v":0},{"$f":"'306 3542306.1 Pol'!BB138","v":0},{"$f":"'306 3542306.1 Pol'!BC138","v":0},{"$f":"'306 3542306.1 Pol'!BD138","v":0},{"$f":"'306 3542306.1 Pol'!BE138","v":0}]
[{"$f":"'306 3542306.1 Pol'!B139","v":"5"},{"$f":"'306 3542306.1 Pol'!C139","v":"Komunikace"},null,null,{"$f":"'306 3542306.1 Pol'!BA148","v":0},{"$f":"'306 3542306.1 Pol'!BB148","v":0},{"$f":"'306 3542306.1 Pol'!BC148","v":0},{"$f":"'306 3542306.1 Pol'!BD148","v":0},{"$f":"'306 3542306.1 Pol'!BE148","v":0}]
[{"$f":"'306 3542306.1 Pol'!B149","v":"8"},{"$f":"'306 3542306.1 Pol'!C149","v":"Trubní vedení"},null,null,{"$f":"'306 3542306.1 Pol'!BA248","v":0},{"$f":"'306 3542306.1 Pol'!BB248","v":0},{"$f":"'306 3542306.1 Pol'!BC248","v":0},{"$f":"'306 3542306.1 Pol'!BD248","v":0},{"$f":"'306 3542306.1 Pol'!BE248","v":0}]
[{"$f":"'306 3542306.1 Pol'!B249","v":"93"},{"$f":"'306 3542306.1 Pol'!C249","v":"Dokončovací práce inženýrských staveb"},null,null,{"$f":"'306 3542306.1 Pol'!BA267","v":0},{"$f":"'306 3542306.1 Pol'!BB267","v":0},{"$f":"'306 3542306.1 Pol'!BC267","v":0},{"$f":"'306 3542306.1 Pol'!BD267","v":0},{"$f":"'306 3542306.1 Pol'!BE267","v":0}]
[{"$f":"'306 3542306.1 Pol'!B268","v":"99"},{"$f":"'306 3542306.1 Pol'!C268","v":"Staveništní přesun hmot"},null,null,{"$f":"'306 3542306.1 Pol'!BA271","v":0},{"$f":"'306 3542306.1 Pol'!BB271","v":0},{"$f":"'306 3542306.1 Pol'!BC271","v":0},{"$f":"'306 3542306.1 Pol'!BD271","v":0},{"$f":"'306 3542306.1 Pol'!BE271","v":0}]
[null,"CELKEM  OBJEKT",null,null,{"$f":"SUM(E7:E13)","v":0},{"$f":"SUM(F7:F13)","v":0},{"$f":"SUM(G7:G13)","v":0},{"$f":"SUM(H7:H13)","v":0},{"$f":"SUM(I7:I13)","v":0}]

{"sheet":"306 3542306.1 Pol","index":55,"n_rows":271,"n_cols":80,"rows_kept":271,"cut":false,"hidden":false,"merged":[[269,2,269,6],[260,2,260,3],[261,2,261,3],[263,2,263,6],[264,2,264,3],[265,2,265,3],[254,2,254,6],[255,2,255,6],[256,2,256,6],[257,2,257,6],[258,2,258,6],[259,2,259,6],[242,2,242,3],[243,2,243,3],[245,2,245,3],[246,2,246,3],[250,2,250,6],[251,2,251,6],[252,2,252,6],[253,2,253,6],[233,2,233,3],[234,2,234,3],[236,2,236,3],[237,2,237,3],[239,2,239,3],[240,2,240,3],[225,2,225,6],[226,2,226,3],[227,2,227,3],[228,2,228,3],[230,2,230,3],[231,2,231,3],[218,2,218,3],[219,2,219,3],[221,2,221,6],[222,2,222,6],[223,2,223,6],[224,2,224,6],[212,2,212,6],[213,2,213,6],[214,2,214,6],[215,2,215,6],[216,2,216,6],[217,2,217,3],[205,2,205,6],[206,2,206,6],[207,2,207,3],[208,2,208,3],[209,2,209,3],[210,2,210,3],[197,2,197,6],[198,2,198,3],[199,2,199,3],[201,2,201,3],[202,2,202,3],[203,2,203,3],[189,2,189,3],[191,2,191,6],[192,2,192,6],[193,2,193,6],[194,2,194,3],[195,2,195,3],[182,2,182,6],[183,2,183,6],[184,2,184,3],[185,2,185,3],[187,2,187,6],[188,2,188,3],[174,2,174,3],[176,2,176,6],[177,2,177,6],[178,2,178,3],[179,2,179,3],[180,2,180,3],[167,2,167,6],[168,2,168,3],[169,2,169,3],[170,2,170,3],[172,2,172,3],[173,2,173,3],[160,2,160,6],[161,2,161,3],[162,2,162,3],[164,2,164,6],[165,2,165,6],[166,2,166,6],[150,2,150,3],[151,2,151,3],[152,2,152,3],[154,2,154,3],[155,2,155,3],[156,2,156,3],[157,2,157,3],[158,2,158,3],[136,2,136,3],[140,2,140,3],[141,2,141,3],[142,2,142,3],[143,2,143,3],[144,2,144,3],[145,2,145,3],[146,2,146,3],[127,2,127,3],[129,2,129,3],[130,2,130,3],[132,2,132,3],[133,2,133,3],[135,2,135,3],[119,2,119,3],[120,2,120,3],[121,2,121,3],[123,2,123,3],[124,2,124,3],[126,2,126,3],[110,2,110,3],[111,2,111,3],[112,2,112,3],[113,2,113,3],[114,2,114,3],[115,2,115,3],[117,2,117,6],[118,2,118,3],[100,2,100,3],[101,2,101,3],[102,2,102,3],[103,2,103,3],[104,2,104,3],[105,2,105,3],[106,2,106,3],[90,2,90,3],[91,2,91,3],[92,2,92,3],[93,2,93,3],[95,2,95,3],[96,2,96,3],[82,2,82,3],[83,2,83,3],[84,2,84,3],[86,2,86,3],[87,2,87,3],[88,2,88,3],[75,2,75,3],[76,2,76,3],[77,2,77,3],[78,2,78,3],[79,2,79,3],[81,2,81,3],[69,2,69,6],[70,2,70,6],[71,2,71,3],[72,2,72,3],[73,2,73,3],[74,2,74,3],[61,2,61,3],[62,2,62,3],[63,2,63,3],[65,2,65,3],[66,2,66,3],[67,2,67,3],[54,2,54,3],[56,2,56,3],[57,2,57,3],[58,2,58,3],[59,2,59,3],[60,2,60,3],[48,2,48,3],[49,2,49,3],[50,2,50,3],[51,2,51,3],[52,2,52,3],[53,2,53,3],[40,2,40,3],[41,2,41,3],[43,2,43,3],[44,2,44,3],[45,2,45,3],[47,2,47,3],[32,2,32,3],[34,2,34,3],[35,2,35,3],[36,2,36,3],[38,2,38,6],[39,2,39,3],[26,2,26,3],[27,2,27,3],[28,2,28,3],[29,2,29,3],[30,2,30,3],[31,2,31,3],[21,2,21,3],[22,2,22,3],[23,2,23,3],[24,2,24,3],[25,2,25,3],[13,2,13,6],[14,2,14,3],[15,2,15,3],[16,2,16,3],[18,2,18,6],[19,2,19,3],[0,0,0,6],[2,0,2,1],[3,0,3,1],[3,4,3,6],[8,2,8,6],[9,2,9,6],[10,2,10,3],[12,2,12,6],[20,2,20,3]]}
["Položkový rozpočet "]
[]
["Stavba :",null,"3542 Semily - Obnova VH infrastruktury a komunikací",null,"Rozpočet:",{"$f":"'306 3542306.1 Rek'!H1","v":"3542/306.1"}]
["Objekt :",null,"306 Oprava gravitační stoky V1 a  V2 ul. Větrná",null,{"$f":"'306 3542306.1 Rek'!G2","v":"Oprava gravitační stoky V1 a  V2"}]
[]
["P.č.","Číslo položky","Název položky","MJ","množství","cena / MJ","celkem (Kč)","Jednotková hmotnost","Celková hmotnost","Jednotková dem.hmot.","Celková dem.hmot."]
["Díl:","1","Zemní práce",null,null,null,null,null,null,null,null,null,null,null,1]
[1,"115101201RRX","Přečerpávání nebo převedení splašků a dešť. vod ","h",250,null,{"$f":"E8*F8","v":0},0,{"$f":"E8*H8","v":0},0,{"$f":"E8*J8","v":0},null,null,null,2,null,null,null,null,null,null,null,null,null,null,null,1,1,1,null,null,null,null,null,null,null,null,null,null,null,null,null,null,null,null,null,null,null,null,null,null,1,{"$f":"IF(AZ8=1,G8,0)","v":0},{"$f":"IF(AZ8=2,G8,0)","v":0},{"$f":"IF(AZ8=3,G8,0)","v":0},{"$f":"IF(AZ8=4,G8,0)","v":0},{"$f":"IF(AZ8=5,G8,0)","v":0},null,null,null,null,null,null,null,null,null,null,null,null,null,null,null,null,null,null,null,null,null,1,1]
[null,null,"Převedení a čerpání splašků nebo dešťových vod dle zvolené technologie zhotovitele stavby.",null,null,null,null,null,null,null,null,"Převedení a čerpání splašků nebo dešťových vod dle zvolené technologie zhotovitele stavby.",null,null,3]
[null,null,"(Množství bude určeno na stavbě dle skutečnosti)",null,null,null,null,null,null,null,null,"(Množství bude určeno na stavbě dle skutečnosti)",null,null,3]
[null,null,"Stoky \"V1 a V2\" PVC DN300:250,00",null,250,null,null,null,null,null,null,null,"Stoky \"V1 a V2\" PVC DN300:250,00"]
[2,"130001101RRX","Příplatek za ztížené hloubení v blízkosti vedení ","m3",74.951899999999995,null,{"$f":"E12*F12","v":0},0,{"$f":"E12*H12","v":0},0,{"$f":"E12*J12","v":0},null,null,null,2,null,null,null,null,null,null,null,null,null,null,null,1,1,1,null,null,null,null,null,null,null,null,null,null,null,null,null,null,null,null,null,null,null,null,null,null,1,{"$f":"IF(AZ12=1,G12,0)","v":0},{"$f":"IF(AZ12=2,G12,0)","v":0},{"$f":"IF(AZ12=3,G12,0)","v":0},{"$f":"IF(AZ12=4,G12,0)","v":0},{"$f":"IF(AZ12=5,G12,0)","v":0},null,null,null,null,null,null,null,null,null,null,null,null,null,null,null,null,null,null,null,null,null,1,1]
[null,null,"Včetně případných nutných dokopávek a ručního výkopu podél sousedících inženýrských sítí.",null,null,null,null,null,null,null,null,"Včetně případných nutných dokopávek a ručního výkopu podél sousedících inženýrských sítí.",null,null,3]
[null,null,"Součástí položky je i dočasné zajištění stávajících inženýrských sítí v prostoru výkopů (potrubí, kabely a pod.)",null,null,null,null,null,null,null,null,"Součástí položky je i dočasné zajištění stávajících inženýrských sítí v prostoru výkopů (potrubí, kabely a pod.)",null,null,3]
[null,null,"Stoky \"V1 a V2\" PVC DN300:",null,0,null,null,null,null,null,null,null,"Stoky \"V1 a V2\" PVC DN300:"]
[null,null,"Výkopy:",null,0,null,null,null,null,null,null,null,"Výkopy:"]
[null,null,"V hornině tř. 3 - 4 - 19%:394,4837*0,19",null,74.951899999999995,null,null,null,null,null,null,null,"V hornině tř. 3 - 4 - 19%:394,4837*0,19"]
[3,"132201212R00","Hloubení rýh š.do 200 cm hor.3 do 1000m3,STROJNĚ ","m3",197.24180000000001,null,{"$f":"E18*F18","v":0},0,{"$f":"E18*H18","v":0},0,{"$f":"E18*J18","v":0},null,null,null,2,null,null,null,null,null,null,null,null,null,null,null,1,1,1,null,null,null,null,null,null,null,null,null,null,null,null,null,null,null,null,null,null,null,null,null,null,1,{"$f":"IF(AZ18=1,G18,0)","v":0},{"$f":"IF(AZ18=2,G18,0)","v":0},{"$f":"IF(AZ18=3,G18,0)","v":0},{"$f":"IF(AZ18=4,G18,0)","v":0},{"$f":"IF(AZ18=5,G18,0)","v":0},null,null,null,null,null,null,null,null,null,null,null,null,null,null,null,null,null,null,null,null,null,1,1]
[null,null,"Položka obsahuje hloubení rýh traktorbagrem, naložení výkopku na dopravní prostředek pro svislé, nebo vodorovné přemístění, popř. přemístění výkopku do 3 m (po povrchu území), případné zajištění rypadel polštáři, udržování pracoviště a ochranu výkopiště proti stékání srážkové vody z okolního terénu i s jejím odvodněním, nebo odvedením, přesekání a odstranění kořenů ve výkopišti, odstranění napadávek, urovnání dna výkopu.",null,null,null,null,null,null,null,null,"Položka obsahuje hloubení rýh traktorbagrem, naložení výkopku na dopravní prostředek pro svislé, nebo vodorovné přemístění, popř. přemístění výkopku do 3 m (po povrchu území), případné zajištění rypadel polštáři, udržování pracoviště a ochranu výkopiště proti stékání srážkové vody z okolního terénu i s jejím odvodněním, nebo odvedením, přesekání a odstranění kořenů ve výkopišti, odstranění napadávek, urovnání dna výkopu.",null,null,3]
[null,null,"Stoky \"V1 a V2\" PVC DN300:",null,0,null,null,null,null,null,null,null,"Stoky \"V1 a V2\" PVC DN300:"]
[null,null,"Výkopy:",null,0,null,null,null,null,null,null,null,"Výkopy:"]
[null,null,"Začátek provozního součtu",null,0,null,null,null,null,null,null,null,"Začátek provozního součtu"]
[null,null,"Stoka \"V1\" PVC DN300:",null,0,null,null,null,null,null,null,null,"Stoka \"V1\" PVC DN300:"]
[null,null,"Od RŠ1:25,20*1,30*(3,25+2,20)/2",null,89.271000000000001,null,null,null,null,null,null,null,"Od RŠ1:25,20*1,30*(3,25+2,20)/2"]
[null,null,"(49,00-25,20)*1,30*(2,20+2,15)/2",null,67.294499999999999,null,null,null,null,null,null,null,"(49,00-25,20)*1,30*(2,20+2,15)/2"]
[null,null,"Stoka \"V2\" PVC DN300:",null,0,null,null,null,null,null,null,null,"Stoka \"V2\" PVC DN300:"]
[null,null,"Od Š1 st.:38,80*1,30*(2,28+3,25)/2",null,139.4666,null,null,null,null,null,null,null,"Od Š1 st.:38,80*1,30*(2,28+3,25)/2"]
[null,null,"(85,00-38,80)*1,30*(3,25+2,15)/2",null,162.16200000000001,null,null,null,null,null,null,null,"(85,00-38,80)*1,30*(3,25+2,15)/2"]
[null,null,"Prohloubení pro RŠ:1,60*1,60*0,20*4",null,2.048,null,null,null,null,null,null,null,"Prohloubení pro RŠ:1,60*1,60*0,20*4"]
[null,null,"Rozšíření pro RŠ:1,60*(1,60-1,30)*(2,35+3,25+2,82+2,15)",null,5.0735999999999999,null,null,null,null,null,null,null,"Rozšíření pro RŠ:1,60*(1,60-1,30)*(2,35+3,25+2,82+2,15)"]
[null,null,"Odpočet objeku konstrukce komunikace:-((49,00+85,00)*1,30+1,60*(1,60-1,30)*6)*0,40",null,-70.831999999999994,null,null,null,null,null,null,null,"Odpočet objeku konstrukce komunikace:-((49,00+85,00)*1,30+1,60*(1,60-1,30)*6)*0,40"]
[null,null,"Konec provozního součtu",null,394.48370000000006,null,null,null,null,null,null,null,"Konec provozního součtu"]
[null,null,"V hornině tř. 3 - 50%:394,4837*0,5",null,197.24180000000001,null,null,null,null,null,null,null,"V hornině tř. 3 - 50%:394,4837*0,5"]
[4,"132201219R00","Přípl.za lepivost,hloubení rýh 200cm,hor.3,STROJNĚ ","m3",98.620900000000006,null,{"$f":"E34*F34","v":0},0,{"$f":"E34*H34","v":0},0,{"$f":"E34*J34","v":0},null,null,null,2,null,null,null,null,null,null,null,null,null,null,null,1,1,1,null,null,null,null,null,null,null,null,null,null,null,null,null,null,null,null,null,null,null,null,null,null,1,{"$f":"IF(AZ34=1,G34,0)","v":0},{"$f":"IF(AZ34=2,G34,0)","v":0},{"$f":"IF(AZ34=3,G34,0)","v":0},{"$f":"IF(AZ34=4,G34,0)","v":0},{"$f":"IF(AZ34=5,G34,0)","v":0},null,null,null,null,null,null,null,null,null,null,null,null,null,null,null,null,null,null,null,null,null,1,1]
[null,null,"Stoky \"V1 a V2\" PVC DN300:",null,0,null,null,null,null,null,null,null,"Stoky \"V1 a V2\" PVC DN300:"]
[null,null,"Výkopy:",null,0,null,null,null,null,null,null,null,"Výkopy:"]
[null,null,"V hornině tř. 3 - 50%:394,4837*0,5*0,5",null,98.620900000000006,null,null,null,null,null,null,null,"V hornině tř. 3 - 50%:394,4837*0,5*0,5"]
[5,"132301212R00","Hloubení rýh š.do 200 cm hor.4 do 1000 m3, STROJNĚ ","m3",197.24180000000001,null,{"$f":"E38*F38","v":0},0,{"$f":"E38*H38","v":0},0,{"$f":"E38*J38","v":0},null,null,null,2,null,null,null,null,null,null,null,null,null,null,null,1,1,1,null,null,null,null,null,null,null,null,null,null,null,null,null,null,null,null,null,null,null,null,null,null,1,{"$f":"IF(AZ38=1,G38,0)","v":0},{"$f":"IF(AZ38=2,G38,0)","v":0},{"$f":"IF(AZ38=3,G38,0)","v":0},{"$f":"IF(AZ38=4,G38,0)","v":0},{"$f":"IF(AZ38=5,G38,0)","v":0},null,null,null,null,null,null,null,null,null,null,null,null,null,null,null,null,null,null,null,null,null,1,1]
[null,null,"Položka obsahuje hloubení rýh traktorbagrem, naložení výkopku na dopravní prostředek pro svislé, nebo vodorovné přemístění, popř. přemístění výkopku do 3 m (po povrchu území), případné zajištění rypadel polštáři, udržování pracoviště a ochranu výkopiště proti stékání srážkové vody z okolního terénu i s jejím odvodněním, nebo odvedením, přesekání a odstranění kořenů ve výkopišti, odstranění napadávek, urovnání dna výkopu.",null,null,null,null,null,null,null,null,"Položka obsahuje hloubení rýh traktorbagrem, naložení výkopku na dopravní prostředek pro svislé, nebo vodorovné přemístění, popř. přemístění výkopku do 3 m (po povrchu území), případné zajištění rypadel polštáři, udržování pracoviště a ochranu výkopiště proti stékání srážkové vody z okolního terénu i s jejím odvodněním, nebo odvedením, přesekání a odstranění kořenů ve výkopišti, odstranění napadávek, urovnání dna výkopu.",null,null,3]
[null,null,"Stoky \"V1 a V2\" PVC DN300:",null,0,null,null,null,null,null,null,null,"Stoky \"V1 a V2\" PVC DN300:"]
[null,null,"Výkopy:",null,0,null,null,null,null,null,null,null,"Výkopy:"]
[null,null,"V hornině tř. 4 - 50%:394,4837*0,5",null,197.24180000000001,null,null,null,null,null,null,null,"V hornině tř. 4 - 50%:394,4837*0,5"]
[6,"132301219R00","Přípl.za lepivost,hloubení rýh 200cm,hor.4,STROJNĚ ","m3",98.620900000000006,null,{"$f":"E43*F43","v":0},0,{"$f":"E43*H43","v":0},0,{"$f":"E43*J43","v":0},null,null,null,2,null,null,null,null,null,null,null,null,null,null,null,1,1,1,null,null,null,null,null,null,null,null,null,null,null,null,null,null,null,null,null,null,null,null,null,null,1,{"$f":"IF(AZ43=1,G43,0)","v":0},{"$f":"IF(AZ43=2,G43,0)","v":0},{"$f":"IF(AZ43=3,G43,0)","v":0},{"$f":"IF(AZ43=4,G43,0)","v":0},{"$f":"IF(AZ43=5,G43,0)","v":0},null,null,null,null,null,null,null,null,null,null,null,null,null,null,null,null,null,null,null,null,null,1,1]
[null,null,"Stoky \"V1 a V2\" PVC DN300:",null,0,null,null,null,null,null,null,null,"Stoky \"V1 a V2\" PVC DN300:"]
[null,null,"Výkopy:",null,0,null,null,null,null,null,null,null,"Výkopy:"]
[null,null,"V hornině tř. 4 - 50%:394,4837*0,5*0,5",null,98.620900000000006,null,null,null,null,null,null,null,"V hornině tř. 4 - 50%:394,4837*0,5*0,5"]
[7,"151101102R00","Pažení a rozepření stěn rýh - příložné - hl.do 4 m ","m2",704.91399999999999,null,{"$f":"E47*F47","v":0},8.5999999999999998E-4,{"$f":"E47*H47","v":0.60622604000000002},0,{"$f":"E47*J47","v":0},null,null,null,2,null,null,null,null,null,null,null,null,null,null,null,1,1,1,null,null,null,null,null,null,null,null,null,null,null,null,null,null,null,null,null,null,null,null,null,null,1,{"$f":"IF(AZ47=1,G47,0)","v":0},{"$f":"IF(AZ47=2,G47,0)","v":0},{"$f":"IF(AZ47=3,G47,0)","v":0},{"$f":"IF(AZ47=4,G47,0)","v":0},{"$f":"IF(AZ47=5,G47,0)","v":0},null,null,null,null,null,null,null,null,null,null,null,null,null,null,null,null,null,null,null,null,null,1,1]
[null,null,"Stoky \"V1 a V2\" PVC DN300:",null,0,null,null,null,null,null,null,null,"Stoky \"V1 a V2\" PVC DN300:"]
[null,null,"Výkopy:",null,0,null,null,null,null,null,null,null,"Výkopy:"]
[null,null,"Stoka \"V1\" PVC DN300:",null,0,null,null,null,null,null,null,null,"Stoka \"V1\" PVC DN300:"]
[null,null,"Od RŠ1:25,20*(3,25+2,20)/2*2",null,137.34,null,null,null,null,null,null,null,"Od RŠ1:25,20*(3,25+2,20)/2*2"]
[null,null,"(49,00-25,20)*(2,20+2,15)/2*2",null,103.53,null,null,null,null,null,null,null,"(49,00-25,20)*(2,20+2,15)/2*2"]
[null,null,"Stoka \"V2\" PVC DN300:",null,0,null,null,null,null,null,null,null,"Stoka \"V2\" PVC DN300:"]
[null,null,"Od Š1 st.:38,80*(2,28+3,25)/2*2",null,214.56399999999999,null,null,null,null,null,null,null,"Od Š1 st.:38,80*(2,28+3,25)/2*2"]
[null,null,"(85,00-38,80)*(3,25+2,15)/2*2",null,249.48,null,null,null,null,null,null,null,"(85,00-38,80)*(3,25+2,15)/2*2"]
[8,"151101112R00","Odstranění pažení stěn rýh - příložné - hl. do 4 m ","m2",704.91399999999999,null,{"$f":"E56*F56","v":0},0,{"$f":"E56*H56","v":0},0,{"$f":"E56*J56","v":0},null,null,null,2,null,null,null,null,null,null,null,null,null,null,null,1,1,1,null,null,null,null,null,null,null,null,null,null,null,null,null,null,null,null,null,null,null,null,null,null,1,{"$f":"IF(AZ56=1,G56,0)","v":0},{"$f":"IF(AZ56=2,G56,0)","v":0},{"$f":"IF(AZ56=3,G56,0)","v":0},{"$f":"IF(AZ56=4,G56,0)","v":0},{"$f":"IF(AZ56=5,G56,0)","v":0},null,null,null,null,null,null,null,null,null,null,null,null,null,null,null,null,null,null,null,null,null,1,1]
[null,null,"Stoky \"V1 a V2\" PVC DN300:",null,0,null,null,null,null,null,null,null,"Stoky \"V1 a V2\" PVC DN300:"]
[null,null,"Výkopy:",null,0,null,null,null,null,null,null,null,"Výkopy:"]
[null,null,"Stoka \"V1\" PVC DN300:",null,0,null,null,null,null,null,null,null,"Stoka \"V1\" PVC DN300:"]
[null,null,"Od RŠ1:25,20*(3,25+2,20)/2*2",null,137.34,null,null,null,null,null,null,null,"Od RŠ1:25,20*(3,25+2,20)/2*2"]
[null,null,"(49,00-25,20)*(2,20+2,15)/2*2",null,103.53,null,null,null,null,null,null,null,"(49,00-25,20)*(2,20+2,15)/2*2"]
[null,null,"Stoka \"V2\" PVC DN300:",null,0,null,null,null,null,null,null,null,"Stoka \"V2\" PVC DN300:"]
[null,null,"Od Š1 st.:38,80*(2,28+3,25)/2*2",null,214.56399999999999,null,null,null,null,null,null,null,"Od Š1 st.:38,80*(2,28+3,25)/2*2"]
[null,null,"(85,00-38,80)*(3,25+2,15)/2*2",null,249.48,null,null,null,null,null,null,null,"(85,00-38,80)*(3,25+2,15)/2*2"]
[9,"162701105RSZ","Vodorovné přemístění výkopku z hor.1-7 na skládku zhotovitele","m3",394.4837,null,{"$f":"E65*F65","v":0},0,{"$f":"E65*H65","v":0},0,{"$f":"E65*J65","v":0},null,null,null,2,null,null,null,null,null,null,null,null,null,null,null,1,1,1,null,null,null,null,null,null,null,null,null,null,null,null,null,null,null,null,null,null,null,null,null,null,1,{"$f":"IF(AZ65=1,G65,0)","v":0},{"$f":"IF(AZ65=2,G65,0)","v":0},{"$f":"IF(AZ65=3,G65,0)","v":0},{"$f":"IF(AZ65=4,G65,0)","v":0},{"$f":"IF(AZ65=5,G65,0)","v":0},null,null,null,null,null,null,null,null,null,null,null,null,null,null,null,null,null,null,null,null,null,1,1]
[null,null,"Stoky \"V1 a V2\" PVC DN300:",null,0,null,null,null,null,null,null,null,"Stoky \"V1 a V2\" PVC DN300:"]
[null,null,"Výkopy:",null,0,null,null,null,null,null,null,null,"Výkopy:"]
[null,null,"V hornině tř. 3 - 4:394,4837",null,394.4837,null,null,null,null,null,null,null,"V hornině tř. 3 - 4:394,4837"]
[10,"174101101R00","Zásyp jam, rýh, šachet se zhutněním ","m3",245.62280000000001,null,{"$f":"E69*F69","v":0},0,{"$f":"E69*H69","v":0},0,{"$f":"E69*J69","v":0},null,null,null,2,null,null,null,null,null,null,null,null,null,null,null,1,1,1,null,null,null,null,null,null,null,null,null,null,null,null,null,null,null,null,null,null,null,null,null,null,1,{"$f":"IF(AZ69=1,G69,0)","v":0},{"$f":"IF(AZ69=2,G69,0)","v":0},{"$f":"IF(AZ69=3,G69,0)","v":0},{"$f":"IF(AZ69=4,G69,0)","v":0},{"$f":"IF(AZ69=5,G69,0)","v":0},null,null,null,null,null,null,null,null,null,null,null,null,null,null,null,null,null,null,null,null,null,1,1]
[null,null,"Položka obsahuje strojní přemístění materiálu pro zásyp ze vzdálenosti do 10 m od okraje zásypu.",null,null,null,null,null,null,null,null,"Položka obsahuje strojní přemístění materiálu pro zásyp ze vzdálenosti do 10 m od okraje zásypu.",null,null,3]
[null,null,null,null,null,null,null,null,null,null,null,null,null,null,3]
[null,null,"Stoky \"V1 a V2\" PVC DN300:",null,0,null,null,null,null,null,null,null,"Stoky \"V1 a V2\" PVC DN300:"]
[null,null,"Zásypy ŠD fr. 0-63 mm:245,6228",null,245.62280000000001,null,null,null,null,null,null,null,"Zásypy ŠD fr. 0-63 mm:245,6228"]
[null,null,"Začátek provozního součtu",null,0,null,null,null,null,null,null,null,"Začátek provozního součtu"]
[null,null,"Výkopy:394,4837",null,394.4837,null,null,null,null,null,null,null,"Výkopy:394,4837"]
[null,null,"Odpočet objemu lože, potrubí a obsypů:",null,0,null,null,null,null,null,null,null,"Odpočet objemu lože, potrubí a obsypů:"]
[null,null,"Stoka \"V1\" PVC DN300:-49,00*1,30*(0,15+0,30+0,30)",null,-47.774999999999999,null,null,null,null,null,null,null,"Stoka \"V1\" PVC DN300:-49,00*1,30*(0,15+0,30+0,30)"]
[null,null,"Stoka \"V2\" PVC DN300:-85,00*1,30*(0,15+0,30+0,30)",null,-82.875,null,null,null,null,null,null,null,"Stoka \"V2\" PVC DN300:-85,00*1,30*(0,15+0,30+0,30)"]
[null,null,"ODpočet objemu RŠ:-0,65^2*Pi*(2,20+2,15+2,35+3,25+2,82+2,15+0,20*6-0,40*6)",null,-18.210899999999999,null,null,null,null,null,null,null,"ODpočet objemu RŠ:-0,65^2*Pi*(2,20+2,15+2,35+3,25+2,82+2,15+0,20*6-0,40*6)"]
[null,null,"Konec provozního součtu",null,245.62280000000001,null,null,null,null,null,null,null,"Konec provozního součtu"]
[11,"175101101R00","Obsyp potrubí bez prohození sypaniny ","m3",95.048100000000005,null,{"$f":"E81*F81","v":0},0,{"$f":"E81*H81","v":0},0,{"$f":"E81*J81","v":0},null,null,null,2,null,null,null,null,null,null,null,null,null,null,null,1,1,1,null,null,null,null,null,null,null,null,null,null,null,null,null,null,null,null,null,null,null,null,null,null,1,{"$f":"IF(AZ81=1,G81,0)","v":0},{"$f":"IF(AZ81=2,G81,0)","v":0},{"$f":"IF(AZ81=3,G81,0)","v":0},{"$f":"IF(AZ81=4,G81,0)","v":0},{"$f":"IF(AZ81=5,G81,0)","v":0},null,null,null,null,null,null,null,null,null,null,null,null,null,null,null,null,null,null,null,null,null,1,1]
[null,null,"Stoky \"V1 a V2\" PVC DN300:",null,0,null,null,null,null,null,null,null,"Stoky \"V1 a V2\" PVC DN300:"]
[null,null,"Výkopy:",null,0,null,null,null,null,null,null,null,"Výkopy:"]
[null,null,"Stoka \"V1\" PVC DN300:49,00*(1,30*(0,30+0,30)-0,15^2*Pi)",null,34.756399999999999,null,null,null,null,null,null,null,"Stoka \"V1\" PVC DN300:49,00*(1,30*(0,30+0,30)-0,15^2*Pi)"]
[null,null,"Stoky \"V2\" PVC DN300:85,00*(1,30*(0,30+0,30)-0,15^2*Pi)",null,60.291699999999999,null,null,null,null,null,null,null,"Stoky \"V2\" PVC DN300:85,00*(1,30*(0,30+0,30)-0,15^2*Pi)"]
[12,"199000002R00","Poplatek za skládku horniny 1- 7 č. dle katal. odpadů 17 05 04","m3",394.4837,null,{"$f":"E86*F86","v":0},0,{"$f":"E86*H86","v":0},0,{"$f":"E86*J86","v":0},null,null,null,2,null,null,null,null,null,null,null,null,null,null,null,1,1,1,null,null,null,null,null,null,null,null,null,null,null,null,null,null,null,null,null,null,null,null,null,null,1,{"$f":"IF(AZ86=1,G86,0)","v":0},{"$f":"IF(AZ86=2,G86,0)","v":0},{"$f":"IF(AZ86=3,G86,0)","v":0},{"$f":"IF(AZ86=4,G86,0)","v":0},{"$f":"IF(AZ86=5,G86,0)","v":0},null,null,null,null,null,null,null,null,null,null,null,null,null,null,null,null,null,null,null,null,null,1,1]
[null,null,"Stoky \"V1 a V2\" PVC DN300:",null,0,null,null,null,null,null,null,null,"Stoky \"V1 a V2\" PVC DN300:"]
[null,null,"Výkopy:",null,0,null,null,null,null,null,null,null,"Výkopy:"]
[null,null,"V hornině tř. 3 - 4:394,4837",null,394.4837,null,null,null,null,null,null,null,"V hornině tř. 3 - 4:394,4837"]
[13,"58337308.R","Štěrkopísek frakce 0-2 tř.B","t",189.40520000000001,null,{"$f":"E90*F90","v":0},1,{"$f":"E90*H90","v":189.40520000000001},null,{"$f":"E90*J90","v":0},null,null,null,2,null,null,null,null,null,null,null,null,null,null,null,3,1,"58337308.R",null,null,null,null,null,null,null,null,null,null,null,null,null,null,null,null,null,null,null,null,null,null,1,{"$f":"IF(AZ90=1,G90,0)","v":0},{"$f":"IF(AZ90=2,G90,0)","v":0},{"$f":"IF(AZ90=3,G90,0)","v":0},{"$f":"IF(AZ90=4,G90,0)","v":0},{"$f":"IF(AZ90=5,G90,0)","v":0},null,null,null,null,null,null,null,null,null,null,null,null,null,null,null,null,null,null,null,null,null,3,1]
[null,null,"Stoky \"V1 a V2\" PVC DN300:",null,0,null,null,null,null,null,null,null,"Stoky \"V1 a V2\" PVC DN300:"]
[null,null,"Výkopy:",null,0,null,null,null,null,null,null,null,"Výkopy:"]
[null,null,"Stoka \"V1\" PVC DN300:49,00*(1,30*(0,30+0,30)-0,15^2*Pi)*1,973*1,01",null,69.260099999999994,null,null,null,null,null,null,null,"Stoka \"V1\" PVC DN300:49,00*(1,30*(0,30+0,30)-0,15^2*Pi)*1,973*1,01"]
[null,null,"Stoky \"V2\" PVC DN300:85,00*(1,30*(0,30+0,30)-0,15^2*Pi)*1,973*1,01",null,120.1451,null,null,null,null,null,null,null,"Stoky \"V2\" PVC DN300:85,00*(1,30*(0,30+0,30)-0,15^2*Pi)*1,973*1,01"]
[14,"58344197R","Štěrkodrtě frakce 0-63 A","t",464.65199999999999,null,{"$f":"E95*F95","v":0},1,{"$f":"E95*H95","v":464.65199999999999},null,{"$f":"E95*J95","v":0},null,null,null,2,null,null,null,null,null,null,null,null,null,null,null,3,1,"58344197R",null,null,null,null,null,null,null,null,null,null,null,null,null,null,null,null,null,null,null,null,null,null,1,{"$f":"IF(AZ95=1,G95,0)","v":0},{"$f":"IF(AZ95=2,G95,0)","v":0},{"$f":"IF(AZ95=3,G95,0)","v":0},{"$f":"IF(AZ95=4,G95,0)","v":0},{"$f":"IF(AZ95=5,G95,0)","v":0},null,null,null,null,null,null,null,null,null,null,null,null,null,null,null,null,null,null,null,null,null,3,1]
[null,null,"Stoky \"V1 a V2\" PVC DN300:",null,0,null,null,null,null,null,null,null,"Stoky \"V1 a V2\" PVC DN300:"]
[null,null,"Zásypy ŠD fr. 0-63 mm:245,6228*1,873*1,01",null,464.65199999999999,null,null,null,null,null,null,null,"Zásypy ŠD fr. 0-63 mm:245,6228*1,873*1,01"]
[null,"Celkem za","1 Zemní práce",null,null,null,{"$f":"SUM(G7:G97)","v":0},null,{"$f":"SUM(I7:I97)","v":654.66342603999999},null,{"$f":"SUM(K7:K97)","v":0},null,null,null,4,null,null,null,null,null,null,null,null,null,null,null,null,null,null,null,null,null,null,null,null,null,null,null,null,null,null,null,null,null,null,null,null,null,null,null,null,null,{"$f":"SUM(BA7:BA97)","v":0},{"$f":"SUM(BB7:BB97)","v":0},{"$f":"SUM(BC7:BC97)","v":0},{"$f":"SUM(BD7:BD97)","v":0},{"$f":"SUM(BE7:BE97)","v":0}]
["Díl:","21","Úprava podloží a základ.spáry",null,null,null,null,null,null,null,null,null,null,null,1]
[15,"215901101RT5","Zhutnění podloží do 92% PS vibrační deskou","m2",177.08,null,{"$f":"E100*F100","v":0},0,{"$f":"E100*H100","v":0},0,{"$f":"E100*J100","v":0},null,null,null,2,null,null,null,null,null,null,null,null,null,null,null,1,1,1,null,null,null,null,null,null,null,null,null,null,null,null,null,null,null,null,null,null,null,null,null,null,1,{"$f":"IF(AZ100=1,G100,0)","v":0},{"$f":"IF(AZ100=2,G100,0)","v":0},{"$f":"IF(AZ100=3,G100,0)","v":0},{"$f":"IF(AZ100=4,G100,0)","v":0},{"$f":"IF(AZ100=5,G100,0)","v":0},null,null,null,null,null,null,null,null,null,null,null,null,null,null,null,null,null,null,null,null,null,1,1]
[null,null,"Stoky \"V1 a V2\" PVC DN300:",null,0,null,null,null,null,null,null,null,"Stoky \"V1 a V2\" PVC DN300:"]
[null,null,"Výkopy:",null,0,null,null,null,null,null,null,null,"Výkopy:"]
[null,null,"Stoka \"V1\" PVC DN300:",null,0,null,null,null,null,null,null,null,"Stoka \"V1\" PVC DN300:"]
[null,null,"Od RŠ1:49,00*1,30",null,63.7,null,null,null,null,null,null,null,"Od RŠ1:49,00*1,30"]
[null,null,"Stoka \"V2\" PVC DN300:",null,0,null,null,null,null,null,null,null,"Stoka \"V2\" PVC DN300:"]
[null,null,"Od Š1 st.:85,00*1,30",null,110.5,null,null,null,null,null,null,null,"Od Š1 st.:85,00*1,30"]
[null,null,"Rozšíření pro RŠ:1,60*(1,60-1,30)*6",null,2.88,null,null,null,null,null,null,null,"Rozšíření pro RŠ:1,60*(1,60-1,30)*6"]
[null,"Celkem za","21 Úprava podloží a základ.spáry",null,null,null,{"$f":"SUM(G99:G107)","v":0},null,{"$f":"SUM(I99:I107)","v":0},null,{"$f":"SUM(K99:K107)","v":0},null,null,null,4,null,null,null,null,null,null,null,null,null,null,null,null,null,null,null,null,null,null,null,null,null,null,null,null,null,null,null,null,null,null,null,null,null,null,null,null,null,{"$f":"SUM(BA99:BA107)","v":0},{"$f":"SUM(BB99:BB107)","v":0},{"$f":"SUM(BC99:BC107)","v":0},{"$f":"SUM(BD99:BD107)","v":0},{"$f":"SUM(BE99:BE107)","v":0}]
["Díl:","45","Podkladní a vedlejší konstrukce",null,null,null,null,null,null,null,null,null,null,null,1]
[16,"451572111R00","Lože pod potrubí z kameniva těženého 0 - 4 mm ","m3",26.13,null,{"$f":"E110*F110","v":0},0.43051,{"$f":"E110*H110","v":11.2492263},0,{"$f":"E110*J110","v":0},null,null,null,2,null,null,null,null,null,null,null,null,null,null,null,1,1,1,null,null,null,null,null,null,null,null,null,null,null,null,null,null,null,null,null,null,null,null,null,null,1,{"$f":"IF(AZ110=1,G110,0)","v":0},{"$f":"IF(AZ110=2,G110,0)","v":0},{"$f":"IF(AZ110=3,G110,0)","v":0},{"$f":"IF(AZ110=4,G110,0)","v":0},{"$f":"IF(AZ110=5,G110,0)","v":0},null,null,null,null,null,null,null,null,null,null,null,null,null,null,null,null,null,null,null,null,null,1,1]
[null,null,"Stoky \"V1 a V2\" PVC DN300:",null,0,null,null,null,null,null,null,null,"Stoky \"V1 a V2\" PVC DN300:"]
[null,null,"Výkopy:",null,0,null,null,null,null,null,null,null,"Výkopy:"]
[null,null,"Stoka \"V1\" PVC DN300:",null,0,null,null,null,null,null,null,null,"Stoka \"V1\" PVC DN300:"]
[null,null,"Od RŠ1:49,00*1,30*0,15",null,9.5549999999999997,null,null,null,null,null,null,null,"Od RŠ1:49,00*1,30*0,15"]
[null,null,"Stoka \"V2\" PVC DN300:",null,0,null,null,null,null,null,null,null,"Stoka \"V2\" PVC DN300:"]
[null,null,"Od Š1 st.:85,00*1,30*0,15",null,16.574999999999999,null,null,null,null,null,null,null,"Od Š1 st.:85,00*1,30*0,15"]
[17,"452112111R00","Osazení beton. prstenců pod poklopy,výšky do100 mm ","kus",5,null,{"$f":"E117*F117","v":0},6.6E-3,{"$f":"E117*H117","v":3.3000000000000002E-2},0,{"$f":"E117*J117","v":0},null,null,null,2,null,null,null,null,null,null,null,null,null,null,null,1,1,1,null,null,null,null,null,null,null,null,null,null,null,null,null,null,null,null,null,null,null,null,null,null,1,{"$f":"IF(AZ117=1,G117,0)","v":0},{"$f":"IF(AZ117=2,G117,0)","v":0},{"$f":"IF(AZ117=3,G117,0)","v":0},{"$f":"IF(AZ117=4,G117,0)","v":0},{"$f":"IF(AZ117=5,G117,0)","v":0},null,null,null,null,null,null,null,null,null,null,null,null,null,null,null,null,null,null,null,null,null,1,1]
[null,null,"Volba položky se řídí výškou prstence nebo rámu. V položkách nejsou zakalkulovány náklady na dodávku betonových výrobků;",null,null,null,null,null,null,null,null,"Volba položky se řídí výškou prstence nebo rámu. V položkách nejsou zakalkulovány náklady na dodávku betonových výrobků;",null,null,3]
[null,null,"Stoky \"V1 a V2\" PVC DN300:",null,0,null,null,null,null,null,null,null,"Stoky \"V1 a V2\" PVC DN300:"]
[null,null,"VP 40:1",null,1,null,null,null,null,null,null,null,"VP 40:1"]
[null,null,"VP 80:2",null,2,null,null,null,null,null,null,null,"VP 80:2"]
[null,null,"VP 100:2",null,2,null,null,null,null,null,null,null,"VP 100:2"]
[18,"452112121R00","Osazení beton. prstenců pod poklopy,výšky do200 mm ","kus",3,null,{"$f":"E123*F123","v":0},6.6E-3,{"$f":"E123*H123","v":1.9799999999999998E-2},0,{"$f":"E123*J123","v":0},null,null,null,2,null,null,null,null,null,null,null,null,null,null,null,1,1,1,null,null,null,null,null,null,null,null,null,null,null,null,null,null,null,null,null,null,null,null,null,null,1,{"$f":"IF(AZ123=1,G123,0)","v":0},{"$f":"IF(AZ123=2,G123,0)","v":0},{"$f":"IF(AZ123=3,G123,0)","v":0},{"$f":"IF(AZ123=4,G123,0)","v":0},{"$f":"IF(AZ123=5,G123,0)","v":0},null,null,null,null,null,null,null,null,null,null,null,null,null,null,null,null,null,null,null,null,null,1,1]
[null,null,"Stoky \"V1 a V2\" PVC DN300:",null,0,null,null,null,null,null,null,null,"Stoky \"V1 a V2\" PVC DN300:"]
[null,null,"VP 120:3",null,3,null,null,null,null,null,null,null,"VP 120:3"]
[19,"59224346.A.R","Prstenec vyrovn šachetní TBW-Q.1 63/4","kus",1.01,null,{"$f":"E126*F126","v":0},2.8000000000000001E-2,{"$f":"E126*H126","v":2.828E-2},null,{"$f":"E126*J126","v":0},null,null,null,2,null,null,null,null,null,null,null,null,null,null,null,3,1,"59224346.A.R",null,null,null,null,null,null,null,null,null,null,null,null,null,null,null,null,null,null,null,null,null,null,1,{"$f":"IF(AZ126=1,G126,0)","v":0},{"$f":"IF(AZ126=2,G126,0)","v":0},{"$f":"IF(AZ126=3,G126,0)","v":0},{"$f":"IF(AZ126=4,G126,0)","v":0},{"$f":"IF(AZ126=5,G126,0)","v":0},null,null,null,null,null,null,null,null,null,null,null,null,null,null,null,null,null,null,null,null,null,3,1]
[null,null,"Stoky \"V1 a V2\" PVC DN300:",null,0,null,null,null,null,null,null,null,"Stoky \"V1 a V2\" PVC DN300:"]
[null,null,"VP 40:1*1,01",null,1.01,null,null,null,null,null,null,null,"VP 40:1*1,01"]
[20,"59224348.A.R","Prstenec vyrovn šachetní TBW-Q.1 63/8","kus",2.02,null,{"$f":"E129*F129","v":0},5.3999999999999999E-2,{"$f":"E129*H129","v":0.10908},null,{"$f":"E129*J129","v":0},null,null,null,2,null,null,null,null,null,null,null,null,null,null,null,3,1,"59224348.A.R",null,null,null,null,null,null,null,null,null,null,null,null,null,null,null,null,null,null,null,null,null,null,1,{"$f":"IF(AZ129=1,G129,0)","v":0},{"$f":"IF(AZ129=2,G129,0)","v":0},{"$f":"IF(AZ129=3,G129,0)","v":0},{"$f":"IF(AZ129=4,G129,0)","v":0},{"$f":"IF(AZ129=5,G129,0)","v":0},null,null,null,null,null,null,null,null,null,null,null,null,null,null,null,null,null,null,null,null,null,3,1]
[null,null,"Stoky \"V1 a V2\" PVC DN300:",null,0,null,null,null,null,null,null,null,"Stoky \"V1 a V2\" PVC DN300:"]
[null,null,"VP 80:2*1,01",null,2.02,null,null,null,null,null,null,null,"VP 80:2*1,01"]
[21,"59224349.A.R","Prstenec vyrovn šachetní TBW-Q.1 63/10","kus",2.02,null,{"$f":"E132*F132","v":0},6.8000000000000005E-2,{"$f":"E132*H132","v":0.13736000000000001},null,{"$f":"E132*J132","v":0},null,null,null,2,null,null,null,null,null,null,null,null,null,null,null,3,1,"59224349.A.R",null,null,null,null,null,null,null,null,null,null,null,null,null,null,null,null,null,null,null,null,null,null,1,{"$f":"IF(AZ132=1,G132,0)","v":0},{"$f":"IF(AZ132=2,G132,0)","v":0},{"$f":"IF(AZ132=3,G132,0)","v":0},{"$f":"IF(AZ132=4,G132,0)","v":0},{"$f":"IF(AZ132=5,G132,0)","v":0},null,null,null,null,null,null,null,null,null,null,null,null,null,null,null,null,null,null,null,null,null,3,1]
[null,null,"Stoky \"V1 a V2\" PVC DN300:",null,0,null,null,null,null,null,null,null,"Stoky \"V1 a V2\" PVC DN300:"]
[null,null,"VP 100:2*1,01",null,2.02,null,null,null,null,null,null,null,"VP 100:2*1,01"]
[22,"59224350.A.R","Prstenec vyrovn šachetní TBW-Q.1 63/12","kus",3.03,null,{"$f":"E135*F135","v":0},8.1000000000000003E-2,{"$f":"E135*H135","v":0.24542999999999998},null,{"$f":"E135*J135","v":0},null,null,null,2,null,null,null,null,null,null,null,null,null,null,null,3,1,"59224350.A.R",null,null,null,null,null,null,null,null,null,null,null,null,null,null,null,null,null,null,null,null,null,null,1,{"$f":"IF(AZ135=1,G135,0)","v":0},{"$f":"IF(AZ135=2,G135,0)","v":0},{"$f":"IF(AZ135=3,G135,0)","v":0},{"$f":"IF(AZ135=4,G135,0)","v":0},{"$f":"IF(AZ135=5,G135,0)","v":0},null,null,null,null,null,null,null,null,null,null,null,null,null,null,null,null,null,null,null,null,null,3,1]
[null,null,"Stoky \"V1 a V2\" PVC DN300:",null,0,null,null,null,null,null,null,null,"Stoky \"V1 a V2\" PVC DN300:"]
[null,null,"VP 120:3*1,01",null,3.03,null,null,null,null,null,null,null,"VP 120:3*1,01"]
[null,"Celkem za","45 Podkladní a vedlejší konstrukce",null,null,null,{"$f":"SUM(G109:G137)","v":0},null,{"$f":"SUM(I109:I137)","v":11.822176300000001},null,{"$f":"SUM(K109:K137)","v":0},null,null,null,4,null,null,null,null,null,null,null,null,null,null,null,null,null,null,null,null,null,null,null,null,null,null,null,null,null,null,null,null,null,null,null,null,null,null,null,null,null,{"$f":"SUM(BA109:BA137)","v":0},{"$f":"SUM(BB109:BB137)","v":0},{"$f":"SUM(BC109:BC137)","v":0},{"$f":"SUM(BD109:BD137)","v":0},{"$f":"SUM(BE109:BE137)","v":0}]
["Díl:","5","Komunikace",null,null,null,null,null,null,null,null,null,null,null,1]
[23,"572701119RRX","Provizorní zásyp rýh kam. hrubě drceným nebo recyk s následným odstraněním a odvozem","m3",70.831999999999994,null,{"$f":"E140*F140","v":0},1.4804999999999999,{"$f":"E140*H140","v":104.86677599999999},0,{"$f":"E140*J140","v":0},null,null,null,2,null,null,null,null,null,null,null,null,null,null,null,1,1,1,null,null,null,null,null,null,null,null,null,null,null,null,null,null,null,null,null,null,null,null,null,null,1,{"$f":"IF(AZ140=1,G140,0)","v":0},{"$f":"IF(AZ140=2,G140,0)","v":0},{"$f":"IF(AZ140=3,G140,0)","v":0},{"$f":"IF(AZ140=4,G140,0)","v":0},{"$f":"IF(AZ140=5,G140,0)","v":0},null,null,null,null,null,null,null,null,null,null,null,null,null,null,null,null,null,null,null,null,null,1,1]
[null,null,"Stoky \"V1 a V2\" PVC DN300:",null,0,null,null,null,null,null,null,null,"Stoky \"V1 a V2\" PVC DN300:"]
[null,null,"Výkopy:",null,0,null,null,null,null,null,null,null,"Výkopy:"]
[null,null,"Stoka \"V1\" PVC DN300:",null,0,null,null,null,null,null,null,null,"Stoka \"V1\" PVC DN300:"]
[null,null,"Od RŠ1:49,00*1,30*0,40",null,25.48,null,null,null,null,null,null,null,"Od RŠ1:49,00*1,30*0,40"]
[null,null,"Stoka \"V2\" PVC DN300:",null,0,null,null,null,null,null,null,null,"Stoka \"V2\" PVC DN300:"]
[null,null,"Od Š1 st.:85,00*1,30*0,40",null,44.2,null,null,null,null,null,null,null,"Od Š1 st.:85,00*1,30*0,40"]
[null,null,"Rozšíření pro RŠ:1,60*(1,60-1,30)*6*0,40",null,1.1519999999999999,null,null,null,null,null,null,null,"Rozšíření pro RŠ:1,60*(1,60-1,30)*6*0,40"]
[null,"Celkem za","5 Komunikace",null,null,null,{"$f":"SUM(G139:G147)","v":0},null,{"$f":"SUM(I139:I147)","v":104.86677599999999},null,{"$f":"SUM(K139:K147)","v":0},null,null,null,4,null,null,null,null,null,null,null,null,null,null,null,null,null,null,null,null,null,null,null,null,null,null,null,null,null,null,null,null,null,null,null,null,null,null,null,null,null,{"$f":"SUM(BA139:BA147)","v":0},{"$f":"SUM(BB139:BB147)","v":0},{"$f":"SUM(BC139:BC147)","v":0},{"$f":"SUM(BD139:BD147)","v":0},{"$f":"SUM(BE139:BE147)","v":0}]
["Díl:","8","Trubní vedení",null,null,null,null,null,null,null,null,null,null,null,1]
[24,"871373121R00","Montáž trub z plastu, gumový kroužek, DN 300 ","m",134,null,{"$f":"E150*F150","v":0},1.0000000000000001E-5,{"$f":"E150*H150","v":1.34E-3},0,{"$f":"E150*J150","v":0},null,null,null,2,null,null,null,null,null,null,null,null,null,null,null,1,1,1,null,null,null,null,null,null,null,null,null,null,null,null,null,null,null,null,null,null,null,null,null,null,1,{"$f":"IF(AZ150=1,G150,0)","v":0},{"$f":"IF(AZ150=2,G150,0)","v":0},{"$f":"IF(AZ150=3,G150,0)","v":0},{"$f":"IF(AZ150=4,G150,0)","v":0},{"$f":"IF(AZ150=5,G150,0)","v":0},null,null,null,null,null,null,null,null,null,null,null,null,null,null,null,null,null,null,null,null,null,1,1]
[null,null,"Stoky \"V1 a V2\" PVC DN300:",null,0,null,null,null,null,null,null,null,"Stoky \"V1 a V2\" PVC DN300:"]
[null,null,"Stoka \"V1\" PVC DN300:49,00",null,49,null,null,null,null,null,null,null,"Stoka \"V1\" PVC DN300:49,00"]
[null,null,"Stoky \"V2\" PVC DN300:85,00",null,85,null,null,null,null,null,null,null,"Stoky \"V2\" PVC DN300:85,00"]
[25,"877373121R00","Montáž tvarovek odboč. plast. gum. kroužek DN 300 ","kus",10,null,{"$f":"E154*F154","v":0},5.0000000000000002E-5,{"$f":"E154*H154","v":5.0000000000000001E-4},0,{"$f":"E154*J154","v":0},null,null,null,2,null,null,null,null,null,null,null,null,null,null,null,1,1,1,null,null,null,null,null,null,null,null,null,null,null,null,null,null,null,null,null,null,null,null,null,null,1,{"$f":"IF(AZ154=1,G154,0)","v":0},{"$f":"IF(AZ154=2,G154,0)","v":0},{"$f":"IF(AZ154=3,G154,0)","v":0},{"$f":"IF(AZ154=4,G154,0)","v":0},{"$f":"IF(AZ154=5,G154,0)","v":0},null,null,null,null,null,null,null,null,null,null,null,null,null,null,null,null,null,null,null,null,null,1,1]
[null,null,"Stoky \"V1 a V2\" PVC DN300:",null,0,null,null,null,null,null,null,null,"Stoky \"V1 a V2\" PVC DN300:"]
[null,null,"Odbočky pro KP:",null,0,null,null,null,null,null,null,null,"Odbočky pro KP:"]
[null,null,"DN300/150:6",null,6,null,null,null,null,null,null,null,"DN300/150:6"]
[null,null,"Odbočky pro UV:",null,0,null,null,null,null,null,null,null,"Odbočky pro UV:"]
[null,null,"DN300/200:4",null,4,null,null,null,null,null,null,null,"DN300/200:4"]
[26,"891183448RRX","Propojení potrubí PVC DN300 na stávající RŠ včetně dodávky propojovací tvarovky","kus",1,null,{"$f":"E160*F160","v":0},0.16800000000000001,{"$f":"E160*H160","v":0.16800000000000001},0,{"$f":"E160*J160","v":0},null,null,null,2,null,null,null,null,null,null,null,null,null,null,null,1,1,1,null,null,null,null,null,null,null,null,null,null,null,null,null,null,null,null,null,null,null,null,null,null,1,{"$f":"IF(AZ160=1,G160,0)","v":0},{"$f":"IF(AZ160=2,G160,0)","v":0},{"$f":"IF(AZ160=3,G160,0)","v":0},{"$f":"IF(AZ160=4,G160,0)","v":0},{"$f":"IF(AZ160=5,G160,0)","v":0},null,null,null,null,null,null,null,null,null,null,null,null,null,null,null,null,null,null,null,null,null,1,1]
[null,null,"Položka obsahuje vyříznutí otvoru do dna stávající RŠ včetně potřebné úpravy stávající kynety ve dně šachty, montáž a dodávku příslušné tvarovky pro napropojení nového potrubí se stávající RŠ DN1000.",null,null,null,null,null,null,null,null,"Položka obsahuje vyříznutí otvoru do dna stávající RŠ včetně potřebné úpravy stávající kynety ve dně šachty, montáž a dodávku příslušné tvarovky pro napropojení nového potrubí se stávající RŠ DN1000.",null,null,3]
[null,null,"Stoka \"S\" PVC DN400:",null,0,null,null,null,null,null,null,null,"Stoka \"S\" PVC DN400:"]
[null,null,"Napojení potrubí DN400 na stávající RŠ:1",null,1,null,null,null,null,null,null,null,"Napojení potrubí DN400 na stávající RŠ:1"]
[27,"892601154R00","Čištění kanalizační stoky do DN 500, nad 100 m ","m",268,null,{"$f":"E164*F164","v":0},0,{"$f":"E164*H164","v":0},0,{"$f":"E164*J164","v":0},null,null,null,2,null,null,null,null,null,null,null,null,null,null,null,1,1,1,null,null,null,null,null,null,null,null,null,null,null,null,null,null,null,null,null,null,null,null,null,null,1,{"$f":"IF(AZ164=1,G164,0)","v":0},{"$f":"IF(AZ164=2,G164,0)","v":0},{"$f":"IF(AZ164=3,G164,0)","v":0},{"$f":"IF(AZ164=4,G164,0)","v":0},{"$f":"IF(AZ164=5,G164,0)","v":0},null,null,null,null,null,null,null,null,null,null,null,null,null,null,null,null,null,null,null,null,null,1,1]
[null,null,"V položce je zakalkulováno:",null,null,null,null,null,null,null,null,"V položce je zakalkulováno:",null,null,3]
[null,null,"a) otevření a uzavření revizních šachet a čisticích kusů",null,null,null,null,null,null,null,null,"a) otevření a uzavření revizních šachet a čisticích kusů",null,null,3]
[null,null,"b) natažení vysokotlakých hadic k místu odkud se bude kanalizace čistit",null,null,null,null,null,null,null,null,"b) natažení vysokotlakých hadic k místu odkud se bude kanalizace čistit",null,null,3]
[null,null,"c) vyčištění potrubí tlakovou vodou nebo motorovým pérem.",null,null,null,null,null,null,null,null,"c) vyčištění potrubí tlakovou vodou nebo motorovým pérem.",null,null,3]
[null,null,"Stoky \"V1 a V2\" PVC DN300:",null,0,null,null,null,null,null,null,null,"Stoky \"V1 a V2\" PVC DN300:"]
[null,null,"Stoka \"V1\" PVC DN300:49,00*2",null,98,null,null,null,null,null,null,null,"Stoka \"V1\" PVC DN300:49,00"]
[null,null,"Stoky \"V2\" PVC DN300:85,00*2",null,170,null,null,null,null,null,null,null,"Stoky \"V2\" PVC DN300:85,00"]
[28,"892855114R00","Kontrola kanalizace TV kamerou do 200 m ","m",268,null,{"$f":"E172*F172","v":0},0,{"$f":"E172*H172","v":0},0,{"$f":"E172*J172","v":0},null,null,null,2,null,null,null,null,null,null,null,null,null,null,null,1,1,1,null,null,null,null,null,null,null,null,null,null,null,null,null,null,null,null,null,null,null,null,null,null,1,{"$f":"IF(AZ172=1,G172,0)","v":0},{"$f":"IF(AZ172=2,G172,0)","v":0},{"$f":"IF(AZ172=3,G172,0)","v":0},{"$f":"IF(AZ172=4,G172,0)","v":0},{"$f":"IF(AZ172=5,G172,0)","v":0},null,null,null,null,null,null,null,null,null,null,null,null,null,null,null,null,null,null,null,null,null,1,1]
[null,null,"Stoky \"V1 a V2\" PVC DN300:",null,0,null,null,null,null,null,null,null,"Stoky \"V1 a V2\" PVC DN300:"]
[null,null,"Stoka \"V1\" PVC DN300:49,00*2",null,98,null,null,null,null,null,null,null,"Stoka \"V1\" PVC DN300:49,00"]
[null,null,"Stoky \"V2\" PVC DN300:85,00*2",null,170,null,null,null,null,null,null,null,"Stoky \"V2\" PVC DN300:85,00"]
[29,"894421111RT1","Osazení betonových dílců šachet skruže rovné, na kroužek, do 0,5 t","kus",7,null,{"$f":"E176*F176","v":0},0,{"$f":"E176*H176","v":0},0,{"$f":"E176*J176","v":0},null,null,null,2,null,null,null,null,null,null,null,null,null,null,null,1,1,1,null,null,null,null,null,null,null,null,null,null,null,null,null,null,null,null,null,null,null,null,null,null,1,{"$f":"IF(AZ176=1,G176,0)","v":0},{"$f":"IF(AZ176=2,G176,0)","v":0},{"$f":"IF(AZ176=3,G176,0)","v":0},{"$f":"IF(AZ176=4,G176,0)","v":0},{"$f":"IF(AZ176=5,G176,0)","v":0},null,null,null,null,null,null,null,null,null,null,null,null,null,null,null,null,null,null,null,null,null,1,1]
[null,null,"Položka je určena pro osazení betonových dílců šachet dle DIN 4034, skruže rovné na kroužek, hmotnost do 0,5 t.",null,null,null,null,null,null,null,null,"Položka je určena pro osazení betonových dílců šachet dle DIN 4034, skruže rovné na kroužek, hmotnost do 0,5 t.",null,null,3]
[null,null,"V položce nejsou zakalkulovány náklady na dodání betonových dílců; dílce se oceňují ve specifikaci.",null,null,null,null,null,null,null,null,"V položce nejsou zakalkulovány náklady na dodání betonových dílců; dílce se oceňují ve specifikaci.",null,null,3]
[null,null,"Stoky \"V1 a V2\" PVC DN300:",null,0,null,null,null,null,null,null,null,"Stoky \"V1 a V2\" PVC DN300:"]
[null,null,"Skruž H250:2",null,2,null,null,null,null,null,null,null,"Skruž H250:2"]
[null,null,"Skruž H500:5",null,5,null,null,null,null,null,null,null,"Skruž H500:5"]
[30,"894421112RT1","Osazení betonových dílců šachet skruže rovné, na kroužek, do 1,4 t","kus",2,null,{"$f":"E182*F182","v":0},0,{"$f":"E182*H182","v":0},0,{"$f":"E182*J182","v":0},null,null,null,2,null,null,null,null,null,null,null,null,null,null,null,1,1,1,null,null,null,null,null,null,null,null,null,null,null,null,null,null,null,null,null,null,null,null,null,null,1,{"$f":"IF(AZ182=1,G182,0)","v":0},{"$f":"IF(AZ182=2,G182,0)","v":0},{"$f":"IF(AZ182=3,G182,0)","v":0},{"$f":"IF(AZ182=4,G182,0)","v":0},{"$f":"IF(AZ182=5,G182,0)","v":0},null,null,null,null,null,null,null,null,null,null,null,null,null,null,null,null,null,null,null,null,null,1,1]
[null,null,"Položka je určena pro osazení betonových dílců šachet dle DIN 4034, skruže rovné na kroužek, hmotnost přes 0,5 do 1,4 t.",null,null,null,null,null,null,null,null,"Položka je určena pro osazení betonových dílců šachet dle DIN 4034, skruže rovné na kroužek, hmotnost přes 0,5 do 1,4 t.",null,null,3]
[null,null,"V položce nejsou zakalkulovány náklady na dodání betonových dílců; dílce se oceňují ve specifikaci.",null,null,null,null,null,null,null,null,"V položce nejsou zakalkulovány náklady na dodání betonových dílců; dílce se oceňují ve specifikaci.",null,null,3]
[null,null,"Stoky \"V1 a V2\" PVC DN300:",null,0,null,null,null,null,null,null,null,"Stoky \"V1 a V2\" PVC DN300:"]
[null,null,"Dkruž H1000:2",null,2,null,null,null,null,null,null,null,"Dkruž H1000:2"]
[31,"894422111RT1","Osazení betonových dílců šachet skruže přechodové, na kroužek","kus",6,null,{"$f":"E187*F187","v":0},0,{"$f":"E187*H187","v":0},0,{"$f":"E187*J187","v":0},null,null,null,2,null,null,null,null,null,null,null,null,null,null,null,1,1,1,null,null,null,null,null,null,null,null,null,null,null,null,null,null,null,null,null,null,null,null,null,null,1,{"$f":"IF(AZ187=1,G187,0)","v":0},{"$f":"IF(AZ187=2,G187,0)","v":0},{"$f":"IF(AZ187=3,G187,0)","v":0},{"$f":"IF(AZ187=4,G187,0)","v":0},{"$f":"IF(AZ187=5,G187,0)","v":0},null,null,null,null,null,null,null,null,null,null,null,null,null,null,null,null,null,null,null,null,null,1,1]
[null,null,"Položka je určena pro osazení betonových dílců šachet dle DIN 4034, skruže přechodové, zákrytové, kónusy,... na kroužek.",null,null,null,null,null,null,null,null,"Položka je určena pro osazení betonových dílců šachet dle DIN 4034, skruže přechodové, zákrytové, kónusy,... na kroužek.",null,null,3]
[null,null,"Stoky \"V1 a V2\" PVC DN300:",null,0,null,null,null,null,null,null,null,"Stoky \"V1 a V2\" PVC DN300:"]
[null,null,"Kónus H600:6",null,6,null,null,null,null,null,null,null,"Kónus H600:6"]
[32,"894423111RT1","Osazení betonových dílců šachet do 2,0 t šachtová dna, na kroužek, do 2,0 t","kus",6,null,{"$f":"E191*F191","v":0},0,{"$f":"E191*H191","v":0},0,{"$f":"E191*J191","v":0},null,null,null,2,null,null,null,null,null,null,null,null,null,null,null,1,1,1,null,null,null,null,null,null,null,null,null,null,null,null,null,null,null,null,null,null,null,null,null,null,1,{"$f":"IF(AZ191=1,G191,0)","v":0},{"$f":"IF(AZ191=2,G191,0)","v":0},{"$f":"IF(AZ191=3,G191,0)","v":0},{"$f":"IF(AZ191=4,G191,0)","v":0},{"$f":"IF(AZ191=5,G191,0)","v":0},null,null,null,null,null,null,null,null,null,null,null,null,null,null,null,null,null,null,null,null,null,1,1]
[null,null,"Položka je určena pro osazení betonových dílců šachet dle DIN 4034, šachtová dna na kroužek, hmotnost do 2,0 t.",null,null,null,null,null,null,null,null,"Položka je určena pro osazení betonových dílců šachet dle DIN 4034, šachtová dna na kroužek, hmotnost do 2,0 t.",null,null,3]
[null,null,"V položce nejsou zakalkulovány náklady na dodání betonových dílců;",null,null,null,null,null,null,null,null,"V položce nejsou zakalkulovány náklady na dodání betonových dílců;",null,null,3]
[null,null,"Součástí položky je i podbetonování šachtového dna betonem C12/15 v min. tl. 10 cm.",null,null,null,null,null,null,null,null,"Součástí položky je i podbetonování šachtového dna betonem C12/15 v min. tl. 10 cm.",null,null,3]
[null,null,"Stoky \"V1 a V2\" PVC DN300:",null,0,null,null,null,null,null,null,null,"Stoky \"V1 a V2\" PVC DN300:"]
[null,null,"ŠD 100/40:6",null,6,null,null,null,null,null,null,null,"ŠD 100/40:6"]
[33,"899102111R00","Osazení poklopu s rámem do 100 kg s následnou demontáží","kus",6,null,{"$f":"E197*F197","v":0},7.0200000000000002E-3,{"$f":"E197*H197","v":4.2120000000000005E-2},0,{"$f":"E197*J197","v":0},null,null,null,2,null,null,null,null,null,null,null,null,null,null,null,1,1,1,null,null,null,null,null,null,null,null,null,null,null,null,null,null,null,null,null,null,null,null,null,null,1,{"$f":"IF(AZ197=1,G197,0)","v":0},{"$f":"IF(AZ197=2,G197,0)","v":0},{"$f":"IF(AZ197=3,G197,0)","v":0},{"$f":"IF(AZ197=4,G197,0)","v":0},{"$f":"IF(AZ197=5,G197,0)","v":0},null,null,null,null,null,null,null,null,null,null,null,null,null,null,null,null,null,null,null,null,null,1,1]
[null,null,"Osazení provizorních poklopů během realizace stavby  (nefakturovaný materiál zhotovitele)",null,null,null,null,null,null,null,null,"Osazení provizorních poklopů během realizace stavby  (nefakturovaný materiál zhotovitele)",null,null,3]
[null,null,"Stoky \"V1 a V2\" PVC DN300:",null,0,null,null,null,null,null,null,null,"Stoky \"V1 a V2\" PVC DN300:"]
[null,null,"Provizorní poklopy na nové RŠ:6",null,6,null,null,null,null,null,null,null,"Provizorní poklopy na nové RŠ:6"]
[34,"899711122R00","Fólie výstražná z PVC šedá, šířka 30 cm ","m",134,null,{"$f":"E201*F201","v":0},0,{"$f":"E201*H201","v":0},0,{"$f":"E201*J201","v":0},null,null,null,2,null,null,null,null,null,null,null,null,null,null,null,1,1,1,null,null,null,null,null,null,null,null,null,null,null,null,null,null,null,null,null,null,null,null,null,null,1,{"$f":"IF(AZ201=1,G201,0)","v":0},{"$f":"IF(AZ201=2,G201,0)","v":0},{"$f":"IF(AZ201=3,G201,0)","v":0},{"$f":"IF(AZ201=4,G201,0)","v":0},{"$f":"IF(AZ201=5,G201,0)","v":0},null,null,null,null,null,null,null,null,null,null,null,null,null,null,null,null,null,null,null,null,null,1,1]
[null,null,"Stoky \"V1 a V2\" PVC DN300:",null,0,null,null,null,null,null,null,null,"Stoky \"V1 a V2\" PVC DN300:"]
[null,null,"Stoka \"V1\" PVC DN300:49,00",null,49,null,null,null,null,null,null,null,"Stoka \"V1\" PVC DN300:49,00"]
[null,null,"Stoky \"V2\" PVC DN300:85,00",null,85,null,null,null,null,null,null,null,"Stoky \"V2\" PVC DN300:85,00"]
[35,"286111934.R","Trubka kanalizační PVC QUANTUM SN 12 DN 300","m",131.26320000000001,null,{"$f":"E205*F205","v":0},1.0200000000000001E-3,{"$f":"E205*H205","v":0.13388846400000001},null,{"$f":"E205*J205","v":0},null,null,null,2,null,null,null,null,null,null,null,null,null,null,null,3,1,"286111934.R",null,null,null,null,null,null,null,null,null,null,null,null,null,null,null,null,null,null,null,null,null,null,1,{"$f":"IF(AZ205=1,G205,0)","v":0},{"$f":"IF(AZ205=2,G205,0)","v":0},{"$f":"IF(AZ205=3,G205,0)","v":0},{"$f":"IF(AZ205=4,G205,0)","v":0},{"$f":"IF(AZ205=5,G205,0)","v":0},null,null,null,null,null,null,null,null,null,null,null,null,null,null,null,null,null,null,null,null,null,3,1]
[null,null,"Jedná  se  o  plnostěnné kanalizační trubky DN 150 – DN 400, SN 12 kN/m2 , zvenčí  i  zevnitř  hladké. Jsou  opatřeny hrdlem,  v  němž  je  vložen vysoce  elastický  jazýčkový  kroužek.  konce  trubek  (dříků)  jsou opatřeny  zkosením  pod  úhlem  15°.  Způsob  použití  trubek  je  „U“  dle  normy  ČSN  EN  1401-1, tj. mimo budovy. Spolehlivá  funkce  těsnění  je  jištěna  výztužným  kroužkem  z  elastomeru.  Je  tak  zamezeno  vypad-nutí nebo vytlačení kroužku při manipulaci a montáži. Tento systém zaručuje při správné montáži ",null,null,null,null,null,null,null,null,"Jedná  se  o  plnostěnné kanalizační trubky DN 150 – DN 400, SN 12 kN/m2 , zvenčí  i  zevnitř  hladké. Jsou  opatřeny hrdlem,  v  němž  je  vložen vysoce  elastický  jazýčkový  kroužek.  konce  trubek  (dříků)  jsou opatřeny  zkosením  pod  úhlem  15°.  Způsob  použití  trubek  je  „U“  dle  normy  ČSN  EN  1401-1, tj. mimo budovy. Spolehlivá  funkce  těsnění  je  jištěna  výztužným  kroužkem  z  elastomeru.  Je  tak  zamezeno  vypad-nutí nebo vytlačení kroužku při manipulaci a montáži. Tento systém zaručuje při správné montáži ",null,null,3]
[null,null,"dokonalou  těsnost  do  výšky  vodního  sloupce  5  metrů.",null,null,null,null,null,null,null,null,"dokonalou  těsnost  do  výšky  vodního  sloupce  5  metrů.",null,null,3]
[null,null,"Stoky \"V1 a V2\" PVC DN300:",null,0,null,null,null,null,null,null,null,"Stoky \"V1 a V2\" PVC DN300:"]
[null,null,"Stoka \"V1\" PVC DN300:49,00*1,03",null,50.47,null,null,null,null,null,null,null,"Stoka \"V1\" PVC DN300:49,00*1,03"]
[null,null,"Stoky \"V2\" PVC DN300:85,00*1,03",null,87.55,null,null,null,null,null,null,null,"Stoky \"V2\" PVC DN300:85,00*1,03"]
[null,null,"Odpočet odboček:-(0,640*6+0,680*4)*1,03",null,-6.7568000000000001,null,null,null,null,null,null,null,"Odpočet odboček:-(0,640*6+0,680*4)*1,03"]
[36,"286506131.R","Odbočka kanaliz. PVC QUANTUM SDR 34 DN 300/150/45°","kus",6.09,null,{"$f":"E212*F212","v":0},6.13E-3,{"$f":"E212*H212","v":3.7331700000000002E-2},null,{"$f":"E212*J212","v":0},null,null,null,2,null,null,null,null,null,null,null,null,null,null,null,3,1,"286506131.R",null,null,null,null,null,null,null,null,null,null,null,null,null,null,null,null,null,null,null,null,null,null,1,{"$f":"IF(AZ212=1,G212,0)","v":0},{"$f":"IF(AZ212=2,G212,0)","v":0},{"$f":"IF(AZ212=3,G212,0)","v":0},{"$f":"IF(AZ212=4,G212,0)","v":0},{"$f":"IF(AZ212=5,G212,0)","v":0},null,null,null,null,null,null,null,null,null,null,null,null,null,null,null,null,null,null,null,null,null,3,1]
[null,null,"Tvarovky kanalizačního systému PVC QUANTUM SDR 34",null,null,null,null,null,null,null,null,"Tvarovky kanalizačního systému PVC QUANTUM SDR 34",null,null,3]
[null,null,"Teplota při pokládce: min. -10 °C, max. 50 °C",null,null,null,null,null,null,null,null,"Teplota při pokládce: min. -10 °C, max. 50 °C",null,null,3]
[null,null,"Max. teplota média: trvale do 40 °C, krátkodobě do 60 °C",null,null,null,null,null,null,null,null,"Max. teplota média: trvale do 40 °C, krátkodobě do 60 °C",null,null,3]
[null,null,"Orientační výška krytí: min. 0,5 m, max. 10 m",null,null,null,null,null,null,null,null,"Orientační výška krytí: min. 0,5 m, max. 10 m",null,null,3]
[null,null,"Max. rychlost média: 12 m/s",null,null,null,null,null,null,null,null,"Max. rychlost média: 12 m/s",null,null,3]
[null,null,"Stoky \"V1 a V2\" PVC DN300:",null,0,null,null,null,null,null,null,null,"Stoky \"V1 a V2\" PVC DN300:"]
[null,null,"Odbočky pro KP:",null,0,null,null,null,null,null,null,null,"Odbočky pro KP:"]
[null,null,"DN300/150:6*1,015",null,6.09,null,null,null,null,null,null,null,"DN300/150:6*1,015"]
[37,"286506132.R","Odbočka kanaliz. PVC QUANTUM SDR 34 DN 300/200/45°","kus",4.0599999999999996,null,{"$f":"E221*F221","v":0},7.1700000000000002E-3,{"$f":"E221*H221","v":2.9110199999999999E-2},null,{"$f":"E221*J221","v":0},null,null,null,2,null,null,null,null,null,null,null,null,null,null,null,3,1,"286506132.R",null,null,null,null,null,null,null,null,null,null,null,null,null,null,null,null,null,null,null,null,null,null,1,{"$f":"IF(AZ221=1,G221,0)","v":0},{"$f":"IF(AZ221=2,G221,0)","v":0},{"$f":"IF(AZ221=3,G221,0)","v":0},{"$f":"IF(AZ221=4,G221,0)","v":0},{"$f":"IF(AZ221=5,G221,0)","v":0},null,null,null,null,null,null,null,null,null,null,null,null,null,null,null,null,null,null,null,null,null,3,1]
[null,null,"Tvarovky kanalizačního systému PVC QUANTUM SDR 34",null,null,null,null,null,null,null,null,"Tvarovky kanalizačního systému PVC QUANTUM SDR 34",null,null,3]
[null,null,"Teplota při pokládce: min. -10 °C, max. 50 °C",null,null,null,null,null,null,null,null,"Teplota při pokládce: min. -10 °C, max. 50 °C",null,null,3]
[null,null,"Max. teplota média: trvale do 40 °C, krátkodobě do 60 °C",null,null,null,null,null,null,null,null,"Max. teplota média: trvale do 40 °C, krátkodobě do 60 °C",null,null,3]
[null,null,"Orientační výška krytí: min. 0,5 m, max. 10 m",null,null,null,null,null,null,null,null,"Orientační výška krytí: min. 0,5 m, max. 10 m",null,null,3]
[null,null,"Max. rychlost média: 12 m/s",null,null,null,null,null,null,null,null,"Max. rychlost média: 12 m/s",null,null,3]
[null,null,"Stoky \"V1 a V2\" PVC DN300:",null,0,null,null,null,null,null,null,null,"Stoky \"V1 a V2\" PVC DN300:"]
[null,null,"Odbočky pro UV:",null,0,null,null,null,null,null,null,null,"Odbočky pro UV:"]
[null,null,"DN400/200:4*1,015",null,4.0599999999999996,null,null,null,null,null,null,null,"DN400/200:4*1,015"]
[38,"59224353.A.R","Konus šachetní TBR-Q.1 100-63/58/12 KPS","kus",6.06,null,{"$f":"E230*F230","v":0},0.58499999999999996,{"$f":"E230*H230","v":3.5450999999999997},null,{"$f":"E230*J230","v":0},null,null,null,2,null,null,null,null,null,null,null,null,null,null,null,3,1,"59224353.A.R",null,null,null,null,null,null,null,null,null,null,null,null,null,null,null,null,null,null,null,null,null,null,1,{"$f":"IF(AZ230=1,G230,0)","v":0},{"$f":"IF(AZ230=2,G230,0)","v":0},{"$f":"IF(AZ230=3,G230,0)","v":0},{"$f":"IF(AZ230=4,G230,0)","v":0},{"$f":"IF(AZ230=5,G230,0)","v":0},null,null,null,null,null,null,null,null,null,null,null,null,null,null,null,null,null,null,null,null,null,3,1]
[null,null,"Stoky \"V1 a V2\" PVC DN300:",null,0,null,null,null,null,null,null,null,"Stoky \"V1 a V2\" PVC DN300:"]
[null,null,"Kónus H600:6*1,01",null,6.06,null,null,null,null,null,null,null,"Kónus H600:6*1,01"]
[39,"59224358.A.R","Skruž šachetní TBS-Q.1 100/25/12 PS","kus",2.02,null,{"$f":"E233*F233","v":0},0.25,{"$f":"E233*H233","v":0.505},null,{"$f":"E233*J233","v":0},null,null,null,2,null,null,null,null,null,null,null,null,null,null,null,3,1,"59224358.A.R",null,null,null,null,null,null,null,null,null,null,null,null,null,null,null,null,null,null,null,null,null,null,1,{"$f":"IF(AZ233=1,G233,0)","v":0},{"$f":"IF(AZ233=2,G233,0)","v":0},{"$f":"IF(AZ233=3,G233,0)","v":0},{"$f":"IF(AZ233=4,G233,0)","v":0},{"$f":"IF(AZ233=5,G233,0)","v":0},null,null,null,null,null,null,null,null,null,null,null,null,null,null,null,null,null,null,null,null,null,3,1]
[null,null,"Stoky \"V1 a V2\" PVC DN300:",null,0,null,null,null,null,null,null,null,"Stoky \"V1 a V2\" PVC DN300:"]
[null,null,"Skruž H250:2*1,01",null,2.02,null,null,null,null,null,null,null,"Skruž H250:2*1,01"]
[40,"59224361.A.R","Skruž šachetní TBS-Q.1 100/50/12 PS","kus",5.05,null,{"$f":"E236*F236","v":0},0.5,{"$f":"E236*H236","v":2.5249999999999999},null,{"$f":"E236*J236","v":0},null,null,null,2,null,null,null,null,null,null,null,null,null,null,null,3,1,"59224361.A.R",null,null,null,null,null,null,null,null,null,null,null,null,null,null,null,null,null,null,null,null,null,null,1,{"$f":"IF(AZ236=1,G236,0)","v":0},{"$f":"IF(AZ236=2,G236,0)","v":0},{"$f":"IF(AZ236=3,G236,0)","v":0},{"$f":"IF(AZ236=4,G236,0)","v":0},{"$f":"IF(AZ236=5,G236,0)","v":0},null,null,null,null,null,null,null,null,null,null,null,null,null,null,null,null,null,null,null,null,null,3,1]
[null,null,"Stoky \"V1 a V2\" PVC DN300:",null,0,null,null,null,null,null,null,null,"Stoky \"V1 a V2\" PVC DN300:"]
[null,null,"Skruž H500:5*1,01",null,5.05,null,null,null,null,null,null,null,"Skruž H500:5*1,01"]
[41,"59224364.A.R","Skruž šachetní TBS-Q.1 100/100/12 PS","kus",2.02,null,{"$f":"E239*F239","v":0},1,{"$f":"E239*H239","v":2.02},null,{"$f":"E239*J239","v":0},null,null,null,2,null,null,null,null,null,null,null,null,null,null,null,3,1,"59224364.A.R",null,null,null,null,null,null,null,null,null,null,null,null,null,null,null,null,null,null,null,null,null,null,1,{"$f":"IF(AZ239=1,G239,0)","v":0},{"$f":"IF(AZ239=2,G239,0)","v":0},{"$f":"IF(AZ239=3,G239,0)","v":0},{"$f":"IF(AZ239=4,G239,0)","v":0},{"$f":"IF(AZ239=5,G239,0)","v":0},null,null,null,null,null,null,null,null,null,null,null,null,null,null,null,null,null,null,null,null,null,3,1]
[null,null,"Stoky \"V1 a V2\" PVC DN300:",null,0,null,null,null,null,null,null,null,"Stoky \"V1 a V2\" PVC DN300:"]
[null,null,"Dkruž H1000:2*1,01",null,2.02,null,null,null,null,null,null,null,"Dkruž H1000:2*1,01"]
[42,"59224366.A.R","Dno šachetní TBZ-Q.1 100/60 V nax 40 včetně kynety dle PD","kus",6.06,null,{"$f":"E242*F242","v":0},1.6,{"$f":"E242*H242","v":9.6959999999999997},null,{"$f":"E242*J242","v":0},null,null,null,2,null,null,null,null,null,null,null,null,null,null,null,3,1,"59224366.A.R",null,null,null,null,null,null,null,null,null,null,null,null,null,null,null,null,null,null,null,null,null,null,1,{"$f":"IF(AZ242=1,G242,0)","v":0},{"$f":"IF(AZ242=2,G242,0)","v":0},{"$f":"IF(AZ242=3,G242,0)","v":0},{"$f":"IF(AZ242=4,G242,0)","v":0},{"$f":"IF(AZ242=5,G242,0)","v":0},null,null,null,null,null,null,null,null,null,null,null,null,null,null,null,null,null,null,null,null,null,3,1]
[null,null,"Stoky \"V1 a V2\" PVC DN300:",null,0,null,null,null,null,null,null,null,"Stoky \"V1 a V2\" PVC DN300:"]
[null,null,"ŠD 100/40:6*1,01",null,6.06,null,null,null,null,null,null,null,"ŠD 100/40:6*1,01"]
[43,"59224373.R","Těsnění elastom pro šach díly EMT 100/1.7 - DN1000","kus",15.15,null,{"$f":"E245*F245","v":0},2E-3,{"$f":"E245*H245","v":3.0300000000000001E-2},null,{"$f":"E245*J245","v":0},null,null,null,2,null,null,null,null,null,null,null,null,null,null,null,3,1,"59224373.R",null,null,null,null,null,null,null,null,null,null,null,null,null,null,null,null,null,null,null,null,null,null,1,{"$f":"IF(AZ245=1,G245,0)","v":0},{"$f":"IF(AZ245=2,G245,0)","v":0},{"$f":"IF(AZ245=3,G245,0)","v":0},{"$f":"IF(AZ245=4,G245,0)","v":0},{"$f":"IF(AZ245=5,G245,0)","v":0},null,null,null,null,null,null,null,null,null,null,null,null,null,null,null,null,null,null,null,null,null,3,1]
[null,null,"Stoky \"V1 a V2\" PVC DN300:",null,0,null,null,null,null,null,null,null,"Stoky \"V1 a V2\" PVC DN300:"]
[null,null,"Těsnění:15*1,01",null,15.15,null,null,null,null,null,null,null,"Těsnění:15*1,01"]
[null,"Celkem za","8 Trubní vedení",null,null,null,{"$f":"SUM(G149:G247)","v":0},null,{"$f":"SUM(I149:I247)","v":18.733690364000001},null,{"$f":"SUM(K149:K247)","v":0},null,null,null,4,null,null,null,null,null,null,null,null,null,null,null,null,null,null,null,null,null,null,null,null,null,null,null,null,null,null,null,null,null,null,null,null,null,null,null,null,null,{"$f":"SUM(BA149:BA247)","v":0},{"$f":"SUM(BB149:BB247)","v":0},{"$f":"SUM(BC149:BC247)","v":0},{"$f":"SUM(BD149:BD247)","v":0},{"$f":"SUM(BE149:BE247)","v":0}]
["Díl:","93","Dokončovací práce inženýrských staveb",null,null,null,null,null,null,null,null,null,null,null,1]
[44,"939421111RT1","Osazení samonivelač.kanalizač.poklopu za finišerem bez dodávky poklopu.Instalace poklopu dle TP výrobce","kus",6,null,{"$f":"E250*F250","v":0},0.15425,{"$f":"E250*H250","v":0.92549999999999999},0,{"$f":"E250*J250","v":0},null,null,null,2,null,null,null,null,null,null,null,null,null,null,null,1,0,0,null,null,null,null,null,null,null,null,null,null,null,null,null,null,null,null,null,null,null,null,null,null,1,{"$f":"IF(AZ250=1,G250,0)","v":0},{"$f":"IF(AZ250=2,G250,0)","v":0},{"$f":"IF(AZ250=3,G250,0)","v":0},{"$f":"IF(AZ250=4,G250,0)","v":0},{"$f":"IF(AZ250=5,G250,0)","v":0},null,null,null,null,null,null,null,null,null,null,null,null,null,null,null,null,null,null,null,null,null,1,0]
[null,null,"Položka obsahuje:",null,null,null,null,null,null,null,null,"Položka obsahuje:",null,null,3]
[null,null,"- osazení prefabrikovaného betonového prstence do rychletuhnoucí malty (s dodávkou hmot)",null,null,null,null,null,null,null,null,"- osazení prefabrikovaného betonového prstence do rychletuhnoucí malty (s dodávkou hmot)",null,null,3]
[null,null,"- zalití prstence rychletuhnoucí zálivkou do výše prstence (s dodávkou hmoty)",null,null,null,null,null,null,null,null,"- zalití prstence rychletuhnoucí zálivkou do výše prstence (s dodávkou hmoty)",null,null,3]
[null,null,"- vložení kruhového bednění",null,null,null,null,null,null,null,null,"- vložení kruhového bednění",null,null,3]
[null,null,"- doplnění mezikruží asfaltovou směsí do výšky současné podkladní vrstvy, zhutnění",null,null,null,null,null,null,null,null,"- doplnění mezikruží asfaltovou směsí do výšky současné podkladní vrstvy, zhutnění",null,null,3]
[null,null,"- vyjmutí kruhového bednění",null,null,null,null,null,null,null,null,"- vyjmutí kruhového bednění",null,null,3]
[null,null,"- osazení poklopu a zatlačení",null,null,null,null,null,null,null,null,"- osazení poklopu a zatlačení",null,null,3]
[null,null,"  (následuje pokládka finální vrstvy vozovky - není součástí položky)",null,null,null,null,null,null,null,null,"  (následuje pokládka finální vrstvy vozovky - není součástí položky)",null,null,3]
[null,null,"- povytažení poklopu",null,null,null,null,null,null,null,null,"- povytažení poklopu",null,null,3]
[null,null,"- podsyp asfaltovou směsí, spuštění poklopu a zhutnění směsi",null,null,null,null,null,null,null,null,"- podsyp asfaltovou směsí, spuštění poklopu a zhutnění směsi",null,null,3]
[null,null,"Stoky \"V1 a V2\" PVC DN300:",null,0,null,null,null,null,null,null,null,"Stoky \"V1 a V2\" PVC DN300:"]
[null,null,"Poklopy na nové RŠ dle PD:6",null,6,null,null,null,null,null,null,null,"Poklopy na nové RŠ dle PD:6"]
[45,"55244413.R","Poklop celolitinový v samonivelační rámu KDM 65","kus",6,null,{"$f":"E263*F263","v":0},0.113,{"$f":"E263*H263","v":0.67800000000000005},null,{"$f":"E263*J263","v":0},null,null,null,2,null,null,null,null,null,null,null,null,null,null,null,3,1,"55244413.R",null,null,null,null,null,null,null,null,null,null,null,null,null,null,null,null,null,null,null,null,null,null,1,{"$f":"IF(AZ263=1,G263,0)","v":0},{"$f":"IF(AZ263=2,G263,0)","v":0},{"$f":"IF(AZ263=3,G263,0)","v":0},{"$f":"IF(AZ263=4,G263,0)","v":0},{"$f":"IF(AZ263=5,G263,0)","v":0},null,null,null,null,null,null,null,null,null,null,null,null,null,null,null,null,null,null,null,null,null,3,1]
[null,null,"Kanalizační kruhový celolitinový samonivelační poklop se znakem \"Město Semily\"",null,null,null,null,null,null,null,null,"Kanalizační kruhový celolitinový samonivelační poklop se znakem \"Město Semily\"",null,null,3]
[null,null,"Stoky \"V1 a V2\" PVC DN300:",null,0,null,null,null,null,null,null,null,"Stoky \"V1 a V2\" PVC DN300:"]
[null,null,"Poklopy na nové RŠ dle PD:6",null,6,null,null,null,null,null,null,null,"Poklopy na nové RŠ dle PD:6"]
[null,"Celkem za","93 Dokončovací práce inženýrských staveb",null,null,null,{"$f":"SUM(G249:G266)","v":0},null,{"$f":"SUM(I249:I266)","v":1.6034999999999999},null,{"$f":"SUM(K249:K266)","v":0},null,null,null,4,null,null,null,null,null,null,null,null,null,null,null,null,null,null,null,null,null,null,null,null,null,null,null,null,null,null,null,null,null,null,null,null,null,null,null,null,null,{"$f":"SUM(BA249:BA266)","v":0},{"$f":"SUM(BB249:BB266)","v":0},{"$f":"SUM(BC249:BC266)","v":0},{"$f":"SUM(BD249:BD266)","v":0},{"$f":"SUM(BE249:BE266)","v":0}]
["Díl:","99","Staveništní přesun hmot",null,null,null,null,null,null,null,null,null,null,null,1]
[46,"998276101RXX","Přesun hmot, trubní vedení plastová, otevř. výkop pro celý rozsah objektu","t",791.68956870399995,null,{"$f":"E269*F269","v":0},0,{"$f":"E269*H269","v":0},null,{"$f":"E269*J269","v":0},null,null,null,2,null,null,null,null,null,null,null,null,null,null,null,7,1,2,null,null,null,null,null,null,null,null,null,null,null,null,null,null,null,null,null,null,null,null,null,null,1,{"$f":"IF(AZ269=1,G269,0)","v":0},{"$f":"IF(AZ269=2,G269,0)","v":0},{"$f":"IF(AZ269=3,G269,0)","v":0},{"$f":"IF(AZ269=4,G269,0)","v":0},{"$f":"IF(AZ269=5,G269,0)","v":0},null,null,null,null,null,null,null,null,null,null,null,null,null,null,null,null,null,null,null,null,null,7,1]
[null,null,"Staveništní doprava pro celý rozsah objektu - doprava zmeziskládek vybudovaného zařízení staveniště zhotovitele na jednotlivé části staveniště.",null,null,null,null,null,null,null,null,"Staveništní doprava pro celý rozsah objektu - doprava zmeziskládek vybudovaného zařízení staveniště zhotovitele na jednotlivé části staveniště.",null,null,3]
[null,"Celkem za","99 Staveništní přesun hmot",null,null,null,{"$f":"SUM(G268:G270)","v":0},null,{"$f":"SUM(I268:I270)","v":0},null,{"$f":"SUM(K268:K270)","v":0},null,null,null,4,null,null,null,null,null,null,null,null,null,null,null,null,null,null,null,null,null,null,null,null,null,null,null,null,null,null,null,null,null,null,null,null,null,null,null,null,null,{"$f":"SUM(BA268:BA270)","v":0},{"$f":"SUM(BB268:BB270)","v":0},{"$f":"SUM(BC268:BC270)","v":0},{"$f":"SUM(BD268:BD270)","v":0},{"$f":"SUM(BE268:BE270)","v":0}]

{"sheet":"306 3542306.2 KL","index":56,"n_rows":45,"n_cols":8,"rows_kept":45,"cut":false,"hidden":false,"merged":[[50,1,50,6],[29,5,29,6],[30,5,30,6],[31,5,31,6],[32,5,32,6],[33,5,33,6],[36,1,44,6],[45,1,45,6],[46,1,46,6],[47,1,47,6],[48,1,48,6],[49,1,49,6],[22,0,22,1],[7,2,7,4],[8,2,8,4],[9,2,9,4],[10,2,10,4],[11,2,11,4]]}
["POLOŽKOVÝ ROZPOČET"]
["Rozpočet",null,"3542/306.2","Odstavení stávající kanalizační stoky",null,"JKSO ","827.21.A"]
[]
["Objekt",null,null,null,null,"SKP "]
["306",null,"Oprava gravitační stoky V1 a  V2 ul. Větrná",null,null,"Měrná jednotka","m"]
["Stavba",null,null,null,null,"Počet jednotek",0]
["3542",null,"Semily - Obnova VH infrastruktury a komunikací",null,null,"Náklady na m.j.",{"$f":"IF(G6=0,,ROUND((F30+F32)/G6,1))","v":0}]
["Projektant",null,null,null,null,"Typ rozpočtu"]
["Zpracovatel projektu"]
["Objednatel",null,"Vodohospodářské sdružení Turnov"]
["Dodavatel",null,".",null,null,"Zakázkové číslo "]
["Rozpočtoval",null,null,null,null,"Počet listů"]
["ROZPOČTOVÉ NÁKLADY"]
["Základní rozpočtové náklady"]
[null,"HSV celkem",{"$f":"'306 3542306.2 Rek'!E12","v":0}]
["Z","PSV celkem",{"$f":"'306 3542306.2 Rek'!F12","v":0}]
["R","M práce celkem",{"$f":"'306 3542306.2 Rek'!H12","v":0}]
["N","M dodávky celkem",{"$f":"'306 3542306.2 Rek'!G12","v":0}]
["ZRN celkem",null,{"$f":"SUM(C15:C18)","v":0}]
[]
["HZS",null,{"$f":"'306 3542306.2 Rek'!I12","v":0}]
["ZRN+HZS",null,{"$f":"C19+C21","v":0}]
["ZRN+ost.náklady+HZS",null,{"$f":"C22+G23","v":0}]
["Vypracoval",null,null,"Za zhotovitele",null,"Za objednatele"]
["Jméno :",null,null,"Jméno :",null,"Jméno :"]
["Datum :",null,null,"Datum :",null,"Datum :"]
[]
["Podpis :",null,null,"Podpis:",null,"Podpis:"]
[]
["Základ pro DPH",null,21,"%  ",null,{"$f":"C23-F32","v":0}]
["DPH",null,{"$f":"C30","v":21},"% ",null,{"$f":"ROUND(PRODUCT(F30,C31/100),0)","v":0}]
["Základ pro DPH",null,0,"% ",null,0]
["DPH",null,{"$f":"C32","v":0},"% ",null,{"$f":"ROUND(PRODUCT(F32,C33/100),0)","v":0}]
["CENA ZA OBJEKT CELKEM",null,null,null,null,{"$f":"ROUND(SUM(F30:F33),0)","v":0}]
[]
["Poznámka :",null,null,null,null,null,null," "]
[null,null,null,null,null,null,null," "]
[null,null,null,null,null,null,null," "]
[null,null,null,null,null,null,null," "]
[null,null,null,null,null,null,null," "]
[null,null,null,null,null,null,null," "]
[null,null,null,null,null,null,null," "]
[null,null,null,null,null,null,null," "]
[null,null,null,null,null,null,null," "]
[null,null,null,null,null,null,null," "]

{"sheet":"306 3542306.2 Rek","index":57,"n_rows":12,"n_cols":9,"rows_kept":12,"cut":false,"hidden":false,"merged":[[0,0,0,1],[1,0,1,1],[1,6,1,8]]}
["Stavba :",null,"3542 Semily - Obnova VH infrastruktury a komunikací",null,null,null,"Rozpočet :","3542/306.2"]
["Objekt :",null,"306 Oprava gravitační stoky V1 a  V2 ul. Větrná",null,null,null,"Odstavení stávající kanalizační stoky"]
[]
["REKAPITULACE  STAVEBNÍCH  DÍLŮ"]
[]
[null,"Stavební díl",null,null,"HSV","PSV","Dodávka","Montáž","HZS"]
[{"$f":"'306 3542306.2 Pol'!B7","v":"1"},{"$f":"'306 3542306.2 Pol'!C7","v":"Zemní práce"},null,null,{"$f":"'306 3542306.2 Pol'!BA21","v":0},{"$f":"'306 3542306.2 Pol'!BB21","v":0},{"$f":"'306 3542306.2 Pol'!BC21","v":0},{"$f":"'306 3542306.2 Pol'!BD21","v":0},{"$f":"'306 3542306.2 Pol'!BE21","v":0}]
[{"$f":"'306 3542306.2 Pol'!B22","v":"8"},{"$f":"'306 3542306.2 Pol'!C22","v":"Trubní vedení"},null,null,{"$f":"'306 3542306.2 Pol'!BA30","v":0},{"$f":"'306 3542306.2 Pol'!BB30","v":0},{"$f":"'306 3542306.2 Pol'!BC30","v":0},{"$f":"'306 3542306.2 Pol'!BD30","v":0},{"$f":"'306 3542306.2 Pol'!BE30","v":0}]
[{"$f":"'306 3542306.2 Pol'!B31","v":"93"},{"$f":"'306 3542306.2 Pol'!C31","v":"Dokončovací práce inženýrských staveb"},null,null,{"$f":"'306 3542306.2 Pol'!BA38","v":0},{"$f":"'306 3542306.2 Pol'!BB38","v":0},{"$f":"'306 3542306.2 Pol'!BC38","v":0},{"$f":"'306 3542306.2 Pol'!BD38","v":0},{"$f":"'306 3542306.2 Pol'!BE38","v":0}]
[{"$f":"'306 3542306.2 Pol'!B39","v":"97"},{"$f":"'306 3542306.2 Pol'!C39","v":"Prorážení otvorů"},null,null,{"$f":"'306 3542306.2 Pol'!BA42","v":0},{"$f":"'306 3542306.2 Pol'!BB42","v":0},{"$f":"'306 3542306.2 Pol'!BC42","v":0},{"$f":"'306 3542306.2 Pol'!BD42","v":0},{"$f":"'306 3542306.2 Pol'!BE42","v":0}]
[{"$f":"'306 3542306.2 Pol'!B43","v":"99"},{"$f":"'306 3542306.2 Pol'!C43","v":"Staveništní přesun hmot"},null,null,{"$f":"'306 3542306.2 Pol'!BA46","v":0},{"$f":"'306 3542306.2 Pol'!BB46","v":0},{"$f":"'306 3542306.2 Pol'!BC46","v":0},{"$f":"'306 3542306.2 Pol'!BD46","v":0},{"$f":"'306 3542306.2 Pol'!BE46","v":0}]
[null,"CELKEM  OBJEKT",null,null,{"$f":"SUM(E7:E11)","v":0},{"$f":"SUM(F7:F11)","v":0},{"$f":"SUM(G7:G11)","v":0},{"$f":"SUM(H7:H11)","v":0},{"$f":"SUM(I7:I11)","v":0}]

{"sheet":"306 3542306.2 Pol","index":58,"n_rows":46,"n_cols":80,"rows_kept":46,"cut":false,"hidden":false,"merged":[[40,2,40,3],[44,2,44,6],[27,2,27,3],[28,2,28,3],[32,2,32,3],[34,2,34,3],[36,2,36,3],[24,2,24,6],[25,2,25,6],[26,2,26,6],[0,0,0,6],[2,0,2,1],[3,0,3,1],[3,4,3,6],[8,2,8,6],[9,2,9,3],[11,2,11,6],[12,2,12,3],[13,2,13,3],[15,2,15,6],[18,2,18,3],[19,2,19,3],[23,2,23,6]]}
["Položkový rozpočet "]
[]
["Stavba :",null,"3542 Semily - Obnova VH infrastruktury a komunikací",null,"Rozpočet:",{"$f":"'306 3542306.2 Rek'!H1","v":"3542/306.2"}]
["Objekt :",null,"306 Oprava gravitační stoky V1 a  V2 ul. Větrná",null,{"$f":"'306 3542306.2 Rek'!G2","v":"Odstavení stávající kanalizační stoky"}]
[]
["P.č.","Číslo položky","Název položky","MJ","množství","cena / MJ","celkem (Kč)","Jednotková hmotnost","Celková hmotnost","Jednotková dem.hmot.","Celková dem.hmot."]
["Díl:","1","Zemní práce",null,null,null,null,null,null,null,null,null,null,null,1]
[1,"130901123RT3","Bourání konstrukcí ze železobetonu ve vykopávkách bagrem s kladivem","m3",1.4024000000000001,null,{"$f":"E8*F8","v":0},0,{"$f":"E8*H8","v":0},-2.5,{"$f":"E8*J8","v":-3.5060000000000002},null,null,null,2,null,null,null,null,null,null,null,null,null,null,null,1,1,1,null,null,null,null,null,null,null,null,null,null,null,null,null,null,null,null,null,null,null,null,null,null,1,{"$f":"IF(AZ8=1,G8,0)","v":0},{"$f":"IF(AZ8=2,G8,0)","v":0},{"$f":"IF(AZ8=3,G8,0)","v":0},{"$f":"IF(AZ8=4,G8,0)","v":0},{"$f":"IF(AZ8=5,G8,0)","v":0},null,null,null,null,null,null,null,null,null,null,null,null,null,null,null,null,null,null,null,null,null,1,1]
[null,null,"Položka obsahuje odstranění materiálu obklopujícího betonové konstrukce v míře nutné pro vyzvednutí (potřebné zemní práce), rozpojení konstrukcí, uchopení a vyzvednutí konstrukce z výkopu a uložení na dopravní prostředek.",null,null,null,null,null,null,null,null,"Položka obsahuje odstranění materiálu obklopujícího betonové konstrukce v míře nutné pro vyzvednutí (potřebné zemní práce), rozpojení konstrukcí, uchopení a vyzvednutí konstrukce z výkopu a uložení na dopravní prostředek.",null,null,3]
[null,null,"Stávající RŠ odbourání kónusu:1,24*Pi*0,60*0,12*5",null,1.4024000000000001,null,null,null,null,null,null,null,"Stávající RŠ odbourání kónusu:1,24*Pi*0,60*0,12*5"]
[2,"174101101R00","Zásyp jam, rýh, šachet se zhutněním ","m3",3.9375,null,{"$f":"E11*F11","v":0},0,{"$f":"E11*H11","v":0},0,{"$f":"E11*J11","v":0},null,null,null,2,null,null,null,null,null,null,null,null,null,null,null,1,1,1,null,null,null,null,null,null,null,null,null,null,null,null,null,null,null,null,null,null,null,null,null,null,1,{"$f":"IF(AZ11=1,G11,0)","v":0},{"$f":"IF(AZ11=2,G11,0)","v":0},{"$f":"IF(AZ11=3,G11,0)","v":0},{"$f":"IF(AZ11=4,G11,0)","v":0},{"$f":"IF(AZ11=5,G11,0)","v":0},null,null,null,null,null,null,null,null,null,null,null,null,null,null,null,null,null,null,null,null,null,1,1]
[null,null,"včetně strojního přemístění materiálu pro zásyp ze vzdálenosti do 10 m od okraje zásypu",null,null,null,null,null,null,null,null,"včetně strojního přemístění materiálu pro zásyp ze vzdálenosti do 10 m od okraje zásypu",null,null,3]
[null,null,"Zásyp ŠD fr. 0-63 na úroveň pláně nové komunikace:",null,0,null,null,null,null,null,null,null,"Zásyp ŠD fr. 0-63 na úroveň pláně nové komunikace:"]
[null,null,"Prostor stávající RŠ po odbourání kónusu a poklopu:1,50*1,50*(0,75-0,40)*5",null,3.9375,null,null,null,null,null,null,null,"Prostor stávající RŠ po odbourání kónusu a poklopu:1,50*1,50*(0,75-0,40)*5"]
[3,"979082212RRX","Vodorovná doprava suti po suchu na skládku zhotovitele","t",3.5059999999999998,null,{"$f":"E15*F15","v":0},0,{"$f":"E15*H15","v":0},0,{"$f":"E15*J15","v":0},null,null,null,2,null,null,null,null,null,null,null,null,null,null,null,1,1,1,null,null,null,null,null,null,null,null,null,null,null,null,null,null,null,null,null,null,null,null,null,null,1,{"$f":"IF(AZ15=1,G15,0)","v":0},{"$f":"IF(AZ15=2,G15,0)","v":0},{"$f":"IF(AZ15=3,G15,0)","v":0},{"$f":"IF(AZ15=4,G15,0)","v":0},{"$f":"IF(AZ15=5,G15,0)","v":0},null,null,null,null,null,null,null,null,null,null,null,null,null,null,null,null,null,null,null,null,null,1,1]
[null,null,"Doprava suti na skládku zhotovitele nebo na předávací místo k recyklaci materiálu.",null,null,null,null,null,null,null,null,"Doprava suti na skládku zhotovitele nebo na předávací místo k recyklaci materiálu.",null,null,3]
[4,"979990103RRX","Poplatek za skládku stavební suti nebo recyklaci beton, skupina odpadu 170101","t",3.5059999999999998,null,{"$f":"E17*F17","v":0},0,{"$f":"E17*H17","v":0},0,{"$f":"E17*J17","v":0},null,null,null,2,null,null,null,null,null,null,null,null,null,null,null,1,0,0,null,null,null,null,null,null,null,null,null,null,null,null,null,null,null,null,null,null,null,null,null,null,1,{"$f":"IF(AZ17=1,G17,0)","v":0},{"$f":"IF(AZ17=2,G17,0)","v":0},{"$f":"IF(AZ17=3,G17,0)","v":0},{"$f":"IF(AZ17=4,G17,0)","v":0},{"$f":"IF(AZ17=5,G17,0)","v":0},null,null,null,null,null,null,null,null,null,null,null,null,null,null,null,null,null,null,null,null,null,1,0]
[5,"58344197R","Štěrkodrtě frakce 0-63 A","t",7.4486999999999997,null,{"$f":"E18*F18","v":0},1,{"$f":"E18*H18","v":7.4486999999999997},null,{"$f":"E18*J18","v":0},null,null,null,2,null,null,null,null,null,null,null,null,null,null,null,3,1,"58344197R",null,null,null,null,null,null,null,null,null,null,null,null,null,null,null,null,null,null,null,null,null,null,1,{"$f":"IF(AZ18=1,G18,0)","v":0},{"$f":"IF(AZ18=2,G18,0)","v":0},{"$f":"IF(AZ18=3,G18,0)","v":0},{"$f":"IF(AZ18=4,G18,0)","v":0},{"$f":"IF(AZ18=5,G18,0)","v":0},null,null,null,null,null,null,null,null,null,null,null,null,null,null,null,null,null,null,null,null,null,3,1]
[null,null,"Zásyp ŠD fr. 0-63 na úroveň pláně nové komunikace:",null,0,null,null,null,null,null,null,null,"Zásyp ŠD fr. 0-63 na úroveň pláně nové komunikace:"]
[null,null,"Prostor stávající RŠ po odbourání kónusu a poklopu:1,50*1,50*(0,75-0,40)*5*1,873*1,01",null,7.4486999999999997,null,null,null,null,null,null,null,"Prostor stávající RŠ po odbourání kónusu a poklopu:1,50*1,50*(0,75-0,40)*5*1,873*1,01"]
[null,"Celkem za","1 Zemní práce",null,null,null,{"$f":"SUM(G7:G20)","v":0},null,{"$f":"SUM(I7:I20)","v":7.4486999999999997},null,{"$f":"SUM(K7:K20)","v":-3.5060000000000002},null,null,null,4,null,null,null,null,null,null,null,null,null,null,null,null,null,null,null,null,null,null,null,null,null,null,null,null,null,null,null,null,null,null,null,null,null,null,null,null,null,{"$f":"SUM(BA7:BA20)","v":0},{"$f":"SUM(BB7:BB20)","v":0},{"$f":"SUM(BC7:BC20)","v":0},{"$f":"SUM(BD7:BD20)","v":0},{"$f":"SUM(BE7:BE20)","v":0}]
["Díl:","8","Trubní vedení",null,null,null,null,null,null,null,null,null,null,null,1]
[6,"892601154R00","Čištění kanalizační stoky do DN 500, nad 100 m ","m",163,null,{"$f":"E23*F23","v":0},0,{"$f":"E23*H23","v":0},0,{"$f":"E23*J23","v":0},null,null,null,2,null,null,null,null,null,null,null,null,null,null,null,1,1,1,null,null,null,null,null,null,null,null,null,null,null,null,null,null,null,null,null,null,null,null,null,null,1,{"$f":"IF(AZ23=1,G23,0)","v":0},{"$f":"IF(AZ23=2,G23,0)","v":0},{"$f":"IF(AZ23=3,G23,0)","v":0},{"$f":"IF(AZ23=4,G23,0)","v":0},{"$f":"IF(AZ23=5,G23,0)","v":0},null,null,null,null,null,null,null,null,null,null,null,null,null,null,null,null,null,null,null,null,null,1,1]
[null,null,"V položce je zakalkulováno:",null,null,null,null,null,null,null,null,"V položce je zakalkulováno:",null,null,3]
[null,null,"a) otevření a uzavření revizních šachet a čisticích kusů",null,null,null,null,null,null,null,null,"a) otevření a uzavření revizních šachet a čisticích kusů",null,null,3]
[null,null,"b) natažení vysokotlakých hadic k místu odkud se bude kanalizace čistit",null,null,null,null,null,null,null,null,"b) natažení vysokotlakých hadic k místu odkud se bude kanalizace čistit",null,null,3]
[null,null,"c) vyčištění potrubí tlakovou vodou nebo motorovým pérem.",null,null,null,null,null,null,null,null,"c) vyčištění potrubí tlakovou vodou nebo motorovým pérem.",null,null,3]
[null,null,"Stávající potrubí KT DN300:50,00",null,50,null,null,null,null,null,null,null,"Stávající potrubí KT DN300:50,00"]
[null,null,"Stávající potrubí KT DN400:113,00",null,113,null,null,null,null,null,null,null,"Stávající potrubí KT DN400:113,00"]
[null,"Celkem za","8 Trubní vedení",null,null,null,{"$f":"SUM(G22:G29)","v":0},null,{"$f":"SUM(I22:I29)","v":0},null,{"$f":"SUM(K22:K29)","v":0},null,null,null,4,null,null,null,null,null,null,null,null,null,null,null,null,null,null,null,null,null,null,null,null,null,null,null,null,null,null,null,null,null,null,null,null,null,null,null,null,null,{"$f":"SUM(BA22:BA29)","v":0},{"$f":"SUM(BB22:BB29)","v":0},{"$f":"SUM(BC22:BC29)","v":0},{"$f":"SUM(BD22:BD29)","v":0},{"$f":"SUM(BE22:BE29)","v":0}]
["Díl:","93","Dokončovací práce inženýrských staveb",null,null,null,null,null,null,null,null,null,null,null,1]
[7,"936451111R00","Výplň dutin cementopopílkovou suspenzí ","m3",5.5292000000000003,null,{"$f":"E32*F32","v":0},1.8050999999999999,{"$f":"E32*H32","v":9.9807589199999995},0,{"$f":"E32*J32","v":0},null,null,null,2,null,null,null,null,null,null,null,null,null,null,null,1,1,1,null,null,null,null,null,null,null,null,null,null,null,null,null,null,null,null,null,null,null,null,null,null,1,{"$f":"IF(AZ32=1,G32,0)","v":0},{"$f":"IF(AZ32=2,G32,0)","v":0},{"$f":"IF(AZ32=3,G32,0)","v":0},{"$f":"IF(AZ32=4,G32,0)","v":0},{"$f":"IF(AZ32=5,G32,0)","v":0},null,null,null,null,null,null,null,null,null,null,null,null,null,null,null,null,null,null,null,null,null,1,1]
[null,null,"Stávající RŠ po odbourání poklopu a kónusu:0,50^2*Pi*(1,75+1,10+2,25+2,05+2,14-0,75*3)",null,5.5292000000000003,null,null,null,null,null,null,null,"Stávající RŠ po odbourání poklopu a kónusu:0,50^2*Pi*(1,75+1,10+2,25+2,05+2,14-0,75*3)"]
[8,"936452115R00","Výplň potrubí cementopopílkovou suspenzí DN 300 ","m",50,null,{"$f":"E34*F34","v":0},0.12751000000000001,{"$f":"E34*H34","v":6.3755000000000006},0,{"$f":"E34*J34","v":0},null,null,null,2,null,null,null,null,null,null,null,null,null,null,null,1,1,1,null,null,null,null,null,null,null,null,null,null,null,null,null,null,null,null,null,null,null,null,null,null,1,{"$f":"IF(AZ34=1,G34,0)","v":0},{"$f":"IF(AZ34=2,G34,0)","v":0},{"$f":"IF(AZ34=3,G34,0)","v":0},{"$f":"IF(AZ34=4,G34,0)","v":0},{"$f":"IF(AZ34=5,G34,0)","v":0},null,null,null,null,null,null,null,null,null,null,null,null,null,null,null,null,null,null,null,null,null,1,1]
[null,null,"Stávající potrubí KT DN300:50,00",null,50,null,null,null,null,null,null,null,"Stávající potrubí KT DN300:50,00"]
[9,"936452116R00","Výplň potrubí cementopopílkovou suspenzí DN 400 ","m",113,null,{"$f":"E36*F36","v":0},0.22678999999999999,{"$f":"E36*H36","v":25.627269999999999},0,{"$f":"E36*J36","v":0},null,null,null,2,null,null,null,null,null,null,null,null,null,null,null,1,1,1,null,null,null,null,null,null,null,null,null,null,null,null,null,null,null,null,null,null,null,null,null,null,1,{"$f":"IF(AZ36=1,G36,0)","v":0},{"$f":"IF(AZ36=2,G36,0)","v":0},{"$f":"IF(AZ36=3,G36,0)","v":0},{"$f":"IF(AZ36=4,G36,0)","v":0},{"$f":"IF(AZ36=5,G36,0)","v":0},null,null,null,null,null,null,null,null,null,null,null,null,null,null,null,null,null,null,null,null,null,1,1]
[null,null,"Stávající potrubí KT DN400:113,00",null,113,null,null,null,null,null,null,null,"Stávající potrubí KT DN400:113,00"]
[null,"Celkem za","93 Dokončovací práce inženýrských staveb",null,null,null,{"$f":"SUM(G31:G37)","v":0},null,{"$f":"SUM(I31:I37)","v":41.983528919999998},null,{"$f":"SUM(K31:K37)","v":0},null,null,null,4,null,null,null,null,null,null,null,null,null,null,null,null,null,null,null,null,null,null,null,null,null,null,null,null,null,null,null,null,null,null,null,null,null,null,null,null,null,{"$f":"SUM(BA31:BA37)","v":0},{"$f":"SUM(BB31:BB37)","v":0},{"$f":"SUM(BC31:BC37)","v":0},{"$f":"SUM(BD31:BD37)","v":0},{"$f":"SUM(BE31:BE37)","v":0}]
["Díl:","97","Prorážení otvorů",null,null,null,null,null,null,null,null,null,null,null,1]
[10,"976085311R00","Vybourání kanal.rámů a poklopů plochy do 0,6 m2 ","kus",5,null,{"$f":"E40*F40","v":0},0,{"$f":"E40*H40","v":0},-4.4999999999999998E-2,{"$f":"E40*J40","v":-0.22499999999999998},null,null,null,2,null,null,null,null,null,null,null,null,null,null,null,1,1,1,null,null,null,null,null,null,null,null,null,null,null,null,null,null,null,null,null,null,null,null,null,null,1,{"$f":"IF(AZ40=1,G40,0)","v":0},{"$f":"IF(AZ40=2,G40,0)","v":0},{"$f":"IF(AZ40=3,G40,0)","v":0},{"$f":"IF(AZ40=4,G40,0)","v":0},{"$f":"IF(AZ40=5,G40,0)","v":0},null,null,null,null,null,null,null,null,null,null,null,null,null,null,null,null,null,null,null,null,null,1,1]
[null,null,"Stávající RŠ:5",null,5,null,null,null,null,null,null,null,"Stávající RŠ:5"]
[null,"Celkem za","97 Prorážení otvorů",null,null,null,{"$f":"SUM(G39:G41)","v":0},null,{"$f":"SUM(I39:I41)","v":0},null,{"$f":"SUM(K39:K41)","v":-0.22499999999999998},null,null,null,4,null,null,null,null,null,null,null,null,null,null,null,null,null,null,null,null,null,null,null,null,null,null,null,null,null,null,null,null,null,null,null,null,null,null,null,null,null,{"$f":"SUM(BA39:BA41)","v":0},{"$f":"SUM(BB39:BB41)","v":0},{"$f":"SUM(BC39:BC41)","v":0},{"$f":"SUM(BD39:BD41)","v":0},{"$f":"SUM(BE39:BE41)","v":0}]
["Díl:","99","Staveništní přesun hmot",null,null,null,null,null,null,null,null,null,null,null,1]
[11,"998274101RRX","Přesun hmot, trubní vedení betonové, otevř. výkop pro celý rozsah objektu","t",49.43222892,null,{"$f":"E44*F44","v":0},0,{"$f":"E44*H44","v":0},null,{"$f":"E44*J44","v":0},null,null,null,2,null,null,null,null,null,null,null,null,null,null,null,7,1,2,null,null,null,null,null,null,null,null,null,null,null,null,null,null,null,null,null,null,null,null,null,null,1,{"$f":"IF(AZ44=1,G44,0)","v":0},{"$f":"IF(AZ44=2,G44,0)","v":0},{"$f":"IF(AZ44=3,G44,0)","v":0},{"$f":"IF(AZ44=4,G44,0)","v":0},{"$f":"IF(AZ44=5,G44,0)","v":0},null,null,null,null,null,null,null,null,null,null,null,null,null,null,null,null,null,null,null,null,null,7,1]
[null,null,"Staveništní doprava pro celý rozsah objektu - doprava zmeziskládek vybudovaného zařízení staveniště zhotovitele na jednotlivé části staveniště.",null,null,null,null,null,null,null,null,"Staveništní doprava pro celý rozsah objektu - doprava zmeziskládek vybudovaného zařízení staveniště zhotovitele na jednotlivé části staveniště.",null,null,3]
[null,"Celkem za","99 Staveništní přesun hmot",null,null,null,{"$f":"SUM(G43:G45)","v":0},null,{"$f":"SUM(I43:I45)","v":0},null,{"$f":"SUM(K43:K45)","v":0},null,null,null,4,null,null,null,null,null,null,null,null,null,null,null,null,null,null,null,null,null,null,null,null,null,null,null,null,null,null,null,null,null,null,null,null,null,null,null,null,null,{"$f":"SUM(BA43:BA45)","v":0},{"$f":"SUM(BB43:BB45)","v":0},{"$f":"SUM(BC43:BC45)","v":0},{"$f":"SUM(BD43:BD45)","v":0},{"$f":"SUM(BE43:BE45)","v":0}]

{"sheet":"306 3542306.3 KL","index":59,"n_rows":45,"n_cols":8,"rows_kept":45,"cut":false,"hidden":false,"merged":[[50,1,50,6],[29,5,29,6],[30,5,30,6],[31,5,31,6],[32,5,32,6],[33,5,33,6],[36,1,44,6],[45,1,45,6],[46,1,46,6],[47,1,47,6],[48,1,48,6],[49,1,49,6],[22,0,22,1],[7,2,7,4],[8,2,8,4],[9,2,9,4],[10,2,10,4],[11,2,11,4]]}
["POLOŽKOVÝ ROZPOČET"]
["Rozpočet",null,"3542/306.3","Kanalizační napojovací body",null,"JKSO ","827.21.A"]
[]
["Objekt",null,null,null,null,"SKP "]
["306",null,"Oprava gravitační stoky V1 a  V2 ul. Větrná",null,null,"Měrná jednotka","m"]
["Stavba",null,null,null,null,"Počet jednotek",0]
["3542",null,"Semily - Obnova VH infrastruktury a komunikací",null,null,"Náklady na m.j.",{"$f":"IF(G6=0,,ROUND((F30+F32)/G6,1))","v":0}]
["Projektant",null,null,null,null,"Typ rozpočtu"]
["Zpracovatel projektu"]
["Objednatel",null,"Vodohospodářské sdružení Turnov"]
["Dodavatel",null,".",null,null,"Zakázkové číslo "]
["Rozpočtoval",null,null,null,null,"Počet listů"]
["ROZPOČTOVÉ NÁKLADY"]
["Základní rozpočtové náklady"]
[null,"HSV celkem",{"$f":"'306 3542306.3 Rek'!E13","v":0}]
["Z","PSV celkem",{"$f":"'306 3542306.3 Rek'!F13","v":0}]
["R","M práce celkem",{"$f":"'306 3542306.3 Rek'!H13","v":0}]
["N","M dodávky celkem",{"$f":"'306 3542306.3 Rek'!G13","v":0}]
["ZRN celkem",null,{"$f":"SUM(C15:C18)","v":0}]
[]
["HZS",null,{"$f":"'306 3542306.3 Rek'!I13","v":0}]
["ZRN+HZS",null,{"$f":"C19+C21","v":0}]
["ZRN+ost.náklady+HZS",null,{"$f":"C22+G23","v":0}]
["Vypracoval",null,null,"Za zhotovitele",null,"Za objednatele"]
["Jméno :",null,null,"Jméno :",null,"Jméno :"]
["Datum :",null,null,"Datum :",null,"Datum :"]
[]
["Podpis :",null,null,"Podpis:",null,"Podpis:"]
[]
["Základ pro DPH",null,21,"%  ",null,{"$f":"C23-F32","v":0}]
["DPH",null,{"$f":"C30","v":21},"% ",null,{"$f":"ROUND(PRODUCT(F30,C31/100),0)","v":0}]
["Základ pro DPH",null,0,"% ",null,0]
["DPH",null,{"$f":"C32","v":0},"% ",null,{"$f":"ROUND(PRODUCT(F32,C33/100),0)","v":0}]
["CENA ZA OBJEKT CELKEM",null,null,null,null,{"$f":"ROUND(SUM(F30:F33),0)","v":0}]
[]
["Poznámka :",null,null,null,null,null,null," "]
[null,null,null,null,null,null,null," "]
[null,null,null,null,null,null,null," "]
[null,null,null,null,null,null,null," "]
[null,null,null,null,null,null,null," "]
[null,null,null,null,null,null,null," "]
[null,null,null,null,null,null,null," "]
[null,null,null,null,null,null,null," "]
[null,null,null,null,null,null,null," "]
[null,null,null,null,null,null,null," "]

{"sheet":"306 3542306.3 Rek","index":60,"n_rows":13,"n_cols":9,"rows_kept":13,"cut":false,"hidden":false,"merged":[[0,0,0,1],[1,0,1,1],[1,6,1,8]]}
["Stavba :",null,"3542 Semily - Obnova VH infrastruktury a komunikací",null,null,null,"Rozpočet :","3542/306.3"]
["Objekt :",null,"306 Oprava gravitační stoky V1 a  V2 ul. Větrná",null,null,null,"Kanalizační napojovací body"]
[]
["REKAPITULACE  STAVEBNÍCH  DÍLŮ"]
[]
[null,"Stavební díl",null,null,"HSV","PSV","Dodávka","Montáž","HZS"]
[{"$f":"'306 3542306.3 Pol'!B7","v":"1"},{"$f":"'306 3542306.3 Pol'!C7","v":"Zemní práce"},null,null,{"$f":"'306 3542306.3 Pol'!BA177","v":0},{"$f":"'306 3542306.3 Pol'!BB177","v":0},{"$f":"'306 3542306.3 Pol'!BC177","v":0},{"$f":"'306 3542306.3 Pol'!BD177","v":0},{"$f":"'306 3542306.3 Pol'!BE177","v":0}]
[{"$f":"'306 3542306.3 Pol'!B178","v":"21"},{"$f":"'306 3542306.3 Pol'!C178","v":"Úprava podloží a základ.spáry"},null,null,{"$f":"'306 3542306.3 Pol'!BA185","v":0},{"$f":"'306 3542306.3 Pol'!BB185","v":0},{"$f":"'306 3542306.3 Pol'!BC185","v":0},{"$f":"'306 3542306.3 Pol'!BD185","v":0},{"$f":"'306 3542306.3 Pol'!BE185","v":0}]
[{"$f":"'306 3542306.3 Pol'!B186","v":"45"},{"$f":"'306 3542306.3 Pol'!C186","v":"Podkladní a vedlejší konstrukce"},null,null,{"$f":"'306 3542306.3 Pol'!BA193","v":0},{"$f":"'306 3542306.3 Pol'!BB193","v":0},{"$f":"'306 3542306.3 Pol'!BC193","v":0},{"$f":"'306 3542306.3 Pol'!BD193","v":0},{"$f":"'306 3542306.3 Pol'!BE193","v":0}]
[{"$f":"'306 3542306.3 Pol'!B194","v":"5"},{"$f":"'306 3542306.3 Pol'!C194","v":"Komunikace"},null,null,{"$f":"'306 3542306.3 Pol'!BA205","v":0},{"$f":"'306 3542306.3 Pol'!BB205","v":0},{"$f":"'306 3542306.3 Pol'!BC205","v":0},{"$f":"'306 3542306.3 Pol'!BD205","v":0},{"$f":"'306 3542306.3 Pol'!BE205","v":0}]
[{"$f":"'306 3542306.3 Pol'!B206","v":"8"},{"$f":"'306 3542306.3 Pol'!C206","v":"Trubní vedení"},null,null,{"$f":"'306 3542306.3 Pol'!BA283","v":0},{"$f":"'306 3542306.3 Pol'!BB283","v":0},{"$f":"'306 3542306.3 Pol'!BC283","v":0},{"$f":"'306 3542306.3 Pol'!BD283","v":0},{"$f":"'306 3542306.3 Pol'!BE283","v":0}]
[{"$f":"'306 3542306.3 Pol'!B284","v":"99"},{"$f":"'306 3542306.3 Pol'!C284","v":"Staveništní přesun hmot"},null,null,{"$f":"'306 3542306.3 Pol'!BA287","v":0},{"$f":"'306 3542306.3 Pol'!BB287","v":0},{"$f":"'306 3542306.3 Pol'!BC287","v":0},{"$f":"'306 3542306.3 Pol'!BD287","v":0},{"$f":"'306 3542306.3 Pol'!BE287","v":0}]
[null,"CELKEM  OBJEKT",null,null,{"$f":"SUM(E7:E12)","v":0},{"$f":"SUM(F7:F12)","v":0},{"$f":"SUM(G7:G12)","v":0},{"$f":"SUM(H7:H12)","v":0},{"$f":"SUM(I7:I12)","v":0}]

{"sheet":"306 3542306.3 Pol","index":61,"n_rows":287,"n_cols":80,"rows_kept":287,"cut":false,"hidden":false,"merged":[[281,2,281,3],[285,2,285,6],[275,2,275,6],[276,2,276,6],[277,2,277,6],[278,2,278,6],[279,2,279,3],[280,2,280,3],[268,2,268,6],[269,2,269,6],[270,2,270,3],[271,2,271,3],[272,2,272,3],[274,2,274,6],[261,2,261,6],[262,2,262,6],[263,2,263,6],[264,2,264,3],[265,2,265,3],[266,2,266,3],[254,2,254,3],[255,2,255,3],[257,2,257,6],[258,2,258,6],[259,2,259,6],[260,2,260,6],[245,2,245,3],[247,2,247,6],[249,2,249,6],[251,2,251,3],[252,2,252,3],[253,2,253,3],[238,2,238,3],[239,2,239,3],[241,2,241,3],[242,2,242,3],[243,2,243,3],[244,2,244,3],[232,2,232,6],[233,2,233,6],[234,2,234,6],[235,2,235,3],[236,2,236,3],[237,2,237,3],[224,2,224,3],[226,2,226,6],[227,2,227,3],[228,2,228,3],[229,2,229,3],[231,2,231,6],[217,2,217,3],[218,2,218,3],[219,2,219,3],[221,2,221,6],[222,2,222,3],[223,2,223,3],[207,2,207,6],[208,2,208,3],[209,2,209,3],[210,2,210,3],[212,2,212,3],[213,2,213,3],[214,2,214,3],[216,2,216,6],[195,2,195,3],[196,2,196,3],[197,2,197,3],[198,2,198,3],[199,2,199,3],[201,2,201,6],[202,2,202,3],[203,2,203,3],[183,2,183,3],[187,2,187,3],[188,2,188,3],[189,2,189,3],[190,2,190,3],[191,2,191,3],[171,2,171,3],[172,2,172,3],[174,2,174,3],[175,2,175,3],[179,2,179,3],[180,2,180,3],[181,2,181,3],[182,2,182,3],[164,2,164,3],[165,2,165,3],[166,2,166,3],[168,2,168,3],[169,2,169,3],[170,2,170,3],[156,2,156,3],[158,2,158,3],[159,2,159,3],[160,2,160,3],[161,2,161,3],[162,2,162,3],[150,2,150,3],[151,2,151,3],[152,2,152,3],[153,2,153,3],[154,2,154,3],[155,2,155,3],[144,2,144,3],[145,2,145,3],[146,2,146,3],[147,2,147,3],[148,2,148,3],[149,2,149,3],[138,2,138,3],[139,2,139,3],[140,2,140,3],[141,2,141,3],[142,2,142,3],[143,2,143,3],[132,2,132,3],[133,2,133,3],[134,2,134,3],[135,2,135,3],[136,2,136,3],[137,2,137,3],[126,2,126,3],[127,2,127,3],[128,2,128,3],[129,2,129,3],[130,2,130,3],[131,2,131,3],[120,2,120,3],[121,2,121,3],[122,2,122,3],[123,2,123,3],[124,2,124,3],[125,2,125,3],[113,2,113,3],[114,2,114,3],[115,2,115,3],[117,2,117,6],[118,2,118,6],[119,2,119,3],[104,2,104,3],[105,2,105,3],[107,2,107,3],[108,2,108,3],[110,2,110,3],[111,2,111,3],[98,2,98,3],[99,2,99,3],[100,2,100,3],[101,2,101,3],[102,2,102,3],[103,2,103,3],[92,2,92,3],[93,2,93,3],[94,2,94,3],[95,2,95,3],[96,2,96,3],[97,2,97,3],[85,2,85,3],[86,2,86,3],[88,2,88,3],[89,2,89,3],[90,2,90,3],[91,2,91,3],[79,2,79,3],[80,2,80,3],[81,2,81,3],[82,2,82,3],[83,2,83,3],[84,2,84,3],[73,2,73,3],[74,2,74,3],[75,2,75,3],[76,2,76,3],[77,2,77,3],[78,2,78,3],[66,2,66,3],[67,2,67,3],[69,2,69,3],[70,2,70,3],[71,2,71,3],[72,2,72,3],[60,2,60,3],[61,2,61,3],[62,2,62,3],[63,2,63,3],[64,2,64,3],[65,2,65,3],[53,2,53,3],[55,2,55,3],[56,2,56,3],[57,2,57,3],[58,2,58,3],[59,2,59,3],[46,2,46,6],[47,2,47,3],[48,2,48,3],[49,2,49,3],[51,2,51,3],[52,2,52,3],[38,2,38,3],[39,2,39,3],[40,2,40,3],[42,2,42,3],[43,2,43,3],[44,2,44,3],[32,2,32,3],[33,2,33,3],[34,2,34,3],[35,2,35,3],[36,2,36,3],[37,2,37,3],[26,2,26,3],[27,2,27,3],[28,2,28,3],[29,2,29,3],[30,2,30,3],[31,2,31,3],[20,2,20,6],[21,2,21,3],[22,2,22,3],[23,2,23,3],[24,2,24,3],[25,2,25,3],[12,2,12,3],[14,2,14,6],[15,2,15,6],[16,2,16,3],[17,2,17,3],[18,2,18,3],[0,0,0,6],[2,0,2,1],[3,0,3,1],[3,4,3,6],[8,2,8,3],[9,2,9,3],[10,2,10,3],[11,2,11,3]]}
["Položkový rozpočet "]
[]
["Stavba :",null,"3542 Semily - Obnova VH infrastruktury a komunikací",null,"Rozpočet:",{"$f":"'306 3542306.3 Rek'!H1","v":"3542/306.3"}]
["Objekt :",null,"306 Oprava gravitační stoky V1 a  V2 ul. Větrná",null,{"$f":"'306 3542306.3 Rek'!G2","v":"Kanalizační napojovací body"}]
[]
["P.č.","Číslo položky","Název položky","MJ","množství","cena / MJ","celkem (Kč)","Jednotková hmotnost","Celková hmotnost","Jednotková dem.hmot.","Celková dem.hmot."]
["Díl:","1","Zemní práce",null,null,null,null,null,null,null,null,null,null,null,1]
[1,"121100002RAA","Sejmutí ornice a uložení na deponii zpětný přesun, rozprostření v tl. 200 mm, osetí","m3",9.1999999999999993,null,{"$f":"E8*F8","v":0},0,{"$f":"E8*H8","v":0},0,{"$f":"E8*J8","v":0},null,null,null,2,null,null,null,null,null,null,null,null,null,null,null,1,1,1,null,null,null,null,null,null,null,null,null,null,null,null,null,null,null,null,null,null,null,null,null,null,1,{"$f":"IF(AZ8=1,G8,0)","v":0},{"$f":"IF(AZ8=2,G8,0)","v":0},{"$f":"IF(AZ8=3,G8,0)","v":0},{"$f":"IF(AZ8=4,G8,0)","v":0},{"$f":"IF(AZ8=5,G8,0)","v":0},null,null,null,null,null,null,null,null,null,null,null,null,null,null,null,null,null,null,null,null,null,1,1]
[null,null,"Stoka \"V1 a V2\" PVC DN300:",null,0,null,null,null,null,null,null,null,"Stoka \"V1 a V2\" PVC DN300:"]
[null,null,"Pracodní prostor šířky 2,0 m:",null,0,null,null,null,null,null,null,null,"Pracodní prostor šířky 2,0 m:"]
[null,null,"Kanalizační přípojky PVC DN150 (11 kusů):",null,0,null,null,null,null,null,null,null,"Kanalizační přípojky PVC DN150 (11 kusů):"]
[null,null,"Kanalizační přípojky PVC DN300 (1 kus):",null,0,null,null,null,null,null,null,null,"Kanalizační přípojky PVC DN300 (1 kus):"]
[null,null,"Objem ornice:23,00*2,00*0,20",null,9.1999999999999993,null,null,null,null,null,null,null,"Objem ornice:23,00*2,00*0,20"]
[2,"130001101RRX","Příplatek za ztížené hloubení v blízkosti vedení ","m3",50.975200000000001,null,{"$f":"E14*F14","v":0},0,{"$f":"E14*H14","v":0},0,{"$f":"E14*J14","v":0},null,null,null,2,null,null,null,null,null,null,null,null,null,null,null,1,1,1,null,null,null,null,null,null,null,null,null,null,null,null,null,null,null,null,null,null,null,null,null,null,1,{"$f":"IF(AZ14=1,G14,0)","v":0},{"$f":"IF(AZ14=2,G14,0)","v":0},{"$f":"IF(AZ14=3,G14,0)","v":0},{"$f":"IF(AZ14=4,G14,0)","v":0},{"$f":"IF(AZ14=5,G14,0)","v":0},null,null,null,null,null,null,null,null,null,null,null,null,null,null,null,null,null,null,null,null,null,1,1]
[null,null,"Včetně případných nutných dokopávek a ručního výkopu podél sousedících inženýrských sítí.",null,null,null,null,null,null,null,null,"Včetně případných nutných dokopávek a ručního výkopu podél sousedících inženýrských sítí.",null,null,3]
[null,null,"Součástí položky je i dočasné zajištění stávajících inženýrských sítí v prostoru výkopů (potrubí, kabely a pod.)",null,null,null,null,null,null,null,null,"Součástí položky je i dočasné zajištění stávajících inženýrských sítí v prostoru výkopů (potrubí, kabely a pod.)",null,null,3]
[null,null,"Stoka \"S\" PVC DN400:",null,0,null,null,null,null,null,null,null,"Stoka \"S\" PVC DN400:"]
[null,null,"Výkopy:",null,0,null,null,null,null,null,null,null,"Výkopy:"]
[null,null,"v hornině tř. 3 - 4 - 40%:127,4380*0,4",null,50.975200000000001,null,null,null,null,null,null,null,"v hornině tř. 3 - 4 - 40%:127,4380*0,4"]
[3,"132201210R00","Hloubení rýh š.do 200 cm hor.3 do 50 m3,STROJNĚ ","m3",63.719000000000001,null,{"$f":"E20*F20","v":0},0,{"$f":"E20*H20","v":0},0,{"$f":"E20*J20","v":0},null,null,null,2,null,null,null,null,null,null,null,null,null,null,null,1,1,1,null,null,null,null,null,null,null,null,null,null,null,null,null,null,null,null,null,null,null,null,null,null,1,{"$f":"IF(AZ20=1,G20,0)","v":0},{"$f":"IF(AZ20=2,G20,0)","v":0},{"$f":"IF(AZ20=3,G20,0)","v":0},{"$f":"IF(AZ20=4,G20,0)","v":0},{"$f":"IF(AZ20=5,G20,0)","v":0},null,null,null,null,null,null,null,null,null,null,null,null,null,null,null,null,null,null,null,null,null,1,1]
[null,null,"Položka obsahuje hloubení rýh traktorbagrem, naložení výkopku na dopravní prostředek pro svislé, nebo vodorovné přemístění, popř. přemístění výkopku do 3 m (po povrchu území), případné zajištění rypadel polštáři, udržování pracoviště a ochranu výkopiště proti stékání srážkové vody z okolního terénu i s jejím odvodněním, nebo odvedením, přesekání a odstranění kořenů ve výkopišti, odstranění napadávek, urovnání dna výkopu.",null,null,null,null,null,null,null,null,"Položka obsahuje hloubení rýh traktorbagrem, naložení výkopku na dopravní prostředek pro svislé, nebo vodorovné přemístění, popř. přemístění výkopku do 3 m (po povrchu území), případné zajištění rypadel polštáři, udržování pracoviště a ochranu výkopiště proti stékání srážkové vody z okolního terénu i s jejím odvodněním, nebo odvedením, přesekání a odstranění kořenů ve výkopišti, odstranění napadávek, urovnání dna výkopu.",null,null,3]
[null,null,"Stoka \"S\" PVC DN400:",null,0,null,null,null,null,null,null,null,"Stoka \"S\" PVC DN400:"]
[null,null,"Výkopy:",null,0,null,null,null,null,null,null,null,"Výkopy:"]
[null,null,"Začátek provozního součtu",null,0,null,null,null,null,null,null,null,"Začátek provozního součtu"]
[null,null,"Kanalizační přípojky PVC DN150 (11 kusů):",null,0,null,null,null,null,null,null,null,"Kanalizační přípojky PVC DN150 (11 kusů):"]
[null,null,"čp. 693:4,50*0,90*(2,20+1,75)/2",null,7.9988000000000001,null,null,null,null,null,null,null,"čp. 693:4,50*0,90*(2,20+1,75)/2"]
[null,null,"čp. 691:4,50*0,90*(2,15+1,35)/2",null,7.0875000000000004,null,null,null,null,null,null,null,"čp. 691:4,50*0,90*(2,15+1,35)/2"]
[null,null,"čp. 690:7,00*0,90*(2,94+2,15)/2",null,16.0335,null,null,null,null,null,null,null,"čp. 690:7,00*0,90*(2,94+2,15)/2"]
[null,null,"čp. 689:7,00*0,90*(3,07+2,15)/2",null,16.443000000000001,null,null,null,null,null,null,null,"čp. 689:7,00*0,90*(3,07+2,15)/2"]
[null,null,"čp. 697:(6,50+5,00)*0,90*(2,50+1,15)/2",null,18.8888,null,null,null,null,null,null,null,"čp. 697:(6,50+5,00)*0,90*(2,50+1,15)/2"]
[null,null,"čp. 698:6,50*0,90*(2,15+1,35)/2",null,10.237500000000001,null,null,null,null,null,null,null,"čp. 698:6,50*0,90*(2,15+1,35)/2"]
[null,null,"čp. 699:9,50*0,90*(2,70+1,50)/2",null,17.954999999999998,null,null,null,null,null,null,null,"čp. 699:9,50*0,90*(2,70+1,50)/2"]
[null,null,"čp. 700:6,50*0,90*(3,16+1,50)/2",null,13.6305,null,null,null,null,null,null,null,"čp. 700:6,50*0,90*(3,16+1,50)/2"]
[null,null,"čp. 701:9,00*0,90*(2,82+1,50)/2",null,17.495999999999999,null,null,null,null,null,null,null,"čp. 701:9,00*0,90*(2,82+1,50)/2"]
[null,null,"čp. 702:9,00*0,90*(2,35+1,50)/2",null,15.592499999999999,null,null,null,null,null,null,null,"čp. 702:9,00*0,90*(2,35+1,50)/2"]
[null,null,"Kanalizační přípojky PVC DN300 (1 kus):",null,0,null,null,null,null,null,null,null,"Kanalizační přípojky PVC DN300 (1 kus):"]
[null,null,"čp. 692:5,00*1,30*(2,15+1,35)/2",null,11.375,null,null,null,null,null,null,null,"čp. 692:5,00*1,30*(2,15+1,35)/2"]
[null,null,"Odpočet objemu konstrukce komunikace a chodníků:-54*0,90*0,40-3,00*1,30*0,40",null,-21,null,null,null,null,null,null,null,"Odpočet objemu konstrukce komunikace a chodníků:-54*0,90*0,40-3,00*1,30*0,40"]
[null,null,"Odpočet objemu ornice:-21,00*0,90*0,20-2,00*1,30*0,20",null,-4.3,null,null,null,null,null,null,null,"Odpočet objemu ornice:-21,00*0,90*0,20-2,00*1,30*0,20"]
[null,null,"Konec provozního součtu",null,127.43809999999998,null,null,null,null,null,null,null,"Konec provozního součtu"]
[null,null,"v hornině tř. 3 - 50%:127,4380*0,5",null,63.719000000000001,null,null,null,null,null,null,null,"v hornině tř. 3 - 50%:127,4380*0,5"]
[4,"132201219R00","Přípl.za lepivost,hloubení rýh 200cm,hor.3,STROJNĚ ","m3",31.859500000000001,null,{"$f":"E42*F42","v":0},0,{"$f":"E42*H42","v":0},0,{"$f":"E42*J42","v":0},null,null,null,2,null,null,null,null,null,null,null,null,null,null,null,1,1,1,null,null,null,null,null,null,null,null,null,null,null,null,null,null,null,null,null,null,null,null,null,null,1,{"$f":"IF(AZ42=1,G42,0)","v":0},{"$f":"IF(AZ42=2,G42,0)","v":0},{"$f":"IF(AZ42=3,G42,0)","v":0},{"$f":"IF(AZ42=4,G42,0)","v":0},{"$f":"IF(AZ42=5,G42,0)","v":0},null,null,null,null,null,null,null,null,null,null,null,null,null,null,null,null,null,null,null,null,null,1,1]
[null,null,"Stoka \"S\" PVC DN400:",null,0,null,null,null,null,null,null,null,"Stoka \"S\" PVC DN400:"]
[null,null,"Výkopy:",null,0,null,null,null,null,null,null,null,"Výkopy:"]
[null,null,"v hornině tř. 3 - 50%:127,4380*0,5*0,5",null,31.859500000000001,null,null,null,null,null,null,null,"v hornině tř. 3 - 50%:127,4380*0,5*0,5"]
[5,"132301210R00","Hloubení rýh š.do 200 cm hor.4 do 50 m3, STROJNĚ ","m3",63.719000000000001,null,{"$f":"E46*F46","v":0},0,{"$f":"E46*H46","v":0},0,{"$f":"E46*J46","v":0},null,null,null,2,null,null,null,null,null,null,null,null,null,null,null,1,1,1,null,null,null,null,null,null,null,null,null,null,null,null,null,null,null,null,null,null,null,null,null,null,1,{"$f":"IF(AZ46=1,G46,0)","v":0},{"$f":"IF(AZ46=2,G46,0)","v":0},{"$f":"IF(AZ46=3,G46,0)","v":0},{"$f":"IF(AZ46=4,G46,0)","v":0},{"$f":"IF(AZ46=5,G46,0)","v":0},null,null,null,null,null,null,null,null,null,null,null,null,null,null,null,null,null,null,null,null,null,1,1]
[null,null,"Položka obsahuje hloubení rýh traktorbagrem, naložení výkopku na dopravní prostředek pro svislé, nebo vodorovné přemístění, popř. přemístění výkopku do 3 m (po povrchu území), případné zajištění rypadel polštáři, udržování pracoviště a ochranu výkopiště proti stékání srážkové vody z okolního terénu i s jejím odvodněním, nebo odvedením, přesekání a odstranění kořenů ve výkopišti, odstranění napadávek, urovnání dna výkopu.",null,null,null,null,null,null,null,null,"Položka obsahuje hloubení rýh traktorbagrem, naložení výkopku na dopravní prostředek pro svislé, nebo vodorovné přemístění, popř. přemístění výkopku do 3 m (po povrchu území), případné zajištění rypadel polštáři, udržování pracoviště a ochranu výkopiště proti stékání srážkové vody z okolního terénu i s jejím odvodněním, nebo odvedením, přesekání a odstranění kořenů ve výkopišti, odstranění napadávek, urovnání dna výkopu.",null,null,3]
[null,null,"Stoka \"S\" PVC DN400:",null,0,null,null,null,null,null,null,null,"Stoka \"S\" PVC DN400:"]
[null,null,"Výkopy:",null,0,null,null,null,null,null,null,null,"Výkopy:"]
[null,null,"v hornině tř. 4 - 50%:127,4380*0,5",null,63.719000000000001,null,null,null,null,null,null,null,"v hornině tř. 4 - 50%:127,4380*0,5"]
[6,"132301219R00","Přípl.za lepivost,hloubení rýh 200cm,hor.4,STROJNĚ ","m3",31.859500000000001,null,{"$f":"E51*F51","v":0},0,{"$f":"E51*H51","v":0},0,{"$f":"E51*J51","v":0},null,null,null,2,null,null,null,null,null,null,null,null,null,null,null,1,1,1,null,null,null,null,null,null,null,null,null,null,null,null,null,null,null,null,null,null,null,null,null,null,1,{"$f":"IF(AZ51=1,G51,0)","v":0},{"$f":"IF(AZ51=2,G51,0)","v":0},{"$f":"IF(AZ51=3,G51,0)","v":0},{"$f":"IF(AZ51=4,G51,0)","v":0},{"$f":"IF(AZ51=5,G51,0)","v":0},null,null,null,null,null,null,null,null,null,null,null,null,null,null,null,null,null,null,null,null,null,1,1]
[null,null,"Stoka \"S\" PVC DN400:",null,0,null,null,null,null,null,null,null,"Stoka \"S\" PVC DN400:"]
[null,null,"Výkopy:",null,0,null,null,null,null,null,null,null,"Výkopy:"]
[null,null,"v hornině tř. 4 - 50%:127,4380*0,5*0,5",null,31.859500000000001,null,null,null,null,null,null,null,"v hornině tř. 4 - 50%:127,4380*0,5*0,5"]
[7,"132901220RRX","Přípl.za provedení podchodu pod základem oplocení Ručně do objemu 1,00 m3","kus",9,null,{"$f":"E55*F55","v":0},0,{"$f":"E55*H55","v":0},0,{"$f":"E55*J55","v":0},null,null,null,2,null,null,null,null,null,null,null,null,null,null,null,1,1,1,null,null,null,null,null,null,null,null,null,null,null,null,null,null,null,null,null,null,null,null,null,null,1,{"$f":"IF(AZ55=1,G55,0)","v":0},{"$f":"IF(AZ55=2,G55,0)","v":0},{"$f":"IF(AZ55=3,G55,0)","v":0},{"$f":"IF(AZ55=4,G55,0)","v":0},{"$f":"IF(AZ55=5,G55,0)","v":0},null,null,null,null,null,null,null,null,null,null,null,null,null,null,null,null,null,null,null,null,null,1,1]
[null,null,"Stoka \"V1 a V2\" PVC DN300:",null,0,null,null,null,null,null,null,null,"Stoka \"V1 a V2\" PVC DN300:"]
[null,null,"Výkopy:",null,0,null,null,null,null,null,null,null,"Výkopy:"]
[null,null,"Kanalizační přípojky PVC DN150 (11 kusů):",null,0,null,null,null,null,null,null,null,"Kanalizační přípojky PVC DN150 (11 kusů):"]
[null,null,"čp. 693:1",null,1,null,null,null,null,null,null,null,"čp. 693:1"]
[null,null,"čp. 691:1",null,1,null,null,null,null,null,null,null,"čp. 691:1"]
[null,null,"čp. 690:1",null,1,null,null,null,null,null,null,null,"čp. 690:1"]
[null,null,"čp. 689:1",null,1,null,null,null,null,null,null,null,"čp. 689:1"]
[null,null,"čp. 699:1",null,1,null,null,null,null,null,null,null,"čp. 699:1"]
[null,null,"čp. 700:1",null,1,null,null,null,null,null,null,null,"čp. 700:1"]
[null,null,"čp. 701:1",null,1,null,null,null,null,null,null,null,"čp. 701:1"]
[null,null,"čp. 702:1",null,1,null,null,null,null,null,null,null,"čp. 702:1"]
[null,null,"Kanalizační přípojky PVC DN300 (1 kus):",null,0,null,null,null,null,null,null,null,"Kanalizační přípojky PVC DN300 (1 kus):"]
[null,null,"čp. 692:1",null,1,null,null,null,null,null,null,null,"čp. 692:1"]
[8,"151101101R00","Pažení a rozepření stěn rýh - příložné - hl.do 2 m ","m2",149.238,null,{"$f":"E69*F69","v":0},9.8999999999999999E-4,{"$f":"E69*H69","v":0.14774561999999999},0,{"$f":"E69*J69","v":0},null,null,null,2,null,null,null,null,null,null,null,null,null,null,null,1,1,1,null,null,null,null,null,null,null,null,null,null,null,null,null,null,null,null,null,null,null,null,null,null,1,{"$f":"IF(AZ69=1,G69,0)","v":0},{"$f":"IF(AZ69=2,G69,0)","v":0},{"$f":"IF(AZ69=3,G69,0)","v":0},{"$f":"IF(AZ69=4,G69,0)","v":0},{"$f":"IF(AZ69=5,G69,0)","v":0},null,null,null,null,null,null,null,null,null,null,null,null,null,null,null,null,null,null,null,null,null,1,1]
[null,null,"Stoka \"S\" PVC DN400:",null,0,null,null,null,null,null,null,null,"Stoka \"S\" PVC DN400:"]
[null,null,"Výkopy:",null,0,null,null,null,null,null,null,null,"Výkopy:"]
[null,null,"Začátek provozního součtu",null,0,null,null,null,null,null,null,null,"Začátek provozního součtu"]
[null,null,"Kanalizační přípojky PVC DN150 (11 kusů):",null,0,null,null,null,null,null,null,null,"Kanalizační přípojky PVC DN150 (11 kusů):"]
[null,null,"čp. 693:4,50*(2,20+1,75)/2*2",null,17.774999999999999,null,null,null,null,null,null,null,"čp. 693:4,50*(2,20+1,75)/2*2"]
[null,null,"čp. 691:4,50*(2,15+1,35)/2*2",null,15.75,null,null,null,null,null,null,null,"čp. 691:4,50*(2,15+1,35)/2*2"]
[null,null,"čp. 690:7,00*(2,94+2,15)/2*2",null,35.630000000000003,null,null,null,null,null,null,null,"čp. 690:7,00*(2,94+2,15)/2*2"]
[null,null,"čp. 689:7,00*(3,07+2,15)/2*2",null,36.54,null,null,null,null,null,null,null,"čp. 689:7,00*(3,07+2,15)/2*2"]
[null,null,"čp. 697:(6,50+5,00)*(2,50+1,15)/2*2",null,41.975000000000001,null,null,null,null,null,null,null,"čp. 697:(6,50+5,00)*(2,50+1,15)/2*2"]
[null,null,"čp. 698:6,50*(2,15+1,35)/2*2",null,22.75,null,null,null,null,null,null,null,"čp. 698:6,50*(2,15+1,35)/2*2"]
[null,null,"čp. 699:9,50*(2,70+1,50)/2*2",null,39.9,null,null,null,null,null,null,null,"čp. 699:9,50*(2,70+1,50)/2*2"]
[null,null,"čp. 700:6,50*(3,16+1,50)/2*2",null,30.29,null,null,null,null,null,null,null,"čp. 700:6,50*(3,16+1,50)/2*2"]
[null,null,"čp. 701:9,00*(2,82+1,50)/2*2",null,38.880000000000003,null,null,null,null,null,null,null,"čp. 701:9,00*(2,82+1,50)/2*2"]
[null,null,"čp. 702:9,00*(2,35+1,50)/2*2",null,34.65,null,null,null,null,null,null,null,"čp. 702:9,00*(2,35+1,50)/2*2"]
[null,null,"Kanalizační přípojky PVC DN300 (1 kus):",null,0,null,null,null,null,null,null,null,"Kanalizační přípojky PVC DN300 (1 kus):"]
[null,null,"čp. 692:5,00*(2,15+1,35)/2*2",null,17.5,null,null,null,null,null,null,null,"čp. 692:5,00*(2,15+1,35)/2*2"]
[null,null,"Konec provozního součtu",null,331.64,null,null,null,null,null,null,null,"Konec provozního součtu"]
[null,null,"Paření do 2 m - 45%:331,6400*0,45",null,149.238,null,null,null,null,null,null,null,"Paření do 2 m - 45%:331,6400*0,45"]
[9,"151101102R00","Pažení a rozepření stěn rýh - příložné - hl.do 4 m ","m2",182.40199999999999,null,{"$f":"E88*F88","v":0},8.5999999999999998E-4,{"$f":"E88*H88","v":0.15686571999999999},0,{"$f":"E88*J88","v":0},null,null,null,2,null,null,null,null,null,null,null,null,null,null,null,1,1,1,null,null,null,null,null,null,null,null,null,null,null,null,null,null,null,null,null,null,null,null,null,null,1,{"$f":"IF(AZ88=1,G88,0)","v":0},{"$f":"IF(AZ88=2,G88,0)","v":0},{"$f":"IF(AZ88=3,G88,0)","v":0},{"$f":"IF(AZ88=4,G88,0)","v":0},{"$f":"IF(AZ88=5,G88,0)","v":0},null,null,null,null,null,null,null,null,null,null,null,null,null,null,null,null,null,null,null,null,null,1,1]
[null,null,"Stoka \"S\" PVC DN400:",null,0,null,null,null,null,null,null,null,"Stoka \"S\" PVC DN400:"]
[null,null,"Výkopy:",null,0,null,null,null,null,null,null,null,"Výkopy:"]
[null,null,"Začátek provozního součtu",null,0,null,null,null,null,null,null,null,"Začátek provozního součtu"]
[null,null,"Kanalizační přípojky PVC DN150 (11 kusů):",null,0,null,null,null,null,null,null,null,"Kanalizační přípojky PVC DN150 (11 kusů):"]
[null,null,"čp. 693:4,50*(2,20+1,75)/2*2",null,17.774999999999999,null,null,null,null,null,null,null,"čp. 693:4,50*(2,20+1,75)/2*2"]
[null,null,"čp. 691:4,50*(2,15+1,35)/2*2",null,15.75,null,null,null,null,null,null,null,"čp. 691:4,50*(2,15+1,35)/2*2"]
[null,null,"čp. 690:7,00*(2,94+2,15)/2*2",null,35.630000000000003,null,null,null,null,null,null,null,"čp. 690:7,00*(2,94+2,15)/2*2"]
[null,null,"čp. 689:7,00*(3,07+2,15)/2*2",null,36.54,null,null,null,null,null,null,null,"čp. 689:7,00*(3,07+2,15)/2*2"]
[null,null,"čp. 697:(6,50+5,00)*(2,50+1,15)/2*2",null,41.975000000000001,null,null,null,null,null,null,null,"čp. 697:(6,50+5,00)*(2,50+1,15)/2*2"]
[null,null,"čp. 698:6,50*(2,15+1,35)/2*2",null,22.75,null,null,null,null,null,null,null,"čp. 698:6,50*(2,15+1,35)/2*2"]
[null,null,"čp. 699:9,50*(2,70+1,50)/2*2",null,39.9,null,null,null,null,null,null,null,"čp. 699:9,50*(2,70+1,50)/2*2"]
[null,null,"čp. 700:6,50*(3,16+1,50)/2*2",null,30.29,null,null,null,null,null,null,null,"čp. 700:6,50*(3,16+1,50)/2*2"]
[null,null,"čp. 701:9,00*(2,82+1,50)/2*2",null,38.880000000000003,null,null,null,null,null,null,null,"čp. 701:9,00*(2,82+1,50)/2*2"]
[null,null,"čp. 702:9,00*(2,35+1,50)/2*2",null,34.65,null,null,null,null,null,null,null,"čp. 702:9,00*(2,35+1,50)/2*2"]
[null,null,"Kanalizační přípojky PVC DN300 (1 kus):",null,0,null,null,null,null,null,null,null,"Kanalizační přípojky PVC DN300 (1 kus):"]
[null,null,"čp. 692:5,00*(2,15+1,35)/2*2",null,17.5,null,null,null,null,null,null,null,"čp. 692:5,00*(2,15+1,35)/2*2"]
[null,null,"Konec provozního součtu",null,331.64,null,null,null,null,null,null,null,"Konec provozního součtu"]
[null,null,"Paření od 2 m  do 4,0 m - 55%:331,6400*0,55",null,182.40199999999999,null,null,null,null,null,null,null,"Paření od 2 m  do 4,0 m - 55%:331,6400*0,55"]
[10,"151101111R00","Odstranění pažení stěn rýh - příložné - hl. do 2 m ","m2",149.238,null,{"$f":"E107*F107","v":0},0,{"$f":"E107*H107","v":0},0,{"$f":"E107*J107","v":0},null,null,null,2,null,null,null,null,null,null,null,null,null,null,null,1,1,1,null,null,null,null,null,null,null,null,null,null,null,null,null,null,null,null,null,null,null,null,null,null,1,{"$f":"IF(AZ107=1,G107,0)","v":0},{"$f":"IF(AZ107=2,G107,0)","v":0},{"$f":"IF(AZ107=3,G107,0)","v":0},{"$f":"IF(AZ107=4,G107,0)","v":0},{"$f":"IF(AZ107=5,G107,0)","v":0},null,null,null,null,null,null,null,null,null,null,null,null,null,null,null,null,null,null,null,null,null,1,1]
[null,null,"Stoka \"S\" PVC DN400:",null,0,null,null,null,null,null,null,null,"Stoka \"S\" PVC DN400:"]
[null,null,"Paření do 2 m - 45%:331,6400*0,45",null,149.238,null,null,null,null,null,null,null,"Paření do 2 m - 45%:331,6400*0,45"]
[11,"151101112R00","Odstranění pažení stěn rýh - příložné - hl. do 4 m ","m2",182.40199999999999,null,{"$f":"E110*F110","v":0},0,{"$f":"E110*H110","v":0},0,{"$f":"E110*J110","v":0},null,null,null,2,null,null,null,null,null,null,null,null,null,null,null,1,1,1,null,null,null,null,null,null,null,null,null,null,null,null,null,null,null,null,null,null,null,null,null,null,1,{"$f":"IF(AZ110=1,G110,0)","v":0},{"$f":"IF(AZ110=2,G110,0)","v":0},{"$f":"IF(AZ110=3,G110,0)","v":0},{"$f":"IF(AZ110=4,G110,0)","v":0},{"$f":"IF(AZ110=5,G110,0)","v":0},null,null,null,null,null,null,null,null,null,null,null,null,null,null,null,null,null,null,null,null,null,1,1]
[null,null,"Stoka \"S\" PVC DN400:",null,0,null,null,null,null,null,null,null,"Stoka \"S\" PVC DN400:"]
[null,null,"Paření od 2 m  do 4,0 m - 55%:331,6400*0,55",null,182.40199999999999,null,null,null,null,null,null,null,"Paření od 2 m  do 4,0 m - 55%:331,6400*0,55"]
[12,"162701105RSZ","Vodorovné přemístění výkopku z hor.1-7 na skládku zhotovitele","m3",98.718000000000004,null,{"$f":"E113*F113","v":0},0,{"$f":"E113*H113","v":0},0,{"$f":"E113*J113","v":0},null,null,null,2,null,null,null,null,null,null,null,null,null,null,null,1,1,1,null,null,null,null,null,null,null,null,null,null,null,null,null,null,null,null,null,null,null,null,null,null,1,{"$f":"IF(AZ113=1,G113,0)","v":0},{"$f":"IF(AZ113=2,G113,0)","v":0},{"$f":"IF(AZ113=3,G113,0)","v":0},{"$f":"IF(AZ113=4,G113,0)","v":0},{"$f":"IF(AZ113=5,G113,0)","v":0},null,null,null,null,null,null,null,null,null,null,null,null,null,null,null,null,null,null,null,null,null,1,1]
[null,null,"Stoka \"S\" PVC DN400:",null,0,null,null,null,null,null,null,null,"Stoka \"S\" PVC DN400:"]
[null,null,"Výkopy:127,4380",null,127.438,null,null,null,null,null,null,null,"Výkopy:127,4380"]
[null,null,"Odpočet objemu zásypů zeminou:-28,7200",null,-28.72,null,null,null,null,null,null,null,"Odpočet objemu zásypů zeminou:-28,7200"]
[13,"174101101R00","Zásyp jam, rýh, šachet se zhutněním ","m3",82.063000000000002,null,{"$f":"E117*F117","v":0},0,{"$f":"E117*H117","v":0},0,{"$f":"E117*J117","v":0},null,null,null,2,null,null,null,null,null,null,null,null,null,null,null,1,1,1,null,null,null,null,null,null,null,null,null,null,null,null,null,null,null,null,null,null,null,null,null,null,1,{"$f":"IF(AZ117=1,G117,0)","v":0},{"$f":"IF(AZ117=2,G117,0)","v":0},{"$f":"IF(AZ117=3,G117,0)","v":0},{"$f":"IF(AZ117=4,G117,0)","v":0},{"$f":"IF(AZ117=5,G117,0)","v":0},null,null,null,null,null,null,null,null,null,null,null,null,null,null,null,null,null,null,null,null,null,1,1]
[null,null,"Položka obsahuje strojní přemístění materiálu pro zásyp ze vzdálenosti do 10 m od okraje zásypu.",null,null,null,null,null,null,null,null,"Položka obsahuje strojní přemístění materiálu pro zásyp ze vzdálenosti do 10 m od okraje zásypu.",null,null,3]
[null,null,null,null,null,null,null,null,null,null,null,null,null,null,3]
[null,null,"Stoka \"V1 a V2\" PVC DN300:",null,0,null,null,null,null,null,null,null,"Stoka \"V1 a V2\" PVC DN300:"]
[null,null,"Zásypy ŠD fr. 0-63 mm:53,3430",null,53.343000000000004,null,null,null,null,null,null,null,"Zásypy ŠD fr. 0-63 mm:53,3430"]
[null,null,"Začátek provozního součtu",null,0,null,null,null,null,null,null,null,"Začátek provozního součtu"]
[null,null,"Výkopy:",null,0,null,null,null,null,null,null,null,"Výkopy:"]
[null,null,"Kanalizační přípojky PVC DN150 (11 kusů):",null,0,null,null,null,null,null,null,null,"Kanalizační přípojky PVC DN150 (11 kusů):"]
[null,null,"čp. 693:3,50*0,90*(2,20+1,75)/2",null,6.2213000000000003,null,null,null,null,null,null,null,"čp. 693:3,50*0,90*(2,20+1,75)/2"]
[null,null,"čp. 691:3,00*0,90*(2,15+1,35)/2",null,4.7249999999999996,null,null,null,null,null,null,null,"čp. 691:3,00*0,90*(2,15+1,35)/2"]
[null,null,"čp. 690:3,00*0,90*(2,94+2,15)/2",null,6.8715000000000002,null,null,null,null,null,null,null,"čp. 690:3,00*0,90*(2,94+2,15)/2"]
[null,null,"čp. 689:3,00*0,90*(3,07+2,15)/2",null,7.0469999999999997,null,null,null,null,null,null,null,"čp. 689:3,00*0,90*(3,07+2,15)/2"]
[null,null,"čp. 697:(6,50+5,00)*0,90*(2,50+1,15)/2",null,18.8888,null,null,null,null,null,null,null,"čp. 697:(6,50+5,00)*0,90*(2,50+1,15)/2"]
[null,null,"čp. 698:4,50*0,90*(2,15+1,35)/2",null,7.0875000000000004,null,null,null,null,null,null,null,"čp. 698:4,50*0,90*(2,15+1,35)/2"]
[null,null,"čp. 699:6,00*0,90*(2,70+1,50)/2",null,11.34,null,null,null,null,null,null,null,"čp. 699:6,00*0,90*(2,70+1,50)/2"]
[null,null,"čp. 700:6,50*0,90*(3,16+1,50)/2",null,13.6305,null,null,null,null,null,null,null,"čp. 700:6,50*0,90*(3,16+1,50)/2"]
[null,null,"čp. 701:6,00*0,90*(2,82+1,50)/2",null,11.664,null,null,null,null,null,null,null,"čp. 701:6,00*0,90*(2,82+1,50)/2"]
[null,null,"čp. 702:7,00*0,90*(2,35+1,50)/2",null,12.1275,null,null,null,null,null,null,null,"čp. 702:7,00*0,90*(2,35+1,50)/2"]
[null,null,"Kanalizační přípojky PVC DN300 (1 kus):",null,0,null,null,null,null,null,null,null,"Kanalizační přípojky PVC DN300 (1 kus):"]
[null,null,"čp. 692:3,00*1,30*(2,15+1,35)/2",null,6.8250000000000002,null,null,null,null,null,null,null,"čp. 692:3,00*1,30*(2,15+1,35)/2"]
[null,null,"Odpočet objemu konstrukce komunikace a chodníků:-54*0,90*0,40-3,00*1,30*0,40",null,-21,null,null,null,null,null,null,null,"Odpočet objemu konstrukce komunikace a chodníků:-54*0,90*0,40-3,00*1,30*0,40"]
[null,null,"Odpočet objemu lože, potrubí a obsypů:-54,00*0,90*(0,15+0,15+0,30)",null,-29.16,null,null,null,null,null,null,null,"Odpočet objemu lože, potrubí a obsypů:-54,00*0,90*(0,15+0,15+0,30)"]
[null,null,"-3,00*1,30*(0,15+0,30+0,30)",null,-2.9249999999999998,null,null,null,null,null,null,null,"-3,00*1,30*(0,15+0,30+0,30)"]
[null,null,"Konec provozního součtu",null,53.343100000000007,null,null,null,null,null,null,null,"Konec provozního součtu"]
[null,null,"Zásypy zeminou:28,7200",null,28.72,null,null,null,null,null,null,null,"Zásypy zeminou:28,7200"]
[null,null,"Začátek provozního součtu",null,0,null,null,null,null,null,null,null,"Začátek provozního součtu"]
[null,null,"Kanalizační přípojky PVC DN150 (11 kusů):",null,0,null,null,null,null,null,null,null,"Kanalizační přípojky PVC DN150 (11 kusů):"]
[null,null,"čp. 693:1,00*0,90*(2,20+1,75)/2",null,1.7775000000000001,null,null,null,null,null,null,null,"čp. 693:1,00*0,90*(2,20+1,75)/2"]
[null,null,"čp. 691:1,50*0,90*(2,15+1,35)/2",null,2.3624999999999998,null,null,null,null,null,null,null,"čp. 691:1,50*0,90*(2,15+1,35)/2"]
[null,null,"čp. 690:4,00*0,90*(2,94+2,15)/2",null,9.1620000000000008,null,null,null,null,null,null,null,"čp. 690:4,00*0,90*(2,94+2,15)/2"]
[null,null,"čp. 689:4,00*0,90*(3,07+2,15)/2",null,9.3960000000000008,null,null,null,null,null,null,null,"čp. 689:4,00*0,90*(3,07+2,15)/2"]
[null,null,"čp. 698:2,00*0,90*(2,15+1,35)/2",null,3.15,null,null,null,null,null,null,null,"čp. 698:2,00*0,90*(2,15+1,35)/2"]
[null,null,"čp. 699:3,50*0,90*(2,70+1,50)/2",null,6.6150000000000002,null,null,null,null,null,null,null,"čp. 699:3,50*0,90*(2,70+1,50)/2"]
[null,null,"čp. 701:3,00*0,90*(2,82+1,50)/2",null,5.8319999999999999,null,null,null,null,null,null,null,"čp. 701:3,00*0,90*(2,82+1,50)/2"]
[null,null,"čp. 702:2,00*0,90*(2,35+1,50)/2",null,3.4649999999999999,null,null,null,null,null,null,null,"čp. 702:2,00*0,90*(2,35+1,50)/2"]
[null,null,"Kanalizační přípojky PVC DN300 (1 kus):",null,0,null,null,null,null,null,null,null,"Kanalizační přípojky PVC DN300 (1 kus):"]
[null,null,"čp. 692:2,00*1,30*(2,15+1,35)/2",null,4.55,null,null,null,null,null,null,null,"čp. 692:2,00*1,30*(2,15+1,35)/2"]
[null,null,"Odpočet objemu ornice:-21,00*0,90*0,20-2,00*1,30*0,20",null,-4.3,null,null,null,null,null,null,null,"Odpočet objemu ornice:-21,00*0,90*0,20-2,00*1,30*0,20"]
[null,null,"Odpočet objemu lože, potrubí a obsypů:-21,00*0,90*(0,15+0,15+0,30)",null,-11.34,null,null,null,null,null,null,null,"Odpočet objemu lože, potrubí a obsypů:-21,00*0,90*(0,15+0,15+0,30)"]
[null,null,"-2,00*1,30*(0,15+0,30+0,30)",null,-1.95,null,null,null,null,null,null,null,"-2,00*1,30*(0,15+0,30+0,30)"]
[null,null,"Konec provozního součtu",null,28.720000000000006,null,null,null,null,null,null,null,"Konec provozního součtu"]
[14,"175101101R00","Obsyp potrubí bez prohození sypaniny ","m3",32.596200000000003,null,{"$f":"E158*F158","v":0},0,{"$f":"E158*H158","v":0},0,{"$f":"E158*J158","v":0},null,null,null,2,null,null,null,null,null,null,null,null,null,null,null,1,1,1,null,null,null,null,null,null,null,null,null,null,null,null,null,null,null,null,null,null,null,null,null,null,1,{"$f":"IF(AZ158=1,G158,0)","v":0},{"$f":"IF(AZ158=2,G158,0)","v":0},{"$f":"IF(AZ158=3,G158,0)","v":0},{"$f":"IF(AZ158=4,G158,0)","v":0},{"$f":"IF(AZ158=5,G158,0)","v":0},null,null,null,null,null,null,null,null,null,null,null,null,null,null,null,null,null,null,null,null,null,1,1]
[null,null,"Stoka \"V1 a V2\" PVC DN300:",null,0,null,null,null,null,null,null,null,"Stoka \"V1 a V2\" PVC DN300:"]
[null,null,"Kanalizační přípojky PVC DN150:",null,0,null,null,null,null,null,null,null,"Kanalizační přípojky PVC DN150:"]
[null,null,"KP (11 kusů):75,00*(0,90*(0,15+0,30)-0,075^2*Pi)",null,29.049600000000002,null,null,null,null,null,null,null,"KP (11 kusů):75,00*(0,90*(0,15+0,30)-0,075^2*Pi)"]
[null,null,"Kanalizační přípojky PVC DN300:",null,0,null,null,null,null,null,null,null,"Kanalizační přípojky PVC DN300:"]
[null,null,"KP (1 kus):5,00*(1,30*(0,30+0,30)-0,15^2*Pi)",null,3.5466000000000002,null,null,null,null,null,null,null,"KP (1 kus):5,00*(1,30*(0,30+0,30)-0,15^2*Pi)"]
[15,"199000002R00","Poplatek za skládku horniny 1- 7 č. dle katal. odpadů 17 05 04","m3",98.718000000000004,null,{"$f":"E164*F164","v":0},0,{"$f":"E164*H164","v":0},0,{"$f":"E164*J164","v":0},null,null,null,2,null,null,null,null,null,null,null,null,null,null,null,1,1,1,null,null,null,null,null,null,null,null,null,null,null,null,null,null,null,null,null,null,null,null,null,null,1,{"$f":"IF(AZ164=1,G164,0)","v":0},{"$f":"IF(AZ164=2,G164,0)","v":0},{"$f":"IF(AZ164=3,G164,0)","v":0},{"$f":"IF(AZ164=4,G164,0)","v":0},{"$f":"IF(AZ164=5,G164,0)","v":0},null,null,null,null,null,null,null,null,null,null,null,null,null,null,null,null,null,null,null,null,null,1,1]
[null,null,"Stoka \"S\" PVC DN400:",null,0,null,null,null,null,null,null,null,"Stoka \"S\" PVC DN400:"]
[null,null,"Výkopy:127,4380",null,127.438,null,null,null,null,null,null,null,"Výkopy:127,4380"]
[null,null,"Odpočet objemu zásypů zeminou:-28,7200",null,-28.72,null,null,null,null,null,null,null,"Odpočet objemu zásypů zeminou:-28,7200"]
[16,"58337308.R","Štěrkopísek frakce 0-2 tř.B","t",64.955399999999997,null,{"$f":"E168*F168","v":0},1,{"$f":"E168*H168","v":64.955399999999997},null,{"$f":"E168*J168","v":0},null,null,null,2,null,null,null,null,null,null,null,null,null,null,null,3,1,"58337308.R",null,null,null,null,null,null,null,null,null,null,null,null,null,null,null,null,null,null,null,null,null,null,1,{"$f":"IF(AZ168=1,G168,0)","v":0},{"$f":"IF(AZ168=2,G168,0)","v":0},{"$f":"IF(AZ168=3,G168,0)","v":0},{"$f":"IF(AZ168=4,G168,0)","v":0},{"$f":"IF(AZ168=5,G168,0)","v":0},null,null,null,null,null,null,null,null,null,null,null,null,null,null,null,null,null,null,null,null,null,3,1]
[null,null,"Stoka \"V1 a V2\" PVC DN300:",null,0,null,null,null,null,null,null,null,"Stoka \"V1 a V2\" PVC DN300:"]
[null,null,"Kanalizační přípojky PVC DN150:",null,0,null,null,null,null,null,null,null,"Kanalizační přípojky PVC DN150:"]
[null,null,"KP (11 kusů):75,00*(0,90*(0,15+0,30)-0,075^2*Pi)*1,973*1,01",null,57.888100000000001,null,null,null,null,null,null,null,"KP (11 kusů):75,00*(0,90*(0,15+0,30)-0,075^2*Pi)*1,973*1,01"]
[null,null,"Kanalizační přípojky PVC DN300:",null,0,null,null,null,null,null,null,null,"Kanalizační přípojky PVC DN300:"]
[null,null,"KP (1 kus):5,00*(1,30*(0,30+0,30)-0,15^2*Pi)*1,973*1,01",null,7.0674000000000001,null,null,null,null,null,null,null,"KP (1 kus):5,00*(1,30*(0,30+0,30)-0,15^2*Pi)*1,973*1,01"]
[17,"58344197R","Štěrkodrtě frakce 0-63 A","t",100.9106,null,{"$f":"E174*F174","v":0},1,{"$f":"E174*H174","v":100.9106},null,{"$f":"E174*J174","v":0},null,null,null,2,null,null,null,null,null,null,null,null,null,null,null,3,1,"58344197R",null,null,null,null,null,null,null,null,null,null,null,null,null,null,null,null,null,null,null,null,null,null,1,{"$f":"IF(AZ174=1,G174,0)","v":0},{"$f":"IF(AZ174=2,G174,0)","v":0},{"$f":"IF(AZ174=3,G174,0)","v":0},{"$f":"IF(AZ174=4,G174,0)","v":0},{"$f":"IF(AZ174=5,G174,0)","v":0},null,null,null,null,null,null,null,null,null,null,null,null,null,null,null,null,null,null,null,null,null,3,1]
[null,null,"Stoka \"V1 a V2\" PVC DN300:",null,0,null,null,null,null,null,null,null,"Stoka \"V1 a V2\" PVC DN300:"]
[null,null,"Zásypy ŠD fr. 0-63 mm:53,3430*1,873*1,01",null,100.9106,null,null,null,null,null,null,null,"Zásypy ŠD fr. 0-63 mm:53,3430*1,873*1,01"]
[null,"Celkem za","1 Zemní práce",null,null,null,{"$f":"SUM(G7:G176)","v":0},null,{"$f":"SUM(I7:I176)","v":166.17061133999999},null,{"$f":"SUM(K7:K176)","v":0},null,null,null,4,null,null,null,null,null,null,null,null,null,null,null,null,null,null,null,null,null,null,null,null,null,null,null,null,null,null,null,null,null,null,null,null,null,null,null,null,null,{"$f":"SUM(BA7:BA176)","v":0},{"$f":"SUM(BB7:BB176)","v":0},{"$f":"SUM(BC7:BC176)","v":0},{"$f":"SUM(BD7:BD176)","v":0},{"$f":"SUM(BE7:BE176)","v":0}]
["Díl:","21","Úprava podloží a základ.spáry",null,null,null,null,null,null,null,null,null,null,null,1]
[18,"215901101RT5","Zhutnění podloží do 92% PS vibrační deskou","m2",74,null,{"$f":"E179*F179","v":0},0,{"$f":"E179*H179","v":0},0,{"$f":"E179*J179","v":0},null,null,null,2,null,null,null,null,null,null,null,null,null,null,null,1,1,1,null,null,null,null,null,null,null,null,null,null,null,null,null,null,null,null,null,null,null,null,null,null,1,{"$f":"IF(AZ179=1,G179,0)","v":0},{"$f":"IF(AZ179=2,G179,0)","v":0},{"$f":"IF(AZ179=3,G179,0)","v":0},{"$f":"IF(AZ179=4,G179,0)","v":0},{"$f":"IF(AZ179=5,G179,0)","v":0},null,null,null,null,null,null,null,null,null,null,null,null,null,null,null,null,null,null,null,null,null,1,1]
[null,null,"Stoka \"V1 a V2\" PVC DN300:",null,0,null,null,null,null,null,null,null,"Stoka \"V1 a V2\" PVC DN300:"]
[null,null,"Kanalizační přípojky PVC DN150:",null,0,null,null,null,null,null,null,null,"Kanalizační přípojky PVC DN150:"]
[null,null,"KP (11 kusů):75,00*0,90",null,67.5,null,null,null,null,null,null,null,"KP (11 kusů):75,00*0,90"]
[null,null,"Kanalizační přípojky PVC DN300:",null,0,null,null,null,null,null,null,null,"Kanalizační přípojky PVC DN300:"]
[null,null,"KP (1 kus):5,00*1,30",null,6.5,null,null,null,null,null,null,null,"KP (1 kus):5,00*1,30"]
[null,"Celkem za","21 Úprava podloží a základ.spáry",null,null,null,{"$f":"SUM(G178:G184)","v":0},null,{"$f":"SUM(I178:I184)","v":0},null,{"$f":"SUM(K178:K184)","v":0},null,null,null,4,null,null,null,null,null,null,null,null,null,null,null,null,null,null,null,null,null,null,null,null,null,null,null,null,null,null,null,null,null,null,null,null,null,null,null,null,null,{"$f":"SUM(BA178:BA184)","v":0},{"$f":"SUM(BB178:BB184)","v":0},{"$f":"SUM(BC178:BC184)","v":0},{"$f":"SUM(BD178:BD184)","v":0},{"$f":"SUM(BE178:BE184)","v":0}]
["Díl:","45","Podkladní a vedlejší konstrukce",null,null,null,null,null,null,null,null,null,null,null,1]
[19,"451572111R00","Lože pod potrubí z kameniva těženého 0 - 4 mm ","m3",11.1,null,{"$f":"E187*F187","v":0},0.43051,{"$f":"E187*H187","v":4.7786609999999996},0,{"$f":"E187*J187","v":0},null,null,null,2,null,null,null,null,null,null,null,null,null,null,null,1,1,1,null,null,null,null,null,null,null,null,null,null,null,null,null,null,null,null,null,null,null,null,null,null,1,{"$f":"IF(AZ187=1,G187,0)","v":0},{"$f":"IF(AZ187=2,G187,0)","v":0},{"$f":"IF(AZ187=3,G187,0)","v":0},{"$f":"IF(AZ187=4,G187,0)","v":0},{"$f":"IF(AZ187=5,G187,0)","v":0},null,null,null,null,null,null,null,null,null,null,null,null,null,null,null,null,null,null,null,null,null,1,1]
[null,null,"Stoka \"V1 a V2\" PVC DN300:",null,0,null,null,null,null,null,null,null,"Stoka \"V1 a V2\" PVC DN300:"]
[null,null,"Kanalizační přípojky PVC DN150:",null,0,null,null,null,null,null,null,null,"Kanalizační přípojky PVC DN150:"]
[null,null,"KP (11 kusů):75,00*0,90*0,15",null,10.125,null,null,null,null,null,null,null,"KP (11 kusů):75,00*0,90*0,15"]
[null,null,"Kanalizační přípojky PVC DN300:",null,0,null,null,null,null,null,null,null,"Kanalizační přípojky PVC DN300:"]
[null,null,"KP (1 kus):5,00*1,30*0,15",null,0.97499999999999998,null,null,null,null,null,null,null,"KP (1 kus):5,00*1,30*0,15"]
[null,"Celkem za","45 Podkladní a vedlejší konstrukce",null,null,null,{"$f":"SUM(G186:G192)","v":0},null,{"$f":"SUM(I186:I192)","v":4.7786609999999996},null,{"$f":"SUM(K186:K192)","v":0},null,null,null,4,null,null,null,null,null,null,null,null,null,null,null,null,null,null,null,null,null,null,null,null,null,null,null,null,null,null,null,null,null,null,null,null,null,null,null,null,null,{"$f":"SUM(BA186:BA192)","v":0},{"$f":"SUM(BB186:BB192)","v":0},{"$f":"SUM(BC186:BC192)","v":0},{"$f":"SUM(BD186:BD192)","v":0},{"$f":"SUM(BE186:BE192)","v":0}]
["Díl:","5","Komunikace",null,null,null,null,null,null,null,null,null,null,null,1]
[20,"572701119RRX","Provizorní zásyp rýh kam. hrubě drceným nebo recyk s následným odstraněním a odvozem","m3",21,null,{"$f":"E195*F195","v":0},1.4804999999999999,{"$f":"E195*H195","v":31.090499999999999},0,{"$f":"E195*J195","v":0},null,null,null,2,null,null,null,null,null,null,null,null,null,null,null,1,1,1,null,null,null,null,null,null,null,null,null,null,null,null,null,null,null,null,null,null,null,null,null,null,1,{"$f":"IF(AZ195=1,G195,0)","v":0},{"$f":"IF(AZ195=2,G195,0)","v":0},{"$f":"IF(AZ195=3,G195,0)","v":0},{"$f":"IF(AZ195=4,G195,0)","v":0},{"$f":"IF(AZ195=5,G195,0)","v":0},null,null,null,null,null,null,null,null,null,null,null,null,null,null,null,null,null,null,null,null,null,1,1]
[null,null,"Stoka \"V1 a V2\" PVC DN300:",null,0,null,null,null,null,null,null,null,"Stoka \"V1 a V2\" PVC DN300:"]
[null,null,"Kanalizační přípojky PVC DN150:",null,0,null,null,null,null,null,null,null,"Kanalizační přípojky PVC DN150:"]
[null,null,"KP (11 kusů):54,00*0,90*0,40",null,19.440000000000001,null,null,null,null,null,null,null,"KP (11 kusů):54,00*0,90*0,40"]
[null,null,"Kanalizační přípojky PVC DN300:",null,0,null,null,null,null,null,null,null,"Kanalizační přípojky PVC DN300:"]
[null,null,"KP (1 kus):3,00*1,30*0,40",null,1.56,null,null,null,null,null,null,null,"KP (1 kus):3,00*1,30*0,40"]
[21,"591050020RAX","Komunikace z dlažby zámkové, podklad štěrkopísek dlažba přírodní tloušťka 8 cm (alt. beton)","m2",15,null,{"$f":"E201*F201","v":0},1.1893,{"$f":"E201*H201","v":17.839500000000001},0,{"$f":"E201*J201","v":0},null,null,null,2,null,null,null,null,null,null,null,null,null,null,null,1,1,1,null,null,null,null,null,null,null,null,null,null,null,null,null,null,null,null,null,null,null,null,null,null,1,{"$f":"IF(AZ201=1,G201,0)","v":0},{"$f":"IF(AZ201=2,G201,0)","v":0},{"$f":"IF(AZ201=3,G201,0)","v":0},{"$f":"IF(AZ201=4,G201,0)","v":0},{"$f":"IF(AZ201=5,G201,0)","v":0},null,null,null,null,null,null,null,null,null,null,null,null,null,null,null,null,null,null,null,null,null,1,1]
[null,null,"Rozebrání části stávající plochy ZD včetně podkladní konstrukce a uvedení plochy do původního stavu za použití původní ZD.",null,null,null,null,null,null,null,null,"Rozebrání části stávající plochy ZD včetně podkladní konstrukce a uvedení plochy do původního stavu za použití původní ZD.",null,null,3]
[null,null,"Stoka \"S\" PVC DN400:",null,0,null,null,null,null,null,null,null,"Stoka \"S\" PVC DN400:"]
[null,null,"Dlažba v prostoru přepojení KP (odhad):15,00",null,15,null,null,null,null,null,null,null,"Dlažba v prostoru přepojení KP (odhad):15,00"]
[null,"Celkem za","5 Komunikace",null,null,null,{"$f":"SUM(G194:G204)","v":0},null,{"$f":"SUM(I194:I204)","v":48.93},null,{"$f":"SUM(K194:K204)","v":0},null,null,null,4,null,null,null,null,null,null,null,null,null,null,null,null,null,null,null,null,null,null,null,null,null,null,null,null,null,null,null,null,null,null,null,null,null,null,null,null,null,{"$f":"SUM(BA194:BA204)","v":0},{"$f":"SUM(BB194:BB204)","v":0},{"$f":"SUM(BC194:BC204)","v":0},{"$f":"SUM(BD194:BD204)","v":0},{"$f":"SUM(BE194:BE204)","v":0}]
["Díl:","8","Trubní vedení",null,null,null,null,null,null,null,null,null,null,null,1]
[22,"871313121R00","Montáž trub z plastu, gumový kroužek, DN 150 ","m",75,null,{"$f":"E207*F207","v":0},0,{"$f":"E207*H207","v":0},0,{"$f":"E207*J207","v":0},null,null,null,2,null,null,null,null,null,null,null,null,null,null,null,1,0,0,null,null,null,null,null,null,null,null,null,null,null,null,null,null,null,null,null,null,null,null,null,null,1,{"$f":"IF(AZ207=1,G207,0)","v":0},{"$f":"IF(AZ207=2,G207,0)","v":0},{"$f":"IF(AZ207=3,G207,0)","v":0},{"$f":"IF(AZ207=4,G207,0)","v":0},{"$f":"IF(AZ207=5,G207,0)","v":0},null,null,null,null,null,null,null,null,null,null,null,null,null,null,null,null,null,null,null,null,null,1,0]
[null,null,"V položce je uvažováno s jedním spojem na 6 m potrubí. Položka je určena pro montáž potrubí z kanalizačních trub z plastu těsněných gumovým kroužkem v otevřeném výkopu ve sklonu do 20 %.",null,null,null,null,null,null,null,null,"V položce je uvažováno s jedním spojem na 6 m potrubí. Položka je určena pro montáž potrubí z kanalizačních trub z plastu těsněných gumovým kroužkem v otevřeném výkopu ve sklonu do 20 %.",null,null,3]
[null,null,"Stoka \"V1 a V2\" PVC DN300:",null,0,null,null,null,null,null,null,null,"Stoka \"V1 a V2\" PVC DN300:"]
[null,null,"Kanalizační přípojky PVC DN150:",null,0,null,null,null,null,null,null,null,"Kanalizační přípojky PVC DN150:"]
[null,null,"KP (11 kusů):75,00",null,75,null,null,null,null,null,null,null,"KP (11 kusů):75,00"]
[23,"871373121R00","Montáž trub z plastu, gumový kroužek, DN 300 ","m",5,null,{"$f":"E212*F212","v":0},1.0000000000000001E-5,{"$f":"E212*H212","v":5.0000000000000002E-5},0,{"$f":"E212*J212","v":0},null,null,null,2,null,null,null,null,null,null,null,null,null,null,null,1,1,1,null,null,null,null,null,null,null,null,null,null,null,null,null,null,null,null,null,null,null,null,null,null,1,{"$f":"IF(AZ212=1,G212,0)","v":0},{"$f":"IF(AZ212=2,G212,0)","v":0},{"$f":"IF(AZ212=3,G212,0)","v":0},{"$f":"IF(AZ212=4,G212,0)","v":0},{"$f":"IF(AZ212=5,G212,0)","v":0},null,null,null,null,null,null,null,null,null,null,null,null,null,null,null,null,null,null,null,null,null,1,1]
[null,null,"Stoka \"V1 a V2\" PVC DN300:",null,0,null,null,null,null,null,null,null,"Stoka \"V1 a V2\" PVC DN300:"]
[null,null,"Kanalizační přípojky PVC DN300:",null,0,null,null,null,null,null,null,null,"Kanalizační přípojky PVC DN300:"]
[null,null,"KP (1 kus):5,00",null,5,null,null,null,null,null,null,null,"KP (1 kus):5,00"]
[24,"877313123R00","Montáž tvarovek jednoos. plast. gum.kroužek DN 150 ","kus",22,null,{"$f":"E216*F216","v":0},1.0000000000000001E-5,{"$f":"E216*H216","v":2.2000000000000001E-4},0,{"$f":"E216*J216","v":0},null,null,null,2,null,null,null,null,null,null,null,null,null,null,null,1,1,1,null,null,null,null,null,null,null,null,null,null,null,null,null,null,null,null,null,null,null,null,null,null,1,{"$f":"IF(AZ216=1,G216,0)","v":0},{"$f":"IF(AZ216=2,G216,0)","v":0},{"$f":"IF(AZ216=3,G216,0)","v":0},{"$f":"IF(AZ216=4,G216,0)","v":0},{"$f":"IF(AZ216=5,G216,0)","v":0},null,null,null,null,null,null,null,null,null,null,null,null,null,null,null,null,null,null,null,null,null,1,1]
[null,null,"Položka je určena pro montáž tvarovek jednoosých na potrubí z kanalizačních trub z plastu těsněných gumovým kroužkem v otevřeném výkopu.",null,null,null,null,null,null,null,null,"Položka je určena pro montáž tvarovek jednoosých na potrubí z kanalizačních trub z plastu těsněných gumovým kroužkem v otevřeném výkopu.",null,null,3]
[null,null,"Stoka \"V1 a V2\" PVC DN300:",null,0,null,null,null,null,null,null,null,"Stoka \"V1 a V2\" PVC DN300:"]
[null,null,"Kanalizační přípojky PVC DN150:",null,0,null,null,null,null,null,null,null,"Kanalizační přípojky PVC DN150:"]
[null,null,"KP (11 kusů) - Kolena:22",null,22,null,null,null,null,null,null,null,"KP (11 kusů) - Kolena:22"]
[25,"891183439RX0","Přepojení potrubí PVC na přípojkách DN 150 včetně dodávky přepojovací tvarovky","kus",11,null,{"$f":"E221*F221","v":0},4.6000000000000001E-4,{"$f":"E221*H221","v":5.0600000000000003E-3},0,{"$f":"E221*J221","v":0},null,null,null,2,null,null,null,null,null,null,null,null,null,null,null,1,1,1,null,null,null,null,null,null,null,null,null,null,null,null,null,null,null,null,null,null,null,null,null,null,1,{"$f":"IF(AZ221=1,G221,0)","v":0},{"$f":"IF(AZ221=2,G221,0)","v":0},{"$f":"IF(AZ221=3,G221,0)","v":0},{"$f":"IF(AZ221=4,G221,0)","v":0},{"$f":"IF(AZ221=5,G221,0)","v":0},null,null,null,null,null,null,null,null,null,null,null,null,null,null,null,null,null,null,null,null,null,1,1]
[null,null,"Položka obsahuje přerušení stávajícího potrubí DN150, dodávku a montáž příslušné tvarovky pro napojení nového PVC potrubí DN150 na stávající potrubí. ",null,null,null,null,null,null,null,null,"Položka obsahuje přerušení stávajícího potrubí DN150, dodávku a montáž příslušné tvarovky pro napojení nového PVC potrubí DN150 na stávající potrubí. ",null,null,3]
[null,null,"Stoka \"V1 a V2\" PVC DN300:",null,0,null,null,null,null,null,null,null,"Stoka \"V1 a V2\" PVC DN300:"]
[null,null,"Kanalizační přípojky PVC DN150:",null,0,null,null,null,null,null,null,null,"Kanalizační přípojky PVC DN150:"]
[null,null,"KP (11 kusů):11",null,11,null,null,null,null,null,null,null,"KP (11 kusů):11"]
[26,"891183442RX0","Přepojení potrubí PVC na přípojkách DN 300 včetně dodávky přepojovací tvarovky","kus",1,null,{"$f":"E226*F226","v":0},4.6000000000000001E-4,{"$f":"E226*H226","v":4.6000000000000001E-4},0,{"$f":"E226*J226","v":0},null,null,null,2,null,null,null,null,null,null,null,null,null,null,null,1,1,1,null,null,null,null,null,null,null,null,null,null,null,null,null,null,null,null,null,null,null,null,null,null,1,{"$f":"IF(AZ226=1,G226,0)","v":0},{"$f":"IF(AZ226=2,G226,0)","v":0},{"$f":"IF(AZ226=3,G226,0)","v":0},{"$f":"IF(AZ226=4,G226,0)","v":0},{"$f":"IF(AZ226=5,G226,0)","v":0},null,null,null,null,null,null,null,null,null,null,null,null,null,null,null,null,null,null,null,null,null,1,1]
[null,null,"Položka obsahuje přerušení stávajícího potrubí potrubí DN300, dodávku a montáž příslušné tvarovky pro napojení nového PVC potrubí DN300 na stávající  potrubí. ",null,null,null,null,null,null,null,null,"Položka obsahuje přerušení stávajícího potrubí potrubí DN300, dodávku a montáž příslušné tvarovky pro napojení nového PVC potrubí DN300 na stávající  potrubí. ",null,null,3]
[null,null,"Stoka \"V1 a V2\" PVC DN300:",null,0,null,null,null,null,null,null,null,"Stoka \"V1 a V2\" PVC DN300:"]
[null,null,"Kanalizační přípojky PVC DN300:",null,0,null,null,null,null,null,null,null,"Kanalizační přípojky PVC DN300:"]
[null,null,"KP (1 kus):1",null,1,null,null,null,null,null,null,null,"KP (1 kus):1"]
[27,"892601121R00","Čištění kanalizační stoky do DN 200, do 15 m ","úsek",12,null,{"$f":"E231*F231","v":0},0,{"$f":"E231*H231","v":0},0,{"$f":"E231*J231","v":0},null,null,null,2,null,null,null,null,null,null,null,null,null,null,null,1,1,1,null,null,null,null,null,null,null,null,null,null,null,null,null,null,null,null,null,null,null,null,null,null,1,{"$f":"IF(AZ231=1,G231,0)","v":0},{"$f":"IF(AZ231=2,G231,0)","v":0},{"$f":"IF(AZ231=3,G231,0)","v":0},{"$f":"IF(AZ231=4,G231,0)","v":0},{"$f":"IF(AZ231=5,G231,0)","v":0},null,null,null,null,null,null,null,null,null,null,null,null,null,null,null,null,null,null,null,null,null,1,1]
[null,null,"V položce je zakalkulováno:",null,null,null,null,null,null,null,null,"V položce je zakalkulováno:",null,null,3]
[null,null,"a) otevření a uzavření revizních šachet a čisticích kusů",null,null,null,null,null,null,null,null,"a) otevření a uzavření revizních šachet a čisticích kusů",null,null,3]
[null,null,"b) natažení vysokotlakých hadic k místu odkud se bude kanalizace čistit",null,null,null,null,null,null,null,null,"b) natažení vysokotlakých hadic k místu odkud se bude kanalizace čistit",null,null,3]
[null,null,"c) vyčištění potrubí tlakovou vodou nebo motorovým pérem.",null,null,null,null,null,null,null,null,"c) vyčištění potrubí tlakovou vodou nebo motorovým pérem.",null,null,3]
[null,null,"Stoka \"V1 a V2\" PVC DN300:",null,0,null,null,null,null,null,null,null,"Stoka \"V1 a V2\" PVC DN300:"]
[null,null,"Kanalizační přípojky PVC DN150:",null,0,null,null,null,null,null,null,null,"Kanalizační přípojky PVC DN150:"]
[null,null,"KP (11 kusů):11",null,11,null,null,null,null,null,null,null,"KP (11 kusů):11"]
[null,null,"Kanalizační přípojky PVC DN300:",null,0,null,null,null,null,null,null,null,"Kanalizační přípojky PVC DN300:"]
[null,null,"KP (1 kus) :1",null,1,null,null,null,null,null,null,null,"KP (1 kus) :1"]
[28,"892855111R00","Kontrola kanalizace TV kamerou do 15 m ","úsek",12,null,{"$f":"E241*F241","v":0},0,{"$f":"E241*H241","v":0},0,{"$f":"E241*J241","v":0},null,null,null,2,null,null,null,null,null,null,null,null,null,null,null,1,1,1,null,null,null,null,null,null,null,null,null,null,null,null,null,null,null,null,null,null,null,null,null,null,1,{"$f":"IF(AZ241=1,G241,0)","v":0},{"$f":"IF(AZ241=2,G241,0)","v":0},{"$f":"IF(AZ241=3,G241,0)","v":0},{"$f":"IF(AZ241=4,G241,0)","v":0},{"$f":"IF(AZ241=5,G241,0)","v":0},null,null,null,null,null,null,null,null,null,null,null,null,null,null,null,null,null,null,null,null,null,1,1]
[null,null,"Stoka \"V1 a V2\" PVC DN300:",null,0,null,null,null,null,null,null,null,"Stoka \"V1 a V2\" PVC DN300:"]
[null,null,"Kanalizační přípojky PVC DN150:",null,0,null,null,null,null,null,null,null,"Kanalizační přípojky PVC DN150:"]
[null,null,"KP (11 kusů):11",null,11,null,null,null,null,null,null,null,"KP (11 kusů):11"]
[null,null,"Kanalizační přípojky PVC DN300:",null,0,null,null,null,null,null,null,null,"Kanalizační přípojky PVC DN300:"]
[null,null,"KP (1 kus) :1",null,1,null,null,null,null,null,null,null,"KP (1 kus) :1"]
[29,"894431322RAB","Šachta, D 425 mm, dl.šach.roury 2,0 m, 1 přítok dno KG D 160 mm, poklop šedá litina 40 t","kus",8,null,{"$f":"E247*F247","v":0},9.3659999999999993E-2,{"$f":"E247*H247","v":0.74927999999999995},0,{"$f":"E247*J247","v":0},null,null,null,2,null,null,null,null,null,null,null,null,null,null,null,1,1,1,null,null,null,null,null,null,null,null,null,null,null,null,null,null,null,null,null,null,null,null,null,null,1,{"$f":"IF(AZ247=1,G247,0)","v":0},{"$f":"IF(AZ247=2,G247,0)","v":0},{"$f":"IF(AZ247=3,G247,0)","v":0},{"$f":"IF(AZ247=4,G247,0)","v":0},{"$f":"IF(AZ247=5,G247,0)","v":0},null,null,null,null,null,null,null,null,null,null,null,null,null,null,null,null,null,null,null,null,null,1,1]
[null,null,"Plastové dno, šachta z korugované trouby, těsnění, šachtová roura teleskopická, rám do teleskopické trouby, poklop litinový.",null,null,null,null,null,null,null,null,"Plastové dno, šachta z korugované trouby, těsnění, šachtová roura teleskopická, rám do teleskopické trouby, poklop litinový.",null,null,3]
[30,"894431421RDB","Šachta D 600 mm, dl.šach.roury 2,00 m, přímá dno KG D 315 mm, poklop litina 40 t","kus",1,null,{"$f":"E249*F249","v":0},0.24002000000000001,{"$f":"E249*H249","v":0.24002000000000001},0,{"$f":"E249*J249","v":0},null,null,null,2,null,null,null,null,null,null,null,null,null,null,null,1,1,1,null,null,null,null,null,null,null,null,null,null,null,null,null,null,null,null,null,null,null,null,null,null,1,{"$f":"IF(AZ249=1,G249,0)","v":0},{"$f":"IF(AZ249=2,G249,0)","v":0},{"$f":"IF(AZ249=3,G249,0)","v":0},{"$f":"IF(AZ249=4,G249,0)","v":0},{"$f":"IF(AZ249=5,G249,0)","v":0},null,null,null,null,null,null,null,null,null,null,null,null,null,null,null,null,null,null,null,null,null,1,1]
[null,null,"Plastové dno, šachta z korugované trouby, těsnění, teleskopický adaptér, rám do teleskopu, poklop litinový.",null,null,null,null,null,null,null,null,"Plastové dno, šachta z korugované trouby, těsnění, teleskopický adaptér, rám do teleskopu, poklop litinový.",null,null,3]
[31,"899711122R00","Fólie výstražná z PVC šedá, šířka 30 cm ","m",80,null,{"$f":"E251*F251","v":0},0,{"$f":"E251*H251","v":0},0,{"$f":"E251*J251","v":0},null,null,null,2,null,null,null,null,null,null,null,null,null,null,null,1,1,1,null,null,null,null,null,null,null,null,null,null,null,null,null,null,null,null,null,null,null,null,null,null,1,{"$f":"IF(AZ251=1,G251,0)","v":0},{"$f":"IF(AZ251=2,G251,0)","v":0},{"$f":"IF(AZ251=3,G251,0)","v":0},{"$f":"IF(AZ251=4,G251,0)","v":0},{"$f":"IF(AZ251=5,G251,0)","v":0},null,null,null,null,null,null,null,null,null,null,null,null,null,null,null,null,null,null,null,null,null,1,1]
[null,null,"Stoka \"V1 a V2\" PVC DN300:",null,0,null,null,null,null,null,null,null,"Stoka \"V1 a V2\" PVC DN300:"]
[null,null,"Kanalizační přípojky PVC DN150:",null,0,null,null,null,null,null,null,null,"Kanalizační přípojky PVC DN150:"]
[null,null,"KP (11 kusů):75,00",null,75,null,null,null,null,null,null,null,"KP (11 kusů):75,00"]
[null,null,"Kanalizační přípojky PVC DN300:",null,0,null,null,null,null,null,null,null,"Kanalizační přípojky PVC DN300:"]
[null,null,"KP (1 kus):5,00",null,5,null,null,null,null,null,null,null,"KP (1 kus):5,00"]
[32,"286111904.R","Trubka kanalizační PVC QUANTUM SN 12 DN 160","m",77.25,null,{"$f":"E257*F257","v":0},5.1000000000000004E-3,{"$f":"E257*H257","v":0.39397500000000002},null,{"$f":"E257*J257","v":0},null,null,null,2,null,null,null,null,null,null,null,null,null,null,null,3,1,"286111904.R",null,null,null,null,null,null,null,null,null,null,null,null,null,null,null,null,null,null,null,null,null,null,1,{"$f":"IF(AZ257=1,G257,0)","v":0},{"$f":"IF(AZ257=2,G257,0)","v":0},{"$f":"IF(AZ257=3,G257,0)","v":0},{"$f":"IF(AZ257=4,G257,0)","v":0},{"$f":"IF(AZ257=5,G257,0)","v":0},null,null,null,null,null,null,null,null,null,null,null,null,null,null,null,null,null,null,null,null,null,3,1]
[null,null,"Jedná  se  o  plnostěnné kanalizační trubky DN 150 – DN 400, SN 12 kN/m2 , zvenčí  i  zevnitř  hladké. Jsou  opatřeny hrdlem,  v  němž  je  vložen vysoce  elastický  jazýčkový  kroužek.  konce  trubek  (dříků)  jsou opatřeny  zkosením  pod  úhlem  15°.  Způsob  použití  trubek  je  „U“  dle  normy  ČSN  EN  1401-1, tj. mimo budovy. Spolehlivá  funkce  těsnění  je  jištěna  výztužným  kroužkem  z  elastomeru.  Je  tak  zamezeno  vypad-nutí nebo vytlačení kroužku při manipulaci a montáži. Tento systém zaručuje při správné montáži ",null,null,null,null,null,null,null,null,"Jedná  se  o  plnostěnné kanalizační trubky DN 150 – DN 400, SN 12 kN/m2 , zvenčí  i  zevnitř  hladké. Jsou  opatřeny hrdlem,  v  němž  je  vložen vysoce  elastický  jazýčkový  kroužek.  konce  trubek  (dříků)  jsou opatřeny  zkosením  pod  úhlem  15°.  Způsob  použití  trubek  je  „U“  dle  normy  ČSN  EN  1401-1, tj. mimo budovy. Spolehlivá  funkce  těsnění  je  jištěna  výztužným  kroužkem  z  elastomeru.  Je  tak  zamezeno  vypad-nutí nebo vytlačení kroužku při manipulaci a montáži. Tento systém zaručuje při správné montáži ",null,null,3]
[null,null,"dokonalou  těsnost  do  výšky  vodního  sloupce  5  metrů.",null,null,null,null,null,null,null,null,"dokonalou  těsnost  do  výšky  vodního  sloupce  5  metrů.",null,null,3]
[null,null,null,null,null,null,null,null,null,null,null,null,null,null,3]
[null,null,"Teplota při pokládce: min. -10 °C, max. 50 °C",null,null,null,null,null,null,null,null,"Teplota při pokládce: min. -10 °C, max. 50 °C",null,null,3]
[null,null,"Max. teplota média: trvale do 40 °C, krátkodobě do 60 °C",null,null,null,null,null,null,null,null,"Max. teplota média: trvale do 40 °C, krátkodobě do 60 °C",null,null,3]
[null,null,"Orientační výška krytí: min. 0,5 m, max. 10 m",null,null,null,null,null,null,null,null,"Orientační výška krytí: min. 0,5 m, max. 10 m",null,null,3]
[null,null,"Max. rychlost média: 12 m/s",null,null,null,null,null,null,null,null,"Max. rychlost média: 12 m/s",null,null,3]
[null,null,"Stoka \"V1 a V2\" PVC DN300:",null,0,null,null,null,null,null,null,null,"Stoka \"V1 a V2\" PVC DN300:"]
[null,null,"Kanalizační přípojky PVC DN150:",null,0,null,null,null,null,null,null,null,"Kanalizační přípojky PVC DN150:"]
[null,null,"KP (11 kusů):75,00*1,03",null,77.25,null,null,null,null,null,null,null,"KP (11 kusů):75,00*1,03"]
[33,"286111934.R","Trubka kanalizační PVC QUANTUM SN 12 DN 300","m",5.15,null,{"$f":"E268*F268","v":0},1.0200000000000001E-3,{"$f":"E268*H268","v":5.2530000000000007E-3},null,{"$f":"E268*J268","v":0},null,null,null,2,null,null,null,null,null,null,null,null,null,null,null,3,1,"286111934.R",null,null,null,null,null,null,null,null,null,null,null,null,null,null,null,null,null,null,null,null,null,null,1,{"$f":"IF(AZ268=1,G268,0)","v":0},{"$f":"IF(AZ268=2,G268,0)","v":0},{"$f":"IF(AZ268=3,G268,0)","v":0},{"$f":"IF(AZ268=4,G268,0)","v":0},{"$f":"IF(AZ268=5,G268,0)","v":0},null,null,null,null,null,null,null,null,null,null,null,null,null,null,null,null,null,null,null,null,null,3,1]
[null,null,"Jedná  se  o  plnostěnné kanalizační trubky DN 150 – DN 400, SN 12 kN/m2 , zvenčí  i  zevnitř  hladké. Jsou  opatřeny hrdlem,  v  němž  je  vložen vysoce  elastický  jazýčkový  kroužek.  konce  trubek  (dříků)  jsou opatřeny  zkosením  pod  úhlem  15°.  Způsob  použití  trubek  je  „U“  dle  normy  ČSN  EN  1401-1, tj. mimo budovy. Spolehlivá  funkce  těsnění  je  jištěna  výztužným  kroužkem  z  elastomeru.  Je  tak  zamezeno  vypad-nutí nebo vytlačení kroužku při manipulaci a montáži. Tento systém zaručuje při správné montáži ",null,null,null,null,null,null,null,null,"Jedná  se  o  plnostěnné kanalizační trubky DN 150 – DN 400, SN 12 kN/m2 , zvenčí  i  zevnitř  hladké. Jsou  opatřeny hrdlem,  v  němž  je  vložen vysoce  elastický  jazýčkový  kroužek.  konce  trubek  (dříků)  jsou opatřeny  zkosením  pod  úhlem  15°.  Způsob  použití  trubek  je  „U“  dle  normy  ČSN  EN  1401-1, tj. mimo budovy. Spolehlivá  funkce  těsnění  je  jištěna  výztužným  kroužkem  z  elastomeru.  Je  tak  zamezeno  vypad-nutí nebo vytlačení kroužku při manipulaci a montáži. Tento systém zaručuje při správné montáži ",null,null,3]
[null,null,"dokonalou  těsnost  do  výšky  vodního  sloupce  5  metrů.",null,null,null,null,null,null,null,null,"dokonalou  těsnost  do  výšky  vodního  sloupce  5  metrů.",null,null,3]
[null,null,"Stoka \"V1 a V2\" PVC DN300:",null,0,null,null,null,null,null,null,null,"Stoka \"V1 a V2\" PVC DN300:"]
[null,null,"Kanalizační přípojky PVC DN300:",null,0,null,null,null,null,null,null,null,"Kanalizační přípojky PVC DN300:"]
[null,null,"KP (1 kus):5,00*1,03",null,5.15,null,null,null,null,null,null,null,"KP (1 kus):5,00*1,03"]
[34,"286506003.R","Koleno kanalizační PVC SDR 34 DN 160 Kolena s úhlem 15°, 30°, 45° a 90°","kus",22.33,null,{"$f":"E274*F274","v":0},1.2700000000000001E-3,{"$f":"E274*H274","v":2.8359099999999998E-2},null,{"$f":"E274*J274","v":0},null,null,null,2,null,null,null,null,null,null,null,null,null,null,null,3,1,"286506003.R",null,null,null,null,null,null,null,null,null,null,null,null,null,null,null,null,null,null,null,null,null,null,1,{"$f":"IF(AZ274=1,G274,0)","v":0},{"$f":"IF(AZ274=2,G274,0)","v":0},{"$f":"IF(AZ274=3,G274,0)","v":0},{"$f":"IF(AZ274=4,G274,0)","v":0},{"$f":"IF(AZ274=5,G274,0)","v":0},null,null,null,null,null,null,null,null,null,null,null,null,null,null,null,null,null,null,null,null,null,3,1]
[null,null,"Tvarovky kanalizačního systému PVC SDR 34",null,null,null,null,null,null,null,null,"Tvarovky kanalizačního systému PVC SDR 34",null,null,3]
[null,null,"Teplota při pokládce: min. -10 °C, max. 50 °C",null,null,null,null,null,null,null,null,"Teplota při pokládce: min. -10 °C, max. 50 °C",null,null,3]
[null,null,"Max. teplota média: trvale do 40 °C, krátkodobě do 60 °C",null,null,null,null,null,null,null,null,"Max. teplota média: trvale do 40 °C, krátkodobě do 60 °C",null,null,3]
[null,null,"Orientační výška krytí: min. 0,5 m, max. 10 m",null,null,null,null,null,null,null,null,"Orientační výška krytí: min. 0,5 m, max. 10 m",null,null,3]
[null,null,"Max. rychlost média: 12 m/s",null,null,null,null,null,null,null,null,"Max. rychlost média: 12 m/s",null,null,3]
[null,null,"Stoka \"V1 a V2\" PVC DN300:",null,0,null,null,null,null,null,null,null,"Stoka \"V1 a V2\" PVC DN300:"]
[null,null,"Kanalizační přípojky PVC DN150:",null,0,null,null,null,null,null,null,null,"Kanalizační přípojky PVC DN150:"]
[null,null,"KP (11 kusů) - Kolena:22*1,015",null,22.33,null,null,null,null,null,null,null,"KP (11 kusů) - Kolena:22*1,015"]
[null,"Celkem za","8 Trubní vedení",null,null,null,{"$f":"SUM(G206:G282)","v":0},null,{"$f":"SUM(I206:I282)","v":1.4226771},null,{"$f":"SUM(K206:K282)","v":0},null,null,null,4,null,null,null,null,null,null,null,null,null,null,null,null,null,null,null,null,null,null,null,null,null,null,null,null,null,null,null,null,null,null,null,null,null,null,null,null,null,{"$f":"SUM(BA206:BA282)","v":0},{"$f":"SUM(BB206:BB282)","v":0},{"$f":"SUM(BC206:BC282)","v":0},{"$f":"SUM(BD206:BD282)","v":0},{"$f":"SUM(BE206:BE282)","v":0}]
["Díl:","99","Staveništní přesun hmot",null,null,null,null,null,null,null,null,null,null,null,1]
[35,"998276101RXX","Přesun hmot, trubní vedení plastová, otevř. výkop pro celý rozsah objektu","t",221.30194943999999,null,{"$f":"E285*F285","v":0},0,{"$f":"E285*H285","v":0},null,{"$f":"E285*J285","v":0},null,null,null,2,null,null,null,null,null,null,null,null,null,null,null,7,1,2,null,null,null,null,null,null,null,null,null,null,null,null,null,null,null,null,null,null,null,null,null,null,1,{"$f":"IF(AZ285=1,G285,0)","v":0},{"$f":"IF(AZ285=2,G285,0)","v":0},{"$f":"IF(AZ285=3,G285,0)","v":0},{"$f":"IF(AZ285=4,G285,0)","v":0},{"$f":"IF(AZ285=5,G285,0)","v":0},null,null,null,null,null,null,null,null,null,null,null,null,null,null,null,null,null,null,null,null,null,7,1]
[null,null,"Staveništní doprava pro celý rozsah objektu - doprava zmeziskládek vybudovaného zařízení staveniště zhotovitele na jednotlivé části staveniště.",null,null,null,null,null,null,null,null,"Staveništní doprava pro celý rozsah objektu - doprava zmeziskládek vybudovaného zařízení staveniště zhotovitele na jednotlivé části staveniště.",null,null,3]
[null,"Celkem za","99 Staveništní přesun hmot",null,null,null,{"$f":"SUM(G284:G286)","v":0},null,{"$f":"SUM(I284:I286)","v":0},null,{"$f":"SUM(K284:K286)","v":0},null,null,null,4,null,null,null,null,null,null,null,null,null,null,null,null,null,null,null,null,null,null,null,null,null,null,null,null,null,null,null,null,null,null,null,null,null,null,null,null,null,{"$f":"SUM(BA284:BA286)","v":0},{"$f":"SUM(BB284:BB286)","v":0},{"$f":"SUM(BC284:BC286)","v":0},{"$f":"SUM(BD284:BD286)","v":0},{"$f":"SUM(BE284:BE286)","v":0}]

{"sheet":"307 3542307.1 KL","index":62,"n_rows":45,"n_cols":8,"rows_kept":45,"cut":false,"hidden":false,"merged":[[50,1,50,6],[29,5,29,6],[30,5,30,6],[31,5,31,6],[32,5,32,6],[33,5,33,6],[36,1,44,6],[45,1,45,6],[46,1,46,6],[47,1,47,6],[48,1,48,6],[49,1,49,6],[22,0,22,1],[7,2,7,4],[8,2,8,4],[9,2,9,4],[10,2,10,4],[11,2,11,4]]}
["POLOŽKOVÝ ROZPOČET"]
["Rozpočet",null,"3542/307.1","Oprava vodovodního řadu SP",null,"JKSO ","827.13"]
[]
["Objekt",null,null,null,null,"SKP "]
["307",null,"Oprava vodovodního řadu SP ul. Nad Špejcharem",null,null,"Měrná jednotka","m"]
["Stavba",null,null,null,null,"Počet jednotek",0]
["3542",null,"Semily - Obnova VH infrastruktury a komunikací",null,null,"Náklady na m.j.",{"$f":"IF(G6=0,,ROUND((F30+F32)/G6,1))","v":0}]
["Projektant",null,null,null,null,"Typ rozpočtu"]
["Zpracovatel projektu"]
["Objednatel",null,"Vodohospodářské sdružení Turnov"]
["Dodavatel",null,".",null,null,"Zakázkové číslo "]
["Rozpočtoval",null,null,null,null,"Počet listů"]
["ROZPOČTOVÉ NÁKLADY"]
["Základní rozpočtové náklady"]
[null,"HSV celkem",{"$f":"'307 3542307.1 Rek'!E18","v":0}]
["Z","PSV celkem",{"$f":"'307 3542307.1 Rek'!F18","v":0}]
["R","M práce celkem",{"$f":"'307 3542307.1 Rek'!H18","v":0}]
["N","M dodávky celkem",{"$f":"'307 3542307.1 Rek'!G18","v":0}]
["ZRN celkem",null,{"$f":"SUM(C15:C18)","v":0}]
[]
["HZS",null,{"$f":"'307 3542307.1 Rek'!I18","v":0}]
["ZRN+HZS",null,{"$f":"C19+C21","v":0}]
["ZRN+ost.náklady+HZS",null,{"$f":"C22+G23","v":0}]
["Vypracoval",null,null,"Za zhotovitele",null,"Za objednatele"]
["Jméno :",null,null,"Jméno :",null,"Jméno :"]
["Datum :",null,null,"Datum :",null,"Datum :"]
[]
["Podpis :",null,null,"Podpis:",null,"Podpis:"]
[]
["Základ pro DPH",null,21,"%  ",null,{"$f":"C23-F32","v":0}]
["DPH",null,{"$f":"C30","v":21},"% ",null,{"$f":"ROUND(PRODUCT(F30,C31/100),0)","v":0}]
["Základ pro DPH",null,0,"% ",null,0]
["DPH",null,{"$f":"C32","v":0},"% ",null,{"$f":"ROUND(PRODUCT(F32,C33/100),0)","v":0}]
["CENA ZA OBJEKT CELKEM",null,null,null,null,{"$f":"ROUND(SUM(F30:F33),0)","v":0}]
[]
["Poznámka :",null,null,null,null,null,null," "]
[null,null,null,null,null,null,null," "]
[null,null,null,null,null,null,null," "]
[null,null,null,null,null,null,null," "]
[null,null,null,null,null,null,null," "]
[null,null,null,null,null,null,null," "]
[null,null,null,null,null,null,null," "]
[null,null,null,null,null,null,null," "]
[null,null,null,null,null,null,null," "]
[null,null,null,null,null,null,null," "]

{"sheet":"307 3542307.1 Rek","index":63,"n_rows":18,"n_cols":9,"rows_kept":18,"cut":false,"hidden":false,"merged":[[0,0,0,1],[1,0,1,1],[1,6,1,8]]}
["Stavba :",null,"3542 Semily - Obnova VH infrastruktury a komunikací",null,null,null,"Rozpočet :","3542/307.1"]
["Objekt :",null,"307 Oprava vodovodního řadu SP ul. Nad Špejcharem",null,null,null,"Oprava vodovodního řadu SP"]
[]
["REKAPITULACE  STAVEBNÍCH  DÍLŮ"]
[]
[null,"Stavební díl",null,null,"HSV","PSV","Dodávka","Montáž","HZS"]
[{"$f":"'307 3542307.1 Pol'!B7","v":"1"},{"$f":"'307 3542307.1 Pol'!C7","v":"Zemní práce"},null,null,{"$f":"'307 3542307.1 Pol'!BA86","v":0},{"$f":"'307 3542307.1 Pol'!BB86","v":0},{"$f":"'307 3542307.1 Pol'!BC86","v":0},{"$f":"'307 3542307.1 Pol'!BD86","v":0},{"$f":"'307 3542307.1 Pol'!BE86","v":0}]
[{"$f":"'307 3542307.1 Pol'!B87","v":"21"},{"$f":"'307 3542307.1 Pol'!C87","v":"Úprava podloží a základ.spáry"},null,null,{"$f":"'307 3542307.1 Pol'!BA94","v":0},{"$f":"'307 3542307.1 Pol'!BB94","v":0},{"$f":"'307 3542307.1 Pol'!BC94","v":0},{"$f":"'307 3542307.1 Pol'!BD94","v":0},{"$f":"'307 3542307.1 Pol'!BE94","v":0}]
[{"$f":"'307 3542307.1 Pol'!B95","v":"38"},{"$f":"'307 3542307.1 Pol'!C95","v":"Kompletní konstrukce"},null,null,{"$f":"'307 3542307.1 Pol'!BA121","v":0},{"$f":"'307 3542307.1 Pol'!BB121","v":0},{"$f":"'307 3542307.1 Pol'!BC121","v":0},{"$f":"'307 3542307.1 Pol'!BD121","v":0},{"$f":"'307 3542307.1 Pol'!BE121","v":0}]
[{"$f":"'307 3542307.1 Pol'!B122","v":"45"},{"$f":"'307 3542307.1 Pol'!C122","v":"Podkladní a vedlejší konstrukce"},null,null,{"$f":"'307 3542307.1 Pol'!BA126","v":0},{"$f":"'307 3542307.1 Pol'!BB126","v":0},{"$f":"'307 3542307.1 Pol'!BC126","v":0},{"$f":"'307 3542307.1 Pol'!BD126","v":0},{"$f":"'307 3542307.1 Pol'!BE126","v":0}]
[{"$f":"'307 3542307.1 Pol'!B127","v":"5"},{"$f":"'307 3542307.1 Pol'!C127","v":"Komunikace"},null,null,{"$f":"'307 3542307.1 Pol'!BA134","v":0},{"$f":"'307 3542307.1 Pol'!BB134","v":0},{"$f":"'307 3542307.1 Pol'!BC134","v":0},{"$f":"'307 3542307.1 Pol'!BD134","v":0},{"$f":"'307 3542307.1 Pol'!BE134","v":0}]
[{"$f":"'307 3542307.1 Pol'!B135","v":"8"},{"$f":"'307 3542307.1 Pol'!C135","v":"Trubní vedení"},null,null,{"$f":"'307 3542307.1 Pol'!BA312","v":0},{"$f":"'307 3542307.1 Pol'!BB312","v":0},{"$f":"'307 3542307.1 Pol'!BC312","v":0},{"$f":"'307 3542307.1 Pol'!BD312","v":0},{"$f":"'307 3542307.1 Pol'!BE312","v":0}]
[{"$f":"'307 3542307.1 Pol'!B313","v":"89"},{"$f":"'307 3542307.1 Pol'!C313","v":"Ostatní konstrukce na trubním vedení"},null,null,{"$f":"'307 3542307.1 Pol'!BA340","v":0},{"$f":"'307 3542307.1 Pol'!BB340","v":0},{"$f":"'307 3542307.1 Pol'!BC340","v":0},{"$f":"'307 3542307.1 Pol'!BD340","v":0},{"$f":"'307 3542307.1 Pol'!BE340","v":0}]
[{"$f":"'307 3542307.1 Pol'!B341","v":"93"},{"$f":"'307 3542307.1 Pol'!C341","v":"Dokončovací práce inženýrských staveb"},null,null,{"$f":"'307 3542307.1 Pol'!BA371","v":0},{"$f":"'307 3542307.1 Pol'!BB371","v":0},{"$f":"'307 3542307.1 Pol'!BC371","v":0},{"$f":"'307 3542307.1 Pol'!BD371","v":0},{"$f":"'307 3542307.1 Pol'!BE371","v":0}]
[{"$f":"'307 3542307.1 Pol'!B372","v":"96"},{"$f":"'307 3542307.1 Pol'!C372","v":"Bourání konstrukcí"},null,null,{"$f":"'307 3542307.1 Pol'!BA378","v":0},{"$f":"'307 3542307.1 Pol'!BB378","v":0},{"$f":"'307 3542307.1 Pol'!BC378","v":0},{"$f":"'307 3542307.1 Pol'!BD378","v":0},{"$f":"'307 3542307.1 Pol'!BE378","v":0}]
[{"$f":"'307 3542307.1 Pol'!B379","v":"97"},{"$f":"'307 3542307.1 Pol'!C379","v":"Prorážení otvorů"},null,null,{"$f":"'307 3542307.1 Pol'!BA404","v":0},{"$f":"'307 3542307.1 Pol'!BB404","v":0},{"$f":"'307 3542307.1 Pol'!BC404","v":0},{"$f":"'307 3542307.1 Pol'!BD404","v":0},{"$f":"'307 3542307.1 Pol'!BE404","v":0}]
[{"$f":"'307 3542307.1 Pol'!B405","v":"99"},{"$f":"'307 3542307.1 Pol'!C405","v":"Staveništní přesun hmot"},null,null,{"$f":"'307 3542307.1 Pol'!BA408","v":0},{"$f":"'307 3542307.1 Pol'!BB408","v":0},{"$f":"'307 3542307.1 Pol'!BC408","v":0},{"$f":"'307 3542307.1 Pol'!BD408","v":0},{"$f":"'307 3542307.1 Pol'!BE408","v":0}]
[null,"CELKEM  OBJEKT",null,null,{"$f":"SUM(E7:E17)","v":0},{"$f":"SUM(F7:F17)","v":0},{"$f":"SUM(G7:G17)","v":0},{"$f":"SUM(H7:H17)","v":0},{"$f":"SUM(I7:I17)","v":0}]

{"sheet":"307 3542307.1 Pol","index":64,"n_rows":408,"n_cols":80,"rows_kept":408,"cut":false,"hidden":false,"merged":[[398,2,398,3],[400,2,400,3],[401,2,401,3],[402,2,402,3],[406,2,406,6],[390,2,390,3],[392,2,392,3],[393,2,393,3],[394,2,394,3],[396,2,396,3],[397,2,397,3],[380,2,380,3],[381,2,381,3],[382,2,382,3],[384,2,384,3],[385,2,385,3],[386,2,386,3],[388,2,388,3],[389,2,389,3],[367,2,367,6],[368,2,368,3],[369,2,369,3],[373,2,373,3],[374,2,374,3],[375,2,375,3],[376,2,376,3],[360,2,360,3],[361,2,361,3],[363,2,363,6],[364,2,364,6],[365,2,365,6],[366,2,366,6],[354,2,354,6],[355,2,355,6],[356,2,356,6],[357,2,357,6],[358,2,358,6],[359,2,359,6],[347,2,347,3],[348,2,348,3],[350,2,350,6],[351,2,351,6],[352,2,352,6],[353,2,353,6],[335,2,335,6],[336,2,336,3],[337,2,337,3],[338,2,338,3],[342,2,342,3],[343,2,343,3],[344,2,344,3],[346,2,346,3],[329,2,329,6],[330,2,330,6],[331,2,331,6],[332,2,332,6],[333,2,333,6],[334,2,334,6],[322,2,322,6],[323,2,323,3],[324,2,324,3],[325,2,325,3],[327,2,327,6],[328,2,328,6],[314,2,314,6],[315,2,315,6],[316,2,316,6],[317,2,317,6],[318,2,318,6],[319,2,319,6],[320,2,320,6],[321,2,321,6],[303,2,303,3],[304,2,304,3],[306,2,306,3],[307,2,307,3],[309,2,309,3],[310,2,310,3],[294,2,294,3],[295,2,295,3],[297,2,297,3],[298,2,298,3],[300,2,300,3],[301,2,301,3],[285,2,285,3],[286,2,286,3],[288,2,288,3],[289,2,289,3],[291,2,291,3],[292,2,292,3],[278,2,278,6],[279,2,279,6],[280,2,280,6],[281,2,281,6],[282,2,282,3],[283,2,283,3],[271,2,271,6],[272,2,272,6],[273,2,273,3],[274,2,274,3],[276,2,276,6],[277,2,277,6],[264,2,264,3],[265,2,265,3],[267,2,267,6],[268,2,268,6],[269,2,269,6],[270,2,270,6],[257,2,257,6],[258,2,258,6],[259,2,259,3],[260,2,260,3],[262,2,262,6],[263,2,263,6],[249,2,249,3],[251,2,251,6],[252,2,252,6],[253,2,253,6],[254,2,254,3],[255,2,255,3],[240,2,240,3],[242,2,242,3],[243,2,243,3],[245,2,245,3],[246,2,246,3],[248,2,248,3],[235,2,235,3],[237,2,237,6],[238,2,238,6],[239,2,239,3],[227,2,227,6],[228,2,228,3],[229,2,229,3],[231,2,231,3],[232,2,232,3],[234,2,234,3],[220,2,220,3],[222,2,222,6],[223,2,223,6],[224,2,224,6],[225,2,225,6],[226,2,226,6],[214,2,214,6],[215,2,215,6],[216,2,216,6],[217,2,217,6],[218,2,218,6],[219,2,219,3],[207,2,207,3],[208,2,208,3],[209,2,209,3],[210,2,210,3],[211,2,211,3],[213,2,213,6],[203,2,203,3],[204,2,204,3],[206,2,206,6],[196,2,196,6],[197,2,197,3],[198,2,198,3],[200,2,200,3],[201,2,201,3],[188,2,188,3],[189,2,189,3],[190,2,190,3],[192,2,192,6],[193,2,193,3],[194,2,194,3],[180,2,180,3],[181,2,181,3],[183,2,183,6],[184,2,184,6],[185,2,185,3],[186,2,186,3],[173,2,173,3],[174,2,174,3],[175,2,175,3],[176,2,176,3],[178,2,178,6],[179,2,179,6],[165,2,165,6],[166,2,166,3],[167,2,167,3],[169,2,169,6],[170,2,170,3],[171,2,171,3],[158,2,158,3],[159,2,159,3],[160,2,160,3],[161,2,161,3],[162,2,162,3],[164,2,164,6],[151,2,151,3],[152,2,152,3],[153,2,153,3],[155,2,155,6],[156,2,156,6],[157,2,157,3],[144,2,144,6],[145,2,145,3],[146,2,146,3],[148,2,148,6],[149,2,149,6],[150,2,150,3],[136,2,136,6],[137,2,137,6],[138,2,138,6],[139,2,139,6],[140,2,140,6],[141,2,141,6],[142,2,142,6],[143,2,143,6],[128,2,128,3],[129,2,129,3],[130,2,130,3],[131,2,131,3],[132,2,132,3],[119,2,119,3],[123,2,123,3],[124,2,124,3],[112,2,112,3],[114,2,114,6],[115,2,115,6],[116,2,116,6],[117,2,117,3],[118,2,118,3],[105,2,105,3],[106,2,106,3],[108,2,108,6],[109,2,109,6],[110,2,110,6],[111,2,111,3],[96,2,96,6],[97,2,97,3],[98,2,98,3],[99,2,99,3],[101,2,101,6],[102,2,102,6],[103,2,103,6],[104,2,104,6],[84,2,84,3],[88,2,88,3],[89,2,89,3],[90,2,90,3],[91,2,91,3],[92,2,92,3],[76,2,76,3],[77,2,77,3],[78,2,78,3],[80,2,80,3],[81,2,81,3],[83,2,83,3],[68,2,68,3],[69,2,69,3],[70,2,70,3],[71,2,71,3],[73,2,73,3],[74,2,74,3],[62,2,62,3],[63,2,63,3],[64,2,64,3],[65,2,65,3],[66,2,66,3],[67,2,67,3],[54,2,54,3],[56,2,56,3],[57,2,57,3],[58,2,58,3],[60,2,60,6],[61,2,61,6],[47,2,47,3],[49,2,49,3],[50,2,50,3],[51,2,51,3],[52,2,52,3],[53,2,53,3],[40,2,40,3],[42,2,42,3],[43,2,43,3],[44,2,44,3],[45,2,45,3],[46,2,46,3],[33,2,33,6],[34,2,34,3],[35,2,35,3],[36,2,36,3],[38,2,38,3],[39,2,39,3],[25,2,25,3],[26,2,26,3],[27,2,27,3],[29,2,29,3],[30,2,30,3],[31,2,31,3],[19,2,19,3],[20,2,20,3],[21,2,21,3],[22,2,22,3],[23,2,23,3],[24,2,24,3],[12,2,12,3],[14,2,14,6],[15,2,15,3],[16,2,16,3],[17,2,17,3],[18,2,18,3],[0,0,0,6],[2,0,2,1],[3,0,3,1],[3,4,3,6],[8,2,8,6],[9,2,9,6],[10,2,10,3],[11,2,11,3]]}
["Položkový rozpočet "]
[]
["Stavba :",null,"3542 Semily - Obnova VH infrastruktury a komunikací",null,"Rozpočet:",{"$f":"'307 3542307.1 Rek'!H1","v":"3542/307.1"}]
["Objekt :",null,"307 Oprava vodovodního řadu SP ul. Nad Špejcharem",null,{"$f":"'307 3542307.1 Rek'!G2","v":"Oprava vodovodního řadu SP"}]
[]
["P.č.","Číslo položky","Název položky","MJ","množství","cena / MJ","celkem (Kč)","Jednotková hmotnost","Celková hmotnost","Jednotková dem.hmot.","Celková dem.hmot."]
["Díl:","1","Zemní práce",null,null,null,null,null,null,null,null,null,null,null,1]
[1,"130001101RRX","Příplatek za ztížené hloubení v blízkosti vedení ","m3",40.198999999999998,null,{"$f":"E8*F8","v":0},0,{"$f":"E8*H8","v":0},0,{"$f":"E8*J8","v":0},null,null,null,2,null,null,null,null,null,null,null,null,null,null,null,1,1,1,null,null,null,null,null,null,null,null,null,null,null,null,null,null,null,null,null,null,null,null,null,null,1,{"$f":"IF(AZ8=1,G8,0)","v":0},{"$f":"IF(AZ8=2,G8,0)","v":0},{"$f":"IF(AZ8=3,G8,0)","v":0},{"$f":"IF(AZ8=4,G8,0)","v":0},{"$f":"IF(AZ8=5,G8,0)","v":0},null,null,null,null,null,null,null,null,null,null,null,null,null,null,null,null,null,null,null,null,null,1,1]
[null,null,"Včetně případných nutných dokopávek a ručního výkopu podél sousedících inženýrských sítí.",null,null,null,null,null,null,null,null,"Včetně případných nutných dokopávek a ručního výkopu podél sousedících inženýrských sítí.",null,null,3]
[null,null,"Součástí položky je i dočasné zajištění stávajících inženýrských sítí v prostoru výkopů (potrubí, kabely a pod.)",null,null,null,null,null,null,null,null,"Součástí položky je i dočasné zajištění stávajících inženýrských sítí v prostoru výkopů (potrubí, kabely a pod.)",null,null,3]
[null,null,"Vodovodní řady \"SP\" PE D 160x14,6 mm:",null,0,null,null,null,null,null,null,null,"Vodovodní řady \"SP\" PE D 160x14,6 mm:"]
[null,null,"Výkopy :",null,0,null,null,null,null,null,null,null,"Výkopy :"]
[null,null,"V hornině tř. 3 - 4 - 27%:148,8850*0,27",null,40.198999999999998,null,null,null,null,null,null,null,"V hornině tř. 3 - 4 - 27%:148,8850*0,27"]
[2,"132201212R00","Hloubení rýh š.do 200 cm hor.3 do 1000m3,STROJNĚ ","m3",74.442499999999995,null,{"$f":"E14*F14","v":0},0,{"$f":"E14*H14","v":0},0,{"$f":"E14*J14","v":0},null,null,null,2,null,null,null,null,null,null,null,null,null,null,null,1,1,1,null,null,null,null,null,null,null,null,null,null,null,null,null,null,null,null,null,null,null,null,null,null,1,{"$f":"IF(AZ14=1,G14,0)","v":0},{"$f":"IF(AZ14=2,G14,0)","v":0},{"$f":"IF(AZ14=3,G14,0)","v":0},{"$f":"IF(AZ14=4,G14,0)","v":0},{"$f":"IF(AZ14=5,G14,0)","v":0},null,null,null,null,null,null,null,null,null,null,null,null,null,null,null,null,null,null,null,null,null,1,1]
[null,null,"Položka obsahuje hloubení rýh traktorbagrem, naložení výkopku na dopravní prostředek pro svislé, nebo vodorovné přemístění, popř. přemístění výkopku do 3 m (po povrchu území), případné zajištění rypadel polštáři, udržování pracoviště a ochranu výkopiště proti stékání srážkové vody z okolního terénu i s jejím odvodněním, nebo odvedením, přesekání a odstranění kořenů ve výkopišti, odstranění napadávek, urovnání dna výkopu.",null,null,null,null,null,null,null,null,"Položka obsahuje hloubení rýh traktorbagrem, naložení výkopku na dopravní prostředek pro svislé, nebo vodorovné přemístění, popř. přemístění výkopku do 3 m (po povrchu území), případné zajištění rypadel polštáři, udržování pracoviště a ochranu výkopiště proti stékání srážkové vody z okolního terénu i s jejím odvodněním, nebo odvedením, přesekání a odstranění kořenů ve výkopišti, odstranění napadávek, urovnání dna výkopu.",null,null,3]
[null,null,"Vodovodní řady \"SP\" PE D 160x14,6 mm:",null,0,null,null,null,null,null,null,null,"Vodovodní řady \"SP\" PE D 160x14,6 mm:"]
[null,null,"Výkopy :",null,0,null,null,null,null,null,null,null,"Výkopy :"]
[null,null,"Začátek provozního součtu",null,0,null,null,null,null,null,null,null,"Začátek provozního součtu"]
[null,null,"Průměrná hloubka výkopů od nivelety stávající komunikace 1,63 m:",null,0,null,null,null,null,null,null,null,"Průměrná hloubka výkopů od nivelety stávající komunikace 1,63 m:"]
[null,null,"Řad \"SP\":(120,00-4,10-4,15)*0,90*1,63",null,163.93719999999999,null,null,null,null,null,null,null,"Řad \"SP\":(120,00-4,10-4,15)*0,90*1,63"]
[null,null,"Rozšíření a prohloubení u AŠ1:3,25*4,10*2,35-2,05*2,90*1,95",null,19.721,null,null,null,null,null,null,null,"Rozšíření a prohloubení u AŠ1:3,25*4,10*2,35-2,05*2,90*1,95"]
[null,null,"Rozšíření a prohloubení u AŠ2:2,90*4,15*1,85-1,70*2,45*1,60",null,15.6008,null,null,null,null,null,null,null,"Rozšíření a prohloubení u AŠ2:2,90*4,15*1,85-1,70*2,45*1,60"]
[null,null,"Odpočet objemu konstrukce komunikace a chodníků:",null,0,null,null,null,null,null,null,null,"Odpočet objemu konstrukce komunikace a chodníků:"]
[null,null,"Řad \"SP\":-(120,00-4,10-4,15)*0,90*0,40",null,-40.229999999999997,null,null,null,null,null,null,null,"Řad \"SP\":-(120,00-4,10-4,15)*0,90*0,40"]
[null,null,"AŠ1:-3,25*4,10*0,40",null,-5.33,null,null,null,null,null,null,null,"AŠ1:-3,25*4,10*0,40"]
[null,null,"AŠ2:-2,90*4,15*0,40",null,-4.8140000000000001,null,null,null,null,null,null,null,"AŠ2:-2,90*4,15*0,40"]
[null,null,"Konec provozního součtu",null,148.88499999999999,null,null,null,null,null,null,null,"Konec provozního součtu"]
[null,null,"V hornině tř. 3 - 50%:148,8850*0,5",null,74.442499999999995,null,null,null,null,null,null,null,"V hornině tř. 3 - 50%:148,8850*0,5"]
[3,"132201219R00","Přípl.za lepivost,hloubení rýh 200cm,hor.3,STROJNĚ ","m3",37.221200000000003,null,{"$f":"E29*F29","v":0},0,{"$f":"E29*H29","v":0},0,{"$f":"E29*J29","v":0},null,null,null,2,null,null,null,null,null,null,null,null,null,null,null,1,1,1,null,null,null,null,null,null,null,null,null,null,null,null,null,null,null,null,null,null,null,null,null,null,1,{"$f":"IF(AZ29=1,G29,0)","v":0},{"$f":"IF(AZ29=2,G29,0)","v":0},{"$f":"IF(AZ29=3,G29,0)","v":0},{"$f":"IF(AZ29=4,G29,0)","v":0},{"$f":"IF(AZ29=5,G29,0)","v":0},null,null,null,null,null,null,null,null,null,null,null,null,null,null,null,null,null,null,null,null,null,1,1]
[null,null,"Vodovodní řady \"SP\" PE D 160x14,6 mm:",null,0,null,null,null,null,null,null,null,"Vodovodní řady \"SP\" PE D 160x14,6 mm:"]
[null,null,"Výkopy :",null,0,null,null,null,null,null,null,null,"Výkopy :"]
[null,null,"V hornině tř. 3 - 50%:148,8850*0,5*0,5",null,37.221200000000003,null,null,null,null,null,null,null,"V hornině tř. 3 - 50%:148,8850*0,5*0,5"]
[4,"132301212R00","Hloubení rýh š.do 200 cm hor.4 do 1000 m3, STROJNĚ ","m3",74.442499999999995,null,{"$f":"E33*F33","v":0},0,{"$f":"E33*H33","v":0},0,{"$f":"E33*J33","v":0},null,null,null,2,null,null,null,null,null,null,null,null,null,null,null,1,1,1,null,null,null,null,null,null,null,null,null,null,null,null,null,null,null,null,null,null,null,null,null,null,1,{"$f":"IF(AZ33=1,G33,0)","v":0},{"$f":"IF(AZ33=2,G33,0)","v":0},{"$f":"IF(AZ33=3,G33,0)","v":0},{"$f":"IF(AZ33=4,G33,0)","v":0},{"$f":"IF(AZ33=5,G33,0)","v":0},null,null,null,null,null,null,null,null,null,null,null,null,null,null,null,null,null,null,null,null,null,1,1]
[null,null,"Položka obsahuje hloubení rýh traktorbagrem, naložení výkopku na dopravní prostředek pro svislé, nebo vodorovné přemístění, popř. přemístění výkopku do 3 m (po povrchu území), případné zajištění rypadel polštáři, udržování pracoviště a ochranu výkopiště proti stékání srážkové vody z okolního terénu i s jejím odvodněním, nebo odvedením, přesekání a odstranění kořenů ve výkopišti, odstranění napadávek, urovnání dna výkopu.",null,null,null,null,null,null,null,null,"Položka obsahuje hloubení rýh traktorbagrem, naložení výkopku na dopravní prostředek pro svislé, nebo vodorovné přemístění, popř. přemístění výkopku do 3 m (po povrchu území), případné zajištění rypadel polštáři, udržování pracoviště a ochranu výkopiště proti stékání srážkové vody z okolního terénu i s jejím odvodněním, nebo odvedením, přesekání a odstranění kořenů ve výkopišti, odstranění napadávek, urovnání dna výkopu.",null,null,3]
[null,null,"Vodovodní řady \"SP\" PE D 160x14,6 mm:",null,0,null,null,null,null,null,null,null,"Vodovodní řady \"SP\" PE D 160x14,6 mm:"]
[null,null,"Výkopy :",null,0,null,null,null,null,null,null,null,"Výkopy :"]
[null,null,"V hornině tř. 4 - 50%:148,8850*0,5",null,74.442499999999995,null,null,null,null,null,null,null,"V hornině tř. 4 - 50%:148,8850*0,5"]
[5,"132301219R00","Přípl.za lepivost,hloubení rýh 200cm,hor.4,STROJNĚ ","m3",37.221200000000003,null,{"$f":"E38*F38","v":0},0,{"$f":"E38*H38","v":0},0,{"$f":"E38*J38","v":0},null,null,null,2,null,null,null,null,null,null,null,null,null,null,null,1,1,1,null,null,null,null,null,null,null,null,null,null,null,null,null,null,null,null,null,null,null,null,null,null,1,{"$f":"IF(AZ38=1,G38,0)","v":0},{"$f":"IF(AZ38=2,G38,0)","v":0},{"$f":"IF(AZ38=3,G38,0)","v":0},{"$f":"IF(AZ38=4,G38,0)","v":0},{"$f":"IF(AZ38=5,G38,0)","v":0},null,null,null,null,null,null,null,null,null,null,null,null,null,null,null,null,null,null,null,null,null,1,1]
[null,null,"Vodovodní řady \"SP\" PE D 160x14,6 mm:",null,0,null,null,null,null,null,null,null,"Vodovodní řady \"SP\" PE D 160x14,6 mm:"]
[null,null,"Výkopy :",null,0,null,null,null,null,null,null,null,"Výkopy :"]
[null,null,"V hornině tř. 4 - 50%:148,8850*0,5*0,5",null,37.221200000000003,null,null,null,null,null,null,null,"V hornině tř. 4 - 50%:148,8850*0,5*0,5"]
[6,"151101101R00","Pažení a rozepření stěn rýh - příložné - hl.do 2 m ","m2",398.93,null,{"$f":"E42*F42","v":0},9.8999999999999999E-4,{"$f":"E42*H42","v":0.39494069999999998},0,{"$f":"E42*J42","v":0},null,null,null,2,null,null,null,null,null,null,null,null,null,null,null,1,1,1,null,null,null,null,null,null,null,null,null,null,null,null,null,null,null,null,null,null,null,null,null,null,1,{"$f":"IF(AZ42=1,G42,0)","v":0},{"$f":"IF(AZ42=2,G42,0)","v":0},{"$f":"IF(AZ42=3,G42,0)","v":0},{"$f":"IF(AZ42=4,G42,0)","v":0},{"$f":"IF(AZ42=5,G42,0)","v":0},null,null,null,null,null,null,null,null,null,null,null,null,null,null,null,null,null,null,null,null,null,1,1]
[null,null,"Vodovodní řady \"SP\" PE D 160x14,6 mm:",null,0,null,null,null,null,null,null,null,"Vodovodní řady \"SP\" PE D 160x14,6 mm:"]
[null,null,"Výkopy :",null,0,null,null,null,null,null,null,null,"Výkopy :"]
[null,null,"Průměrná hloubka výkopů od nivelety stávající komunikace 1,63 m:",null,0,null,null,null,null,null,null,null,"Průměrná hloubka výkopů od nivelety stávající komunikace 1,63 m:"]
[null,null,"Řad \"SP\":(120,00-4,10-4,15)*1,63*2",null,364.30500000000001,null,null,null,null,null,null,null,"Řad \"SP\":(120,00-4,10-4,15)*1,63*2"]
[null,null,"Rozšíření a prohloubení u AŠ1:4,10*2,35*2",null,19.27,null,null,null,null,null,null,null,"Rozšíření a prohloubení u AŠ1:4,10*2,35*2"]
[null,null,"Rozšíření a prohloubení u AŠ2:4,15*1,85*2",null,15.355,null,null,null,null,null,null,null,"Rozšíření a prohloubení u AŠ2:4,15*1,85*2"]
[7,"151101111R00","Odstranění pažení stěn rýh - příložné - hl. do 2 m ","m2",398.93,null,{"$f":"E49*F49","v":0},0,{"$f":"E49*H49","v":0},0,{"$f":"E49*J49","v":0},null,null,null,2,null,null,null,null,null,null,null,null,null,null,null,1,1,1,null,null,null,null,null,null,null,null,null,null,null,null,null,null,null,null,null,null,null,null,null,null,1,{"$f":"IF(AZ49=1,G49,0)","v":0},{"$f":"IF(AZ49=2,G49,0)","v":0},{"$f":"IF(AZ49=3,G49,0)","v":0},{"$f":"IF(AZ49=4,G49,0)","v":0},{"$f":"IF(AZ49=5,G49,0)","v":0},null,null,null,null,null,null,null,null,null,null,null,null,null,null,null,null,null,null,null,null,null,1,1]
[null,null,"Vodovodní řady \"SP\" PE D 160x14,6 mm:",null,0,null,null,null,null,null,null,null,"Vodovodní řady \"SP\" PE D 160x14,6 mm:"]
[null,null,"Výkopy :",null,0,null,null,null,null,null,null,null,"Výkopy :"]
[null,null,"Průměrná hloubka výkopů od nivelety stávající komunikace 1,63 m:",null,0,null,null,null,null,null,null,null,"Průměrná hloubka výkopů od nivelety stávající komunikace 1,63 m:"]
[null,null,"Řad \"SP\":(120,00-4,10-4,15)*1,63*2",null,364.30500000000001,null,null,null,null,null,null,null,"Řad \"SP\":(120,00-4,10-4,15)*1,63*2"]
[null,null,"Rozšíření a prohloubení u AŠ1:4,10*2,35*2",null,19.27,null,null,null,null,null,null,null,"Rozšíření a prohloubení u AŠ1:4,10*2,35*2"]
[null,null,"Rozšíření a prohloubení u AŠ2:4,15*1,85*2",null,15.355,null,null,null,null,null,null,null,"Rozšíření a prohloubení u AŠ2:4,15*1,85*2"]
[8,"162701105RSZ","Vodorovné přemístění výkopku z hor.1-7 na skládku zhotovitele","m3",148.88499999999999,null,{"$f":"E56*F56","v":0},0,{"$f":"E56*H56","v":0},0,{"$f":"E56*J56","v":0},null,null,null,2,null,null,null,null,null,null,null,null,null,null,null,1,1,1,null,null,null,null,null,null,null,null,null,null,null,null,null,null,null,null,null,null,null,null,null,null,1,{"$f":"IF(AZ56=1,G56,0)","v":0},{"$f":"IF(AZ56=2,G56,0)","v":0},{"$f":"IF(AZ56=3,G56,0)","v":0},{"$f":"IF(AZ56=4,G56,0)","v":0},{"$f":"IF(AZ56=5,G56,0)","v":0},null,null,null,null,null,null,null,null,null,null,null,null,null,null,null,null,null,null,null,null,null,1,1]
[null,null,"Vodovodní řady \"SP\" PE D 160x14,6 mm:",null,0,null,null,null,null,null,null,null,"Vodovodní řady \"SP\" PE D 160x14,6 mm:"]
[null,null,"Výkopy :",null,0,null,null,null,null,null,null,null,"Výkopy :"]
[null,null,"V hornině tř. 3 - 4 :148,8850",null,148.88499999999999,null,null,null,null,null,null,null,"V hornině tř. 3 - 4 :148,8850"]
[9,"174101101R00","Zásyp jam, rýh, šachet se zhutněním ","m3",67.917599999999993,null,{"$f":"E60*F60","v":0},0,{"$f":"E60*H60","v":0},0,{"$f":"E60*J60","v":0},null,null,null,2,null,null,null,null,null,null,null,null,null,null,null,1,1,1,null,null,null,null,null,null,null,null,null,null,null,null,null,null,null,null,null,null,null,null,null,null,1,{"$f":"IF(AZ60=1,G60,0)","v":0},{"$f":"IF(AZ60=2,G60,0)","v":0},{"$f":"IF(AZ60=3,G60,0)","v":0},{"$f":"IF(AZ60=4,G60,0)","v":0},{"$f":"IF(AZ60=5,G60,0)","v":0},null,null,null,null,null,null,null,null,null,null,null,null,null,null,null,null,null,null,null,null,null,1,1]
[null,null,"Položka obsahuje strojní přemístění materiálu pro zásyp ze vzdálenosti do 10 m od okraje zásypu.",null,null,null,null,null,null,null,null,"Položka obsahuje strojní přemístění materiálu pro zásyp ze vzdálenosti do 10 m od okraje zásypu.",null,null,3]
[null,null,null,null,null,null,null,null,null,null,null,null,null,null,3]
[null,null,"Vodovodní řady \"SP\" PE D 160x14,6 mm:",null,0,null,null,null,null,null,null,null,"Vodovodní řady \"SP\" PE D 160x14,6 mm:"]
[null,null,"Zásyp ŠD fr. 0-63 mm:67,9176",null,67.917599999999993,null,null,null,null,null,null,null,"Zásyp ŠD fr. 0-63 mm:67,9176"]
[null,null,"Začátek provozního součtu",null,0,null,null,null,null,null,null,null,"Začátek provozního součtu"]
[null,null,"Výkopy:148,8850",null,148.88499999999999,null,null,null,null,null,null,null,"Výkopy:148,8850"]
[null,null,"Odpočet lože, potrubí a obsypů:",null,0,null,null,null,null,null,null,null,"Odpočet lože, potrubí a obsypů:"]
[null,null,"Řad \"SP\":-(120,00-2,90-2,95)*0,90*(0,15+0,16+0,30)",null,-62.668399999999998,null,null,null,null,null,null,null,"Řad \"SP\":-(120,00-2,90-2,95)*0,90*(0,15+0,16+0,30)"]
[null,null,"AŠ1:-1,95*2,90*1,95",null,-11.027200000000001,null,null,null,null,null,null,null,"AŠ1:-1,95*2,90*1,95"]
[null,null,"AŠ2:-1,70*2,95*1,45",null,-7.2717000000000001,null,null,null,null,null,null,null,"AŠ2:-1,70*2,95*1,45"]
[null,null,"0",null,0,null,null,null,null,null,null,null,0]
[null,null,"Konec provozního součtu",null,67.917700000000011,null,null,null,null,null,null,null,"Konec provozního součtu"]
[10,"175101101R00","Obsyp potrubí bez prohození sypaniny ","m3",60.902099999999997,null,{"$f":"E73*F73","v":0},0,{"$f":"E73*H73","v":0},0,{"$f":"E73*J73","v":0},null,null,null,2,null,null,null,null,null,null,null,null,null,null,null,1,1,1,null,null,null,null,null,null,null,null,null,null,null,null,null,null,null,null,null,null,null,null,null,null,1,{"$f":"IF(AZ73=1,G73,0)","v":0},{"$f":"IF(AZ73=2,G73,0)","v":0},{"$f":"IF(AZ73=3,G73,0)","v":0},{"$f":"IF(AZ73=4,G73,0)","v":0},{"$f":"IF(AZ73=5,G73,0)","v":0},null,null,null,null,null,null,null,null,null,null,null,null,null,null,null,null,null,null,null,null,null,1,1]
[null,null,"Vodovodní řady \"SP\" PE D 160x14,6 mm:",null,0,null,null,null,null,null,null,null,"Vodovodní řady \"SP\" PE D 160x14,6 mm:"]
[null,null,"Řad \"SP\":(120,00-2,40-2,45)*(0,90*(0,15+0,16+0,30)-0,08^2*Pi)",null,60.902099999999997,null,null,null,null,null,null,null,"Řad \"SP\":(120,00-2,40-2,45)*(0,90*(0,15+0,16+0,30)-0,08^2*Pi)"]
[11,"199000002R00","Poplatek za skládku horniny 1- 7 č. dle katal. odpadů 17 05 04","m3",148.88499999999999,null,{"$f":"E76*F76","v":0},0,{"$f":"E76*H76","v":0},0,{"$f":"E76*J76","v":0},null,null,null,2,null,null,null,null,null,null,null,null,null,null,null,1,1,1,null,null,null,null,null,null,null,null,null,null,null,null,null,null,null,null,null,null,null,null,null,null,1,{"$f":"IF(AZ76=1,G76,0)","v":0},{"$f":"IF(AZ76=2,G76,0)","v":0},{"$f":"IF(AZ76=3,G76,0)","v":0},{"$f":"IF(AZ76=4,G76,0)","v":0},{"$f":"IF(AZ76=5,G76,0)","v":0},null,null,null,null,null,null,null,null,null,null,null,null,null,null,null,null,null,null,null,null,null,1,1]
[null,null,"Vodovodní řady \"SP\" PE D 160x14,6 mm:",null,0,null,null,null,null,null,null,null,"Vodovodní řady \"SP\" PE D 160x14,6 mm:"]
[null,null,"Výkopy :",null,0,null,null,null,null,null,null,null,"Výkopy :"]
[null,null,"V hornině tř. 3 - 4 :148,8850",null,148.88499999999999,null,null,null,null,null,null,null,"V hornině tř. 3 - 4 :148,8850"]
[12,"58337308.R","Štěrkopísek frakce 0-2 tř.B","t",121.36150000000001,null,{"$f":"E80*F80","v":0},1,{"$f":"E80*H80","v":121.36150000000001},null,{"$f":"E80*J80","v":0},null,null,null,2,null,null,null,null,null,null,null,null,null,null,null,3,1,"58337308.R",null,null,null,null,null,null,null,null,null,null,null,null,null,null,null,null,null,null,null,null,null,null,1,{"$f":"IF(AZ80=1,G80,0)","v":0},{"$f":"IF(AZ80=2,G80,0)","v":0},{"$f":"IF(AZ80=3,G80,0)","v":0},{"$f":"IF(AZ80=4,G80,0)","v":0},{"$f":"IF(AZ80=5,G80,0)","v":0},null,null,null,null,null,null,null,null,null,null,null,null,null,null,null,null,null,null,null,null,null,3,1]
[null,null,"Vodovodní řady \"SP\" PE D 160x14,6 mm:",null,0,null,null,null,null,null,null,null,"Vodovodní řady \"SP\" PE D 160x14,6 mm:"]
[null,null,"Řad \"SP\":(120,00-2,40-2,45)*(0,90*(0,15+0,16+0,30)-0,08^2*Pi)*1,973*1,01",null,121.36150000000001,null,null,null,null,null,null,null,"Řad \"SP\":(120,00-2,40-2,45)*(0,90*(0,15+0,16+0,30)-0,08^2*Pi)*1,973*1,01"]
[13,"58344197R","Štěrkodrtě frakce 0-63 A","t",128.48179999999999,null,{"$f":"E83*F83","v":0},1,{"$f":"E83*H83","v":128.48179999999999},null,{"$f":"E83*J83","v":0},null,null,null,2,null,null,null,null,null,null,null,null,null,null,null,3,1,"58344197R",null,null,null,null,null,null,null,null,null,null,null,null,null,null,null,null,null,null,null,null,null,null,1,{"$f":"IF(AZ83=1,G83,0)","v":0},{"$f":"IF(AZ83=2,G83,0)","v":0},{"$f":"IF(AZ83=3,G83,0)","v":0},{"$f":"IF(AZ83=4,G83,0)","v":0},{"$f":"IF(AZ83=5,G83,0)","v":0},null,null,null,null,null,null,null,null,null,null,null,null,null,null,null,null,null,null,null,null,null,3,1]
[null,null,"Vodovodní řady \"SP\" PE D 160x14,6 mm:",null,0,null,null,null,null,null,null,null,"Vodovodní řady \"SP\" PE D 160x14,6 mm:"]
[null,null,"Zásyp ŠD fr. 0-63 mm:67,9176*1,873*1,01",null,128.48179999999999,null,null,null,null,null,null,null,"Zásyp ŠD fr. 0-63 mm:67,9176*1,873*1,01"]
[null,"Celkem za","1 Zemní práce",null,null,null,{"$f":"SUM(G7:G85)","v":0},null,{"$f":"SUM(I7:I85)","v":250.23824070000001},null,{"$f":"SUM(K7:K85)","v":0},null,null,null,4,null,null,null,null,null,null,null,null,null,null,null,null,null,null,null,null,null,null,null,null,null,null,null,null,null,null,null,null,null,null,null,null,null,null,null,null,null,{"$f":"SUM(BA7:BA85)","v":0},{"$f":"SUM(BB7:BB85)","v":0},{"$f":"SUM(BC7:BC85)","v":0},{"$f":"SUM(BD7:BD85)","v":0},{"$f":"SUM(BE7:BE85)","v":0}]
["Díl:","21","Úprava podloží a základ.spáry",null,null,null,null,null,null,null,null,null,null,null,1]
[14,"215901101RT5","Zhutnění podloží do 92% PS vibrační deskou","m2",115.825,null,{"$f":"E88*F88","v":0},0,{"$f":"E88*H88","v":0},0,{"$f":"E88*J88","v":0},null,null,null,2,null,null,null,null,null,null,null,null,null,null,null,1,1,1,null,null,null,null,null,null,null,null,null,null,null,null,null,null,null,null,null,null,null,null,null,null,1,{"$f":"IF(AZ88=1,G88,0)","v":0},{"$f":"IF(AZ88=2,G88,0)","v":0},{"$f":"IF(AZ88=3,G88,0)","v":0},{"$f":"IF(AZ88=4,G88,0)","v":0},{"$f":"IF(AZ88=5,G88,0)","v":0},null,null,null,null,null,null,null,null,null,null,null,null,null,null,null,null,null,null,null,null,null,1,1]
[null,null,"Vodovodní řady \"SP\" PE D 160x14,6 mm:",null,0,null,null,null,null,null,null,null,"Vodovodní řady \"SP\" PE D 160x14,6 mm:"]
[null,null,"Výkopy :",null,0,null,null,null,null,null,null,null,"Výkopy :"]
[null,null,"Řad \"SP\":(120,00-4,10-4,15)*0,90",null,100.575,null,null,null,null,null,null,null,"Řad \"SP\":(120,00-4,10-4,15)*0,90"]
[null,null,"Rozšíření a prohloubení u AŠ1:3,25*4,10-2,05*2,90",null,7.38,null,null,null,null,null,null,null,"Rozšíření a prohloubení u AŠ1:3,25*4,10-2,05*2,90"]
[null,null,"Rozšíření a prohloubení u AŠ2:2,90*4,15-1,70*2,45",null,7.87,null,null,null,null,null,null,null,"Rozšíření a prohloubení u AŠ2:2,90*4,15-1,70*2,45"]
[null,"Celkem za","21 Úprava podloží a základ.spáry",null,null,null,{"$f":"SUM(G87:G93)","v":0},null,{"$f":"SUM(I87:I93)","v":0},null,{"$f":"SUM(K87:K93)","v":0},null,null,null,4,null,null,null,null,null,null,null,null,null,null,null,null,null,null,null,null,null,null,null,null,null,null,null,null,null,null,null,null,null,null,null,null,null,null,null,null,null,{"$f":"SUM(BA87:BA93)","v":0},{"$f":"SUM(BB87:BB93)","v":0},{"$f":"SUM(BC87:BC93)","v":0},{"$f":"SUM(BD87:BD93)","v":0},{"$f":"SUM(BE87:BE93)","v":0}]
["Díl:","38","Kompletní konstrukce",null,null,null,null,null,null,null,null,null,null,null,1]
[15,"388 50-4580.RRX","Sanace dna a stěn armaturní šachty ","m2",26.145,null,{"$f":"E96*F96","v":0},0,{"$f":"E96*H96","v":0},null,{"$f":"E96*J96","v":0},null,null,null,2,null,null,null,null,null,null,null,null,null,null,null,11,3,90,null,null,null,null,null,null,null,null,null,null,null,null,null,null,null,null,null,null,null,null,null,null,1,{"$f":"IF(AZ96=1,G96,0)","v":0},{"$f":"IF(AZ96=2,G96,0)","v":0},{"$f":"IF(AZ96=3,G96,0)","v":0},{"$f":"IF(AZ96=4,G96,0)","v":0},{"$f":"IF(AZ96=5,G96,0)","v":0},null,null,null,null,null,null,null,null,null,null,null,null,null,null,null,null,null,null,null,null,null,11,3]
[null,null,"Provedení dle TZ a v.č. D.1.7-05 (AŠ1) a D.1.7-06 (AŠ2)",null,null,null,null,null,null,null,null,"Provedení dle TZ a v.č. D.1.7-05 (AŠ1) a D.1.7-06 (AŠ2)",null,null,3]
[null,null,"Vodovodní řady \"SP\" PE D 160x14,6 mm:",null,0,null,null,null,null,null,null,null,"Vodovodní řady \"SP\" PE D 160x14,6 mm:"]
[null,null,"Sanace pro AŠ1:1,55*2,40+(1,55+2,40)*2*1,45",null,15.175000000000001,null,null,null,null,null,null,null,"Sanace pro AŠ1:1,55*2,40+(1,55+2,40)*2*1,45"]
[null,null,"Sanace pro AŠ2:1,20*2,45+(1,20+2,45)*2*1,10",null,10.97,null,null,null,null,null,null,null,"Sanace pro AŠ2:1,20*2,45+(1,20+2,45)*2*1,10"]
[16,"388 60-8501.RRX","D+M železobetonové zákrytové desky vč. vstupu Rozměr desky 2050x2900 mm","soubor",1,null,{"$f":"E101*F101","v":0},3.7155999999999998,{"$f":"E101*H101","v":3.7155999999999998},null,{"$f":"E101*J101","v":0},null,null,null,2,null,null,null,null,null,null,null,null,null,null,null,11,3,86,null,null,null,null,null,null,null,null,null,null,null,null,null,null,null,null,null,null,null,null,null,null,1,{"$f":"IF(AZ101=1,G101,0)","v":0},{"$f":"IF(AZ101=2,G101,0)","v":0},{"$f":"IF(AZ101=3,G101,0)","v":0},{"$f":"IF(AZ101=4,G101,0)","v":0},{"$f":"IF(AZ101=5,G101,0)","v":0},null,null,null,null,null,null,null,null,null,null,null,null,null,null,null,null,null,null,null,null,null,11,3]
[null,null,"Zákrytová deska pro AŠ1:",null,null,null,null,null,null,null,null,"Zákrytová deska pro AŠ1:",null,null,3]
[null,null,"Součástí položky je dodávka včetně dopravy a osazení nové zákratové desky se vstupním komínkem a integdovaným vodotěsným poklopem 800x800 mm včetně integrovaného kapsového stupadla do komínku (2 kusy).",null,null,null,null,null,null,null,null,"Součástí položky je dodávka včetně dopravy a osazení nové zákratové desky se vstupním komínkem a integdovaným vodotěsným poklopem 800x800 mm včetně integrovaného kapsového stupadla do komínku (2 kusy).",null,null,3]
[null,null,null,null,null,null,null,null,null,null,null,null,null,null,3]
[null,null,"Provedení dle v.č. D.1.7-05",null,null,null,null,null,null,null,null,"Provedení dle v.č. D.1.7-05",null,null,3]
[null,null,"Vodovodní řady \"SP\" PE D 160x14,6 mm:",null,0,null,null,null,null,null,null,null,"Vodovodní řady \"SP\" PE D 160x14,6 mm:"]
[null,null,"ZD pro AŠ1:1",null,1,null,null,null,null,null,null,null,"ZD pro AŠ1:1"]
[17,"388 60-8502.RRX","D+M železobetonové zákrytové desky vč. vstupu Rozměr desky 1700x2950 mm","soubor",1,null,{"$f":"E108*F108","v":0},3.1343000000000001,{"$f":"E108*H108","v":3.1343000000000001},null,{"$f":"E108*J108","v":0},null,null,null,2,null,null,null,null,null,null,null,null,null,null,null,11,3,87,null,null,null,null,null,null,null,null,null,null,null,null,null,null,null,null,null,null,null,null,null,null,1,{"$f":"IF(AZ108=1,G108,0)","v":0},{"$f":"IF(AZ108=2,G108,0)","v":0},{"$f":"IF(AZ108=3,G108,0)","v":0},{"$f":"IF(AZ108=4,G108,0)","v":0},{"$f":"IF(AZ108=5,G108,0)","v":0},null,null,null,null,null,null,null,null,null,null,null,null,null,null,null,null,null,null,null,null,null,11,3]
[null,null,"Zákrytová deska pro AŠ2:",null,null,null,null,null,null,null,null,"Zákrytová deska pro AŠ2:",null,null,3]
[null,null,"Součástí položky je dodávka včetně dopravy a osazení nové zákratové desky se vstupním komínkem a integdovaným vodotěsným poklopem 800x800 mm včetně integrovaného kapsového stupadla do komínku (1 kus).",null,null,null,null,null,null,null,null,"Součástí položky je dodávka včetně dopravy a osazení nové zákratové desky se vstupním komínkem a integdovaným vodotěsným poklopem 800x800 mm včetně integrovaného kapsového stupadla do komínku (1 kus).",null,null,3]
[null,null,"Provedení dle v.č. D.1.7-06",null,null,null,null,null,null,null,null,"Provedení dle v.č. D.1.7-06",null,null,3]
[null,null,"Vodovodní řady \"SP\" PE D 160x14,6 mm:",null,0,null,null,null,null,null,null,null,"Vodovodní řady \"SP\" PE D 160x14,6 mm:"]
[null,null,"ZD pro AŠ2:1",null,1,null,null,null,null,null,null,null,"ZD pro AŠ2:1"]
[18,"388 60-9501.RRX","D+M hydroizolace stropu a stěn AŠ dle PD ","m2",40,null,{"$f":"E114*F114","v":0},1.5599999999999999E-2,{"$f":"E114*H114","v":0.624},null,{"$f":"E114*J114","v":0},null,null,null,2,null,null,null,null,null,null,null,null,null,null,null,11,3,92,null,null,null,null,null,null,null,null,null,null,null,null,null,null,null,null,null,null,null,null,null,null,1,{"$f":"IF(AZ114=1,G114,0)","v":0},{"$f":"IF(AZ114=2,G114,0)","v":0},{"$f":"IF(AZ114=3,G114,0)","v":0},{"$f":"IF(AZ114=4,G114,0)","v":0},{"$f":"IF(AZ114=5,G114,0)","v":0},null,null,null,null,null,null,null,null,null,null,null,null,null,null,null,null,null,null,null,null,null,11,3]
[null,null,"Hydloizolace stropu a stěn armaturní šachty dle TZ a v.č. D.1.7-05 (AŠ1) a D.1.7-06 (AŠ2):",null,null,null,null,null,null,null,null,"Hydloizolace stropu a stěn armaturní šachty dle TZ a v.č. D.1.7-05 (AŠ1) a D.1.7-06 (AŠ2):",null,null,3]
[null,null,null,null,null,null,null,null,null,null,null,null,null,null,3]
[null,null,null,null,null,null,null,null,null,null,null,null,null,null,3]
[null,null,"Vodovodní řady \"SP\" PE D 160x14,6 mm:",null,0,null,null,null,null,null,null,null,"Vodovodní řady \"SP\" PE D 160x14,6 mm:"]
[null,null,"Hydroizolace pro AŠ1:2,05*2,90-1,20*1,20+1,20*4*0,40+(2,05+2,90)*2*1,50",null,21.274999999999999,null,null,null,null,null,null,null,"Hydroizolace pro AŠ1:2,05*2,90-1,20*1,20+1,20*4*0,40+(2,05+2,90)*2*1,50"]
[null,null,"Hydroizolace pro AŠ2:1,70*2,95-1,20*1,20+1,20*4*0,25+(1,70+2,95)*2*1,50",null,18.725000000000001,null,null,null,null,null,null,null,"Hydroizolace pro AŠ2:1,70*2,95-1,20*1,20+1,20*4*0,25+(1,70+2,95)*2*1,50"]
[null,"Celkem za","38 Kompletní konstrukce",null,null,null,{"$f":"SUM(G95:G120)","v":0},null,{"$f":"SUM(I95:I120)","v":7.4738999999999995},null,{"$f":"SUM(K95:K120)","v":0},null,null,null,4,null,null,null,null,null,null,null,null,null,null,null,null,null,null,null,null,null,null,null,null,null,null,null,null,null,null,null,null,null,null,null,null,null,null,null,null,null,{"$f":"SUM(BA95:BA120)","v":0},{"$f":"SUM(BB95:BB120)","v":0},{"$f":"SUM(BC95:BC120)","v":0},{"$f":"SUM(BD95:BD120)","v":0},{"$f":"SUM(BE95:BE120)","v":0}]
["Díl:","45","Podkladní a vedlejší konstrukce",null,null,null,null,null,null,null,null,null,null,null,1]
[19,"451572111R00","Lože pod potrubí z kameniva těženého 0 - 4 mm ","m3",167.458,null,{"$f":"E123*F123","v":0},0.43051,{"$f":"E123*H123","v":72.092343580000005},0,{"$f":"E123*J123","v":0},null,null,null,2,null,null,null,null,null,null,null,null,null,null,null,1,1,1,null,null,null,null,null,null,null,null,null,null,null,null,null,null,null,null,null,null,null,null,null,null,1,{"$f":"IF(AZ123=1,G123,0)","v":0},{"$f":"IF(AZ123=2,G123,0)","v":0},{"$f":"IF(AZ123=3,G123,0)","v":0},{"$f":"IF(AZ123=4,G123,0)","v":0},{"$f":"IF(AZ123=5,G123,0)","v":0},null,null,null,null,null,null,null,null,null,null,null,null,null,null,null,null,null,null,null,null,null,1,1]
[null,null,"Vodovodní řady \"SP\" PE D 160x14,6 mm:",null,0,null,null,null,null,null,null,null,"Vodovodní řady \"SP\" PE D 160x14,6 mm:"]
[null,null,"Řad \"SP\":(120,00-2,90-2,95)*0,90*1,63",null,167.458,null,null,null,null,null,null,null,"Řad \"SP\":(120,00-2,90-2,95)*0,90*1,63"]
[null,"Celkem za","45 Podkladní a vedlejší konstrukce",null,null,null,{"$f":"SUM(G122:G125)","v":0},null,{"$f":"SUM(I122:I125)","v":72.092343580000005},null,{"$f":"SUM(K122:K125)","v":0},null,null,null,4,null,null,null,null,null,null,null,null,null,null,null,null,null,null,null,null,null,null,null,null,null,null,null,null,null,null,null,null,null,null,null,null,null,null,null,null,null,{"$f":"SUM(BA122:BA125)","v":0},{"$f":"SUM(BB122:BB125)","v":0},{"$f":"SUM(BC122:BC125)","v":0},{"$f":"SUM(BD122:BD125)","v":0},{"$f":"SUM(BE122:BE125)","v":0}]
["Díl:","5","Komunikace",null,null,null,null,null,null,null,null,null,null,null,1]
[20,"572701119RRX","Provizorní zásyp rýh kam. hrubě drceným nebo recyk s následným odstraněním a odvozem","m3",50.374000000000002,null,{"$f":"E128*F128","v":0},1.4804999999999999,{"$f":"E128*H128","v":74.578706999999994},0,{"$f":"E128*J128","v":0},null,null,null,2,null,null,null,null,null,null,null,null,null,null,null,1,1,1,null,null,null,null,null,null,null,null,null,null,null,null,null,null,null,null,null,null,null,null,null,null,1,{"$f":"IF(AZ128=1,G128,0)","v":0},{"$f":"IF(AZ128=2,G128,0)","v":0},{"$f":"IF(AZ128=3,G128,0)","v":0},{"$f":"IF(AZ128=4,G128,0)","v":0},{"$f":"IF(AZ128=5,G128,0)","v":0},null,null,null,null,null,null,null,null,null,null,null,null,null,null,null,null,null,null,null,null,null,1,1]
[null,null,"Vodovodní řady \"SP\" PE D 160x14,6 mm:",null,0,null,null,null,null,null,null,null,"Vodovodní řady \"SP\" PE D 160x14,6 mm:"]
[null,null,"Provizorní zásypy stávající konstrukce komunikace a chodníků:",null,0,null,null,null,null,null,null,null,"Provizorní zásypy stávající konstrukce komunikace a chodníků:"]
[null,null,"Řad \"SP\":(120,00-4,10-4,15)*0,90*0,40",null,40.229999999999997,null,null,null,null,null,null,null,"Řad \"SP\":(120,00-4,10-4,15)*0,90*0,40"]
[null,null,"AŠ1:3,25*4,10*0,40",null,5.33,null,null,null,null,null,null,null,"AŠ1:3,25*4,10*0,40"]
[null,null,"AŠ2:2,90*4,15*0,40",null,4.8140000000000001,null,null,null,null,null,null,null,"AŠ2:2,90*4,15*0,40"]
[null,"Celkem za","5 Komunikace",null,null,null,{"$f":"SUM(G127:G133)","v":0},null,{"$f":"SUM(I127:I133)","v":74.578706999999994},null,{"$f":"SUM(K127:K133)","v":0},null,null,null,4,null,null,null,null,null,null,null,null,null,null,null,null,null,null,null,null,null,null,null,null,null,null,null,null,null,null,null,null,null,null,null,null,null,null,null,null,null,{"$f":"SUM(BA127:BA133)","v":0},{"$f":"SUM(BB127:BB133)","v":0},{"$f":"SUM(BC127:BC133)","v":0},{"$f":"SUM(BD127:BD133)","v":0},{"$f":"SUM(BE127:BE133)","v":0}]
["Díl:","8","Trubní vedení",null,null,null,null,null,null,null,null,null,null,null,1]
[21,"850315121R00","Výřez nebo výsek na potrubí DN 150 ","kus",6,null,{"$f":"E136*F136","v":0},0,{"$f":"E136*H136","v":0},0,{"$f":"E136*J136","v":0},null,null,null,2,null,null,null,null,null,null,null,null,null,null,null,1,1,1,null,null,null,null,null,null,null,null,null,null,null,null,null,null,null,null,null,null,null,null,null,null,1,{"$f":"IF(AZ136=1,G136,0)","v":0},{"$f":"IF(AZ136=2,G136,0)","v":0},{"$f":"IF(AZ136=3,G136,0)","v":0},{"$f":"IF(AZ136=4,G136,0)","v":0},{"$f":"IF(AZ136=5,G136,0)","v":0},null,null,null,null,null,null,null,null,null,null,null,null,null,null,null,null,null,null,null,null,null,1,1]
[null,null,"Položky výřezu nebo výseku na potrubí z trub litinových tlakových jsou určeny pro dva řezy nebo seky prováděné na potrubí dodatečně. V položkách jsou zakalkulovány náklady na",null,null,null,null,null,null,null,null,"Položky výřezu nebo výseku na potrubí z trub litinových tlakových jsou určeny pro dva řezy nebo seky prováděné na potrubí dodatečně. V položkách jsou zakalkulovány náklady na",null,null,3]
[null,null,"- ohlášení uzavírání vody",null,null,null,null,null,null,null,null,"- ohlášení uzavírání vody",null,null,3]
[null,null,"- uzavření a otevření šoupat",null,null,null,null,null,null,null,null,"- uzavření a otevření šoupat",null,null,3]
[null,null,"- vypuštění a napuštění vody",null,null,null,null,null,null,null,null,"- vypuštění a napuštění vody",null,null,3]
[null,null,"- odvzdušnění potrubí",null,null,null,null,null,null,null,null,"- odvzdušnění potrubí",null,null,3]
[null,null,"- strojní nebo ruční výřez potrubí",null,null,null,null,null,null,null,null,"- strojní nebo ruční výřez potrubí",null,null,3]
[null,null,"- nutné úpravy výkopu v prostoru provádění",null,null,null,null,null,null,null,null,"- nutné úpravy výkopu v prostoru provádění",null,null,3]
[null,null,"- demonzáž stávajícich tvarovek a armatur",null,null,null,null,null,null,null,null,"- demonzáž stávajícich tvarovek a armatur",null,null,3]
[null,null,"- montáž tvarovky",null,null,null,null,null,null,null,null,"- montáž tvarovky",null,null,3]
[null,null,"Vodovodní řady \"SP\" PE D 160x14,6 mm:",null,0,null,null,null,null,null,null,null,"Vodovodní řady \"SP\" PE D 160x14,6 mm:"]
[null,null,"Přerušení stáv. potrubí DN150:6",null,6,null,null,null,null,null,null,null,"Přerušení stáv. potrubí DN150:6"]
[22,"857242121R00","Montáž tvarovek litin. jednoos.přír. výkop DN 80 včetně nerezových spoj. prvků a obandážování spoje","kus",11,null,{"$f":"E148*F148","v":0},2.2000000000000001E-4,{"$f":"E148*H148","v":2.4200000000000003E-3},0,{"$f":"E148*J148","v":0},null,null,null,2,null,null,null,null,null,null,null,null,null,null,null,1,1,1,null,null,null,null,null,null,null,null,null,null,null,null,null,null,null,null,null,null,null,null,null,null,1,{"$f":"IF(AZ148=1,G148,0)","v":0},{"$f":"IF(AZ148=2,G148,0)","v":0},{"$f":"IF(AZ148=3,G148,0)","v":0},{"$f":"IF(AZ148=4,G148,0)","v":0},{"$f":"IF(AZ148=5,G148,0)","v":0},null,null,null,null,null,null,null,null,null,null,null,null,null,null,null,null,null,null,null,null,null,1,1]
[null,null,"Položka je určena pro montáž litinových tvarovek na potrubí litinovém tlakovém přírubovém jednoosých v otevřeném výkopu, v otevřeném kanálu nebo v šachtě.",null,null,null,null,null,null,null,null,"Položka je určena pro montáž litinových tvarovek na potrubí litinovém tlakovém přírubovém jednoosých v otevřeném výkopu, v otevřeném kanálu nebo v šachtě.",null,null,3]
[null,null,"Součástí položky je i dodávka nerezových spojovacích prvků (šrouby, podložky, matky) a kompletního obandážování spojů. ",null,null,null,null,null,null,null,null,"Součástí položky je i dodávka nerezových spojovacích prvků (šrouby, podložky, matky) a kompletního obandážování spojů. ",null,null,3]
[null,null,"Vodovodní řady \"SP\" PE D 160x14,6 mm:",null,0,null,null,null,null,null,null,null,"Vodovodní řady \"SP\" PE D 160x14,6 mm:"]
[null,null,"Synoflex spojka s přírubou DN80:4",null,4,null,null,null,null,null,null,null,"Synoflex spojka s přírubou DN80:4"]
[null,null,"FF DN80/250:3",null,3,null,null,null,null,null,null,null,"FF DN80/250:3"]
[null,null,"FF DN80/1000:4",null,4,null,null,null,null,null,null,null,"FF DN80/1000:4"]
[23,"857312121R00","Montáž tvarovek litin. jednoos. přír. výkop DN 150 včetně nerezových spoj. prvků a obandážování spoje","kus",15,null,{"$f":"E155*F155","v":0},2.7799999999999999E-3,{"$f":"E155*H155","v":4.1700000000000001E-2},0,{"$f":"E155*J155","v":0},null,null,null,2,null,null,null,null,null,null,null,null,null,null,null,1,1,1,null,null,null,null,null,null,null,null,null,null,null,null,null,null,null,null,null,null,null,null,null,null,1,{"$f":"IF(AZ155=1,G155,0)","v":0},{"$f":"IF(AZ155=2,G155,0)","v":0},{"$f":"IF(AZ155=3,G155,0)","v":0},{"$f":"IF(AZ155=4,G155,0)","v":0},{"$f":"IF(AZ155=5,G155,0)","v":0},null,null,null,null,null,null,null,null,null,null,null,null,null,null,null,null,null,null,null,null,null,1,1]
[null,null,"Položka je určena pro montáž litinových tvarovek na potrubí litinovém tlakovém přírubovém jednoosých v otevřeném výkopu, v otevřeném kanálu nebo v šachtě.",null,null,null,null,null,null,null,null,"Položka je určena pro montáž litinových tvarovek na potrubí litinovém tlakovém přírubovém jednoosých v otevřeném výkopu, v otevřeném kanálu nebo v šachtě.",null,null,3]
[null,null,"Součástí položky je i dodávka nerezových spojovacích prvků (šrouby, podložky, matky) a kompletního obandážování spojů. ",null,null,null,null,null,null,null,null,"Součástí položky je i dodávka nerezových spojovacích prvků (šrouby, podložky, matky) a kompletního obandážování spojů. ",null,null,3]
[null,null,"Vodovodní řady \"SP\" PE D 160x14,6 mm:",null,0,null,null,null,null,null,null,null,"Vodovodní řady \"SP\" PE D 160x14,6 mm:"]
[null,null,"Synoflex spojka DN150:2",null,2,null,null,null,null,null,null,null,"Synoflex spojka DN150:2"]
[null,null,"Synoflex spojka s přírubou DN150:5",null,5,null,null,null,null,null,null,null,"Synoflex spojka s přírubou DN150:5"]
[null,null,"FFR DN150/80:4",null,4,null,null,null,null,null,null,null,"FFR DN150/80:4"]
[null,null,"FF DN150/800:1",null,1,null,null,null,null,null,null,null,"FF DN150/800:1"]
[null,null,"FF DN150/1000:3",null,3,null,null,null,null,null,null,null,"FF DN150/1000:3"]
[24,"857314121R00","Montáž tvarovek litin. odboč. přír. výkop DN 150 včetně nerezových spoj. prvků a obandážování spoje","kus",2,null,{"$f":"E164*F164","v":0},2.98E-3,{"$f":"E164*H164","v":5.96E-3},0,{"$f":"E164*J164","v":0},null,null,null,2,null,null,null,null,null,null,null,null,null,null,null,1,1,1,null,null,null,null,null,null,null,null,null,null,null,null,null,null,null,null,null,null,null,null,null,null,1,{"$f":"IF(AZ164=1,G164,0)","v":0},{"$f":"IF(AZ164=2,G164,0)","v":0},{"$f":"IF(AZ164=3,G164,0)","v":0},{"$f":"IF(AZ164=4,G164,0)","v":0},{"$f":"IF(AZ164=5,G164,0)","v":0},null,null,null,null,null,null,null,null,null,null,null,null,null,null,null,null,null,null,null,null,null,1,1]
[null,null,"Položka je určena pro montáž litinových tvarovek na potrubí litinovém tlakovém přírubovém, odbočných, v otevřeném výkopu, v otevřeném kanálu nebo v šachtě.",null,null,null,null,null,null,null,null,"Položka je určena pro montáž litinových tvarovek na potrubí litinovém tlakovém přírubovém, odbočných, v otevřeném výkopu, v otevřeném kanálu nebo v šachtě.",null,null,3]
[null,null,"Součástí položky je i dodávka nerezových spojovacích prvků (šrouby, podložky, matky) a kompletního obandážování spojů. ",null,null,null,null,null,null,null,null,"Součástí položky je i dodávka nerezových spojovacích prvků (šrouby, podložky, matky) a kompletního obandážování spojů. ",null,null,3]
[null,null,"Vodovodní řady \"SP\" PE D 160x14,6 mm:",null,0,null,null,null,null,null,null,null,"Vodovodní řady \"SP\" PE D 160x14,6 mm:"]
[null,null,"TT DN150/150:2",null,2,null,null,null,null,null,null,null,"TT DN150/150:2"]
[25,"871311121R00","Montáž trubek polyetylenových ve výkopu d 160 mm ","m",120,null,{"$f":"E169*F169","v":0},0,{"$f":"E169*H169","v":0},0,{"$f":"E169*J169","v":0},null,null,null,2,null,null,null,null,null,null,null,null,null,null,null,1,1,1,null,null,null,null,null,null,null,null,null,null,null,null,null,null,null,null,null,null,null,null,null,null,1,{"$f":"IF(AZ169=1,G169,0)","v":0},{"$f":"IF(AZ169=2,G169,0)","v":0},{"$f":"IF(AZ169=3,G169,0)","v":0},{"$f":"IF(AZ169=4,G169,0)","v":0},{"$f":"IF(AZ169=5,G169,0)","v":0},null,null,null,null,null,null,null,null,null,null,null,null,null,null,null,null,null,null,null,null,null,1,1]
[null,null,"V položce je uvažováno s jedním spojem na 6 m potrubí.",null,null,null,null,null,null,null,null,"V položce je uvažováno s jedním spojem na 6 m potrubí.",null,null,3]
[null,null,"Vodovodní řady \"SP\" PE D 160x14,6 mm:",null,0,null,null,null,null,null,null,null,"Vodovodní řady \"SP\" PE D 160x14,6 mm:"]
[null,null,"Řad \"SP\":120,00",null,120,null,null,null,null,null,null,null,"Řad \"SP\":120,00"]
[26,"877312121R00","Přirážka za 1 spoj elektrotvarovky d 160 mm ","kus",25,null,{"$f":"E173*F173","v":0},0,{"$f":"E173*H173","v":0},0,{"$f":"E173*J173","v":0},null,null,null,2,null,null,null,null,null,null,null,null,null,null,null,1,1,1,null,null,null,null,null,null,null,null,null,null,null,null,null,null,null,null,null,null,null,null,null,null,1,{"$f":"IF(AZ173=1,G173,0)","v":0},{"$f":"IF(AZ173=2,G173,0)","v":0},{"$f":"IF(AZ173=3,G173,0)","v":0},{"$f":"IF(AZ173=4,G173,0)","v":0},{"$f":"IF(AZ173=5,G173,0)","v":0},null,null,null,null,null,null,null,null,null,null,null,null,null,null,null,null,null,null,null,null,null,1,1]
[null,null,"Vodovodní řady \"SP\" PE D 160x14,6 mm:",null,0,null,null,null,null,null,null,null,"Vodovodní řady \"SP\" PE D 160x14,6 mm:"]
[null,null,"Elektrospojka PE D160:20",null,20,null,null,null,null,null,null,null,"Elektrospojka PE D160:20"]
[null,null,"Oblouk PE D160/30°:4",null,4,null,null,null,null,null,null,null,"Oblouk PE D160/30°:4"]
[null,null,"Oblouk PE D160/11°:1",null,1,null,null,null,null,null,null,null,"Oblouk PE D160/11°:1"]
[27,"891241221R00","Montáž vodovod. šoupátek šacht. kolečko DN 80 včetně nerezových spoj. prvků a obandážování spoje","kus",4,null,{"$f":"E178*F178","v":0},2.2000000000000001E-4,{"$f":"E178*H178","v":8.8000000000000003E-4},0,{"$f":"E178*J178","v":0},null,null,null,2,null,null,null,null,null,null,null,null,null,null,null,1,1,1,null,null,null,null,null,null,null,null,null,null,null,null,null,null,null,null,null,null,null,null,null,null,1,{"$f":"IF(AZ178=1,G178,0)","v":0},{"$f":"IF(AZ178=2,G178,0)","v":0},{"$f":"IF(AZ178=3,G178,0)","v":0},{"$f":"IF(AZ178=4,G178,0)","v":0},{"$f":"IF(AZ178=5,G178,0)","v":0},null,null,null,null,null,null,null,null,null,null,null,null,null,null,null,null,null,null,null,null,null,1,1]
[null,null,"Položka je určena pro montáž vodovodních šoupátek v šachtách s ručním kolečkem. ",null,null,null,null,null,null,null,null,"Položka je určena pro montáž vodovodních šoupátek v šachtách s ručním kolečkem. ",null,null,3]
[null,null,"Součástí položky je i dodávka nerezových spojovacích prvků (šrouby, podložky, matky) a kompletního obandážování spojů. ",null,null,null,null,null,null,null,null,"Součástí položky je i dodávka nerezových spojovacích prvků (šrouby, podložky, matky) a kompletního obandážování spojů. ",null,null,3]
[null,null,"Vodovodní řady \"SP\" PE D 160x14,6 mm:",null,0,null,null,null,null,null,null,null,"Vodovodní řady \"SP\" PE D 160x14,6 mm:"]
[null,null,"Šoupě DN80:4",null,4,null,null,null,null,null,null,null,"Šoupě DN80:4"]
[28,"891311221R00","Montáž vodovod. šoupátek šacht. kolečko DN 150 včetně nerezových spoj. prvků a obandážování spoje","kus",3,null,{"$f":"E183*F183","v":0},2.7799999999999999E-3,{"$f":"E183*H183","v":8.3400000000000002E-3},0,{"$f":"E183*J183","v":0},null,null,null,2,null,null,null,null,null,null,null,null,null,null,null,1,1,1,null,null,null,null,null,null,null,null,null,null,null,null,null,null,null,null,null,null,null,null,null,null,1,{"$f":"IF(AZ183=1,G183,0)","v":0},{"$f":"IF(AZ183=2,G183,0)","v":0},{"$f":"IF(AZ183=3,G183,0)","v":0},{"$f":"IF(AZ183=4,G183,0)","v":0},{"$f":"IF(AZ183=5,G183,0)","v":0},null,null,null,null,null,null,null,null,null,null,null,null,null,null,null,null,null,null,null,null,null,1,1]
[null,null,"Položka je určena pro montáž vodovodních šoupátek v šachtách s ručním kolečkem. ",null,null,null,null,null,null,null,null,"Položka je určena pro montáž vodovodních šoupátek v šachtách s ručním kolečkem. ",null,null,3]
[null,null,"Součástí položky je i dodávka nerezových spojovacích prvků (šrouby, podložky, matky) a kompletního obandážování spojů. ",null,null,null,null,null,null,null,null,"Součástí položky je i dodávka nerezových spojovacích prvků (šrouby, podložky, matky) a kompletního obandážování spojů. ",null,null,3]
[null,null,"Vodovodní řady \"SP\" PE D 160x14,6 mm:",null,0,null,null,null,null,null,null,null,"Vodovodní řady \"SP\" PE D 160x14,6 mm:"]
[null,null,"Šoupě DN150:3",null,3,null,null,null,null,null,null,null,"Šoupě DN150:3"]
[29,"891319111R00","Montáž navrtávacích pasů DN 150 s ventilem ","kus",2,null,{"$f":"E188*F188","v":0},0,{"$f":"E188*H188","v":0},0,{"$f":"E188*J188","v":0},null,null,null,2,null,null,null,null,null,null,null,null,null,null,null,1,0,0,null,null,null,null,null,null,null,null,null,null,null,null,null,null,null,null,null,null,null,null,null,null,1,{"$f":"IF(AZ188=1,G188,0)","v":0},{"$f":"IF(AZ188=2,G188,0)","v":0},{"$f":"IF(AZ188=3,G188,0)","v":0},{"$f":"IF(AZ188=4,G188,0)","v":0},{"$f":"IF(AZ188=5,G188,0)","v":0},null,null,null,null,null,null,null,null,null,null,null,null,null,null,null,null,null,null,null,null,null,1,0]
[null,null,"Vodovodní řady \"SP\" PE D 160x14,6 mm:",null,0,null,null,null,null,null,null,null,"Vodovodní řady \"SP\" PE D 160x14,6 mm:"]
[null,null,"NP D150/2\" včetně KK a koncovky \"C\":1",null,1,null,null,null,null,null,null,null,"NP D150/2\" včetně KK a koncovky \"C\":1"]
[null,null,"Pro VP - NP 160/32:1",null,1,null,null,null,null,null,null,null,"Pro VP - NP 160/32:1"]
[30,"892351111R00","Tlaková zkouška vodovodního potrubí DN 200 včetně zajištění konců potrubí","m",120,null,{"$f":"E192*F192","v":0},0,{"$f":"E192*H192","v":0},0,{"$f":"E192*J192","v":0},null,null,null,2,null,null,null,null,null,null,null,null,null,null,null,1,1,1,null,null,null,null,null,null,null,null,null,null,null,null,null,null,null,null,null,null,null,null,null,null,1,{"$f":"IF(AZ192=1,G192,0)","v":0},{"$f":"IF(AZ192=2,G192,0)","v":0},{"$f":"IF(AZ192=3,G192,0)","v":0},{"$f":"IF(AZ192=4,G192,0)","v":0},{"$f":"IF(AZ192=5,G192,0)","v":0},null,null,null,null,null,null,null,null,null,null,null,null,null,null,null,null,null,null,null,null,null,1,1]
[null,null,"V položce jsou započteny náklady na přísun, montáž, demontáž a odsun zkoušecího čerpadla, napuštění tlakovou vodou a dodání vody pro tlakovou zkoušku.",null,null,null,null,null,null,null,null,"V položce jsou započteny náklady na přísun, montáž, demontáž a odsun zkoušecího čerpadla, napuštění tlakovou vodou a dodání vody pro tlakovou zkoušku.",null,null,3]
[null,null,"Vodovodní řady \"SP\" PE D 160x14,6 mm:",null,0,null,null,null,null,null,null,null,"Vodovodní řady \"SP\" PE D 160x14,6 mm:"]
[null,null,"Řad \"SP\" včetně armatur v AŠ1 a AŠ2:120,00",null,120,null,null,null,null,null,null,null,"Řad \"SP\" včetně armatur v AŠ1 a AŠ2:120,00"]
[31,"892353111R00","Desinfekce vodovodního potrubí DN 200 ","m",120,null,{"$f":"E196*F196","v":0},0,{"$f":"E196*H196","v":0},0,{"$f":"E196*J196","v":0},null,null,null,2,null,null,null,null,null,null,null,null,null,null,null,1,1,1,null,null,null,null,null,null,null,null,null,null,null,null,null,null,null,null,null,null,null,null,null,null,1,{"$f":"IF(AZ196=1,G196,0)","v":0},{"$f":"IF(AZ196=2,G196,0)","v":0},{"$f":"IF(AZ196=3,G196,0)","v":0},{"$f":"IF(AZ196=4,G196,0)","v":0},{"$f":"IF(AZ196=5,G196,0)","v":0},null,null,null,null,null,null,null,null,null,null,null,null,null,null,null,null,null,null,null,null,null,1,1]
[null,null,"V položce jsou zakalkulovány náklady na napuštění a vypuštění vody, dodání vody a desinfekčního prostředku a na bakteriologický rozbor vody.",null,null,null,null,null,null,null,null,"V položce jsou zakalkulovány náklady na napuštění a vypuštění vody, dodání vody a desinfekčního prostředku a na bakteriologický rozbor vody.",null,null,3]
[null,null,"Vodovodní řady \"SP\" PE D 160x14,6 mm:",null,0,null,null,null,null,null,null,null,"Vodovodní řady \"SP\" PE D 160x14,6 mm:"]
[null,null,"Řad \"SP\" včetně armatur v AŠ1 a AŠ2:120,00",null,120,null,null,null,null,null,null,null,"Řad \"SP\" včetně armatur v AŠ1 a AŠ2:120,00"]
[32,"899521211RRX","Stupadla s PE povlakem dle PD osazovaná dodatečně do vyvrtaných otvorů","kus",9,null,{"$f":"E200*F200","v":0},1.32E-2,{"$f":"E200*H200","v":0.1188},0,{"$f":"E200*J200","v":0},null,null,null,2,null,null,null,null,null,null,null,null,null,null,null,1,1,1,null,null,null,null,null,null,null,null,null,null,null,null,null,null,null,null,null,null,null,null,null,null,1,{"$f":"IF(AZ200=1,G200,0)","v":0},{"$f":"IF(AZ200=2,G200,0)","v":0},{"$f":"IF(AZ200=3,G200,0)","v":0},{"$f":"IF(AZ200=4,G200,0)","v":0},{"$f":"IF(AZ200=5,G200,0)","v":0},null,null,null,null,null,null,null,null,null,null,null,null,null,null,null,null,null,null,null,null,null,1,1]
[null,null,"Vodovodní řady \"SP\" PE D 160x14,6 mm:",null,0,null,null,null,null,null,null,null,"Vodovodní řady \"SP\" PE D 160x14,6 mm:"]
[null,null,"Pro AŠ1 a  AŠ2:5+4",null,9,null,null,null,null,null,null,null,"Pro AŠ1 a  AŠ2:5+4"]
[33,"899721112R00","Fólie výstražná z PVC bílá, šířka 30 cm ","m",120,null,{"$f":"E203*F203","v":0},0,{"$f":"E203*H203","v":0},0,{"$f":"E203*J203","v":0},null,null,null,2,null,null,null,null,null,null,null,null,null,null,null,1,1,1,null,null,null,null,null,null,null,null,null,null,null,null,null,null,null,null,null,null,null,null,null,null,1,{"$f":"IF(AZ203=1,G203,0)","v":0},{"$f":"IF(AZ203=2,G203,0)","v":0},{"$f":"IF(AZ203=3,G203,0)","v":0},{"$f":"IF(AZ203=4,G203,0)","v":0},{"$f":"IF(AZ203=5,G203,0)","v":0},null,null,null,null,null,null,null,null,null,null,null,null,null,null,null,null,null,null,null,null,null,1,1]
[null,null,"Vodovodní řady \"SP\" PE D 160x14,6 mm:",null,0,null,null,null,null,null,null,null,"Vodovodní řady \"SP\" PE D 160x14,6 mm:"]
[null,null,"Řad \"SP\":120,00",null,120,null,null,null,null,null,null,null,"Řad \"SP\":120,00"]
[34,"899731114R00","Vodič signalizační CYY 6 mm2 ","m",134,null,{"$f":"E206*F206","v":0},8.0000000000000007E-5,{"$f":"E206*H206","v":1.072E-2},0,{"$f":"E206*J206","v":0},null,null,null,2,null,null,null,null,null,null,null,null,null,null,null,1,1,1,null,null,null,null,null,null,null,null,null,null,null,null,null,null,null,null,null,null,null,null,null,null,1,{"$f":"IF(AZ206=1,G206,0)","v":0},{"$f":"IF(AZ206=2,G206,0)","v":0},{"$f":"IF(AZ206=3,G206,0)","v":0},{"$f":"IF(AZ206=4,G206,0)","v":0},{"$f":"IF(AZ206=5,G206,0)","v":0},null,null,null,null,null,null,null,null,null,null,null,null,null,null,null,null,null,null,null,null,null,1,1]
[null,null,"Součástí položky je zajištění proměření vodiče a výchozí zevize.",null,null,null,null,null,null,null,null,"Součástí položky je zajištění proměření vodiče a výchozí zevize.",null,null,3]
[null,null,"Vodovodní řady \"SP\" PE D 160x14,6 mm:",null,0,null,null,null,null,null,null,null,"Vodovodní řady \"SP\" PE D 160x14,6 mm:"]
[null,null,"Řad \"SP\":120,00",null,120,null,null,null,null,null,null,null,"Řad \"SP\":120,00"]
[null,null,"Vyvedení:",null,0,null,null,null,null,null,null,null,"Vyvedení:"]
[null,null,"Pro AŠ1 a AŠ2:5,00*2",null,10,null,null,null,null,null,null,null,"Pro AŠ1 a AŠ2:5,00*2"]
[null,null,"Pro VP:2,00*2*1",null,4,null,null,null,null,null,null,null,"Pro VP:2,00*2*1"]
[35,"899 40-5001.RRX","D+M Odvodnění AŠ1 potrubí PE D110x10,0 mm včetně tvarovek","soubor",1,null,{"$f":"E213*F213","v":0},2,{"$f":"E213*H213","v":2},null,{"$f":"E213*J213","v":0},null,null,null,2,null,null,null,null,null,null,null,null,null,null,null,11,0,88,null,null,null,null,null,null,null,null,null,null,null,null,null,null,null,null,null,null,null,null,null,null,1,{"$f":"IF(AZ213=1,G213,0)","v":0},{"$f":"IF(AZ213=2,G213,0)","v":0},{"$f":"IF(AZ213=3,G213,0)","v":0},{"$f":"IF(AZ213=4,G213,0)","v":0},{"$f":"IF(AZ213=5,G213,0)","v":0},null,null,null,null,null,null,null,null,null,null,null,null,null,null,null,null,null,null,null,null,null,11,0]
[null,null,"Odvodnění AŠ1:",null,null,null,null,null,null,null,null,"Odvodnění AŠ1:",null,null,3]
[null,null,"Součástí položky je.",null,null,null,null,null,null,null,null,"Součástí položky je.",null,null,3]
[null,null,"- D+M šoupěte DN100 včetně ručního kola.",null,null,null,null,null,null,null,null,"- D+M šoupěte DN100 včetně ručního kola.",null,null,3]
[null,null,"- D+M zpětné klapky Wastop D110 s přírubou",null,null,null,null,null,null,null,null,"- D+M zpětné klapky Wastop D110 s přírubou",null,null,3]
[null,null,"- D+M potrubí PE D110x10,0 mm včetně potřebných tvarovek v délce cca 3,0 m",null,null,null,null,null,null,null,null,"- D+M potrubí PE D110x10,0 mm včetně potřebných tvarovek v délce cca 3,0 m",null,null,3]
[null,null,"- Napojení na stávající betonovou RŠ",null,null,null,null,null,null,null,null,"- Napojení na stávající betonovou RŠ",null,null,3]
[null,null,"Vodovodní řady \"SP\" PE D 160x14,6 mm:",null,0,null,null,null,null,null,null,null,"Vodovodní řady \"SP\" PE D 160x14,6 mm:"]
[null,null,"Odvodnění AŠ1:1",null,1,null,null,null,null,null,null,null,"Odvodnění AŠ1:1"]
[36,"899 40-5002.RRX","D+M Odvodnění AŠ1 potrubí PE D110x10,0 mm včetně tvarovek","soubor",1,null,{"$f":"E222*F222","v":0},2,{"$f":"E222*H222","v":2},null,{"$f":"E222*J222","v":0},null,null,null,2,null,null,null,null,null,null,null,null,null,null,null,11,0,89,null,null,null,null,null,null,null,null,null,null,null,null,null,null,null,null,null,null,null,null,null,null,1,{"$f":"IF(AZ222=1,G222,0)","v":0},{"$f":"IF(AZ222=2,G222,0)","v":0},{"$f":"IF(AZ222=3,G222,0)","v":0},{"$f":"IF(AZ222=4,G222,0)","v":0},{"$f":"IF(AZ222=5,G222,0)","v":0},null,null,null,null,null,null,null,null,null,null,null,null,null,null,null,null,null,null,null,null,null,11,0]
[null,null,"Odvodnění AŠ2:",null,null,null,null,null,null,null,null,"Odvodnění AŠ2:",null,null,3]
[null,null,"Součástí položky je.",null,null,null,null,null,null,null,null,"Součástí položky je.",null,null,3]
[null,null,"- D+M šoupěte DN100 včetně ručního kola.",null,null,null,null,null,null,null,null,"- D+M šoupěte DN100 včetně ručního kola.",null,null,3]
[null,null,"- D+M zpětné klapky Wastop D110 s přírubou",null,null,null,null,null,null,null,null,"- D+M zpětné klapky Wastop D110 s přírubou",null,null,3]
[null,null,"- D+M potrubí PE D110x10,0 mm včetně potřebných tvarovek v délce cca 5,0 m",null,null,null,null,null,null,null,null,"- D+M potrubí PE D110x10,0 mm včetně potřebných tvarovek v délce cca 5,0 m",null,null,3]
[null,null,"- Napojení na stávající betonovou RŠ",null,null,null,null,null,null,null,null,"- Napojení na stávající betonovou RŠ",null,null,3]
[null,null,"Vodovodní řady \"SP\" PE D 160x14,6 mm:",null,0,null,null,null,null,null,null,null,"Vodovodní řady \"SP\" PE D 160x14,6 mm:"]
[null,null,"Odvodnění AŠ1:1",null,1,null,null,null,null,null,null,null,"Odvodnění AŠ1:1"]
[37,"28613078.DAV.R","T-kus odbočkový navrtávací DAV (KIT) D160/32","kus",1,null,{"$f":"E231*F231","v":0},0,{"$f":"E231*H231","v":0},null,{"$f":"E231*J231","v":0},null,null,null,2,null,null,null,null,null,null,null,null,null,null,null,3,1,"28613078.DAV.R",null,null,null,null,null,null,null,null,null,null,null,null,null,null,null,null,null,null,null,null,null,null,1,{"$f":"IF(AZ231=1,G231,0)","v":0},{"$f":"IF(AZ231=2,G231,0)","v":0},{"$f":"IF(AZ231=3,G231,0)","v":0},{"$f":"IF(AZ231=4,G231,0)","v":0},{"$f":"IF(AZ231=5,G231,0)","v":0},null,null,null,null,null,null,null,null,null,null,null,null,null,null,null,null,null,null,null,null,null,3,1]
[null,null,"Vodovodní řady \"SP\" PE D 160x14,6 mm:",null,0,null,null,null,null,null,null,null,"Vodovodní řady \"SP\" PE D 160x14,6 mm:"]
[null,null,"Pro VP - NP D160/32:1",null,1,null,null,null,null,null,null,null,"Pro VP - NP D160/32:1"]
[38,"28613090.EBS.R","Zemní souprava EBS 1,1-1,8 pro DAV (KIT)","kus",1,null,{"$f":"E234*F234","v":0},0,{"$f":"E234*H234","v":0},null,{"$f":"E234*J234","v":0},null,null,null,2,null,null,null,null,null,null,null,null,null,null,null,3,1,"28613090.EBS.R",null,null,null,null,null,null,null,null,null,null,null,null,null,null,null,null,null,null,null,null,null,null,1,{"$f":"IF(AZ234=1,G234,0)","v":0},{"$f":"IF(AZ234=2,G234,0)","v":0},{"$f":"IF(AZ234=3,G234,0)","v":0},{"$f":"IF(AZ234=4,G234,0)","v":0},{"$f":"IF(AZ234=5,G234,0)","v":0},null,null,null,null,null,null,null,null,null,null,null,null,null,null,null,null,null,null,null,null,null,3,1]
[null,null,"Vodovodní řady \"SP\" PE D 160x14,6 mm:",null,0,null,null,null,null,null,null,null,"Vodovodní řady \"SP\" PE D 160x14,6 mm:"]
[null,null,"Pro VP - NP D160/32:1",null,1,null,null,null,null,null,null,null,"Pro VP - NP D160/32:1"]
[39,"286134218.R","Trubka tlaková PE 100 RC2 PE100 160x14,6 mm PN16 tyče L=12 m","m",121.8,null,{"$f":"E237*F237","v":0},2.1199999999999999E-3,{"$f":"E237*H237","v":0.258216},null,{"$f":"E237*J237","v":0},null,null,null,2,null,null,null,null,null,null,null,null,null,null,null,3,1,"286134218.R",null,null,null,null,null,null,null,null,null,null,null,null,null,null,null,null,null,null,null,null,null,null,1,{"$f":"IF(AZ237=1,G237,0)","v":0},{"$f":"IF(AZ237=2,G237,0)","v":0},{"$f":"IF(AZ237=3,G237,0)","v":0},{"$f":"IF(AZ237=4,G237,0)","v":0},{"$f":"IF(AZ237=5,G237,0)","v":0},null,null,null,null,null,null,null,null,null,null,null,null,null,null,null,null,null,null,null,null,null,3,1]
[null,null,"Vodovodní tlaková trubka PE 100 RC2 dle normy EN 12 201-2",null,null,null,null,null,null,null,null,"Vodovodní PE tlaková trubka AQUALINE RC2 dle normy EN 12 201-2",null,null,3]
[null,null,"(doprava pitné a užitkové vody)",null,null,null,null,null,null,null,null,"(doprava pitné a užitkové vody)",null,null,3]
[null,null,"Vodovodní řady \"SP\" PE D 160x14,6 mm:",null,0,null,null,null,null,null,null,null,"Vodovodní řady \"SP\" PE D 160x14,6 mm:"]
[null,null,"Řad \"SP\":120,00*1,015",null,121.8,null,null,null,null,null,null,null,"Řad \"SP\":120,00*1,015"]
[40,"28653085.11.R","Elektrospojka d 160 mm PE 100 SDR11","kus",20.3,null,{"$f":"E242*F242","v":0},1.2999999999999999E-3,{"$f":"E242*H242","v":2.639E-2},null,{"$f":"E242*J242","v":0},null,null,null,2,null,null,null,null,null,null,null,null,null,null,null,3,1,"28653085.11.R",null,null,null,null,null,null,null,null,null,null,null,null,null,null,null,null,null,null,null,null,null,null,1,{"$f":"IF(AZ242=1,G242,0)","v":0},{"$f":"IF(AZ242=2,G242,0)","v":0},{"$f":"IF(AZ242=3,G242,0)","v":0},{"$f":"IF(AZ242=4,G242,0)","v":0},{"$f":"IF(AZ242=5,G242,0)","v":0},null,null,null,null,null,null,null,null,null,null,null,null,null,null,null,null,null,null,null,null,null,3,1]
[null,null,"Vodovodní řady \"SP\" PE D 160x14,6 mm:",null,0,null,null,null,null,null,null,null,"Vodovodní řady \"SP\" PE D 160x14,6 mm:"]
[null,null,"Elektrospojka PE D160:20*1,015",null,20.3,null,null,null,null,null,null,null,"Elektrospojka PE D160:20*1,015"]
[41,"28653458.A.R","Oblouk 30° PE d 90 mm PE100 SDR11","kus",4.0599999999999996,null,{"$f":"E245*F245","v":0},1.0499999999999999E-3,{"$f":"E245*H245","v":4.2629999999999994E-3},null,{"$f":"E245*J245","v":0},null,null,null,2,null,null,null,null,null,null,null,null,null,null,null,3,1,"28653458.A.R",null,null,null,null,null,null,null,null,null,null,null,null,null,null,null,null,null,null,null,null,null,null,1,{"$f":"IF(AZ245=1,G245,0)","v":0},{"$f":"IF(AZ245=2,G245,0)","v":0},{"$f":"IF(AZ245=3,G245,0)","v":0},{"$f":"IF(AZ245=4,G245,0)","v":0},{"$f":"IF(AZ245=5,G245,0)","v":0},null,null,null,null,null,null,null,null,null,null,null,null,null,null,null,null,null,null,null,null,null,3,1]
[null,null,"Vodovodní řady \"SP\" PE D 160x14,6 mm:",null,0,null,null,null,null,null,null,null,"Vodovodní řady \"SP\" PE D 160x14,6 mm:"]
[null,null,"Oblouk PE D160/30°:4*1,015",null,4.0599999999999996,null,null,null,null,null,null,null,"Oblouk PE D160/30°:4*1,015"]
[42,"28653460.A.R","Oblouk 11° PE d 90 mm PE100 SDR11","kus",1.0149999999999999,null,{"$f":"E248*F248","v":0},1.0499999999999999E-3,{"$f":"E248*H248","v":1.0657499999999999E-3},null,{"$f":"E248*J248","v":0},null,null,null,2,null,null,null,null,null,null,null,null,null,null,null,3,1,"28653460.A.R",null,null,null,null,null,null,null,null,null,null,null,null,null,null,null,null,null,null,null,null,null,null,1,{"$f":"IF(AZ248=1,G248,0)","v":0},{"$f":"IF(AZ248=2,G248,0)","v":0},{"$f":"IF(AZ248=3,G248,0)","v":0},{"$f":"IF(AZ248=4,G248,0)","v":0},{"$f":"IF(AZ248=5,G248,0)","v":0},null,null,null,null,null,null,null,null,null,null,null,null,null,null,null,null,null,null,null,null,null,3,1]
[null,null,"Vodovodní řady \"SP\" PE D 160x14,6 mm:",null,0,null,null,null,null,null,null,null,"Vodovodní řady \"SP\" PE D 160x14,6 mm:"]
[null,null,"Oblouk PE D160/11°:1*1,015",null,1.0149999999999999,null,null,null,null,null,null,null,"Oblouk PE D160/11°:1*1,015"]
[43,"42203500.08.R","Navrtávací pas uni. DN 150/2\" včetně KK 2\" a koncovky \"C\"","kus",1,null,{"$f":"E251*F251","v":0},5.4999999999999997E-3,{"$f":"E251*H251","v":5.4999999999999997E-3},null,{"$f":"E251*J251","v":0},null,null,null,2,null,null,null,null,null,null,null,null,null,null,null,3,1,"42203500.08.R",null,null,null,null,null,null,null,null,null,null,null,null,null,null,null,null,null,null,null,null,null,null,1,{"$f":"IF(AZ251=1,G251,0)","v":0},{"$f":"IF(AZ251=2,G251,0)","v":0},{"$f":"IF(AZ251=3,G251,0)","v":0},{"$f":"IF(AZ251=4,G251,0)","v":0},{"$f":"IF(AZ251=5,G251,0)","v":0},null,null,null,null,null,null,null,null,null,null,null,null,null,null,null,null,null,null,null,null,null,3,1]
[null,null,"Univerzální navrtávací pas se závitovým výstupem DIN 2999",null,null,null,null,null,null,null,null,"Univerzální navrtávací pas se závitovým výstupem DIN 2999",null,null,3]
[null,null,"Součástí položky je i dodávka KK a koncovky \"C\"",null,null,null,null,null,null,null,null,"Součástí položky je i dodávka KK a koncovky \"C\"",null,null,3]
[null,null,null,null,null,null,null,null,null,null,null,null,null,null,3]
[null,null,"Vodovodní řady \"SP\" PE D 160x14,6 mm:",null,0,null,null,null,null,null,null,null,"Vodovodní řady \"SP\" PE D 160x14,6 mm:"]
[null,null,"NP D150/2\" včetně KK a koncovky \"C\":1",null,1,null,null,null,null,null,null,null,"NP D150/2\" včetně KK a koncovky \"C\":1"]
[44,"42207800.01.R","Ruční kolo pro šoupátko DN65-80","kus",4,null,{"$f":"E257*F257","v":0},1.0200000000000001E-3,{"$f":"E257*H257","v":4.0800000000000003E-3},null,{"$f":"E257*J257","v":0},null,null,null,2,null,null,null,null,null,null,null,null,null,null,null,3,1,"42207800.01.R",null,null,null,null,null,null,null,null,null,null,null,null,null,null,null,null,null,null,null,null,null,null,1,{"$f":"IF(AZ257=1,G257,0)","v":0},{"$f":"IF(AZ257=2,G257,0)","v":0},{"$f":"IF(AZ257=3,G257,0)","v":0},{"$f":"IF(AZ257=4,G257,0)","v":0},{"$f":"IF(AZ257=5,G257,0)","v":0},null,null,null,null,null,null,null,null,null,null,null,null,null,null,null,null,null,null,null,null,null,3,1]
[null,null,"Ruční kolo uzavírací pro šoupátka z šsdé litiny GG 250 s epoxidovou ochrannou vrstvou.",null,null,null,null,null,null,null,null,"Ruční kolo uzavírací pro šoupátka z šsdé litiny GG 250 s epoxidovou ochrannou vrstvou.",null,null,3]
[null,null,"Pro Š DN65-80.",null,null,null,null,null,null,null,null,"Pro Š DN65-80.",null,null,3]
[null,null,"Vodovodní řady \"SP\" PE D 160x14,6 mm:",null,0,null,null,null,null,null,null,null,"Vodovodní řady \"SP\" PE D 160x14,6 mm:"]
[null,null,"Pro Šoupě DN80:4",null,4,null,null,null,null,null,null,null,"Pro Šoupě DN80:4"]
[45,"42207800.04.R","Ruční kolo pro šoupátko DN125-150","kus",3,null,{"$f":"E262*F262","v":0},2.3700000000000001E-3,{"$f":"E262*H262","v":7.11E-3},null,{"$f":"E262*J262","v":0},null,null,null,2,null,null,null,null,null,null,null,null,null,null,null,3,1,"42207800.04.R",null,null,null,null,null,null,null,null,null,null,null,null,null,null,null,null,null,null,null,null,null,null,1,{"$f":"IF(AZ262=1,G262,0)","v":0},{"$f":"IF(AZ262=2,G262,0)","v":0},{"$f":"IF(AZ262=3,G262,0)","v":0},{"$f":"IF(AZ262=4,G262,0)","v":0},{"$f":"IF(AZ262=5,G262,0)","v":0},null,null,null,null,null,null,null,null,null,null,null,null,null,null,null,null,null,null,null,null,null,3,1]
[null,null,"Ruční kolo uzavírací pro šoupátka z šsdé litiny GG 250 s epoxidovou ochrannou vrstvou.",null,null,null,null,null,null,null,null,"Ruční kolo uzavírací pro šoupátka z šsdé litiny GG 250 s epoxidovou ochrannou vrstvou.",null,null,3]
[null,null,"Pro Š DN125-150.",null,null,null,null,null,null,null,null,"Pro Š DN125-150.",null,null,3]
[null,null,"Vodovodní řady \"SP\" PE D 160x14,6 mm:",null,0,null,null,null,null,null,null,null,"Vodovodní řady \"SP\" PE D 160x14,6 mm:"]
[null,null,"Pro Šoupě DN150:3",null,3,null,null,null,null,null,null,null,"Pro Šoupě DN150:3"]
[46,"42228310.R","Šoupátko 4000E3 DN 80 přírubové, voda","kus",4,null,{"$f":"E267*F267","v":0},1.6500000000000001E-2,{"$f":"E267*H267","v":6.6000000000000003E-2},null,{"$f":"E267*J267","v":0},null,null,null,2,null,null,null,null,null,null,null,null,null,null,null,3,1,"42228310.R",null,null,null,null,null,null,null,null,null,null,null,null,null,null,null,null,null,null,null,null,null,null,1,{"$f":"IF(AZ267=1,G267,0)","v":0},{"$f":"IF(AZ267=2,G267,0)","v":0},{"$f":"IF(AZ267=3,G267,0)","v":0},{"$f":"IF(AZ267=4,G267,0)","v":0},{"$f":"IF(AZ267=5,G267,0)","v":0},null,null,null,null,null,null,null,null,null,null,null,null,null,null,null,null,null,null,null,null,null,3,1]
[null,null,"Šoupátko přírubové krkové - měkcetěsnící klínové šoupátko s hladkým a volným průtokovým kanálem",null,null,null,null,null,null,null,null,"Šoupátko přírubové krkové - měkcetěsnící klínové šoupátko s hladkým a volným průtokovým kanálem",null,null,3]
[null,null,"č. 4000E3",null,null,null,null,null,null,null,null,"č. 4000E3",null,null,3]
[null,null,"PN 16",null,null,null,null,null,null,null,null,"PN 16",null,null,3]
[null,null,"DN 80",null,null,null,null,null,null,null,null,"DN 80",null,null,3]
[null,null,"těleso a víko: tvárná litina GGG 400 - DIN 1693",null,null,null,null,null,null,null,null,"těleso a víko: tvárná litina GGG 400 - DIN 1693",null,null,3]
[null,null,"medium: pitná voda, neagresivní odpadní voda",null,null,null,null,null,null,null,null,"medium: pitná voda, neagresivní odpadní voda",null,null,3]
[null,null,"Vodovodní řady \"SP\" PE D 160x14,6 mm:",null,0,null,null,null,null,null,null,null,"Vodovodní řady \"SP\" PE D 160x14,6 mm:"]
[null,null,"Šoupě DN80:4",null,4,null,null,null,null,null,null,null,"Šoupě DN80:4"]
[47,"42228314.R","Šoupátko 4000E3 DN 150 přírubové, voda","kus",3,null,{"$f":"E276*F276","v":0},4.0500000000000001E-2,{"$f":"E276*H276","v":0.1215},null,{"$f":"E276*J276","v":0},null,null,null,2,null,null,null,null,null,null,null,null,null,null,null,3,1,"42228314.R",null,null,null,null,null,null,null,null,null,null,null,null,null,null,null,null,null,null,null,null,null,null,1,{"$f":"IF(AZ276=1,G276,0)","v":0},{"$f":"IF(AZ276=2,G276,0)","v":0},{"$f":"IF(AZ276=3,G276,0)","v":0},{"$f":"IF(AZ276=4,G276,0)","v":0},{"$f":"IF(AZ276=5,G276,0)","v":0},null,null,null,null,null,null,null,null,null,null,null,null,null,null,null,null,null,null,null,null,null,3,1]
[null,null,"Šoupátko přírubové krkové - měkcetěsnící klínové šoupátko s hladkým a volným průtokovým kanálem",null,null,null,null,null,null,null,null,"Šoupátko přírubové krkové - měkcetěsnící klínové šoupátko s hladkým a volným průtokovým kanálem",null,null,3]
[null,null,"č. 4000E3",null,null,null,null,null,null,null,null,"č. 4000E3",null,null,3]
[null,null,"PN 16",null,null,null,null,null,null,null,null,"PN 16",null,null,3]
[null,null,"DN 150",null,null,null,null,null,null,null,null,"DN 80",null,null,3]
[null,null,"těleso a víko: tvárná litina GGG 400 - DIN 1693",null,null,null,null,null,null,null,null,"těleso a víko: tvárná litina GGG 400 - DIN 1693",null,null,3]
[null,null,"medium: pitná voda, neagresivní odpadní voda",null,null,null,null,null,null,null,null,"medium: pitná voda, neagresivní odpadní voda",null,null,3]
[null,null,"Vodovodní řady \"SP\" PE D 160x14,6 mm:",null,0,null,null,null,null,null,null,null,"Vodovodní řady \"SP\" PE D 160x14,6 mm:"]
[null,null,"Šoupě DN150:3",null,3,null,null,null,null,null,null,null,"Šoupě DN150:3"]
[48,"422935303.R","Spojka Synoflex 7974, DN 80, PN 16","kus",4,null,{"$f":"E285*F285","v":0},6.8999999999999999E-3,{"$f":"E285*H285","v":2.76E-2},null,{"$f":"E285*J285","v":0},null,null,null,2,null,null,null,null,null,null,null,null,null,null,null,3,1,"422935303.R",null,null,null,null,null,null,null,null,null,null,null,null,null,null,null,null,null,null,null,null,null,null,1,{"$f":"IF(AZ285=1,G285,0)","v":0},{"$f":"IF(AZ285=2,G285,0)","v":0},{"$f":"IF(AZ285=3,G285,0)","v":0},{"$f":"IF(AZ285=4,G285,0)","v":0},{"$f":"IF(AZ285=5,G285,0)","v":0},null,null,null,null,null,null,null,null,null,null,null,null,null,null,null,null,null,null,null,null,null,3,1]
[null,null,"Vodovodní řady \"SP\" PE D 160x14,6 mm:",null,0,null,null,null,null,null,null,null,"Vodovodní řady \"SP\" PE D 160x14,6 mm:"]
[null,null,"Synoflex spojka s přírubou DN80:4",null,4,null,null,null,null,null,null,null,"Synoflex spojka s přírubou DN80:4"]
[49,"422935306.R","Spojka Synoflex 7974, DN 150, PN 16","kus",2,null,{"$f":"E288*F288","v":0},1.9300000000000001E-2,{"$f":"E288*H288","v":3.8600000000000002E-2},null,{"$f":"E288*J288","v":0},null,null,null,2,null,null,null,null,null,null,null,null,null,null,null,3,1,"422935306.R",null,null,null,null,null,null,null,null,null,null,null,null,null,null,null,null,null,null,null,null,null,null,1,{"$f":"IF(AZ288=1,G288,0)","v":0},{"$f":"IF(AZ288=2,G288,0)","v":0},{"$f":"IF(AZ288=3,G288,0)","v":0},{"$f":"IF(AZ288=4,G288,0)","v":0},{"$f":"IF(AZ288=5,G288,0)","v":0},null,null,null,null,null,null,null,null,null,null,null,null,null,null,null,null,null,null,null,null,null,3,1]
[null,null,"Vodovodní řady \"SP\" PE D 160x14,6 mm:",null,0,null,null,null,null,null,null,null,"Vodovodní řady \"SP\" PE D 160x14,6 mm:"]
[null,null,"Synoflex spojka DN150:2",null,2,null,null,null,null,null,null,null,"Synoflex spojka DN150:2"]
[50,"422935325.R","Spojka Synoflex s přírubou 7994, DN150,PN 16","kus",5,null,{"$f":"E291*F291","v":0},1.67E-2,{"$f":"E291*H291","v":8.3499999999999991E-2},null,{"$f":"E291*J291","v":0},null,null,null,2,null,null,null,null,null,null,null,null,null,null,null,3,1,"422935325.R",null,null,null,null,null,null,null,null,null,null,null,null,null,null,null,null,null,null,null,null,null,null,1,{"$f":"IF(AZ291=1,G291,0)","v":0},{"$f":"IF(AZ291=2,G291,0)","v":0},{"$f":"IF(AZ291=3,G291,0)","v":0},{"$f":"IF(AZ291=4,G291,0)","v":0},{"$f":"IF(AZ291=5,G291,0)","v":0},null,null,null,null,null,null,null,null,null,null,null,null,null,null,null,null,null,null,null,null,null,3,1]
[null,null,"Vodovodní řady \"SP\" PE D 160x14,6 mm:",null,0,null,null,null,null,null,null,null,"Vodovodní řady \"SP\" PE D 160x14,6 mm:"]
[null,null,"Synoflex spojka s přírubou DN150:5",null,5,null,null,null,null,null,null,null,"Synoflex spojka s přírubou DN150:5"]
[51,"55251216.R","Trouba přír.litin. FF DN 80 mm délka 250 mm","kus",3,null,{"$f":"E294*F294","v":0},1.11E-2,{"$f":"E294*H294","v":3.3300000000000003E-2},null,{"$f":"E294*J294","v":0},null,null,null,2,null,null,null,null,null,null,null,null,null,null,null,3,1,"55251216.R",null,null,null,null,null,null,null,null,null,null,null,null,null,null,null,null,null,null,null,null,null,null,1,{"$f":"IF(AZ294=1,G294,0)","v":0},{"$f":"IF(AZ294=2,G294,0)","v":0},{"$f":"IF(AZ294=3,G294,0)","v":0},{"$f":"IF(AZ294=4,G294,0)","v":0},{"$f":"IF(AZ294=5,G294,0)","v":0},null,null,null,null,null,null,null,null,null,null,null,null,null,null,null,null,null,null,null,null,null,3,1]
[null,null,"Vodovodní řady \"SP\" PE D 160x14,6 mm:",null,0,null,null,null,null,null,null,null,"Vodovodní řady \"SP\" PE D 160x14,6 mm:"]
[null,null,"FF DN80/250:3",null,3,null,null,null,null,null,null,null,"FF DN80/250:3"]
[52,"55251223.R","Trouba přír.litin. FF DN 80 mm délka 1000 mm","kus",4,null,{"$f":"E297*F297","v":0},2.6800000000000001E-2,{"$f":"E297*H297","v":0.1072},null,{"$f":"E297*J297","v":0},null,null,null,2,null,null,null,null,null,null,null,null,null,null,null,3,1,"55251223.R",null,null,null,null,null,null,null,null,null,null,null,null,null,null,null,null,null,null,null,null,null,null,1,{"$f":"IF(AZ297=1,G297,0)","v":0},{"$f":"IF(AZ297=2,G297,0)","v":0},{"$f":"IF(AZ297=3,G297,0)","v":0},{"$f":"IF(AZ297=4,G297,0)","v":0},{"$f":"IF(AZ297=5,G297,0)","v":0},null,null,null,null,null,null,null,null,null,null,null,null,null,null,null,null,null,null,null,null,null,3,1]
[null,null,"Vodovodní řady \"SP\" PE D 160x14,6 mm:",null,0,null,null,null,null,null,null,null,"Vodovodní řady \"SP\" PE D 160x14,6 mm:"]
[null,null,"FF DN80/1000:4",null,4,null,null,null,null,null,null,null,"FF DN80/1000:4"]
[53,"55251311.R","Trouba přír.litin. FF DN 150 mm délka 800 mm","kus",1,null,{"$f":"E300*F300","v":0},2.8799999999999999E-2,{"$f":"E300*H300","v":2.8799999999999999E-2},null,{"$f":"E300*J300","v":0},null,null,null,2,null,null,null,null,null,null,null,null,null,null,null,3,1,"55251311.R",null,null,null,null,null,null,null,null,null,null,null,null,null,null,null,null,null,null,null,null,null,null,1,{"$f":"IF(AZ300=1,G300,0)","v":0},{"$f":"IF(AZ300=2,G300,0)","v":0},{"$f":"IF(AZ300=3,G300,0)","v":0},{"$f":"IF(AZ300=4,G300,0)","v":0},{"$f":"IF(AZ300=5,G300,0)","v":0},null,null,null,null,null,null,null,null,null,null,null,null,null,null,null,null,null,null,null,null,null,3,1]
[null,null,"Vodovodní řady \"SP\" PE D 160x14,6 mm:",null,0,null,null,null,null,null,null,null,"Vodovodní řady \"SP\" PE D 160x14,6 mm:"]
[null,null,"FF DN150/800:1",null,1,null,null,null,null,null,null,null,"FF DN150/800:1"]
[54,"55251313.R","Trouba přír.litin. FF DN 150 mm délka 1000 mm","kus",3,null,{"$f":"E303*F303","v":0},3.3500000000000002E-2,{"$f":"E303*H303","v":0.10050000000000001},null,{"$f":"E303*J303","v":0},null,null,null,2,null,null,null,null,null,null,null,null,null,null,null,3,1,"55251313.R",null,null,null,null,null,null,null,null,null,null,null,null,null,null,null,null,null,null,null,null,null,null,1,{"$f":"IF(AZ303=1,G303,0)","v":0},{"$f":"IF(AZ303=2,G303,0)","v":0},{"$f":"IF(AZ303=3,G303,0)","v":0},{"$f":"IF(AZ303=4,G303,0)","v":0},{"$f":"IF(AZ303=5,G303,0)","v":0},null,null,null,null,null,null,null,null,null,null,null,null,null,null,null,null,null,null,null,null,null,3,1]
[null,null,"Vodovodní řady \"SP\" PE D 160x14,6 mm:",null,0,null,null,null,null,null,null,null,"Vodovodní řady \"SP\" PE D 160x14,6 mm:"]
[null,null,"FF DN150/1000:3",null,3,null,null,null,null,null,null,null,"FF DN150/1000:3"]
[55,"55259819.R","Přechod přír. FFR DN 150/ 80","kus",4,null,{"$f":"E306*F306","v":0},1.38E-2,{"$f":"E306*H306","v":5.5199999999999999E-2},null,{"$f":"E306*J306","v":0},null,null,null,2,null,null,null,null,null,null,null,null,null,null,null,3,1,"55259819.R",null,null,null,null,null,null,null,null,null,null,null,null,null,null,null,null,null,null,null,null,null,null,1,{"$f":"IF(AZ306=1,G306,0)","v":0},{"$f":"IF(AZ306=2,G306,0)","v":0},{"$f":"IF(AZ306=3,G306,0)","v":0},{"$f":"IF(AZ306=4,G306,0)","v":0},{"$f":"IF(AZ306=5,G306,0)","v":0},null,null,null,null,null,null,null,null,null,null,null,null,null,null,null,null,null,null,null,null,null,3,1]
[null,null,"Vodovodní řady \"SP\" PE D 160x14,6 mm:",null,0,null,null,null,null,null,null,null,"Vodovodní řady \"SP\" PE D 160x14,6 mm:"]
[null,null,"FFR DN150/80:4",null,4,null,null,null,null,null,null,null,"FFR DN150/80:4"]
[56,"55260006.A.R","Kříž přírubový  TT DN 150/150","kus",2,null,{"$f":"E309*F309","v":0},4.1500000000000002E-2,{"$f":"E309*H309","v":8.3000000000000004E-2},null,{"$f":"E309*J309","v":0},null,null,null,2,null,null,null,null,null,null,null,null,null,null,null,3,1,"55260006.A.R",null,null,null,null,null,null,null,null,null,null,null,null,null,null,null,null,null,null,null,null,null,null,1,{"$f":"IF(AZ309=1,G309,0)","v":0},{"$f":"IF(AZ309=2,G309,0)","v":0},{"$f":"IF(AZ309=3,G309,0)","v":0},{"$f":"IF(AZ309=4,G309,0)","v":0},{"$f":"IF(AZ309=5,G309,0)","v":0},null,null,null,null,null,null,null,null,null,null,null,null,null,null,null,null,null,null,null,null,null,3,1]
[null,null,"Vodovodní řady \"SP\" PE D 160x14,6 mm:",null,0,null,null,null,null,null,null,null,"Vodovodní řady \"SP\" PE D 160x14,6 mm:"]
[null,null,"TT DN150/150:2",null,2,null,null,null,null,null,null,null,"TT DN150/150:2"]
[null,"Celkem za","8 Trubní vedení",null,null,null,{"$f":"SUM(G135:G311)","v":0},null,{"$f":"SUM(I135:I311)","v":5.2406447499999995},null,{"$f":"SUM(K135:K311)","v":0},null,null,null,4,null,null,null,null,null,null,null,null,null,null,null,null,null,null,null,null,null,null,null,null,null,null,null,null,null,null,null,null,null,null,null,null,null,null,null,null,null,{"$f":"SUM(BA135:BA311)","v":0},{"$f":"SUM(BB135:BB311)","v":0},{"$f":"SUM(BC135:BC311)","v":0},{"$f":"SUM(BD135:BD311)","v":0},{"$f":"SUM(BE135:BE311)","v":0}]
["Díl:","89","Ostatní konstrukce na trubním vedení",null,null,null,null,null,null,null,null,null,null,null,1]
[57,"899 01-0003.RRX","Provizorní vodovod PE100 RC1 D 110x10,0 mm včetně příslušných tvarovek a propojů","m",120,null,{"$f":"E314*F314","v":0},0,{"$f":"E314*H314","v":0},null,{"$f":"E314*J314","v":0},null,null,null,2,null,null,null,null,null,null,null,null,null,null,null,12,0,1,null,null,null,null,null,null,null,null,null,null,null,null,null,null,null,null,null,null,null,null,null,null,1,{"$f":"IF(AZ314=1,G314,0)","v":0},{"$f":"IF(AZ314=2,G314,0)","v":0},{"$f":"IF(AZ314=3,G314,0)","v":0},{"$f":"IF(AZ314=4,G314,0)","v":0},{"$f":"IF(AZ314=5,G314,0)","v":0},null,null,null,null,null,null,null,null,null,null,null,null,null,null,null,null,null,null,null,null,null,12,0]
[null,null,"Součástí položky je ",null,null,null,null,null,null,null,null,"Součástí položky je ",null,null,3]
[null,null,"- Dodávka a montáž příslušného potrubí ",null,null,null,null,null,null,null,null,"- Dodávka a montáž příslušného potrubí ",null,null,3]
[null,null,"- Dodávka a montáž propojovacích tvarovek a armatur dle zvolené technologie zhotovitelem potřebné pro provoz provizorního vodovou",null,null,null,null,null,null,null,null,"- Dodávka a montáž propojovacích tvarovek a armatur dle zvolené technologie zhotovitelem potřebné pro provoz provizorního vodovou",null,null,3]
[null,null,"- Přerušení stávajícího potrubí pro napojení provizorního vodovodu",null,null,null,null,null,null,null,null,"- Přerušení stávajícího potrubí pro napojení provizorního vodovodu",null,null,3]
[null,null,"- Provedení tlakové zkoušky včetně proplachu a desinfekce potrubí dle ČSN",null,null,null,null,null,null,null,null,"- Provedení tlakové zkoušky včetně proplachu a desinfekce potrubí dle ČSN",null,null,3]
[null,null,"- Potředné zemní práce pro provedení propojů včetně případného odstranění konstrukcí komunikací a chodníků a provizorní úprava povrchů v prostoru vedení provizorního vodovodu",null,null,null,null,null,null,null,null,"- Potředné zemní práce pro provedení propojů včetně případného odstranění konstrukcí komunikací a chodníků a provizorní úprava povrchů v prostoru vedení provizorního vodovodu",null,null,3]
[null,null,"- Demontáž a odpojení propojů provizorního vodovodu  včetně potřebných zemních prací.",null,null,null,null,null,null,null,null,"- Demontáž a odpojení propojů provizorního vodovodu  včetně potřebných zemních prací.",null,null,3]
[null,null,"- Likvidace veškerého materiálu provizorních vodovodů ",null,null,null,null,null,null,null,null,"- Likvidace veškerého materiálu provizorních vodovodů ",null,null,3]
[null,null,"- Součástí položky jsou i náklady na přesuny materiálů - Součástí položky jsou náklady zhotovitele na poplatky za skládky materiálu",null,null,null,null,null,null,null,null,"- Součástí položky jsou i náklady na přesuny materiálů - Součástí položky jsou náklady zhotovitele na poplatky za skládky materiálu",null,null,3]
[null,null,"Vodovodní řady \"SP\" PE D 160x14,6 mm:",null,0,null,null,null,null,null,null,null,"Vodovodní řady \"SP\" PE D 160x14,6 mm:"]
[null,null,"Provizorní vodovod:",null,0,null,null,null,null,null,null,null,"Provizorní vodovod:"]
[null,null,"Řad \"SP\":120,00",null,120,null,null,null,null,null,null,null,"Řad \"SP\":120,00"]
[58,"899 02-0001.RRX","Provizorní VP PE100 RC1 D32x3,0 mm - délky do 8 m vč. příslušných tvarovek a armatur","soubor",1,null,{"$f":"E327*F327","v":0},0,{"$f":"E327*H327","v":0},null,{"$f":"E327*J327","v":0},null,null,null,2,null,null,null,null,null,null,null,null,null,null,null,12,0,2,null,null,null,null,null,null,null,null,null,null,null,null,null,null,null,null,null,null,null,null,null,null,1,{"$f":"IF(AZ327=1,G327,0)","v":0},{"$f":"IF(AZ327=2,G327,0)","v":0},{"$f":"IF(AZ327=3,G327,0)","v":0},{"$f":"IF(AZ327=4,G327,0)","v":0},{"$f":"IF(AZ327=5,G327,0)","v":0},null,null,null,null,null,null,null,null,null,null,null,null,null,null,null,null,null,null,null,null,null,12,0]
[null,null,"Součástí položky je ",null,null,null,null,null,null,null,null,"Součástí položky je ",null,null,3]
[null,null,"- Dodávka a montáž příslušného potrubí dle PD ",null,null,null,null,null,null,null,null,"- Dodávka a montáž příslušného potrubí dle PD ",null,null,3]
[null,null,"- Dodávka a montáž propojovacích tvarovek a armatur dle zvolené technologie zhotovitelem potřebné pro provoz provizorního propojení VP",null,null,null,null,null,null,null,null,"- Dodávka a montáž propojovacích tvarovek a armatur dle zvolené technologie zhotovitelem potřebné pro provoz provizorního propojení VP",null,null,3]
[null,null,"- Přerušení stávajícího potrubí přípojky",null,null,null,null,null,null,null,null,"- Přerušení stávajícího potrubí přípojky",null,null,3]
[null,null,"- Provedení tlakové zkoušky včetně proplachu a desinfekce potrubí dle ČSN",null,null,null,null,null,null,null,null,"- Provedení tlakové zkoušky včetně proplachu a desinfekce potrubí dle ČSN",null,null,3]
[null,null,"- Potředné zemní práce pro provedení propoje včetně případného odstranění konstrukcí komunikací a provizorní úprava povrchů v prostoru vedení provizorního vodovodu",null,null,null,null,null,null,null,null,"- Potředné zemní práce pro provedení propoje včetně případného odstranění konstrukcí komunikací a provizorní úprava povrchů v prostoru vedení provizorního vodovodu",null,null,3]
[null,null,"- Demontáž a odpojení propojů provizorní přípojky  včetně potřebných zemních prací.",null,null,null,null,null,null,null,null,"- Demontáž a odpojení propojů provizorní přípojky  včetně potřebných zemních prací.",null,null,3]
[null,null,"- Likvidace veškerého materiálu provizorních vodovodních přípojek",null,null,null,null,null,null,null,null,"- Likvidace veškerého materiálu provizorních vodovodních přípojek",null,null,3]
[null,null,"- Součástí položky jsou i náklady na přesuny materiálů - Součástí položky jsou náklady zhotovitele na poplatky za skládky materiálu",null,null,null,null,null,null,null,null,"- Součástí položky jsou i náklady na přesuny materiálů - Součástí položky jsou náklady zhotovitele na poplatky za skládky materiálu",null,null,3]
[null,null,"Vodovodní řady \"SP\" PE D 90x8,2 mm:",null,0,null,null,null,null,null,null,null,"Vodovodní řady \"SP\" PE D 90x8,2 mm:"]
[null,null,"Provizorní vodovod:",null,0,null,null,null,null,null,null,null,"Provizorní vodovod:"]
[null,null,"Přípojky :1",null,1,null,null,null,null,null,null,null,"Přípojky :1"]
[null,"Celkem za","89 Ostatní konstrukce na trubním vedení",null,null,null,{"$f":"SUM(G313:G339)","v":0},null,{"$f":"SUM(I313:I339)","v":0},null,{"$f":"SUM(K313:K339)","v":0},null,null,null,4,null,null,null,null,null,null,null,null,null,null,null,null,null,null,null,null,null,null,null,null,null,null,null,null,null,null,null,null,null,null,null,null,null,null,null,null,null,{"$f":"SUM(BA313:BA339)","v":0},{"$f":"SUM(BB313:BB339)","v":0},{"$f":"SUM(BC313:BC339)","v":0},{"$f":"SUM(BD313:BD339)","v":0},{"$f":"SUM(BE313:BE339)","v":0}]
["Díl:","93","Dokončovací práce inženýrských staveb",null,null,null,null,null,null,null,null,null,null,null,1]
[59,"931981015R00","Těsnění trubních prostupů bentonit.páskou 20x5 mm ","m",20,null,{"$f":"E342*F342","v":0},7.3999999999999999E-4,{"$f":"E342*H342","v":1.4800000000000001E-2},0,{"$f":"E342*J342","v":0},null,null,null,2,null,null,null,null,null,null,null,null,null,null,null,1,1,1,null,null,null,null,null,null,null,null,null,null,null,null,null,null,null,null,null,null,null,null,null,null,1,{"$f":"IF(AZ342=1,G342,0)","v":0},{"$f":"IF(AZ342=2,G342,0)","v":0},{"$f":"IF(AZ342=3,G342,0)","v":0},{"$f":"IF(AZ342=4,G342,0)","v":0},{"$f":"IF(AZ342=5,G342,0)","v":0},null,null,null,null,null,null,null,null,null,null,null,null,null,null,null,null,null,null,null,null,null,1,1]
[null,null,"Vodovodní řady \"SP\" PE D 160x14,6 mm:",null,0,null,null,null,null,null,null,null,"Vodovodní řady \"SP\" PE D 160x14,6 mm:"]
[null,null,"AŠ1 + RŠ:10,00",null,10,null,null,null,null,null,null,null,"AŠ1 + RŠ:10,00"]
[null,null,"AŠ2 + RŠ:10,00",null,10,null,null,null,null,null,null,null,"AŠ2 + RŠ:10,00"]
[60,"936311113R00","Zabet. potrubí beton C25/30 XA2, otvor do 0,25 m2 ","m3",0.1512,null,{"$f":"E346*F346","v":0},2.65089,{"$f":"E346*H346","v":0.40081456799999998},0,{"$f":"E346*J346","v":0},null,null,null,2,null,null,null,null,null,null,null,null,null,null,null,1,1,1,null,null,null,null,null,null,null,null,null,null,null,null,null,null,null,null,null,null,null,null,null,null,1,{"$f":"IF(AZ346=1,G346,0)","v":0},{"$f":"IF(AZ346=2,G346,0)","v":0},{"$f":"IF(AZ346=3,G346,0)","v":0},{"$f":"IF(AZ346=4,G346,0)","v":0},{"$f":"IF(AZ346=5,G346,0)","v":0},null,null,null,null,null,null,null,null,null,null,null,null,null,null,null,null,null,null,null,null,null,1,1]
[null,null,"Vodovodní řady \"SP\" PE D 160x14,6 mm:",null,0,null,null,null,null,null,null,null,"Vodovodní řady \"SP\" PE D 160x14,6 mm:"]
[null,null,"AŠ1 + RŠ:2*(0,15^2*Pi+0,125^2*Pi+0,10^2*Pi)*0,25",null,7.5600000000000001E-2,null,null,null,null,null,null,null,"AŠ1 + RŠ:2*(0,15^2*Pi+0,125^2*Pi+0,10^2*Pi)*0,25"]
[null,null,"AŠ2 + RŠ:2*(0,15^2*Pi+0,125^2*Pi+0,10^2*Pi)*0,25",null,7.5600000000000001E-2,null,null,null,null,null,null,null,"AŠ2 + RŠ:2*(0,15^2*Pi+0,125^2*Pi+0,10^2*Pi)*0,25"]
[61,"939421121RT1","Osazení samonivelač.vodovod.poklopu za finišerem bez dodávky poklopu","kus",1,null,{"$f":"E350*F350","v":0},5.2499999999999998E-2,{"$f":"E350*H350","v":5.2499999999999998E-2},0,{"$f":"E350*J350","v":0},null,null,null,2,null,null,null,null,null,null,null,null,null,null,null,1,1,1,null,null,null,null,null,null,null,null,null,null,null,null,null,null,null,null,null,null,null,null,null,null,1,{"$f":"IF(AZ350=1,G350,0)","v":0},{"$f":"IF(AZ350=2,G350,0)","v":0},{"$f":"IF(AZ350=3,G350,0)","v":0},{"$f":"IF(AZ350=4,G350,0)","v":0},{"$f":"IF(AZ350=5,G350,0)","v":0},null,null,null,null,null,null,null,null,null,null,null,null,null,null,null,null,null,null,null,null,null,1,1]
[null,null,"Položka obsahuje:",null,null,null,null,null,null,null,null,"Položka obsahuje:",null,null,3]
[null,null,"- osazení prefabrikovaného betonového prstence do rychletuhnoucí malty (s dodávkou hmot)",null,null,null,null,null,null,null,null,"- osazení prefabrikovaného betonového prstence do rychletuhnoucí malty (s dodávkou hmot)",null,null,3]
[null,null,"- zalití prstence rychletuhnoucí zálivkou do výše prstence (s dodávkou hmoty)",null,null,null,null,null,null,null,null,"- zalití prstence rychletuhnoucí zálivkou do výše prstence (s dodávkou hmoty)",null,null,3]
[null,null,"- vložení kruhového bednění",null,null,null,null,null,null,null,null,"- vložení kruhového bednění",null,null,3]
[null,null,"- doplnění mezikruží asfaltovou směsí do výšky současné podkladní vrstvy, zhutnění",null,null,null,null,null,null,null,null,"- doplnění mezikruží asfaltovou směsí do výšky současné podkladní vrstvy, zhutnění",null,null,3]
[null,null,"- vyjmutí kruhového bednění",null,null,null,null,null,null,null,null,"- vyjmutí kruhového bednění",null,null,3]
[null,null,"- osazení poklopu a zatlačení",null,null,null,null,null,null,null,null,"- osazení poklopu a zatlačení",null,null,3]
[null,null,"  (následuje pokládka finální vrstvy vozovky - není součástí položky)",null,null,null,null,null,null,null,null,"  (následuje pokládka finální vrstvy vozovky - není součástí položky)",null,null,3]
[null,null,"- povytažení poklopu",null,null,null,null,null,null,null,null,"- povytažení poklopu",null,null,3]
[null,null,"- podsyp asfaltovou směsí, spuštění poklopu a zhutnění směsi",null,null,null,null,null,null,null,null,"- podsyp asfaltovou směsí, spuštění poklopu a zhutnění směsi",null,null,3]
[null,null,"Vodovodní řady \"SP\" PE D 160x14,6 mm:",null,0,null,null,null,null,null,null,null,"Vodovodní řady \"SP\" PE D 160x14,6 mm:"]
[null,null,"Pro VP - NP 160/32:1",null,1,null,null,null,null,null,null,null,"Pro VP - NP 160/32:1"]
[62,"422913520.R","Poklop uliční samonivelační přípojkový D400","kus",1,null,{"$f":"E363*F363","v":0},1.2E-2,{"$f":"E363*H363","v":1.2E-2},null,{"$f":"E363*J363","v":0},null,null,null,2,null,null,null,null,null,null,null,null,null,null,null,3,1,"422913520.R",null,null,null,null,null,null,null,null,null,null,null,null,null,null,null,null,null,null,null,null,null,null,1,{"$f":"IF(AZ363=1,G363,0)","v":0},{"$f":"IF(AZ363=2,G363,0)","v":0},{"$f":"IF(AZ363=3,G363,0)","v":0},{"$f":"IF(AZ363=4,G363,0)","v":0},{"$f":"IF(AZ363=5,G363,0)","v":0},null,null,null,null,null,null,null,null,null,null,null,null,null,null,null,null,null,null,null,null,null,3,1]
[null,null,"Uliční samonivelační poklop přípojkový z tvárné litiny dle ČSN EN 124",null,null,null,null,null,null,null,null,"Uliční samonivelační poklop přípojkový z tvárné litiny dle ČSN EN 124",null,null,3]
[null,null,"Rozpětí stavební výšky 195 - 285 mm s fixací polohy",null,null,null,null,null,null,null,null,"Rozpětí stavební výšky 195 - 285 mm s fixací polohy",null,null,3]
[null,null,"Výklopové víko spojeno s rámem čepem a opatřeno ochrannou a těsnící vrstvou proti vnikání nečistot",null,null,null,null,null,null,null,null,"Výklopové víko spojeno s rámem čepem a opatřeno ochrannou a těsnící vrstvou proti vnikání nečistot",null,null,3]
[null,null,"Tlumicí vložka z elastomeru a PUR",null,null,null,null,null,null,null,null,"Tlumicí vložka z elastomeru a PUR",null,null,3]
[null,null,"Možnost vlastního loga a barevného provedení",null,null,null,null,null,null,null,null,"Možnost vlastního loga a barevného provedení",null,null,3]
[null,null,"Vodovodní řady \"SP\" PE D 160x14,6 mm:",null,0,null,null,null,null,null,null,null,"Vodovodní řady \"SP\" PE D 160x14,6 mm:"]
[null,null,"Pro VP:1",null,1,null,null,null,null,null,null,null,"Pro VP:1"]
[null,"Celkem za","93 Dokončovací práce inženýrských staveb",null,null,null,{"$f":"SUM(G341:G370)","v":0},null,{"$f":"SUM(I341:I370)","v":0.48011456799999996},null,{"$f":"SUM(K341:K370)","v":0},null,null,null,4,null,null,null,null,null,null,null,null,null,null,null,null,null,null,null,null,null,null,null,null,null,null,null,null,null,null,null,null,null,null,null,null,null,null,null,null,null,{"$f":"SUM(BA341:BA370)","v":0},{"$f":"SUM(BB341:BB370)","v":0},{"$f":"SUM(BC341:BC370)","v":0},{"$f":"SUM(BD341:BD370)","v":0},{"$f":"SUM(BE341:BE370)","v":0}]
["Díl:","96","Bourání konstrukcí",null,null,null,null,null,null,null,null,null,null,null,1]
[63,"963051113RRX","Bourání ŽB stropů deskových tl. nad 8 cm včetně ovdozu sutě na skládku zhotovit. a poplatku","m3",2.976,null,{"$f":"E373*F373","v":0},6.6600000000000001E-3,{"$f":"E373*H373","v":1.982016E-2},-2.4,{"$f":"E373*J373","v":-7.1423999999999994},null,null,null,2,null,null,null,null,null,null,null,null,null,null,null,1,1,1,null,null,null,null,null,null,null,null,null,null,null,null,null,null,null,null,null,null,null,null,null,null,1,{"$f":"IF(AZ373=1,G373,0)","v":0},{"$f":"IF(AZ373=2,G373,0)","v":0},{"$f":"IF(AZ373=3,G373,0)","v":0},{"$f":"IF(AZ373=4,G373,0)","v":0},{"$f":"IF(AZ373=5,G373,0)","v":0},null,null,null,null,null,null,null,null,null,null,null,null,null,null,null,null,null,null,null,null,null,1,1]
[null,null,"Vodovodní řady \"SP\" PE D 160x14,6 mm:",null,0,null,null,null,null,null,null,null,"Vodovodní řady \"SP\" PE D 160x14,6 mm:"]
[null,null,"Stropní deska včetně vstupu:",null,0,null,null,null,null,null,null,null,"Stropní deska včetně vstupu:"]
[null,null,"AŠ1:(2,05*2,90-0,60*0,60)*0,25+(1,00+0,60)*2*0,20*0,40",null,1.6521999999999999,null,null,null,null,null,null,null,"AŠ1:(2,05*2,90-0,60*0,60)*0,25+(1,00+0,60)*2*0,20*0,40"]
[null,null,"AŠ2:(1,70*2,95-0,60*0,60)*0,25+(1,00+0,60)*2*0,20*0,25",null,1.3237000000000001,null,null,null,null,null,null,null,"AŠ2:(1,70*2,95-0,60*0,60)*0,25+(1,00+0,60)*2*0,20*0,25"]
[null,"Celkem za","96 Bourání konstrukcí",null,null,null,{"$f":"SUM(G372:G377)","v":0},null,{"$f":"SUM(I372:I377)","v":1.982016E-2},null,{"$f":"SUM(K372:K377)","v":-7.1423999999999994},null,null,null,4,null,null,null,null,null,null,null,null,null,null,null,null,null,null,null,null,null,null,null,null,null,null,null,null,null,null,null,null,null,null,null,null,null,null,null,null,null,{"$f":"SUM(BA372:BA377)","v":0},{"$f":"SUM(BB372:BB377)","v":0},{"$f":"SUM(BC372:BC377)","v":0},{"$f":"SUM(BD372:BD377)","v":0},{"$f":"SUM(BE372:BE377)","v":0}]
["Díl:","97","Prorážení otvorů",null,null,null,null,null,null,null,null,null,null,null,1]
[64,"970051200R00","Vrtání jádrové do ŽB do D 200 mm ","m",1,null,{"$f":"E380*F380","v":0},0,{"$f":"E380*H380","v":0},-7.85E-2,{"$f":"E380*J380","v":-7.85E-2},null,null,null,2,null,null,null,null,null,null,null,null,null,null,null,1,1,1,null,null,null,null,null,null,null,null,null,null,null,null,null,null,null,null,null,null,null,null,null,null,1,{"$f":"IF(AZ380=1,G380,0)","v":0},{"$f":"IF(AZ380=2,G380,0)","v":0},{"$f":"IF(AZ380=3,G380,0)","v":0},{"$f":"IF(AZ380=4,G380,0)","v":0},{"$f":"IF(AZ380=5,G380,0)","v":0},null,null,null,null,null,null,null,null,null,null,null,null,null,null,null,null,null,null,null,null,null,1,1]
[null,null,"Vodovodní řady \"SP\" PE D 160x14,6 mm:",null,0,null,null,null,null,null,null,null,"Vodovodní řady \"SP\" PE D 160x14,6 mm:"]
[null,null,"AŠ1 + RŠ:2*0,25",null,0.5,null,null,null,null,null,null,null,"AŠ1 + RŠ:2*0,25"]
[null,null,"AŠ2 + RŠ:2*0,25",null,0.5,null,null,null,null,null,null,null,"AŠ2 + RŠ:2*0,25"]
[65,"970051250R00","Vrtání jádrové do ŽB do D 250 mm ","m",1,null,{"$f":"E384*F384","v":0},0,{"$f":"E384*H384","v":0},-0.12266000000000001,{"$f":"E384*J384","v":-0.12266000000000001},null,null,null,2,null,null,null,null,null,null,null,null,null,null,null,1,1,1,null,null,null,null,null,null,null,null,null,null,null,null,null,null,null,null,null,null,null,null,null,null,1,{"$f":"IF(AZ384=1,G384,0)","v":0},{"$f":"IF(AZ384=2,G384,0)","v":0},{"$f":"IF(AZ384=3,G384,0)","v":0},{"$f":"IF(AZ384=4,G384,0)","v":0},{"$f":"IF(AZ384=5,G384,0)","v":0},null,null,null,null,null,null,null,null,null,null,null,null,null,null,null,null,null,null,null,null,null,1,1]
[null,null,"Vodovodní řady \"SP\" PE D 160x14,6 mm:",null,0,null,null,null,null,null,null,null,"Vodovodní řady \"SP\" PE D 160x14,6 mm:"]
[null,null,"AŠ1:2*0,25",null,0.5,null,null,null,null,null,null,null,"AŠ1:2*0,25"]
[null,null,"AŠ2:2*0,25",null,0.5,null,null,null,null,null,null,null,"AŠ2:2*0,25"]
[66,"970051300R00","Vrtání jádrové do ŽB do D 300 mm ","m",1,null,{"$f":"E388*F388","v":0},0,{"$f":"E388*H388","v":0},-0.17663000000000001,{"$f":"E388*J388","v":-0.17663000000000001},null,null,null,2,null,null,null,null,null,null,null,null,null,null,null,1,1,1,null,null,null,null,null,null,null,null,null,null,null,null,null,null,null,null,null,null,null,null,null,null,1,{"$f":"IF(AZ388=1,G388,0)","v":0},{"$f":"IF(AZ388=2,G388,0)","v":0},{"$f":"IF(AZ388=3,G388,0)","v":0},{"$f":"IF(AZ388=4,G388,0)","v":0},{"$f":"IF(AZ388=5,G388,0)","v":0},null,null,null,null,null,null,null,null,null,null,null,null,null,null,null,null,null,null,null,null,null,1,1]
[null,null,"Vodovodní řady \"SP\" PE D 160x14,6 mm:",null,0,null,null,null,null,null,null,null,"Vodovodní řady \"SP\" PE D 160x14,6 mm:"]
[null,null,"AŠ1:2*0,25",null,0.5,null,null,null,null,null,null,null,"AŠ1:2*0,25"]
[null,null,"AŠ2:2*0,25",null,0.5,null,null,null,null,null,null,null,"AŠ2:2*0,25"]
[67,"970054200R00","Příp. za jádr. vrt. vodor. ve stěně ŽB do D 200 mm ","m",1,null,{"$f":"E392*F392","v":0},2.0000000000000002E-5,{"$f":"E392*H392","v":2.0000000000000002E-5},0,{"$f":"E392*J392","v":0},null,null,null,2,null,null,null,null,null,null,null,null,null,null,null,1,1,1,null,null,null,null,null,null,null,null,null,null,null,null,null,null,null,null,null,null,null,null,null,null,1,{"$f":"IF(AZ392=1,G392,0)","v":0},{"$f":"IF(AZ392=2,G392,0)","v":0},{"$f":"IF(AZ392=3,G392,0)","v":0},{"$f":"IF(AZ392=4,G392,0)","v":0},{"$f":"IF(AZ392=5,G392,0)","v":0},null,null,null,null,null,null,null,null,null,null,null,null,null,null,null,null,null,null,null,null,null,1,1]
[null,null,"Vodovodní řady \"SP\" PE D 160x14,6 mm:",null,0,null,null,null,null,null,null,null,"Vodovodní řady \"SP\" PE D 160x14,6 mm:"]
[null,null,"AŠ1 + RŠ:2*0,25",null,0.5,null,null,null,null,null,null,null,"AŠ1 + RŠ:2*0,25"]
[null,null,"AŠ2 + RŠ:2*0,25",null,0.5,null,null,null,null,null,null,null,"AŠ2 + RŠ:2*0,25"]
[68,"970054250R00","Příp. za jádr. vrt. vodor. ve stěně ŽB do D 250 mm ","m",1,null,{"$f":"E396*F396","v":0},2.0000000000000002E-5,{"$f":"E396*H396","v":2.0000000000000002E-5},0,{"$f":"E396*J396","v":0},null,null,null,2,null,null,null,null,null,null,null,null,null,null,null,1,1,1,null,null,null,null,null,null,null,null,null,null,null,null,null,null,null,null,null,null,null,null,null,null,1,{"$f":"IF(AZ396=1,G396,0)","v":0},{"$f":"IF(AZ396=2,G396,0)","v":0},{"$f":"IF(AZ396=3,G396,0)","v":0},{"$f":"IF(AZ396=4,G396,0)","v":0},{"$f":"IF(AZ396=5,G396,0)","v":0},null,null,null,null,null,null,null,null,null,null,null,null,null,null,null,null,null,null,null,null,null,1,1]
[null,null,"Vodovodní řady \"SP\" PE D 160x14,6 mm:",null,0,null,null,null,null,null,null,null,"Vodovodní řady \"SP\" PE D 160x14,6 mm:"]
[null,null,"AŠ1:2*0,25",null,0.5,null,null,null,null,null,null,null,"AŠ1:2*0,25"]
[null,null,"AŠ2:2*0,25",null,0.5,null,null,null,null,null,null,null,"AŠ2:2*0,25"]
[69,"970054300R00","Příp. za jádr. vrt. vodor. ve stěně ŽB do D 300 mm ","m",1,null,{"$f":"E400*F400","v":0},2.0000000000000002E-5,{"$f":"E400*H400","v":2.0000000000000002E-5},0,{"$f":"E400*J400","v":0},null,null,null,2,null,null,null,null,null,null,null,null,null,null,null,1,1,1,null,null,null,null,null,null,null,null,null,null,null,null,null,null,null,null,null,null,null,null,null,null,1,{"$f":"IF(AZ400=1,G400,0)","v":0},{"$f":"IF(AZ400=2,G400,0)","v":0},{"$f":"IF(AZ400=3,G400,0)","v":0},{"$f":"IF(AZ400=4,G400,0)","v":0},{"$f":"IF(AZ400=5,G400,0)","v":0},null,null,null,null,null,null,null,null,null,null,null,null,null,null,null,null,null,null,null,null,null,1,1]
[null,null,"Vodovodní řady \"SP\" PE D 160x14,6 mm:",null,0,null,null,null,null,null,null,null,"Vodovodní řady \"SP\" PE D 160x14,6 mm:"]
[null,null,"AŠ1:2*0,25",null,0.5,null,null,null,null,null,null,null,"AŠ1:2*0,25"]
[null,null,"AŠ2:2*0,25",null,0.5,null,null,null,null,null,null,null,"AŠ2:2*0,25"]
[null,"Celkem za","97 Prorážení otvorů",null,null,null,{"$f":"SUM(G379:G403)","v":0},null,{"$f":"SUM(I379:I403)","v":6.0000000000000008E-5},null,{"$f":"SUM(K379:K403)","v":-0.37779000000000001},null,null,null,4,null,null,null,null,null,null,null,null,null,null,null,null,null,null,null,null,null,null,null,null,null,null,null,null,null,null,null,null,null,null,null,null,null,null,null,null,null,{"$f":"SUM(BA379:BA403)","v":0},{"$f":"SUM(BB379:BB403)","v":0},{"$f":"SUM(BC379:BC403)","v":0},{"$f":"SUM(BD379:BD403)","v":0},{"$f":"SUM(BE379:BE403)","v":0}]
["Díl:","99","Staveništní přesun hmot",null,null,null,null,null,null,null,null,null,null,null,1]
[70,"998276101RXX","Přesun hmot, trubní vedení plastová, otevř. výkop pro celý rozsah objektu","t",410.124550758,null,{"$f":"E406*F406","v":0},0,{"$f":"E406*H406","v":0},null,{"$f":"E406*J406","v":0},null,null,null,2,null,null,null,null,null,null,null,null,null,null,null,7,1,2,null,null,null,null,null,null,null,null,null,null,null,null,null,null,null,null,null,null,null,null,null,null,1,{"$f":"IF(AZ406=1,G406,0)","v":0},{"$f":"IF(AZ406=2,G406,0)","v":0},{"$f":"IF(AZ406=3,G406,0)","v":0},{"$f":"IF(AZ406=4,G406,0)","v":0},{"$f":"IF(AZ406=5,G406,0)","v":0},null,null,null,null,null,null,null,null,null,null,null,null,null,null,null,null,null,null,null,null,null,7,1]
[null,null,"Staveništní doprava pro celý rozsah objektu - doprava zmeziskládek vybudovaného zařízení staveniště zhotovitele na jednotlivé části staveniště.",null,null,null,null,null,null,null,null,"Staveništní doprava pro celý rozsah objektu - doprava zmeziskládek vybudovaného zařízení staveniště zhotovitele na jednotlivé části staveniště.",null,null,3]
[null,"Celkem za","99 Staveništní přesun hmot",null,null,null,{"$f":"SUM(G405:G407)","v":0},null,{"$f":"SUM(I405:I407)","v":0},null,{"$f":"SUM(K405:K407)","v":0},null,null,null,4,null,null,null,null,null,null,null,null,null,null,null,null,null,null,null,null,null,null,null,null,null,null,null,null,null,null,null,null,null,null,null,null,null,null,null,null,null,{"$f":"SUM(BA405:BA407)","v":0},{"$f":"SUM(BB405:BB407)","v":0},{"$f":"SUM(BC405:BC407)","v":0},{"$f":"SUM(BD405:BD407)","v":0},{"$f":"SUM(BE405:BE407)","v":0}]

{"sheet":"307 3542307.2 KL","index":65,"n_rows":45,"n_cols":8,"rows_kept":45,"cut":false,"hidden":false,"merged":[[50,1,50,6],[29,5,29,6],[30,5,30,6],[31,5,31,6],[32,5,32,6],[33,5,33,6],[36,1,44,6],[45,1,45,6],[46,1,46,6],[47,1,47,6],[48,1,48,6],[49,1,49,6],[22,0,22,1],[7,2,7,4],[8,2,8,4],[9,2,9,4],[10,2,10,4],[11,2,11,4]]}
["POLOŽKOVÝ ROZPOČET"]
["Rozpočet",null,"3542/307.2","Odpad z PK",null,"JKSO ","827.13"]
[]
["Objekt",null,null,null,null,"SKP "]
["307",null,"Oprava vodovodního řadu SP ul. Nad Špejcharem",null,null,"Měrná jednotka","m"]
["Stavba",null,null,null,null,"Počet jednotek",0]
["3542",null,"Semily - Obnova VH infrastruktury a komunikací",null,null,"Náklady na m.j.",{"$f":"IF(G6=0,,ROUND((F30+F32)/G6,1))","v":0}]
["Projektant",null,null,null,null,"Typ rozpočtu"]
["Zpracovatel projektu"]
["Objednatel",null,"Vodohospodářské sdružení Turnov"]
["Dodavatel",null,".",null,null,"Zakázkové číslo "]
["Rozpočtoval",null,null,null,null,"Počet listů"]
["ROZPOČTOVÉ NÁKLADY"]
["Základní rozpočtové náklady"]
[null,"HSV celkem",{"$f":"'307 3542307.2 Rek'!E14","v":0}]
["Z","PSV celkem",{"$f":"'307 3542307.2 Rek'!F14","v":0}]
["R","M práce celkem",{"$f":"'307 3542307.2 Rek'!H14","v":0}]
["N","M dodávky celkem",{"$f":"'307 3542307.2 Rek'!G14","v":0}]
["ZRN celkem",null,{"$f":"SUM(C15:C18)","v":0}]
[]
["HZS",null,{"$f":"'307 3542307.2 Rek'!I14","v":0}]
["ZRN+HZS",null,{"$f":"C19+C21","v":0}]
["ZRN+ost.náklady+HZS",null,{"$f":"C22+G23","v":0}]
["Vypracoval",null,null,"Za zhotovitele",null,"Za objednatele"]
["Jméno :",null,null,"Jméno :",null,"Jméno :"]
["Datum :",null,null,"Datum :",null,"Datum :"]
[]
["Podpis :",null,null,"Podpis:",null,"Podpis:"]
[]
["Základ pro DPH",null,21,"%  ",null,{"$f":"C23-F32","v":0}]
["DPH",null,{"$f":"C30","v":21},"% ",null,{"$f":"ROUND(PRODUCT(F30,C31/100),0)","v":0}]
["Základ pro DPH",null,0,"% ",null,0]
["DPH",null,{"$f":"C32","v":0},"% ",null,{"$f":"ROUND(PRODUCT(F32,C33/100),0)","v":0}]
["CENA ZA OBJEKT CELKEM",null,null,null,null,{"$f":"ROUND(SUM(F30:F33),0)","v":0}]
[]
["Poznámka :",null,null,null,null,null,null," "]
[null,null,null,null,null,null,null," "]
[null,null,null,null,null,null,null," "]
[null,null,null,null,null,null,null," "]
[null,null,null,null,null,null,null," "]
[null,null,null,null,null,null,null," "]
[null,null,null,null,null,null,null," "]
[null,null,null,null,null,null,null," "]
[null,null,null,null,null,null,null," "]
[null,null,null,null,null,null,null," "]

{"sheet":"307 3542307.2 Rek","index":66,"n_rows":14,"n_cols":9,"rows_kept":14,"cut":false,"hidden":false,"merged":[[0,0,0,1],[1,0,1,1],[1,6,1,8]]}
["Stavba :",null,"3542 Semily - Obnova VH infrastruktury a komunikací",null,null,null,"Rozpočet :","3542/307.2"]
["Objekt :",null,"307 Oprava vodovodního řadu SP ul. Nad Špejcharem",null,null,null,"Odpad z PK"]
[]
["REKAPITULACE  STAVEBNÍCH  DÍLŮ"]
[]
[null,"Stavební díl",null,null,"HSV","PSV","Dodávka","Montáž","HZS"]
[{"$f":"'307 3542307.2 Pol'!B7","v":"1"},{"$f":"'307 3542307.2 Pol'!C7","v":"Zemní práce"},null,null,{"$f":"'307 3542307.2 Pol'!BA69","v":0},{"$f":"'307 3542307.2 Pol'!BB69","v":0},{"$f":"'307 3542307.2 Pol'!BC69","v":0},{"$f":"'307 3542307.2 Pol'!BD69","v":0},{"$f":"'307 3542307.2 Pol'!BE69","v":0}]
[{"$f":"'307 3542307.2 Pol'!B70","v":"21"},{"$f":"'307 3542307.2 Pol'!C70","v":"Úprava podloží a základ.spáry"},null,null,{"$f":"'307 3542307.2 Pol'!BA75","v":0},{"$f":"'307 3542307.2 Pol'!BB75","v":0},{"$f":"'307 3542307.2 Pol'!BC75","v":0},{"$f":"'307 3542307.2 Pol'!BD75","v":0},{"$f":"'307 3542307.2 Pol'!BE75","v":0}]
[{"$f":"'307 3542307.2 Pol'!B76","v":"45"},{"$f":"'307 3542307.2 Pol'!C76","v":"Podkladní a vedlejší konstrukce"},null,null,{"$f":"'307 3542307.2 Pol'!BA79","v":0},{"$f":"'307 3542307.2 Pol'!BB79","v":0},{"$f":"'307 3542307.2 Pol'!BC79","v":0},{"$f":"'307 3542307.2 Pol'!BD79","v":0},{"$f":"'307 3542307.2 Pol'!BE79","v":0}]
[{"$f":"'307 3542307.2 Pol'!B80","v":"5"},{"$f":"'307 3542307.2 Pol'!C80","v":"Komunikace"},null,null,{"$f":"'307 3542307.2 Pol'!BA84","v":0},{"$f":"'307 3542307.2 Pol'!BB84","v":0},{"$f":"'307 3542307.2 Pol'!BC84","v":0},{"$f":"'307 3542307.2 Pol'!BD84","v":0},{"$f":"'307 3542307.2 Pol'!BE84","v":0}]
[{"$f":"'307 3542307.2 Pol'!B85","v":"8"},{"$f":"'307 3542307.2 Pol'!C85","v":"Trubní vedení"},null,null,{"$f":"'307 3542307.2 Pol'!BA104","v":0},{"$f":"'307 3542307.2 Pol'!BB104","v":0},{"$f":"'307 3542307.2 Pol'!BC104","v":0},{"$f":"'307 3542307.2 Pol'!BD104","v":0},{"$f":"'307 3542307.2 Pol'!BE104","v":0}]
[{"$f":"'307 3542307.2 Pol'!B105","v":"93"},{"$f":"'307 3542307.2 Pol'!C105","v":"Dokončovací práce inženýrských staveb"},null,null,{"$f":"'307 3542307.2 Pol'!BA109","v":0},{"$f":"'307 3542307.2 Pol'!BB109","v":0},{"$f":"'307 3542307.2 Pol'!BC109","v":0},{"$f":"'307 3542307.2 Pol'!BD109","v":0},{"$f":"'307 3542307.2 Pol'!BE109","v":0}]
[{"$f":"'307 3542307.2 Pol'!B110","v":"99"},{"$f":"'307 3542307.2 Pol'!C110","v":"Staveništní přesun hmot"},null,null,{"$f":"'307 3542307.2 Pol'!BA113","v":0},{"$f":"'307 3542307.2 Pol'!BB113","v":0},{"$f":"'307 3542307.2 Pol'!BC113","v":0},{"$f":"'307 3542307.2 Pol'!BD113","v":0},{"$f":"'307 3542307.2 Pol'!BE113","v":0}]
[null,"CELKEM  OBJEKT",null,null,{"$f":"SUM(E7:E13)","v":0},{"$f":"SUM(F7:F13)","v":0},{"$f":"SUM(G7:G13)","v":0},{"$f":"SUM(H7:H13)","v":0},{"$f":"SUM(I7:I13)","v":0}]

{"sheet":"307 3542307.2 Pol","index":67,"n_rows":113,"n_cols":80,"rows_kept":113,"cut":false,"hidden":false,"merged":[[111,2,111,6],[98,2,98,3],[100,2,100,6],[101,2,101,6],[102,2,102,3],[106,2,106,3],[107,2,107,3],[93,2,93,6],[94,2,94,3],[96,2,96,3],[77,2,77,3],[81,2,81,3],[82,2,82,3],[86,2,86,3],[88,2,88,6],[90,2,90,6],[91,2,91,6],[92,2,92,6],[66,2,66,3],[67,2,67,3],[71,2,71,3],[72,2,72,3],[73,2,73,3],[64,2,64,3],[50,2,50,6],[51,2,51,3],[52,2,52,3],[53,2,53,3],[54,2,54,3],[55,2,55,3],[56,2,56,3],[58,2,58,3],[60,2,60,3],[61,2,61,3],[62,2,62,3],[49,2,49,6],[34,2,34,3],[35,2,35,3],[37,2,37,3],[38,2,38,3],[39,2,39,3],[41,2,41,3],[42,2,42,3],[43,2,43,3],[45,2,45,3],[46,2,46,3],[47,2,47,3],[33,2,33,3],[19,2,19,3],[20,2,20,3],[21,2,21,3],[22,2,22,3],[24,2,24,3],[25,2,25,3],[26,2,26,3],[28,2,28,6],[29,2,29,3],[30,2,30,3],[31,2,31,3],[18,2,18,3],[0,0,0,6],[2,0,2,1],[3,0,3,1],[3,4,3,6],[8,2,8,6],[9,2,9,6],[10,2,10,3],[11,2,11,3],[12,2,12,3],[14,2,14,6],[15,2,15,3],[16,2,16,3],[17,2,17,3]]}
["Položkový rozpočet "]
[]
["Stavba :",null,"3542 Semily - Obnova VH infrastruktury a komunikací",null,"Rozpočet:",{"$f":"'307 3542307.2 Rek'!H1","v":"3542/307.2"}]
["Objekt :",null,"307 Oprava vodovodního řadu SP ul. Nad Špejcharem",null,{"$f":"'307 3542307.2 Rek'!G2","v":"Odpad z PK"}]
[]
["P.č.","Číslo položky","Název položky","MJ","množství","cena / MJ","celkem (Kč)","Jednotková hmotnost","Celková hmotnost","Jednotková dem.hmot.","Celková dem.hmot."]
["Díl:","1","Zemní práce",null,null,null,null,null,null,null,null,null,null,null,1]
[1,"130001101RRX","Příplatek za ztížené hloubení v blízkosti vedení ","m3",10.08,null,{"$f":"E8*F8","v":0},0,{"$f":"E8*H8","v":0},0,{"$f":"E8*J8","v":0},null,null,null,2,null,null,null,null,null,null,null,null,null,null,null,1,1,1,null,null,null,null,null,null,null,null,null,null,null,null,null,null,null,null,null,null,null,null,null,null,1,{"$f":"IF(AZ8=1,G8,0)","v":0},{"$f":"IF(AZ8=2,G8,0)","v":0},{"$f":"IF(AZ8=3,G8,0)","v":0},{"$f":"IF(AZ8=4,G8,0)","v":0},{"$f":"IF(AZ8=5,G8,0)","v":0},null,null,null,null,null,null,null,null,null,null,null,null,null,null,null,null,null,null,null,null,null,1,1]
[null,null,"Včetně případných nutných dokopávek a ručního výkopu podél sousedících inženýrských sítí.",null,null,null,null,null,null,null,null,"Včetně případných nutných dokopávek a ručního výkopu podél sousedících inženýrských sítí.",null,null,3]
[null,null,"Součástí položky je i dočasné zajištění stávajících inženýrských sítí v prostoru výkopů (potrubí, kabely a pod.)",null,null,null,null,null,null,null,null,"Součástí položky je i dočasné zajištění stávajících inženýrských sítí v prostoru výkopů (potrubí, kabely a pod.)",null,null,3]
[null,null,"Odpad z PK PVC DN300:",null,0,null,null,null,null,null,null,null,"Odpad z PK PVC DN300:"]
[null,null,"Výkopy:",null,0,null,null,null,null,null,null,null,"Výkopy:"]
[null,null,"V hornině tř. 3 - 4 - 50%:20,1600*0,5",null,10.08,null,null,null,null,null,null,null,"V hornině tř. 3 - 4 - 50%:20,1600*0,5"]
[2,"132201210R00","Hloubení rýh š.do 200 cm hor.3 do 50 m3,STROJNĚ ","m3",10.08,null,{"$f":"E14*F14","v":0},0,{"$f":"E14*H14","v":0},0,{"$f":"E14*J14","v":0},null,null,null,2,null,null,null,null,null,null,null,null,null,null,null,1,1,1,null,null,null,null,null,null,null,null,null,null,null,null,null,null,null,null,null,null,null,null,null,null,1,{"$f":"IF(AZ14=1,G14,0)","v":0},{"$f":"IF(AZ14=2,G14,0)","v":0},{"$f":"IF(AZ14=3,G14,0)","v":0},{"$f":"IF(AZ14=4,G14,0)","v":0},{"$f":"IF(AZ14=5,G14,0)","v":0},null,null,null,null,null,null,null,null,null,null,null,null,null,null,null,null,null,null,null,null,null,1,1]
[null,null,"Položka obsahuje hloubení rýh traktorbagrem, naložení výkopku na dopravní prostředek pro svislé, nebo vodorovné přemístění, popř. přemístění výkopku do 3 m (po povrchu území), případné zajištění rypadel polštáři, udržování pracoviště a ochranu výkopiště proti stékání srážkové vody z okolního terénu i s jejím odvodněním, nebo odvedením, přesekání a odstranění kořenů ve výkopišti, odstranění napadávek, urovnání dna výkopu.",null,null,null,null,null,null,null,null,"Položka obsahuje hloubení rýh traktorbagrem, naložení výkopku na dopravní prostředek pro svislé, nebo vodorovné přemístění, popř. přemístění výkopku do 3 m (po povrchu území), případné zajištění rypadel polštáři, udržování pracoviště a ochranu výkopiště proti stékání srážkové vody z okolního terénu i s jejím odvodněním, nebo odvedením, přesekání a odstranění kořenů ve výkopišti, odstranění napadávek, urovnání dna výkopu.",null,null,3]
[null,null,"Odpad z PK PVC DN300:",null,0,null,null,null,null,null,null,null,"Odpad z PK PVC DN300:"]
[null,null,"Výkopy:",null,0,null,null,null,null,null,null,null,"Výkopy:"]
[null,null,"Začátek provozního součtu",null,0,null,null,null,null,null,null,null,"Začátek provozního součtu"]
[null,null,"Odpad z PK PVC DN300:8,00*1,20*(2,60+2,40)/2",null,24,null,null,null,null,null,null,null,"Odpad z PK PVC DN300:8,00*1,20*(2,60+2,40)/2"]
[null,null,"Odpočet objemu konstrukce komunikací a chodníků:",null,0,null,null,null,null,null,null,null,"Odpočet objemu konstrukce komunikací a chodníků:"]
[null,null,"Odpad z PK PVC DN300:-8,00*1,20*0,40",null,-3.84,null,null,null,null,null,null,null,"Odpad z PK PVC DN300:-8,00*1,20*0,40"]
[null,null,"Konec provozního součtu",null,20.16,null,null,null,null,null,null,null,"Konec provozního součtu"]
[null,null,"V hornině tř. 3 - 50%:20,1600*0,5",null,10.08,null,null,null,null,null,null,null,"V hornině tř. 3 - 50%:20,1600*0,5"]
[3,"132201219R00","Přípl.za lepivost,hloubení rýh 200cm,hor.3,STROJNĚ ","m3",5.04,null,{"$f":"E24*F24","v":0},0,{"$f":"E24*H24","v":0},0,{"$f":"E24*J24","v":0},null,null,null,2,null,null,null,null,null,null,null,null,null,null,null,1,1,1,null,null,null,null,null,null,null,null,null,null,null,null,null,null,null,null,null,null,null,null,null,null,1,{"$f":"IF(AZ24=1,G24,0)","v":0},{"$f":"IF(AZ24=2,G24,0)","v":0},{"$f":"IF(AZ24=3,G24,0)","v":0},{"$f":"IF(AZ24=4,G24,0)","v":0},{"$f":"IF(AZ24=5,G24,0)","v":0},null,null,null,null,null,null,null,null,null,null,null,null,null,null,null,null,null,null,null,null,null,1,1]
[null,null,"Odpad z PK PVC DN300:",null,0,null,null,null,null,null,null,null,"Odpad z PK PVC DN300:"]
[null,null,"Výkopy:",null,0,null,null,null,null,null,null,null,"Výkopy:"]
[null,null,"V hornině tř. 3 - 50%:20,1600*0,5*0,5",null,5.04,null,null,null,null,null,null,null,"V hornině tř. 3 - 50%:20,1600*0,5*0,5"]
[4,"132301210R00","Hloubení rýh š.do 200 cm hor.4 do 50 m3, STROJNĚ ","m3",10.08,null,{"$f":"E28*F28","v":0},0,{"$f":"E28*H28","v":0},0,{"$f":"E28*J28","v":0},null,null,null,2,null,null,null,null,null,null,null,null,null,null,null,1,1,1,null,null,null,null,null,null,null,null,null,null,null,null,null,null,null,null,null,null,null,null,null,null,1,{"$f":"IF(AZ28=1,G28,0)","v":0},{"$f":"IF(AZ28=2,G28,0)","v":0},{"$f":"IF(AZ28=3,G28,0)","v":0},{"$f":"IF(AZ28=4,G28,0)","v":0},{"$f":"IF(AZ28=5,G28,0)","v":0},null,null,null,null,null,null,null,null,null,null,null,null,null,null,null,null,null,null,null,null,null,1,1]
[null,null,"Položka obsahuje hloubení rýh traktorbagrem, naložení výkopku na dopravní prostředek pro svislé, nebo vodorovné přemístění, popř. přemístění výkopku do 3 m (po povrchu území), případné zajištění rypadel polštáři, udržování pracoviště a ochranu výkopiště proti stékání srážkové vody z okolního terénu i s jejím odvodněním, nebo odvedením, přesekání a odstranění kořenů ve výkopišti, odstranění napadávek, urovnání dna výkopu.",null,null,null,null,null,null,null,null,"Položka obsahuje hloubení rýh traktorbagrem, naložení výkopku na dopravní prostředek pro svislé, nebo vodorovné přemístění, popř. přemístění výkopku do 3 m (po povrchu území), případné zajištění rypadel polštáři, udržování pracoviště a ochranu výkopiště proti stékání srážkové vody z okolního terénu i s jejím odvodněním, nebo odvedením, přesekání a odstranění kořenů ve výkopišti, odstranění napadávek, urovnání dna výkopu.",null,null,3]
[null,null,"Odpad z PK PVC DN300:",null,0,null,null,null,null,null,null,null,"Odpad z PK PVC DN300:"]
[null,null,"Výkopy:",null,0,null,null,null,null,null,null,null,"Výkopy:"]
[null,null,"V hornině tř. 4 - 50%:20,1600*0,5",null,10.08,null,null,null,null,null,null,null,"V hornině tř. 4 - 50%:20,1600*0,5"]
[5,"132301219R00","Přípl.za lepivost,hloubení rýh 200cm,hor.4,STROJNĚ ","m3",5.04,null,{"$f":"E33*F33","v":0},0,{"$f":"E33*H33","v":0},0,{"$f":"E33*J33","v":0},null,null,null,2,null,null,null,null,null,null,null,null,null,null,null,1,1,1,null,null,null,null,null,null,null,null,null,null,null,null,null,null,null,null,null,null,null,null,null,null,1,{"$f":"IF(AZ33=1,G33,0)","v":0},{"$f":"IF(AZ33=2,G33,0)","v":0},{"$f":"IF(AZ33=3,G33,0)","v":0},{"$f":"IF(AZ33=4,G33,0)","v":0},{"$f":"IF(AZ33=5,G33,0)","v":0},null,null,null,null,null,null,null,null,null,null,null,null,null,null,null,null,null,null,null,null,null,1,1]
[null,null,"Odpad z PK PVC DN300:",null,0,null,null,null,null,null,null,null,"Odpad z PK PVC DN300:"]
[null,null,"Výkopy:",null,0,null,null,null,null,null,null,null,"Výkopy:"]
[null,null,"V hornině tř. 4 - 50%:20,1600*0,5*0,5",null,5.04,null,null,null,null,null,null,null,"V hornině tř. 4 - 50%:20,1600*0,5*0,5"]
[6,"151101102R00","Pažení a rozepření stěn rýh - příložné - hl.do 4 m ","m2",40,null,{"$f":"E37*F37","v":0},8.5999999999999998E-4,{"$f":"E37*H37","v":3.44E-2},0,{"$f":"E37*J37","v":0},null,null,null,2,null,null,null,null,null,null,null,null,null,null,null,1,1,1,null,null,null,null,null,null,null,null,null,null,null,null,null,null,null,null,null,null,null,null,null,null,1,{"$f":"IF(AZ37=1,G37,0)","v":0},{"$f":"IF(AZ37=2,G37,0)","v":0},{"$f":"IF(AZ37=3,G37,0)","v":0},{"$f":"IF(AZ37=4,G37,0)","v":0},{"$f":"IF(AZ37=5,G37,0)","v":0},null,null,null,null,null,null,null,null,null,null,null,null,null,null,null,null,null,null,null,null,null,1,1]
[null,null,"Odpad z PK PVC DN300:",null,0,null,null,null,null,null,null,null,"Odpad z PK PVC DN300:"]
[null,null,"Výkopy:",null,0,null,null,null,null,null,null,null,"Výkopy:"]
[null,null,"Odpad z PK PVC DN300:8,00*(2,60+2,40)/2*2",null,40,null,null,null,null,null,null,null,"Odpad z PK PVC DN300:8,00*(2,60+2,40)/2*2"]
[7,"151101112R00","Odstranění pažení stěn rýh - příložné - hl. do 4 m ","m2",40,null,{"$f":"E41*F41","v":0},0,{"$f":"E41*H41","v":0},0,{"$f":"E41*J41","v":0},null,null,null,2,null,null,null,null,null,null,null,null,null,null,null,1,1,1,null,null,null,null,null,null,null,null,null,null,null,null,null,null,null,null,null,null,null,null,null,null,1,{"$f":"IF(AZ41=1,G41,0)","v":0},{"$f":"IF(AZ41=2,G41,0)","v":0},{"$f":"IF(AZ41=3,G41,0)","v":0},{"$f":"IF(AZ41=4,G41,0)","v":0},{"$f":"IF(AZ41=5,G41,0)","v":0},null,null,null,null,null,null,null,null,null,null,null,null,null,null,null,null,null,null,null,null,null,1,1]
[null,null,"Odpad z PK PVC DN300:",null,0,null,null,null,null,null,null,null,"Odpad z PK PVC DN300:"]
[null,null,"Výkopy:",null,0,null,null,null,null,null,null,null,"Výkopy:"]
[null,null,"Odpad z PK PVC DN300:8,00*(2,60+2,40)/2*2",null,40,null,null,null,null,null,null,null,"Odpad z PK PVC DN300:8,00*(2,60+2,40)/2*2"]
[8,"162701105RSZ","Vodorovné přemístění výkopku z hor.1-7 na skládku zhotovitele","m3",20.16,null,{"$f":"E45*F45","v":0},0,{"$f":"E45*H45","v":0},0,{"$f":"E45*J45","v":0},null,null,null,2,null,null,null,null,null,null,null,null,null,null,null,1,1,1,null,null,null,null,null,null,null,null,null,null,null,null,null,null,null,null,null,null,null,null,null,null,1,{"$f":"IF(AZ45=1,G45,0)","v":0},{"$f":"IF(AZ45=2,G45,0)","v":0},{"$f":"IF(AZ45=3,G45,0)","v":0},{"$f":"IF(AZ45=4,G45,0)","v":0},{"$f":"IF(AZ45=5,G45,0)","v":0},null,null,null,null,null,null,null,null,null,null,null,null,null,null,null,null,null,null,null,null,null,1,1]
[null,null,"Odpad z PK PVC DN300:",null,0,null,null,null,null,null,null,null,"Odpad z PK PVC DN300:"]
[null,null,"Výkopy:",null,0,null,null,null,null,null,null,null,"Výkopy:"]
[null,null,"V hornině tř. 3 - 4 :20,1600",null,20.16,null,null,null,null,null,null,null,"V hornině tř. 3 - 4 :20,1600"]
[9,"174101101R00","Zásyp jam, rýh, šachet se zhutněním ","m3",12.96,null,{"$f":"E49*F49","v":0},0,{"$f":"E49*H49","v":0},0,{"$f":"E49*J49","v":0},null,null,null,2,null,null,null,null,null,null,null,null,null,null,null,1,1,1,null,null,null,null,null,null,null,null,null,null,null,null,null,null,null,null,null,null,null,null,null,null,1,{"$f":"IF(AZ49=1,G49,0)","v":0},{"$f":"IF(AZ49=2,G49,0)","v":0},{"$f":"IF(AZ49=3,G49,0)","v":0},{"$f":"IF(AZ49=4,G49,0)","v":0},{"$f":"IF(AZ49=5,G49,0)","v":0},null,null,null,null,null,null,null,null,null,null,null,null,null,null,null,null,null,null,null,null,null,1,1]
[null,null,"Položka obsahuje strojní přemístění materiálu pro zásyp ze vzdálenosti do 10 m od okraje zásypu.",null,null,null,null,null,null,null,null,"Položka obsahuje strojní přemístění materiálu pro zásyp ze vzdálenosti do 10 m od okraje zásypu.",null,null,3]
[null,null,null,null,null,null,null,null,null,null,null,null,null,null,3]
[null,null,"Odpad z PK PVC DN300:",null,0,null,null,null,null,null,null,null,"Odpad z PK PVC DN300:"]
[null,null,"Zásyp ŠD fr. 0-63 mm:12,9600",null,12.96,null,null,null,null,null,null,null,"Zásyp ŠD fr. 0-63 mm:12,9600"]
[null,null,"Začátek provozního součtu",null,0,null,null,null,null,null,null,null,"Začátek provozního součtu"]
[null,null,"Výkopy:20,1600",null,20.16,null,null,null,null,null,null,null,"Výkopy:20,1600"]
[null,null,"Odpočet lože, potrubí a obsypů:-8,00*1,20*(0,15+0,30+0,30)",null,-7.2,null,null,null,null,null,null,null,"Odpočet lože, potrubí a obsypů:-8,00*1,20*(0,15+0,30+0,30)"]
[null,null,"Konec provozního součtu",null,12.96,null,null,null,null,null,null,null,"Konec provozního součtu"]
[10,"175101101R00","Obsyp potrubí bez prohození sypaniny ","m3",6.6345000000000001,null,{"$f":"E58*F58","v":0},0,{"$f":"E58*H58","v":0},0,{"$f":"E58*J58","v":0},null,null,null,2,null,null,null,null,null,null,null,null,null,null,null,1,1,1,null,null,null,null,null,null,null,null,null,null,null,null,null,null,null,null,null,null,null,null,null,null,1,{"$f":"IF(AZ58=1,G58,0)","v":0},{"$f":"IF(AZ58=2,G58,0)","v":0},{"$f":"IF(AZ58=3,G58,0)","v":0},{"$f":"IF(AZ58=4,G58,0)","v":0},{"$f":"IF(AZ58=5,G58,0)","v":0},null,null,null,null,null,null,null,null,null,null,null,null,null,null,null,null,null,null,null,null,null,1,1]
[null,null,"Odpad z PK PVC DN300:8,00*(1,20*(0,15+0,30+0,30)-0,15^2*Pi)",null,6.6345000000000001,null,null,null,null,null,null,null,"Odpad z PK PVC DN300:8,00*(1,20*(0,15+0,30+0,30)-0,15^2*Pi)"]
[11,"199000002R00","Poplatek za skládku horniny 1- 7 č. dle katal. odpadů 17 05 04","m3",20.16,null,{"$f":"E60*F60","v":0},0,{"$f":"E60*H60","v":0},0,{"$f":"E60*J60","v":0},null,null,null,2,null,null,null,null,null,null,null,null,null,null,null,1,1,1,null,null,null,null,null,null,null,null,null,null,null,null,null,null,null,null,null,null,null,null,null,null,1,{"$f":"IF(AZ60=1,G60,0)","v":0},{"$f":"IF(AZ60=2,G60,0)","v":0},{"$f":"IF(AZ60=3,G60,0)","v":0},{"$f":"IF(AZ60=4,G60,0)","v":0},{"$f":"IF(AZ60=5,G60,0)","v":0},null,null,null,null,null,null,null,null,null,null,null,null,null,null,null,null,null,null,null,null,null,1,1]
[null,null,"Odpad z PK PVC DN300:",null,0,null,null,null,null,null,null,null,"Odpad z PK PVC DN300:"]
[null,null,"Výkopy:",null,0,null,null,null,null,null,null,null,"Výkopy:"]
[null,null,"V hornině tř. 3 - 4 :20,1600",null,20.16,null,null,null,null,null,null,null,"V hornině tř. 3 - 4 :20,1600"]
[12,"58337308.R","Štěrkopísek frakce 0-2 tř.B","t",13.220800000000001,null,{"$f":"E64*F64","v":0},1,{"$f":"E64*H64","v":13.220800000000001},null,{"$f":"E64*J64","v":0},null,null,null,2,null,null,null,null,null,null,null,null,null,null,null,3,1,"58337308.R",null,null,null,null,null,null,null,null,null,null,null,null,null,null,null,null,null,null,null,null,null,null,1,{"$f":"IF(AZ64=1,G64,0)","v":0},{"$f":"IF(AZ64=2,G64,0)","v":0},{"$f":"IF(AZ64=3,G64,0)","v":0},{"$f":"IF(AZ64=4,G64,0)","v":0},{"$f":"IF(AZ64=5,G64,0)","v":0},null,null,null,null,null,null,null,null,null,null,null,null,null,null,null,null,null,null,null,null,null,3,1]
[null,null,"Odpad z PK PVC DN300:8,00*(1,20*(0,15+0,30+0,30)-0,15^2*Pi)*1,973*1,01",null,13.220800000000001,null,null,null,null,null,null,null,"Odpad z PK PVC DN300:8,00*(1,20*(0,15+0,30+0,30)-0,15^2*Pi)*1,973*1,01"]
[13,"58344197R","Štěrkodrtě frakce 0-63 A","t",24.5168,null,{"$f":"E66*F66","v":0},1,{"$f":"E66*H66","v":24.5168},null,{"$f":"E66*J66","v":0},null,null,null,2,null,null,null,null,null,null,null,null,null,null,null,3,1,"58344197R",null,null,null,null,null,null,null,null,null,null,null,null,null,null,null,null,null,null,null,null,null,null,1,{"$f":"IF(AZ66=1,G66,0)","v":0},{"$f":"IF(AZ66=2,G66,0)","v":0},{"$f":"IF(AZ66=3,G66,0)","v":0},{"$f":"IF(AZ66=4,G66,0)","v":0},{"$f":"IF(AZ66=5,G66,0)","v":0},null,null,null,null,null,null,null,null,null,null,null,null,null,null,null,null,null,null,null,null,null,3,1]
[null,null,"Odpad z PK PVC DN300:",null,0,null,null,null,null,null,null,null,"Odpad z PK PVC DN300:"]
[null,null,"Zásyp ŠD fr. 0-63 mm:12,9600*1,873*1,01",null,24.5168,null,null,null,null,null,null,null,"Zásyp ŠD fr. 0-63 mm:12,9600*1,873*1,01"]
[null,"Celkem za","1 Zemní práce",null,null,null,{"$f":"SUM(G7:G68)","v":0},null,{"$f":"SUM(I7:I68)","v":37.771999999999998},null,{"$f":"SUM(K7:K68)","v":0},null,null,null,4,null,null,null,null,null,null,null,null,null,null,null,null,null,null,null,null,null,null,null,null,null,null,null,null,null,null,null,null,null,null,null,null,null,null,null,null,null,{"$f":"SUM(BA7:BA68)","v":0},{"$f":"SUM(BB7:BB68)","v":0},{"$f":"SUM(BC7:BC68)","v":0},{"$f":"SUM(BD7:BD68)","v":0},{"$f":"SUM(BE7:BE68)","v":0}]
["Díl:","21","Úprava podloží a základ.spáry",null,null,null,null,null,null,null,null,null,null,null,1]
[14,"215901101RT5","Zhutnění podloží do 92% PS vibrační deskou","m2",9.6,null,{"$f":"E71*F71","v":0},0,{"$f":"E71*H71","v":0},0,{"$f":"E71*J71","v":0},null,null,null,2,null,null,null,null,null,null,null,null,null,null,null,1,1,1,null,null,null,null,null,null,null,null,null,null,null,null,null,null,null,null,null,null,null,null,null,null,1,{"$f":"IF(AZ71=1,G71,0)","v":0},{"$f":"IF(AZ71=2,G71,0)","v":0},{"$f":"IF(AZ71=3,G71,0)","v":0},{"$f":"IF(AZ71=4,G71,0)","v":0},{"$f":"IF(AZ71=5,G71,0)","v":0},null,null,null,null,null,null,null,null,null,null,null,null,null,null,null,null,null,null,null,null,null,1,1]
[null,null,"Odpad z PK PVC DN300:",null,0,null,null,null,null,null,null,null,"Odpad z PK PVC DN300:"]
[null,null,"Výkopy:",null,0,null,null,null,null,null,null,null,"Výkopy:"]
[null,null,"Odpad z PK PVC DN300:8,00*1,20",null,9.6,null,null,null,null,null,null,null,"Odpad z PK PVC DN300:8,00*1,20"]
[null,"Celkem za","21 Úprava podloží a základ.spáry",null,null,null,{"$f":"SUM(G70:G74)","v":0},null,{"$f":"SUM(I70:I74)","v":0},null,{"$f":"SUM(K70:K74)","v":0},null,null,null,4,null,null,null,null,null,null,null,null,null,null,null,null,null,null,null,null,null,null,null,null,null,null,null,null,null,null,null,null,null,null,null,null,null,null,null,null,null,{"$f":"SUM(BA70:BA74)","v":0},{"$f":"SUM(BB70:BB74)","v":0},{"$f":"SUM(BC70:BC74)","v":0},{"$f":"SUM(BD70:BD74)","v":0},{"$f":"SUM(BE70:BE74)","v":0}]
["Díl:","45","Podkladní a vedlejší konstrukce",null,null,null,null,null,null,null,null,null,null,null,1]
[15,"451572111R00","Lože pod potrubí z kameniva těženého 0 - 4 mm ","m3",1.44,null,{"$f":"E77*F77","v":0},0.43051,{"$f":"E77*H77","v":0.6199344},0,{"$f":"E77*J77","v":0},null,null,null,2,null,null,null,null,null,null,null,null,null,null,null,1,1,1,null,null,null,null,null,null,null,null,null,null,null,null,null,null,null,null,null,null,null,null,null,null,1,{"$f":"IF(AZ77=1,G77,0)","v":0},{"$f":"IF(AZ77=2,G77,0)","v":0},{"$f":"IF(AZ77=3,G77,0)","v":0},{"$f":"IF(AZ77=4,G77,0)","v":0},{"$f":"IF(AZ77=5,G77,0)","v":0},null,null,null,null,null,null,null,null,null,null,null,null,null,null,null,null,null,null,null,null,null,1,1]
[null,null,"Odpad z PK PVC DN300:8,00*1,20*0,15",null,1.44,null,null,null,null,null,null,null,"Odpad z PK PVC DN300:8,00*1,20*0,15"]
[null,"Celkem za","45 Podkladní a vedlejší konstrukce",null,null,null,{"$f":"SUM(G76:G78)","v":0},null,{"$f":"SUM(I76:I78)","v":0.6199344},null,{"$f":"SUM(K76:K78)","v":0},null,null,null,4,null,null,null,null,null,null,null,null,null,null,null,null,null,null,null,null,null,null,null,null,null,null,null,null,null,null,null,null,null,null,null,null,null,null,null,null,null,{"$f":"SUM(BA76:BA78)","v":0},{"$f":"SUM(BB76:BB78)","v":0},{"$f":"SUM(BC76:BC78)","v":0},{"$f":"SUM(BD76:BD78)","v":0},{"$f":"SUM(BE76:BE78)","v":0}]
["Díl:","5","Komunikace",null,null,null,null,null,null,null,null,null,null,null,1]
[16,"572701119RRX","Provizorní zásyp rýh kam. hrubě drceným nebo recyk s následným odstraněním a odvozem","m3",3.84,null,{"$f":"E81*F81","v":0},1.4804999999999999,{"$f":"E81*H81","v":5.6851199999999995},0,{"$f":"E81*J81","v":0},null,null,null,2,null,null,null,null,null,null,null,null,null,null,null,1,1,1,null,null,null,null,null,null,null,null,null,null,null,null,null,null,null,null,null,null,null,null,null,null,1,{"$f":"IF(AZ81=1,G81,0)","v":0},{"$f":"IF(AZ81=2,G81,0)","v":0},{"$f":"IF(AZ81=3,G81,0)","v":0},{"$f":"IF(AZ81=4,G81,0)","v":0},{"$f":"IF(AZ81=5,G81,0)","v":0},null,null,null,null,null,null,null,null,null,null,null,null,null,null,null,null,null,null,null,null,null,1,1]
[null,null,"Odpad z PK PVC DN300:",null,0,null,null,null,null,null,null,null,"Odpad z PK PVC DN300:"]
[null,null,"Provizorní zásyp rýh konstrukce komunikací a chodníků:8,00*1,20*0,40",null,3.84,null,null,null,null,null,null,null,"Provizorní zásyp rýh konstrukce komunikací a chodníků:8,00*1,20*0,40"]
[null,"Celkem za","5 Komunikace",null,null,null,{"$f":"SUM(G80:G83)","v":0},null,{"$f":"SUM(I80:I83)","v":5.6851199999999995},null,{"$f":"SUM(K80:K83)","v":0},null,null,null,4,null,null,null,null,null,null,null,null,null,null,null,null,null,null,null,null,null,null,null,null,null,null,null,null,null,null,null,null,null,null,null,null,null,null,null,null,null,{"$f":"SUM(BA80:BA83)","v":0},{"$f":"SUM(BB80:BB83)","v":0},{"$f":"SUM(BC80:BC83)","v":0},{"$f":"SUM(BD80:BD83)","v":0},{"$f":"SUM(BE80:BE83)","v":0}]
["Díl:","8","Trubní vedení",null,null,null,null,null,null,null,null,null,null,null,1]
[17,"871373121R00","Montáž trub z plastu, gumový kroužek, DN 300 ","m",8,null,{"$f":"E86*F86","v":0},1.0000000000000001E-5,{"$f":"E86*H86","v":8.0000000000000007E-5},0,{"$f":"E86*J86","v":0},null,null,null,2,null,null,null,null,null,null,null,null,null,null,null,1,1,1,null,null,null,null,null,null,null,null,null,null,null,null,null,null,null,null,null,null,null,null,null,null,1,{"$f":"IF(AZ86=1,G86,0)","v":0},{"$f":"IF(AZ86=2,G86,0)","v":0},{"$f":"IF(AZ86=3,G86,0)","v":0},{"$f":"IF(AZ86=4,G86,0)","v":0},{"$f":"IF(AZ86=5,G86,0)","v":0},null,null,null,null,null,null,null,null,null,null,null,null,null,null,null,null,null,null,null,null,null,1,1]
[null,null,"Odpad z PK PVC DN300:8,00",null,8,null,null,null,null,null,null,null,"Odpad z PK PVC DN300:8,00"]
[18,"891183448RRX","Propojení potrubí PVC DN300 na stávající RŠ včetně dodávky propojovací tvarovky","kus",2,null,{"$f":"E88*F88","v":0},0.16800000000000001,{"$f":"E88*H88","v":0.33600000000000002},0,{"$f":"E88*J88","v":0},null,null,null,2,null,null,null,null,null,null,null,null,null,null,null,1,1,1,null,null,null,null,null,null,null,null,null,null,null,null,null,null,null,null,null,null,null,null,null,null,1,{"$f":"IF(AZ88=1,G88,0)","v":0},{"$f":"IF(AZ88=2,G88,0)","v":0},{"$f":"IF(AZ88=3,G88,0)","v":0},{"$f":"IF(AZ88=4,G88,0)","v":0},{"$f":"IF(AZ88=5,G88,0)","v":0},null,null,null,null,null,null,null,null,null,null,null,null,null,null,null,null,null,null,null,null,null,1,1]
[null,null,"Položka obsahuje vyříznutí otvoru do dna stávající RŠ včetně potřebné úpravy stávající kynety ve dně šachty, montáž a dodávku příslušné tvarovky pro napropojení nového potrubí se stávající RŠ DN1000.",null,null,null,null,null,null,null,null,"Položka obsahuje vyříznutí otvoru do dna stávající RŠ včetně potřebné úpravy stávající kynety ve dně šachty, montáž a dodávku příslušné tvarovky pro napropojení nového potrubí se stávající RŠ DN1000.",null,null,3]
[19,"892601152R00","Čištění kanalizační stoky do DN 500, do 50 m ","m",16,null,{"$f":"E90*F90","v":0},0,{"$f":"E90*H90","v":0},0,{"$f":"E90*J90","v":0},null,null,null,2,null,null,null,null,null,null,null,null,null,null,null,1,1,1,null,null,null,null,null,null,null,null,null,null,null,null,null,null,null,null,null,null,null,null,null,null,1,{"$f":"IF(AZ90=1,G90,0)","v":0},{"$f":"IF(AZ90=2,G90,0)","v":0},{"$f":"IF(AZ90=3,G90,0)","v":0},{"$f":"IF(AZ90=4,G90,0)","v":0},{"$f":"IF(AZ90=5,G90,0)","v":0},null,null,null,null,null,null,null,null,null,null,null,null,null,null,null,null,null,null,null,null,null,1,1]
[null,null,"V položce je zakalkulováno:",null,null,null,null,null,null,null,null,"V položce je zakalkulováno:",null,null,3]
[null,null,"a) otevření a uzavření revizních šachet a čisticích kusů",null,null,null,null,null,null,null,null,"a) otevření a uzavření revizních šachet a čisticích kusů",null,null,3]
[null,null,"b) natažení vysokotlakých hadic k místu odkud se bude kanalizace čistit",null,null,null,null,null,null,null,null,"b) natažení vysokotlakých hadic k místu odkud se bude kanalizace čistit",null,null,3]
[null,null,"c) vyčištění potrubí tlakovou vodou nebo motorovým pérem.",null,null,null,null,null,null,null,null,"c) vyčištění potrubí tlakovou vodou nebo motorovým pérem.",null,null,3]
[null,null,"Odpad z PK PVC DN300:8,00*2",null,16,null,null,null,null,null,null,null,"Odpad z PK PVC DN300:8,00"]
[20,"892855111R00","Kontrola kanalizace TV kamerou do 15 m ","úsek",2,null,{"$f":"E96*F96","v":0},0,{"$f":"E96*H96","v":0},0,{"$f":"E96*J96","v":0},null,null,null,2,null,null,null,null,null,null,null,null,null,null,null,1,1,1,null,null,null,null,null,null,null,null,null,null,null,null,null,null,null,null,null,null,null,null,null,null,1,{"$f":"IF(AZ96=1,G96,0)","v":0},{"$f":"IF(AZ96=2,G96,0)","v":0},{"$f":"IF(AZ96=3,G96,0)","v":0},{"$f":"IF(AZ96=4,G96,0)","v":0},{"$f":"IF(AZ96=5,G96,0)","v":0},null,null,null,null,null,null,null,null,null,null,null,null,null,null,null,null,null,null,null,null,null,1,1]
[null,null,"Odpad z PK PVC DN300:1*2",null,2,null,null,null,null,null,null,null,"Odpad z PK PVC DN300:1"]
[21,"899711122R00","Fólie výstražná z PVC šedá, šířka 30 cm ","m",8,null,{"$f":"E98*F98","v":0},0,{"$f":"E98*H98","v":0},0,{"$f":"E98*J98","v":0},null,null,null,2,null,null,null,null,null,null,null,null,null,null,null,1,1,1,null,null,null,null,null,null,null,null,null,null,null,null,null,null,null,null,null,null,null,null,null,null,1,{"$f":"IF(AZ98=1,G98,0)","v":0},{"$f":"IF(AZ98=2,G98,0)","v":0},{"$f":"IF(AZ98=3,G98,0)","v":0},{"$f":"IF(AZ98=4,G98,0)","v":0},{"$f":"IF(AZ98=5,G98,0)","v":0},null,null,null,null,null,null,null,null,null,null,null,null,null,null,null,null,null,null,null,null,null,1,1]
[null,null,"Odpad z PK PVC DN300:8,00",null,8,null,null,null,null,null,null,null,"Odpad z PK PVC DN300:8,00"]
[22,"286111934.R","Trubka kanalizační PVC QUANTUM SN 12 DN 300","m",8.24,null,{"$f":"E100*F100","v":0},1.0200000000000001E-3,{"$f":"E100*H100","v":8.4048000000000005E-3},null,{"$f":"E100*J100","v":0},null,null,null,2,null,null,null,null,null,null,null,null,null,null,null,3,1,"286111934.R",null,null,null,null,null,null,null,null,null,null,null,null,null,null,null,null,null,null,null,null,null,null,1,{"$f":"IF(AZ100=1,G100,0)","v":0},{"$f":"IF(AZ100=2,G100,0)","v":0},{"$f":"IF(AZ100=3,G100,0)","v":0},{"$f":"IF(AZ100=4,G100,0)","v":0},{"$f":"IF(AZ100=5,G100,0)","v":0},null,null,null,null,null,null,null,null,null,null,null,null,null,null,null,null,null,null,null,null,null,3,1]
[null,null,"Jedná  se  o  plnostěnné kanalizační trubky DN 150 – DN 400, SN 12 kN/m2 , zvenčí  i  zevnitř  hladké. Jsou  opatřeny hrdlem,  v  němž  je  vložen vysoce  elastický  jazýčkový  kroužek.  konce  trubek  (dříků)  jsou opatřeny  zkosením  pod  úhlem  15°.  Způsob  použití  trubek  je  „U“  dle  normy  ČSN  EN  1401-1, tj. mimo budovy. Spolehlivá  funkce  těsnění  je  jištěna  výztužným  kroužkem  z  elastomeru.  Je  tak  zamezeno  vypad-nutí nebo vytlačení kroužku při manipulaci a montáži. Tento systém zaručuje při správné montáži ",null,null,null,null,null,null,null,null,"Jedná  se  o  plnostěnné kanalizační trubky DN 150 – DN 400, SN 12 kN/m2 , zvenčí  i  zevnitř  hladké. Jsou  opatřeny hrdlem,  v  němž  je  vložen vysoce  elastický  jazýčkový  kroužek.  konce  trubek  (dříků)  jsou opatřeny  zkosením  pod  úhlem  15°.  Způsob  použití  trubek  je  „U“  dle  normy  ČSN  EN  1401-1, tj. mimo budovy. Spolehlivá  funkce  těsnění  je  jištěna  výztužným  kroužkem  z  elastomeru.  Je  tak  zamezeno  vypad-nutí nebo vytlačení kroužku při manipulaci a montáži. Tento systém zaručuje při správné montáži ",null,null,3]
[null,null,"dokonalou  těsnost  do  výšky  vodního  sloupce  5  metrů.",null,null,null,null,null,null,null,null,"dokonalou  těsnost  do  výšky  vodního  sloupce  5  metrů.",null,null,3]
[null,null,"Odpad z PK PVC DN300:8,00*1,03",null,8.24,null,null,null,null,null,null,null,"Odpad z PK PVC DN300:8,00*1,03"]
[null,"Celkem za","8 Trubní vedení",null,null,null,{"$f":"SUM(G85:G103)","v":0},null,{"$f":"SUM(I85:I103)","v":0.34448480000000004},null,{"$f":"SUM(K85:K103)","v":0},null,null,null,4,null,null,null,null,null,null,null,null,null,null,null,null,null,null,null,null,null,null,null,null,null,null,null,null,null,null,null,null,null,null,null,null,null,null,null,null,null,{"$f":"SUM(BA85:BA103)","v":0},{"$f":"SUM(BB85:BB103)","v":0},{"$f":"SUM(BC85:BC103)","v":0},{"$f":"SUM(BD85:BD103)","v":0},{"$f":"SUM(BE85:BE103)","v":0}]
["Díl:","93","Dokončovací práce inženýrských staveb",null,null,null,null,null,null,null,null,null,null,null,1]
[23,"936452115R00","Výplň potrubí cementopopílkovou suspenzí DN 300 ","m",6,null,{"$f":"E106*F106","v":0},0.12751000000000001,{"$f":"E106*H106","v":0.76506000000000007},0,{"$f":"E106*J106","v":0},null,null,null,2,null,null,null,null,null,null,null,null,null,null,null,1,1,1,null,null,null,null,null,null,null,null,null,null,null,null,null,null,null,null,null,null,null,null,null,null,1,{"$f":"IF(AZ106=1,G106,0)","v":0},{"$f":"IF(AZ106=2,G106,0)","v":0},{"$f":"IF(AZ106=3,G106,0)","v":0},{"$f":"IF(AZ106=4,G106,0)","v":0},{"$f":"IF(AZ106=5,G106,0)","v":0},null,null,null,null,null,null,null,null,null,null,null,null,null,null,null,null,null,null,null,null,null,1,1]
[null,null,"Odpad z PK PVC DN300:",null,0,null,null,null,null,null,null,null,"Odpad z PK PVC DN300:"]
[null,null,"Zalití stávajícího potrubí DN300:6,00",null,6,null,null,null,null,null,null,null,"Zalití stávajícího potrubí DN300:6,00"]
[null,"Celkem za","93 Dokončovací práce inženýrských staveb",null,null,null,{"$f":"SUM(G105:G108)","v":0},null,{"$f":"SUM(I105:I108)","v":0.76506000000000007},null,{"$f":"SUM(K105:K108)","v":0},null,null,null,4,null,null,null,null,null,null,null,null,null,null,null,null,null,null,null,null,null,null,null,null,null,null,null,null,null,null,null,null,null,null,null,null,null,null,null,null,null,{"$f":"SUM(BA105:BA108)","v":0},{"$f":"SUM(BB105:BB108)","v":0},{"$f":"SUM(BC105:BC108)","v":0},{"$f":"SUM(BD105:BD108)","v":0},{"$f":"SUM(BE105:BE108)","v":0}]
["Díl:","99","Staveništní přesun hmot",null,null,null,null,null,null,null,null,null,null,null,1]
[24,"998276101RXX","Přesun hmot, trubní vedení plastová, otevř. výkop pro celý rozsah objektu","t",45.186599200000003,null,{"$f":"E111*F111","v":0},0,{"$f":"E111*H111","v":0},null,{"$f":"E111*J111","v":0},null,null,null,2,null,null,null,null,null,null,null,null,null,null,null,7,1,2,null,null,null,null,null,null,null,null,null,null,null,null,null,null,null,null,null,null,null,null,null,null,1,{"$f":"IF(AZ111=1,G111,0)","v":0},{"$f":"IF(AZ111=2,G111,0)","v":0},{"$f":"IF(AZ111=3,G111,0)","v":0},{"$f":"IF(AZ111=4,G111,0)","v":0},{"$f":"IF(AZ111=5,G111,0)","v":0},null,null,null,null,null,null,null,null,null,null,null,null,null,null,null,null,null,null,null,null,null,7,1]
[null,null,"Staveništní doprava pro celý rozsah objektu - doprava zmeziskládek vybudovaného zařízení staveniště zhotovitele na jednotlivé části staveniště.",null,null,null,null,null,null,null,null,"Staveništní doprava pro celý rozsah objektu - doprava zmeziskládek vybudovaného zařízení staveniště zhotovitele na jednotlivé části staveniště.",null,null,3]
[null,"Celkem za","99 Staveništní přesun hmot",null,null,null,{"$f":"SUM(G110:G112)","v":0},null,{"$f":"SUM(I110:I112)","v":0},null,{"$f":"SUM(K110:K112)","v":0},null,null,null,4,null,null,null,null,null,null,null,null,null,null,null,null,null,null,null,null,null,null,null,null,null,null,null,null,null,null,null,null,null,null,null,null,null,null,null,null,null,{"$f":"SUM(BA110:BA112)","v":0},{"$f":"SUM(BB110:BB112)","v":0},{"$f":"SUM(BC110:BC112)","v":0},{"$f":"SUM(BD110:BD112)","v":0},{"$f":"SUM(BE110:BE112)","v":0}]

{"sheet":"307 3542307.3 KL","index":68,"n_rows":45,"n_cols":8,"rows_kept":45,"cut":false,"hidden":false,"merged":[[50,1,50,6],[29,5,29,6],[30,5,30,6],[31,5,31,6],[32,5,32,6],[33,5,33,6],[36,1,44,6],[45,1,45,6],[46,1,46,6],[47,1,47,6],[48,1,48,6],[49,1,49,6],[22,0,22,1],[7,2,7,4],[8,2,8,4],[9,2,9,4],[10,2,10,4],[11,2,11,4]]}
["POLOŽKOVÝ ROZPOČET"]
["Rozpočet",null,"3542/307.3","Vodovodní napojovací body",null,"JKSO ","827.13"]
[]
["Objekt",null,null,null,null,"SKP "]
["307",null,"Oprava vodovodního řadu SP ul. Nad Špejcharem",null,null,"Měrná jednotka","m"]
["Stavba",null,null,null,null,"Počet jednotek",0]
["3542",null,"Semily - Obnova VH infrastruktury a komunikací",null,null,"Náklady na m.j.",{"$f":"IF(G6=0,,ROUND((F30+F32)/G6,1))","v":0}]
["Projektant",null,null,null,null,"Typ rozpočtu"]
["Zpracovatel projektu"]
["Objednatel",null,"Vodohospodářské sdružení Turnov"]
["Dodavatel",null,".",null,null,"Zakázkové číslo "]
["Rozpočtoval",null,null,null,null,"Počet listů"]
["ROZPOČTOVÉ NÁKLADY"]
["Základní rozpočtové náklady"]
[null,"HSV celkem",{"$f":"'307 3542307.3 Rek'!E13","v":0}]
["Z","PSV celkem",{"$f":"'307 3542307.3 Rek'!F13","v":0}]
["R","M práce celkem",{"$f":"'307 3542307.3 Rek'!H13","v":0}]
["N","M dodávky celkem",{"$f":"'307 3542307.3 Rek'!G13","v":0}]
["ZRN celkem",null,{"$f":"SUM(C15:C18)","v":0}]
[]
["HZS",null,{"$f":"'307 3542307.3 Rek'!I13","v":0}]
["ZRN+HZS",null,{"$f":"C19+C21","v":0}]
["ZRN+ost.náklady+HZS",null,{"$f":"C22+G23","v":0}]
["Vypracoval",null,null,"Za zhotovitele",null,"Za objednatele"]
["Jméno :",null,null,"Jméno :",null,"Jméno :"]
["Datum :",null,null,"Datum :",null,"Datum :"]
[]
["Podpis :",null,null,"Podpis:",null,"Podpis:"]
[]
["Základ pro DPH",null,21,"%  ",null,{"$f":"C23-F32","v":0}]
["DPH",null,{"$f":"C30","v":21},"% ",null,{"$f":"ROUND(PRODUCT(F30,C31/100),0)","v":0}]
["Základ pro DPH",null,0,"% ",null,0]
["DPH",null,{"$f":"C32","v":0},"% ",null,{"$f":"ROUND(PRODUCT(F32,C33/100),0)","v":0}]
["CENA ZA OBJEKT CELKEM",null,null,null,null,{"$f":"ROUND(SUM(F30:F33),0)","v":0}]
[]
["Poznámka :",null,null,null,null,null,null," "]
[null,null,null,null,null,null,null," "]
[null,null,null,null,null,null,null," "]
[null,null,null,null,null,null,null," "]
[null,null,null,null,null,null,null," "]
[null,null,null,null,null,null,null," "]
[null,null,null,null,null,null,null," "]
[null,null,null,null,null,null,null," "]
[null,null,null,null,null,null,null," "]
[null,null,null,null,null,null,null," "]

{"sheet":"307 3542307.3 Rek","index":69,"n_rows":13,"n_cols":9,"rows_kept":13,"cut":false,"hidden":false,"merged":[[0,0,0,1],[1,0,1,1],[1,6,1,8]]}
["Stavba :",null,"3542 Semily - Obnova VH infrastruktury a komunikací",null,null,null,"Rozpočet :","3542/307.3"]
["Objekt :",null,"307 Oprava vodovodního řadu SP ul. Nad Špejcharem",null,null,null,"Vodovodní napojovací body"]
[]
["REKAPITULACE  STAVEBNÍCH  DÍLŮ"]
[]
[null,"Stavební díl",null,null,"HSV","PSV","Dodávka","Montáž","HZS"]
[{"$f":"'307 3542307.3 Pol'!B7","v":"1"},{"$f":"'307 3542307.3 Pol'!C7","v":"Zemní práce"},null,null,{"$f":"'307 3542307.3 Pol'!BA96","v":0},{"$f":"'307 3542307.3 Pol'!BB96","v":0},{"$f":"'307 3542307.3 Pol'!BC96","v":0},{"$f":"'307 3542307.3 Pol'!BD96","v":0},{"$f":"'307 3542307.3 Pol'!BE96","v":0}]
[{"$f":"'307 3542307.3 Pol'!B97","v":"21"},{"$f":"'307 3542307.3 Pol'!C97","v":"Úprava podloží a základ.spáry"},null,null,{"$f":"'307 3542307.3 Pol'!BA101","v":0},{"$f":"'307 3542307.3 Pol'!BB101","v":0},{"$f":"'307 3542307.3 Pol'!BC101","v":0},{"$f":"'307 3542307.3 Pol'!BD101","v":0},{"$f":"'307 3542307.3 Pol'!BE101","v":0}]
[{"$f":"'307 3542307.3 Pol'!B102","v":"45"},{"$f":"'307 3542307.3 Pol'!C102","v":"Podkladní a vedlejší konstrukce"},null,null,{"$f":"'307 3542307.3 Pol'!BA106","v":0},{"$f":"'307 3542307.3 Pol'!BB106","v":0},{"$f":"'307 3542307.3 Pol'!BC106","v":0},{"$f":"'307 3542307.3 Pol'!BD106","v":0},{"$f":"'307 3542307.3 Pol'!BE106","v":0}]
[{"$f":"'307 3542307.3 Pol'!B107","v":"5"},{"$f":"'307 3542307.3 Pol'!C107","v":"Komunikace"},null,null,{"$f":"'307 3542307.3 Pol'!BA111","v":0},{"$f":"'307 3542307.3 Pol'!BB111","v":0},{"$f":"'307 3542307.3 Pol'!BC111","v":0},{"$f":"'307 3542307.3 Pol'!BD111","v":0},{"$f":"'307 3542307.3 Pol'!BE111","v":0}]
[{"$f":"'307 3542307.3 Pol'!B112","v":"8"},{"$f":"'307 3542307.3 Pol'!C112","v":"Trubní vedení"},null,null,{"$f":"'307 3542307.3 Pol'!BA150","v":0},{"$f":"'307 3542307.3 Pol'!BB150","v":0},{"$f":"'307 3542307.3 Pol'!BC150","v":0},{"$f":"'307 3542307.3 Pol'!BD150","v":0},{"$f":"'307 3542307.3 Pol'!BE150","v":0}]
[{"$f":"'307 3542307.3 Pol'!B151","v":"99"},{"$f":"'307 3542307.3 Pol'!C151","v":"Staveništní přesun hmot"},null,null,{"$f":"'307 3542307.3 Pol'!BA154","v":0},{"$f":"'307 3542307.3 Pol'!BB154","v":0},{"$f":"'307 3542307.3 Pol'!BC154","v":0},{"$f":"'307 3542307.3 Pol'!BD154","v":0},{"$f":"'307 3542307.3 Pol'!BE154","v":0}]
[null,"CELKEM  OBJEKT",null,null,{"$f":"SUM(E7:E12)","v":0},{"$f":"SUM(F7:F12)","v":0},{"$f":"SUM(G7:G12)","v":0},{"$f":"SUM(H7:H12)","v":0},{"$f":"SUM(I7:I12)","v":0}]

{"sheet":"307 3542307.3 Pol","index":70,"n_rows":154,"n_cols":80,"rows_kept":154,"cut":false,"hidden":false,"merged":[[148,2,148,3],[152,2,152,6],[142,2,142,6],[143,2,143,3],[144,2,144,3],[146,2,146,3],[147,2,147,3],[140,2,140,6],[141,2,141,6],[131,2,131,3],[133,2,133,3],[134,2,134,3],[136,2,136,6],[137,2,137,3],[138,2,138,3],[123,2,123,3],[125,2,125,6],[126,2,126,3],[127,2,127,3],[129,2,129,6],[130,2,130,3],[113,2,113,6],[114,2,114,3],[115,2,115,3],[117,2,117,3],[118,2,118,3],[119,2,119,3],[121,2,121,6],[122,2,122,3],[103,2,103,3],[104,2,104,3],[108,2,108,3],[109,2,109,3],[91,2,91,3],[93,2,93,3],[94,2,94,3],[98,2,98,3],[99,2,99,3],[83,2,83,3],[85,2,85,3],[86,2,86,3],[87,2,87,3],[88,2,88,3],[90,2,90,3],[76,2,76,3],[77,2,77,3],[78,2,78,3],[79,2,79,3],[80,2,80,3],[82,2,82,3],[70,2,70,3],[71,2,71,3],[72,2,72,3],[73,2,73,3],[74,2,74,3],[75,2,75,3],[64,2,64,6],[65,2,65,6],[66,2,66,3],[67,2,67,3],[68,2,68,3],[69,2,69,3],[56,2,56,3],[57,2,57,3],[59,2,59,3],[60,2,60,3],[61,2,61,3],[62,2,62,3],[49,2,49,3],[50,2,50,3],[51,2,51,3],[52,2,52,3],[54,2,54,3],[55,2,55,3],[41,2,41,3],[42,2,42,3],[43,2,43,3],[44,2,44,3],[46,2,46,3],[47,2,47,3],[33,2,33,3],[35,2,35,6],[36,2,36,3],[37,2,37,3],[38,2,38,3],[39,2,39,3],[26,2,26,3],[27,2,27,3],[28,2,28,3],[30,2,30,3],[31,2,31,3],[32,2,32,3],[21,2,21,3],[22,2,22,3],[23,2,23,3],[24,2,24,3],[25,2,25,3],[13,2,13,6],[14,2,14,3],[15,2,15,3],[16,2,16,3],[17,2,17,3],[19,2,19,6],[0,0,0,6],[2,0,2,1],[3,0,3,1],[3,4,3,6],[8,2,8,3],[9,2,9,3],[10,2,10,3],[12,2,12,6],[20,2,20,3]]}
["Položkový rozpočet "]
[]
["Stavba :",null,"3542 Semily - Obnova VH infrastruktury a komunikací",null,"Rozpočet:",{"$f":"'307 3542307.3 Rek'!H1","v":"3542/307.3"}]
["Objekt :",null,"307 Oprava vodovodního řadu SP ul. Nad Špejcharem",null,{"$f":"'307 3542307.3 Rek'!G2","v":"Vodovodní napojovací body"}]
[]
["P.č.","Číslo položky","Název položky","MJ","množství","cena / MJ","celkem (Kč)","Jednotková hmotnost","Celková hmotnost","Jednotková dem.hmot.","Celková dem.hmot."]
["Díl:","1","Zemní práce",null,null,null,null,null,null,null,null,null,null,null,1]
[1,"121100002RAA","Sejmutí ornice a uložení na deponii zpětný přesun, rozprostření v tl. 200 mm, osetí","m3",3.2,null,{"$f":"E8*F8","v":0},0,{"$f":"E8*H8","v":0},0,{"$f":"E8*J8","v":0},null,null,null,2,null,null,null,null,null,null,null,null,null,null,null,1,1,1,null,null,null,null,null,null,null,null,null,null,null,null,null,null,null,null,null,null,null,null,null,null,1,{"$f":"IF(AZ8=1,G8,0)","v":0},{"$f":"IF(AZ8=2,G8,0)","v":0},{"$f":"IF(AZ8=3,G8,0)","v":0},{"$f":"IF(AZ8=4,G8,0)","v":0},{"$f":"IF(AZ8=5,G8,0)","v":0},null,null,null,null,null,null,null,null,null,null,null,null,null,null,null,null,null,null,null,null,null,1,1]
[null,null,"Vodovodní přípojky z  PE D 32x3,0 mm:",null,0,null,null,null,null,null,null,null,"Vodovodní přípojky z  PE D 32x3,0 mm:"]
[null,null,"Pracodní prostor šířky 2,0 m:",null,0,null,null,null,null,null,null,null,"Pracodní prostor šířky 2,0 m:"]
[null,null,"VP (1 kus):8,00*2,00*0,20",null,3.2,null,null,null,null,null,null,null,"VP (1 kus):8,00*2,00*0,20"]
[2,"130001101RRX","Příplatek za ztížené hloubení v blízkosti vedení ","m3",4.8019999999999996,null,{"$f":"E12*F12","v":0},0,{"$f":"E12*H12","v":0},0,{"$f":"E12*J12","v":0},null,null,null,2,null,null,null,null,null,null,null,null,null,null,null,1,1,1,null,null,null,null,null,null,null,null,null,null,null,null,null,null,null,null,null,null,null,null,null,null,1,{"$f":"IF(AZ12=1,G12,0)","v":0},{"$f":"IF(AZ12=2,G12,0)","v":0},{"$f":"IF(AZ12=3,G12,0)","v":0},{"$f":"IF(AZ12=4,G12,0)","v":0},{"$f":"IF(AZ12=5,G12,0)","v":0},null,null,null,null,null,null,null,null,null,null,null,null,null,null,null,null,null,null,null,null,null,1,1]
[null,null,"Včetně případných nutných dokopávek a ručního výkopu podél sousedících inženýrských sítí.",null,null,null,null,null,null,null,null,"Včetně případných nutných dokopávek a ručního výkopu podél sousedících inženýrských sítí.",null,null,3]
[null,null,"Součástí položky je i dočasné zajištění stávajících inženýrských sítí v prostoru výkopů (potrubí, kabely a pod.)",null,null,null,null,null,null,null,null,"Součástí položky je i dočasné zajištění stávajících inženýrských sítí v prostoru výkopů (potrubí, kabely a pod.)",null,null,3]
[null,null,"Vodovodní přípojky z  PE D 32x3,0 mm:",null,0,null,null,null,null,null,null,null,"Vodovodní přípojky z  PE D 32x3,0 mm:"]
[null,null,"Průměrná hloubka výkopů 1,60 m:",null,0,null,null,null,null,null,null,null,"Průměrná hloubka výkopů 1,60 m:"]
[null,null,"Výkopy:",null,0,null,null,null,null,null,null,null,"Výkopy:"]
[null,null,"V hornině tř. 3 - 4 - 35%:13,7200*0,35",null,4.8019999999999996,null,null,null,null,null,null,null,"V hornině tř. 3 - 4 - 35%:13,7200*0,35"]
[3,"132201210R00","Hloubení rýh š.do 200 cm hor.3 do 50 m3,STROJNĚ ","m3",6.86,null,{"$f":"E19*F19","v":0},0,{"$f":"E19*H19","v":0},0,{"$f":"E19*J19","v":0},null,null,null,2,null,null,null,null,null,null,null,null,null,null,null,1,1,1,null,null,null,null,null,null,null,null,null,null,null,null,null,null,null,null,null,null,null,null,null,null,1,{"$f":"IF(AZ19=1,G19,0)","v":0},{"$f":"IF(AZ19=2,G19,0)","v":0},{"$f":"IF(AZ19=3,G19,0)","v":0},{"$f":"IF(AZ19=4,G19,0)","v":0},{"$f":"IF(AZ19=5,G19,0)","v":0},null,null,null,null,null,null,null,null,null,null,null,null,null,null,null,null,null,null,null,null,null,1,1]
[null,null,"Položka obsahuje hloubení rýh traktorbagrem, naložení výkopku na dopravní prostředek pro svislé, nebo vodorovné přemístění, popř. přemístění výkopku do 3 m (po povrchu území), případné zajištění rypadel polštáři, udržování pracoviště a ochranu výkopiště proti stékání srážkové vody z okolního terénu i s jejím odvodněním, nebo odvedením, přesekání a odstranění kořenů ve výkopišti, odstranění napadávek, urovnání dna výkopu.",null,null,null,null,null,null,null,null,"Položka obsahuje hloubení rýh traktorbagrem, naložení výkopku na dopravní prostředek pro svislé, nebo vodorovné přemístění, popř. přemístění výkopku do 3 m (po povrchu území), případné zajištění rypadel polštáři, udržování pracoviště a ochranu výkopiště proti stékání srážkové vody z okolního terénu i s jejím odvodněním, nebo odvedením, přesekání a odstranění kořenů ve výkopišti, odstranění napadávek, urovnání dna výkopu.",null,null,3]
[null,null,"Vodovodní přípojky z  PE D 32x3,0 mm:",null,0,null,null,null,null,null,null,null,"Vodovodní přípojky z  PE D 32x3,0 mm:"]
[null,null,"Průměrná hloubka výkopů 1,60 m:",null,0,null,null,null,null,null,null,null,"Průměrná hloubka výkopů 1,60 m:"]
[null,null,"Výkopy:",null,0,null,null,null,null,null,null,null,"Výkopy:"]
[null,null,"Začátek provozního součtu",null,0,null,null,null,null,null,null,null,"Začátek provozního součtu"]
[null,null,"VP (1 kus):15,00*0,70*1,60",null,16.8,null,null,null,null,null,null,null,"VP (1 kus):15,00*0,70*1,60"]
[null,null,"Odpočet objemu konstrukce komunikací a chodníků:-7,00*0,70*0,40",null,-1.96,null,null,null,null,null,null,null,"Odpočet objemu konstrukce komunikací a chodníků:-7,00*0,70*0,40"]
[null,null,"Odpočet objemu ornice:-(15,00-7,00)*0,70*0,20",null,-1.1200000000000001,null,null,null,null,null,null,null,"Odpočet objemu ornice:-(15,00-7,00)*0,70*0,20"]
[null,null,"Konec provozního součtu",null,13.719999999999999,null,null,null,null,null,null,null,"Konec provozního součtu"]
[null,null,"V hornině tř. 3 - 50%:13,7200*0,5",null,6.86,null,null,null,null,null,null,null,"V hornině tř. 3 - 50%:13,7200*0,5"]
[4,"132201219R00","Přípl.za lepivost,hloubení rýh 200cm,hor.3,STROJNĚ ","m3",3.43,null,{"$f":"E30*F30","v":0},0,{"$f":"E30*H30","v":0},0,{"$f":"E30*J30","v":0},null,null,null,2,null,null,null,null,null,null,null,null,null,null,null,1,1,1,null,null,null,null,null,null,null,null,null,null,null,null,null,null,null,null,null,null,null,null,null,null,1,{"$f":"IF(AZ30=1,G30,0)","v":0},{"$f":"IF(AZ30=2,G30,0)","v":0},{"$f":"IF(AZ30=3,G30,0)","v":0},{"$f":"IF(AZ30=4,G30,0)","v":0},{"$f":"IF(AZ30=5,G30,0)","v":0},null,null,null,null,null,null,null,null,null,null,null,null,null,null,null,null,null,null,null,null,null,1,1]
[null,null,"Vodovodní přípojky z  PE D 32x3,0 mm:",null,0,null,null,null,null,null,null,null,"Vodovodní přípojky z  PE D 32x3,0 mm:"]
[null,null,"Průměrná hloubka výkopů 1,60 m:",null,0,null,null,null,null,null,null,null,"Průměrná hloubka výkopů 1,60 m:"]
[null,null,"Výkopy:",null,0,null,null,null,null,null,null,null,"Výkopy:"]
[null,null,"V hornině tř. 3 - 50%:13,7200*0,5*0,5",null,3.43,null,null,null,null,null,null,null,"V hornině tř. 3 - 50%:13,7200*0,5*0,5"]
[5,"132301210R00","Hloubení rýh š.do 200 cm hor.4 do 50 m3, STROJNĚ ","m3",6.86,null,{"$f":"E35*F35","v":0},0,{"$f":"E35*H35","v":0},0,{"$f":"E35*J35","v":0},null,null,null,2,null,null,null,null,null,null,null,null,null,null,null,1,1,1,null,null,null,null,null,null,null,null,null,null,null,null,null,null,null,null,null,null,null,null,null,null,1,{"$f":"IF(AZ35=1,G35,0)","v":0},{"$f":"IF(AZ35=2,G35,0)","v":0},{"$f":"IF(AZ35=3,G35,0)","v":0},{"$f":"IF(AZ35=4,G35,0)","v":0},{"$f":"IF(AZ35=5,G35,0)","v":0},null,null,null,null,null,null,null,null,null,null,null,null,null,null,null,null,null,null,null,null,null,1,1]
[null,null,"Položka obsahuje hloubení rýh traktorbagrem, naložení výkopku na dopravní prostředek pro svislé, nebo vodorovné přemístění, popř. přemístění výkopku do 3 m (po povrchu území), případné zajištění rypadel polštáři, udržování pracoviště a ochranu výkopiště proti stékání srážkové vody z okolního terénu i s jejím odvodněním, nebo odvedením, přesekání a odstranění kořenů ve výkopišti, odstranění napadávek, urovnání dna výkopu.",null,null,null,null,null,null,null,null,"Položka obsahuje hloubení rýh traktorbagrem, naložení výkopku na dopravní prostředek pro svislé, nebo vodorovné přemístění, popř. přemístění výkopku do 3 m (po povrchu území), případné zajištění rypadel polštáři, udržování pracoviště a ochranu výkopiště proti stékání srážkové vody z okolního terénu i s jejím odvodněním, nebo odvedením, přesekání a odstranění kořenů ve výkopišti, odstranění napadávek, urovnání dna výkopu.",null,null,3]
[null,null,"Vodovodní přípojky z  PE D 32x3,0 mm:",null,0,null,null,null,null,null,null,null,"Vodovodní přípojky z  PE D 32x3,0 mm:"]
[null,null,"Průměrná hloubka výkopů 1,60 m:",null,0,null,null,null,null,null,null,null,"Průměrná hloubka výkopů 1,60 m:"]
[null,null,"Výkopy:",null,0,null,null,null,null,null,null,null,"Výkopy:"]
[null,null,"V hornině tř. 4 - 50%:13,7200*0,5",null,6.86,null,null,null,null,null,null,null,"V hornině tř. 4 - 50%:13,7200*0,5"]
[6,"132301219R00","Přípl.za lepivost,hloubení rýh 200cm,hor.4,STROJNĚ ","m3",3.43,null,{"$f":"E41*F41","v":0},0,{"$f":"E41*H41","v":0},0,{"$f":"E41*J41","v":0},null,null,null,2,null,null,null,null,null,null,null,null,null,null,null,1,1,1,null,null,null,null,null,null,null,null,null,null,null,null,null,null,null,null,null,null,null,null,null,null,1,{"$f":"IF(AZ41=1,G41,0)","v":0},{"$f":"IF(AZ41=2,G41,0)","v":0},{"$f":"IF(AZ41=3,G41,0)","v":0},{"$f":"IF(AZ41=4,G41,0)","v":0},{"$f":"IF(AZ41=5,G41,0)","v":0},null,null,null,null,null,null,null,null,null,null,null,null,null,null,null,null,null,null,null,null,null,1,1]
[null,null,"Vodovodní přípojky z  PE D 32x3,0 mm:",null,0,null,null,null,null,null,null,null,"Vodovodní přípojky z  PE D 32x3,0 mm:"]
[null,null,"Průměrná hloubka výkopů 1,60 m:",null,0,null,null,null,null,null,null,null,"Průměrná hloubka výkopů 1,60 m:"]
[null,null,"Výkopy:",null,0,null,null,null,null,null,null,null,"Výkopy:"]
[null,null,"V hornině tř. 4 - 50%:13,7200*0,5*0,5",null,3.43,null,null,null,null,null,null,null,"V hornině tř. 4 - 50%:13,7200*0,5*0,5"]
[7,"132901219RRX","Přípl.za provedení podchodu pod základem oplocení Ručně do objemu 0,75 m3","kus",1,null,{"$f":"E46*F46","v":0},0,{"$f":"E46*H46","v":0},0,{"$f":"E46*J46","v":0},null,null,null,2,null,null,null,null,null,null,null,null,null,null,null,1,1,1,null,null,null,null,null,null,null,null,null,null,null,null,null,null,null,null,null,null,null,null,null,null,1,{"$f":"IF(AZ46=1,G46,0)","v":0},{"$f":"IF(AZ46=2,G46,0)","v":0},{"$f":"IF(AZ46=3,G46,0)","v":0},{"$f":"IF(AZ46=4,G46,0)","v":0},{"$f":"IF(AZ46=5,G46,0)","v":0},null,null,null,null,null,null,null,null,null,null,null,null,null,null,null,null,null,null,null,null,null,1,1]
[null,null,"Vodovodní přípojky z  PE D 32x3,0 mm:",null,0,null,null,null,null,null,null,null,"Vodovodní přípojky z  PE D 32x3,0 mm:"]
[null,null,"VP (1 kus) - Podchod pod základy oplocení:1",null,1,null,null,null,null,null,null,null,"VP (1 kus) - Podchod pod základy oplocení:1"]
[8,"151101101R00","Pažení a rozepření stěn rýh - příložné - hl.do 2 m ","m2",48,null,{"$f":"E49*F49","v":0},9.8999999999999999E-4,{"$f":"E49*H49","v":4.752E-2},0,{"$f":"E49*J49","v":0},null,null,null,2,null,null,null,null,null,null,null,null,null,null,null,1,1,1,null,null,null,null,null,null,null,null,null,null,null,null,null,null,null,null,null,null,null,null,null,null,1,{"$f":"IF(AZ49=1,G49,0)","v":0},{"$f":"IF(AZ49=2,G49,0)","v":0},{"$f":"IF(AZ49=3,G49,0)","v":0},{"$f":"IF(AZ49=4,G49,0)","v":0},{"$f":"IF(AZ49=5,G49,0)","v":0},null,null,null,null,null,null,null,null,null,null,null,null,null,null,null,null,null,null,null,null,null,1,1]
[null,null,"Vodovodní přípojky z  PE D 32x3,0 mm:",null,0,null,null,null,null,null,null,null,"Vodovodní přípojky z  PE D 32x3,0 mm:"]
[null,null,"Průměrná hloubka výkopů 1,60 m:",null,0,null,null,null,null,null,null,null,"Průměrná hloubka výkopů 1,60 m:"]
[null,null,"Výkopy:",null,0,null,null,null,null,null,null,null,"Výkopy:"]
[null,null,"VP (1 kus):15,00*1,60*2",null,48,null,null,null,null,null,null,null,"VP (1 kus):15,00*1,60*2"]
[9,"151101111R00","Odstranění pažení stěn rýh - příložné - hl. do 2 m ","m2",48,null,{"$f":"E54*F54","v":0},0,{"$f":"E54*H54","v":0},0,{"$f":"E54*J54","v":0},null,null,null,2,null,null,null,null,null,null,null,null,null,null,null,1,1,1,null,null,null,null,null,null,null,null,null,null,null,null,null,null,null,null,null,null,null,null,null,null,1,{"$f":"IF(AZ54=1,G54,0)","v":0},{"$f":"IF(AZ54=2,G54,0)","v":0},{"$f":"IF(AZ54=3,G54,0)","v":0},{"$f":"IF(AZ54=4,G54,0)","v":0},{"$f":"IF(AZ54=5,G54,0)","v":0},null,null,null,null,null,null,null,null,null,null,null,null,null,null,null,null,null,null,null,null,null,1,1]
[null,null,"Vodovodní přípojky z  PE D 32x3,0 mm:",null,0,null,null,null,null,null,null,null,"Vodovodní přípojky z  PE D 32x3,0 mm:"]
[null,null,"Průměrná hloubka výkopů 1,60 m:",null,0,null,null,null,null,null,null,null,"Průměrná hloubka výkopů 1,60 m:"]
[null,null,"Výkopy:",null,0,null,null,null,null,null,null,null,"Výkopy:"]
[null,null,"VP (1 kus):15,00*1,60*2",null,48,null,null,null,null,null,null,null,"VP (1 kus):15,00*1,60*2"]
[10,"162701105RSZ","Vodorovné přemístění výkopku z hor.1-7 na skládku zhotovitele","m3",8.5792000000000002,null,{"$f":"E59*F59","v":0},0,{"$f":"E59*H59","v":0},0,{"$f":"E59*J59","v":0},null,null,null,2,null,null,null,null,null,null,null,null,null,null,null,1,1,1,null,null,null,null,null,null,null,null,null,null,null,null,null,null,null,null,null,null,null,null,null,null,1,{"$f":"IF(AZ59=1,G59,0)","v":0},{"$f":"IF(AZ59=2,G59,0)","v":0},{"$f":"IF(AZ59=3,G59,0)","v":0},{"$f":"IF(AZ59=4,G59,0)","v":0},{"$f":"IF(AZ59=5,G59,0)","v":0},null,null,null,null,null,null,null,null,null,null,null,null,null,null,null,null,null,null,null,null,null,1,1]
[null,null,"Vodovodní přípojky z  PE D 32x3,0 mm:",null,0,null,null,null,null,null,null,null,"Vodovodní přípojky z  PE D 32x3,0 mm:"]
[null,null,"Průměrná hloubka výkopů 1,60 m:",null,0,null,null,null,null,null,null,null,"Průměrná hloubka výkopů 1,60 m:"]
[null,null,"Výkopy:13,7200",null,13.72,null,null,null,null,null,null,null,"Výkopy:13,7200"]
[null,null,"Odpočet objemu zásypů zeminoi:-5,1408",null,-5.1407999999999996,null,null,null,null,null,null,null,"Odpočet objemu zásypů zeminoi:-5,1408"]
[11,"174101101R00","Zásyp jam, rýh, šachet se zhutněním ","m3",8.6590000000000007,null,{"$f":"E64*F64","v":0},0,{"$f":"E64*H64","v":0},0,{"$f":"E64*J64","v":0},null,null,null,2,null,null,null,null,null,null,null,null,null,null,null,1,1,1,null,null,null,null,null,null,null,null,null,null,null,null,null,null,null,null,null,null,null,null,null,null,1,{"$f":"IF(AZ64=1,G64,0)","v":0},{"$f":"IF(AZ64=2,G64,0)","v":0},{"$f":"IF(AZ64=3,G64,0)","v":0},{"$f":"IF(AZ64=4,G64,0)","v":0},{"$f":"IF(AZ64=5,G64,0)","v":0},null,null,null,null,null,null,null,null,null,null,null,null,null,null,null,null,null,null,null,null,null,1,1]
[null,null,"Položka obsahuje strojní přemístění materiálu pro zásyp ze vzdálenosti do 10 m od okraje zásypu.",null,null,null,null,null,null,null,null,"Položka obsahuje strojní přemístění materiálu pro zásyp ze vzdálenosti do 10 m od okraje zásypu.",null,null,3]
[null,null,null,null,null,null,null,null,null,null,null,null,null,null,3]
[null,null,"Vodovodní přípojky z  PE D 32x3,0 mm:",null,0,null,null,null,null,null,null,null,"Vodovodní přípojky z  PE D 32x3,0 mm:"]
[null,null,"Zásypy ŠD fr. 0-63 mm:3,5182",null,3.5182000000000002,null,null,null,null,null,null,null,"Zásypy ŠD fr. 0-63 mm:3,5182"]
[null,null,"Začátek provozního součtu",null,0,null,null,null,null,null,null,null,"Začátek provozního součtu"]
[null,null,"Výkopy:",null,0,null,null,null,null,null,null,null,"Výkopy:"]
[null,null,"VP (1 kus):7,00*0,70*1,60",null,7.84,null,null,null,null,null,null,null,"VP (1 kus):7,00*0,70*1,60"]
[null,null,"Odpočet objemu konstrukce komunikací a chodníků:-7,00*0,70*0,40",null,-1.96,null,null,null,null,null,null,null,"Odpočet objemu konstrukce komunikací a chodníků:-7,00*0,70*0,40"]
[null,null,"Odpočet objemu lože, potrubí a obsypů:-7,00*0,70*(0,15+0,032+0,30)",null,-2.3618000000000001,null,null,null,null,null,null,null,"Odpočet objemu lože, potrubí a obsypů:-7,00*0,70*(0,15+0,032+0,30)"]
[null,null,"Konec provozního součtu",null,3.5181999999999998,null,null,null,null,null,null,null,"Konec provozního součtu"]
[null,null,"Zásypy zeminou:5,1408",null,5.1407999999999996,null,null,null,null,null,null,null,"Zásypy zeminou:5,1408"]
[null,null,"Začátek provozního součtu",null,0,null,null,null,null,null,null,null,"Začátek provozního součtu"]
[null,null,"Výkopy:",null,0,null,null,null,null,null,null,null,"Výkopy:"]
[null,null,"VP (1 kus):8,00*0,70*1,60",null,8.9600000000000009,null,null,null,null,null,null,null,"VP (1 kus):8,00*0,70*1,60"]
[null,null,"Odpočez objemu ornice:-8,00*0,70*0,20",null,-1.1200000000000001,null,null,null,null,null,null,null,"Odpočez objemu ornice:-8,00*0,70*0,20"]
[null,null,"Odpočet objemu lože, potrubí a obsypů:-8,00*0,70*(0,15+0,032+0,30)",null,-2.6991999999999998,null,null,null,null,null,null,null,"Odpočet objemu lože, potrubí a obsypů:-8,00*0,70*(0,15+0,032+0,30)"]
[null,null,"Konec provozního součtu",null,5.1408000000000005,null,null,null,null,null,null,null,"Konec provozního součtu"]
[12,"175101101R00","Obsyp potrubí bez prohození sypaniny ","m3",3.4739,null,{"$f":"E82*F82","v":0},0,{"$f":"E82*H82","v":0},0,{"$f":"E82*J82","v":0},null,null,null,2,null,null,null,null,null,null,null,null,null,null,null,1,1,1,null,null,null,null,null,null,null,null,null,null,null,null,null,null,null,null,null,null,null,null,null,null,1,{"$f":"IF(AZ82=1,G82,0)","v":0},{"$f":"IF(AZ82=2,G82,0)","v":0},{"$f":"IF(AZ82=3,G82,0)","v":0},{"$f":"IF(AZ82=4,G82,0)","v":0},{"$f":"IF(AZ82=5,G82,0)","v":0},null,null,null,null,null,null,null,null,null,null,null,null,null,null,null,null,null,null,null,null,null,1,1]
[null,null,"Vodovodní přípojky z  PE D 32x3,0 mm:",null,0,null,null,null,null,null,null,null,"Vodovodní přípojky z  PE D 32x3,0 mm:"]
[null,null,"VP (1 kus):15,00*(0,70*(0,032+0,30)-0,016^2*Pi)",null,3.4739,null,null,null,null,null,null,null,"VP (1 kus):15,00*(0,70*(0,032+0,30)-0,016^2*Pi)"]
[13,"199000002R00","Poplatek za skládku horniny 1- 7 č. dle katal. odpadů 17 05 04","m3",8.5792000000000002,null,{"$f":"E85*F85","v":0},0,{"$f":"E85*H85","v":0},0,{"$f":"E85*J85","v":0},null,null,null,2,null,null,null,null,null,null,null,null,null,null,null,1,1,1,null,null,null,null,null,null,null,null,null,null,null,null,null,null,null,null,null,null,null,null,null,null,1,{"$f":"IF(AZ85=1,G85,0)","v":0},{"$f":"IF(AZ85=2,G85,0)","v":0},{"$f":"IF(AZ85=3,G85,0)","v":0},{"$f":"IF(AZ85=4,G85,0)","v":0},{"$f":"IF(AZ85=5,G85,0)","v":0},null,null,null,null,null,null,null,null,null,null,null,null,null,null,null,null,null,null,null,null,null,1,1]
[null,null,"Vodovodní přípojky z  PE D 32x3,0 mm:",null,0,null,null,null,null,null,null,null,"Vodovodní přípojky z  PE D 32x3,0 mm:"]
[null,null,"Průměrná hloubka výkopů 1,60 m:",null,0,null,null,null,null,null,null,null,"Průměrná hloubka výkopů 1,60 m:"]
[null,null,"Výkopy:13,7200",null,13.72,null,null,null,null,null,null,null,"Výkopy:13,7200"]
[null,null,"Odpočet objemu zásypů zeminoi:-5,1408",null,-5.1407999999999996,null,null,null,null,null,null,null,"Odpočet objemu zásypů zeminoi:-5,1408"]
[14,"58337308.R","Štěrkopísek frakce 0-2 tř.B","t",6.9226000000000001,null,{"$f":"E90*F90","v":0},1,{"$f":"E90*H90","v":6.9226000000000001},null,{"$f":"E90*J90","v":0},null,null,null,2,null,null,null,null,null,null,null,null,null,null,null,3,1,"58337308.R",null,null,null,null,null,null,null,null,null,null,null,null,null,null,null,null,null,null,null,null,null,null,1,{"$f":"IF(AZ90=1,G90,0)","v":0},{"$f":"IF(AZ90=2,G90,0)","v":0},{"$f":"IF(AZ90=3,G90,0)","v":0},{"$f":"IF(AZ90=4,G90,0)","v":0},{"$f":"IF(AZ90=5,G90,0)","v":0},null,null,null,null,null,null,null,null,null,null,null,null,null,null,null,null,null,null,null,null,null,3,1]
[null,null,"Vodovodní přípojky z  PE D 32x3,0 mm:",null,0,null,null,null,null,null,null,null,"Vodovodní přípojky z  PE D 32x3,0 mm:"]
[null,null,"VP (1 kus):15,00*(0,70*(0,032+0,30)-0,016^2*Pi)*1,973*1,01",null,6.9226000000000001,null,null,null,null,null,null,null,"VP (1 kus):15,00*(0,70*(0,032+0,30)-0,016^2*Pi)*1,973*1,01"]
[15,"58344197R","Štěrkodrtě frakce 0-63 A","t",6.6555,null,{"$f":"E93*F93","v":0},1,{"$f":"E93*H93","v":6.6555},null,{"$f":"E93*J93","v":0},null,null,null,2,null,null,null,null,null,null,null,null,null,null,null,3,1,"58344197R",null,null,null,null,null,null,null,null,null,null,null,null,null,null,null,null,null,null,null,null,null,null,1,{"$f":"IF(AZ93=1,G93,0)","v":0},{"$f":"IF(AZ93=2,G93,0)","v":0},{"$f":"IF(AZ93=3,G93,0)","v":0},{"$f":"IF(AZ93=4,G93,0)","v":0},{"$f":"IF(AZ93=5,G93,0)","v":0},null,null,null,null,null,null,null,null,null,null,null,null,null,null,null,null,null,null,null,null,null,3,1]
[null,null,"Vodovodní přípojky z  PE D 32x3,0 mm:",null,0,null,null,null,null,null,null,null,"Vodovodní přípojky z  PE D 32x3,0 mm:"]
[null,null,"Zásypy ŠD fr. 0-63 mm:3,5182*1,873*1,01",null,6.6555,null,null,null,null,null,null,null,"Zásypy ŠD fr. 0-63 mm:3,5182*1,873*1,01"]
[null,"Celkem za","1 Zemní práce",null,null,null,{"$f":"SUM(G7:G95)","v":0},null,{"$f":"SUM(I7:I95)","v":13.62562},null,{"$f":"SUM(K7:K95)","v":0},null,null,null,4,null,null,null,null,null,null,null,null,null,null,null,null,null,null,null,null,null,null,null,null,null,null,null,null,null,null,null,null,null,null,null,null,null,null,null,null,null,{"$f":"SUM(BA7:BA95)","v":0},{"$f":"SUM(BB7:BB95)","v":0},{"$f":"SUM(BC7:BC95)","v":0},{"$f":"SUM(BD7:BD95)","v":0},{"$f":"SUM(BE7:BE95)","v":0}]
["Díl:","21","Úprava podloží a základ.spáry",null,null,null,null,null,null,null,null,null,null,null,1]
[16,"215901101RT5","Zhutnění podloží do 92% PS vibrační deskou","m2",10.5,null,{"$f":"E98*F98","v":0},0,{"$f":"E98*H98","v":0},0,{"$f":"E98*J98","v":0},null,null,null,2,null,null,null,null,null,null,null,null,null,null,null,1,1,1,null,null,null,null,null,null,null,null,null,null,null,null,null,null,null,null,null,null,null,null,null,null,1,{"$f":"IF(AZ98=1,G98,0)","v":0},{"$f":"IF(AZ98=2,G98,0)","v":0},{"$f":"IF(AZ98=3,G98,0)","v":0},{"$f":"IF(AZ98=4,G98,0)","v":0},{"$f":"IF(AZ98=5,G98,0)","v":0},null,null,null,null,null,null,null,null,null,null,null,null,null,null,null,null,null,null,null,null,null,1,1]
[null,null,"Vodovodní přípojky z  PE D 32x3,0 mm:",null,0,null,null,null,null,null,null,null,"Vodovodní přípojky z  PE D 32x3,0 mm:"]
[null,null,"VP (1 kus):15,00*0,70",null,10.5,null,null,null,null,null,null,null,"VP (1 kus):15,00*0,70"]
[null,"Celkem za","21 Úprava podloží a základ.spáry",null,null,null,{"$f":"SUM(G97:G100)","v":0},null,{"$f":"SUM(I97:I100)","v":0},null,{"$f":"SUM(K97:K100)","v":0},null,null,null,4,null,null,null,null,null,null,null,null,null,null,null,null,null,null,null,null,null,null,null,null,null,null,null,null,null,null,null,null,null,null,null,null,null,null,null,null,null,{"$f":"SUM(BA97:BA100)","v":0},{"$f":"SUM(BB97:BB100)","v":0},{"$f":"SUM(BC97:BC100)","v":0},{"$f":"SUM(BD97:BD100)","v":0},{"$f":"SUM(BE97:BE100)","v":0}]
["Díl:","45","Podkladní a vedlejší konstrukce",null,null,null,null,null,null,null,null,null,null,null,1]
[17,"451572111R00","Lože pod potrubí z kameniva těženého 0 - 4 mm ","m3",1.575,null,{"$f":"E103*F103","v":0},0.43051,{"$f":"E103*H103","v":0.67805324999999994},0,{"$f":"E103*J103","v":0},null,null,null,2,null,null,null,null,null,null,null,null,null,null,null,1,1,1,null,null,null,null,null,null,null,null,null,null,null,null,null,null,null,null,null,null,null,null,null,null,1,{"$f":"IF(AZ103=1,G103,0)","v":0},{"$f":"IF(AZ103=2,G103,0)","v":0},{"$f":"IF(AZ103=3,G103,0)","v":0},{"$f":"IF(AZ103=4,G103,0)","v":0},{"$f":"IF(AZ103=5,G103,0)","v":0},null,null,null,null,null,null,null,null,null,null,null,null,null,null,null,null,null,null,null,null,null,1,1]
[null,null,"Vodovodní přípojky z  PE D 32x3,0 mm:",null,0,null,null,null,null,null,null,null,"Vodovodní přípojky z  PE D 32x3,0 mm:"]
[null,null,"VP (1 kus):15,00*0,70*0,15",null,1.575,null,null,null,null,null,null,null,"VP (1 kus):15,00*0,70*0,15"]
[null,"Celkem za","45 Podkladní a vedlejší konstrukce",null,null,null,{"$f":"SUM(G102:G105)","v":0},null,{"$f":"SUM(I102:I105)","v":0.67805324999999994},null,{"$f":"SUM(K102:K105)","v":0},null,null,null,4,null,null,null,null,null,null,null,null,null,null,null,null,null,null,null,null,null,null,null,null,null,null,null,null,null,null,null,null,null,null,null,null,null,null,null,null,null,{"$f":"SUM(BA102:BA105)","v":0},{"$f":"SUM(BB102:BB105)","v":0},{"$f":"SUM(BC102:BC105)","v":0},{"$f":"SUM(BD102:BD105)","v":0},{"$f":"SUM(BE102:BE105)","v":0}]
["Díl:","5","Komunikace",null,null,null,null,null,null,null,null,null,null,null,1]
[18,"572701119RRX","Provizorní zásyp rýh kam. hrubě drceným nebo recyk s následným odstraněním a odvozem","m3",1.96,null,{"$f":"E108*F108","v":0},1.4804999999999999,{"$f":"E108*H108","v":2.90178},0,{"$f":"E108*J108","v":0},null,null,null,2,null,null,null,null,null,null,null,null,null,null,null,1,1,1,null,null,null,null,null,null,null,null,null,null,null,null,null,null,null,null,null,null,null,null,null,null,1,{"$f":"IF(AZ108=1,G108,0)","v":0},{"$f":"IF(AZ108=2,G108,0)","v":0},{"$f":"IF(AZ108=3,G108,0)","v":0},{"$f":"IF(AZ108=4,G108,0)","v":0},{"$f":"IF(AZ108=5,G108,0)","v":0},null,null,null,null,null,null,null,null,null,null,null,null,null,null,null,null,null,null,null,null,null,1,1]
[null,null,"Vodovodní přípojky z  PE D 32x3,0 mm:",null,0,null,null,null,null,null,null,null,"Vodovodní přípojky z  PE D 32x3,0 mm:"]
[null,null,"Provizorní zásypy konstrukce komunikací a chodníků:7,00*0,70*0,40",null,1.96,null,null,null,null,null,null,null,"Provizorní zásypy konstrukce komunikací a chodníků:7,00*0,70*0,40"]
[null,"Celkem za","5 Komunikace",null,null,null,{"$f":"SUM(G107:G110)","v":0},null,{"$f":"SUM(I107:I110)","v":2.90178},null,{"$f":"SUM(K107:K110)","v":0},null,null,null,4,null,null,null,null,null,null,null,null,null,null,null,null,null,null,null,null,null,null,null,null,null,null,null,null,null,null,null,null,null,null,null,null,null,null,null,null,null,{"$f":"SUM(BA107:BA110)","v":0},{"$f":"SUM(BB107:BB110)","v":0},{"$f":"SUM(BC107:BC110)","v":0},{"$f":"SUM(BD107:BD110)","v":0},{"$f":"SUM(BE107:BE110)","v":0}]
["Díl:","8","Trubní vedení",null,null,null,null,null,null,null,null,null,null,null,1]
[19,"871161121R00","Montáž trubek polyetylenových ve výkopu d 32 mm ","m",15,null,{"$f":"E113*F113","v":0},0,{"$f":"E113*H113","v":0},0,{"$f":"E113*J113","v":0},null,null,null,2,null,null,null,null,null,null,null,null,null,null,null,1,1,1,null,null,null,null,null,null,null,null,null,null,null,null,null,null,null,null,null,null,null,null,null,null,1,{"$f":"IF(AZ113=1,G113,0)","v":0},{"$f":"IF(AZ113=2,G113,0)","v":0},{"$f":"IF(AZ113=3,G113,0)","v":0},{"$f":"IF(AZ113=4,G113,0)","v":0},{"$f":"IF(AZ113=5,G113,0)","v":0},null,null,null,null,null,null,null,null,null,null,null,null,null,null,null,null,null,null,null,null,null,1,1]
[null,null,"V položce je uvažováno použití svitku. ",null,null,null,null,null,null,null,null,"V položce je uvažováno použití svitku. ",null,null,3]
[null,null,"Vodovodní přípojky z  PE D 32x3,0 mm:",null,0,null,null,null,null,null,null,null,"Vodovodní přípojky z  PE D 32x3,0 mm:"]
[null,null,"VP (1 kus):15,00",null,15,null,null,null,null,null,null,null,"VP (1 kus):15,00"]
[20,"877162121R00","Přirážka za 1 spoj elektrotvarovky d 32 mm ","kus",1,null,{"$f":"E117*F117","v":0},0,{"$f":"E117*H117","v":0},0,{"$f":"E117*J117","v":0},null,null,null,2,null,null,null,null,null,null,null,null,null,null,null,1,1,1,null,null,null,null,null,null,null,null,null,null,null,null,null,null,null,null,null,null,null,null,null,null,1,{"$f":"IF(AZ117=1,G117,0)","v":0},{"$f":"IF(AZ117=2,G117,0)","v":0},{"$f":"IF(AZ117=3,G117,0)","v":0},{"$f":"IF(AZ117=4,G117,0)","v":0},{"$f":"IF(AZ117=5,G117,0)","v":0},null,null,null,null,null,null,null,null,null,null,null,null,null,null,null,null,null,null,null,null,null,1,1]
[null,null,"Vodovodní přípojky z  PE D 32x3,0 mm:",null,0,null,null,null,null,null,null,null,"Vodovodní přípojky z  PE D 32x3,0 mm:"]
[null,null,"VP (1 kus):",null,0,null,null,null,null,null,null,null,"VP (1 kus):"]
[null,null,"Elektrospojka PE D32:1",null,1,null,null,null,null,null,null,null,"Elektrospojka PE D32:1"]
[21,"891183439RRX","Přepojení potrubí PE na přípojkách D 32 včetně dodávky přepojovací tvarovky","kus",1,null,{"$f":"E121*F121","v":0},1.4599999999999999E-3,{"$f":"E121*H121","v":1.4599999999999999E-3},0,{"$f":"E121*J121","v":0},null,null,null,2,null,null,null,null,null,null,null,null,null,null,null,1,1,1,null,null,null,null,null,null,null,null,null,null,null,null,null,null,null,null,null,null,null,null,null,null,1,{"$f":"IF(AZ121=1,G121,0)","v":0},{"$f":"IF(AZ121=2,G121,0)","v":0},{"$f":"IF(AZ121=3,G121,0)","v":0},{"$f":"IF(AZ121=4,G121,0)","v":0},{"$f":"IF(AZ121=5,G121,0)","v":0},null,null,null,null,null,null,null,null,null,null,null,null,null,null,null,null,null,null,null,null,null,1,1]
[null,null,"Položka obsahuje přerušení stávajícího potrubí, montáž a dodávku příslušné tvarovky pro propojení stávajícího potrubí (PE, ocel a pod.)  s novým potrubím (PE D 32x3,0 mm) přípojky  D 32",null,null,null,null,null,null,null,null,"Položka obsahuje přerušení stávajícího potrubí, montáž a dodávku příslušné tvarovky pro propojení stávajícího potrubí (PE, ocel a pod.)  s novým potrubím (PE D 32x3,0 mm) přípojky  D 32",null,null,3]
[null,null,"Vodovodní přípojky z  PE D 32x3,0 mm:",null,0,null,null,null,null,null,null,null,"Vodovodní přípojky z  PE D 32x3,0 mm:"]
[null,null,"VP (1 kus) - Přepojení na stávající potrubí:1",null,1,null,null,null,null,null,null,null,"VP (1 kus) - Přepojení na stávající potrubí:1"]
[22,"892233111R00","Desinfekce vodovodního potrubí DN 70 ","m",15,null,{"$f":"E125*F125","v":0},0,{"$f":"E125*H125","v":0},0,{"$f":"E125*J125","v":0},null,null,null,2,null,null,null,null,null,null,null,null,null,null,null,1,1,1,null,null,null,null,null,null,null,null,null,null,null,null,null,null,null,null,null,null,null,null,null,null,1,{"$f":"IF(AZ125=1,G125,0)","v":0},{"$f":"IF(AZ125=2,G125,0)","v":0},{"$f":"IF(AZ125=3,G125,0)","v":0},{"$f":"IF(AZ125=4,G125,0)","v":0},{"$f":"IF(AZ125=5,G125,0)","v":0},null,null,null,null,null,null,null,null,null,null,null,null,null,null,null,null,null,null,null,null,null,1,1]
[null,null,"V položce jsou zakalkulovány náklady na napuštění a vypuštění vody, dodání vody a desinfekčního prostředku a na bakteriologický rozbor vody.",null,null,null,null,null,null,null,null,"V položce jsou zakalkulovány náklady na napuštění a vypuštění vody, dodání vody a desinfekčního prostředku a na bakteriologický rozbor vody.",null,null,3]
[null,null,"Vodovodní přípojky z  PE D 32x3,0 mm:",null,0,null,null,null,null,null,null,null,"Vodovodní přípojky z  PE D 32x3,0 mm:"]
[null,null,"VP (1 kus):15,00",null,15,null,null,null,null,null,null,null,"VP (1 kus):15,00"]
[23,"892241111R00","Tlaková zkouška vodovodního potrubí DN 80 včetně zajištění konců potrubí","m",15,null,{"$f":"E129*F129","v":0},0,{"$f":"E129*H129","v":0},0,{"$f":"E129*J129","v":0},null,null,null,2,null,null,null,null,null,null,null,null,null,null,null,1,1,1,null,null,null,null,null,null,null,null,null,null,null,null,null,null,null,null,null,null,null,null,null,null,1,{"$f":"IF(AZ129=1,G129,0)","v":0},{"$f":"IF(AZ129=2,G129,0)","v":0},{"$f":"IF(AZ129=3,G129,0)","v":0},{"$f":"IF(AZ129=4,G129,0)","v":0},{"$f":"IF(AZ129=5,G129,0)","v":0},null,null,null,null,null,null,null,null,null,null,null,null,null,null,null,null,null,null,null,null,null,1,1]
[null,null,"V položce jsou započteny náklady na přísun, montáž, demontáž a odsun zkoušecího čerpadla, napuštění tlakovou vodou a dodání vody pro tlakovou zkoušku",null,null,null,null,null,null,null,null,"V položce jsou započteny náklady na přísun, montáž, demontáž a odsun zkoušecího čerpadla, napuštění tlakovou vodou a dodání vody pro tlakovou zkoušku",null,null,3]
[null,null,"Vodovodní přípojky z  PE D 32x3,0 mm:",null,0,null,null,null,null,null,null,null,"Vodovodní přípojky z  PE D 32x3,0 mm:"]
[null,null,"VP (1 kus):15,00",null,15,null,null,null,null,null,null,null,"VP (1 kus):15,00"]
[24,"899721112R00","Fólie výstražná z PVC bílá, šířka 30 cm ","m",15,null,{"$f":"E133*F133","v":0},0,{"$f":"E133*H133","v":0},0,{"$f":"E133*J133","v":0},null,null,null,2,null,null,null,null,null,null,null,null,null,null,null,1,1,1,null,null,null,null,null,null,null,null,null,null,null,null,null,null,null,null,null,null,null,null,null,null,1,{"$f":"IF(AZ133=1,G133,0)","v":0},{"$f":"IF(AZ133=2,G133,0)","v":0},{"$f":"IF(AZ133=3,G133,0)","v":0},{"$f":"IF(AZ133=4,G133,0)","v":0},{"$f":"IF(AZ133=5,G133,0)","v":0},null,null,null,null,null,null,null,null,null,null,null,null,null,null,null,null,null,null,null,null,null,1,1]
[null,null,"Vodovodní přípojky z  PE D 32x3,0 mm:",null,0,null,null,null,null,null,null,null,"Vodovodní přípojky z  PE D 32x3,0 mm:"]
[null,null,"VP (1 kus):15,00",null,15,null,null,null,null,null,null,null,"VP (1 kus):15,00"]
[25,"899731114R00","Vodič signalizační CYY 6 mm2 ","m",30,null,{"$f":"E136*F136","v":0},8.0000000000000007E-5,{"$f":"E136*H136","v":2.4000000000000002E-3},0,{"$f":"E136*J136","v":0},null,null,null,2,null,null,null,null,null,null,null,null,null,null,null,1,1,1,null,null,null,null,null,null,null,null,null,null,null,null,null,null,null,null,null,null,null,null,null,null,1,{"$f":"IF(AZ136=1,G136,0)","v":0},{"$f":"IF(AZ136=2,G136,0)","v":0},{"$f":"IF(AZ136=3,G136,0)","v":0},{"$f":"IF(AZ136=4,G136,0)","v":0},{"$f":"IF(AZ136=5,G136,0)","v":0},null,null,null,null,null,null,null,null,null,null,null,null,null,null,null,null,null,null,null,null,null,1,1]
[null,null,"Součástí položky je zajištění proměření vodiče a výchozí zevize.",null,null,null,null,null,null,null,null,"Součástí položky je zajištění proměření vodiče a výchozí zevize.",null,null,3]
[null,null,"Vodovodní přípojky z  PE D 32x3,0 mm:",null,0,null,null,null,null,null,null,null,"Vodovodní přípojky z  PE D 32x3,0 mm:"]
[null,null,"VP (1 kus):15,00*2",null,30,null,null,null,null,null,null,null,"VP (1 kus):15,00*2"]
[26,"286134204.R","Trubka tlaková PE 100 RC2 PE100 32x3,0 mm PN16","m",15.225,null,{"$f":"E140*F140","v":0},1E-3,{"$f":"E140*H140","v":1.5225000000000001E-2},null,{"$f":"E140*J140","v":0},null,null,null,2,null,null,null,null,null,null,null,null,null,null,null,3,1,"286134204.R",null,null,null,null,null,null,null,null,null,null,null,null,null,null,null,null,null,null,null,null,null,null,1,{"$f":"IF(AZ140=1,G140,0)","v":0},{"$f":"IF(AZ140=2,G140,0)","v":0},{"$f":"IF(AZ140=3,G140,0)","v":0},{"$f":"IF(AZ140=4,G140,0)","v":0},{"$f":"IF(AZ140=5,G140,0)","v":0},null,null,null,null,null,null,null,null,null,null,null,null,null,null,null,null,null,null,null,null,null,3,1]
[null,null,"Vodovodní tlaková trubka PE 100 RC2 dle normy EN 12 201-2",null,null,null,null,null,null,null,null,"Vodovodní PE tlaková trubka AQUALINE RC2 dle normy EN 12 201-2",null,null,3]
[null,null,"(doprava pitné a užitkové vody)",null,null,null,null,null,null,null,null,"(doprava pitné a užitkové vody)",null,null,3]
[null,null,"Návin 100 m",null,null,null,null,null,null,null,null,"Návin 100 m",null,null,3]
[null,null,"Vodovodní přípojky z  PE D 32x3,0 mm:",null,0,null,null,null,null,null,null,null,"Vodovodní přípojky z  PE D 32x3,0 mm:"]
[null,null,"VP (1 kus):15,00*1,015",null,15.225,null,null,null,null,null,null,null,"VP (1 kus):15,00*1,015"]
[27,"28653075.05.R","Elektrospojka d 32 mm PE 100 SDR11","kus",1.0149999999999999,null,{"$f":"E146*F146","v":0},1.2999999999999999E-3,{"$f":"E146*H146","v":1.3194999999999997E-3},null,{"$f":"E146*J146","v":0},null,null,null,2,null,null,null,null,null,null,null,null,null,null,null,3,1,"28653075.05.R",null,null,null,null,null,null,null,null,null,null,null,null,null,null,null,null,null,null,null,null,null,null,1,{"$f":"IF(AZ146=1,G146,0)","v":0},{"$f":"IF(AZ146=2,G146,0)","v":0},{"$f":"IF(AZ146=3,G146,0)","v":0},{"$f":"IF(AZ146=4,G146,0)","v":0},{"$f":"IF(AZ146=5,G146,0)","v":0},null,null,null,null,null,null,null,null,null,null,null,null,null,null,null,null,null,null,null,null,null,3,1]
[null,null,"Vodovodní přípojky z  PE D 32x3,0 mm:",null,0,null,null,null,null,null,null,null,"Vodovodní přípojky z  PE D 32x3,0 mm:"]
[null,null,"VP (1 kus):",null,0,null,null,null,null,null,null,null,"VP (1 kus):"]
[null,null,"Elektrospojka PE D32:1*1,015",null,1.0149999999999999,null,null,null,null,null,null,null,"Elektrospojka PE D32:1*1,015"]
[null,"Celkem za","8 Trubní vedení",null,null,null,{"$f":"SUM(G112:G149)","v":0},null,{"$f":"SUM(I112:I149)","v":2.0404500000000002E-2},null,{"$f":"SUM(K112:K149)","v":0},null,null,null,4,null,null,null,null,null,null,null,null,null,null,null,null,null,null,null,null,null,null,null,null,null,null,null,null,null,null,null,null,null,null,null,null,null,null,null,null,null,{"$f":"SUM(BA112:BA149)","v":0},{"$f":"SUM(BB112:BB149)","v":0},{"$f":"SUM(BC112:BC149)","v":0},{"$f":"SUM(BD112:BD149)","v":0},{"$f":"SUM(BE112:BE149)","v":0}]
["Díl:","99","Staveništní přesun hmot",null,null,null,null,null,null,null,null,null,null,null,1]
[28,"998276101RXX","Přesun hmot, trubní vedení plastová, otevř. výkop pro celý rozsah objektu","t",17.225857749999999,null,{"$f":"E152*F152","v":0},0,{"$f":"E152*H152","v":0},null,{"$f":"E152*J152","v":0},null,null,null,2,null,null,null,null,null,null,null,null,null,null,null,7,1,2,null,null,null,null,null,null,null,null,null,null,null,null,null,null,null,null,null,null,null,null,null,null,1,{"$f":"IF(AZ152=1,G152,0)","v":0},{"$f":"IF(AZ152=2,G152,0)","v":0},{"$f":"IF(AZ152=3,G152,0)","v":0},{"$f":"IF(AZ152=4,G152,0)","v":0},{"$f":"IF(AZ152=5,G152,0)","v":0},null,null,null,null,null,null,null,null,null,null,null,null,null,null,null,null,null,null,null,null,null,7,1]
[null,null,"Staveništní doprava pro celý rozsah objektu - doprava zmeziskládek vybudovaného zařízení staveniště zhotovitele na jednotlivé části staveniště.",null,null,null,null,null,null,null,null,"Staveništní doprava pro celý rozsah objektu - doprava zmeziskládek vybudovaného zařízení staveniště zhotovitele na jednotlivé části staveniště.",null,null,3]
[null,"Celkem za","99 Staveništní přesun hmot",null,null,null,{"$f":"SUM(G151:G153)","v":0},null,{"$f":"SUM(I151:I153)","v":0},null,{"$f":"SUM(K151:K153)","v":0},null,null,null,4,null,null,null,null,null,null,null,null,null,null,null,null,null,null,null,null,null,null,null,null,null,null,null,null,null,null,null,null,null,null,null,null,null,null,null,null,null,{"$f":"SUM(BA151:BA153)","v":0},{"$f":"SUM(BB151:BB153)","v":0},{"$f":"SUM(BC151:BC153)","v":0},{"$f":"SUM(BD151:BD153)","v":0},{"$f":"SUM(BE151:BE153)","v":0}]

{"sheet":"307 3542307.4 KL","index":71,"n_rows":45,"n_cols":8,"rows_kept":45,"cut":false,"hidden":false,"merged":[[50,1,50,6],[29,5,29,6],[30,5,30,6],[31,5,31,6],[32,5,32,6],[33,5,33,6],[36,1,44,6],[45,1,45,6],[46,1,46,6],[47,1,47,6],[48,1,48,6],[49,1,49,6],[22,0,22,1],[7,2,7,4],[8,2,8,4],[9,2,9,4],[10,2,10,4],[11,2,11,4]]}
["POLOŽKOVÝ ROZPOČET"]
["Rozpočet",null,"3542/307.4","Opravy povrchů komunikace ul. Nad Špejcharem",null,"JKSO ","827.13"]
[]
["Objekt",null,null,null,null,"SKP "]
["307",null,"Oprava vodovodního řadu SP ul. Nad Špejcharem",null,null,"Měrná jednotka","m"]
["Stavba",null,null,null,null,"Počet jednotek",0]
["3542",null,"Semily - Obnova VH infrastruktury a komunikací",null,null,"Náklady na m.j.",{"$f":"IF(G6=0,,ROUND((F30+F32)/G6,1))","v":0}]
["Projektant",null,null,null,null,"Typ rozpočtu"]
["Zpracovatel projektu"]
["Objednatel",null,"Vodohospodářské sdružení Turnov"]
["Dodavatel",null,".",null,null,"Zakázkové číslo "]
["Rozpočtoval",null,null,null,null,"Počet listů"]
["ROZPOČTOVÉ NÁKLADY"]
["Základní rozpočtové náklady"]
[null,"HSV celkem",{"$f":"'307 3542307.4 Rek'!E12","v":0}]
["Z","PSV celkem",{"$f":"'307 3542307.4 Rek'!F12","v":0}]
["R","M práce celkem",{"$f":"'307 3542307.4 Rek'!H12","v":0}]
["N","M dodávky celkem",{"$f":"'307 3542307.4 Rek'!G12","v":0}]
["ZRN celkem",null,{"$f":"SUM(C15:C18)","v":0}]
[]
["HZS",null,{"$f":"'307 3542307.4 Rek'!I12","v":0}]
["ZRN+HZS",null,{"$f":"C19+C21","v":0}]
["ZRN+ost.náklady+HZS",null,{"$f":"C22+G23","v":0}]
["Vypracoval",null,null,"Za zhotovitele",null,"Za objednatele"]
["Jméno :",null,null,"Jméno :",null,"Jméno :"]
["Datum :",null,null,"Datum :",null,"Datum :"]
[]
["Podpis :",null,null,"Podpis:",null,"Podpis:"]
[]
["Základ pro DPH",null,21,"%  ",null,{"$f":"C23-F32","v":0}]
["DPH",null,{"$f":"C30","v":21},"% ",null,{"$f":"ROUND(PRODUCT(F30,C31/100),0)","v":0}]
["Základ pro DPH",null,0,"% ",null,0]
["DPH",null,{"$f":"C32","v":0},"% ",null,{"$f":"ROUND(PRODUCT(F32,C33/100),0)","v":0}]
["CENA ZA OBJEKT CELKEM",null,null,null,null,{"$f":"ROUND(SUM(F30:F33),0)","v":0}]
[]
["Poznámka :",null,null,null,null,null,null," "]
[null,null,null,null,null,null,null," "]
[null,null,null,null,null,null,null," "]
[null,null,null,null,null,null,null," "]
[null,null,null,null,null,null,null," "]
[null,null,null,null,null,null,null," "]
[null,null,null,null,null,null,null," "]
[null,null,null,null,null,null,null," "]
[null,null,null,null,null,null,null," "]
[null,null,null,null,null,null,null," "]

{"sheet":"307 3542307.4 Rek","index":72,"n_rows":12,"n_cols":9,"rows_kept":12,"cut":false,"hidden":false,"merged":[[0,0,0,1],[1,0,1,1],[1,6,1,8]]}
["Stavba :",null,"3542 Semily - Obnova VH infrastruktury a komunikací",null,null,null,"Rozpočet :","3542/307.4"]
["Objekt :",null,"307 Oprava vodovodního řadu SP ul. Nad Špejcharem",null,null,null,"Opravy povrchů komunikace ul. Nad Špejcharem"]
[]
["REKAPITULACE  STAVEBNÍCH  DÍLŮ"]
[]
[null,"Stavební díl",null,null,"HSV","PSV","Dodávka","Montáž","HZS"]
[{"$f":"'307 3542307.4 Pol'!B7","v":"1"},{"$f":"'307 3542307.4 Pol'!C7","v":"Zemní práce"},null,null,{"$f":"'307 3542307.4 Pol'!BA31","v":0},{"$f":"'307 3542307.4 Pol'!BB31","v":0},{"$f":"'307 3542307.4 Pol'!BC31","v":0},{"$f":"'307 3542307.4 Pol'!BD31","v":0},{"$f":"'307 3542307.4 Pol'!BE31","v":0}]
[{"$f":"'307 3542307.4 Pol'!B32","v":"5"},{"$f":"'307 3542307.4 Pol'!C32","v":"Komunikace"},null,null,{"$f":"'307 3542307.4 Pol'!BA56","v":0},{"$f":"'307 3542307.4 Pol'!BB56","v":0},{"$f":"'307 3542307.4 Pol'!BC56","v":0},{"$f":"'307 3542307.4 Pol'!BD56","v":0},{"$f":"'307 3542307.4 Pol'!BE56","v":0}]
[{"$f":"'307 3542307.4 Pol'!B57","v":"91"},{"$f":"'307 3542307.4 Pol'!C57","v":"Doplňující práce na komunikaci"},null,null,{"$f":"'307 3542307.4 Pol'!BA74","v":0},{"$f":"'307 3542307.4 Pol'!BB74","v":0},{"$f":"'307 3542307.4 Pol'!BC74","v":0},{"$f":"'307 3542307.4 Pol'!BD74","v":0},{"$f":"'307 3542307.4 Pol'!BE74","v":0}]
[{"$f":"'307 3542307.4 Pol'!B75","v":"93"},{"$f":"'307 3542307.4 Pol'!C75","v":"Dokončovací práce inženýrských staveb"},null,null,{"$f":"'307 3542307.4 Pol'!BA90","v":0},{"$f":"'307 3542307.4 Pol'!BB90","v":0},{"$f":"'307 3542307.4 Pol'!BC90","v":0},{"$f":"'307 3542307.4 Pol'!BD90","v":0},{"$f":"'307 3542307.4 Pol'!BE90","v":0}]
[{"$f":"'307 3542307.4 Pol'!B91","v":"99"},{"$f":"'307 3542307.4 Pol'!C91","v":"Staveništní přesun hmot"},null,null,{"$f":"'307 3542307.4 Pol'!BA94","v":0},{"$f":"'307 3542307.4 Pol'!BB94","v":0},{"$f":"'307 3542307.4 Pol'!BC94","v":0},{"$f":"'307 3542307.4 Pol'!BD94","v":0},{"$f":"'307 3542307.4 Pol'!BE94","v":0}]
[null,"CELKEM  OBJEKT",null,null,{"$f":"SUM(E7:E11)","v":0},{"$f":"SUM(F7:F11)","v":0},{"$f":"SUM(G7:G11)","v":0},{"$f":"SUM(H7:H11)","v":0},{"$f":"SUM(I7:I11)","v":0}]

{"sheet":"307 3542307.4 Pol","index":73,"n_rows":94,"n_cols":80,"rows_kept":94,"cut":false,"hidden":false,"merged":[[92,2,92,6],[84,2,84,6],[85,2,85,6],[86,2,86,6],[87,2,87,3],[88,2,88,3],[81,2,81,6],[82,2,82,6],[83,2,83,6],[67,2,67,3],[68,2,68,3],[69,2,69,3],[70,2,70,3],[71,2,71,3],[72,2,72,3],[76,2,76,6],[77,2,77,6],[78,2,78,6],[79,2,79,6],[80,2,80,6],[63,2,63,3],[64,2,64,3],[66,2,66,3],[47,2,47,3],[48,2,48,3],[50,2,50,3],[51,2,51,3],[53,2,53,3],[54,2,54,3],[58,2,58,3],[59,2,59,3],[60,2,60,3],[61,2,61,3],[62,2,62,3],[46,2,46,3],[29,2,29,6],[33,2,33,3],[34,2,34,3],[35,2,35,3],[36,2,36,3],[37,2,37,3],[38,2,38,3],[39,2,39,3],[41,2,41,6],[42,2,42,3],[43,2,43,3],[44,2,44,3],[45,2,45,3],[25,2,25,3],[12,2,12,3],[13,2,13,3],[14,2,14,3],[16,2,16,3],[17,2,17,3],[18,2,18,3],[19,2,19,3],[20,2,20,3],[21,2,21,3],[22,2,22,3],[24,2,24,3],[9,2,9,3],[10,2,10,3],[11,2,11,3],[0,0,0,6],[2,0,2,1],[3,0,3,1],[3,4,3,6],[8,2,8,3]]}
["Položkový rozpočet "]
[]
["Stavba :",null,"3542 Semily - Obnova VH infrastruktury a komunikací",null,"Rozpočet:",{"$f":"'307 3542307.4 Rek'!H1","v":"3542/307.4"}]
["Objekt :",null,"307 Oprava vodovodního řadu SP ul. Nad Špejcharem",null,{"$f":"'307 3542307.4 Rek'!G2","v":"Opravy povrchů komunikace ul. Nad Špejcharem"}]
[]
["P.č.","Číslo položky","Název položky","MJ","množství","cena / MJ","celkem (Kč)","Jednotková hmotnost","Celková hmotnost","Jednotková dem.hmot.","Celková dem.hmot."]
["Díl:","1","Zemní práce",null,null,null,null,null,null,null,null,null,null,null,1]
[1,"113107630R00","Odstranění podkladu nad 50 m2,kam.drcené tl.30 cm ","m2",125.08499999999999,null,{"$f":"E8*F8","v":0},0,{"$f":"E8*H8","v":0},-0.66,{"$f":"E8*J8","v":-82.556100000000001},null,null,null,2,null,null,null,null,null,null,null,null,null,null,null,1,1,1,null,null,null,null,null,null,null,null,null,null,null,null,null,null,null,null,null,null,null,null,null,null,1,{"$f":"IF(AZ8=1,G8,0)","v":0},{"$f":"IF(AZ8=2,G8,0)","v":0},{"$f":"IF(AZ8=3,G8,0)","v":0},{"$f":"IF(AZ8=4,G8,0)","v":0},{"$f":"IF(AZ8=5,G8,0)","v":0},null,null,null,null,null,null,null,null,null,null,null,null,null,null,null,null,null,null,null,null,null,1,1]
[null,null,"ul. Nad Špejcharem:",null,0,null,null,null,null,null,null,null,"ul. Nad Špejcharem:"]
[null,null,"Pro rýhy s rozšířením o 2x0,25 m (zámek):",null,0,null,null,null,null,null,null,null,"Pro rýhy s rozšířením o 2x0,25 m (zámek):"]
[null,null,"Stoka \"S\":10,00*1,50",null,15,null,null,null,null,null,null,null,"Stoka \"S\":10,00*1,50"]
[null,null,"Řad \"SP\":95,00*0,90",null,85.5,null,null,null,null,null,null,null,"Řad \"SP\":95,00*0,90"]
[null,null,"AŠ 2:2,90*4,15",null,12.035,null,null,null,null,null,null,null,"AŠ 2:2,90*4,15"]
[null,null,"Řad \"D\":10,00*0,80",null,8,null,null,null,null,null,null,null,"Řad \"D\":10,00*0,80"]
[null,null,"VP pro čp.684:6,50*0,70",null,4.55,null,null,null,null,null,null,null,"VP pro čp.684:6,50*0,70"]
[2,"113108407R00","Odstranění asfaltové vrstvy pl.nad 50 m2, tl. 7 cm ","m2",183.83500000000001,null,{"$f":"E16*F16","v":0},0,{"$f":"E16*H16","v":0},-0.154,{"$f":"E16*J16","v":-28.310590000000001},null,null,null,2,null,null,null,null,null,null,null,null,null,null,null,1,1,1,null,null,null,null,null,null,null,null,null,null,null,null,null,null,null,null,null,null,null,null,null,null,1,{"$f":"IF(AZ16=1,G16,0)","v":0},{"$f":"IF(AZ16=2,G16,0)","v":0},{"$f":"IF(AZ16=3,G16,0)","v":0},{"$f":"IF(AZ16=4,G16,0)","v":0},{"$f":"IF(AZ16=5,G16,0)","v":0},null,null,null,null,null,null,null,null,null,null,null,null,null,null,null,null,null,null,null,null,null,1,1]
[null,null,"ul. Nad Špejcharem:",null,0,null,null,null,null,null,null,null,"ul. Nad Špejcharem:"]
[null,null,"Pro rýhy s rozšířením o 2x0,25 m (zámek):",null,0,null,null,null,null,null,null,null,"Pro rýhy s rozšířením o 2x0,25 m (zámek):"]
[null,null,"Stoka \"S\":10,00*(1,30+2*0,25)",null,18,null,null,null,null,null,null,null,"Stoka \"S\":10,00*(1,30+2*0,25)"]
[null,null,"Řad \"SP\":95,00*(0,90+2*0,25)",null,133,null,null,null,null,null,null,null,"Řad \"SP\":95,00*(0,90+2*0,25)"]
[null,null,"AŠ 2:2,90*4,15",null,12.035,null,null,null,null,null,null,null,"AŠ 2:2,90*4,15"]
[null,null,"Řad \"D\":10,00*(0,80+2*0,25)",null,13,null,null,null,null,null,null,null,"Řad \"D\":10,00*(0,80+2*0,25)"]
[null,null,"VP pro čp.684:6,50*(0,70+2*0,25)",null,7.8,null,null,null,null,null,null,null,"VP pro čp.684:6,50*(0,70+2*0,25)"]
[3,"113153314R00","Fréz.beton.krytu nad 500 m2, s překážkami, tl.5 cm ","m2",800,null,{"$f":"E24*F24","v":0},0,{"$f":"E24*H24","v":0},-0.11,{"$f":"E24*J24","v":-88},null,null,null,2,null,null,null,null,null,null,null,null,null,null,null,1,1,1,null,null,null,null,null,null,null,null,null,null,null,null,null,null,null,null,null,null,null,null,null,null,1,{"$f":"IF(AZ24=1,G24,0)","v":0},{"$f":"IF(AZ24=2,G24,0)","v":0},{"$f":"IF(AZ24=3,G24,0)","v":0},{"$f":"IF(AZ24=4,G24,0)","v":0},{"$f":"IF(AZ24=5,G24,0)","v":0},null,null,null,null,null,null,null,null,null,null,null,null,null,null,null,null,null,null,null,null,null,1,1]
[null,null,"ul. Nad Špejcharem:",null,0,null,null,null,null,null,null,null,"ul. Nad Špejcharem:"]
[null,null,"Celková plocha komunikace:800,00",null,800,null,null,null,null,null,null,null,"Celková plocha komunikace:800,00"]
[4,"979082113RSZ","Vodorovná doprava suti po suchu na skládku zhotovitele","t",197.54669999999999,null,{"$f":"E27*F27","v":0},0,{"$f":"E27*H27","v":0},0,{"$f":"E27*J27","v":0},null,null,null,2,null,null,null,null,null,null,null,null,null,null,null,1,1,1,null,null,null,null,null,null,null,null,null,null,null,null,null,null,null,null,null,null,null,null,null,null,1,{"$f":"IF(AZ27=1,G27,0)","v":0},{"$f":"IF(AZ27=2,G27,0)","v":0},{"$f":"IF(AZ27=3,G27,0)","v":0},{"$f":"IF(AZ27=4,G27,0)","v":0},{"$f":"IF(AZ27=5,G27,0)","v":0},null,null,null,null,null,null,null,null,null,null,null,null,null,null,null,null,null,null,null,null,null,1,1]
[5,"979089001R00","Poplatek za skládku stavební suti štěrky z komunikací, skupina odpadu 010408","t",81.236099999999993,null,{"$f":"E28*F28","v":0},0,{"$f":"E28*H28","v":0},0,{"$f":"E28*J28","v":0},null,null,null,2,null,null,null,null,null,null,null,null,null,null,null,1,1,1,null,null,null,null,null,null,null,null,null,null,null,null,null,null,null,null,null,null,null,null,null,null,1,{"$f":"IF(AZ28=1,G28,0)","v":0},{"$f":"IF(AZ28=2,G28,0)","v":0},{"$f":"IF(AZ28=3,G28,0)","v":0},{"$f":"IF(AZ28=4,G28,0)","v":0},{"$f":"IF(AZ28=5,G28,0)","v":0},null,null,null,null,null,null,null,null,null,null,null,null,null,null,null,null,null,null,null,null,null,1,1]
[6,"979999995R00","Poplatek za recyklaci asfaltu, kusovost do 1600cm2 skupina 170302","t",116.31059999999999,null,{"$f":"E29*F29","v":0},0,{"$f":"E29*H29","v":0},0,{"$f":"E29*J29","v":0},null,null,null,2,null,null,null,null,null,null,null,null,null,null,null,1,1,1,null,null,null,null,null,null,null,null,null,null,null,null,null,null,null,null,null,null,null,null,null,null,1,{"$f":"IF(AZ29=1,G29,0)","v":0},{"$f":"IF(AZ29=2,G29,0)","v":0},{"$f":"IF(AZ29=3,G29,0)","v":0},{"$f":"IF(AZ29=4,G29,0)","v":0},{"$f":"IF(AZ29=5,G29,0)","v":0},null,null,null,null,null,null,null,null,null,null,null,null,null,null,null,null,null,null,null,null,null,1,1]
[null,null,"Položka je určena pro suť o velikosti kusu do 30x30 cm (technologický materiál určený k recyklaci).",null,null,null,null,null,null,null,null,"Položka je určena pro suť o velikosti kusu do 30x30 cm (technologický materiál určený k recyklaci).",null,null,3]
[null,"Celkem za","1 Zemní práce",null,null,null,{"$f":"SUM(G7:G30)","v":0},null,{"$f":"SUM(I7:I30)","v":0},null,{"$f":"SUM(K7:K30)","v":-198.86669000000001},null,null,null,4,null,null,null,null,null,null,null,null,null,null,null,null,null,null,null,null,null,null,null,null,null,null,null,null,null,null,null,null,null,null,null,null,null,null,null,null,null,{"$f":"SUM(BA7:BA30)","v":0},{"$f":"SUM(BB7:BB30)","v":0},{"$f":"SUM(BC7:BC30)","v":0},{"$f":"SUM(BD7:BD30)","v":0},{"$f":"SUM(BE7:BE30)","v":0}]
["Díl:","5","Komunikace",null,null,null,null,null,null,null,null,null,null,null,1]
[7,"566903111R00","Vyspravení podkladu po překopech kam.hrubě drceným ","t",70.285300000000007,null,{"$f":"E33*F33","v":0},1.1000000000000001,{"$f":"E33*H33","v":77.31383000000001},0,{"$f":"E33*J33","v":0},null,null,null,2,null,null,null,null,null,null,null,null,null,null,null,1,1,1,null,null,null,null,null,null,null,null,null,null,null,null,null,null,null,null,null,null,null,null,null,null,1,{"$f":"IF(AZ33=1,G33,0)","v":0},{"$f":"IF(AZ33=2,G33,0)","v":0},{"$f":"IF(AZ33=3,G33,0)","v":0},{"$f":"IF(AZ33=4,G33,0)","v":0},{"$f":"IF(AZ33=5,G33,0)","v":0},null,null,null,null,null,null,null,null,null,null,null,null,null,null,null,null,null,null,null,null,null,1,1]
[null,null,"ul. Nad Špejcharem:",null,0,null,null,null,null,null,null,null,"ul. Nad Špejcharem:"]
[null,null,"Pro rýhy s rozšířením o 2x0,25 m (zámek):",null,0,null,null,null,null,null,null,null,"Pro rýhy s rozšířením o 2x0,25 m (zámek):"]
[null,null,"Stoka \"S\":10,00*1,50*0,30*1,873",null,8.4284999999999997,null,null,null,null,null,null,null,"Stoka \"S\":10,00*1,50*0,30*1,873"]
[null,null,"Řad \"SP\":95,00*0,90*0,30*1,873",null,48.042499999999997,null,null,null,null,null,null,null,"Řad \"SP\":95,00*0,90*0,30*1,873"]
[null,null,"AŠ 2:2,90*4,15*0,30*1,873",null,6.7625000000000002,null,null,null,null,null,null,null,"AŠ 2:2,90*4,15*0,30*1,873"]
[null,null,"Řad \"D\":10,00*0,80*0,30*1,873",null,4.4951999999999996,null,null,null,null,null,null,null,"Řad \"D\":10,00*0,80*0,30*1,873"]
[null,null,"VP pro čp.684:6,50*0,70*0,30*1,873",null,2.5566,null,null,null,null,null,null,null,"VP pro čp.684:6,50*0,70*0,30*1,873"]
[8,"566904111R00","Vyspravení podkladu po překopech asfaltem ACP 16 v rýze","t",34.147199999999998,null,{"$f":"E41*F41","v":0},1,{"$f":"E41*H41","v":34.147199999999998},0,{"$f":"E41*J41","v":0},null,null,null,2,null,null,null,null,null,null,null,null,null,null,null,1,1,1,null,null,null,null,null,null,null,null,null,null,null,null,null,null,null,null,null,null,null,null,null,null,1,{"$f":"IF(AZ41=1,G41,0)","v":0},{"$f":"IF(AZ41=2,G41,0)","v":0},{"$f":"IF(AZ41=3,G41,0)","v":0},{"$f":"IF(AZ41=4,G41,0)","v":0},{"$f":"IF(AZ41=5,G41,0)","v":0},null,null,null,null,null,null,null,null,null,null,null,null,null,null,null,null,null,null,null,null,null,1,1]
[null,null,null,null,null,null,null,null,null,null,null,null,null,null,3]
[null,null,"ul. Nad Špejcharem:",null,0,null,null,null,null,null,null,null,"ul. Nad Špejcharem:"]
[null,null,"Pro rýhy s rozšířením o 2x0,25 m (zámek):",null,0,null,null,null,null,null,null,null,"Pro rýhy s rozšířením o 2x0,25 m (zámek):"]
[null,null,"Stoka \"S\":10,00*(1,50+2*0,25)*0,07*2,5*1,05",null,3.6749999999999998,null,null,null,null,null,null,null,"Stoka \"S\":10,00*(1,50+2*0,25)*0,07*2,5*1,05"]
[null,null,"Řad \"SP\":95,00*(0,90+2*0,25)*0,07*2,5*1,05",null,24.438800000000001,null,null,null,null,null,null,null,"Řad \"SP\":95,00*(0,90+2*0,25)*0,07*2,5*1,05"]
[null,null,"AŠ 2:2,90*4,15*0,07*2,50*1,05",null,2.2113999999999998,null,null,null,null,null,null,null,"AŠ 2:2,90*4,15*0,07*2,50*1,05"]
[null,null,"Řad \"D\":10,00*(0,80+2*0,25)*0,07*2,50*1,05",null,2.3887999999999998,null,null,null,null,null,null,null,"Řad \"D\":10,00*(0,80+2*0,25)*0,07*2,50*1,05"]
[null,null,"VP pro čp.684:6,50*(0,70+2*0,25)*0,07*2,50*1,05",null,1.4333,null,null,null,null,null,null,null,"VP pro čp.684:6,50*(0,70+2*0,25)*0,07*2,50*1,05"]
[9,"573231123R00","Postřik spojovací z KAE, množ. zbyt.asf. 0,3 kg/m2 ","m2",800,null,{"$f":"E50*F50","v":0},7.1000000000000002E-4,{"$f":"E50*H50","v":0.56800000000000006},0,{"$f":"E50*J50","v":0},null,null,null,2,null,null,null,null,null,null,null,null,null,null,null,1,1,1,null,null,null,null,null,null,null,null,null,null,null,null,null,null,null,null,null,null,null,null,null,null,1,{"$f":"IF(AZ50=1,G50,0)","v":0},{"$f":"IF(AZ50=2,G50,0)","v":0},{"$f":"IF(AZ50=3,G50,0)","v":0},{"$f":"IF(AZ50=4,G50,0)","v":0},{"$f":"IF(AZ50=5,G50,0)","v":0},null,null,null,null,null,null,null,null,null,null,null,null,null,null,null,null,null,null,null,null,null,1,1]
[null,null,"ul. Nad Špejcharem:",null,0,null,null,null,null,null,null,null,"ul. Nad Špejcharem:"]
[null,null,"Celková plocha komunikace:800,00",null,800,null,null,null,null,null,null,null,"Celková plocha komunikace:800,00"]
[10,"577142112RT2","Beton asfaltový ACO 11+ obrusný,š nad 3 m, tl.5 cm plochy 201-1000 m2","m2",800,null,{"$f":"E53*F53","v":0},0,{"$f":"E53*H53","v":0},0,{"$f":"E53*J53","v":0},null,null,null,2,null,null,null,null,null,null,null,null,null,null,null,1,1,1,null,null,null,null,null,null,null,null,null,null,null,null,null,null,null,null,null,null,null,null,null,null,1,{"$f":"IF(AZ53=1,G53,0)","v":0},{"$f":"IF(AZ53=2,G53,0)","v":0},{"$f":"IF(AZ53=3,G53,0)","v":0},{"$f":"IF(AZ53=4,G53,0)","v":0},{"$f":"IF(AZ53=5,G53,0)","v":0},null,null,null,null,null,null,null,null,null,null,null,null,null,null,null,null,null,null,null,null,null,1,1]
[null,null,"ul. Nad Špejcharem:",null,0,null,null,null,null,null,null,null,"ul. Nad Špejcharem:"]
[null,null,"Celková plocha komunikace:800,00",null,800,null,null,null,null,null,null,null,"Celková plocha komunikace:800,00"]
[null,"Celkem za","5 Komunikace",null,null,null,{"$f":"SUM(G32:G55)","v":0},null,{"$f":"SUM(I32:I55)","v":112.02903000000001},null,{"$f":"SUM(K32:K55)","v":0},null,null,null,4,null,null,null,null,null,null,null,null,null,null,null,null,null,null,null,null,null,null,null,null,null,null,null,null,null,null,null,null,null,null,null,null,null,null,null,null,null,{"$f":"SUM(BA32:BA55)","v":0},{"$f":"SUM(BB32:BB55)","v":0},{"$f":"SUM(BC32:BC55)","v":0},{"$f":"SUM(BD32:BD55)","v":0},{"$f":"SUM(BE32:BE55)","v":0}]
["Díl:","91","Doplňující práce na komunikaci",null,null,null,null,null,null,null,null,null,null,null,1]
[11,"919731122R00","Zarovnání styčné plochy živičné tl. do 10 cm ","m",263,null,{"$f":"E58*F58","v":0},0,{"$f":"E58*H58","v":0},0,{"$f":"E58*J58","v":0},null,null,null,2,null,null,null,null,null,null,null,null,null,null,null,1,1,1,null,null,null,null,null,null,null,null,null,null,null,null,null,null,null,null,null,null,null,null,null,null,1,{"$f":"IF(AZ58=1,G58,0)","v":0},{"$f":"IF(AZ58=2,G58,0)","v":0},{"$f":"IF(AZ58=3,G58,0)","v":0},{"$f":"IF(AZ58=4,G58,0)","v":0},{"$f":"IF(AZ58=5,G58,0)","v":0},null,null,null,null,null,null,null,null,null,null,null,null,null,null,null,null,null,null,null,null,null,1,1]
[null,null,"ul. Nad Špejcharem:",null,0,null,null,null,null,null,null,null,"ul. Nad Špejcharem:"]
[null,null,"Pro rýhy s rozšířením o 2x0,25 m (zámek):",null,0,null,null,null,null,null,null,null,"Pro rýhy s rozšířením o 2x0,25 m (zámek):"]
[null,null,"Stoka \"S\":10,00*2+1,80*1",null,21.8,null,null,null,null,null,null,null,"Stoka \"S\":10,00*2+1,80*1"]
[null,null,"Řad \"SP\":95,00*2+1,40*2",null,192.8,null,null,null,null,null,null,null,"Řad \"SP\":95,00*2+1,40*2"]
[null,null,"AŠ 2:(2,90+4,15)*2",null,14.1,null,null,null,null,null,null,null,"AŠ 2:(2,90+4,15)*2"]
[null,null,"Řad \"D\":10,00*2+1,30*1",null,21.3,null,null,null,null,null,null,null,"Řad \"D\":10,00*2+1,30*1"]
[null,null,"VP pro čp.684:6,50*2",null,13,null,null,null,null,null,null,null,"VP pro čp.684:6,50*2"]
[12,"919735112R00","Řezání stávajícího živičného krytu tl. 5 - 10 cm ","m",263,null,{"$f":"E66*F66","v":0},0,{"$f":"E66*H66","v":0},0,{"$f":"E66*J66","v":0},null,null,null,2,null,null,null,null,null,null,null,null,null,null,null,1,1,1,null,null,null,null,null,null,null,null,null,null,null,null,null,null,null,null,null,null,null,null,null,null,1,{"$f":"IF(AZ66=1,G66,0)","v":0},{"$f":"IF(AZ66=2,G66,0)","v":0},{"$f":"IF(AZ66=3,G66,0)","v":0},{"$f":"IF(AZ66=4,G66,0)","v":0},{"$f":"IF(AZ66=5,G66,0)","v":0},null,null,null,null,null,null,null,null,null,null,null,null,null,null,null,null,null,null,null,null,null,1,1]
[null,null,"ul. Nad Špejcharem:",null,0,null,null,null,null,null,null,null,"ul. Nad Špejcharem:"]
[null,null,"Pro rýhy s rozšířením o 2x0,25 m (zámek):",null,0,null,null,null,null,null,null,null,"Pro rýhy s rozšířením o 2x0,25 m (zámek):"]
[null,null,"Stoka \"S\":10,00*2+1,80*1",null,21.8,null,null,null,null,null,null,null,"Stoka \"S\":10,00*2+1,80*1"]
[null,null,"Řad \"SP\":95,00*2+1,40*2",null,192.8,null,null,null,null,null,null,null,"Řad \"SP\":95,00*2+1,40*2"]
[null,null,"AŠ 2:(2,90+4,15)*2",null,14.1,null,null,null,null,null,null,null,"AŠ 2:(2,90+4,15)*2"]
[null,null,"Řad \"D\":10,00*2+1,30*1",null,21.3,null,null,null,null,null,null,null,"Řad \"D\":10,00*2+1,30*1"]
[null,null,"VP pro čp.684:6,50*2",null,13,null,null,null,null,null,null,null,"VP pro čp.684:6,50*2"]
[null,"Celkem za","91 Doplňující práce na komunikaci",null,null,null,{"$f":"SUM(G57:G73)","v":0},null,{"$f":"SUM(I57:I73)","v":0},null,{"$f":"SUM(K57:K73)","v":0},null,null,null,4,null,null,null,null,null,null,null,null,null,null,null,null,null,null,null,null,null,null,null,null,null,null,null,null,null,null,null,null,null,null,null,null,null,null,null,null,null,{"$f":"SUM(BA57:BA73)","v":0},{"$f":"SUM(BB57:BB73)","v":0},{"$f":"SUM(BC57:BC73)","v":0},{"$f":"SUM(BD57:BD73)","v":0},{"$f":"SUM(BE57:BE73)","v":0}]
["Díl:","93","Dokončovací práce inženýrských staveb",null,null,null,null,null,null,null,null,null,null,null,1]
[13,"939431111RT2","Výměna kanaliz.poklopu za samonivelační, hl.200 mm včetně dodávky litinového poklopu KDM 65. Instalace poklopu dle TP výrobce","kus",6,null,{"$f":"E76*F76","v":0},0.56040999999999996,{"$f":"E76*H76","v":3.3624599999999996},-0.32075999999999999,{"$f":"E76*J76","v":-1.92456},null,null,null,2,null,null,null,null,null,null,null,null,null,null,null,1,1,1,null,null,null,null,null,null,null,null,null,null,null,null,null,null,null,null,null,null,null,null,null,null,1,{"$f":"IF(AZ76=1,G76,0)","v":0},{"$f":"IF(AZ76=2,G76,0)","v":0},{"$f":"IF(AZ76=3,G76,0)","v":0},{"$f":"IF(AZ76=4,G76,0)","v":0},{"$f":"IF(AZ76=5,G76,0)","v":0},null,null,null,null,null,null,null,null,null,null,null,null,null,null,null,null,null,null,null,null,null,1,1]
[null,null,"Položka obsahuje:",null,null,null,null,null,null,null,null,"Položka obsahuje:",null,null,3]
[null,null,"- vybourání kruhového otvoru",null,null,null,null,null,null,null,null,"- vybourání kruhového otvoru",null,null,3]
[null,null,"- odstranění starého poklopu",null,null,null,null,null,null,null,null,"- odstranění starého poklopu",null,null,3]
[null,null,"- odvoz a skládkovné vybouraných hmot",null,null,null,null,null,null,null,null,"- odvoz a skládkovné vybouraných hmot",null,null,3]
[null,null,"- nanesení vrstvy pro usazení betonového prstence",null,null,null,null,null,null,null,null,"- nanesení vrstvy pro usazení betonového prstence",null,null,3]
[null,null,"- zalití okolí prstence",null,null,null,null,null,null,null,null,"- zalití okolí prstence",null,null,3]
[null,null,"- penetrace výřezu a hrany penetračním nátěrem",null,null,null,null,null,null,null,null,"- penetrace výřezu a hrany penetračním nátěrem",null,null,3]
[null,null,"- nalepení asfaltové tavitelné pásky na hranu",null,null,null,null,null,null,null,null,"- nalepení asfaltové tavitelné pásky na hranu",null,null,3]
[null,null,"- osazení a dodávku samonivelačního poklopu dle PD",null,null,null,null,null,null,null,null,"- osazení a dodávku samonivelačního poklopu dle PD",null,null,3]
[null,null,"- dodávku, montáž a zhutnění horké asfaltové směsi",null,null,null,null,null,null,null,null,"- dodávku, montáž a zhutnění horké asfaltové směsi",null,null,3]
[null,null,"Kanalizační kruhový celolitinový samonivelační poklop se znakem \"Město Semily\"",null,null,null,null,null,null,null,null,"Kanalizační kruhový celolitinový samonivelační poklop se znakem \"Město Semily\"",null,null,3]
[null,null,"ul. Nad Špejcharem:",null,0,null,null,null,null,null,null,null,"ul. Nad Špejcharem:"]
[null,null,"Výměna stávajících kanalizačních poklopů:6",null,6,null,null,null,null,null,null,null,"Výměna stávajících kanalizačních poklopů:6"]
[null,"Celkem za","93 Dokončovací práce inženýrských staveb",null,null,null,{"$f":"SUM(G75:G89)","v":0},null,{"$f":"SUM(I75:I89)","v":3.3624599999999996},null,{"$f":"SUM(K75:K89)","v":-1.92456},null,null,null,4,null,null,null,null,null,null,null,null,null,null,null,null,null,null,null,null,null,null,null,null,null,null,null,null,null,null,null,null,null,null,null,null,null,null,null,null,null,{"$f":"SUM(BA75:BA89)","v":0},{"$f":"SUM(BB75:BB89)","v":0},{"$f":"SUM(BC75:BC89)","v":0},{"$f":"SUM(BD75:BD89)","v":0},{"$f":"SUM(BE75:BE89)","v":0}]
["Díl:","99","Staveništní přesun hmot",null,null,null,null,null,null,null,null,null,null,null,1]
[14,"998276101RXX","Přesun hmot, trubní vedení plastová, otevř. výkop pro celý rozsah objektu","t",115.39149,null,{"$f":"E92*F92","v":0},0,{"$f":"E92*H92","v":0},null,{"$f":"E92*J92","v":0},null,null,null,2,null,null,null,null,null,null,null,null,null,null,null,7,1,2,null,null,null,null,null,null,null,null,null,null,null,null,null,null,null,null,null,null,null,null,null,null,1,{"$f":"IF(AZ92=1,G92,0)","v":0},{"$f":"IF(AZ92=2,G92,0)","v":0},{"$f":"IF(AZ92=3,G92,0)","v":0},{"$f":"IF(AZ92=4,G92,0)","v":0},{"$f":"IF(AZ92=5,G92,0)","v":0},null,null,null,null,null,null,null,null,null,null,null,null,null,null,null,null,null,null,null,null,null,7,1]
[null,null,"Staveništní doprava pro celý rozsah objektu - doprava zmeziskládek vybudovaného zařízení staveniště zhotovitele na jednotlivé části staveniště.",null,null,null,null,null,null,null,null,"Staveništní doprava pro celý rozsah objektu - doprava zmeziskládek vybudovaného zařízení staveniště zhotovitele na jednotlivé části staveniště.",null,null,3]
[null,"Celkem za","99 Staveništní přesun hmot",null,null,null,{"$f":"SUM(G91:G93)","v":0},null,{"$f":"SUM(I91:I93)","v":0},null,{"$f":"SUM(K91:K93)","v":0},null,null,null,4,null,null,null,null,null,null,null,null,null,null,null,null,null,null,null,null,null,null,null,null,null,null,null,null,null,null,null,null,null,null,null,null,null,null,null,null,null,{"$f":"SUM(BA91:BA93)","v":0},{"$f":"SUM(BB91:BB93)","v":0},{"$f":"SUM(BC91:BC93)","v":0},{"$f":"SUM(BD91:BD93)","v":0},{"$f":"SUM(BE91:BE93)","v":0}]

{"sheet":"308 3542308.1 KL","index":74,"n_rows":45,"n_cols":8,"rows_kept":45,"cut":false,"hidden":false,"merged":[[50,1,50,6],[29,5,29,6],[30,5,30,6],[31,5,31,6],[32,5,32,6],[33,5,33,6],[36,1,44,6],[45,1,45,6],[46,1,46,6],[47,1,47,6],[48,1,48,6],[49,1,49,6],[22,0,22,1],[7,2,7,4],[8,2,8,4],[9,2,9,4],[10,2,10,4],[11,2,11,4]]}
["POLOŽKOVÝ ROZPOČET"]
["Rozpočet",null,"3542/308.1","Obnova kanalizace - Gravitační stoka G",null,"JKSO ","827.21.A"]
[]
["Objekt",null,null,null,null,"SKP "]
["308",null,"Obnova kanalizace Gymnázium Semily",null,null,"Měrná jednotka","m"]
["Stavba",null,null,null,null,"Počet jednotek",0]
["3542",null,"Semily - Obnova VH infrastruktury a komunikací",null,null,"Náklady na m.j.",{"$f":"IF(G6=0,,ROUND((F30+F32)/G6,1))","v":0}]
["Projektant",null,null,null,null,"Typ rozpočtu"]
["Zpracovatel projektu"]
["Objednatel",null,"Vodohospodářské sdružení Turnov"]
["Dodavatel",null,".",null,null,"Zakázkové číslo "]
["Rozpočtoval",null,null,null,null,"Počet listů"]
["ROZPOČTOVÉ NÁKLADY"]
["Základní rozpočtové náklady"]
[null,"HSV celkem",{"$f":"'308 3542308.1 Rek'!E15","v":0}]
["Z","PSV celkem",{"$f":"'308 3542308.1 Rek'!F15","v":0}]
["R","M práce celkem",{"$f":"'308 3542308.1 Rek'!H15","v":0}]
["N","M dodávky celkem",{"$f":"'308 3542308.1 Rek'!G15","v":0}]
["ZRN celkem",null,{"$f":"SUM(C15:C18)","v":0}]
[]
["HZS",null,{"$f":"'308 3542308.1 Rek'!I15","v":0}]
["ZRN+HZS",null,{"$f":"C19+C21","v":0}]
["ZRN+ost.náklady+HZS",null,{"$f":"C22+G23","v":0}]
["Vypracoval",null,null,"Za zhotovitele",null,"Za objednatele"]
["Jméno :",null,null,"Jméno :",null,"Jméno :"]
["Datum :",null,null,"Datum :",null,"Datum :"]
[]
["Podpis :",null,null,"Podpis:",null,"Podpis:"]
[]
["Základ pro DPH",null,21,"%  ",null,{"$f":"C23-F32","v":0}]
["DPH",null,{"$f":"C30","v":21},"% ",null,{"$f":"ROUND(PRODUCT(F30,C31/100),0)","v":0}]
["Základ pro DPH",null,0,"% ",null,0]
["DPH",null,{"$f":"C32","v":0},"% ",null,{"$f":"ROUND(PRODUCT(F32,C33/100),0)","v":0}]
["CENA ZA OBJEKT CELKEM",null,null,null,null,{"$f":"ROUND(SUM(F30:F33),0)","v":0}]
[]
["Poznámka :",null,null,null,null,null,null," "]
[null,null,null,null,null,null,null," "]
[null,null,null,null,null,null,null," "]
[null,null,null,null,null,null,null," "]
[null,null,null,null,null,null,null," "]
[null,null,null,null,null,null,null," "]
[null,null,null,null,null,null,null," "]
[null,null,null,null,null,null,null," "]
[null,null,null,null,null,null,null," "]
[null,null,null,null,null,null,null," "]

{"sheet":"308 3542308.1 Rek","index":75,"n_rows":15,"n_cols":9,"rows_kept":15,"cut":false,"hidden":false,"merged":[[0,0,0,1],[1,0,1,1],[1,6,1,8]]}
["Stavba :",null,"3542 Semily - Obnova VH infrastruktury a komunikací",null,null,null,"Rozpočet :","3542/308.1"]
["Objekt :",null,"308 Obnova kanalizace Gymnázium Semily",null,null,null,"Obnova kanalizace - Gravitační stoka G"]
[]
["REKAPITULACE  STAVEBNÍCH  DÍLŮ"]
[]
[null,"Stavební díl",null,null,"HSV","PSV","Dodávka","Montáž","HZS"]
[{"$f":"'308 3542308.1 Pol'!B7","v":"1"},{"$f":"'308 3542308.1 Pol'!C7","v":"Zemní práce"},null,null,{"$f":"'308 3542308.1 Pol'!BA240","v":0},{"$f":"'308 3542308.1 Pol'!BB240","v":0},{"$f":"'308 3542308.1 Pol'!BC240","v":0},{"$f":"'308 3542308.1 Pol'!BD240","v":0},{"$f":"'308 3542308.1 Pol'!BE240","v":0}]
[{"$f":"'308 3542308.1 Pol'!B241","v":"2"},{"$f":"'308 3542308.1 Pol'!C241","v":"Základy a zvláštní zakládání"},null,null,{"$f":"'308 3542308.1 Pol'!BA248","v":0},{"$f":"'308 3542308.1 Pol'!BB248","v":0},{"$f":"'308 3542308.1 Pol'!BC248","v":0},{"$f":"'308 3542308.1 Pol'!BD248","v":0},{"$f":"'308 3542308.1 Pol'!BE248","v":0}]
[{"$f":"'308 3542308.1 Pol'!B249","v":"21"},{"$f":"'308 3542308.1 Pol'!C249","v":"Úprava podloží a základ.spáry"},null,null,{"$f":"'308 3542308.1 Pol'!BA261","v":0},{"$f":"'308 3542308.1 Pol'!BB261","v":0},{"$f":"'308 3542308.1 Pol'!BC261","v":0},{"$f":"'308 3542308.1 Pol'!BD261","v":0},{"$f":"'308 3542308.1 Pol'!BE261","v":0}]
[{"$f":"'308 3542308.1 Pol'!B262","v":"3"},{"$f":"'308 3542308.1 Pol'!C262","v":"Svislé a kompletní konstrukce"},null,null,{"$f":"'308 3542308.1 Pol'!BA274","v":0},{"$f":"'308 3542308.1 Pol'!BB274","v":0},{"$f":"'308 3542308.1 Pol'!BC274","v":0},{"$f":"'308 3542308.1 Pol'!BD274","v":0},{"$f":"'308 3542308.1 Pol'!BE274","v":0}]
[{"$f":"'308 3542308.1 Pol'!B275","v":"45"},{"$f":"'308 3542308.1 Pol'!C275","v":"Podkladní a vedlejší konstrukce"},null,null,{"$f":"'308 3542308.1 Pol'!BA309","v":0},{"$f":"'308 3542308.1 Pol'!BB309","v":0},{"$f":"'308 3542308.1 Pol'!BC309","v":0},{"$f":"'308 3542308.1 Pol'!BD309","v":0},{"$f":"'308 3542308.1 Pol'!BE309","v":0}]
[{"$f":"'308 3542308.1 Pol'!B310","v":"5"},{"$f":"'308 3542308.1 Pol'!C310","v":"Komunikace"},null,null,{"$f":"'308 3542308.1 Pol'!BA318","v":0},{"$f":"'308 3542308.1 Pol'!BB318","v":0},{"$f":"'308 3542308.1 Pol'!BC318","v":0},{"$f":"'308 3542308.1 Pol'!BD318","v":0},{"$f":"'308 3542308.1 Pol'!BE318","v":0}]
[{"$f":"'308 3542308.1 Pol'!B319","v":"8"},{"$f":"'308 3542308.1 Pol'!C319","v":"Trubní vedení"},null,null,{"$f":"'308 3542308.1 Pol'!BA456","v":0},{"$f":"'308 3542308.1 Pol'!BB456","v":0},{"$f":"'308 3542308.1 Pol'!BC456","v":0},{"$f":"'308 3542308.1 Pol'!BD456","v":0},{"$f":"'308 3542308.1 Pol'!BE456","v":0}]
[{"$f":"'308 3542308.1 Pol'!B457","v":"99"},{"$f":"'308 3542308.1 Pol'!C457","v":"Staveništní přesun hmot"},null,null,{"$f":"'308 3542308.1 Pol'!BA460","v":0},{"$f":"'308 3542308.1 Pol'!BB460","v":0},{"$f":"'308 3542308.1 Pol'!BC460","v":0},{"$f":"'308 3542308.1 Pol'!BD460","v":0},{"$f":"'308 3542308.1 Pol'!BE460","v":0}]
[null,"CELKEM  OBJEKT",null,null,{"$f":"SUM(E7:E14)","v":0},{"$f":"SUM(F7:F14)","v":0},{"$f":"SUM(G7:G14)","v":0},{"$f":"SUM(H7:H14)","v":0},{"$f":"SUM(I7:I14)","v":0}]

{"sheet":"308 3542308.1 Pol","index":76,"n_rows":460,"n_cols":80,"rows_kept":460,"cut":false,"hidden":false,"merged":[[458,2,458,6],[448,2,448,3],[449,2,449,3],[450,2,450,3],[452,2,452,3],[453,2,453,3],[454,2,454,3],[440,2,440,3],[441,2,441,3],[442,2,442,3],[444,2,444,3],[445,2,445,3],[446,2,446,3],[432,2,432,3],[433,2,433,3],[434,2,434,3],[436,2,436,3],[437,2,437,3],[438,2,438,3],[424,2,424,6],[425,2,425,3],[426,2,426,3],[428,2,428,3],[429,2,429,3],[430,2,430,3],[417,2,417,6],[418,2,418,3],[419,2,419,3],[420,2,420,3],[421,2,421,3],[423,2,423,6],[410,2,410,3],[412,2,412,6],[413,2,413,6],[414,2,414,6],[415,2,415,6],[416,2,416,6],[404,2,404,6],[406,2,406,3],[407,2,407,3],[408,2,408,3],[409,2,409,3],[396,2,396,3],[397,2,397,3],[399,2,399,6],[400,2,400,6],[401,2,401,6],[403,2,403,6],[389,2,389,3],[390,2,390,3],[391,2,391,3],[393,2,393,6],[394,2,394,3],[395,2,395,3],[382,2,382,3],[383,2,383,3],[385,2,385,6],[386,2,386,6],[387,2,387,6],[388,2,388,3],[375,2,375,6],[376,2,376,3],[377,2,377,3],[378,2,378,3],[380,2,380,6],[381,2,381,3],[368,2,368,6],[369,2,369,3],[370,2,370,3],[371,2,371,3],[372,2,372,3],[374,2,374,6],[360,2,360,3],[361,2,361,3],[363,2,363,6],[364,2,364,3],[365,2,365,3],[367,2,367,6],[353,2,353,6],[354,2,354,6],[355,2,355,3],[356,2,356,3],[358,2,358,3],[359,2,359,3],[346,2,346,3],[347,2,347,3],[348,2,348,3],[349,2,349,3],[351,2,351,6],[352,2,352,6],[338,2,338,3],[340,2,340,6],[342,2,342,6],[343,2,343,6],[344,2,344,6],[345,2,345,6],[331,2,331,6],[332,2,332,3],[333,2,333,3],[335,2,335,6],[336,2,336,3],[337,2,337,3],[320,2,320,6],[321,2,321,6],[323,2,323,3],[324,2,324,3],[325,2,325,3],[326,2,326,3],[328,2,328,3],[329,2,329,3],[305,2,305,3],[306,2,306,3],[307,2,307,3],[311,2,311,3],[312,2,312,3],[314,2,314,6],[315,2,315,3],[316,2,316,3],[297,2,297,3],[298,2,298,3],[299,2,299,3],[301,2,301,3],[302,2,302,3],[303,2,303,3],[289,2,289,3],[290,2,290,3],[291,2,291,3],[293,2,293,3],[294,2,294,3],[295,2,295,3],[282,2,282,6],[283,2,283,3],[284,2,284,3],[285,2,285,3],[286,2,286,3],[287,2,287,3],[270,2,270,3],[271,2,271,3],[272,2,272,3],[276,2,276,3],[277,2,277,3],[278,2,278,3],[279,2,279,3],[280,2,280,3],[258,2,258,3],[259,2,259,3],[263,2,263,6],[264,2,264,6],[265,2,265,3],[266,2,266,3],[267,2,267,3],[269,2,269,6],[250,2,250,3],[251,2,251,3],[252,2,252,3],[253,2,253,3],[254,2,254,3],[255,2,255,3],[256,2,256,3],[257,2,257,3],[242,2,242,6],[243,2,243,3],[244,2,244,3],[245,2,245,3],[246,2,246,3],[234,2,234,3],[235,2,235,3],[236,2,236,3],[237,2,237,3],[238,2,238,3],[228,2,228,3],[229,2,229,3],[230,2,230,3],[231,2,231,3],[232,2,232,3],[233,2,233,3],[221,2,221,3],[222,2,222,3],[223,2,223,3],[224,2,224,3],[225,2,225,3],[227,2,227,3],[213,2,213,3],[214,2,214,3],[215,2,215,3],[217,2,217,3],[218,2,218,3],[219,2,219,3],[202,2,202,3],[203,2,203,3],[208,2,208,6],[210,2,210,6],[211,2,211,6],[212,2,212,6],[195,2,195,3],[196,2,196,3],[197,2,197,3],[198,2,198,3],[199,2,199,3],[200,2,200,3],[187,2,187,3],[189,2,189,6],[190,2,190,6],[191,2,191,3],[192,2,192,3],[193,2,193,3],[180,2,180,3],[181,2,181,3],[183,2,183,6],[184,2,184,6],[185,2,185,3],[186,2,186,3],[172,2,172,3],[173,2,173,3],[175,2,175,3],[176,2,176,3],[177,2,177,3],[179,2,179,3],[165,2,165,3],[166,2,166,3],[167,2,167,3],[169,2,169,3],[170,2,170,3],[171,2,171,3],[159,2,159,3],[160,2,160,3],[161,2,161,3],[162,2,162,3],[163,2,163,3],[164,2,164,3],[153,2,153,3],[154,2,154,3],[155,2,155,3],[156,2,156,3],[157,2,157,3],[158,2,158,3],[147,2,147,3],[148,2,148,3],[149,2,149,3],[150,2,150,3],[151,2,151,3],[152,2,152,3],[141,2,141,3],[142,2,142,3],[143,2,143,3],[144,2,144,3],[145,2,145,3],[146,2,146,3],[135,2,135,3],[136,2,136,3],[137,2,137,3],[138,2,138,3],[139,2,139,3],[140,2,140,3],[128,2,128,3],[129,2,129,3],[131,2,131,6],[132,2,132,6],[133,2,133,3],[134,2,134,3],[121,2,121,3],[122,2,122,3],[124,2,124,3],[125,2,125,3],[126,2,126,3],[127,2,127,3],[115,2,115,3],[116,2,116,3],[117,2,117,3],[118,2,118,3],[119,2,119,3],[120,2,120,3],[109,2,109,3],[110,2,110,3],[111,2,111,3],[112,2,112,3],[113,2,113,3],[114,2,114,3],[102,2,102,3],[103,2,103,3],[104,2,104,3],[105,2,105,3],[106,2,106,3],[108,2,108,3],[96,2,96,3],[97,2,97,3],[98,2,98,3],[99,2,99,3],[100,2,100,3],[101,2,101,3],[89,2,89,3],[90,2,90,3],[92,2,92,3],[93,2,93,3],[94,2,94,3],[95,2,95,3],[82,2,82,3],[83,2,83,3],[84,2,84,3],[85,2,85,3],[87,2,87,3],[88,2,88,3],[74,2,74,3],[76,2,76,3],[77,2,77,3],[78,2,78,3],[79,2,79,3],[81,2,81,6],[68,2,68,3],[69,2,69,3],[70,2,70,3],[71,2,71,3],[72,2,72,3],[73,2,73,3],[62,2,62,3],[63,2,63,3],[64,2,64,3],[65,2,65,3],[66,2,66,3],[67,2,67,3],[56,2,56,3],[57,2,57,3],[58,2,58,3],[59,2,59,3],[60,2,60,3],[61,2,61,3],[50,2,50,6],[51,2,51,3],[52,2,52,3],[53,2,53,3],[54,2,54,3],[55,2,55,3],[42,2,42,3],[44,2,44,6],[45,2,45,3],[46,2,46,3],[47,2,47,3],[48,2,48,3],[35,2,35,3],[37,2,37,6],[38,2,38,6],[39,2,39,3],[40,2,40,3],[41,2,41,3],[29,2,29,3],[30,2,30,3],[31,2,31,3],[32,2,32,3],[33,2,33,3],[34,2,34,3],[22,2,22,3],[23,2,23,3],[24,2,24,3],[25,2,25,3],[26,2,26,3],[28,2,28,3],[13,2,13,3],[14,2,14,3],[16,2,16,3],[17,2,17,3],[19,2,19,3],[20,2,20,3],[0,0,0,6],[2,0,2,1],[3,0,3,1],[3,4,3,6],[8,2,8,3],[9,2,9,3],[10,2,10,3],[12,2,12,3]]}
["Položkový rozpočet "]
[]
["Stavba :",null,"3542 Semily - Obnova VH infrastruktury a komunikací",null,"Rozpočet:",{"$f":"'308 3542308.1 Rek'!H1","v":"3542/308.1"}]
["Objekt :",null,"308 Obnova kanalizace Gymnázium Semily",null,{"$f":"'308 3542308.1 Rek'!G2","v":"Obnova kanalizace - Gravitační stoka G"}]
[]
["P.č.","Číslo položky","Název položky","MJ","množství","cena / MJ","celkem (Kč)","Jednotková hmotnost","Celková hmotnost","Jednotková dem.hmot.","Celková dem.hmot."]
["Díl:","1","Zemní práce",null,null,null,null,null,null,null,null,null,null,null,1]
[1,"111200001RA0","Odstranění křovin a stromů do 100 mm, štěpkování ","m2",500,null,{"$f":"E8*F8","v":0},5.0000000000000002E-5,{"$f":"E8*H8","v":2.5000000000000001E-2},0,{"$f":"E8*J8","v":0},null,null,null,2,null,null,null,null,null,null,null,null,null,null,null,1,1,1,null,null,null,null,null,null,null,null,null,null,null,null,null,null,null,null,null,null,null,null,null,null,1,{"$f":"IF(AZ8=1,G8,0)","v":0},{"$f":"IF(AZ8=2,G8,0)","v":0},{"$f":"IF(AZ8=3,G8,0)","v":0},{"$f":"IF(AZ8=4,G8,0)","v":0},{"$f":"IF(AZ8=5,G8,0)","v":0},null,null,null,null,null,null,null,null,null,null,null,null,null,null,null,null,null,null,null,null,null,1,1]
[null,null,"Stoka IO01:",null,0,null,null,null,null,null,null,null,"Stoka IO01:"]
[null,null,"Stoka \"G\" PVC DN250:",null,0,null,null,null,null,null,null,null,"Stoka \"G\" PVC DN250:"]
[null,null,"Stávající keře :500,00",null,500,null,null,null,null,null,null,null,"Stávající keře :500,00"]
[2,"112100010RA0","Kácení stromů 20-30 cm včetně pařezů naložení a odvoz","kus",5,null,{"$f":"E12*F12","v":0},0,{"$f":"E12*H12","v":0},0,{"$f":"E12*J12","v":0},null,null,null,2,null,null,null,null,null,null,null,null,null,null,null,1,1,1,null,null,null,null,null,null,null,null,null,null,null,null,null,null,null,null,null,null,null,null,null,null,1,{"$f":"IF(AZ12=1,G12,0)","v":0},{"$f":"IF(AZ12=2,G12,0)","v":0},{"$f":"IF(AZ12=3,G12,0)","v":0},{"$f":"IF(AZ12=4,G12,0)","v":0},{"$f":"IF(AZ12=5,G12,0)","v":0},null,null,null,null,null,null,null,null,null,null,null,null,null,null,null,null,null,null,null,null,null,1,1]
[null,null,"Stoka IO01:",null,0,null,null,null,null,null,null,null,"Stoka IO01:"]
[null,null,"Stoka \"G\" PVC DN250:",null,0,null,null,null,null,null,null,null,"Stoka \"G\" PVC DN250:"]
[null,null,"Stávající \"Zerav západní - Thuja occidentalis Smaragd 175-200\":5",null,5,null,null,null,null,null,null,null,"Stávající \"Zerav západní - Thuja occidentalis Smaragd 175-200\":5"]
[3,"113107530R00","Odstranění podkladu pl. 50 m2,kam.drcené tl.30 cm ","m2",36,null,{"$f":"E16*F16","v":0},0,{"$f":"E16*H16","v":0},-0.66,{"$f":"E16*J16","v":-23.76},null,null,null,2,null,null,null,null,null,null,null,null,null,null,null,1,1,1,null,null,null,null,null,null,null,null,null,null,null,null,null,null,null,null,null,null,null,null,null,null,1,{"$f":"IF(AZ16=1,G16,0)","v":0},{"$f":"IF(AZ16=2,G16,0)","v":0},{"$f":"IF(AZ16=3,G16,0)","v":0},{"$f":"IF(AZ16=4,G16,0)","v":0},{"$f":"IF(AZ16=5,G16,0)","v":0},null,null,null,null,null,null,null,null,null,null,null,null,null,null,null,null,null,null,null,null,null,1,1]
[null,null,"Stoka IO01 :",null,0,null,null,null,null,null,null,null,"Stoka IO01 :"]
[null,null,"Napojení na stoku ŽB DN500:6,00*6,00",null,36,null,null,null,null,null,null,null,"Napojení na stoku ŽB DN500:6,00*6,00"]
[4,"113108315R00","Odstranění asfaltové vrstvy pl. do 50 m2, tl.15 cm ","m2",36,null,{"$f":"E19*F19","v":0},0,{"$f":"E19*H19","v":0},-0.33,{"$f":"E19*J19","v":-11.88},null,null,null,2,null,null,null,null,null,null,null,null,null,null,null,1,1,1,null,null,null,null,null,null,null,null,null,null,null,null,null,null,null,null,null,null,null,null,null,null,1,{"$f":"IF(AZ19=1,G19,0)","v":0},{"$f":"IF(AZ19=2,G19,0)","v":0},{"$f":"IF(AZ19=3,G19,0)","v":0},{"$f":"IF(AZ19=4,G19,0)","v":0},{"$f":"IF(AZ19=5,G19,0)","v":0},null,null,null,null,null,null,null,null,null,null,null,null,null,null,null,null,null,null,null,null,null,1,1]
[null,null,"Stoka IO01 :",null,0,null,null,null,null,null,null,null,"Stoka IO01 :"]
[null,null,"Napojení na stoku ŽB DN500:6,00*6,00",null,36,null,null,null,null,null,null,null,"Napojení na stoku ŽB DN500:6,00*6,00"]
[5,"115101201RRX","Čerpání splašků na výšku do 10 m přítok do 500 l/min","h",105,null,{"$f":"E22*F22","v":0},0,{"$f":"E22*H22","v":0},0,{"$f":"E22*J22","v":0},null,null,null,2,null,null,null,null,null,null,null,null,null,null,null,1,1,1,null,null,null,null,null,null,null,null,null,null,null,null,null,null,null,null,null,null,null,null,null,null,1,{"$f":"IF(AZ22=1,G22,0)","v":0},{"$f":"IF(AZ22=2,G22,0)","v":0},{"$f":"IF(AZ22=3,G22,0)","v":0},{"$f":"IF(AZ22=4,G22,0)","v":0},{"$f":"IF(AZ22=5,G22,0)","v":0},null,null,null,null,null,null,null,null,null,null,null,null,null,null,null,null,null,null,null,null,null,1,1]
[null,null,"Stoka IO01 :",null,0,null,null,null,null,null,null,null,"Stoka IO01 :"]
[null,null,"Napojení na stoku ŽB DN500:60,00",null,60,null,null,null,null,null,null,null,"Napojení na stoku ŽB DN500:60,00"]
[null,null,"Přípojka pro čp. 587 vedle nové Š3:15,00",null,15,null,null,null,null,null,null,null,"Přípojka pro čp. 587 vedle nové Š3:15,00"]
[null,null,"Přípojka pro čp. 586 vedle nové Š4:15,00",null,15,null,null,null,null,null,null,null,"Přípojka pro čp. 586 vedle nové Š4:15,00"]
[null,null,"Přípojka pro čp. 583 vedle nové Š5:15,00",null,15,null,null,null,null,null,null,null,"Přípojka pro čp. 583 vedle nové Š5:15,00"]
[6,"121100002RAA","Sejmutí ornice a uložení na deponii zpětný přesun, rozprostření v tl. 200 mm, osetí","m3",68,null,{"$f":"E28*F28","v":0},0,{"$f":"E28*H28","v":0},0,{"$f":"E28*J28","v":0},null,null,null,2,null,null,null,null,null,null,null,null,null,null,null,1,1,1,null,null,null,null,null,null,null,null,null,null,null,null,null,null,null,null,null,null,null,null,null,null,1,{"$f":"IF(AZ28=1,G28,0)","v":0},{"$f":"IF(AZ28=2,G28,0)","v":0},{"$f":"IF(AZ28=3,G28,0)","v":0},{"$f":"IF(AZ28=4,G28,0)","v":0},{"$f":"IF(AZ28=5,G28,0)","v":0},null,null,null,null,null,null,null,null,null,null,null,null,null,null,null,null,null,null,null,null,null,1,1]
[null,null,"Stoka IO01:",null,0,null,null,null,null,null,null,null,"Stoka IO01:"]
[null,null,"Stoka \"G\" PVC DN250:",null,0,null,null,null,null,null,null,null,"Stoka \"G\" PVC DN250:"]
[null,null,"Výkopy - Pracovní prostor:",null,0,null,null,null,null,null,null,null,"Výkopy - Pracovní prostor:"]
[null,null,"Stoka \"G\":(117,00-12,00)*3,00*0,20",null,63,null,null,null,null,null,null,null,"Stoka \"G\":(117,00-12,00)*3,00*0,20"]
[null,null,"Přípojky PVC DN200:",null,0,null,null,null,null,null,null,null,"Přípojky PVC DN200:"]
[null,null,"Přípojka pro čp. 587 z RŠ3 PVC DN200:3,00*2,50*0,20",null,1.5,null,null,null,null,null,null,null,"Přípojka pro čp. 587 z RŠ3 PVC DN200:3,00*2,50*0,20"]
[null,null,"Přípojka pro čp. 586 z RŠ4 PVC DN200:4,00*2,50*0,20",null,2,null,null,null,null,null,null,null,"Přípojka pro čp. 586 z RŠ4 PVC DN200:4,00*2,50*0,20"]
[null,null,"Přípojka pro čp. 573 z RŠ5 PVC DN200:3,00*2,50*0,20",null,1.5,null,null,null,null,null,null,null,"Přípojka pro čp. 573 z RŠ5 PVC DN200:3,00*2,50*0,20"]
[7,"130001101RRX","Příplatek za ztížené hloubení v blízkosti vedení ","m3",65.0655,null,{"$f":"E37*F37","v":0},0,{"$f":"E37*H37","v":0},0,{"$f":"E37*J37","v":0},null,null,null,2,null,null,null,null,null,null,null,null,null,null,null,1,1,1,null,null,null,null,null,null,null,null,null,null,null,null,null,null,null,null,null,null,null,null,null,null,1,{"$f":"IF(AZ37=1,G37,0)","v":0},{"$f":"IF(AZ37=2,G37,0)","v":0},{"$f":"IF(AZ37=3,G37,0)","v":0},{"$f":"IF(AZ37=4,G37,0)","v":0},{"$f":"IF(AZ37=5,G37,0)","v":0},null,null,null,null,null,null,null,null,null,null,null,null,null,null,null,null,null,null,null,null,null,1,1]
[null,null,"Včetně případných nutných dokopávem a ručního výkopu podél sousedících inženýrských sítí.",null,null,null,null,null,null,null,null,"Včetně případných nutných dokopávem a ručního výkopu podél sousedících inženýrských sítí.",null,null,3]
[null,null,"Součástí položky je i dočasné zajištění inženýrských sítí v prostoru výkopů (potrubí, kabely a pod.)",null,null,null,null,null,null,null,null,"Součástí položky je i dočasné zajištění inženýrských sítí v prostoru výkopů (potrubí, kabely a pod.)",null,null,3]
[null,null,"Stoka IO01:",null,0,null,null,null,null,null,null,null,"Stoka IO01:"]
[null,null,"Stoka \"G\" PVC DN250:",null,0,null,null,null,null,null,null,null,"Stoka \"G\" PVC DN250:"]
[null,null,"Výkopy:",null,0,null,null,null,null,null,null,null,"Výkopy:"]
[null,null,"V hornině tř. 3 - 4 - 26%:250,2520*0,26",null,65.0655,null,null,null,null,null,null,null,"V hornině tř. 3 - 4 - 26%:250,2520*0,26"]
[8,"130901123RT3","Bourání konstrukcí ze železobetonu ve vykopávkách bagrem s kladivem","m3",3.6,null,{"$f":"E44*F44","v":0},0,{"$f":"E44*H44","v":0},-2.4,{"$f":"E44*J44","v":-8.64},null,null,null,2,null,null,null,null,null,null,null,null,null,null,null,1,1,1,null,null,null,null,null,null,null,null,null,null,null,null,null,null,null,null,null,null,null,null,null,null,1,{"$f":"IF(AZ44=1,G44,0)","v":0},{"$f":"IF(AZ44=2,G44,0)","v":0},{"$f":"IF(AZ44=3,G44,0)","v":0},{"$f":"IF(AZ44=4,G44,0)","v":0},{"$f":"IF(AZ44=5,G44,0)","v":0},null,null,null,null,null,null,null,null,null,null,null,null,null,null,null,null,null,null,null,null,null,1,1]
[null,null,"Položka obsahuje odstranění materiálu obklopujícího betonové konstrukce v míře nutné pro vyzvednutí (potřebné zemní práce), rozpojení konstrukcí, uchopení a vyzvednutí konstrukce z výkopu a uložení na dopravní prostředek.",null,null,null,null,null,null,null,null,"Položka obsahuje odstranění materiálu obklopujícího betonové konstrukce v míře nutné pro vyzvednutí (potřebné zemní práce), rozpojení konstrukcí, uchopení a vyzvednutí konstrukce z výkopu a uložení na dopravní prostředek.",null,null,3]
[null,null,"Stoka IO01:",null,0,null,null,null,null,null,null,null,"Stoka IO01:"]
[null,null,"Stoka \"G\" PVC DN250:",null,0,null,null,null,null,null,null,null,"Stoka \"G\" PVC DN250:"]
[null,null,"Základ oplocení:2,00*0,60*1,00",null,1.2,null,null,null,null,null,null,null,"Základ oplocení:2,00*0,60*1,00"]
[null,null,"Základ opěrné zdi:4,00*0,60*1,00",null,2.4,null,null,null,null,null,null,null,"Základ opěrné zdi:4,00*0,60*1,00"]
[9,"132201212R00","Hloubení rýh š.do 200 cm hor.3 do 1000m3,STROJNĚ ","m3",100.10080000000001,null,{"$f":"E50*F50","v":0},0,{"$f":"E50*H50","v":0},0,{"$f":"E50*J50","v":0},null,null,null,2,null,null,null,null,null,null,null,null,null,null,null,1,1,1,null,null,null,null,null,null,null,null,null,null,null,null,null,null,null,null,null,null,null,null,null,null,1,{"$f":"IF(AZ50=1,G50,0)","v":0},{"$f":"IF(AZ50=2,G50,0)","v":0},{"$f":"IF(AZ50=3,G50,0)","v":0},{"$f":"IF(AZ50=4,G50,0)","v":0},{"$f":"IF(AZ50=5,G50,0)","v":0},null,null,null,null,null,null,null,null,null,null,null,null,null,null,null,null,null,null,null,null,null,1,1]
[null,null,"Položka obsahuje hloubení rýh traktorbagrem, naložení výkopku na dopravní prostředek pro svislé, nebo vodorovné přemístění, popř. přemístění výkopku do 3 m (po povrchu území), případné zajištění rypadel polštáři, udržování pracoviště a ochranu výkopiště proti stékání srážkové vody z okolního terénu i s jejím odvodněním, nebo odvedením, přesekání a odstranění kořenů ve výkopišti, odstranění napadávek, urovnání dna výkopu.",null,null,null,null,null,null,null,null,"Položka obsahuje hloubení rýh traktorbagrem, naložení výkopku na dopravní prostředek pro svislé, nebo vodorovné přemístění, popř. přemístění výkopku do 3 m (po povrchu území), případné zajištění rypadel polštáři, udržování pracoviště a ochranu výkopiště proti stékání srážkové vody z okolního terénu i s jejím odvodněním, nebo odvedením, přesekání a odstranění kořenů ve výkopišti, odstranění napadávek, urovnání dna výkopu.",null,null,3]
[null,null,"Stoka IO01:",null,0,null,null,null,null,null,null,null,"Stoka IO01:"]
[null,null,"Stoka \"G\" PVC DN250:",null,0,null,null,null,null,null,null,null,"Stoka \"G\" PVC DN250:"]
[null,null,"Výkopy:",null,0,null,null,null,null,null,null,null,"Výkopy:"]
[null,null,"Začátek provozního součtu",null,0,null,null,null,null,null,null,null,"Začátek provozního součtu"]
[null,null,"12,00*1,00*(1,65+1,19)/2",null,17.04,null,null,null,null,null,null,null,"12,00*1,00*(1,65+1,19)/2"]
[null,null,"(27,40-12,00)*1,00*(2,44+2,55)/2",null,38.423000000000002,null,null,null,null,null,null,null,"(27,40-12,00)*1,00*(2,44+2,55)/2"]
[null,null,"(37,20-24,40)*1,00*(2,55+2,51)/2",null,32.384,null,null,null,null,null,null,null,"(37,20-24,40)*1,00*(2,55+2,51)/2"]
[null,null,"(55,00-37,20)*1,00*(2,51+1,61)/2",null,36.667999999999999,null,null,null,null,null,null,null,"(55,00-37,20)*1,00*(2,51+1,61)/2"]
[null,null,"(63,10-55,00)*1,00*(1,61+1,91)/2",null,14.256,null,null,null,null,null,null,null,"(63,10-55,00)*1,00*(1,61+1,91)/2"]
[null,null,"(74,80-63,10)*1,00*(1,91+1,95)/2",null,22.581,null,null,null,null,null,null,null,"(74,80-63,10)*1,00*(1,91+1,95)/2"]
[null,null,"(78,00-74,80)*1,00*(1,95+2,33)/2",null,6.8479999999999999,null,null,null,null,null,null,null,"(78,00-74,80)*1,00*(1,95+2,33)/2"]
[null,null,"(117,00-78,00)*1,00*(2,33+1,75)/2",null,79.56,null,null,null,null,null,null,null,"(117,00-78,00)*1,00*(2,33+1,75)/2"]
[null,null,"Prohloubení pro RŠ:2,00*2,00*0,20*1+1,60*1,60*0,20*4",null,2.8479999999999999,null,null,null,null,null,null,null,"Prohloubení pro RŠ:2,00*2,00*0,20*1+1,60*1,60*0,20*4"]
[null,null,"Rozšíření pro RŠ:2,00*(2,00-1,00)*1,65",null,3.3,null,null,null,null,null,null,null,"Rozšíření pro RŠ:2,00*(2,00-1,00)*1,65"]
[null,null,"1,60*(1,60-1,00)*(2,51+1,95+1,69+1,75)",null,7.5839999999999996,null,null,null,null,null,null,null,"1,60*(1,60-1,00)*(2,51+1,95+1,69+1,75)"]
[null,null,"Přípojky PVC DN200:",null,0,null,null,null,null,null,null,null,"Přípojky PVC DN200:"]
[null,null,"Přípojka pro čp. 587 z RŠ3 PVC DN200:3,00*0,80*1,95",null,4.68,null,null,null,null,null,null,null,"Přípojka pro čp. 587 z RŠ3 PVC DN200:3,00*0,80*1,95"]
[null,null,"Přípojka pro čp. 586 z RŠ4 PVC DN200:4,00*0,80*1,89",null,6.048,null,null,null,null,null,null,null,"Přípojka pro čp. 586 z RŠ4 PVC DN200:4,00*0,80*1,89"]
[null,null,"Přípojka pro čp. 573 z RŠ5 PVC DN200:3,00*0,80*1,75",null,4.2,null,null,null,null,null,null,null,"Přípojka pro čp. 573 z RŠ5 PVC DN200:3,00*0,80*1,75"]
[null,null,"Odpočet objemu konstrukce komunikací:-6,00*1,00*0,45-2,00*(2,00-1,00)*0,45",null,-3.6,null,null,null,null,null,null,null,"Odpočet objemu konstrukce komunikací:-6,00*1,00*0,45-2,00*(2,00-1,00)*0,45"]
[null,null,"Odpočet objemu ornice nebo zelených ploch:-(107,00-6,00)*1,00*0,20-1,60*(1,60-1,00)*0,20*4",null,-20.968,null,null,null,null,null,null,null,"Odpočet objemu ornice nebo zelených ploch:-(107,00-6,00)*1,00*0,20-1,60*(1,60-1,00)*0,20*4"]
[null,null,"-(3,00+4,00+3,00)*0,80*0,20",null,-1.6,null,null,null,null,null,null,null,"-(3,00+4,00+3,00)*0,80*0,20"]
[null,null,"Konec provozního součtu",null,250.25200000000001,null,null,null,null,null,null,null,"Konec provozního součtu"]
[null,null,"V hornině tř. 3 - 40%:250,2520*0,4",null,100.10080000000001,null,null,null,null,null,null,null,"V hornině tř. 3 - 40%:250,2520*0,4"]
[10,"132201219R00","Přípl.za lepivost,hloubení rýh 200cm,hor.3,STROJNĚ ","m3",50.050400000000003,null,{"$f":"E76*F76","v":0},0,{"$f":"E76*H76","v":0},0,{"$f":"E76*J76","v":0},null,null,null,2,null,null,null,null,null,null,null,null,null,null,null,1,1,1,null,null,null,null,null,null,null,null,null,null,null,null,null,null,null,null,null,null,null,null,null,null,1,{"$f":"IF(AZ76=1,G76,0)","v":0},{"$f":"IF(AZ76=2,G76,0)","v":0},{"$f":"IF(AZ76=3,G76,0)","v":0},{"$f":"IF(AZ76=4,G76,0)","v":0},{"$f":"IF(AZ76=5,G76,0)","v":0},null,null,null,null,null,null,null,null,null,null,null,null,null,null,null,null,null,null,null,null,null,1,1]
[null,null,"Stoka IO01:",null,0,null,null,null,null,null,null,null,"Stoka IO01:"]
[null,null,"Stoka \"G\" PVC DN250:",null,0,null,null,null,null,null,null,null,"Stoka \"G\" PVC DN250:"]
[null,null,"Výkopy:",null,0,null,null,null,null,null,null,null,"Výkopy:"]
[null,null,"V hornině tř. 3 - 40%:250,2520*0,4*0,5",null,50.050400000000003,null,null,null,null,null,null,null,"V hornině tř. 3 - 40%:250,2520*0,4*0,5"]
[11,"132301212R00","Hloubení rýh š.do 200 cm hor.4 do 1000 m3, STROJNĚ ","m3",150.15119999999999,null,{"$f":"E81*F81","v":0},0,{"$f":"E81*H81","v":0},0,{"$f":"E81*J81","v":0},null,null,null,2,null,null,null,null,null,null,null,null,null,null,null,1,1,1,null,null,null,null,null,null,null,null,null,null,null,null,null,null,null,null,null,null,null,null,null,null,1,{"$f":"IF(AZ81=1,G81,0)","v":0},{"$f":"IF(AZ81=2,G81,0)","v":0},{"$f":"IF(AZ81=3,G81,0)","v":0},{"$f":"IF(AZ81=4,G81,0)","v":0},{"$f":"IF(AZ81=5,G81,0)","v":0},null,null,null,null,null,null,null,null,null,null,null,null,null,null,null,null,null,null,null,null,null,1,1]
[null,null,"Položka obsahuje hloubení rýh traktorbagrem, naložení výkopku na dopravní prostředek pro svislé, nebo vodorovné přemístění, popř. přemístění výkopku do 3 m (po povrchu území), případné zajištění rypadel polštáři, udržování pracoviště a ochranu výkopiště proti stékání srážkové vody z okolního terénu i s jejím odvodněním, nebo odvedením, přesekání a odstranění kořenů ve výkopišti, odstranění napadávek, urovnání dna výkopu.",null,null,null,null,null,null,null,null,"Položka obsahuje hloubení rýh traktorbagrem, naložení výkopku na dopravní prostředek pro svislé, nebo vodorovné přemístění, popř. přemístění výkopku do 3 m (po povrchu území), případné zajištění rypadel polštáři, udržování pracoviště a ochranu výkopiště proti stékání srážkové vody z okolního terénu i s jejím odvodněním, nebo odvedením, přesekání a odstranění kořenů ve výkopišti, odstranění napadávek, urovnání dna výkopu.",null,null,3]
[null,null,"Stoka IO01:",null,0,null,null,null,null,null,null,null,"Stoka IO01:"]
[null,null,"Stoka \"G\" PVC DN250:",null,0,null,null,null,null,null,null,null,"Stoka \"G\" PVC DN250:"]
[null,null,"Výkopy:",null,0,null,null,null,null,null,null,null,"Výkopy:"]
[null,null,"V hornině tř. 4 - 60%:250,2520*0,6",null,150.15119999999999,null,null,null,null,null,null,null,"V hornině tř. 4 - 60%:250,2520*0,6"]
[12,"132301219R00","Přípl.za lepivost,hloubení rýh 200cm,hor.4,STROJNĚ ","m3",75.075599999999994,null,{"$f":"E87*F87","v":0},0,{"$f":"E87*H87","v":0},0,{"$f":"E87*J87","v":0},null,null,null,2,null,null,null,null,null,null,null,null,null,null,null,1,1,1,null,null,null,null,null,null,null,null,null,null,null,null,null,null,null,null,null,null,null,null,null,null,1,{"$f":"IF(AZ87=1,G87,0)","v":0},{"$f":"IF(AZ87=2,G87,0)","v":0},{"$f":"IF(AZ87=3,G87,0)","v":0},{"$f":"IF(AZ87=4,G87,0)","v":0},{"$f":"IF(AZ87=5,G87,0)","v":0},null,null,null,null,null,null,null,null,null,null,null,null,null,null,null,null,null,null,null,null,null,1,1]
[null,null,"Stoka IO01:",null,0,null,null,null,null,null,null,null,"Stoka IO01:"]
[null,null,"Stoka \"G\" PVC DN250:",null,0,null,null,null,null,null,null,null,"Stoka \"G\" PVC DN250:"]
[null,null,"Výkopy:",null,0,null,null,null,null,null,null,null,"Výkopy:"]
[null,null,"V hornině tř. 4 - 60%:250,2520*0,6*0,5",null,75.075599999999994,null,null,null,null,null,null,null,"V hornině tř. 4 - 60%:250,2520*0,6*0,5"]
[13,"151101101R00","Pažení a rozepření stěn rýh - příložné - hl.do 2 m ","m2",532.84,null,{"$f":"E92*F92","v":0},9.8999999999999999E-4,{"$f":"E92*H92","v":0.52751160000000008},0,{"$f":"E92*J92","v":0},null,null,null,2,null,null,null,null,null,null,null,null,null,null,null,1,1,1,null,null,null,null,null,null,null,null,null,null,null,null,null,null,null,null,null,null,null,null,null,null,1,{"$f":"IF(AZ92=1,G92,0)","v":0},{"$f":"IF(AZ92=2,G92,0)","v":0},{"$f":"IF(AZ92=3,G92,0)","v":0},{"$f":"IF(AZ92=4,G92,0)","v":0},{"$f":"IF(AZ92=5,G92,0)","v":0},null,null,null,null,null,null,null,null,null,null,null,null,null,null,null,null,null,null,null,null,null,1,1]
[null,null,"Stoka IO01:",null,0,null,null,null,null,null,null,null,"Stoka IO01:"]
[null,null,"Stoka \"G\" PVC DN250:",null,0,null,null,null,null,null,null,null,"Stoka \"G\" PVC DN250:"]
[null,null,"Výkopy:",null,0,null,null,null,null,null,null,null,"Výkopy:"]
[null,null,"12,00*(1,65+1,19)/2*2",null,34.08,null,null,null,null,null,null,null,"12,00*(1,65+1,19)/2*2"]
[null,null,"(27,40-12,00)*(2,44+2,55)/2*2",null,76.846000000000004,null,null,null,null,null,null,null,"(27,40-12,00)*(2,44+2,55)/2*2"]
[null,null,"(37,20-24,40)*(2,55+2,51)/2*2",null,64.768000000000001,null,null,null,null,null,null,null,"(37,20-24,40)*(2,55+2,51)/2*2"]
[null,null,"(55,00-37,20)*(2,51+1,61)/2*2",null,73.335999999999999,null,null,null,null,null,null,null,"(55,00-37,20)*(2,51+1,61)/2*2"]
[null,null,"(63,10-55,00)*(1,61+1,91)/2*2",null,28.512,null,null,null,null,null,null,null,"(63,10-55,00)*(1,61+1,91)/2*2"]
[null,null,"(74,80-63,10)*(1,91+1,95)/2*2",null,45.161999999999999,null,null,null,null,null,null,null,"(74,80-63,10)*(1,91+1,95)/2*2"]
[null,null,"(78,00-74,80)*(1,95+2,33)/2*2",null,13.696,null,null,null,null,null,null,null,"(78,00-74,80)*(1,95+2,33)/2*2"]
[null,null,"(117,00-78,00)*(2,33+1,75)/2*2",null,159.12,null,null,null,null,null,null,null,"(117,00-78,00)*(2,33+1,75)/2*2"]
[null,null,"Přípojky PVC DN200:",null,0,null,null,null,null,null,null,null,"Přípojky PVC DN200:"]
[null,null,"Přípojka pro čp. 587 z RŠ3 PVC DN200:3,00*1,95*2",null,11.7,null,null,null,null,null,null,null,"Přípojka pro čp. 587 z RŠ3 PVC DN200:3,00*1,95*2"]
[null,null,"Přípojka pro čp. 586 z RŠ4 PVC DN200:4,00*1,89*2",null,15.12,null,null,null,null,null,null,null,"Přípojka pro čp. 586 z RŠ4 PVC DN200:4,00*1,89*2"]
[null,null,"Přípojka pro čp. 573 z RŠ5 PVC DN200:3,00*1,75*2",null,10.5,null,null,null,null,null,null,null,"Přípojka pro čp. 573 z RŠ5 PVC DN200:3,00*1,75*2"]
[14,"151101111R00","Odstranění pažení stěn rýh - příložné - hl. do 2 m ","m2",532.84,null,{"$f":"E108*F108","v":0},0,{"$f":"E108*H108","v":0},0,{"$f":"E108*J108","v":0},null,null,null,2,null,null,null,null,null,null,null,null,null,null,null,1,1,1,null,null,null,null,null,null,null,null,null,null,null,null,null,null,null,null,null,null,null,null,null,null,1,{"$f":"IF(AZ108=1,G108,0)","v":0},{"$f":"IF(AZ108=2,G108,0)","v":0},{"$f":"IF(AZ108=3,G108,0)","v":0},{"$f":"IF(AZ108=4,G108,0)","v":0},{"$f":"IF(AZ108=5,G108,0)","v":0},null,null,null,null,null,null,null,null,null,null,null,null,null,null,null,null,null,null,null,null,null,1,1]
[null,null,"Stoka IO01:",null,0,null,null,null,null,null,null,null,"Stoka IO01:"]
[null,null,"Stoka \"G\" PVC DN250:",null,0,null,null,null,null,null,null,null,"Stoka \"G\" PVC DN250:"]
[null,null,"Výkopy:",null,0,null,null,null,null,null,null,null,"Výkopy:"]
[null,null,"12,00*(1,65+1,19)/2*2",null,34.08,null,null,null,null,null,null,null,"12,00*(1,65+1,19)/2*2"]
[null,null,"(27,40-12,00)*(2,44+2,55)/2*2",null,76.846000000000004,null,null,null,null,null,null,null,"(27,40-12,00)*(2,44+2,55)/2*2"]
[null,null,"(37,20-24,40)*(2,55+2,51)/2*2",null,64.768000000000001,null,null,null,null,null,null,null,"(37,20-24,40)*(2,55+2,51)/2*2"]
[null,null,"(55,00-37,20)*(2,51+1,61)/2*2",null,73.335999999999999,null,null,null,null,null,null,null,"(55,00-37,20)*(2,51+1,61)/2*2"]
[null,null,"(63,10-55,00)*(1,61+1,91)/2*2",null,28.512,null,null,null,null,null,null,null,"(63,10-55,00)*(1,61+1,91)/2*2"]
[null,null,"(74,80-63,10)*(1,91+1,95)/2*2",null,45.161999999999999,null,null,null,null,null,null,null,"(74,80-63,10)*(1,91+1,95)/2*2"]
[null,null,"(78,00-74,80)*(1,95+2,33)/2*2",null,13.696,null,null,null,null,null,null,null,"(78,00-74,80)*(1,95+2,33)/2*2"]
[null,null,"(117,00-78,00)*(2,33+1,75)/2*2",null,159.12,null,null,null,null,null,null,null,"(117,00-78,00)*(2,33+1,75)/2*2"]
[null,null,"Přípojky PVC DN200:",null,0,null,null,null,null,null,null,null,"Přípojky PVC DN200:"]
[null,null,"Přípojka pro čp. 587 z RŠ3 PVC DN200:3,00*1,95*2",null,11.7,null,null,null,null,null,null,null,"Přípojka pro čp. 587 z RŠ3 PVC DN200:3,00*1,95*2"]
[null,null,"Přípojka pro čp. 586 z RŠ4 PVC DN200:4,00*1,89*2",null,15.12,null,null,null,null,null,null,null,"Přípojka pro čp. 586 z RŠ4 PVC DN200:4,00*1,89*2"]
[null,null,"Přípojka pro čp. 573 z RŠ5 PVC DN200:3,00*1,75*2",null,10.5,null,null,null,null,null,null,null,"Přípojka pro čp. 573 z RŠ5 PVC DN200:3,00*1,75*2"]
[15,"162701105RSZ","Vodorovné přemístění výkopku z hor.1-7 na skládku zhotovitele","m3",87.470100000000002,null,{"$f":"E124*F124","v":0},0,{"$f":"E124*H124","v":0},0,{"$f":"E124*J124","v":0},null,null,null,2,null,null,null,null,null,null,null,null,null,null,null,1,1,1,null,null,null,null,null,null,null,null,null,null,null,null,null,null,null,null,null,null,null,null,null,null,1,{"$f":"IF(AZ124=1,G124,0)","v":0},{"$f":"IF(AZ124=2,G124,0)","v":0},{"$f":"IF(AZ124=3,G124,0)","v":0},{"$f":"IF(AZ124=4,G124,0)","v":0},{"$f":"IF(AZ124=5,G124,0)","v":0},null,null,null,null,null,null,null,null,null,null,null,null,null,null,null,null,null,null,null,null,null,1,1]
[null,null,"Stoka IO01:",null,0,null,null,null,null,null,null,null,"Stoka IO01:"]
[null,null,"Stoka \"G\" PVC DN250:",null,0,null,null,null,null,null,null,null,"Stoka \"G\" PVC DN250:"]
[null,null,"Výkopy:",null,0,null,null,null,null,null,null,null,"Výkopy:"]
[null,null,"V hornině tř. 3 - 4 :250,2520",null,250.25200000000001,null,null,null,null,null,null,null,"V hornině tř. 3 - 4 :250,2520"]
[null,null,"Odpočet zásypů zeminou z IO01:-147,1444",null,-147.14439999999999,null,null,null,null,null,null,null,"Odpočet zásypů zeminou z IO01:-147,1444"]
[null,null,"Odpočet zásypů zeminou z IO02:-15,6375",null,-15.637499999999999,null,null,null,null,null,null,null,"Odpočet zásypů zeminou z IO02:-15,6375"]
[16,"174101101R00","Zásyp jam, rýh, šachet se zhutněním ","m3",150.1063,null,{"$f":"E131*F131","v":0},0,{"$f":"E131*H131","v":0},0,{"$f":"E131*J131","v":0},null,null,null,2,null,null,null,null,null,null,null,null,null,null,null,1,1,1,null,null,null,null,null,null,null,null,null,null,null,null,null,null,null,null,null,null,null,null,null,null,1,{"$f":"IF(AZ131=1,G131,0)","v":0},{"$f":"IF(AZ131=2,G131,0)","v":0},{"$f":"IF(AZ131=3,G131,0)","v":0},{"$f":"IF(AZ131=4,G131,0)","v":0},{"$f":"IF(AZ131=5,G131,0)","v":0},null,null,null,null,null,null,null,null,null,null,null,null,null,null,null,null,null,null,null,null,null,1,1]
[null,null,"Položka obsahuje strojní přemístění materiálu pro zásyp ze vzdálenosti do 10 m od okraje zásypu.",null,null,null,null,null,null,null,null,"Položka obsahuje strojní přemístění materiálu pro zásyp ze vzdálenosti do 10 m od okraje zásypu.",null,null,3]
[null,null,null,null,null,null,null,null,null,null,null,null,null,null,3]
[null,null,"Stoka IO01:",null,0,null,null,null,null,null,null,null,"Stoka IO01:"]
[null,null,"Stoka \"G\" PVC DN250:",null,0,null,null,null,null,null,null,null,"Stoka \"G\" PVC DN250:"]
[null,null,"Zásyp ŠD fr. 0-63 mm:2,9619",null,2.9619,null,null,null,null,null,null,null,"Zásyp ŠD fr. 0-63 mm:2,9619"]
[null,null,"Začátek provozního součtu",null,0,null,null,null,null,null,null,null,"Začátek provozního součtu"]
[null,null,"Výkopy:",null,0,null,null,null,null,null,null,null,"Výkopy:"]
[null,null,"6,00*1,00*(1,65+1,19)/2",null,8.52,null,null,null,null,null,null,null,"6,00*1,00*(1,65+1,19)/2"]
[null,null,"Prohloubení pro RŠ:2,00*2,00*0,20*1",null,0.8,null,null,null,null,null,null,null,"Prohloubení pro RŠ:2,00*2,00*0,20*1"]
[null,null,"Rozšíření pro RŠ:2,00*(2,00-1,00)*1,65",null,3.3,null,null,null,null,null,null,null,"Rozšíření pro RŠ:2,00*(2,00-1,00)*1,65"]
[null,null,"Odpočet objemu konstrukce komunikací:-6,00*1,00*0,45-2,00*(2,00-1,00)*0,45",null,-3.6,null,null,null,null,null,null,null,"Odpočet objemu konstrukce komunikací:-6,00*1,00*0,45-2,00*(2,00-1,00)*0,45"]
[null,null,"Odpočet lože. potrubí a obsypů:-6,00*1,00*(0,15+0,25+0,30)",null,-4.2,null,null,null,null,null,null,null,"Odpočet lože. potrubí a obsypů:-6,00*1,00*(0,15+0,25+0,30)"]
[null,null,"Odpočet objemu Š 1:-1,8581",null,-1.8581000000000001,null,null,null,null,null,null,null,"Odpočet objemu Š 1:-1,8581"]
[null,null,"Konec provozního součtu",null,2.9619000000000009,null,null,null,null,null,null,null,"Konec provozního součtu"]
[null,null,"Zásypy zeminou:147,1444",null,147.14439999999999,null,null,null,null,null,null,null,"Zásypy zeminou:147,1444"]
[null,null,"Začátek provozního součtu",null,0,null,null,null,null,null,null,null,"Začátek provozního součtu"]
[null,null,"6,00*1,00*(1,65+1,19)/2",null,8.52,null,null,null,null,null,null,null,"6,00*1,00*(1,65+1,19)/2"]
[null,null,"(27,40-12,00)*1,00*(2,44+2,55)/2",null,38.423000000000002,null,null,null,null,null,null,null,"(27,40-12,00)*1,00*(2,44+2,55)/2"]
[null,null,"(37,20-24,40)*1,00*(2,55+2,51)/2",null,32.384,null,null,null,null,null,null,null,"(37,20-24,40)*1,00*(2,55+2,51)/2"]
[null,null,"(55,00-37,20)*1,00*(2,51+1,61)/2",null,36.667999999999999,null,null,null,null,null,null,null,"(55,00-37,20)*1,00*(2,51+1,61)/2"]
[null,null,"(63,10-55,00)*1,00*(1,61+1,91)/2",null,14.256,null,null,null,null,null,null,null,"(63,10-55,00)*1,00*(1,61+1,91)/2"]
[null,null,"(74,80-63,10)*1,00*(1,91+1,95)/2",null,22.581,null,null,null,null,null,null,null,"(74,80-63,10)*1,00*(1,91+1,95)/2"]
[null,null,"(78,00-74,80)*1,00*(1,95+2,33)/2",null,6.8479999999999999,null,null,null,null,null,null,null,"(78,00-74,80)*1,00*(1,95+2,33)/2"]
[null,null,"(117,00-78,00)*1,00*(2,33+1,75)/2",null,79.56,null,null,null,null,null,null,null,"(117,00-78,00)*1,00*(2,33+1,75)/2"]
[null,null,"Prohloubení pro RŠ:1,60*1,60*0,20*4",null,2.048,null,null,null,null,null,null,null,"Prohloubení pro RŠ:1,60*1,60*0,20*4"]
[null,null,"Rozšíření pro RŠ:1,60*(1,60-1,00)*(2,51+1,95+1,69+1,75)",null,7.5839999999999996,null,null,null,null,null,null,null,"Rozšíření pro RŠ:1,60*(1,60-1,00)*(2,51+1,95+1,69+1,75)"]
[null,null,"Přípojky PVC DN200:",null,0,null,null,null,null,null,null,null,"Přípojky PVC DN200:"]
[null,null,"Přípojka pro čp. 587 z RŠ3 PVC DN200:3,00*0,80*1,95",null,4.68,null,null,null,null,null,null,null,"Přípojka pro čp. 587 z RŠ3 PVC DN200:3,00*0,80*1,95"]
[null,null,"Přípojka pro čp. 586 z RŠ4 PVC DN200:4,00*0,80*1,89",null,6.048,null,null,null,null,null,null,null,"Přípojka pro čp. 586 z RŠ4 PVC DN200:4,00*0,80*1,89"]
[null,null,"Přípojka pro čp. 573 z RŠ5 PVC DN200:3,00*0,80*1,75",null,4.2,null,null,null,null,null,null,null,"Přípojka pro čp. 573 z RŠ5 PVC DN200:3,00*0,80*1,75"]
[null,null,"Odpočet objemu ornice nebo zelených ploch:-(107,00-6,00)*1,00*0,20-1,60*(1,60-1,00)*0,20*4",null,-20.968,null,null,null,null,null,null,null,"Odpočet objemu ornice nebo zelených ploch:-(107,00-6,00)*1,00*0,20-1,60*(1,60-1,00)*0,20*4"]
[null,null,"-(3,00+4,00+3,00)*0,80*0,20",null,-1.6,null,null,null,null,null,null,null,"-(3,00+4,00+3,00)*0,80*0,20"]
[null,null,"Odpočet lože, potrubí a obsypů:-(117,00-6,00)*1,00*(0,15+0,25+0,30)",null,-77.7,null,null,null,null,null,null,null,"Odpočet lože, potrubí a obsypů:-(117,00-6,00)*1,00*(0,15+0,25+0,30)"]
[null,null,"-(3,00+4,00+3,00)*0,80*(0,15+0,20+0,30)",null,-5.2,null,null,null,null,null,null,null,"-(3,00+4,00+3,00)*0,80*(0,15+0,20+0,30)"]
[null,null,"Odpočet objemu RŠ:-10,4852",null,-10.485200000000001,null,null,null,null,null,null,null,"Odpočet objemu RŠ:-10,4852"]
[null,null,"Odpočet objemu DRŠ:-0,7024",null,-0.70240000000000002,null,null,null,null,null,null,null,"Odpočet objemu DRŠ:-0,7024"]
[null,null,"Konec provozního součtu",null,147.14440000000005,null,null,null,null,null,null,null,"Konec provozního součtu"]
[17,"175101101R00","Obsyp potrubí bez prohození sypaniny ","m3",62.2926,null,{"$f":"E169*F169","v":0},0,{"$f":"E169*H169","v":0},0,{"$f":"E169*J169","v":0},null,null,null,2,null,null,null,null,null,null,null,null,null,null,null,1,1,1,null,null,null,null,null,null,null,null,null,null,null,null,null,null,null,null,null,null,null,null,null,null,1,{"$f":"IF(AZ169=1,G169,0)","v":0},{"$f":"IF(AZ169=2,G169,0)","v":0},{"$f":"IF(AZ169=3,G169,0)","v":0},{"$f":"IF(AZ169=4,G169,0)","v":0},{"$f":"IF(AZ169=5,G169,0)","v":0},null,null,null,null,null,null,null,null,null,null,null,null,null,null,null,null,null,null,null,null,null,1,1]
[null,null,"Stoka IO01:",null,0,null,null,null,null,null,null,null,"Stoka IO01:"]
[null,null,"Stoka \"G\" PVC DN250:117,00*(1,00*(0,25+0,30)-0,125^2*Pi)",null,58.6068,null,null,null,null,null,null,null,"Stoka \"G\" PVC DN250:117,00*(1,00*(0,25+0,30)-0,125^2*Pi)"]
[null,null,"Přípojka pro čp. 587 z RŠ3 PVC DN200:3,00*(0,80*(0,20+0,30)-0,10^2*Pi)",null,1.1057999999999999,null,null,null,null,null,null,null,"Přípojka pro čp. 587 z RŠ3 PVC DN200:3,00*(0,80*(0,20+0,30)-0,10^2*Pi)"]
[null,null,"Přípojka pro čp. 586 z RŠ4 PVC DN200:4,00*(0,80*(0,20+0,30)-0,10^2*Pi)",null,1.4742999999999999,null,null,null,null,null,null,null,"Přípojka pro čp. 586 z RŠ4 PVC DN200:4,00*(0,80*(0,20+0,30)-0,10^2*Pi)"]
[null,null,"Přípojka pro čp. 573 z RŠ5 PVC DN200:3,00*(0,80*(0,20+0,30)-0,10^2*Pi)",null,1.1057999999999999,null,null,null,null,null,null,null,"Přípojka pro čp. 573 z RŠ5 PVC DN200:3,00*(0,80*(0,20+0,30)-0,10^2*Pi)"]
[18,"182001112R00","Plošná úprava terénu, nerovnosti do 10 cm svah 1:2 ","m2",500,null,{"$f":"E175*F175","v":0},0,{"$f":"E175*H175","v":0},0,{"$f":"E175*J175","v":0},null,null,null,2,null,null,null,null,null,null,null,null,null,null,null,1,1,1,null,null,null,null,null,null,null,null,null,null,null,null,null,null,null,null,null,null,null,null,null,null,1,{"$f":"IF(AZ175=1,G175,0)","v":0},{"$f":"IF(AZ175=2,G175,0)","v":0},{"$f":"IF(AZ175=3,G175,0)","v":0},{"$f":"IF(AZ175=4,G175,0)","v":0},{"$f":"IF(AZ175=5,G175,0)","v":0},null,null,null,null,null,null,null,null,null,null,null,null,null,null,null,null,null,null,null,null,null,1,1]
[null,null,"Stoka IO01:",null,0,null,null,null,null,null,null,null,"Stoka IO01:"]
[null,null,"Stoka \"G\" PVC DN250:",null,0,null,null,null,null,null,null,null,"Stoka \"G\" PVC DN250:"]
[null,null,"Pro výsadbu keřů:500,00",null,500,null,null,null,null,null,null,null,"Pro výsadbu keřů:500,00"]
[19,"182951112RT9","Položení mulčovací textilie včetně upevnění včetně dodávky mulčovací textilie 150g/m2 a skob","m2",500,null,{"$f":"E179*F179","v":0},0,{"$f":"E179*H179","v":0},0,{"$f":"E179*J179","v":0},null,null,null,2,null,null,null,null,null,null,null,null,null,null,null,1,1,1,null,null,null,null,null,null,null,null,null,null,null,null,null,null,null,null,null,null,null,null,null,null,1,{"$f":"IF(AZ179=1,G179,0)","v":0},{"$f":"IF(AZ179=2,G179,0)","v":0},{"$f":"IF(AZ179=3,G179,0)","v":0},{"$f":"IF(AZ179=4,G179,0)","v":0},{"$f":"IF(AZ179=5,G179,0)","v":0},null,null,null,null,null,null,null,null,null,null,null,null,null,null,null,null,null,null,null,null,null,1,1]
[null,null,"Stoka IO01:",null,0,null,null,null,null,null,null,null,"Stoka IO01:"]
[null,null,"Stoka \"G\" PVC DN250:",null,0,null,null,null,null,null,null,null,"Stoka \"G\" PVC DN250:"]
[null,null,"Pro výsadbu keřů:500,00",null,500,null,null,null,null,null,null,null,"Pro výsadbu keřů:500,00"]
[20,"184101111RA0","Výsadba keře prostokoř. v rovině, výšky do 500 mm ","kus",200,null,{"$f":"E183*F183","v":0},0,{"$f":"E183*H183","v":0},0,{"$f":"E183*J183","v":0},null,null,null,2,null,null,null,null,null,null,null,null,null,null,null,1,1,1,null,null,null,null,null,null,null,null,null,null,null,null,null,null,null,null,null,null,null,null,null,null,1,{"$f":"IF(AZ183=1,G183,0)","v":0},{"$f":"IF(AZ183=2,G183,0)","v":0},{"$f":"IF(AZ183=3,G183,0)","v":0},{"$f":"IF(AZ183=4,G183,0)","v":0},{"$f":"IF(AZ183=5,G183,0)","v":0},null,null,null,null,null,null,null,null,null,null,null,null,null,null,null,null,null,null,null,null,null,1,1]
[null,null,"Hloubení jamek pro vysazování rostlin v hornině 1 až 4 bez výměny půdy, s případným naložením přebytečných výkopků na dopravní prostředek, s odvozem na vzdálenost do 20 km a se složením. Výsadba keře bez balu do předem vyhloubené jamky se zalitím.",null,null,null,null,null,null,null,null,"Hloubení jamek pro vysazování rostlin v hornině 1 až 4 bez výměny půdy, s případným naložením přebytečných výkopků na dopravní prostředek, s odvozem na vzdálenost do 20 km a se složením. Výsadba keře bez balu do předem vyhloubené jamky se zalitím.",null,null,3]
[null,null,"Včetně přesunu hmot.",null,null,null,null,null,null,null,null,"Včetně přesunu hmot.",null,null,3]
[null,null,"Stoka IO01:",null,0,null,null,null,null,null,null,null,"Stoka IO01:"]
[null,null,"Stoka \"G\" PVC DN250:",null,0,null,null,null,null,null,null,null,"Stoka \"G\" PVC DN250:"]
[null,null,"Náhradní výsadba \"Skalník rozprostřený\":200",null,200,null,null,null,null,null,null,null,"Náhradní výsadba \"Skalník rozprostřený\":200"]
[21,"184201114RAA","Výsadba stromu s balem, v rovině, výšky do 2000 mm bez dodávky dřeviny","kus",5,null,{"$f":"E189*F189","v":0},1.397E-2,{"$f":"E189*H189","v":6.9849999999999995E-2},0,{"$f":"E189*J189","v":0},null,null,null,2,null,null,null,null,null,null,null,null,null,null,null,1,1,1,null,null,null,null,null,null,null,null,null,null,null,null,null,null,null,null,null,null,null,null,null,null,1,{"$f":"IF(AZ189=1,G189,0)","v":0},{"$f":"IF(AZ189=2,G189,0)","v":0},{"$f":"IF(AZ189=3,G189,0)","v":0},{"$f":"IF(AZ189=4,G189,0)","v":0},{"$f":"IF(AZ189=5,G189,0)","v":0},null,null,null,null,null,null,null,null,null,null,null,null,null,null,null,null,null,null,null,null,null,1,1]
[null,null,"Hloubení jamek v hornině 1 až 4 bez výměny půdy, s případným naložením přebytečných výkopků na dopravní prostředek, s odvozem na vzdálenost do 20 km a se složením. Výsadba stromu s balem se zalitím. Dovoz vody. Ukotvení dřeviny třemi a více kůly, s ochranou proti poškození v místě vzepření. Osazení kůlů k dřevině s uvázáním. Dodávka kůlů, příček a motouzu.",null,null,null,null,null,null,null,null,"Hloubení jamek v hornině 1 až 4 bez výměny půdy, s případným naložením přebytečných výkopků na dopravní prostředek, s odvozem na vzdálenost do 20 km a se složením. Výsadba stromu s balem se zalitím. Dovoz vody. Ukotvení dřeviny třemi a více kůly, s ochranou proti poškození v místě vzepření. Osazení kůlů k dřevině s uvázáním. Dodávka kůlů, příček a motouzu.",null,null,3]
[null,null,"Včetně přesunu hmot.",null,null,null,null,null,null,null,null,"Včetně přesunu hmot.",null,null,3]
[null,null,"Stoka IO01:",null,0,null,null,null,null,null,null,null,"Stoka IO01:"]
[null,null,"Stoka \"G\" PVC DN250:",null,0,null,null,null,null,null,null,null,"Stoka \"G\" PVC DN250:"]
[null,null,"Náhradní výsadba \"Zerav západní - Thuja occidentalis Smaragd 175-200\":5",null,5,null,null,null,null,null,null,null,"Náhradní výsadba \"Zerav západní - Thuja occidentalis Smaragd 175-200\":5"]
[22,"199000002R00","Poplatek za skládku horniny 1- 7 k rekultivaci č. dle katal. odpadů 17 05 04","m3",87.470100000000002,null,{"$f":"E195*F195","v":0},0,{"$f":"E195*H195","v":0},0,{"$f":"E195*J195","v":0},null,null,null,2,null,null,null,null,null,null,null,null,null,null,null,1,1,1,null,null,null,null,null,null,null,null,null,null,null,null,null,null,null,null,null,null,null,null,null,null,1,{"$f":"IF(AZ195=1,G195,0)","v":0},{"$f":"IF(AZ195=2,G195,0)","v":0},{"$f":"IF(AZ195=3,G195,0)","v":0},{"$f":"IF(AZ195=4,G195,0)","v":0},{"$f":"IF(AZ195=5,G195,0)","v":0},null,null,null,null,null,null,null,null,null,null,null,null,null,null,null,null,null,null,null,null,null,1,1]
[null,null,"Stoka IO01:",null,0,null,null,null,null,null,null,null,"Stoka IO01:"]
[null,null,"Stoka \"G\" PVC DN250:",null,0,null,null,null,null,null,null,null,"Stoka \"G\" PVC DN250:"]
[null,null,"Výkopy:",null,0,null,null,null,null,null,null,null,"Výkopy:"]
[null,null,"V hornině tř. 3 - 4 :250,2520",null,250.25200000000001,null,null,null,null,null,null,null,"V hornině tř. 3 - 4 :250,2520"]
[null,null,"Odpočet zásypů zeminou z IO01:-147,1444",null,-147.14439999999999,null,null,null,null,null,null,null,"Odpočet zásypů zeminou z IO01:-147,1444"]
[null,null,"Odpočet zásypů zeminou z IO02:-15,6375",null,-15.637499999999999,null,null,null,null,null,null,null,"Odpočet zásypů zeminou z IO02:-15,6375"]
[23,"919735113R00","Řezání stávajícího živičného krytu tl. 10 - 15 cm ","m",24,null,{"$f":"E202*F202","v":0},0,{"$f":"E202*H202","v":0},0,{"$f":"E202*J202","v":0},null,null,null,2,null,null,null,null,null,null,null,null,null,null,null,1,1,1,null,null,null,null,null,null,null,null,null,null,null,null,null,null,null,null,null,null,null,null,null,null,1,{"$f":"IF(AZ202=1,G202,0)","v":0},{"$f":"IF(AZ202=2,G202,0)","v":0},{"$f":"IF(AZ202=3,G202,0)","v":0},{"$f":"IF(AZ202=4,G202,0)","v":0},{"$f":"IF(AZ202=5,G202,0)","v":0},null,null,null,null,null,null,null,null,null,null,null,null,null,null,null,null,null,null,null,null,null,1,1]
[null,null,"Stoka IO01 :",null,0,null,null,null,null,null,null,null,"Stoka IO01 :"]
[null,null,"Napojení na stoku ŽB DN500:6,00*4",null,24,null,null,null,null,null,null,null,"Napojení na stoku ŽB DN500:6,00*4"]
[24,"979082113RSZ","Vodorovná doprava suti po suchu na skládku zhotovitele","t",48.024000000000001,null,{"$f":"E205*F205","v":0},0,{"$f":"E205*H205","v":0},0,{"$f":"E205*J205","v":0},null,null,null,2,null,null,null,null,null,null,null,null,null,null,null,1,1,1,null,null,null,null,null,null,null,null,null,null,null,null,null,null,null,null,null,null,null,null,null,null,1,{"$f":"IF(AZ205=1,G205,0)","v":0},{"$f":"IF(AZ205=2,G205,0)","v":0},{"$f":"IF(AZ205=3,G205,0)","v":0},{"$f":"IF(AZ205=4,G205,0)","v":0},{"$f":"IF(AZ205=5,G205,0)","v":0},null,null,null,null,null,null,null,null,null,null,null,null,null,null,null,null,null,null,null,null,null,1,1]
[25,"979089001R00","Poplatek za skládku stavební suti štěrky z komunikací, skupina odpadu 010408","t",23.76,null,{"$f":"E206*F206","v":0},0,{"$f":"E206*H206","v":0},0,{"$f":"E206*J206","v":0},null,null,null,2,null,null,null,null,null,null,null,null,null,null,null,1,1,1,null,null,null,null,null,null,null,null,null,null,null,null,null,null,null,null,null,null,null,null,null,null,1,{"$f":"IF(AZ206=1,G206,0)","v":0},{"$f":"IF(AZ206=2,G206,0)","v":0},{"$f":"IF(AZ206=3,G206,0)","v":0},{"$f":"IF(AZ206=4,G206,0)","v":0},{"$f":"IF(AZ206=5,G206,0)","v":0},null,null,null,null,null,null,null,null,null,null,null,null,null,null,null,null,null,null,null,null,null,1,1]
[26,"979990103RRX","Poplatek za skládku stavební suti nebo recyklaci beton, skupina odpadu 170101","t",12.384,null,{"$f":"E207*F207","v":0},0,{"$f":"E207*H207","v":0},0,{"$f":"E207*J207","v":0},null,null,null,2,null,null,null,null,null,null,null,null,null,null,null,1,0,0,null,null,null,null,null,null,null,null,null,null,null,null,null,null,null,null,null,null,null,null,null,null,1,{"$f":"IF(AZ207=1,G207,0)","v":0},{"$f":"IF(AZ207=2,G207,0)","v":0},{"$f":"IF(AZ207=3,G207,0)","v":0},{"$f":"IF(AZ207=4,G207,0)","v":0},{"$f":"IF(AZ207=5,G207,0)","v":0},null,null,null,null,null,null,null,null,null,null,null,null,null,null,null,null,null,null,null,null,null,1,0]
[27,"979999995R00","Poplatek za recyklaci asfaltu, kusovost do 1600cm2 skupina 170302","t",11.88,null,{"$f":"E208*F208","v":0},0,{"$f":"E208*H208","v":0},0,{"$f":"E208*J208","v":0},null,null,null,2,null,null,null,null,null,null,null,null,null,null,null,1,1,1,null,null,null,null,null,null,null,null,null,null,null,null,null,null,null,null,null,null,null,null,null,null,1,{"$f":"IF(AZ208=1,G208,0)","v":0},{"$f":"IF(AZ208=2,G208,0)","v":0},{"$f":"IF(AZ208=3,G208,0)","v":0},{"$f":"IF(AZ208=4,G208,0)","v":0},{"$f":"IF(AZ208=5,G208,0)","v":0},null,null,null,null,null,null,null,null,null,null,null,null,null,null,null,null,null,null,null,null,null,1,1]
[null,null,"Položka je určena pro suť o velikosti kusu do 30x30 cm (technologický materiál určený k recyklaci).",null,null,null,null,null,null,null,null,"Položka je určena pro suť o velikosti kusu do 30x30 cm (technologický materiál určený k recyklaci).",null,null,3]
[28,"02656029","Skalník - Cotoneaster horizontalis","kus",200,null,{"$f":"E210*F210","v":0},2E-3,{"$f":"E210*H210","v":0.4},null,{"$f":"E210*J210","v":0},null,null,null,2,null,null,null,null,null,null,null,null,null,null,null,3,1,2656029,null,null,null,null,null,null,null,null,null,null,null,null,null,null,null,null,null,null,null,null,null,null,1,{"$f":"IF(AZ210=1,G210,0)","v":0},{"$f":"IF(AZ210=2,G210,0)","v":0},{"$f":"IF(AZ210=3,G210,0)","v":0},{"$f":"IF(AZ210=4,G210,0)","v":0},{"$f":"IF(AZ210=5,G210,0)","v":0},null,null,null,null,null,null,null,null,null,null,null,null,null,null,null,null,null,null,null,null,null,3,1]
[null,null,"popínavá dřevina",null,null,null,null,null,null,null,null,"popínavá dřevina",null,null,3]
[null,null,"velikost 30/50 cm",null,null,null,null,null,null,null,null,"velikost 30/50 cm",null,null,3]
[null,null,"kontejner o objemu 1 l",null,null,null,null,null,null,null,null,"kontejner o objemu 1 l",null,null,3]
[null,null,"Stoka IO01:",null,0,null,null,null,null,null,null,null,"Stoka IO01:"]
[null,null,"Stoka \"G\" PVC DN250:",null,0,null,null,null,null,null,null,null,"Stoka \"G\" PVC DN250:"]
[null,null,"Náhradní výsadba \"Skalník rozprostřený\":200",null,200,null,null,null,null,null,null,null,"Náhradní výsadba \"Skalník rozprostřený\":200"]
[29,"02662137","Zerav západní - Thuja occidentalis Smaragd 175-200","kus",5,null,{"$f":"E217*F217","v":0},1.4999999999999999E-2,{"$f":"E217*H217","v":7.4999999999999997E-2},null,{"$f":"E217*J217","v":0},null,null,null,2,null,null,null,null,null,null,null,null,null,null,null,3,1,2662137,null,null,null,null,null,null,null,null,null,null,null,null,null,null,null,null,null,null,null,null,null,null,1,{"$f":"IF(AZ217=1,G217,0)","v":0},{"$f":"IF(AZ217=2,G217,0)","v":0},{"$f":"IF(AZ217=3,G217,0)","v":0},{"$f":"IF(AZ217=4,G217,0)","v":0},{"$f":"IF(AZ217=5,G217,0)","v":0},null,null,null,null,null,null,null,null,null,null,null,null,null,null,null,null,null,null,null,null,null,3,1]
[null,null,"Stoka IO01:",null,0,null,null,null,null,null,null,null,"Stoka IO01:"]
[null,null,"Stoka \"G\" PVC DN250:",null,0,null,null,null,null,null,null,null,"Stoka \"G\" PVC DN250:"]
[null,null,"Náhradní výsadba \"Zerav západní - Thuja occidentalis Smaragd 175-200\":5",null,5,null,null,null,null,null,null,null,"Náhradní výsadba \"Zerav západní - Thuja occidentalis Smaragd 175-200\":5"]
[30,"58337308.R","Štěrkopísek frakce 0-2 tř.B","t",124.1324,null,{"$f":"E221*F221","v":0},1,{"$f":"E221*H221","v":124.1324},null,{"$f":"E221*J221","v":0},null,null,null,2,null,null,null,null,null,null,null,null,null,null,null,3,1,"58337308.R",null,null,null,null,null,null,null,null,null,null,null,null,null,null,null,null,null,null,null,null,null,null,1,{"$f":"IF(AZ221=1,G221,0)","v":0},{"$f":"IF(AZ221=2,G221,0)","v":0},{"$f":"IF(AZ221=3,G221,0)","v":0},{"$f":"IF(AZ221=4,G221,0)","v":0},{"$f":"IF(AZ221=5,G221,0)","v":0},null,null,null,null,null,null,null,null,null,null,null,null,null,null,null,null,null,null,null,null,null,3,1]
[null,null,"Stoka IO01:",null,0,null,null,null,null,null,null,null,"Stoka IO01:"]
[null,null,"Stoka \"G\" PVC DN250:117,00*(1,00*(0,25+0,30)-0,125^2*Pi)*1,973*1,01",null,116.78749999999999,null,null,null,null,null,null,null,"Stoka \"G\" PVC DN250:117,00*(1,00*(0,25+0,30)-0,125^2*Pi)*1,973*1,01"]
[null,null,"Přípojka pro čp. 587 z RŠ3 PVC DN200:3,00*(0,80*(0,20+0,30)-0,10^2*Pi)*1,973*1,01",null,2.2035,null,null,null,null,null,null,null,"Přípojka pro čp. 587 z RŠ3 PVC DN200:3,00*(0,80*(0,20+0,30)-0,10^2*Pi)*1,973*1,01"]
[null,null,"Přípojka pro čp. 586 z RŠ4 PVC DN200:4,00*(0,80*(0,20+0,30)-0,10^2*Pi)*1,973*1,01",null,2.9380000000000002,null,null,null,null,null,null,null,"Přípojka pro čp. 586 z RŠ4 PVC DN200:4,00*(0,80*(0,20+0,30)-0,10^2*Pi)*1,973*1,01"]
[null,null,"Přípojka pro čp. 573 z RŠ5 PVC DN200:3,00*(0,80*(0,20+0,30)-0,10^2*Pi)*1,973*1,01",null,2.2035,null,null,null,null,null,null,null,"Přípojka pro čp. 573 z RŠ5 PVC DN200:3,00*(0,80*(0,20+0,30)-0,10^2*Pi)*1,973*1,01"]
[31,"58344197R","Štěrkodrtě frakce 0-63 A","t",5.6031000000000004,null,{"$f":"E227*F227","v":0},1,{"$f":"E227*H227","v":5.6031000000000004},null,{"$f":"E227*J227","v":0},null,null,null,2,null,null,null,null,null,null,null,null,null,null,null,3,1,"58344197R",null,null,null,null,null,null,null,null,null,null,null,null,null,null,null,null,null,null,null,null,null,null,1,{"$f":"IF(AZ227=1,G227,0)","v":0},{"$f":"IF(AZ227=2,G227,0)","v":0},{"$f":"IF(AZ227=3,G227,0)","v":0},{"$f":"IF(AZ227=4,G227,0)","v":0},{"$f":"IF(AZ227=5,G227,0)","v":0},null,null,null,null,null,null,null,null,null,null,null,null,null,null,null,null,null,null,null,null,null,3,1]
[null,null,"Stoka IO01:",null,0,null,null,null,null,null,null,null,"Stoka IO01:"]
[null,null,"Stoka \"G\" PVC DN250:",null,0,null,null,null,null,null,null,null,"Stoka \"G\" PVC DN250:"]
[null,null,"Zásyp ŠD fr. 0-63 mm:2,9619*1,873*1,01",null,5.6031000000000004,null,null,null,null,null,null,null,"Zásyp ŠD fr. 0-63 mm:2,9619*1,873*1,01"]
[null,null,"Začátek provozního součtu",null,0,null,null,null,null,null,null,null,"Začátek provozního součtu"]
[null,null,"Výkopy:",null,0,null,null,null,null,null,null,null,"Výkopy:"]
[null,null,"6,00*1,00*(1,65+1,19)/2",null,8.52,null,null,null,null,null,null,null,"6,00*1,00*(1,65+1,19)/2"]
[null,null,"Prohloubení pro RŠ:2,00*2,00*0,20*1",null,0.8,null,null,null,null,null,null,null,"Prohloubení pro RŠ:2,00*2,00*0,20*1"]
[null,null,"Rozšíření pro RŠ:2,00*(2,00-1,00)*1,65",null,3.3,null,null,null,null,null,null,null,"Rozšíření pro RŠ:2,00*(2,00-1,00)*1,65"]
[null,null,"Odpočet objemu konstrukce komunikací:-6,00*1,00*0,45-2,00*(2,00-1,00)*0,45",null,-3.6,null,null,null,null,null,null,null,"Odpočet objemu konstrukce komunikací:-6,00*1,00*0,45-2,00*(2,00-1,00)*0,45"]
[null,null,"Odpočet lože. potrubí a obsypů:-6,00*1,00*(0,15+0,25+0,30)",null,-4.2,null,null,null,null,null,null,null,"Odpočet lože. potrubí a obsypů:-6,00*1,00*(0,15+0,25+0,30)"]
[null,null,"Odpočet objemu Š 1:-1,8581",null,-1.8581000000000001,null,null,null,null,null,null,null,"Odpočet objemu Š 1:-1,8581"]
[null,null,"Konec provozního součtu",null,2.9619000000000009,null,null,null,null,null,null,null,"Konec provozního součtu"]
[null,"Celkem za","1 Zemní práce",null,null,null,{"$f":"SUM(G7:G239)","v":0},null,{"$f":"SUM(I7:I239)","v":130.8328616},null,{"$f":"SUM(K7:K239)","v":-44.28},null,null,null,4,null,null,null,null,null,null,null,null,null,null,null,null,null,null,null,null,null,null,null,null,null,null,null,null,null,null,null,null,null,null,null,null,null,null,null,null,null,{"$f":"SUM(BA7:BA239)","v":0},{"$f":"SUM(BB7:BB239)","v":0},{"$f":"SUM(BC7:BC239)","v":0},{"$f":"SUM(BD7:BD239)","v":0},{"$f":"SUM(BE7:BE239)","v":0}]
["Díl:","2","Základy a zvláštní zakládání",null,null,null,null,null,null,null,null,null,null,null,1]
[32,"274313621R00","Beton základových pasů prostý C 20/25 ","m3",3.78,null,{"$f":"E242*F242","v":0},2.5249999999999999,{"$f":"E242*H242","v":9.5444999999999993},0,{"$f":"E242*J242","v":0},null,null,null,2,null,null,null,null,null,null,null,null,null,null,null,1,1,1,null,null,null,null,null,null,null,null,null,null,null,null,null,null,null,null,null,null,null,null,null,null,1,{"$f":"IF(AZ242=1,G242,0)","v":0},{"$f":"IF(AZ242=2,G242,0)","v":0},{"$f":"IF(AZ242=3,G242,0)","v":0},{"$f":"IF(AZ242=4,G242,0)","v":0},{"$f":"IF(AZ242=5,G242,0)","v":0},null,null,null,null,null,null,null,null,null,null,null,null,null,null,null,null,null,null,null,null,null,1,1]
[null,null,"Včetně dodávky a uložení betonu a kamene.",null,null,null,null,null,null,null,null,"Včetně dodávky a uložení betonu a kamene.",null,null,3]
[null,null,"Stoka IO01:",null,0,null,null,null,null,null,null,null,"Stoka IO01:"]
[null,null,"Stoka \"G\" PVC DN250:",null,0,null,null,null,null,null,null,null,"Stoka \"G\" PVC DN250:"]
[null,null,"Obnovení základu oplocení:2,00*0,60*1,00*1,05",null,1.26,null,null,null,null,null,null,null,"Obnovení základu oplocení:2,00*0,60*1,00*1,05"]
[null,null,"Obnovení základu opěrné zdi:4,00*0,60*1,00*1,05",null,2.52,null,null,null,null,null,null,null,"Obnovení základu opěrné zdi:4,00*0,60*1,00*1,05"]
[null,"Celkem za","2 Základy a zvláštní zakládání",null,null,null,{"$f":"SUM(G241:G247)","v":0},null,{"$f":"SUM(I241:I247)","v":9.5444999999999993},null,{"$f":"SUM(K241:K247)","v":0},null,null,null,4,null,null,null,null,null,null,null,null,null,null,null,null,null,null,null,null,null,null,null,null,null,null,null,null,null,null,null,null,null,null,null,null,null,null,null,null,null,{"$f":"SUM(BA241:BA247)","v":0},{"$f":"SUM(BB241:BB247)","v":0},{"$f":"SUM(BC241:BC247)","v":0},{"$f":"SUM(BD241:BD247)","v":0},{"$f":"SUM(BE241:BE247)","v":0}]
["Díl:","21","Úprava podloží a základ.spáry",null,null,null,null,null,null,null,null,null,null,null,1]
[33,"215901101RT5","Zhutnění podloží do 92% PS vibrační deskou","m2",127.96,null,{"$f":"E250*F250","v":0},0,{"$f":"E250*H250","v":0},0,{"$f":"E250*J250","v":0},null,null,null,2,null,null,null,null,null,null,null,null,null,null,null,1,1,1,null,null,null,null,null,null,null,null,null,null,null,null,null,null,null,null,null,null,null,null,null,null,1,{"$f":"IF(AZ250=1,G250,0)","v":0},{"$f":"IF(AZ250=2,G250,0)","v":0},{"$f":"IF(AZ250=3,G250,0)","v":0},{"$f":"IF(AZ250=4,G250,0)","v":0},{"$f":"IF(AZ250=5,G250,0)","v":0},null,null,null,null,null,null,null,null,null,null,null,null,null,null,null,null,null,null,null,null,null,1,1]
[null,null,"Stoka IO01:",null,0,null,null,null,null,null,null,null,"Stoka IO01:"]
[null,null,"Stoka \"G\" PVC DN250:",null,0,null,null,null,null,null,null,null,"Stoka \"G\" PVC DN250:"]
[null,null,"Výkopy:",null,0,null,null,null,null,null,null,null,"Výkopy:"]
[null,null,"Stoka:117,00*1,00",null,117,null,null,null,null,null,null,null,"Stoka:117,00*1,00"]
[null,null,"Rozšíření pro RŠ:2,00*(2,00-1,00)",null,2,null,null,null,null,null,null,null,"Rozšíření pro RŠ:2,00*(2,00-1,00)"]
[null,null,"1,60*(1,60-1,00)",null,0.96,null,null,null,null,null,null,null,"1,60*(1,60-1,00)"]
[null,null,"Přípojky PVC DN200:",null,0,null,null,null,null,null,null,null,"Přípojky PVC DN200:"]
[null,null,"Přípojka pro čp. 587 z RŠ3 PVC DN200:3,00*0,80",null,2.4,null,null,null,null,null,null,null,"Přípojka pro čp. 587 z RŠ3 PVC DN200:3,00*0,80"]
[null,null,"Přípojka pro čp. 586 z RŠ4 PVC DN200:4,00*0,80",null,3.2,null,null,null,null,null,null,null,"Přípojka pro čp. 586 z RŠ4 PVC DN200:4,00*0,80"]
[null,null,"Přípojka pro čp. 573 z RŠ5 PVC DN200:3,00*0,80",null,2.4,null,null,null,null,null,null,null,"Přípojka pro čp. 573 z RŠ5 PVC DN200:3,00*0,80"]
[null,"Celkem za","21 Úprava podloží a základ.spáry",null,null,null,{"$f":"SUM(G249:G260)","v":0},null,{"$f":"SUM(I249:I260)","v":0},null,{"$f":"SUM(K249:K260)","v":0},null,null,null,4,null,null,null,null,null,null,null,null,null,null,null,null,null,null,null,null,null,null,null,null,null,null,null,null,null,null,null,null,null,null,null,null,null,null,null,null,null,{"$f":"SUM(BA249:BA260)","v":0},{"$f":"SUM(BB249:BB260)","v":0},{"$f":"SUM(BC249:BC260)","v":0},{"$f":"SUM(BD249:BD260)","v":0},{"$f":"SUM(BE249:BE260)","v":0}]
["Díl:","3","Svislé a kompletní konstrukce",null,null,null,null,null,null,null,null,null,null,null,1]
[34,"348922321RRX","Zdivo tl. 300mm z tvar.1str.štíp.příro,KB-BLOK včetně stříšky","m2",5.2,null,{"$f":"E263*F263","v":0},0.74692999999999998,{"$f":"E263*H263","v":3.884036},0,{"$f":"E263*J263","v":0},null,null,null,2,null,null,null,null,null,null,null,null,null,null,null,1,1,1,null,null,null,null,null,null,null,null,null,null,null,null,null,null,null,null,null,null,null,null,null,null,1,{"$f":"IF(AZ263=1,G263,0)","v":0},{"$f":"IF(AZ263=2,G263,0)","v":0},{"$f":"IF(AZ263=3,G263,0)","v":0},{"$f":"IF(AZ263=4,G263,0)","v":0},{"$f":"IF(AZ263=5,G263,0)","v":0},null,null,null,null,null,null,null,null,null,null,null,null,null,null,null,null,null,null,null,null,null,1,1]
[null,null,"Včetně lícování, které se provádí průběžně při zdění.",null,null,null,null,null,null,null,null,"Včetně lícování, které se provádí průběžně při zdění.",null,null,3]
[null,null,"Součástí položky je i vyplnění zdiva betonem a osazením výztuže.",null,null,null,null,null,null,null,null,"Součástí položky je i vyplnění zdiva betonem a osazením výztuže.",null,null,3]
[null,null,"Stoka IO01:",null,0,null,null,null,null,null,null,null,"Stoka IO01:"]
[null,null,"Stoka \"G\" PVC DN250:",null,0,null,null,null,null,null,null,null,"Stoka \"G\" PVC DN250:"]
[null,null,"Doplnění stávající opěrné zeďi z KB bloků včetně stříšky:4,00*1,30",null,5.2,null,null,null,null,null,null,null,"Doplnění stávající opěrné zeďi z KB bloků včetně stříšky:4,00*1,30"]
[35,"962052211R00","Bourání zdiva železobetonového nadzákladového ","m3",1.56,null,{"$f":"E269*F269","v":0},1.47E-3,{"$f":"E269*H269","v":2.2932E-3},-2.4,{"$f":"E269*J269","v":-3.7439999999999998},null,null,null,2,null,null,null,null,null,null,null,null,null,null,null,1,1,1,null,null,null,null,null,null,null,null,null,null,null,null,null,null,null,null,null,null,null,null,null,null,1,{"$f":"IF(AZ269=1,G269,0)","v":0},{"$f":"IF(AZ269=2,G269,0)","v":0},{"$f":"IF(AZ269=3,G269,0)","v":0},{"$f":"IF(AZ269=4,G269,0)","v":0},{"$f":"IF(AZ269=5,G269,0)","v":0},null,null,null,null,null,null,null,null,null,null,null,null,null,null,null,null,null,null,null,null,null,1,1]
[null,null,"Položka obsahuje odstranění materiálu obklopujícího betonové konstrukce v míře nutné pro vyzvednutí (potřebné zemní práce), rozpojení konstrukcí, uchopení a uložení na dopravní prostředek.",null,null,null,null,null,null,null,null,"Položka obsahuje odstranění materiálu obklopujícího betonové konstrukce v míře nutné pro vyzvednutí (potřebné zemní práce), rozpojení konstrukcí, uchopení a uložení na dopravní prostředek.",null,null,3]
[null,null,"Stoka IO01:",null,0,null,null,null,null,null,null,null,"Stoka IO01:"]
[null,null,"Stoka \"G\" PVC DN250:",null,0,null,null,null,null,null,null,null,"Stoka \"G\" PVC DN250:"]
[null,null,"Stávající opěrná zeď z KB bloků:4,00*0,30*1,30",null,1.56,null,null,null,null,null,null,null,"Stávající opěrná zeď z KB bloků:4,00*0,30*1,30"]
[null,"Celkem za","3 Svislé a kompletní konstrukce",null,null,null,{"$f":"SUM(G262:G273)","v":0},null,{"$f":"SUM(I262:I273)","v":3.8863292},null,{"$f":"SUM(K262:K273)","v":-3.7439999999999998},null,null,null,4,null,null,null,null,null,null,null,null,null,null,null,null,null,null,null,null,null,null,null,null,null,null,null,null,null,null,null,null,null,null,null,null,null,null,null,null,null,{"$f":"SUM(BA262:BA273)","v":0},{"$f":"SUM(BB262:BB273)","v":0},{"$f":"SUM(BC262:BC273)","v":0},{"$f":"SUM(BD262:BD273)","v":0},{"$f":"SUM(BE262:BE273)","v":0}]
["Díl:","45","Podkladní a vedlejší konstrukce",null,null,null,null,null,null,null,null,null,null,null,1]
[36,"451572111R00","Lože pod potrubí z kameniva těženého 0 - 4 mm ","m3",18.75,null,{"$f":"E276*F276","v":0},0.43051,{"$f":"E276*H276","v":8.0720624999999995},0,{"$f":"E276*J276","v":0},null,null,null,2,null,null,null,null,null,null,null,null,null,null,null,1,1,1,null,null,null,null,null,null,null,null,null,null,null,null,null,null,null,null,null,null,null,null,null,null,1,{"$f":"IF(AZ276=1,G276,0)","v":0},{"$f":"IF(AZ276=2,G276,0)","v":0},{"$f":"IF(AZ276=3,G276,0)","v":0},{"$f":"IF(AZ276=4,G276,0)","v":0},{"$f":"IF(AZ276=5,G276,0)","v":0},null,null,null,null,null,null,null,null,null,null,null,null,null,null,null,null,null,null,null,null,null,1,1]
[null,null,"Stoka IO01:",null,0,null,null,null,null,null,null,null,"Stoka IO01:"]
[null,null,"Stoka \"G\" PVC DN250:117,00*1,00*0,15",null,17.55,null,null,null,null,null,null,null,"Stoka \"G\" PVC DN250:117,00*1,00*0,15"]
[null,null,"Přípojka pro čp. 587 z RŠ3 PVC DN200:3,00*0,80*0,15",null,0.36,null,null,null,null,null,null,null,"Přípojka pro čp. 587 z RŠ3 PVC DN200:3,00*0,80*0,15"]
[null,null,"Přípojka pro čp. 586 z RŠ4 PVC DN200:4,00*0,80*0,15",null,0.48,null,null,null,null,null,null,null,"Přípojka pro čp. 586 z RŠ4 PVC DN200:4,00*0,80*0,15"]
[null,null,"Přípojka pro čp. 573 z RŠ5 PVC DN200:3,00*0,80*0,15",null,0.36,null,null,null,null,null,null,null,"Přípojka pro čp. 573 z RŠ5 PVC DN200:3,00*0,80*0,15"]
[37,"452112111R00","Osazení beton. prstenců pod poklopy,výšky do100 mm ","kus",9,null,{"$f":"E282*F282","v":0},6.6E-3,{"$f":"E282*H282","v":5.9400000000000001E-2},0,{"$f":"E282*J282","v":0},null,null,null,2,null,null,null,null,null,null,null,null,null,null,null,1,1,1,null,null,null,null,null,null,null,null,null,null,null,null,null,null,null,null,null,null,null,null,null,null,1,{"$f":"IF(AZ282=1,G282,0)","v":0},{"$f":"IF(AZ282=2,G282,0)","v":0},{"$f":"IF(AZ282=3,G282,0)","v":0},{"$f":"IF(AZ282=4,G282,0)","v":0},{"$f":"IF(AZ282=5,G282,0)","v":0},null,null,null,null,null,null,null,null,null,null,null,null,null,null,null,null,null,null,null,null,null,1,1]
[null,null,"Volba položky se řídí výškou prstence nebo rámu. V položkách nejsou zakalkulovány náklady na dodávku betonových výrobků;",null,null,null,null,null,null,null,null,"Volba položky se řídí výškou prstence nebo rámu. V položkách nejsou zakalkulovány náklady na dodávku betonových výrobků;",null,null,3]
[null,null,"Stoka IO01:",null,0,null,null,null,null,null,null,null,"Stoka IO01:"]
[null,null,"Stoka \"G\" PVC DN250:",null,0,null,null,null,null,null,null,null,"Stoka \"G\" PVC DN250:"]
[null,null,"VP H60:1",null,1,null,null,null,null,null,null,null,"VP H60:1"]
[null,null,"VP H80:3",null,3,null,null,null,null,null,null,null,"VP H80:3"]
[null,null,"VP H100:5",null,5,null,null,null,null,null,null,null,"VP H100:5"]
[38,"452112121R00","Osazení beton. prstenců pod poklopy,výšky do200 mm ","kus",1,null,{"$f":"E289*F289","v":0},6.6E-3,{"$f":"E289*H289","v":6.6E-3},0,{"$f":"E289*J289","v":0},null,null,null,2,null,null,null,null,null,null,null,null,null,null,null,1,1,1,null,null,null,null,null,null,null,null,null,null,null,null,null,null,null,null,null,null,null,null,null,null,1,{"$f":"IF(AZ289=1,G289,0)","v":0},{"$f":"IF(AZ289=2,G289,0)","v":0},{"$f":"IF(AZ289=3,G289,0)","v":0},{"$f":"IF(AZ289=4,G289,0)","v":0},{"$f":"IF(AZ289=5,G289,0)","v":0},null,null,null,null,null,null,null,null,null,null,null,null,null,null,null,null,null,null,null,null,null,1,1]
[null,null,"Stoka IO01:",null,0,null,null,null,null,null,null,null,"Stoka IO01:"]
[null,null,"Stoka \"G\" PVC DN250:",null,0,null,null,null,null,null,null,null,"Stoka \"G\" PVC DN250:"]
[null,null,"VP H120:1",null,1,null,null,null,null,null,null,null,"VP H120:1"]
[39,"59224347.A.R","Prstenec vyrovn šachetní TBW-Q.1 63/6","kus",1.01,null,{"$f":"E293*F293","v":0},0.04,{"$f":"E293*H293","v":4.0399999999999998E-2},null,{"$f":"E293*J293","v":0},null,null,null,2,null,null,null,null,null,null,null,null,null,null,null,3,1,"59224347.A.R",null,null,null,null,null,null,null,null,null,null,null,null,null,null,null,null,null,null,null,null,null,null,1,{"$f":"IF(AZ293=1,G293,0)","v":0},{"$f":"IF(AZ293=2,G293,0)","v":0},{"$f":"IF(AZ293=3,G293,0)","v":0},{"$f":"IF(AZ293=4,G293,0)","v":0},{"$f":"IF(AZ293=5,G293,0)","v":0},null,null,null,null,null,null,null,null,null,null,null,null,null,null,null,null,null,null,null,null,null,3,1]
[null,null,"Stoka IO01:",null,0,null,null,null,null,null,null,null,"Stoka IO01:"]
[null,null,"Stoka \"G\" PVC DN250:",null,0,null,null,null,null,null,null,null,"Stoka \"G\" PVC DN250:"]
[null,null,"VP H60:1*1,01",null,1.01,null,null,null,null,null,null,null,"VP H60:1*1,01"]
[40,"59224348.A.R","Prstenec vyrovn šachetní TBW-Q.1 63/8","kus",3.03,null,{"$f":"E297*F297","v":0},5.3999999999999999E-2,{"$f":"E297*H297","v":0.16361999999999999},null,{"$f":"E297*J297","v":0},null,null,null,2,null,null,null,null,null,null,null,null,null,null,null,3,1,"59224348.A.R",null,null,null,null,null,null,null,null,null,null,null,null,null,null,null,null,null,null,null,null,null,null,1,{"$f":"IF(AZ297=1,G297,0)","v":0},{"$f":"IF(AZ297=2,G297,0)","v":0},{"$f":"IF(AZ297=3,G297,0)","v":0},{"$f":"IF(AZ297=4,G297,0)","v":0},{"$f":"IF(AZ297=5,G297,0)","v":0},null,null,null,null,null,null,null,null,null,null,null,null,null,null,null,null,null,null,null,null,null,3,1]
[null,null,"Stoka IO01:",null,0,null,null,null,null,null,null,null,"Stoka IO01:"]
[null,null,"Stoka \"G\" PVC DN250:",null,0,null,null,null,null,null,null,null,"Stoka \"G\" PVC DN250:"]
[null,null,"VP H80:3*1,01",null,3.03,null,null,null,null,null,null,null,"VP H80:3*1,01"]
[41,"59224349.A.R","Prstenec vyrovn šachetní TBW-Q.1 63/10","kus",5.05,null,{"$f":"E301*F301","v":0},6.8000000000000005E-2,{"$f":"E301*H301","v":0.34340000000000004},null,{"$f":"E301*J301","v":0},null,null,null,2,null,null,null,null,null,null,null,null,null,null,null,3,1,"59224349.A.R",null,null,null,null,null,null,null,null,null,null,null,null,null,null,null,null,null,null,null,null,null,null,1,{"$f":"IF(AZ301=1,G301,0)","v":0},{"$f":"IF(AZ301=2,G301,0)","v":0},{"$f":"IF(AZ301=3,G301,0)","v":0},{"$f":"IF(AZ301=4,G301,0)","v":0},{"$f":"IF(AZ301=5,G301,0)","v":0},null,null,null,null,null,null,null,null,null,null,null,null,null,null,null,null,null,null,null,null,null,3,1]
[null,null,"Stoka IO01:",null,0,null,null,null,null,null,null,null,"Stoka IO01:"]
[null,null,"Stoka \"G\" PVC DN250:",null,0,null,null,null,null,null,null,null,"Stoka \"G\" PVC DN250:"]
[null,null,"VP H100:5*1,01",null,5.05,null,null,null,null,null,null,null,"VP H100:5*1,01"]
[42,"59224350.A.R","Prstenec vyrovn šachetní TBW-Q.1 63/12","kus",1.01,null,{"$f":"E305*F305","v":0},8.1000000000000003E-2,{"$f":"E305*H305","v":8.1810000000000008E-2},null,{"$f":"E305*J305","v":0},null,null,null,2,null,null,null,null,null,null,null,null,null,null,null,3,1,"59224350.A.R",null,null,null,null,null,null,null,null,null,null,null,null,null,null,null,null,null,null,null,null,null,null,1,{"$f":"IF(AZ305=1,G305,0)","v":0},{"$f":"IF(AZ305=2,G305,0)","v":0},{"$f":"IF(AZ305=3,G305,0)","v":0},{"$f":"IF(AZ305=4,G305,0)","v":0},{"$f":"IF(AZ305=5,G305,0)","v":0},null,null,null,null,null,null,null,null,null,null,null,null,null,null,null,null,null,null,null,null,null,3,1]
[null,null,"Stoka IO01:",null,0,null,null,null,null,null,null,null,"Stoka IO01:"]
[null,null,"Stoka \"G\" PVC DN250:",null,0,null,null,null,null,null,null,null,"Stoka \"G\" PVC DN250:"]
[null,null,"VP H120:1*1,01",null,1.01,null,null,null,null,null,null,null,"VP H120:1*1,01"]
[null,"Celkem za","45 Podkladní a vedlejší konstrukce",null,null,null,{"$f":"SUM(G275:G308)","v":0},null,{"$f":"SUM(I275:I308)","v":8.7672925000000017},null,{"$f":"SUM(K275:K308)","v":0},null,null,null,4,null,null,null,null,null,null,null,null,null,null,null,null,null,null,null,null,null,null,null,null,null,null,null,null,null,null,null,null,null,null,null,null,null,null,null,null,null,{"$f":"SUM(BA275:BA308)","v":0},{"$f":"SUM(BB275:BB308)","v":0},{"$f":"SUM(BC275:BC308)","v":0},{"$f":"SUM(BD275:BD308)","v":0},{"$f":"SUM(BE275:BE308)","v":0}]
["Díl:","5","Komunikace",null,null,null,null,null,null,null,null,null,null,null,1]
[43,"566903111R00","Vyspravení podkladu po překopech kam.hrubě drceným ","t",20.228400000000001,null,{"$f":"E311*F311","v":0},1.1000000000000001,{"$f":"E311*H311","v":22.251240000000003},0,{"$f":"E311*J311","v":0},null,null,null,2,null,null,null,null,null,null,null,null,null,null,null,1,1,1,null,null,null,null,null,null,null,null,null,null,null,null,null,null,null,null,null,null,null,null,null,null,1,{"$f":"IF(AZ311=1,G311,0)","v":0},{"$f":"IF(AZ311=2,G311,0)","v":0},{"$f":"IF(AZ311=3,G311,0)","v":0},{"$f":"IF(AZ311=4,G311,0)","v":0},{"$f":"IF(AZ311=5,G311,0)","v":0},null,null,null,null,null,null,null,null,null,null,null,null,null,null,null,null,null,null,null,null,null,1,1]
[null,null,"Stoka IO01 :",null,0,null,null,null,null,null,null,null,"Stoka IO01 :"]
[null,null,"Napojení na stoku ŽB DN500:6,00*6,00*0,30*1,873",null,20.228400000000001,null,null,null,null,null,null,null,"Napojení na stoku ŽB DN500:6,00*6,00*0,30*1,873"]
[44,"566904111R00","Vyspravení podkladu po překopech kam.obal.asfaltem ","t",13.5,null,{"$f":"E314*F314","v":0},1,{"$f":"E314*H314","v":13.5},0,{"$f":"E314*J314","v":0},null,null,null,2,null,null,null,null,null,null,null,null,null,null,null,1,1,1,null,null,null,null,null,null,null,null,null,null,null,null,null,null,null,null,null,null,null,null,null,null,1,{"$f":"IF(AZ314=1,G314,0)","v":0},{"$f":"IF(AZ314=2,G314,0)","v":0},{"$f":"IF(AZ314=3,G314,0)","v":0},{"$f":"IF(AZ314=4,G314,0)","v":0},{"$f":"IF(AZ314=5,G314,0)","v":0},null,null,null,null,null,null,null,null,null,null,null,null,null,null,null,null,null,null,null,null,null,1,1]
[null,null,"Včetně úpravy a zalití spáry",null,null,null,null,null,null,null,null,"Včetně úpravy a zalití spáry",null,null,3]
[null,null,"Stoka IO01 :",null,0,null,null,null,null,null,null,null,"Stoka IO01 :"]
[null,null,"Napojení na stoku ŽB DN500:6,00*6,00*0,15*2,5",null,13.5,null,null,null,null,null,null,null,"Napojení na stoku ŽB DN500:6,00*6,00*0,15*2,5"]
[null,"Celkem za","5 Komunikace",null,null,null,{"$f":"SUM(G310:G317)","v":0},null,{"$f":"SUM(I310:I317)","v":35.751240000000003},null,{"$f":"SUM(K310:K317)","v":0},null,null,null,4,null,null,null,null,null,null,null,null,null,null,null,null,null,null,null,null,null,null,null,null,null,null,null,null,null,null,null,null,null,null,null,null,null,null,null,null,null,{"$f":"SUM(BA310:BA317)","v":0},{"$f":"SUM(BB310:BB317)","v":0},{"$f":"SUM(BC310:BC317)","v":0},{"$f":"SUM(BD310:BD317)","v":0},{"$f":"SUM(BE310:BE317)","v":0}]
["Díl:","8","Trubní vedení",null,null,null,null,null,null,null,null,null,null,null,1]
[45,"767914130RRX","Demontáž a montáž oplocení rámového H do 2,50 m ","m",6,null,{"$f":"E320*F320","v":0},0,{"$f":"E320*H320","v":0},0,{"$f":"E320*J320","v":0},null,null,null,2,null,null,null,null,null,null,null,null,null,null,null,1,7,7,null,null,null,null,null,null,null,null,null,null,null,null,null,null,null,null,null,null,null,null,null,null,1,{"$f":"IF(AZ320=1,G320,0)","v":0},{"$f":"IF(AZ320=2,G320,0)","v":0},{"$f":"IF(AZ320=3,G320,0)","v":0},{"$f":"IF(AZ320=4,G320,0)","v":0},{"$f":"IF(AZ320=5,G320,0)","v":0},null,null,null,null,null,null,null,null,null,null,null,null,null,null,null,null,null,null,null,null,null,1,7]
[null,null,"Položka obsahuje demontáž a opětovnou montáž rámového oplocení včetně sloupků a opravy nátěru.",null,null,null,null,null,null,null,null,"Položka obsahuje demontáž a opětovnou montáž rámového oplocení včetně sloupků a opravy nátěru.",null,null,3]
[null,null,"(Oplocení má dve pole nad sebou)",null,null,null,null,null,null,null,null,"(Oplocení má dve pole nad sebou)",null,null,3]
[46,"871353121R00","Montáž trub z plastu, gumový kroužek, DN 200 ","m",10,null,{"$f":"E323*F323","v":0},1.0000000000000001E-5,{"$f":"E323*H323","v":1E-4},0,{"$f":"E323*J323","v":0},null,null,null,2,null,null,null,null,null,null,null,null,null,null,null,1,1,1,null,null,null,null,null,null,null,null,null,null,null,null,null,null,null,null,null,null,null,null,null,null,1,{"$f":"IF(AZ323=1,G323,0)","v":0},{"$f":"IF(AZ323=2,G323,0)","v":0},{"$f":"IF(AZ323=3,G323,0)","v":0},{"$f":"IF(AZ323=4,G323,0)","v":0},{"$f":"IF(AZ323=5,G323,0)","v":0},null,null,null,null,null,null,null,null,null,null,null,null,null,null,null,null,null,null,null,null,null,1,1]
[null,null,"Stoka IO01:",null,0,null,null,null,null,null,null,null,"Stoka IO01:"]
[null,null,"Přípojka pro čp. 587 z RŠ3 PVC DN200:3,00",null,3,null,null,null,null,null,null,null,"Přípojka pro čp. 587 z RŠ3 PVC DN200:3,00"]
[null,null,"Přípojka pro čp. 586 z RŠ4 PVC DN200:4,00",null,4,null,null,null,null,null,null,null,"Přípojka pro čp. 586 z RŠ4 PVC DN200:4,00"]
[null,null,"Přípojka pro čp. 573 z RŠ5 PVC DN200:3,00",null,3,null,null,null,null,null,null,null,"Přípojka pro čp. 573 z RŠ5 PVC DN200:3,00"]
[47,"871373121R00","Montáž trub z plastu, gumový kroužek, DN 300 ","m",117,null,{"$f":"E328*F328","v":0},1.0000000000000001E-5,{"$f":"E328*H328","v":1.17E-3},0,{"$f":"E328*J328","v":0},null,null,null,2,null,null,null,null,null,null,null,null,null,null,null,1,1,1,null,null,null,null,null,null,null,null,null,null,null,null,null,null,null,null,null,null,null,null,null,null,1,{"$f":"IF(AZ328=1,G328,0)","v":0},{"$f":"IF(AZ328=2,G328,0)","v":0},{"$f":"IF(AZ328=3,G328,0)","v":0},{"$f":"IF(AZ328=4,G328,0)","v":0},{"$f":"IF(AZ328=5,G328,0)","v":0},null,null,null,null,null,null,null,null,null,null,null,null,null,null,null,null,null,null,null,null,null,1,1]
[null,null,"Stoka IO01:",null,0,null,null,null,null,null,null,null,"Stoka IO01:"]
[null,null,"Stoka \"G\" PVC DN250:117,00",null,117,null,null,null,null,null,null,null,"Stoka \"G\" PVC DN250:117,00"]
[48,"891183439RX0","Přepojení potrubí PVC na přípojkách DN 150 včetně dodávky přepojovací tvarovky","kus",2,null,{"$f":"E331*F331","v":0},4.6000000000000001E-4,{"$f":"E331*H331","v":9.2000000000000003E-4},0,{"$f":"E331*J331","v":0},null,null,null,2,null,null,null,null,null,null,null,null,null,null,null,1,1,1,null,null,null,null,null,null,null,null,null,null,null,null,null,null,null,null,null,null,null,null,null,null,1,{"$f":"IF(AZ331=1,G331,0)","v":0},{"$f":"IF(AZ331=2,G331,0)","v":0},{"$f":"IF(AZ331=3,G331,0)","v":0},{"$f":"IF(AZ331=4,G331,0)","v":0},{"$f":"IF(AZ331=5,G331,0)","v":0},null,null,null,null,null,null,null,null,null,null,null,null,null,null,null,null,null,null,null,null,null,1,1]
[null,null,"Položka obsahuje přerušení stávajícího potrubí, montáž a dodávku příslušné tvarovky pro propojení stávajícího potrubí s novou přípojkou nebo RŠ DN150",null,null,null,null,null,null,null,null,"Položka obsahuje přerušení stávajícího potrubí, montáž a dodávku příslušné tvarovky pro propojení stávajícího potrubí s novou přípojkou nebo RŠ DN150",null,null,3]
[null,null,"Stoka IO01 :",null,0,null,null,null,null,null,null,null,"Stoka IO01 :"]
[null,null,"Vedle nové Š4 pro čp. 586 s napojením do nové DRŠ:2",null,2,null,null,null,null,null,null,null,"Vedle nové Š4 pro čp. 586 s napojením do nové DRŠ:2"]
[49,"891183439RX1","Přepojení potrubí PVC na přípojkách DN 200 včetně dodávky přepojovací tvarovky","kus",3,null,{"$f":"E335*F335","v":0},4.6000000000000001E-4,{"$f":"E335*H335","v":1.3800000000000002E-3},0,{"$f":"E335*J335","v":0},null,null,null,2,null,null,null,null,null,null,null,null,null,null,null,1,1,1,null,null,null,null,null,null,null,null,null,null,null,null,null,null,null,null,null,null,null,null,null,null,1,{"$f":"IF(AZ335=1,G335,0)","v":0},{"$f":"IF(AZ335=2,G335,0)","v":0},{"$f":"IF(AZ335=3,G335,0)","v":0},{"$f":"IF(AZ335=4,G335,0)","v":0},{"$f":"IF(AZ335=5,G335,0)","v":0},null,null,null,null,null,null,null,null,null,null,null,null,null,null,null,null,null,null,null,null,null,1,1]
[null,null,"Položka obsahuje přerušení stávajícího potrubí, montáž a dodávku příslušné tvarovky pro propojení stávajícího potrubí s novou přípojkou nebo RŠ DN200",null,null,null,null,null,null,null,null,"Položka obsahuje přerušení stávajícího potrubí, montáž a dodávku příslušné tvarovky pro propojení stávajícího potrubí s novou přípojkou nebo RŠ DN200",null,null,3]
[null,null,"Stoka IO01 :",null,0,null,null,null,null,null,null,null,"Stoka IO01 :"]
[null,null,"Vedle nové Š3 pro čp. 587 s napojením do nové DRŠ:2",null,2,null,null,null,null,null,null,null,"Vedle nové Š3 pro čp. 587 s napojením do nové DRŠ:2"]
[null,null,"Vedle nové Š5 pro čp. 573 s napojením do nové DRŠ:1",null,1,null,null,null,null,null,null,null,"Vedle nové Š5 pro čp. 573 s napojením do nové DRŠ:1"]
[50,"891183441RX8","Vybudování monol. dna na stávajícím potrubí DN500 včetně provedení výřezu na stáv. potrubí","kus",1,null,{"$f":"E340*F340","v":0},5.0679999999999996,{"$f":"E340*H340","v":5.0679999999999996},0,{"$f":"E340*J340","v":0},null,null,null,2,null,null,null,null,null,null,null,null,null,null,null,1,1,1,null,null,null,null,null,null,null,null,null,null,null,null,null,null,null,null,null,null,null,null,null,null,1,{"$f":"IF(AZ340=1,G340,0)","v":0},{"$f":"IF(AZ340=2,G340,0)","v":0},{"$f":"IF(AZ340=3,G340,0)","v":0},{"$f":"IF(AZ340=4,G340,0)","v":0},{"$f":"IF(AZ340=5,G340,0)","v":0},null,null,null,null,null,null,null,null,null,null,null,null,null,null,null,null,null,null,null,null,null,1,1]
[null,null,"Položka obsahuje úpravu stávajícího potrubí ŽB DN500, vybetonování nového monolitického šachtového dna v provedení dle projektové dokumentace včetně vytvoření kynety a napojení nové stoky PVC DN250",null,null,null,null,null,null,null,null,"Položka obsahuje úpravu stávajícího potrubí ŽB DN500, vybetonování nového monolitického šachtového dna v provedení dle projektové dokumentace včetně vytvoření kynety a napojení nové stoky PVC DN250",null,null,3]
[51,"892601121R00","Čištění kanalizační stoky do DN 200, do 15 m ","úsek",3,null,{"$f":"E342*F342","v":0},0,{"$f":"E342*H342","v":0},0,{"$f":"E342*J342","v":0},null,null,null,2,null,null,null,null,null,null,null,null,null,null,null,1,1,1,null,null,null,null,null,null,null,null,null,null,null,null,null,null,null,null,null,null,null,null,null,null,1,{"$f":"IF(AZ342=1,G342,0)","v":0},{"$f":"IF(AZ342=2,G342,0)","v":0},{"$f":"IF(AZ342=3,G342,0)","v":0},{"$f":"IF(AZ342=4,G342,0)","v":0},{"$f":"IF(AZ342=5,G342,0)","v":0},null,null,null,null,null,null,null,null,null,null,null,null,null,null,null,null,null,null,null,null,null,1,1]
[null,null,"V položce je zakalkulováno:",null,null,null,null,null,null,null,null,"V položce je zakalkulováno:",null,null,3]
[null,null,"a) otevření a uzavření revizních šachet a čisticích kusů",null,null,null,null,null,null,null,null,"a) otevření a uzavření revizních šachet a čisticích kusů",null,null,3]
[null,null,"b) natažení vysokotlakých hadic k místu odkud se bude kanalizace čistit",null,null,null,null,null,null,null,null,"b) natažení vysokotlakých hadic k místu odkud se bude kanalizace čistit",null,null,3]
[null,null,"c) vyčištění potrubí tlakovou vodou nebo motorovým pérem.",null,null,null,null,null,null,null,null,"c) vyčištění potrubí tlakovou vodou nebo motorovým pérem.",null,null,3]
[null,null,"Stoka IO01:",null,0,null,null,null,null,null,null,null,"Stoka IO01:"]
[null,null,"Přípojka pro čp. 587 z RŠ3 PVC DN200:1",null,1,null,null,null,null,null,null,null,"Přípojka pro čp. 587 z RŠ3 PVC DN200:1"]
[null,null,"Přípojka pro čp. 586 z RŠ4 PVC DN200:1",null,1,null,null,null,null,null,null,null,"Přípojka pro čp. 586 z RŠ4 PVC DN200:1"]
[null,null,"Přípojka pro čp. 573 z RŠ5 PVC DN200:1",null,1,null,null,null,null,null,null,null,"Přípojka pro čp. 573 z RŠ5 PVC DN200:1"]
[52,"892601154R00","Čištění kanalizační stoky do DN 500, nad 100 m (před provedením kamerové prohlídky)","m",234,null,{"$f":"E351*F351","v":0},0,{"$f":"E351*H351","v":0},0,{"$f":"E351*J351","v":0},null,null,null,2,null,null,null,null,null,null,null,null,null,null,null,1,0,0,null,null,null,null,null,null,null,null,null,null,null,null,null,null,null,null,null,null,null,null,null,null,1,{"$f":"IF(AZ351=1,G351,0)","v":0},{"$f":"IF(AZ351=2,G351,0)","v":0},{"$f":"IF(AZ351=3,G351,0)","v":0},{"$f":"IF(AZ351=4,G351,0)","v":0},{"$f":"IF(AZ351=5,G351,0)","v":0},null,null,null,null,null,null,null,null,null,null,null,null,null,null,null,null,null,null,null,null,null,1,0]
[null,null,"V položce je zakalkulováno:",null,null,null,null,null,null,null,null,"V položce je zakalkulováno:",null,null,3]
[null,null,"a) otevření a uzavření revizních šachet a čisticích kusů",null,null,null,null,null,null,null,null,"a) otevření a uzavření revizních šachet a čisticích kusů",null,null,3]
[null,null,"b) natažení vysokotlakých hadic k místu odkud se bude kanalizace čistit",null,null,null,null,null,null,null,null,"b) natažení vysokotlakých hadic k místu odkud se bude kanalizace čistit",null,null,3]
[null,null,"c) vyčištění potrubí tlakovou vodou nebo motorovým pérem.",null,null,null,null,null,null,null,null,"c) vyčištění potrubí tlakovou vodou nebo motorovým pérem.",null,null,3]
[null,null,"Stoka IO01:",null,0,null,null,null,null,null,null,null,"Stoka IO01:"]
[null,null,"Stoka \"G\" PVC DN250:117,00*2",null,234,null,null,null,null,null,null,null,"Stoka \"G\" PVC DN250:117,00"]
[53,"892855111R00","Kontrola kanalizace TV kamerou do 15 m ","úsek",3,null,{"$f":"E358*F358","v":0},0,{"$f":"E358*H358","v":0},0,{"$f":"E358*J358","v":0},null,null,null,2,null,null,null,null,null,null,null,null,null,null,null,1,1,1,null,null,null,null,null,null,null,null,null,null,null,null,null,null,null,null,null,null,null,null,null,null,1,{"$f":"IF(AZ358=1,G358,0)","v":0},{"$f":"IF(AZ358=2,G358,0)","v":0},{"$f":"IF(AZ358=3,G358,0)","v":0},{"$f":"IF(AZ358=4,G358,0)","v":0},{"$f":"IF(AZ358=5,G358,0)","v":0},null,null,null,null,null,null,null,null,null,null,null,null,null,null,null,null,null,null,null,null,null,1,1]
[null,null,"Stoka IO01:",null,0,null,null,null,null,null,null,null,"Stoka IO01:"]
[null,null,"Přípojka pro čp. 587 z RŠ3 PVC DN200:1",null,1,null,null,null,null,null,null,null,"Přípojka pro čp. 587 z RŠ3 PVC DN200:1"]
[null,null,"Přípojka pro čp. 586 z RŠ4 PVC DN200:1",null,1,null,null,null,null,null,null,null,"Přípojka pro čp. 586 z RŠ4 PVC DN200:1"]
[null,null,"Přípojka pro čp. 573 z RŠ5 PVC DN200:1",null,1,null,null,null,null,null,null,null,"Přípojka pro čp. 573 z RŠ5 PVC DN200:1"]
[54,"892855114R00","Kontrola kanalizace TV kamerou do 200 m ","m",234,null,{"$f":"E363*F363","v":0},0,{"$f":"E363*H363","v":0},0,{"$f":"E363*J363","v":0},null,null,null,2,null,null,null,null,null,null,null,null,null,null,null,1,0,0,null,null,null,null,null,null,null,null,null,null,null,null,null,null,null,null,null,null,null,null,null,null,1,{"$f":"IF(AZ363=1,G363,0)","v":0},{"$f":"IF(AZ363=2,G363,0)","v":0},{"$f":"IF(AZ363=3,G363,0)","v":0},{"$f":"IF(AZ363=4,G363,0)","v":0},{"$f":"IF(AZ363=5,G363,0)","v":0},null,null,null,null,null,null,null,null,null,null,null,null,null,null,null,null,null,null,null,null,null,1,0]
[null,null,"Provedení kaberové prohlídky včetně dodání elektronického záznamu na CD zadavateli a tištěné dokumentace průběhu kamerové prohlídky",null,null,null,null,null,null,null,null,"Provedení kaberové prohlídky včetně dodání elektronického záznamu na CD zadavateli a tištěné dokumentace průběhu kamerové prohlídky",null,null,3]
[null,null,"Stoka IO01:",null,0,null,null,null,null,null,null,null,"Stoka IO01:"]
[null,null,"Stoka \"G\" PVC DN250:117,00*2",null,234,null,null,null,null,null,null,null,"Stoka \"G\" PVC DN250:117,00"]
[55,"894421111RT1","Osazení betonových dílců šachet skruže rovné, na kroužek, do 0,5 t","kus",3,null,{"$f":"E367*F367","v":0},0,{"$f":"E367*H367","v":0},0,{"$f":"E367*J367","v":0},null,null,null,2,null,null,null,null,null,null,null,null,null,null,null,1,1,1,null,null,null,null,null,null,null,null,null,null,null,null,null,null,null,null,null,null,null,null,null,null,1,{"$f":"IF(AZ367=1,G367,0)","v":0},{"$f":"IF(AZ367=2,G367,0)","v":0},{"$f":"IF(AZ367=3,G367,0)","v":0},{"$f":"IF(AZ367=4,G367,0)","v":0},{"$f":"IF(AZ367=5,G367,0)","v":0},null,null,null,null,null,null,null,null,null,null,null,null,null,null,null,null,null,null,null,null,null,1,1]
[null,null,"Položka je určena pro osazení betonových dílců šachet dle DIN 4034, skruže rovné na kroužek, hmotnost do 0,5 t.",null,null,null,null,null,null,null,null,"Položka je určena pro osazení betonových dílců šachet dle DIN 4034, skruže rovné na kroužek, hmotnost do 0,5 t.",null,null,3]
[null,null,"V položce nejsou zakalkulovány náklady na dodání betonových dílců; dílce se oceňují ve specifikaci.",null,null,null,null,null,null,null,null,"V položce nejsou zakalkulovány náklady na dodání betonových dílců; dílce se oceňují ve specifikaci.",null,null,3]
[null,null,"Stoka IO01:",null,0,null,null,null,null,null,null,null,"Stoka IO01:"]
[null,null,"Stoka \"G\" PVC DN250:",null,0,null,null,null,null,null,null,null,"Stoka \"G\" PVC DN250:"]
[null,null,"Skruž H250:1",null,1,null,null,null,null,null,null,null,"Skruž H250:1"]
[null,null,"Skruž H500:2",null,2,null,null,null,null,null,null,null,"Skruž H500:2"]
[56,"894421112RT1","Osazení betonových dílců šachet skruže rovné, na kroužek, do 1,4 t","kus",2,null,{"$f":"E374*F374","v":0},0,{"$f":"E374*H374","v":0},0,{"$f":"E374*J374","v":0},null,null,null,2,null,null,null,null,null,null,null,null,null,null,null,1,1,1,null,null,null,null,null,null,null,null,null,null,null,null,null,null,null,null,null,null,null,null,null,null,1,{"$f":"IF(AZ374=1,G374,0)","v":0},{"$f":"IF(AZ374=2,G374,0)","v":0},{"$f":"IF(AZ374=3,G374,0)","v":0},{"$f":"IF(AZ374=4,G374,0)","v":0},{"$f":"IF(AZ374=5,G374,0)","v":0},null,null,null,null,null,null,null,null,null,null,null,null,null,null,null,null,null,null,null,null,null,1,1]
[null,null,"Položka je určena pro osazení betonových dílců šachet dle DIN 4034, skruže rovné na kroužek, hmotnost přes 0,5 do 1,4 t.",null,null,null,null,null,null,null,null,"Položka je určena pro osazení betonových dílců šachet dle DIN 4034, skruže rovné na kroužek, hmotnost přes 0,5 do 1,4 t.",null,null,3]
[null,null,"V položce nejsou zakalkulovány náklady na dodání betonových dílců; dílce se oceňují ve specifikaci.",null,null,null,null,null,null,null,null,"V položce nejsou zakalkulovány náklady na dodání betonových dílců; dílce se oceňují ve specifikaci.",null,null,3]
[null,null,"Stoka IO01:",null,0,null,null,null,null,null,null,null,"Stoka IO01:"]
[null,null,"Stoka \"G\" PVC DN250:",null,0,null,null,null,null,null,null,null,"Stoka \"G\" PVC DN250:"]
[null,null,"Skruž H1000:2",null,2,null,null,null,null,null,null,null,"Skruž H1000:2"]
[57,"894422111RT1","Osazení betonových dílců šachet skruže přechodové, na kroužek","kus",5,null,{"$f":"E380*F380","v":0},0,{"$f":"E380*H380","v":0},0,{"$f":"E380*J380","v":0},null,null,null,2,null,null,null,null,null,null,null,null,null,null,null,1,1,1,null,null,null,null,null,null,null,null,null,null,null,null,null,null,null,null,null,null,null,null,null,null,1,{"$f":"IF(AZ380=1,G380,0)","v":0},{"$f":"IF(AZ380=2,G380,0)","v":0},{"$f":"IF(AZ380=3,G380,0)","v":0},{"$f":"IF(AZ380=4,G380,0)","v":0},{"$f":"IF(AZ380=5,G380,0)","v":0},null,null,null,null,null,null,null,null,null,null,null,null,null,null,null,null,null,null,null,null,null,1,1]
[null,null,"Položka je určena pro osazení betonových dílců šachet dle DIN 4034, skruže přechodové, zákrytové, kónusy,... na kroužek.",null,null,null,null,null,null,null,null,"Položka je určena pro osazení betonových dílců šachet dle DIN 4034, skruže přechodové, zákrytové, kónusy,... na kroužek.",null,null,3]
[null,null,"Stoka IO01:",null,0,null,null,null,null,null,null,null,"Stoka IO01:"]
[null,null,"Stoka \"G\" PVC DN250:",null,0,null,null,null,null,null,null,null,"Stoka \"G\" PVC DN250:"]
[null,null,"ZD H170:5",null,5,null,null,null,null,null,null,null,"ZD H170:5"]
[58,"894423111RT1","Osazení betonových dílců šachet do 2,0 t šachtová dna, na kroužek, do 2,0 t","kus",4,null,{"$f":"E385*F385","v":0},0,{"$f":"E385*H385","v":0},0,{"$f":"E385*J385","v":0},null,null,null,2,null,null,null,null,null,null,null,null,null,null,null,1,1,1,null,null,null,null,null,null,null,null,null,null,null,null,null,null,null,null,null,null,null,null,null,null,1,{"$f":"IF(AZ385=1,G385,0)","v":0},{"$f":"IF(AZ385=2,G385,0)","v":0},{"$f":"IF(AZ385=3,G385,0)","v":0},{"$f":"IF(AZ385=4,G385,0)","v":0},{"$f":"IF(AZ385=5,G385,0)","v":0},null,null,null,null,null,null,null,null,null,null,null,null,null,null,null,null,null,null,null,null,null,1,1]
[null,null,"Položka je určena pro osazení betonových dílců šachet dle DIN 4034, šachtová dna na kroužek, hmotnost do 2,0 t.",null,null,null,null,null,null,null,null,"Položka je určena pro osazení betonových dílců šachet dle DIN 4034, šachtová dna na kroužek, hmotnost do 2,0 t.",null,null,3]
[null,null,"V položce nejsou zakalkulovány náklady na dodání betonových dílců;",null,null,null,null,null,null,null,null,"V položce nejsou zakalkulovány náklady na dodání betonových dílců;",null,null,3]
[null,null,"Součástí položky je i podbetonování šachtového dna betonem C12/15 v min. tl. 10 cm.",null,null,null,null,null,null,null,null,"Součástí položky je i podbetonování šachtového dna betonem C12/15 v min. tl. 10 cm.",null,null,3]
[null,null,"Stoka IO01:",null,0,null,null,null,null,null,null,null,"Stoka IO01:"]
[null,null,"Stoka \"G\" PVC DN250:",null,0,null,null,null,null,null,null,null,"Stoka \"G\" PVC DN250:"]
[null,null,"ŠD 100/80:3",null,3,null,null,null,null,null,null,null,"ŠD 100/80:3"]
[null,null,"ŠD 100/100:1",null,1,null,null,null,null,null,null,null,"ŠD 100/100:1"]
[59,"894431323RCA","Šachta, D 425 mm, dl.šach.roury 2,0 m, sběrná dno KG D 200 mm, poklop litina 12,5 t","kus",3,null,{"$f":"E393*F393","v":0},6.6720000000000002E-2,{"$f":"E393*H393","v":0.20016},0,{"$f":"E393*J393","v":0},null,null,null,2,null,null,null,null,null,null,null,null,null,null,null,1,1,1,null,null,null,null,null,null,null,null,null,null,null,null,null,null,null,null,null,null,null,null,null,null,1,{"$f":"IF(AZ393=1,G393,0)","v":0},{"$f":"IF(AZ393=2,G393,0)","v":0},{"$f":"IF(AZ393=3,G393,0)","v":0},{"$f":"IF(AZ393=4,G393,0)","v":0},{"$f":"IF(AZ393=5,G393,0)","v":0},null,null,null,null,null,null,null,null,null,null,null,null,null,null,null,null,null,null,null,null,null,1,1]
[null,null,"Plastové dno, šachta z hladké PVC trouby, těsnění, šachtová roura teleskopická, rám do teleskopické trouby, poklop litinový.",null,null,null,null,null,null,null,null,"Plastové dno, šachta z hladké PVC trouby, těsnění, šachtová roura teleskopická, rám do teleskopické trouby, poklop litinový.",null,null,3]
[null,null,"Stoka IO01 :",null,0,null,null,null,null,null,null,null,"Stoka IO01 :"]
[null,null,"Vedle nové Š3 pro čp. 587:1",null,1,null,null,null,null,null,null,null,"Vedle nové Š3 pro čp. 587:1"]
[null,null,"Vedle nové Š4 pro čp. 586:1",null,1,null,null,null,null,null,null,null,"Vedle nové Š4 pro čp. 586:1"]
[null,null,"Vedle nové Š5 pro čp. 573:1",null,1,null,null,null,null,null,null,null,"Vedle nové Š5 pro čp. 573:1"]
[60,"899103111RT2","Osazení poklopu s rámem do 150 kg včetně dodávky poklopu lit. kruhového DN610","kus",4,null,{"$f":"E399*F399","v":0},0.122,{"$f":"E399*H399","v":0.48799999999999999},0,{"$f":"E399*J399","v":0},null,null,null,2,null,null,null,null,null,null,null,null,null,null,null,1,1,1,null,null,null,null,null,null,null,null,null,null,null,null,null,null,null,null,null,null,null,null,null,null,1,{"$f":"IF(AZ399=1,G399,0)","v":0},{"$f":"IF(AZ399=2,G399,0)","v":0},{"$f":"IF(AZ399=3,G399,0)","v":0},{"$f":"IF(AZ399=4,G399,0)","v":0},{"$f":"IF(AZ399=5,G399,0)","v":0},null,null,null,null,null,null,null,null,null,null,null,null,null,null,null,null,null,null,null,null,null,1,1]
[null,null,"Například poklop KBB03 B125 bez odvětrání",null,null,null,null,null,null,null,null,"Například poklop KBB01 B125 typ BEGU/BEGU bez odvětrání",null,null,3]
[null,null,"Kanalizační kruhový poklop se znakem \"Město Semily\"",null,null,null,null,null,null,null,null,"Kanalizační kruhový poklop se znakem \"Město Semily\"",null,null,3]
[null,null,"Poklop dle PD",null,null,null,null,null,null,null,null,"Poklop dle PD",null,null,3]
[61,"899103111RT5","Osazení poklopu s rámem do 150 kg včetně dodávky poklopu lit. kruhového DN610","kus",1,null,{"$f":"E403*F403","v":0},0.14499999999999999,{"$f":"E403*H403","v":0.14499999999999999},0,{"$f":"E403*J403","v":0},null,null,null,2,null,null,null,null,null,null,null,null,null,null,null,1,1,1,null,null,null,null,null,null,null,null,null,null,null,null,null,null,null,null,null,null,null,null,null,null,1,{"$f":"IF(AZ403=1,G403,0)","v":0},{"$f":"IF(AZ403=2,G403,0)","v":0},{"$f":"IF(AZ403=3,G403,0)","v":0},{"$f":"IF(AZ403=4,G403,0)","v":0},{"$f":"IF(AZ403=5,G403,0)","v":0},null,null,null,null,null,null,null,null,null,null,null,null,null,null,null,null,null,null,null,null,null,1,1]
[null,null,"Například poklop KDM 65 bez odvětrání",null,null,null,null,null,null,null,null,"Například poklop KBB01 D400 typ BEGU/BEGU bez odvětrání",null,null,3]
[null,null,"Kanalizační kruhový poklop se znakem \"Město Semily\"",null,null,null,null,null,null,null,null,"Kanalizační kruhový poklop se znakem \"Město Semily\"",null,null,3]
[62,"899711122R00","Fólie výstražná z PVC šedá, šířka 30 cm ","m",127,null,{"$f":"E406*F406","v":0},0,{"$f":"E406*H406","v":0},0,{"$f":"E406*J406","v":0},null,null,null,2,null,null,null,null,null,null,null,null,null,null,null,1,1,1,null,null,null,null,null,null,null,null,null,null,null,null,null,null,null,null,null,null,null,null,null,null,1,{"$f":"IF(AZ406=1,G406,0)","v":0},{"$f":"IF(AZ406=2,G406,0)","v":0},{"$f":"IF(AZ406=3,G406,0)","v":0},{"$f":"IF(AZ406=4,G406,0)","v":0},{"$f":"IF(AZ406=5,G406,0)","v":0},null,null,null,null,null,null,null,null,null,null,null,null,null,null,null,null,null,null,null,null,null,1,1]
[null,null,"Stoka IO01:",null,0,null,null,null,null,null,null,null,"Stoka IO01:"]
[null,null,"Stoka \"G\" PVC DN250:117,00",null,117,null,null,null,null,null,null,null,"Stoka \"G\" PVC DN250:117,00"]
[null,null,"Přípojka pro čp. 587 z RŠ3 PVC DN200:3,00",null,3,null,null,null,null,null,null,null,"Přípojka pro čp. 587 z RŠ3 PVC DN200:3,00"]
[null,null,"Přípojka pro čp. 586 z RŠ4 PVC DN200:4,00",null,4,null,null,null,null,null,null,null,"Přípojka pro čp. 586 z RŠ4 PVC DN200:4,00"]
[null,null,"Přípojka pro čp. 573 z RŠ5 PVC DN200:3,00",null,3,null,null,null,null,null,null,null,"Přípojka pro čp. 573 z RŠ5 PVC DN200:3,00"]
[63,"286111914","Trubka kanalizační PVC QUANTUM SN 12 DN 200","m",10.3,null,{"$f":"E412*F412","v":0},7.1000000000000004E-3,{"$f":"E412*H412","v":7.3130000000000014E-2},null,{"$f":"E412*J412","v":0},null,null,null,2,null,null,null,null,null,null,null,null,null,null,null,3,1,286111914,null,null,null,null,null,null,null,null,null,null,null,null,null,null,null,null,null,null,null,null,null,null,1,{"$f":"IF(AZ412=1,G412,0)","v":0},{"$f":"IF(AZ412=2,G412,0)","v":0},{"$f":"IF(AZ412=3,G412,0)","v":0},{"$f":"IF(AZ412=4,G412,0)","v":0},{"$f":"IF(AZ412=5,G412,0)","v":0},null,null,null,null,null,null,null,null,null,null,null,null,null,null,null,null,null,null,null,null,null,3,1]
[null,null,"Jedná  se  o  plnostěnné kanalizační trubky DN 150 – DN 400, SN 12 kN/m2 , zvenčí  i  zevnitř  hladké. Jsou  opatřeny hrdlem,  v  němž  je  vložen vysoce  elastický  jazýčkový  kroužek.  konce  trubek  (dříků)  jsou opatřeny  zkosením  pod  úhlem  15°.  Způsob  použití  trubek  je  „U“  dle  normy  ČSN  EN  1401-1, tj. mimo budovy. Spolehlivá  funkce  těsnění  je  jištěna  výztužným  kroužkem  z  elastomeru.  Je  tak  zamezeno  vypad-nutí nebo vytlačení kroužku při manipulaci a montáži. Tento systém zaručuje při správné montáži ",null,null,null,null,null,null,null,null,"Jedná  se  o  plnostěnné kanalizační trubky DN 150 – DN 400, SN 12 kN/m2 , zvenčí  i  zevnitř  hladké. Jsou  opatřeny hrdlem,  v  němž  je  vložen vysoce  elastický  jazýčkový  kroužek.  konce  trubek  (dříků)  jsou opatřeny  zkosením  pod  úhlem  15°.  Způsob  použití  trubek  je  „U“  dle  normy  ČSN  EN  1401-1, tj. mimo budovy. Spolehlivá  funkce  těsnění  je  jištěna  výztužným  kroužkem  z  elastomeru.  Je  tak  zamezeno  vypad-nutí nebo vytlačení kroužku při manipulaci a montáži. Tento systém zaručuje při správné montáži ",null,null,3]
[null,null,"dokonalou  těsnost  do  výšky  vodního  sloupce  5  metrů.",null,null,null,null,null,null,null,null,"dokonalou  těsnost  do  výšky  vodního  sloupce  5  metrů.",null,null,3]
[null,null,"Teplota při pokládce: min. -10 °C, max. 50 °C",null,null,null,null,null,null,null,null,"Teplota při pokládce: min. -10 °C, max. 50 °C",null,null,3]
[null,null,"Max. teplota média: trvale do 40 °C, krátkodobě do 60 °C",null,null,null,null,null,null,null,null,"Max. teplota média: trvale do 40 °C, krátkodobě do 60 °C",null,null,3]
[null,null,"Orientační výška krytí: min. 0,5 m, max. 10 m",null,null,null,null,null,null,null,null,"Orientační výška krytí: min. 0,5 m, max. 10 m",null,null,3]
[null,null,"Max. rychlost média: 12 m/s",null,null,null,null,null,null,null,null,"Max. rychlost média: 12 m/s",null,null,3]
[null,null,"Stoka IO01:",null,0,null,null,null,null,null,null,null,"Stoka IO01:"]
[null,null,"Přípojka pro čp. 587 z RŠ3 PVC DN200:3,00*1,03",null,3.09,null,null,null,null,null,null,null,"Přípojka pro čp. 587 z RŠ3 PVC DN200:3,00*1,03"]
[null,null,"Přípojka pro čp. 586 z RŠ4 PVC DN200:4,00*1,03",null,4.12,null,null,null,null,null,null,null,"Přípojka pro čp. 586 z RŠ4 PVC DN200:4,00*1,03"]
[null,null,"Přípojka pro čp. 573 z RŠ5 PVC DN200:3,00*1,03",null,3.09,null,null,null,null,null,null,null,"Přípojka pro čp. 573 z RŠ5 PVC DN200:3,00*1,03"]
[64,"286111923.A.R","Trubka kanalizační PVC QUANTUM SN 12 DN 250","kus",120.51,null,{"$f":"E423*F423","v":0},8.2000000000000007E-3,{"$f":"E423*H423","v":0.98818200000000012},null,{"$f":"E423*J423","v":0},null,null,null,2,null,null,null,null,null,null,null,null,null,null,null,3,1,"286111923.A.R",null,null,null,null,null,null,null,null,null,null,null,null,null,null,null,null,null,null,null,null,null,null,1,{"$f":"IF(AZ423=1,G423,0)","v":0},{"$f":"IF(AZ423=2,G423,0)","v":0},{"$f":"IF(AZ423=3,G423,0)","v":0},{"$f":"IF(AZ423=4,G423,0)","v":0},{"$f":"IF(AZ423=5,G423,0)","v":0},null,null,null,null,null,null,null,null,null,null,null,null,null,null,null,null,null,null,null,null,null,3,1]
[null,null,"Jedná  se  o  plnostěnné kanalizační trubky DN 150 – DN 400, SN 12 kN/m2 , zvenčí  i  zevnitř  hladké. Jsou  opatřeny hrdlem,  v  němž  je  vložen vysoce  elastický  jazýčkový  kroužek.  konce  trubek  (dříků)  jsou opatřeny  zkosením  pod  úhlem  15°.  Způsob  použití  trubek  je  „U“  dle  normy  ČSN  EN  1401-1, tj. mimo budovy. Spolehlivá  funkce  těsnění  je  jištěna  výztužným  kroužkem  z  elastomeru.  Je  tak  zamezeno  vypad-nutí nebo vytlačení kroužku při manipulaci a montáži. Tento systém zaručuje při správné montáži ",null,null,null,null,null,null,null,null,"Jedná  se  o  plnostěnné kanalizační trubky DN 150 – DN 400, SN 12 kN/m2 , zvenčí  i  zevnitř  hladké. Jsou  opatřeny hrdlem,  v  němž  je  vložen vysoce  elastický  jazýčkový  kroužek.  konce  trubek  (dříků)  jsou opatřeny  zkosením  pod  úhlem  15°.  Způsob  použití  trubek  je  „U“  dle  normy  ČSN  EN  1401-1, tj. mimo budovy. Spolehlivá  funkce  těsnění  je  jištěna  výztužným  kroužkem  z  elastomeru.  Je  tak  zamezeno  vypad-nutí nebo vytlačení kroužku při manipulaci a montáži. Tento systém zaručuje při správné montáži ",null,null,3]
[null,null,"dokonalou  těsnost  do  výšky  vodního  sloupce  5  metrů.",null,null,null,null,null,null,null,null,"dokonalou  těsnost  do  výšky  vodního  sloupce  5  metrů.",null,null,3]
[null,null,"Stoka IO01:",null,0,null,null,null,null,null,null,null,"Stoka IO01:"]
[null,null,"Stoka \"G\" PVC DN250:117,00*1,03",null,120.51,null,null,null,null,null,null,null,"Stoka \"G\" PVC DN250:117,00*1,03"]
[65,"592243541.R","Deska zákrytová TZK-Q.1 100-63/17","kus",5.05,null,{"$f":"E428*F428","v":0},0.43,{"$f":"E428*H428","v":2.1715},null,{"$f":"E428*J428","v":0},null,null,null,2,null,null,null,null,null,null,null,null,null,null,null,3,1,"592243541.R",null,null,null,null,null,null,null,null,null,null,null,null,null,null,null,null,null,null,null,null,null,null,1,{"$f":"IF(AZ428=1,G428,0)","v":0},{"$f":"IF(AZ428=2,G428,0)","v":0},{"$f":"IF(AZ428=3,G428,0)","v":0},{"$f":"IF(AZ428=4,G428,0)","v":0},{"$f":"IF(AZ428=5,G428,0)","v":0},null,null,null,null,null,null,null,null,null,null,null,null,null,null,null,null,null,null,null,null,null,3,1]
[null,null,"Stoka IO01:",null,0,null,null,null,null,null,null,null,"Stoka IO01:"]
[null,null,"Stoka \"G\" PVC DN250:",null,0,null,null,null,null,null,null,null,"Stoka \"G\" PVC DN250:"]
[null,null,"ZD H170:5*1,01",null,5.05,null,null,null,null,null,null,null,"ZD H170:5*1,01"]
[66,"59224358.A.R","Skruž šachetní TBS-Q.1 100/25/12 PS","kus",1.01,null,{"$f":"E432*F432","v":0},0.25,{"$f":"E432*H432","v":0.2525},null,{"$f":"E432*J432","v":0},null,null,null,2,null,null,null,null,null,null,null,null,null,null,null,3,1,"59224358.A.R",null,null,null,null,null,null,null,null,null,null,null,null,null,null,null,null,null,null,null,null,null,null,1,{"$f":"IF(AZ432=1,G432,0)","v":0},{"$f":"IF(AZ432=2,G432,0)","v":0},{"$f":"IF(AZ432=3,G432,0)","v":0},{"$f":"IF(AZ432=4,G432,0)","v":0},{"$f":"IF(AZ432=5,G432,0)","v":0},null,null,null,null,null,null,null,null,null,null,null,null,null,null,null,null,null,null,null,null,null,3,1]
[null,null,"Stoka IO01:",null,0,null,null,null,null,null,null,null,"Stoka IO01:"]
[null,null,"Stoka \"G\" PVC DN250:",null,0,null,null,null,null,null,null,null,"Stoka \"G\" PVC DN250:"]
[null,null,"Skruž H250:1*1,01",null,1.01,null,null,null,null,null,null,null,"Skruž H250:1*1,01"]
[67,"59224361.A.R","Skruž šachetní TBS-Q.1 100/50/12 PS","kus",2.02,null,{"$f":"E436*F436","v":0},0.5,{"$f":"E436*H436","v":1.01},null,{"$f":"E436*J436","v":0},null,null,null,2,null,null,null,null,null,null,null,null,null,null,null,3,1,"59224361.A.R",null,null,null,null,null,null,null,null,null,null,null,null,null,null,null,null,null,null,null,null,null,null,1,{"$f":"IF(AZ436=1,G436,0)","v":0},{"$f":"IF(AZ436=2,G436,0)","v":0},{"$f":"IF(AZ436=3,G436,0)","v":0},{"$f":"IF(AZ436=4,G436,0)","v":0},{"$f":"IF(AZ436=5,G436,0)","v":0},null,null,null,null,null,null,null,null,null,null,null,null,null,null,null,null,null,null,null,null,null,3,1]
[null,null,"Stoka IO01:",null,0,null,null,null,null,null,null,null,"Stoka IO01:"]
[null,null,"Stoka \"G\" PVC DN250:",null,0,null,null,null,null,null,null,null,"Stoka \"G\" PVC DN250:"]
[null,null,"Skruž H500:2*1,01",null,2.02,null,null,null,null,null,null,null,"Skruž H500:2*1,01"]
[68,"59224364.A.R","Skruž šachetní TBS-Q.1 100/100/12 PS","kus",2.02,null,{"$f":"E440*F440","v":0},1,{"$f":"E440*H440","v":2.02},null,{"$f":"E440*J440","v":0},null,null,null,2,null,null,null,null,null,null,null,null,null,null,null,3,1,"59224364.A.R",null,null,null,null,null,null,null,null,null,null,null,null,null,null,null,null,null,null,null,null,null,null,1,{"$f":"IF(AZ440=1,G440,0)","v":0},{"$f":"IF(AZ440=2,G440,0)","v":0},{"$f":"IF(AZ440=3,G440,0)","v":0},{"$f":"IF(AZ440=4,G440,0)","v":0},{"$f":"IF(AZ440=5,G440,0)","v":0},null,null,null,null,null,null,null,null,null,null,null,null,null,null,null,null,null,null,null,null,null,3,1]
[null,null,"Stoka IO01:",null,0,null,null,null,null,null,null,null,"Stoka IO01:"]
[null,null,"Stoka \"G\" PVC DN250:",null,0,null,null,null,null,null,null,null,"Stoka \"G\" PVC DN250:"]
[null,null,"Skruž H1000:2*1,01",null,2.02,null,null,null,null,null,null,null,"Skruž H1000:2*1,01"]
[69,"59224367.A.R","Dno šachetní TBZ-Q.1 100/80 V max. 50 včetně kynety dle PD","kus",3.03,null,{"$f":"E444*F444","v":0},1.6,{"$f":"E444*H444","v":4.8479999999999999},null,{"$f":"E444*J444","v":0},null,null,null,2,null,null,null,null,null,null,null,null,null,null,null,3,1,"59224367.A.R",null,null,null,null,null,null,null,null,null,null,null,null,null,null,null,null,null,null,null,null,null,null,1,{"$f":"IF(AZ444=1,G444,0)","v":0},{"$f":"IF(AZ444=2,G444,0)","v":0},{"$f":"IF(AZ444=3,G444,0)","v":0},{"$f":"IF(AZ444=4,G444,0)","v":0},{"$f":"IF(AZ444=5,G444,0)","v":0},null,null,null,null,null,null,null,null,null,null,null,null,null,null,null,null,null,null,null,null,null,3,1]
[null,null,"Stoka IO01:",null,0,null,null,null,null,null,null,null,"Stoka IO01:"]
[null,null,"Stoka \"G\" PVC DN250:",null,0,null,null,null,null,null,null,null,"Stoka \"G\" PVC DN250:"]
[null,null,"ŠD 100/80:3*1,01",null,3.03,null,null,null,null,null,null,null,"ŠD 100/80:3*1,01"]
[70,"59224368.A.R","Dno šachetní TBZ-Q.1 100/100 V max. 60 včetně kynety dle PD","kus",1.01,null,{"$f":"E448*F448","v":0},2.1,{"$f":"E448*H448","v":2.121},null,{"$f":"E448*J448","v":0},null,null,null,2,null,null,null,null,null,null,null,null,null,null,null,3,1,"59224368.A.R",null,null,null,null,null,null,null,null,null,null,null,null,null,null,null,null,null,null,null,null,null,null,1,{"$f":"IF(AZ448=1,G448,0)","v":0},{"$f":"IF(AZ448=2,G448,0)","v":0},{"$f":"IF(AZ448=3,G448,0)","v":0},{"$f":"IF(AZ448=4,G448,0)","v":0},{"$f":"IF(AZ448=5,G448,0)","v":0},null,null,null,null,null,null,null,null,null,null,null,null,null,null,null,null,null,null,null,null,null,3,1]
[null,null,"Stoka IO01:",null,0,null,null,null,null,null,null,null,"Stoka IO01:"]
[null,null,"Stoka \"G\" PVC DN250:",null,0,null,null,null,null,null,null,null,"Stoka \"G\" PVC DN250:"]
[null,null,"ŠD 100/100:1*1,01",null,1.01,null,null,null,null,null,null,null,"ŠD 100/100:1*1,01"]
[71,"59224373.R","Těsnění elastom pro šach díly EMT 100/1.7 - DN1000","kus",9.09,null,{"$f":"E452*F452","v":0},2E-3,{"$f":"E452*H452","v":1.8180000000000002E-2},null,{"$f":"E452*J452","v":0},null,null,null,2,null,null,null,null,null,null,null,null,null,null,null,3,1,"59224373.R",null,null,null,null,null,null,null,null,null,null,null,null,null,null,null,null,null,null,null,null,null,null,1,{"$f":"IF(AZ452=1,G452,0)","v":0},{"$f":"IF(AZ452=2,G452,0)","v":0},{"$f":"IF(AZ452=3,G452,0)","v":0},{"$f":"IF(AZ452=4,G452,0)","v":0},{"$f":"IF(AZ452=5,G452,0)","v":0},null,null,null,null,null,null,null,null,null,null,null,null,null,null,null,null,null,null,null,null,null,3,1]
[null,null,"Stoka IO01:",null,0,null,null,null,null,null,null,null,"Stoka IO01:"]
[null,null,"Stoka \"G\" PVC DN250:",null,0,null,null,null,null,null,null,null,"Stoka \"G\" PVC DN250:"]
[null,null,"Těsnění:9*1,01",null,9.09,null,null,null,null,null,null,null,"Těsnění:9*1,01"]
[null,"Celkem za","8 Trubní vedení",null,null,null,{"$f":"SUM(G319:G455)","v":0},null,{"$f":"SUM(I319:I455)","v":19.407221999999997},null,{"$f":"SUM(K319:K455)","v":0},null,null,null,4,null,null,null,null,null,null,null,null,null,null,null,null,null,null,null,null,null,null,null,null,null,null,null,null,null,null,null,null,null,null,null,null,null,null,null,null,null,{"$f":"SUM(BA319:BA455)","v":0},{"$f":"SUM(BB319:BB455)","v":0},{"$f":"SUM(BC319:BC455)","v":0},{"$f":"SUM(BD319:BD455)","v":0},{"$f":"SUM(BE319:BE455)","v":0}]
["Díl:","99","Staveništní přesun hmot",null,null,null,null,null,null,null,null,null,null,null,1]
[72,"998276101RXX","Přesun hmot, trubní vedení plastová, otevř. výkop pro celý rozsah objektu","t",208.18944529999999,null,{"$f":"E458*F458","v":0},0,{"$f":"E458*H458","v":0},null,{"$f":"E458*J458","v":0},null,null,null,2,null,null,null,null,null,null,null,null,null,null,null,7,1,2,null,null,null,null,null,null,null,null,null,null,null,null,null,null,null,null,null,null,null,null,null,null,1,{"$f":"IF(AZ458=1,G458,0)","v":0},{"$f":"IF(AZ458=2,G458,0)","v":0},{"$f":"IF(AZ458=3,G458,0)","v":0},{"$f":"IF(AZ458=4,G458,0)","v":0},{"$f":"IF(AZ458=5,G458,0)","v":0},null,null,null,null,null,null,null,null,null,null,null,null,null,null,null,null,null,null,null,null,null,7,1]
[null,null,"Staveništní doprava pro celý rozsah objektu - doprava zmeziskládek vybudovaného zařízení staveniště zhotovitele na jednotlivé části staveniště.",null,null,null,null,null,null,null,null,"Staveništní doprava pro celý rozsah objektu - doprava zmeziskládek vybudovaného zařízení staveniště zhotovitele na jednotlivé části staveniště.",null,null,3]
[null,"Celkem za","99 Staveništní přesun hmot",null,null,null,{"$f":"SUM(G457:G459)","v":0},null,{"$f":"SUM(I457:I459)","v":0},null,{"$f":"SUM(K457:K459)","v":0},null,null,null,4,null,null,null,null,null,null,null,null,null,null,null,null,null,null,null,null,null,null,null,null,null,null,null,null,null,null,null,null,null,null,null,null,null,null,null,null,null,{"$f":"SUM(BA457:BA459)","v":0},{"$f":"SUM(BB457:BB459)","v":0},{"$f":"SUM(BC457:BC459)","v":0},{"$f":"SUM(BD457:BD459)","v":0},{"$f":"SUM(BE457:BE459)","v":0}]

{"sheet":"308 3542308.2 KL","index":77,"n_rows":45,"n_cols":8,"rows_kept":45,"cut":false,"hidden":false,"merged":[[50,1,50,6],[29,5,29,6],[30,5,30,6],[31,5,31,6],[32,5,32,6],[33,5,33,6],[36,1,44,6],[45,1,45,6],[46,1,46,6],[47,1,47,6],[48,1,48,6],[49,1,49,6],[22,0,22,1],[7,2,7,4],[8,2,8,4],[9,2,9,4],[10,2,10,4],[11,2,11,4]]}
["POLOŽKOVÝ ROZPOČET"]
["Rozpočet",null,"3542/308.2","Zrušení stávající kanalizace",null,"JKSO ","827.21.A"]
[]
["Objekt",null,null,null,null,"SKP "]
["308",null,"Obnova kanalizace Gymnázium Semily",null,null,"Měrná jednotka","m"]
["Stavba",null,null,null,null,"Počet jednotek",0]
["3542",null,"Semily - Obnova VH infrastruktury a komunikací",null,null,"Náklady na m.j.",{"$f":"IF(G6=0,,ROUND((F30+F32)/G6,1))","v":0}]
["Projektant",null,null,null,null,"Typ rozpočtu"]
["Zpracovatel projektu"]
["Objednatel",null,"Vodohospodářské sdružení Turnov"]
["Dodavatel",null,".",null,null,"Zakázkové číslo "]
["Rozpočtoval",null,null,null,null,"Počet listů"]
["ROZPOČTOVÉ NÁKLADY"]
["Základní rozpočtové náklady"]
[null,"HSV celkem",{"$f":"'308 3542308.2 Rek'!E12","v":0}]
["Z","PSV celkem",{"$f":"'308 3542308.2 Rek'!F12","v":0}]
["R","M práce celkem",{"$f":"'308 3542308.2 Rek'!H12","v":0}]
["N","M dodávky celkem",{"$f":"'308 3542308.2 Rek'!G12","v":0}]
["ZRN celkem",null,{"$f":"SUM(C15:C18)","v":0}]
[]
["HZS",null,{"$f":"'308 3542308.2 Rek'!I12","v":0}]
["ZRN+HZS",null,{"$f":"C19+C21","v":0}]
["ZRN+ost.náklady+HZS",null,{"$f":"C22+G23","v":0}]
["Vypracoval",null,null,"Za zhotovitele",null,"Za objednatele"]
["Jméno :",null,null,"Jméno :",null,"Jméno :"]
["Datum :",null,null,"Datum :",null,"Datum :"]
[]
["Podpis :",null,null,"Podpis:",null,"Podpis:"]
[]
["Základ pro DPH",null,21,"%  ",null,{"$f":"C23-F32","v":0}]
["DPH",null,{"$f":"C30","v":21},"% ",null,{"$f":"ROUND(PRODUCT(F30,C31/100),0)","v":0}]
["Základ pro DPH",null,0,"% ",null,0]
["DPH",null,{"$f":"C32","v":0},"% ",null,{"$f":"ROUND(PRODUCT(F32,C33/100),0)","v":0}]
["CENA ZA OBJEKT CELKEM",null,null,null,null,{"$f":"ROUND(SUM(F30:F33),0)","v":0}]
[]
["Poznámka :",null,null,null,null,null,null," "]
[null,null,null,null,null,null,null," "]
[null,null,null,null,null,null,null," "]
[null,null,null,null,null,null,null," "]
[null,null,null,null,null,null,null," "]
[null,null,null,null,null,null,null," "]
[null,null,null,null,null,null,null," "]
[null,null,null,null,null,null,null," "]
[null,null,null,null,null,null,null," "]
[null,null,null,null,null,null,null," "]

{"sheet":"308 3542308.2 Rek","index":78,"n_rows":12,"n_cols":9,"rows_kept":12,"cut":false,"hidden":false,"merged":[[0,0,0,1],[1,0,1,1],[1,6,1,8]]}
["Stavba :",null,"3542 Semily - Obnova VH infrastruktury a komunikací",null,null,null,"Rozpočet :","3542/308.2"]
["Objekt :",null,"308 Obnova kanalizace Gymnázium Semily",null,null,null,"Zrušení stávající kanalizace"]
[]
["REKAPITULACE  STAVEBNÍCH  DÍLŮ"]
[]
[null,"Stavební díl",null,null,"HSV","PSV","Dodávka","Montáž","HZS"]
[{"$f":"'308 3542308.2 Pol'!B7","v":"1"},{"$f":"'308 3542308.2 Pol'!C7","v":"Zemní práce"},null,null,{"$f":"'308 3542308.2 Pol'!BA33","v":0},{"$f":"'308 3542308.2 Pol'!BB33","v":0},{"$f":"'308 3542308.2 Pol'!BC33","v":0},{"$f":"'308 3542308.2 Pol'!BD33","v":0},{"$f":"'308 3542308.2 Pol'!BE33","v":0}]
[{"$f":"'308 3542308.2 Pol'!B34","v":"8"},{"$f":"'308 3542308.2 Pol'!C34","v":"Trubní vedení"},null,null,{"$f":"'308 3542308.2 Pol'!BA45","v":0},{"$f":"'308 3542308.2 Pol'!BB45","v":0},{"$f":"'308 3542308.2 Pol'!BC45","v":0},{"$f":"'308 3542308.2 Pol'!BD45","v":0},{"$f":"'308 3542308.2 Pol'!BE45","v":0}]
[{"$f":"'308 3542308.2 Pol'!B46","v":"93"},{"$f":"'308 3542308.2 Pol'!C46","v":"Dokončovací práce inženýrských staveb"},null,null,{"$f":"'308 3542308.2 Pol'!BA53","v":0},{"$f":"'308 3542308.2 Pol'!BB53","v":0},{"$f":"'308 3542308.2 Pol'!BC53","v":0},{"$f":"'308 3542308.2 Pol'!BD53","v":0},{"$f":"'308 3542308.2 Pol'!BE53","v":0}]
[{"$f":"'308 3542308.2 Pol'!B54","v":"97"},{"$f":"'308 3542308.2 Pol'!C54","v":"Prorážení otvorů"},null,null,{"$f":"'308 3542308.2 Pol'!BA62","v":0},{"$f":"'308 3542308.2 Pol'!BB62","v":0},{"$f":"'308 3542308.2 Pol'!BC62","v":0},{"$f":"'308 3542308.2 Pol'!BD62","v":0},{"$f":"'308 3542308.2 Pol'!BE62","v":0}]
[{"$f":"'308 3542308.2 Pol'!B63","v":"99"},{"$f":"'308 3542308.2 Pol'!C63","v":"Staveništní přesun hmot"},null,null,{"$f":"'308 3542308.2 Pol'!BA66","v":0},{"$f":"'308 3542308.2 Pol'!BB66","v":0},{"$f":"'308 3542308.2 Pol'!BC66","v":0},{"$f":"'308 3542308.2 Pol'!BD66","v":0},{"$f":"'308 3542308.2 Pol'!BE66","v":0}]
[null,"CELKEM  OBJEKT",null,null,{"$f":"SUM(E7:E11)","v":0},{"$f":"SUM(F7:F11)","v":0},{"$f":"SUM(G7:G11)","v":0},{"$f":"SUM(H7:H11)","v":0},{"$f":"SUM(I7:I11)","v":0}]

{"sheet":"308 3542308.2 Pol","index":79,"n_rows":66,"n_cols":80,"rows_kept":66,"cut":false,"hidden":false,"merged":[[64,2,64,6],[55,2,55,3],[56,2,56,3],[57,2,57,3],[58,2,58,3],[59,2,59,3],[60,2,60,3],[48,2,48,3],[50,2,50,3],[51,2,51,3],[26,2,26,3],[27,2,27,3],[28,2,28,3],[30,2,30,6],[35,2,35,6],[36,2,36,6],[37,2,37,6],[38,2,38,6],[39,2,39,3],[40,2,40,3],[42,2,42,3],[43,2,43,3],[47,2,47,3],[25,2,25,3],[13,2,13,6],[14,2,14,3],[15,2,15,3],[16,2,16,3],[17,2,17,3],[18,2,18,3],[19,2,19,3],[21,2,21,6],[22,2,22,3],[23,2,23,3],[24,2,24,3],[9,2,9,3],[10,2,10,3],[11,2,11,3],[0,0,0,6],[2,0,2,1],[3,0,3,1],[3,4,3,6],[8,2,8,3]]}
["Položkový rozpočet "]
[]
["Stavba :",null,"3542 Semily - Obnova VH infrastruktury a komunikací",null,"Rozpočet:",{"$f":"'308 3542308.2 Rek'!H1","v":"3542/308.2"}]
["Objekt :",null,"308 Obnova kanalizace Gymnázium Semily",null,{"$f":"'308 3542308.2 Rek'!G2","v":"Zrušení stávající kanalizace"}]
[]
["P.č.","Číslo položky","Název položky","MJ","množství","cena / MJ","celkem (Kč)","Jednotková hmotnost","Celková hmotnost","Jednotková dem.hmot.","Celková dem.hmot."]
["Díl:","1","Zemní práce",null,null,null,null,null,null,null,null,null,null,null,1]
[1,"115101201RRX","Čerpání splašků na výšku do 10 m přítok do 500 l/min","h",30,null,{"$f":"E8*F8","v":0},0,{"$f":"E8*H8","v":0},0,{"$f":"E8*J8","v":0},null,null,null,2,null,null,null,null,null,null,null,null,null,null,null,1,1,1,null,null,null,null,null,null,null,null,null,null,null,null,null,null,null,null,null,null,null,null,null,null,1,{"$f":"IF(AZ8=1,G8,0)","v":0},{"$f":"IF(AZ8=2,G8,0)","v":0},{"$f":"IF(AZ8=3,G8,0)","v":0},{"$f":"IF(AZ8=4,G8,0)","v":0},{"$f":"IF(AZ8=5,G8,0)","v":0},null,null,null,null,null,null,null,null,null,null,null,null,null,null,null,null,null,null,null,null,null,1,1]
[null,null,"Stoka IO01 :",null,0,null,null,null,null,null,null,null,"Stoka IO01 :"]
[null,null,"Stávající RŠ vedle nové Š3:10,00",null,10,null,null,null,null,null,null,null,"Stávající RŠ vedle nové Š3:10,00"]
[null,null,"Stávající RŠ vedle nové Š4:10,00",null,10,null,null,null,null,null,null,null,"Stávající RŠ vedle nové Š4:10,00"]
[null,null,"Stávající RŠ vedle nové Š5:10,00",null,10,null,null,null,null,null,null,null,"Stávající RŠ vedle nové Š5:10,00"]
[2,"130901123RT3","Bourání konstrukcí ze železobetonu ve vykopávkách bagrem s kladivem","m3",4.6500000000000004,null,{"$f":"E13*F13","v":0},0,{"$f":"E13*H13","v":0},0,{"$f":"E13*J13","v":0},null,null,null,2,null,null,null,null,null,null,null,null,null,null,null,1,1,1,null,null,null,null,null,null,null,null,null,null,null,null,null,null,null,null,null,null,null,null,null,null,1,{"$f":"IF(AZ13=1,G13,0)","v":0},{"$f":"IF(AZ13=2,G13,0)","v":0},{"$f":"IF(AZ13=3,G13,0)","v":0},{"$f":"IF(AZ13=4,G13,0)","v":0},{"$f":"IF(AZ13=5,G13,0)","v":0},null,null,null,null,null,null,null,null,null,null,null,null,null,null,null,null,null,null,null,null,null,1,1]
[null,null,"Položka obsahuje odstranění materiálu obklopujícího betonové konstrukce v míře nutné pro vyzvednutí (potřebné zemní práce), rozpojení konstrukcí, uchopení a vyzvednutí konstrukce z výkopu a uložení na dopravní prostředek.",null,null,null,null,null,null,null,null,"Položka obsahuje odstranění materiálu obklopujícího betonové konstrukce v míře nutné pro vyzvednutí (potřebné zemní práce), rozpojení konstrukcí, uchopení a vyzvednutí konstrukce z výkopu a uložení na dopravní prostředek.",null,null,3]
[null,null,"Stoka IO01 :",null,0,null,null,null,null,null,null,null,"Stoka IO01 :"]
[null,null,"Část RŠ (poklop a kónus) na stávající stoce DN500:0,40",null,0.4,null,null,null,null,null,null,null,"Část RŠ (poklop a kónus) na stávající stoce DN500:0,40"]
[null,null,"Stávající RŠ vedle nové Š3:1,35",null,1.35,null,null,null,null,null,null,null,"Stávající RŠ vedle nové Š3:1,35"]
[null,null,"Stávající RŠ vedle nové Š4:1,30",null,1.3,null,null,null,null,null,null,null,"Stávající RŠ vedle nové Š4:1,30"]
[null,null,"Stávající RŠ vedle nové Š5:1,20",null,1.2,null,null,null,null,null,null,null,"Stávající RŠ vedle nové Š5:1,20"]
[null,null,"Část stávající RŠ (poklop a kónus) na původní zaplavované stoce:0,40",null,0.4,null,null,null,null,null,null,null,"Část stávající RŠ (poklop a kónus) na původní zaplavované stoce:0,40"]
[3,"174101101R00","Zásyp jam, rýh, šachet se zhutněním ","m3",15.637499999999999,null,{"$f":"E21*F21","v":0},0,{"$f":"E21*H21","v":0},0,{"$f":"E21*J21","v":0},null,null,null,2,null,null,null,null,null,null,null,null,null,null,null,1,1,1,null,null,null,null,null,null,null,null,null,null,null,null,null,null,null,null,null,null,null,null,null,null,1,{"$f":"IF(AZ21=1,G21,0)","v":0},{"$f":"IF(AZ21=2,G21,0)","v":0},{"$f":"IF(AZ21=3,G21,0)","v":0},{"$f":"IF(AZ21=4,G21,0)","v":0},{"$f":"IF(AZ21=5,G21,0)","v":0},null,null,null,null,null,null,null,null,null,null,null,null,null,null,null,null,null,null,null,null,null,1,1]
[null,null,"včetně strojního přemístění materiálu pro zásyp ze vzdálenosti do 10 m od okraje zásypu",null,null,null,null,null,null,null,null,"včetně strojního přemístění materiálu pro zásyp ze vzdálenosti do 10 m od okraje zásypu",null,null,3]
[null,null,"Stoka IO01 :",null,0,null,null,null,null,null,null,null,"Stoka IO01 :"]
[null,null,"Zásypy zeminou po vyhouraných částech stívajících RŠ:",null,0,null,null,null,null,null,null,null,"Zásypy zeminou po vyhouraných částech stívajících RŠ:"]
[null,null,"Část RŠ (poklop a kónus) na stávající stoce DN500:1,50*1,50*0,40",null,0.9,null,null,null,null,null,null,null,"Část RŠ (poklop a kónus) na stávající stoce DN500:1,50*1,50*0,40"]
[null,null,"Stávající RŠ vedle nové Š3:1,50*1,50*2,00",null,4.5,null,null,null,null,null,null,null,"Stávající RŠ vedle nové Š3:1,50*1,50*2,00"]
[null,null,"Stávající RŠ vedle nové Š4:1,50*1,50*1,95",null,4.3875000000000002,null,null,null,null,null,null,null,"Stávající RŠ vedle nové Š4:1,50*1,50*1,95"]
[null,null,"Stávající RŠ vedle nové Š5:1,50*1,50*1,80",null,4.05,null,null,null,null,null,null,null,"Stávající RŠ vedle nové Š5:1,50*1,50*1,80"]
[null,null,"Část stávající RŠ (poklop a kónus) na původní zaplavované stoce:1,50*1,50*0,80",null,1.8,null,null,null,null,null,null,null,"Část stávající RŠ (poklop a kónus) na původní zaplavované stoce:1,50*1,50*0,80"]
[4,"979082212RRX","Vodorovná doprava suti po suchu na skládku zhotovitele","t",10.23,null,{"$f":"E30*F30","v":0},0,{"$f":"E30*H30","v":0},0,{"$f":"E30*J30","v":0},null,null,null,2,null,null,null,null,null,null,null,null,null,null,null,1,1,1,null,null,null,null,null,null,null,null,null,null,null,null,null,null,null,null,null,null,null,null,null,null,1,{"$f":"IF(AZ30=1,G30,0)","v":0},{"$f":"IF(AZ30=2,G30,0)","v":0},{"$f":"IF(AZ30=3,G30,0)","v":0},{"$f":"IF(AZ30=4,G30,0)","v":0},{"$f":"IF(AZ30=5,G30,0)","v":0},null,null,null,null,null,null,null,null,null,null,null,null,null,null,null,null,null,null,null,null,null,1,1]
[null,null,"Doprava suti na skládku zhotovitele nebo na předávací místo k recyklaci materiálu.",null,null,null,null,null,null,null,null,"Doprava suti na skládku zhotovitele nebo na předávací místo k recyklaci materiálu.",null,null,3]
[5,"979990103RRX","Poplatek za skládku stavební suti nebo recyklaci beton, skupina odpadu 170101","t",10.23,null,{"$f":"E32*F32","v":0},0,{"$f":"E32*H32","v":0},0,{"$f":"E32*J32","v":0},null,null,null,2,null,null,null,null,null,null,null,null,null,null,null,1,0,0,null,null,null,null,null,null,null,null,null,null,null,null,null,null,null,null,null,null,null,null,null,null,1,{"$f":"IF(AZ32=1,G32,0)","v":0},{"$f":"IF(AZ32=2,G32,0)","v":0},{"$f":"IF(AZ32=3,G32,0)","v":0},{"$f":"IF(AZ32=4,G32,0)","v":0},{"$f":"IF(AZ32=5,G32,0)","v":0},null,null,null,null,null,null,null,null,null,null,null,null,null,null,null,null,null,null,null,null,null,1,0]
[null,"Celkem za","1 Zemní práce",null,null,null,{"$f":"SUM(G7:G32)","v":0},null,{"$f":"SUM(I7:I32)","v":0},null,{"$f":"SUM(K7:K32)","v":0},null,null,null,4,null,null,null,null,null,null,null,null,null,null,null,null,null,null,null,null,null,null,null,null,null,null,null,null,null,null,null,null,null,null,null,null,null,null,null,null,null,{"$f":"SUM(BA7:BA32)","v":0},{"$f":"SUM(BB7:BB32)","v":0},{"$f":"SUM(BC7:BC32)","v":0},{"$f":"SUM(BD7:BD32)","v":0},{"$f":"SUM(BE7:BE32)","v":0}]
["Díl:","8","Trubní vedení",null,null,null,null,null,null,null,null,null,null,null,1]
[6,"892601153R00","Čištění kanalizační stoky do DN 500, do 100 m ","m",80,null,{"$f":"E35*F35","v":0},0,{"$f":"E35*H35","v":0},0,{"$f":"E35*J35","v":0},null,null,null,2,null,null,null,null,null,null,null,null,null,null,null,1,1,1,null,null,null,null,null,null,null,null,null,null,null,null,null,null,null,null,null,null,null,null,null,null,1,{"$f":"IF(AZ35=1,G35,0)","v":0},{"$f":"IF(AZ35=2,G35,0)","v":0},{"$f":"IF(AZ35=3,G35,0)","v":0},{"$f":"IF(AZ35=4,G35,0)","v":0},{"$f":"IF(AZ35=5,G35,0)","v":0},null,null,null,null,null,null,null,null,null,null,null,null,null,null,null,null,null,null,null,null,null,1,1]
[null,null,"V položce je zakalkulováno:",null,null,null,null,null,null,null,null,"V položce je zakalkulováno:",null,null,3]
[null,null,"a) otevření a uzavření revizních šachet a čisticích kusů",null,null,null,null,null,null,null,null,"a) otevření a uzavření revizních šachet a čisticích kusů",null,null,3]
[null,null,"b) natažení vysokotlakých hadic k místu odkud se bude kanalizace čistit",null,null,null,null,null,null,null,null,"b) natažení vysokotlakých hadic k místu odkud se bude kanalizace čistit",null,null,3]
[null,null,"c) vyčištění potrubí tlakovou vodou nebo motorovým pérem.",null,null,null,null,null,null,null,null,"c) vyčištění potrubí tlakovou vodou nebo motorovým pérem.",null,null,3]
[null,null,"Stoka IO01 :",null,0,null,null,null,null,null,null,null,"Stoka IO01 :"]
[null,null,"Číštění stoky před zaplavení části stávajícího potrubí - BT DN250:80,00",null,80,null,null,null,null,null,null,null,"Číštění stoky před zaplavení části stávajícího potrubí - BT DN250:80,00"]
[7,"894422111RTX","Osazení betonových dílců šachet včetně dodávky plné zákrytové desky tl. 25 mm","kus",1,null,{"$f":"E42*F42","v":0},0,{"$f":"E42*H42","v":0},-0.98560000000000003,{"$f":"E42*J42","v":-0.98560000000000003},null,null,null,2,null,null,null,null,null,null,null,null,null,null,null,1,1,1,null,null,null,null,null,null,null,null,null,null,null,null,null,null,null,null,null,null,null,null,null,null,1,{"$f":"IF(AZ42=1,G42,0)","v":0},{"$f":"IF(AZ42=2,G42,0)","v":0},{"$f":"IF(AZ42=3,G42,0)","v":0},{"$f":"IF(AZ42=4,G42,0)","v":0},{"$f":"IF(AZ42=5,G42,0)","v":0},null,null,null,null,null,null,null,null,null,null,null,null,null,null,null,null,null,null,null,null,null,1,1]
[null,null,"Stoka IO01 :",null,0,null,null,null,null,null,null,null,"Stoka IO01 :"]
[null,null,"Část RŠ na stávající stoce DN500 - zákrytová plní deska:1",null,1,null,null,null,null,null,null,null,"Část RŠ na stávající stoce DN500 - zákrytová plní deska:1"]
[null,"Celkem za","8 Trubní vedení",null,null,null,{"$f":"SUM(G34:G44)","v":0},null,{"$f":"SUM(I34:I44)","v":0},null,{"$f":"SUM(K34:K44)","v":-0.98560000000000003},null,null,null,4,null,null,null,null,null,null,null,null,null,null,null,null,null,null,null,null,null,null,null,null,null,null,null,null,null,null,null,null,null,null,null,null,null,null,null,null,null,{"$f":"SUM(BA34:BA44)","v":0},{"$f":"SUM(BB34:BB44)","v":0},{"$f":"SUM(BC34:BC44)","v":0},{"$f":"SUM(BD34:BD44)","v":0},{"$f":"SUM(BE34:BE44)","v":0}]
["Díl:","93","Dokončovací práce inženýrských staveb",null,null,null,null,null,null,null,null,null,null,null,1]
[8,"936451111R00","Výplň dutin cementopopílkovou suspenzí ","m3",1.25,null,{"$f":"E47*F47","v":0},1.8050999999999999,{"$f":"E47*H47","v":2.2563749999999998},0,{"$f":"E47*J47","v":0},null,null,null,2,null,null,null,null,null,null,null,null,null,null,null,1,1,1,null,null,null,null,null,null,null,null,null,null,null,null,null,null,null,null,null,null,null,null,null,null,1,{"$f":"IF(AZ47=1,G47,0)","v":0},{"$f":"IF(AZ47=2,G47,0)","v":0},{"$f":"IF(AZ47=3,G47,0)","v":0},{"$f":"IF(AZ47=4,G47,0)","v":0},{"$f":"IF(AZ47=5,G47,0)","v":0},null,null,null,null,null,null,null,null,null,null,null,null,null,null,null,null,null,null,null,null,null,1,1]
[null,null,"Stoka IO01 :",null,0,null,null,null,null,null,null,null,"Stoka IO01 :"]
[null,null,"Část stávající RŠ na původní zaplavované stoce:1,2500",null,1.25,null,null,null,null,null,null,null,"Část stávající RŠ na původní zaplavované stoce:1,2500"]
[9,"936452114R00","Výplň potrubí cementopopílkovou suspenzí DN 250 ","m",80,null,{"$f":"E50*F50","v":0},8.8609999999999994E-2,{"$f":"E50*H50","v":7.0887999999999991},0,{"$f":"E50*J50","v":0},null,null,null,2,null,null,null,null,null,null,null,null,null,null,null,1,1,1,null,null,null,null,null,null,null,null,null,null,null,null,null,null,null,null,null,null,null,null,null,null,1,{"$f":"IF(AZ50=1,G50,0)","v":0},{"$f":"IF(AZ50=2,G50,0)","v":0},{"$f":"IF(AZ50=3,G50,0)","v":0},{"$f":"IF(AZ50=4,G50,0)","v":0},{"$f":"IF(AZ50=5,G50,0)","v":0},null,null,null,null,null,null,null,null,null,null,null,null,null,null,null,null,null,null,null,null,null,1,1]
[null,null,"Stoka IO01 :",null,0,null,null,null,null,null,null,null,"Stoka IO01 :"]
[null,null,"Zaplavení části stávajícího potrubí - BT DN250:80,00",null,80,null,null,null,null,null,null,null,"Zaplavení části stávajícího potrubí - BT DN250:80,00"]
[null,"Celkem za","93 Dokončovací práce inženýrských staveb",null,null,null,{"$f":"SUM(G46:G52)","v":0},null,{"$f":"SUM(I46:I52)","v":9.3451749999999993},null,{"$f":"SUM(K46:K52)","v":0},null,null,null,4,null,null,null,null,null,null,null,null,null,null,null,null,null,null,null,null,null,null,null,null,null,null,null,null,null,null,null,null,null,null,null,null,null,null,null,null,null,{"$f":"SUM(BA46:BA52)","v":0},{"$f":"SUM(BB46:BB52)","v":0},{"$f":"SUM(BC46:BC52)","v":0},{"$f":"SUM(BD46:BD52)","v":0},{"$f":"SUM(BE46:BE52)","v":0}]
["Díl:","97","Prorážení otvorů",null,null,null,null,null,null,null,null,null,null,null,1]
[10,"976085311R00","Vybourání kanal.rámů a poklopů plochy do 0,6 m2 ","kus",5,null,{"$f":"E55*F55","v":0},0,{"$f":"E55*H55","v":0},-4.4999999999999998E-2,{"$f":"E55*J55","v":-0.22499999999999998},null,null,null,2,null,null,null,null,null,null,null,null,null,null,null,1,1,1,null,null,null,null,null,null,null,null,null,null,null,null,null,null,null,null,null,null,null,null,null,null,1,{"$f":"IF(AZ55=1,G55,0)","v":0},{"$f":"IF(AZ55=2,G55,0)","v":0},{"$f":"IF(AZ55=3,G55,0)","v":0},{"$f":"IF(AZ55=4,G55,0)","v":0},{"$f":"IF(AZ55=5,G55,0)","v":0},null,null,null,null,null,null,null,null,null,null,null,null,null,null,null,null,null,null,null,null,null,1,1]
[null,null,"Stoka IO01 :",null,0,null,null,null,null,null,null,null,"Stoka IO01 :"]
[null,null,"Část RŠ (poklop a kónus) na stávající stoce DN500:1",null,1,null,null,null,null,null,null,null,"Část RŠ (poklop a kónus) na stávající stoce DN500:1"]
[null,null,"Stávající RŠ vedle nové Š3:1",null,1,null,null,null,null,null,null,null,"Stávající RŠ vedle nové Š3:1"]
[null,null,"Stávající RŠ vedle nové Š4:1",null,1,null,null,null,null,null,null,null,"Stávající RŠ vedle nové Š4:1"]
[null,null,"Stávající RŠ vedle nové Š5:1",null,1,null,null,null,null,null,null,null,"Stávající RŠ vedle nové Š5:1"]
[null,null,"Část stávající RŠ (poklop a kónus) na původní zaplavované stoce:1",null,1,null,null,null,null,null,null,null,"Část stávající RŠ (poklop a kónus) na původní zaplavované stoce:1"]
[null,"Celkem za","97 Prorážení otvorů",null,null,null,{"$f":"SUM(G54:G61)","v":0},null,{"$f":"SUM(I54:I61)","v":0},null,{"$f":"SUM(K54:K61)","v":-0.22499999999999998},null,null,null,4,null,null,null,null,null,null,null,null,null,null,null,null,null,null,null,null,null,null,null,null,null,null,null,null,null,null,null,null,null,null,null,null,null,null,null,null,null,{"$f":"SUM(BA54:BA61)","v":0},{"$f":"SUM(BB54:BB61)","v":0},{"$f":"SUM(BC54:BC61)","v":0},{"$f":"SUM(BD54:BD61)","v":0},{"$f":"SUM(BE54:BE61)","v":0}]
["Díl:","99","Staveništní přesun hmot",null,null,null,null,null,null,null,null,null,null,null,1]
[11,"998274101RRX","Přesun hmot, trubní vedení betonové, otevř. výkop pro celý rozsah objektu","t",9.3451749999999993,null,{"$f":"E64*F64","v":0},0,{"$f":"E64*H64","v":0},null,{"$f":"E64*J64","v":0},null,null,null,2,null,null,null,null,null,null,null,null,null,null,null,7,1,2,null,null,null,null,null,null,null,null,null,null,null,null,null,null,null,null,null,null,null,null,null,null,1,{"$f":"IF(AZ64=1,G64,0)","v":0},{"$f":"IF(AZ64=2,G64,0)","v":0},{"$f":"IF(AZ64=3,G64,0)","v":0},{"$f":"IF(AZ64=4,G64,0)","v":0},{"$f":"IF(AZ64=5,G64,0)","v":0},null,null,null,null,null,null,null,null,null,null,null,null,null,null,null,null,null,null,null,null,null,7,1]
[null,null,"Staveništní doprava pro celý rozsah objektu - doprava zmeziskládek vybudovaného zařízení staveniště zhotovitele na jednotlivé části staveniště.",null,null,null,null,null,null,null,null,"Staveništní doprava pro celý rozsah objektu - doprava zmeziskládek vybudovaného zařízení staveniště zhotovitele na jednotlivé části staveniště.",null,null,3]
[null,"Celkem za","99 Staveništní přesun hmot",null,null,null,{"$f":"SUM(G63:G65)","v":0},null,{"$f":"SUM(I63:I65)","v":0},null,{"$f":"SUM(K63:K65)","v":0},null,null,null,4,null,null,null,null,null,null,null,null,null,null,null,null,null,null,null,null,null,null,null,null,null,null,null,null,null,null,null,null,null,null,null,null,null,null,null,null,null,{"$f":"SUM(BA63:BA65)","v":0},{"$f":"SUM(BB63:BB65)","v":0},{"$f":"SUM(BC63:BC65)","v":0},{"$f":"SUM(BD63:BD65)","v":0},{"$f":"SUM(BE63:BE65)","v":0}]

{"sheet":"OaVNS","index":80,"n_rows":30,"n_cols":67,"rows_kept":30,"cut":false,"hidden":false,"merged":[[0,0,0,6],[2,0,2,1],[3,0,3,1],[3,4,3,6],[6,2,6,6]]}
["Položkový rozpočet "]
[]
["Stavba :",null,"3542 Semily - Obnova VH infrastruktury a komunikací",null,"Rozpočet:","OaVNS"]
["Objekt :",null,"OaVNS - Ostatní a vedlejší náklady stavby "]
[]
["P.č.","Číslo položky","Název položky","MJ","množství","cena / MJ","celkem (Kč)","Jednotková hmotnost","Celková hmotnost","Jednotková dem.hmot.","Celková dem.hmot."]
["Díl:","950","Ostatní náklady stavby"]
[1,"950 99-0001.ONS","Zajištění prostoru a vybudování zařízení staveniště včetně potřebných staveništních komunikací","soubor",1,null,{"$f":"SUM(E8*F8)","v":0},8.6899999999999998E-3,{"$f":"E8*H8","v":8.6899999999999998E-3},0,{"$f":"E8*J8","v":0},null,null,null,null,null,null,null,null,null,null,null,null,null,null,null,null,null,null,null,null,null,null,null,null,null,null,null,null,null,null,null,null,null,null,null,null,null,null,null,null,null,null,null,null,null,null,null,null,null,null,null,null,null,null,1,1]
[2,"950 99-0003.ONS","Zajištění bezpečnosti při provádění stavby ve smyslu bezpečnosti práce i ochrany životního prostředí a zeleně","soubor",1,null,{"$f":"SUM(E9*F9)","v":0}]
[3,"950 99-0005.ONS","Vytýčení stavby a hranic pozemků při provádění stavby ","soubor",1,null,0]
[4,"950 99-0006.ONS","Zajištění včasného oznámení o zahájení prací majitelům pozemků a správců sítí dotčených stavbou","soubor",1,null,0]
[5,"950 99-0007.ONS","Spolupráce s vlastníky pozemků při případném uvolnění pozemků pro stavbu (např. skládky osobního materiálu vlastníků)","soubor",1,null,0,2.478E-2,{"$f":"E12*H12","v":2.478E-2},0,{"$f":"E12*J12","v":0},null,null,null,null,null,null,null,null,null,null,null,null,null,null,null,null,null,null,null,null,null,null,null,null,null,null,null,null,null,null,null,null,null,null,null,null,null,null,null,null,null,null,null,null,null,null,null,null,null,null,null,null,null,null,1,1]
[6,"950 99-0008.ONS","Zajištění vytýčení podzemních zařízení, a v případě jejich křížení či souběhu v otevřeném výkopu, jejich písemné předání zpět jejich správcům před zásypem","soubor",1,null,0]
[7,"950 99-0009.ONS","Vypracování a projednání návrhu dočasných dopravních opatření (případně i po etapách dle zvoleného postupu prací zhotovitelem)","soubor",1,null,0]
[8,"950 99-0010.ONS","Zajištění povolení zvláštního užívání komunikací v souladu s postupem výstavby,včetně správních poplatků a povolení k užívání dalších, stavbou dotčených pozemků   (skládky materiálu, mezideponie atd.)","soubor",1,null,0]
[9,"950 99-0011.ONS","Zřízení, údržba a likvidace dopravního opatření po dobu realizace stavby (případně i po etapách dle zvoleného postupu prací zhotovitelem)","soubor",1,null,0,0,{"$f":"E16*H16","v":0},0,{"$f":"E16*J16","v":0},null,null,null,null,null,null,null,null,null,null,null,null,null,null,null,null,null,null,null,null,null,null,null,null,null,null,null,null,null,null,null,null,null,null,null,null,null,null,null,null,null,null,null,null,null,null,null,null,null,null,null,null,null,null,1,1]
[10,"950 99-0013.ONS","Zajištění činnosti odpovědného geodeta zhotovitele","soubor",1,null,0]
[11,"950 99-0014.ONS","Zajištění činnosti odpovědného geologa zhotovitele","soubor",1,null,0]
[12,"950 99-0015.ONS","Zajištění čistoty na staveništi a v jeho okolí, zajištění každodenního čištění komunikací dotčených provozem zhotovitele","soubor",1,null,0]
[13,"950 99-0016.ONS","Fotodokumentace průběhu díla; zhotovitel zajistí a předá objednateli průběžnou fotodokumentaci realizace díla. Fotodokumentace bude dokladovat průběh díla a bude zejména dokumentovat části stavby a konstrukce před jejich zakrytím","soubor",1,null,0]
[14,"950 99-0017.ONS","Péče o nepředané objekty nebo jejich části a konstrukce stavby, jejich ošetřování a nutný rozsah pojištění","soubor",1,null,0,0,{"$f":"E21*H21","v":0},0,{"$f":"E21*J21","v":0},null,null,null,null,null,null,null,null,null,null,null,null,null,null,null,null,null,null,null,null,null,null,null,null,null,null,null,null,null,null,null,null,null,null,null,null,null,null,null,null,null,null,null,null,null,null,null,null,null,null,null,null,null,null,1,1]
[15,"950 99-0018.ONS","Zkoušky hutnění komunikací a rýh dle ČSN a EN","ks",10,null,0]
[16,"950 99-0021.ONS","Inženýrská a kompletační činnost zhotovitele ","soubor",1,null,0]
[17,"950 99-0022.ONS","Zhotovení dokumentace skutečného provedení díla v papírové a digitální formě","soubor",1,null,0]
[18,"950 99-0023.ONS","Geodetické zaměření stavby včetně geometrického plánu","soubor",1,null,0]
[19,"950 99-0025.ONS","Pasportizace objektů a komunikací před zahájením stavby včetně předání fotokokumentace investorovi stavby v digitální a tištěné podobě.","soubor",1,null,0]
[20,"950 99-0026.ONS","Provizorní zásobování vodou (cisterny)","soubor",1,null,0]
[21,"950 99-0027.ONS","Ostatní činnosti nutné ke zdárnému provedení díla, které jsou vymezeny zejména v technické specifikaci stavby","soubor",1,null,0]
[]
[null,"ONS Celkem",null,null,null,null,{"$f":"SUM(G8:G28)","v":0}]